{"text_format":"1","workbook":"xlsx","n_sheets":3,"sheets":["Source","Target","Sheet1"],"not_rendered":{"charts":0,"images":0,"macros":1,"external_links":0,"defined_names":2,"comments":0,"pivot_tables":0},"unopened":[],"bounds":{"document_bytes":16777216,"sheet_cells":100000,"rows_first":2000,"rows_last":500,"rows_between":2000,"halvings":0,"cell_chars":16384,"cell_head_chars":4096},"cells_cut":0,"cells_raw":0,"read":"whole","date_system":"1900"}

{"sheet":"Source","index":0,"n_rows":148,"n_cols":8,"rows_kept":148,"cut":false,"hidden":false,"merged":[]}
[]
[]
[null,null,"https://zyxbuyfeed.thearorareport.com/"]
["Portfolio","SYMBOL","Name","Industry2","52 week low","52 week high","Previous","Current"]
["ZYX Signal Limited","AAL",{"$error":"#VALUE!"},{"$f":"_FV(Table3[[#This Row],[Name]],\"Industry\")","v":"Passenger Transportation Services"},{"$f":"_FV(Table3[[#This Row],[Name]],\"52 week low\",TRUE)","v":8.25},{"$f":"_FV(Table3[[#This Row],[Name]],\"52 week high\",TRUE)","v":22.8},{"$f":"_FV(Table3[[#This Row],[Name]],\"Previous close\",TRUE)","v":22.15},{"$f":"_FV(Table3[[#This Row],[Name]],\"Price\")","v":22.614999999999998}]
["ZYX Core Portfolio","AAPL",{"$error":"#VALUE!"},{"$f":"_FV(Table3[[#This Row],[Name]],\"Industry\")","v":"Computers, Phones & Household Electronics"},{"$f":"_FV(Table3[[#This Row],[Name]],\"52 week low\",TRUE)","v":53.152500000000003},{"$f":"_FV(Table3[[#This Row],[Name]],\"52 week high\",TRUE)","v":145.09},{"$f":"_FV(Table3[[#This Row],[Name]],\"Previous close\",TRUE)","v":121.96},{"$f":"_FV(Table3[[#This Row],[Name]],\"Price\")","v":119.65}]
["ZYX Signal Limited","AAPL",{"$error":"#VALUE!"},{"$f":"_FV(Table3[[#This Row],[Name]],\"Industry\")","v":"Computers, Phones & Household Electronics"},{"$f":"_FV(Table3[[#This Row],[Name]],\"52 week low\",TRUE)","v":53.152500000000003},{"$f":"_FV(Table3[[#This Row],[Name]],\"52 week high\",TRUE)","v":145.09},{"$f":"_FV(Table3[[#This Row],[Name]],\"Previous close\",TRUE)","v":121.96},{"$f":"_FV(Table3[[#This Row],[Name]],\"Price\")","v":119.65}]
["ZYX Signal Limited","ABNB",{"$error":"#VALUE!"},{"$f":"_FV(Table3[[#This Row],[Name]],\"Industry\")","v":"Software & IT Services"},{"$f":"_FV(Table3[[#This Row],[Name]],\"52 week low\",TRUE)","v":121.5},{"$f":"_FV(Table3[[#This Row],[Name]],\"52 week high\",TRUE)","v":219.94},{"$f":"_FV(Table3[[#This Row],[Name]],\"Previous close\",TRUE)","v":197.87},{"$f":"_FV(Table3[[#This Row],[Name]],\"Price\")","v":196}]
["ZYX Signal Limited","ACAC",{"$error":"#VALUE!"},{"$f":"_FV(Table3[[#This Row],[Name]],\"Industry\")","v":"Holding Companies"},{"$f":"_FV(Table3[[#This Row],[Name]],\"52 week low\",TRUE)","v":9.7200000000000006},{"$f":"_FV(Table3[[#This Row],[Name]],\"52 week high\",TRUE)","v":13.2},{"$f":"_FV(Table3[[#This Row],[Name]],\"Previous close\",TRUE)","v":10.51},{"$f":"_FV(Table3[[#This Row],[Name]],\"Price\")","v":10.2707}]
["ZYX Signal Limited","AFRM",{"$error":"#VALUE!"},{"$f":"_FV(Table3[[#This Row],[Name]],\"Industry\")","v":"Software & IT Services"},{"$f":"_FV(Table3[[#This Row],[Name]],\"52 week low\",TRUE)","v":70.05},{"$f":"_FV(Table3[[#This Row],[Name]],\"52 week high\",TRUE)","v":146.9},{"$f":"_FV(Table3[[#This Row],[Name]],\"Previous close\",TRUE)","v":81.25},{"$f":"_FV(Table3[[#This Row],[Name]],\"Price\")","v":78.22}]
["ZYX Signal Limited","AI",{"$error":"#VALUE!"},{"$f":"_FV(Table3[[#This Row],[Name]],\"Industry\")","v":"Software & IT Services"},{"$f":"_FV(Table3[[#This Row],[Name]],\"52 week low\",TRUE)","v":77},{"$f":"_FV(Table3[[#This Row],[Name]],\"52 week high\",TRUE)","v":183.9},{"$f":"_FV(Table3[[#This Row],[Name]],\"Previous close\",TRUE)","v":86.47},{"$f":"_FV(Table3[[#This Row],[Name]],\"Price\")","v":85.325000000000003}]
["ZYX Core Portfolio","AIG",{"$error":"#VALUE!"},{"$f":"_FV(Table3[[#This Row],[Name]],\"Industry\")","v":"Insurance"},{"$f":"_FV(Table3[[#This Row],[Name]],\"52 week low\",TRUE)","v":16.07},{"$f":"_FV(Table3[[#This Row],[Name]],\"52 week high\",TRUE)","v":48.92},{"$f":"_FV(Table3[[#This Row],[Name]],\"Previous close\",TRUE)","v":48.01},{"$f":"_FV(Table3[[#This Row],[Name]],\"Price\")","v":48.435000000000002}]
["ZYX Core Portfolio","AMAT",{"$error":"#VALUE!"},{"$f":"_FV(Table3[[#This Row],[Name]],\"Industry\")","v":"Semiconductors & Semiconductor Equipment"},{"$f":"_FV(Table3[[#This Row],[Name]],\"52 week low\",TRUE)","v":36.64},{"$f":"_FV(Table3[[#This Row],[Name]],\"52 week high\",TRUE)","v":124.5},{"$f":"_FV(Table3[[#This Row],[Name]],\"Previous close\",TRUE)","v":117.19},{"$f":"_FV(Table3[[#This Row],[Name]],\"Price\")","v":115.7199}]
["ZYX Signal Limited","AMAT",{"$error":"#VALUE!"},{"$f":"_FV(Table3[[#This Row],[Name]],\"Industry\")","v":"Semiconductors & Semiconductor Equipment"},{"$f":"_FV(Table3[[#This Row],[Name]],\"52 week low\",TRUE)","v":36.64},{"$f":"_FV(Table3[[#This Row],[Name]],\"52 week high\",TRUE)","v":124.5},{"$f":"_FV(Table3[[#This Row],[Name]],\"Previous close\",TRUE)","v":117.19},{"$f":"_FV(Table3[[#This Row],[Name]],\"Price\")","v":115.7199}]
["ZYX Signal Limited","AMCX",{"$error":"#VALUE!"},{"$f":"_FV(Table3[[#This Row],[Name]],\"Industry\")","v":"Media & Publishing"},{"$f":"_FV(Table3[[#This Row],[Name]],\"52 week low\",TRUE)","v":19.62},{"$f":"_FV(Table3[[#This Row],[Name]],\"52 week high\",TRUE)","v":75.150000000000006},{"$f":"_FV(Table3[[#This Row],[Name]],\"Previous close\",TRUE)","v":73.599999999999994},{"$f":"_FV(Table3[[#This Row],[Name]],\"Price\")","v":75.12}]
["ZYX Core Portfolio","AMZN",{"$error":"#VALUE!"},{"$f":"_FV(Table3[[#This Row],[Name]],\"Industry\")","v":"Diversified Retail"},{"$f":"_FV(Table3[[#This Row],[Name]],\"52 week low\",TRUE)","v":1626.0318},{"$f":"_FV(Table3[[#This Row],[Name]],\"52 week high\",TRUE)","v":3552.25},{"$f":"_FV(Table3[[#This Row],[Name]],\"Previous close\",TRUE)","v":3113.5900999999999},{"$f":"_FV(Table3[[#This Row],[Name]],\"Price\")","v":3081.88}]
["ZYX Pot","APHA",{"$error":"#VALUE!"},{"$f":"_FV(Table3[[#This Row],[Name]],\"Industry\")","v":"Pharmaceuticals"},{"$f":"_FV(Table3[[#This Row],[Name]],\"52 week low\",TRUE)","v":1.95},{"$f":"_FV(Table3[[#This Row],[Name]],\"52 week high\",TRUE)","v":32.29},{"$f":"_FV(Table3[[#This Row],[Name]],\"Previous close\",TRUE)","v":19.86},{"$f":"_FV(Table3[[#This Row],[Name]],\"Price\")","v":19.100000000000001}]
["Motley Fool","APPN",{"$error":"#VALUE!"},{"$f":"_FV(Table3[[#This Row],[Name]],\"Industry\")","v":"Software & IT Services"},{"$f":"_FV(Table3[[#This Row],[Name]],\"52 week low\",TRUE)","v":29.07},{"$f":"_FV(Table3[[#This Row],[Name]],\"52 week high\",TRUE)","v":260},{"$f":"_FV(Table3[[#This Row],[Name]],\"Previous close\",TRUE)","v":173.92},{"$f":"_FV(Table3[[#This Row],[Name]],\"Price\")","v":169.53}]
["ZYX Signal Limited","APT",{"$error":"#VALUE!"},{"$f":"_FV(Table3[[#This Row],[Name]],\"Industry\")","v":"Healthcare Equipment & Supplies"},{"$f":"_FV(Table3[[#This Row],[Name]],\"52 week low\",TRUE)","v":8.56},{"$f":"_FV(Table3[[#This Row],[Name]],\"52 week high\",TRUE)","v":25.55},{"$f":"_FV(Table3[[#This Row],[Name]],\"Previous close\",TRUE)","v":10.43},{"$f":"_FV(Table3[[#This Row],[Name]],\"Price\")","v":10.4}]
["ZYX Signal Limited","APXT",{"$error":"#VALUE!"},{"$f":"_FV(Table3[[#This Row],[Name]],\"Industry\")","v":"Holding Companies"},{"$f":"_FV(Table3[[#This Row],[Name]],\"52 week low\",TRUE)","v":9.125},{"$f":"_FV(Table3[[#This Row],[Name]],\"52 week high\",TRUE)","v":17.899999999999999},{"$f":"_FV(Table3[[#This Row],[Name]],\"Previous close\",TRUE)","v":12.76},{"$f":"_FV(Table3[[#This Row],[Name]],\"Price\")","v":12.56}]
["ZYX Pot","ARNA",{"$error":"#VALUE!"},{"$f":"_FV(Table3[[#This Row],[Name]],\"Industry\")","v":"Biotechnology & Medical Research"},{"$f":"_FV(Table3[[#This Row],[Name]],\"52 week low\",TRUE)","v":32.950000000000003},{"$f":"_FV(Table3[[#This Row],[Name]],\"52 week high\",TRUE)","v":90.19},{"$f":"_FV(Table3[[#This Row],[Name]],\"Previous close\",TRUE)","v":75.66},{"$f":"_FV(Table3[[#This Row],[Name]],\"Price\")","v":75.900000000000006}]
["ZYX Core Portfolio","ARRY",{"$error":"#VALUE!"},{"$f":"_FV(Table3[[#This Row],[Name]],\"Industry\")","v":"Renewable Energy"},{"$f":"_FV(Table3[[#This Row],[Name]],\"52 week low\",TRUE)","v":29.05},{"$f":"_FV(Table3[[#This Row],[Name]],\"52 week high\",TRUE)","v":54.78},{"$f":"_FV(Table3[[#This Row],[Name]],\"Previous close\",TRUE)","v":35.07},{"$f":"_FV(Table3[[#This Row],[Name]],\"Price\")","v":34.56}]
["ZYX Signal Limited","ASAN",{"$error":"#VALUE!"},{"$f":"_FV(Table3[[#This Row],[Name]],\"Industry\")","v":"Software & IT Services"},{"$f":"_FV(Table3[[#This Row],[Name]],\"52 week low\",TRUE)","v":20.57},{"$f":"_FV(Table3[[#This Row],[Name]],\"52 week high\",TRUE)","v":43.72},{"$f":"_FV(Table3[[#This Row],[Name]],\"Previous close\",TRUE)","v":33.94},{"$f":"_FV(Table3[[#This Row],[Name]],\"Price\")","v":32.200000000000003}]
["ZYX Core Portfolio","BABA",{"$error":"#VALUE!"},{"$f":"_FV(Table3[[#This Row],[Name]],\"Industry\")","v":"Software & IT Services"},{"$f":"_FV(Table3[[#This Row],[Name]],\"52 week low\",TRUE)","v":169.95},{"$f":"_FV(Table3[[#This Row],[Name]],\"52 week high\",TRUE)","v":319.32},{"$f":"_FV(Table3[[#This Row],[Name]],\"Previous close\",TRUE)","v":240.8},{"$f":"_FV(Table3[[#This Row],[Name]],\"Price\")","v":232.15}]
["ZYX Core Portfolio","BAC",{"$error":"#VALUE!"},{"$f":"_FV(Table3[[#This Row],[Name]],\"Industry\")","v":"Banking Services"},{"$f":"_FV(Table3[[#This Row],[Name]],\"52 week low\",TRUE)","v":17.95},{"$f":"_FV(Table3[[#This Row],[Name]],\"52 week high\",TRUE)","v":38.176600000000001},{"$f":"_FV(Table3[[#This Row],[Name]],\"Previous close\",TRUE)","v":37.24},{"$f":"_FV(Table3[[#This Row],[Name]],\"Price\")","v":37.82}]
["ZYX Signal Limited","BFT",{"$error":"#VALUE!"},{"$f":"_FV(Table3[[#This Row],[Name]],\"Industry\")","v":"Holding Companies"},{"$f":"_FV(Table3[[#This Row],[Name]],\"52 week low\",TRUE)","v":9.5950000000000006},{"$f":"_FV(Table3[[#This Row],[Name]],\"52 week high\",TRUE)","v":19.566199999999998},{"$f":"_FV(Table3[[#This Row],[Name]],\"Previous close\",TRUE)","v":14.92},{"$f":"_FV(Table3[[#This Row],[Name]],\"Price\")","v":15.05}]
["ZYX Electric Cars","BLNK",{"$error":"#VALUE!"},{"$f":"_FV(Table3[[#This Row],[Name]],\"Industry\")","v":"Electrical Utilities & IPPs"},{"$f":"_FV(Table3[[#This Row],[Name]],\"52 week low\",TRUE)","v":1.25},{"$f":"_FV(Table3[[#This Row],[Name]],\"52 week high\",TRUE)","v":64.5},{"$f":"_FV(Table3[[#This Row],[Name]],\"Previous close\",TRUE)","v":41.4},{"$f":"_FV(Table3[[#This Row],[Name]],\"Price\")","v":39.344999999999999}]
["ZYX Signal Limited","BMBL","BMBL",{"$f":"_FV(Table3[[#This Row],[Name]],\"Industry\")","v":{"$error":"#VALUE!"}},{"$f":"_FV(Table3[[#This Row],[Name]],\"52 week low\",TRUE)","v":{"$error":"#VALUE!"}},{"$f":"_FV(Table3[[#This Row],[Name]],\"52 week high\",TRUE)","v":{"$error":"#VALUE!"}},{"$f":"_FV(Table3[[#This Row],[Name]],\"Previous close\",TRUE)","v":{"$error":"#VALUE!"}},70.31]
["ZYX Core Portfolio","BMY",{"$error":"#VALUE!"},{"$f":"_FV(Table3[[#This Row],[Name]],\"Industry\")","v":"Pharmaceuticals"},{"$f":"_FV(Table3[[#This Row],[Name]],\"52 week low\",TRUE)","v":45.76},{"$f":"_FV(Table3[[#This Row],[Name]],\"52 week high\",TRUE)","v":67.159899999999993},{"$f":"_FV(Table3[[#This Row],[Name]],\"Previous close\",TRUE)","v":60.35},{"$f":"_FV(Table3[[#This Row],[Name]],\"Price\")","v":60.755000000000003}]
["ZYX Signal Limited","BNGO",{"$error":"#VALUE!"},{"$f":"_FV(Table3[[#This Row],[Name]],\"Industry\")","v":"Healthcare Equipment & Supplies"},{"$f":"_FV(Table3[[#This Row],[Name]],\"52 week low\",TRUE)","v":0.25},{"$f":"_FV(Table3[[#This Row],[Name]],\"52 week high\",TRUE)","v":15.69},{"$f":"_FV(Table3[[#This Row],[Name]],\"Previous close\",TRUE)","v":9.5299999999999994},{"$f":"_FV(Table3[[#This Row],[Name]],\"Price\")","v":9.15}]
["ZYX Core Portfolio","BSX",{"$error":"#VALUE!"},{"$f":"_FV(Table3[[#This Row],[Name]],\"Industry\")","v":"Healthcare Equipment & Supplies"},{"$f":"_FV(Table3[[#This Row],[Name]],\"52 week low\",TRUE)","v":24.1},{"$f":"_FV(Table3[[#This Row],[Name]],\"52 week high\",TRUE)","v":42.37},{"$f":"_FV(Table3[[#This Row],[Name]],\"Previous close\",TRUE)","v":38.65},{"$f":"_FV(Table3[[#This Row],[Name]],\"Price\")","v":38.74}]
["ZYX Trade Around","CAPA",{"$error":"#VALUE!"},{"$f":"_FV(Table3[[#This Row],[Name]],\"Industry\")","v":"Holding Companies"},{"$f":"_FV(Table3[[#This Row],[Name]],\"52 week low\",TRUE)","v":9.8800000000000008},{"$f":"_FV(Table3[[#This Row],[Name]],\"52 week high\",TRUE)","v":25},{"$f":"_FV(Table3[[#This Row],[Name]],\"Previous close\",TRUE)","v":13.64},{"$f":"_FV(Table3[[#This Row],[Name]],\"Price\")","v":13.2}]
["ZYX Signal Limited","CAPA",{"$error":"#VALUE!"},{"$f":"_FV(Table3[[#This Row],[Name]],\"Industry\")","v":"Holding Companies"},{"$f":"_FV(Table3[[#This Row],[Name]],\"52 week low\",TRUE)","v":9.8800000000000008},{"$f":"_FV(Table3[[#This Row],[Name]],\"52 week high\",TRUE)","v":25},{"$f":"_FV(Table3[[#This Row],[Name]],\"Previous close\",TRUE)","v":13.64},{"$f":"_FV(Table3[[#This Row],[Name]],\"Price\")","v":13.2}]
["ZYX Core Portfolio","CCL",{"$error":"#VALUE!"},{"$f":"_FV(Table3[[#This Row],[Name]],\"Industry\")","v":"Hotels & Entertainment Services"},{"$f":"_FV(Table3[[#This Row],[Name]],\"52 week low\",TRUE)","v":7.8},{"$f":"_FV(Table3[[#This Row],[Name]],\"52 week high\",TRUE)","v":29.59},{"$f":"_FV(Table3[[#This Row],[Name]],\"Previous close\",TRUE)","v":27.47},{"$f":"_FV(Table3[[#This Row],[Name]],\"Price\")","v":27.925000000000001}]
["ZYX Signal Limited","CERT",{"$error":"#VALUE!"},{"$f":"_FV(Table3[[#This Row],[Name]],\"Industry\")","v":"Software & IT Services"},{"$f":"_FV(Table3[[#This Row],[Name]],\"52 week low\",TRUE)","v":24.9},{"$f":"_FV(Table3[[#This Row],[Name]],\"52 week high\",TRUE)","v":41.79},{"$f":"_FV(Table3[[#This Row],[Name]],\"Previous close\",TRUE)","v":27},{"$f":"_FV(Table3[[#This Row],[Name]],\"Price\")","v":26.83}]
["ZYX Pot","CGC",{"$error":"#VALUE!"},{"$f":"_FV(Table3[[#This Row],[Name]],\"Industry\")","v":"Pharmaceuticals"},{"$f":"_FV(Table3[[#This Row],[Name]],\"52 week low\",TRUE)","v":9},{"$f":"_FV(Table3[[#This Row],[Name]],\"52 week high\",TRUE)","v":56.496499999999997},{"$f":"_FV(Table3[[#This Row],[Name]],\"Previous close\",TRUE)","v":34.28},{"$f":"_FV(Table3[[#This Row],[Name]],\"Price\")","v":33.219900000000003}]
["ZYX Core Portfolio","CGC",{"$error":"#VALUE!"},{"$f":"_FV(Table3[[#This Row],[Name]],\"Industry\")","v":"Pharmaceuticals"},{"$f":"_FV(Table3[[#This Row],[Name]],\"52 week low\",TRUE)","v":9},{"$f":"_FV(Table3[[#This Row],[Name]],\"52 week high\",TRUE)","v":56.496499999999997},{"$f":"_FV(Table3[[#This Row],[Name]],\"Previous close\",TRUE)","v":34.28},{"$f":"_FV(Table3[[#This Row],[Name]],\"Price\")","v":33.219900000000003}]
["ZYX Core Portfolio","CIEN",{"$error":"#VALUE!"},{"$f":"_FV(Table3[[#This Row],[Name]],\"Industry\")","v":"Communications & Networking"},{"$f":"_FV(Table3[[#This Row],[Name]],\"52 week low\",TRUE)","v":30.58},{"$f":"_FV(Table3[[#This Row],[Name]],\"52 week high\",TRUE)","v":61.515000000000001},{"$f":"_FV(Table3[[#This Row],[Name]],\"Previous close\",TRUE)","v":53.26},{"$f":"_FV(Table3[[#This Row],[Name]],\"Price\")","v":53.5}]
["ZYX Core Portfolio","CLF",{"$error":"#VALUE!"},{"$f":"_FV(Table3[[#This Row],[Name]],\"Industry\")","v":"Metals & Mining"},{"$f":"_FV(Table3[[#This Row],[Name]],\"52 week low\",TRUE)","v":2.63},{"$f":"_FV(Table3[[#This Row],[Name]],\"52 week high\",TRUE)","v":18.77},{"$f":"_FV(Table3[[#This Row],[Name]],\"Previous close\",TRUE)","v":16.899999999999999},{"$f":"_FV(Table3[[#This Row],[Name]],\"Price\")","v":17.079999999999998}]
["ZYX Electric Cars","CLII",{"$error":"#VALUE!"},{"$f":"_FV(Table3[[#This Row],[Name]],\"Industry\")","v":"Holding Companies"},{"$f":"_FV(Table3[[#This Row],[Name]],\"52 week low\",TRUE)","v":9.7460000000000004},{"$f":"_FV(Table3[[#This Row],[Name]],\"52 week high\",TRUE)","v":24.34},{"$f":"_FV(Table3[[#This Row],[Name]],\"Previous close\",TRUE)","v":14.36},{"$f":"_FV(Table3[[#This Row],[Name]],\"Price\")","v":13.95}]
["ZYX Signal Limited","CLVS",{"$error":"#VALUE!"},{"$f":"_FV(Table3[[#This Row],[Name]],\"Industry\")","v":"Biotechnology & Medical Research"},{"$f":"_FV(Table3[[#This Row],[Name]],\"52 week low\",TRUE)","v":3.62},{"$f":"_FV(Table3[[#This Row],[Name]],\"52 week high\",TRUE)","v":11.1},{"$f":"_FV(Table3[[#This Row],[Name]],\"Previous close\",TRUE)","v":6.25},{"$f":"_FV(Table3[[#This Row],[Name]],\"Price\")","v":6.0589000000000004}]
["ZYX Core Portfolio","CNC",{"$error":"#VALUE!"},{"$f":"_FV(Table3[[#This Row],[Name]],\"Industry\")","v":"Healthcare Providers & Services"},{"$f":"_FV(Table3[[#This Row],[Name]],\"52 week low\",TRUE)","v":43.96},{"$f":"_FV(Table3[[#This Row],[Name]],\"52 week high\",TRUE)","v":74.7},{"$f":"_FV(Table3[[#This Row],[Name]],\"Previous close\",TRUE)","v":61.89},{"$f":"_FV(Table3[[#This Row],[Name]],\"Price\")","v":62.11}]
["ZYX Signal Limited","COIN","COIN",{"$f":"_FV(Table3[[#This Row],[Name]],\"Industry\")","v":{"$error":"#VALUE!"}},{"$f":"_FV(Table3[[#This Row],[Name]],\"52 week low\",TRUE)","v":{"$error":"#VALUE!"}},{"$f":"_FV(Table3[[#This Row],[Name]],\"52 week high\",TRUE)","v":{"$error":"#VALUE!"}},{"$f":"_FV(Table3[[#This Row],[Name]],\"Previous close\",TRUE)","v":{"$error":"#VALUE!"}},{"$f":"_FV(Table3[[#This Row],[Name]],\"Price\")","v":{"$error":"#VALUE!"}}]
["ZYX Pot","CRLBF",{"$error":"#VALUE!"},{"$f":"_FV(Table3[[#This Row],[Name]],\"Industry\")","v":"Pharmaceuticals"},{"$f":"_FV(Table3[[#This Row],[Name]],\"52 week low\",TRUE)","v":1.94},{"$f":"_FV(Table3[[#This Row],[Name]],\"52 week high\",TRUE)","v":17.491099999999999},{"$f":"_FV(Table3[[#This Row],[Name]],\"Previous close\",TRUE)","v":13.4278},{"$f":"_FV(Table3[[#This Row],[Name]],\"Price\")","v":13.2525}]
["ZYX Pot","CRON",{"$error":"#VALUE!"},{"$f":"_FV(Table3[[#This Row],[Name]],\"Industry\")","v":"Pharmaceuticals"},{"$f":"_FV(Table3[[#This Row],[Name]],\"52 week low\",TRUE)","v":4},{"$f":"_FV(Table3[[#This Row],[Name]],\"52 week high\",TRUE)","v":15.83},{"$f":"_FV(Table3[[#This Row],[Name]],\"Previous close\",TRUE)","v":10.48},{"$f":"_FV(Table3[[#This Row],[Name]],\"Price\")","v":10.14}]
["ZYX Pot","CURLF",{"$error":"#VALUE!"},{"$f":"_FV(Table3[[#This Row],[Name]],\"Industry\")","v":"Pharmaceuticals"},{"$f":"_FV(Table3[[#This Row],[Name]],\"52 week low\",TRUE)","v":2.54},{"$f":"_FV(Table3[[#This Row],[Name]],\"52 week high\",TRUE)","v":18.38},{"$f":"_FV(Table3[[#This Row],[Name]],\"Previous close\",TRUE)","v":15.6},{"$f":"_FV(Table3[[#This Row],[Name]],\"Price\")","v":15.53}]
["ZYX Signal Limited","DASH",{"$error":"#VALUE!"},{"$f":"_FV(Table3[[#This Row],[Name]],\"Industry\")","v":"Software & IT Services"},{"$f":"_FV(Table3[[#This Row],[Name]],\"52 week low\",TRUE)","v":130},{"$f":"_FV(Table3[[#This Row],[Name]],\"52 week high\",TRUE)","v":256.08999999999997},{"$f":"_FV(Table3[[#This Row],[Name]],\"Previous close\",TRUE)","v":144.97},{"$f":"_FV(Table3[[#This Row],[Name]],\"Price\")","v":141.44}]
["ZYX Core Portfolio","DIS",{"$error":"#VALUE!"},{"$f":"_FV(Table3[[#This Row],[Name]],\"Industry\")","v":"Media & Publishing"},{"$f":"_FV(Table3[[#This Row],[Name]],\"52 week low\",TRUE)","v":79.069999999999993},{"$f":"_FV(Table3[[#This Row],[Name]],\"52 week high\",TRUE)","v":203.02},{"$f":"_FV(Table3[[#This Row],[Name]],\"Previous close\",TRUE)","v":196.75},{"$f":"_FV(Table3[[#This Row],[Name]],\"Price\")","v":195.62}]
["ZYX Signal Limited","DIS",{"$error":"#VALUE!"},{"$f":"_FV(Table3[[#This Row],[Name]],\"Industry\")","v":"Media & Publishing"},{"$f":"_FV(Table3[[#This Row],[Name]],\"52 week low\",TRUE)","v":79.069999999999993},{"$f":"_FV(Table3[[#This Row],[Name]],\"52 week high\",TRUE)","v":203.02},{"$f":"_FV(Table3[[#This Row],[Name]],\"Previous close\",TRUE)","v":196.75},{"$f":"_FV(Table3[[#This Row],[Name]],\"Price\")","v":195.62}]
["ZYX Signal Limited","DNN",{"$error":"#VALUE!"},{"$f":"_FV(Table3[[#This Row],[Name]],\"Industry\")","v":"Uranium"},{"$f":"_FV(Table3[[#This Row],[Name]],\"52 week low\",TRUE)","v":0.19},{"$f":"_FV(Table3[[#This Row],[Name]],\"52 week high\",TRUE)","v":1.8049999999999999},{"$f":"_FV(Table3[[#This Row],[Name]],\"Previous close\",TRUE)","v":1.04},{"$f":"_FV(Table3[[#This Row],[Name]],\"Price\")","v":1.0549999999999999}]
["ZYX Core Portfolio","EA",{"$error":"#VALUE!"},{"$f":"_FV(Table3[[#This Row],[Name]],\"Industry\")","v":"Software & IT Services"},{"$f":"_FV(Table3[[#This Row],[Name]],\"52 week low\",TRUE)","v":85.69},{"$f":"_FV(Table3[[#This Row],[Name]],\"52 week high\",TRUE)","v":150.30000000000001},{"$f":"_FV(Table3[[#This Row],[Name]],\"Previous close\",TRUE)","v":131.34},{"$f":"_FV(Table3[[#This Row],[Name]],\"Price\")","v":130.38999999999999}]
["Motley Fool","ESTC",{"$error":"#VALUE!"},{"$f":"_FV(Table3[[#This Row],[Name]],\"Industry\")","v":"Software & IT Services"},{"$f":"_FV(Table3[[#This Row],[Name]],\"52 week low\",TRUE)","v":39.01},{"$f":"_FV(Table3[[#This Row],[Name]],\"52 week high\",TRUE)","v":176.49},{"$f":"_FV(Table3[[#This Row],[Name]],\"Previous close\",TRUE)","v":118.67},{"$f":"_FV(Table3[[#This Row],[Name]],\"Price\")","v":116.39}]
["ZYX Signal Limited","EVRG",{"$error":"#VALUE!"},{"$f":"_FV(Table3[[#This Row],[Name]],\"Industry\")","v":"Electrical Utilities & IPPs"},{"$f":"_FV(Table3[[#This Row],[Name]],\"52 week low\",TRUE)","v":42.010100000000001},{"$f":"_FV(Table3[[#This Row],[Name]],\"52 week high\",TRUE)","v":65.430000000000007},{"$f":"_FV(Table3[[#This Row],[Name]],\"Previous close\",TRUE)","v":56.76},{"$f":"_FV(Table3[[#This Row],[Name]],\"Price\")","v":57.21}]
["ZYX Signal Limited","EXPC",{"$error":"#VALUE!"},{"$f":"_FV(Table3[[#This Row],[Name]],\"Industry\")","v":"Holding Companies"},{"$f":"_FV(Table3[[#This Row],[Name]],\"52 week low\",TRUE)","v":9.2799999999999994},{"$f":"_FV(Table3[[#This Row],[Name]],\"52 week high\",TRUE)","v":19.88},{"$f":"_FV(Table3[[#This Row],[Name]],\"Previous close\",TRUE)","v":13.4},{"$f":"_FV(Table3[[#This Row],[Name]],\"Price\")","v":12.72}]
["ZYX Signal Limited","F",{"$error":"#VALUE!"},{"$f":"_FV(Table3[[#This Row],[Name]],\"Industry\")","v":"Automobiles & Auto Parts"},{"$f":"_FV(Table3[[#This Row],[Name]],\"52 week low\",TRUE)","v":3.96},{"$f":"_FV(Table3[[#This Row],[Name]],\"52 week high\",TRUE)","v":13.0594},{"$f":"_FV(Table3[[#This Row],[Name]],\"Previous close\",TRUE)","v":12.81},{"$f":"_FV(Table3[[#This Row],[Name]],\"Price\")","v":12.914999999999999}]
["ZYX Core Portfolio","FB",{"$error":"#VALUE!"},{"$f":"_FV(Table3[[#This Row],[Name]],\"Industry\")","v":"Software & IT Services"},{"$f":"_FV(Table3[[#This Row],[Name]],\"52 week low\",TRUE)","v":137.10059999999999},{"$f":"_FV(Table3[[#This Row],[Name]],\"52 week high\",TRUE)","v":304.67},{"$f":"_FV(Table3[[#This Row],[Name]],\"Previous close\",TRUE)","v":273.88},{"$f":"_FV(Table3[[#This Row],[Name]],\"Price\")","v":267.26}]
["ZYX Electric Cars","FCEL",{"$error":"#VALUE!"},{"$f":"_FV(Table3[[#This Row],[Name]],\"Industry\")","v":"Renewable Energy"},{"$f":"_FV(Table3[[#This Row],[Name]],\"52 week low\",TRUE)","v":1},{"$f":"_FV(Table3[[#This Row],[Name]],\"52 week high\",TRUE)","v":29.439599999999999},{"$f":"_FV(Table3[[#This Row],[Name]],\"Previous close\",TRUE)","v":18.36},{"$f":"_FV(Table3[[#This Row],[Name]],\"Price\")","v":17.53}]
["ZYX Core Portfolio","FCX",{"$error":"#VALUE!"},{"$f":"_FV(Table3[[#This Row],[Name]],\"Industry\")","v":"Metals & Mining"},{"$f":"_FV(Table3[[#This Row],[Name]],\"52 week low\",TRUE)","v":4.82},{"$f":"_FV(Table3[[#This Row],[Name]],\"52 week high\",TRUE)","v":39.1},{"$f":"_FV(Table3[[#This Row],[Name]],\"Previous close\",TRUE)","v":37.47},{"$f":"_FV(Table3[[#This Row],[Name]],\"Price\")","v":37.1}]
["ZYX Core Portfolio","FFXDF",{"$error":"#VALUE!"},{"$f":"_FV(Table3[[#This Row],[Name]],\"Industry\")","v":"Holding Companies"},{"$f":"_FV(Table3[[#This Row],[Name]],\"52 week low\",TRUE)","v":5.3705999999999996},{"$f":"_FV(Table3[[#This Row],[Name]],\"52 week high\",TRUE)","v":13.26},{"$f":"_FV(Table3[[#This Row],[Name]],\"Previous close\",TRUE)","v":12.494},{"$f":"_FV(Table3[[#This Row],[Name]],\"Price\")","v":12.548}]
["Motley Fool","FSLY",{"$error":"#VALUE!"},{"$f":"_FV(Table3[[#This Row],[Name]],\"Industry\")","v":"Software & IT Services"},{"$f":"_FV(Table3[[#This Row],[Name]],\"52 week low\",TRUE)","v":10.63},{"$f":"_FV(Table3[[#This Row],[Name]],\"52 week high\",TRUE)","v":136.5},{"$f":"_FV(Table3[[#This Row],[Name]],\"Previous close\",TRUE)","v":75.44},{"$f":"_FV(Table3[[#This Row],[Name]],\"Price\")","v":73.25}]
["ZYX Core Portfolio","GAN",{"$error":"#VALUE!"},{"$f":"_FV(Table3[[#This Row],[Name]],\"Industry\")","v":"Software & IT Services"},{"$f":"_FV(Table3[[#This Row],[Name]],\"52 week low\",TRUE)","v":0.65},{"$f":"_FV(Table3[[#This Row],[Name]],\"52 week high\",TRUE)","v":3.35},{"$f":"_FV(Table3[[#This Row],[Name]],\"Previous close\",TRUE)","v":2.9},{"$f":"_FV(Table3[[#This Row],[Name]],\"Price\")","v":2.85}]
["ZYX Signal Limited","GBT",{"$error":"#VALUE!"},{"$f":"_FV(Table3[[#This Row],[Name]],\"Industry\")","v":"Biotechnology & Medical Research"},{"$f":"_FV(Table3[[#This Row],[Name]],\"52 week low\",TRUE)","v":36.49},{"$f":"_FV(Table3[[#This Row],[Name]],\"52 week high\",TRUE)","v":83.69},{"$f":"_FV(Table3[[#This Row],[Name]],\"Previous close\",TRUE)","v":42.9},{"$f":"_FV(Table3[[#This Row],[Name]],\"Price\")","v":43.12}]
["ZYX Electric Cars","GEVO",{"$error":"#VALUE!"},{"$f":"_FV(Table3[[#This Row],[Name]],\"Industry\")","v":"Renewable Energy"},{"$f":"_FV(Table3[[#This Row],[Name]],\"52 week low\",TRUE)","v":0.46},{"$f":"_FV(Table3[[#This Row],[Name]],\"52 week high\",TRUE)","v":15.57},{"$f":"_FV(Table3[[#This Row],[Name]],\"Previous close\",TRUE)","v":9.65},{"$f":"_FV(Table3[[#This Row],[Name]],\"Price\")","v":9.52}]
["ZYX Signal Limited","GIK",{"$error":"#VALUE!"},{"$f":"_FV(Table3[[#This Row],[Name]],\"Industry\")","v":"Holding Companies"},{"$f":"_FV(Table3[[#This Row],[Name]],\"52 week low\",TRUE)","v":9.7940000000000005},{"$f":"_FV(Table3[[#This Row],[Name]],\"52 week high\",TRUE)","v":17.36},{"$f":"_FV(Table3[[#This Row],[Name]],\"Previous close\",TRUE)","v":11.57},{"$f":"_FV(Table3[[#This Row],[Name]],\"Price\")","v":12.28}]
["ZYX Core Portfolio","GILD",{"$error":"#VALUE!"},{"$f":"_FV(Table3[[#This Row],[Name]],\"Industry\")","v":"Biotechnology & Medical Research"},{"$f":"_FV(Table3[[#This Row],[Name]],\"52 week low\",TRUE)","v":56.56},{"$f":"_FV(Table3[[#This Row],[Name]],\"52 week high\",TRUE)","v":85.97},{"$f":"_FV(Table3[[#This Row],[Name]],\"Previous close\",TRUE)","v":62.38},{"$f":"_FV(Table3[[#This Row],[Name]],\"Price\")","v":62.26}]
["ZYX Signal Limited","GLUU",{"$error":"#VALUE!"},{"$f":"_FV(Table3[[#This Row],[Name]],\"Industry\")","v":"Software & IT Services"},{"$f":"_FV(Table3[[#This Row],[Name]],\"52 week low\",TRUE)","v":3.98},{"$f":"_FV(Table3[[#This Row],[Name]],\"52 week high\",TRUE)","v":12.95},{"$f":"_FV(Table3[[#This Row],[Name]],\"Previous close\",TRUE)","v":12.47},{"$f":"_FV(Table3[[#This Row],[Name]],\"Price\")","v":12.435}]
["ZYX Core Portfolio","GOOG",{"$error":"#VALUE!"},{"$f":"_FV(Table3[[#This Row],[Name]],\"Industry\")","v":"Software & IT Services"},{"$f":"_FV(Table3[[#This Row],[Name]],\"52 week low\",TRUE)","v":1013.5361},{"$f":"_FV(Table3[[#This Row],[Name]],\"52 week high\",TRUE)","v":2152.6799999999998},{"$f":"_FV(Table3[[#This Row],[Name]],\"Previous close\",TRUE)","v":2114.77},{"$f":"_FV(Table3[[#This Row],[Name]],\"Price\")","v":2075.83}]
["ZYX Pot","GRWG",{"$error":"#VALUE!"},{"$f":"_FV(Table3[[#This Row],[Name]],\"Industry\")","v":"Chemicals"},{"$f":"_FV(Table3[[#This Row],[Name]],\"52 week low\",TRUE)","v":2.62},{"$f":"_FV(Table3[[#This Row],[Name]],\"52 week high\",TRUE)","v":67.75},{"$f":"_FV(Table3[[#This Row],[Name]],\"Previous close\",TRUE)","v":48.74},{"$f":"_FV(Table3[[#This Row],[Name]],\"Price\")","v":46.88}]
["ZYX Pot","GTBIF",{"$error":"#VALUE!"},{"$f":"_FV(Table3[[#This Row],[Name]],\"Industry\")","v":"Pharmaceuticals"},{"$f":"_FV(Table3[[#This Row],[Name]],\"52 week low\",TRUE)","v":3.6934},{"$f":"_FV(Table3[[#This Row],[Name]],\"52 week high\",TRUE)","v":39.11},{"$f":"_FV(Table3[[#This Row],[Name]],\"Previous close\",TRUE)","v":32.75},{"$f":"_FV(Table3[[#This Row],[Name]],\"Price\")","v":31.540099999999999}]
["ZYX Pot","GWPH",{"$error":"#VALUE!"},{"$f":"_FV(Table3[[#This Row],[Name]],\"Industry\")","v":"Biotechnology & Medical Research"},{"$f":"_FV(Table3[[#This Row],[Name]],\"52 week low\",TRUE)","v":67.98},{"$f":"_FV(Table3[[#This Row],[Name]],\"52 week high\",TRUE)","v":217.5},{"$f":"_FV(Table3[[#This Row],[Name]],\"Previous close\",TRUE)","v":215.01},{"$f":"_FV(Table3[[#This Row],[Name]],\"Price\")","v":215.16}]
["ZYX Core Portfolio","HDGE",{"$error":"#VALUE!"},{"$f":"_FV(Table3[[#This Row],[Name]],\"Industry\")","v":{"$error":"#VALUE!"}},{"$f":"_FV(Table3[[#This Row],[Name]],\"52 week low\",TRUE)","v":24.83},{"$f":"_FV(Table3[[#This Row],[Name]],\"52 week high\",TRUE)","v":79.5},{"$f":"_FV(Table3[[#This Row],[Name]],\"Previous close\",TRUE)","v":24.84},{"$f":"_FV(Table3[[#This Row],[Name]],\"Price\")","v":24.971}]
["ZYX Signal Limited","HMPT","HMPT",{"$f":"_FV(Table3[[#This Row],[Name]],\"Industry\")","v":{"$error":"#VALUE!"}},{"$f":"_FV(Table3[[#This Row],[Name]],\"52 week low\",TRUE)","v":{"$error":"#VALUE!"}},{"$f":"_FV(Table3[[#This Row],[Name]],\"52 week high\",TRUE)","v":{"$error":"#VALUE!"}},{"$f":"_FV(Table3[[#This Row],[Name]],\"Previous close\",TRUE)","v":{"$error":"#VALUE!"}},11.94]
["ZYX Core Portfolio","HOLX",{"$error":"#VALUE!"},{"$f":"_FV(Table3[[#This Row],[Name]],\"Industry\")","v":"Healthcare Equipment & Supplies"},{"$f":"_FV(Table3[[#This Row],[Name]],\"52 week low\",TRUE)","v":26.49},{"$f":"_FV(Table3[[#This Row],[Name]],\"52 week high\",TRUE)","v":85},{"$f":"_FV(Table3[[#This Row],[Name]],\"Previous close\",TRUE)","v":71.03},{"$f":"_FV(Table3[[#This Row],[Name]],\"Price\")","v":70.239999999999995}]
["ZYX Pot","HYFM",{"$error":"#VALUE!"},{"$f":"_FV(Table3[[#This Row],[Name]],\"Industry\")","v":"Machinery, Equipment & Components"},{"$f":"_FV(Table3[[#This Row],[Name]],\"52 week low\",TRUE)","v":41.59},{"$f":"_FV(Table3[[#This Row],[Name]],\"52 week high\",TRUE)","v":95.48},{"$f":"_FV(Table3[[#This Row],[Name]],\"Previous close\",TRUE)","v":58.42},{"$f":"_FV(Table3[[#This Row],[Name]],\"Price\")","v":56.89}]
["ZYX Signal Limited","JD",{"$error":"#VALUE!"},{"$f":"_FV(Table3[[#This Row],[Name]],\"Industry\")","v":"Diversified Retail"},{"$f":"_FV(Table3[[#This Row],[Name]],\"52 week low\",TRUE)","v":32.700000000000003},{"$f":"_FV(Table3[[#This Row],[Name]],\"52 week high\",TRUE)","v":108.29},{"$f":"_FV(Table3[[#This Row],[Name]],\"Previous close\",TRUE)","v":90.01},{"$f":"_FV(Table3[[#This Row],[Name]],\"Price\")","v":84.202600000000004}]
["ZYX Core Portfolio","JPM",{"$error":"#VALUE!"},{"$f":"_FV(Table3[[#This Row],[Name]],\"Industry\")","v":"Banking Services"},{"$f":"_FV(Table3[[#This Row],[Name]],\"52 week low\",TRUE)","v":76.91},{"$f":"_FV(Table3[[#This Row],[Name]],\"52 week high\",TRUE)","v":157.63},{"$f":"_FV(Table3[[#This Row],[Name]],\"Previous close\",TRUE)","v":154.32},{"$f":"_FV(Table3[[#This Row],[Name]],\"Price\")","v":156.6}]
["ZYX Core Portfolio","KBH",{"$error":"#VALUE!"},{"$f":"_FV(Table3[[#This Row],[Name]],\"Industry\")","v":"Homebuilding & Construction Supplies"},{"$f":"_FV(Table3[[#This Row],[Name]],\"52 week low\",TRUE)","v":9.82},{"$f":"_FV(Table3[[#This Row],[Name]],\"52 week high\",TRUE)","v":45.59},{"$f":"_FV(Table3[[#This Row],[Name]],\"Previous close\",TRUE)","v":44.43},{"$f":"_FV(Table3[[#This Row],[Name]],\"Price\")","v":43.22}]
["ZYX Core Portfolio","KKR",{"$error":"#VALUE!"},{"$f":"_FV(Table3[[#This Row],[Name]],\"Industry\")","v":"Investment Banking & Investment Services"},{"$f":"_FV(Table3[[#This Row],[Name]],\"52 week low\",TRUE)","v":15.55},{"$f":"_FV(Table3[[#This Row],[Name]],\"52 week high\",TRUE)","v":49.29},{"$f":"_FV(Table3[[#This Row],[Name]],\"Previous close\",TRUE)","v":48.21},{"$f":"_FV(Table3[[#This Row],[Name]],\"Price\")","v":47.92}]
["ZYX Signal Limited","KSU",{"$error":"#VALUE!"},{"$f":"_FV(Table3[[#This Row],[Name]],\"Industry\")","v":"Freight & Logistics Services"},{"$f":"_FV(Table3[[#This Row],[Name]],\"52 week low\",TRUE)","v":92.86},{"$f":"_FV(Table3[[#This Row],[Name]],\"52 week high\",TRUE)","v":223.59},{"$f":"_FV(Table3[[#This Row],[Name]],\"Previous close\",TRUE)","v":214.86},{"$f":"_FV(Table3[[#This Row],[Name]],\"Price\")","v":215.19}]
["ZYX Electric Cars","LAC",{"$error":"#VALUE!"},{"$f":"_FV(Table3[[#This Row],[Name]],\"Industry\")","v":"Metals & Mining"},{"$f":"_FV(Table3[[#This Row],[Name]],\"52 week low\",TRUE)","v":1.92},{"$f":"_FV(Table3[[#This Row],[Name]],\"52 week high\",TRUE)","v":28.75},{"$f":"_FV(Table3[[#This Row],[Name]],\"Previous close\",TRUE)","v":17.37},{"$f":"_FV(Table3[[#This Row],[Name]],\"Price\")","v":17.02}]
["ZYX Signal Limited","LMNX",{"$error":"#VALUE!"},{"$f":"_FV(Table3[[#This Row],[Name]],\"Industry\")","v":"Healthcare Equipment & Supplies"},{"$f":"_FV(Table3[[#This Row],[Name]],\"52 week low\",TRUE)","v":20.61},{"$f":"_FV(Table3[[#This Row],[Name]],\"52 week high\",TRUE)","v":41.69},{"$f":"_FV(Table3[[#This Row],[Name]],\"Previous close\",TRUE)","v":32.450000000000003},{"$f":"_FV(Table3[[#This Row],[Name]],\"Price\")","v":32.049999999999997}]
["ZYX Core Portfolio","LOW",{"$error":"#VALUE!"},{"$f":"_FV(Table3[[#This Row],[Name]],\"Industry\")","v":"Specialty Retailers"},{"$f":"_FV(Table3[[#This Row],[Name]],\"52 week low\",TRUE)","v":60},{"$f":"_FV(Table3[[#This Row],[Name]],\"52 week high\",TRUE)","v":180.67},{"$f":"_FV(Table3[[#This Row],[Name]],\"Previous close\",TRUE)","v":170.75},{"$f":"_FV(Table3[[#This Row],[Name]],\"Price\")","v":171.22}]
["ZYX Core Portfolio","LTHM",{"$error":"#VALUE!"},{"$f":"_FV(Table3[[#This Row],[Name]],\"Industry\")","v":"Chemicals"},{"$f":"_FV(Table3[[#This Row],[Name]],\"52 week low\",TRUE)","v":3.95},{"$f":"_FV(Table3[[#This Row],[Name]],\"52 week high\",TRUE)","v":23.989899999999999},{"$f":"_FV(Table3[[#This Row],[Name]],\"Previous close\",TRUE)","v":19.170000000000002},{"$f":"_FV(Table3[[#This Row],[Name]],\"Price\")","v":18.97}]
["ZYX Space","MAXR",{"$error":"#VALUE!"},{"$f":"_FV(Table3[[#This Row],[Name]],\"Industry\")","v":"Communications & Networking"},{"$f":"_FV(Table3[[#This Row],[Name]],\"52 week low\",TRUE)","v":7.18},{"$f":"_FV(Table3[[#This Row],[Name]],\"52 week high\",TRUE)","v":58.75},{"$f":"_FV(Table3[[#This Row],[Name]],\"Previous close\",TRUE)","v":47},{"$f":"_FV(Table3[[#This Row],[Name]],\"Price\")","v":46.94}]
["ZYX Signal Limited","MDB",{"$error":"#VALUE!"},{"$f":"_FV(Table3[[#This Row],[Name]],\"Industry\")","v":"Software & IT Services"},{"$f":"_FV(Table3[[#This Row],[Name]],\"52 week low\",TRUE)","v":93.81},{"$f":"_FV(Table3[[#This Row],[Name]],\"52 week high\",TRUE)","v":428.96499999999997},{"$f":"_FV(Table3[[#This Row],[Name]],\"Previous close\",TRUE)","v":327.26},{"$f":"_FV(Table3[[#This Row],[Name]],\"Price\")","v":319.33}]
["ZYX Signal Limited","MRVI",{"$error":"#VALUE!"},{"$f":"_FV(Table3[[#This Row],[Name]],\"Industry\")","v":"Biotechnology & Medical Research"},{"$f":"_FV(Table3[[#This Row],[Name]],\"52 week low\",TRUE)","v":23.62},{"$f":"_FV(Table3[[#This Row],[Name]],\"52 week high\",TRUE)","v":40.24},{"$f":"_FV(Table3[[#This Row],[Name]],\"Previous close\",TRUE)","v":36.520000000000003},{"$f":"_FV(Table3[[#This Row],[Name]],\"Price\")","v":36.35}]
["ZYX Trade Around","MRVL",{"$error":"#VALUE!"},{"$f":"_FV(Table3[[#This Row],[Name]],\"Industry\")","v":"Semiconductors & Semiconductor Equipment"},{"$f":"_FV(Table3[[#This Row],[Name]],\"52 week low\",TRUE)","v":16.45},{"$f":"_FV(Table3[[#This Row],[Name]],\"52 week high\",TRUE)","v":55.7},{"$f":"_FV(Table3[[#This Row],[Name]],\"Previous close\",TRUE)","v":46.3},{"$f":"_FV(Table3[[#This Row],[Name]],\"Price\")","v":46.335000000000001}]
["ZYX Core Portfolio","MSFT",{"$error":"#VALUE!"},{"$f":"_FV(Table3[[#This Row],[Name]],\"Industry\")","v":"Software & IT Services"},{"$f":"_FV(Table3[[#This Row],[Name]],\"52 week low\",TRUE)","v":132.52000000000001},{"$f":"_FV(Table3[[#This Row],[Name]],\"52 week high\",TRUE)","v":246.13},{"$f":"_FV(Table3[[#This Row],[Name]],\"Previous close\",TRUE)","v":237.13},{"$f":"_FV(Table3[[#This Row],[Name]],\"Price\")","v":235.25}]
["ZYX Signal Limited","MU",{"$error":"#VALUE!"},{"$f":"_FV(Table3[[#This Row],[Name]],\"Industry\")","v":"Semiconductors & Semiconductor Equipment"},{"$f":"_FV(Table3[[#This Row],[Name]],\"52 week low\",TRUE)","v":31.13},{"$f":"_FV(Table3[[#This Row],[Name]],\"52 week high\",TRUE)","v":95.75},{"$f":"_FV(Table3[[#This Row],[Name]],\"Previous close\",TRUE)","v":89.31},{"$f":"_FV(Table3[[#This Row],[Name]],\"Price\")","v":88.13}]
["ZYX Pot","NBEV",{"$error":"#VALUE!"},{"$f":"_FV(Table3[[#This Row],[Name]],\"Industry\")","v":"Beverages"},{"$f":"_FV(Table3[[#This Row],[Name]],\"52 week low\",TRUE)","v":0.98099999999999998},{"$f":"_FV(Table3[[#This Row],[Name]],\"52 week high\",TRUE)","v":4.55},{"$f":"_FV(Table3[[#This Row],[Name]],\"Previous close\",TRUE)","v":2.96},{"$f":"_FV(Table3[[#This Row],[Name]],\"Price\")","v":2.93}]
["ZYX Core Portfolio","NEM",{"$error":"#VALUE!"},{"$f":"_FV(Table3[[#This Row],[Name]],\"Industry\")","v":"Metals & Mining"},{"$f":"_FV(Table3[[#This Row],[Name]],\"52 week low\",TRUE)","v":33},{"$f":"_FV(Table3[[#This Row],[Name]],\"52 week high\",TRUE)","v":72.22},{"$f":"_FV(Table3[[#This Row],[Name]],\"Previous close\",TRUE)","v":58.45},{"$f":"_FV(Table3[[#This Row],[Name]],\"Price\")","v":58.36}]
["ZYX Electric Cars","NGAC",{"$error":"#VALUE!"},{"$f":"_FV(Table3[[#This Row],[Name]],\"Industry\")","v":"Holding Companies"},{"$f":"_FV(Table3[[#This Row],[Name]],\"52 week low\",TRUE)","v":9.6999999999999993},{"$f":"_FV(Table3[[#This Row],[Name]],\"52 week high\",TRUE)","v":16},{"$f":"_FV(Table3[[#This Row],[Name]],\"Previous close\",TRUE)","v":10.62},{"$f":"_FV(Table3[[#This Row],[Name]],\"Price\")","v":10.525}]
["ZYX Core Portfolio","NMR",{"$error":"#VALUE!"},{"$f":"_FV(Table3[[#This Row],[Name]],\"Industry\")","v":"Investment Banking & Investment Services"},{"$f":"_FV(Table3[[#This Row],[Name]],\"52 week low\",TRUE)","v":3.55},{"$f":"_FV(Table3[[#This Row],[Name]],\"52 week high\",TRUE)","v":6.36},{"$f":"_FV(Table3[[#This Row],[Name]],\"Previous close\",TRUE)","v":6.22},{"$f":"_FV(Table3[[#This Row],[Name]],\"Price\")","v":6.22}]
["ZYX Space","NPA",{"$error":"#VALUE!"},{"$f":"_FV(Table3[[#This Row],[Name]],\"Industry\")","v":"Holding Companies"},{"$f":"_FV(Table3[[#This Row],[Name]],\"52 week low\",TRUE)","v":9.5},{"$f":"_FV(Table3[[#This Row],[Name]],\"52 week high\",TRUE)","v":25.37},{"$f":"_FV(Table3[[#This Row],[Name]],\"Previous close\",TRUE)","v":13.3},{"$f":"_FV(Table3[[#This Row],[Name]],\"Price\")","v":12.9399}]
["ZYX Core Portfolio","NXPI",{"$error":"#VALUE!"},{"$f":"_FV(Table3[[#This Row],[Name]],\"Industry\")","v":"Semiconductors & Semiconductor Equipment"},{"$f":"_FV(Table3[[#This Row],[Name]],\"52 week low\",TRUE)","v":58.41},{"$f":"_FV(Table3[[#This Row],[Name]],\"52 week high\",TRUE)","v":200.19},{"$f":"_FV(Table3[[#This Row],[Name]],\"Previous close\",TRUE)","v":187.9375},{"$f":"_FV(Table3[[#This Row],[Name]],\"Price\")","v":185.22}]
["ZYX Space","ORBC",{"$error":"#VALUE!"},{"$f":"_FV(Table3[[#This Row],[Name]],\"Industry\")","v":"Telecommunications Services"},{"$f":"_FV(Table3[[#This Row],[Name]],\"52 week low\",TRUE)","v":1.24},{"$f":"_FV(Table3[[#This Row],[Name]],\"52 week high\",TRUE)","v":9.25},{"$f":"_FV(Table3[[#This Row],[Name]],\"Previous close\",TRUE)","v":8.09},{"$f":"_FV(Table3[[#This Row],[Name]],\"Price\")","v":7.98}]
["ZYX Signal Limited","PACE",{"$error":"#VALUE!"},{"$f":"_FV(Table3[[#This Row],[Name]],\"Industry\")","v":"Holding Companies"},{"$f":"_FV(Table3[[#This Row],[Name]],\"52 week low\",TRUE)","v":9.6999999999999993},{"$f":"_FV(Table3[[#This Row],[Name]],\"52 week high\",TRUE)","v":12.5},{"$f":"_FV(Table3[[#This Row],[Name]],\"Previous close\",TRUE)","v":10.32},{"$f":"_FV(Table3[[#This Row],[Name]],\"Price\")","v":10.27}]
["ZYX Core Portfolio","PCG",{"$error":"#VALUE!"},{"$f":"_FV(Table3[[#This Row],[Name]],\"Industry\")","v":"Electrical Utilities & IPPs"},{"$f":"_FV(Table3[[#This Row],[Name]],\"52 week low\",TRUE)","v":6.25},{"$f":"_FV(Table3[[#This Row],[Name]],\"52 week high\",TRUE)","v":13.34},{"$f":"_FV(Table3[[#This Row],[Name]],\"Previous close\",TRUE)","v":11.45},{"$f":"_FV(Table3[[#This Row],[Name]],\"Price\")","v":11.414999999999999}]
["ZYX Signal Limited","PHUN",{"$error":"#VALUE!"},{"$f":"_FV(Table3[[#This Row],[Name]],\"Industry\")","v":"Software & IT Services"},{"$f":"_FV(Table3[[#This Row],[Name]],\"52 week low\",TRUE)","v":0.54},{"$f":"_FV(Table3[[#This Row],[Name]],\"52 week high\",TRUE)","v":3.3376000000000001},{"$f":"_FV(Table3[[#This Row],[Name]],\"Previous close\",TRUE)","v":1.93},{"$f":"_FV(Table3[[#This Row],[Name]],\"Price\")","v":2.0299999999999998}]
["ZYX Signal Limited","PLTR",{"$error":"#VALUE!"},{"$f":"_FV(Table3[[#This Row],[Name]],\"Industry\")","v":"Software & IT Services"},{"$f":"_FV(Table3[[#This Row],[Name]],\"52 week low\",TRUE)","v":8.9},{"$f":"_FV(Table3[[#This Row],[Name]],\"52 week high\",TRUE)","v":45},{"$f":"_FV(Table3[[#This Row],[Name]],\"Previous close\",TRUE)","v":26.73},{"$f":"_FV(Table3[[#This Row],[Name]],\"Price\")","v":26.125}]
["ZYX Signal Limited","PLUG",{"$error":"#VALUE!"},{"$f":"_FV(Table3[[#This Row],[Name]],\"Industry\")","v":"Renewable Energy"},{"$f":"_FV(Table3[[#This Row],[Name]],\"52 week low\",TRUE)","v":2.5299999999999998},{"$f":"_FV(Table3[[#This Row],[Name]],\"52 week high\",TRUE)","v":75.489999999999995},{"$f":"_FV(Table3[[#This Row],[Name]],\"Previous close\",TRUE)","v":48.16},{"$f":"_FV(Table3[[#This Row],[Name]],\"Price\")","v":46.4}]
["Oil","PRT",{"$error":"#VALUE!"},{"$f":"_FV(Table3[[#This Row],[Name]],\"Industry\")","v":{"$error":"#VALUE!"}},{"$f":"_FV(Table3[[#This Row],[Name]],\"52 week low\",TRUE)","v":1},{"$f":"_FV(Table3[[#This Row],[Name]],\"52 week high\",TRUE)","v":5.35},{"$f":"_FV(Table3[[#This Row],[Name]],\"Previous close\",TRUE)","v":5.22},{"$f":"_FV(Table3[[#This Row],[Name]],\"Price\")","v":5.1501000000000001}]
["ZYX Core Portfolio","PSQ",{"$error":"#VALUE!"},{"$f":"_FV(Table3[[#This Row],[Name]],\"Industry\")","v":{"$error":"#VALUE!"}},{"$f":"_FV(Table3[[#This Row],[Name]],\"52 week low\",TRUE)","v":13.29},{"$f":"_FV(Table3[[#This Row],[Name]],\"52 week high\",TRUE)","v":29.7},{"$f":"_FV(Table3[[#This Row],[Name]],\"Previous close\",TRUE)","v":14.02},{"$f":"_FV(Table3[[#This Row],[Name]],\"Price\")","v":14.18}]
["ZYX Core Portfolio","QCOM",{"$error":"#VALUE!"},{"$f":"_FV(Table3[[#This Row],[Name]],\"Industry\")","v":"Semiconductors & Semiconductor Equipment"},{"$f":"_FV(Table3[[#This Row],[Name]],\"52 week low\",TRUE)","v":58},{"$f":"_FV(Table3[[#This Row],[Name]],\"52 week high\",TRUE)","v":167.94},{"$f":"_FV(Table3[[#This Row],[Name]],\"Previous close\",TRUE)","v":131.74},{"$f":"_FV(Table3[[#This Row],[Name]],\"Price\")","v":129.4725}]
["ZYX Signal Limited","QCOM",{"$error":"#VALUE!"},{"$f":"_FV(Table3[[#This Row],[Name]],\"Industry\")","v":"Semiconductors & Semiconductor Equipment"},{"$f":"_FV(Table3[[#This Row],[Name]],\"52 week low\",TRUE)","v":58},{"$f":"_FV(Table3[[#This Row],[Name]],\"52 week high\",TRUE)","v":167.94},{"$f":"_FV(Table3[[#This Row],[Name]],\"Previous close\",TRUE)","v":131.74},{"$f":"_FV(Table3[[#This Row],[Name]],\"Price\")","v":129.4725}]
["ZYX Core Portfolio","QQQJ",{"$error":"#VALUE!"},{"$f":"_FV(Table3[[#This Row],[Name]],\"Industry\")","v":{"$error":"#VALUE!"}},{"$f":"_FV(Table3[[#This Row],[Name]],\"52 week low\",TRUE)","v":24.669},{"$f":"_FV(Table3[[#This Row],[Name]],\"52 week high\",TRUE)","v":35.18},{"$f":"_FV(Table3[[#This Row],[Name]],\"Previous close\",TRUE)","v":33.22},{"$f":"_FV(Table3[[#This Row],[Name]],\"Price\")","v":32.840000000000003}]
["ZYX Core Portfolio","QRVO",{"$error":"#VALUE!"},{"$f":"_FV(Table3[[#This Row],[Name]],\"Industry\")","v":"Semiconductors & Semiconductor Equipment"},{"$f":"_FV(Table3[[#This Row],[Name]],\"52 week low\",TRUE)","v":67.540000000000006},{"$f":"_FV(Table3[[#This Row],[Name]],\"52 week high\",TRUE)","v":191.82499999999999},{"$f":"_FV(Table3[[#This Row],[Name]],\"Previous close\",TRUE)","v":174.95},{"$f":"_FV(Table3[[#This Row],[Name]],\"Price\")","v":171.93010000000001}]
["ZYX Signal Limited","QS",{"$error":"#VALUE!"},{"$f":"_FV(Table3[[#This Row],[Name]],\"Industry\")","v":"Automobiles & Auto Parts"},{"$f":"_FV(Table3[[#This Row],[Name]],\"52 week low\",TRUE)","v":9.74},{"$f":"_FV(Table3[[#This Row],[Name]],\"52 week high\",TRUE)","v":132.72999999999999},{"$f":"_FV(Table3[[#This Row],[Name]],\"Previous close\",TRUE)","v":58.2},{"$f":"_FV(Table3[[#This Row],[Name]],\"Price\")","v":57.209899999999998}]
["ZYX Core Portfolio","RDS-B",{"$error":"#VALUE!"},{"$f":"_FV(Table3[[#This Row],[Name]],\"Industry\")","v":"Oil & Gas"},{"$f":"_FV(Table3[[#This Row],[Name]],\"52 week low\",TRUE)","v":19.190000000000001},{"$f":"_FV(Table3[[#This Row],[Name]],\"52 week high\",TRUE)","v":42.27},{"$f":"_FV(Table3[[#This Row],[Name]],\"Previous close\",TRUE)","v":41.72},{"$f":"_FV(Table3[[#This Row],[Name]],\"Price\")","v":42.06}]
["Oil","RIG",{"$error":"#VALUE!"},{"$f":"_FV(Table3[[#This Row],[Name]],\"Industry\")","v":"Oil & Gas Related Equipment and Services"},{"$f":"_FV(Table3[[#This Row],[Name]],\"52 week low\",TRUE)","v":0.65},{"$f":"_FV(Table3[[#This Row],[Name]],\"52 week high\",TRUE)","v":4.8099999999999996},{"$f":"_FV(Table3[[#This Row],[Name]],\"Previous close\",TRUE)","v":4.55},{"$f":"_FV(Table3[[#This Row],[Name]],\"Price\")","v":4.54}]
["ZYX Signal Limited","RLX",{"$error":"#VALUE!"},{"$f":"_FV(Table3[[#This Row],[Name]],\"Industry\")","v":"Food & Tobacco"},{"$f":"_FV(Table3[[#This Row],[Name]],\"52 week low\",TRUE)","v":13.7},{"$f":"_FV(Table3[[#This Row],[Name]],\"52 week high\",TRUE)","v":35},{"$f":"_FV(Table3[[#This Row],[Name]],\"Previous close\",TRUE)","v":18.8},{"$f":"_FV(Table3[[#This Row],[Name]],\"Price\")","v":17.48}]
["Motley Fool","ROKU",{"$error":"#VALUE!"},{"$f":"_FV(Table3[[#This Row],[Name]],\"Industry\")","v":"Media & Publishing"},{"$f":"_FV(Table3[[#This Row],[Name]],\"52 week low\",TRUE)","v":58.22},{"$f":"_FV(Table3[[#This Row],[Name]],\"52 week high\",TRUE)","v":486.72},{"$f":"_FV(Table3[[#This Row],[Name]],\"Previous close\",TRUE)","v":363.34},{"$f":"_FV(Table3[[#This Row],[Name]],\"Price\")","v":356.005}]
["ZYX Signal Limited","SAVE",{"$error":"#VALUE!"},{"$f":"_FV(Table3[[#This Row],[Name]],\"Industry\")","v":"Passenger Transportation Services"},{"$f":"_FV(Table3[[#This Row],[Name]],\"52 week low\",TRUE)","v":7.01},{"$f":"_FV(Table3[[#This Row],[Name]],\"52 week high\",TRUE)","v":39.14},{"$f":"_FV(Table3[[#This Row],[Name]],\"Previous close\",TRUE)","v":36.51},{"$f":"_FV(Table3[[#This Row],[Name]],\"Price\")","v":37.369999999999997}]
["ZYX Electric Cars","SBE",{"$error":"#VALUE!"},{"$f":"_FV(Table3[[#This Row],[Name]],\"Industry\")","v":"Electrical Utilities & IPPs"},{"$f":"_FV(Table3[[#This Row],[Name]],\"52 week low\",TRUE)","v":9.3800000000000008},{"$f":"_FV(Table3[[#This Row],[Name]],\"52 week high\",TRUE)","v":49.48},{"$f":"_FV(Table3[[#This Row],[Name]],\"Previous close\",TRUE)","v":30.43},{"$f":"_FV(Table3[[#This Row],[Name]],\"Price\")","v":27.588000000000001}]
["ZYX Signal Limited","SFIX",{"$error":"#VALUE!"},{"$f":"_FV(Table3[[#This Row],[Name]],\"Industry\")","v":"Software & IT Services"},{"$f":"_FV(Table3[[#This Row],[Name]],\"52 week low\",TRUE)","v":10.9},{"$f":"_FV(Table3[[#This Row],[Name]],\"52 week high\",TRUE)","v":113.7594},{"$f":"_FV(Table3[[#This Row],[Name]],\"Previous close\",TRUE)","v":50.93},{"$f":"_FV(Table3[[#This Row],[Name]],\"Price\")","v":51.034100000000002}]
["ZYX Signal Limited","SKLZ",{"$error":"#VALUE!"},{"$f":"_FV(Table3[[#This Row],[Name]],\"Industry\")","v":"Holding Companies"},{"$f":"_FV(Table3[[#This Row],[Name]],\"52 week low\",TRUE)","v":9.81},{"$f":"_FV(Table3[[#This Row],[Name]],\"52 week high\",TRUE)","v":46.298000000000002},{"$f":"_FV(Table3[[#This Row],[Name]],\"Previous close\",TRUE)","v":27.78},{"$f":"_FV(Table3[[#This Row],[Name]],\"Price\")","v":27.84}]
["ZYX Signal Limited","SKT",{"$error":"#VALUE!"},{"$f":"_FV(Table3[[#This Row],[Name]],\"Industry\")","v":"Residential & Commercial REIT"},{"$f":"_FV(Table3[[#This Row],[Name]],\"52 week low\",TRUE)","v":4.05},{"$f":"_FV(Table3[[#This Row],[Name]],\"52 week high\",TRUE)","v":22.4},{"$f":"_FV(Table3[[#This Row],[Name]],\"Previous close\",TRUE)","v":16.920000000000002},{"$f":"_FV(Table3[[#This Row],[Name]],\"Price\")","v":17.015000000000001}]
["ZYX Core Portfolio","SLV",{"$error":"#VALUE!"},{"$f":"_FV(Table3[[#This Row],[Name]],\"Industry\")","v":{"$error":"#VALUE!"}},{"$f":"_FV(Table3[[#This Row],[Name]],\"52 week low\",TRUE)","v":10.86},{"$f":"_FV(Table3[[#This Row],[Name]],\"52 week high\",TRUE)","v":27.98},{"$f":"_FV(Table3[[#This Row],[Name]],\"Previous close\",TRUE)","v":24.25},{"$f":"_FV(Table3[[#This Row],[Name]],\"Price\")","v":23.846399999999999}]
["ZYX Signal Limited","SLV",{"$error":"#VALUE!"},{"$f":"_FV(Table3[[#This Row],[Name]],\"Industry\")","v":{"$error":"#VALUE!"}},{"$f":"_FV(Table3[[#This Row],[Name]],\"52 week low\",TRUE)","v":10.86},{"$f":"_FV(Table3[[#This Row],[Name]],\"52 week high\",TRUE)","v":27.98},{"$f":"_FV(Table3[[#This Row],[Name]],\"Previous close\",TRUE)","v":24.25},{"$f":"_FV(Table3[[#This Row],[Name]],\"Price\")","v":23.846399999999999}]
["ZYX Space","SPCE",{"$error":"#VALUE!"},{"$f":"_FV(Table3[[#This Row],[Name]],\"Industry\")","v":"Aerospace & Defense"},{"$f":"_FV(Table3[[#This Row],[Name]],\"52 week low\",TRUE)","v":9.06},{"$f":"_FV(Table3[[#This Row],[Name]],\"52 week high\",TRUE)","v":62.8},{"$f":"_FV(Table3[[#This Row],[Name]],\"Previous close\",TRUE)","v":33.58},{"$f":"_FV(Table3[[#This Row],[Name]],\"Price\")","v":32.82}]
["ZYX Core Portfolio","SPR",{"$error":"#VALUE!"},{"$f":"_FV(Table3[[#This Row],[Name]],\"Industry\")","v":"Aerospace & Defense"},{"$f":"_FV(Table3[[#This Row],[Name]],\"52 week low\",TRUE)","v":13.69},{"$f":"_FV(Table3[[#This Row],[Name]],\"52 week high\",TRUE)","v":51.56},{"$f":"_FV(Table3[[#This Row],[Name]],\"Previous close\",TRUE)","v":49.83},{"$f":"_FV(Table3[[#This Row],[Name]],\"Price\")","v":50.625}]
["ZYX Signal Limited","SPR",{"$error":"#VALUE!"},{"$f":"_FV(Table3[[#This Row],[Name]],\"Industry\")","v":"Aerospace & Defense"},{"$f":"_FV(Table3[[#This Row],[Name]],\"52 week low\",TRUE)","v":13.69},{"$f":"_FV(Table3[[#This Row],[Name]],\"52 week high\",TRUE)","v":51.56},{"$f":"_FV(Table3[[#This Row],[Name]],\"Previous close\",TRUE)","v":49.83},{"$f":"_FV(Table3[[#This Row],[Name]],\"Price\")","v":50.625}]
["ZYX Signal Limited","SQQQ",{"$error":"#VALUE!"},{"$f":"_FV(Table3[[#This Row],[Name]],\"Industry\")","v":{"$error":"#VALUE!"}},{"$f":"_FV(Table3[[#This Row],[Name]],\"52 week low\",TRUE)","v":11.76},{"$f":"_FV(Table3[[#This Row],[Name]],\"52 week high\",TRUE)","v":162.15},{"$f":"_FV(Table3[[#This Row],[Name]],\"Previous close\",TRUE)","v":13.49},{"$f":"_FV(Table3[[#This Row],[Name]],\"Price\")","v":13.994999999999999}]
["ZYX Space","SRACU",{"$error":"#VALUE!"},{"$f":"_FV(Table3[[#This Row],[Name]],\"Industry\")","v":{"$error":"#VALUE!"}},{"$f":"_FV(Table3[[#This Row],[Name]],\"52 week low\",TRUE)","v":9.3000000000000007},{"$f":"_FV(Table3[[#This Row],[Name]],\"52 week high\",TRUE)","v":35},{"$f":"_FV(Table3[[#This Row],[Name]],\"Previous close\",TRUE)","v":16.54},{"$f":"_FV(Table3[[#This Row],[Name]],\"Price\")","v":19.27}]
["ZYX Signal Limited","SRACU",{"$error":"#VALUE!"},{"$f":"_FV(Table3[[#This Row],[Name]],\"Industry\")","v":{"$error":"#VALUE!"}},{"$f":"_FV(Table3[[#This Row],[Name]],\"52 week low\",TRUE)","v":9.3000000000000007},{"$f":"_FV(Table3[[#This Row],[Name]],\"52 week high\",TRUE)","v":35},{"$f":"_FV(Table3[[#This Row],[Name]],\"Previous close\",TRUE)","v":16.54},{"$f":"_FV(Table3[[#This Row],[Name]],\"Price\")","v":19.27}]
["ZYX Signal Limited","SSYS",{"$error":"#VALUE!"},{"$f":"_FV(Table3[[#This Row],[Name]],\"Industry\")","v":"Electronic Equipment & Parts"},{"$f":"_FV(Table3[[#This Row],[Name]],\"52 week low\",TRUE)","v":11.89},{"$f":"_FV(Table3[[#This Row],[Name]],\"52 week high\",TRUE)","v":56.95},{"$f":"_FV(Table3[[#This Row],[Name]],\"Previous close\",TRUE)","v":28.14},{"$f":"_FV(Table3[[#This Row],[Name]],\"Price\")","v":27.49}]
["ZYX Signal Limited","THCB",{"$error":"#VALUE!"},{"$f":"_FV(Table3[[#This Row],[Name]],\"Industry\")","v":"Holding Companies"},{"$f":"_FV(Table3[[#This Row],[Name]],\"52 week low\",TRUE)","v":9.16},{"$f":"_FV(Table3[[#This Row],[Name]],\"52 week high\",TRUE)","v":25.2},{"$f":"_FV(Table3[[#This Row],[Name]],\"Previous close\",TRUE)","v":14.68},{"$f":"_FV(Table3[[#This Row],[Name]],\"Price\")","v":14.557499999999999}]
["ZYX Pot","TLRY",{"$error":"#VALUE!"},{"$f":"_FV(Table3[[#This Row],[Name]],\"Industry\")","v":"Pharmaceuticals"},{"$f":"_FV(Table3[[#This Row],[Name]],\"52 week low\",TRUE)","v":2.4300000000000002},{"$f":"_FV(Table3[[#This Row],[Name]],\"52 week high\",TRUE)","v":67},{"$f":"_FV(Table3[[#This Row],[Name]],\"Previous close\",TRUE)","v":28.195},{"$f":"_FV(Table3[[#This Row],[Name]],\"Price\")","v":26.42}]
["ZYX Core Portfolio","TMUS",{"$error":"#VALUE!"},{"$f":"_FV(Table3[[#This Row],[Name]],\"Industry\")","v":"Telecommunications Services"},{"$f":"_FV(Table3[[#This Row],[Name]],\"52 week low\",TRUE)","v":63.5},{"$f":"_FV(Table3[[#This Row],[Name]],\"52 week high\",TRUE)","v":135.54},{"$f":"_FV(Table3[[#This Row],[Name]],\"Previous close\",TRUE)","v":125.99},{"$f":"_FV(Table3[[#This Row],[Name]],\"Price\")","v":126.23}]
["ZYX Electric Cars","TPGY",{"$error":"#VALUE!"},{"$f":"_FV(Table3[[#This Row],[Name]],\"Industry\")","v":"Holding Companies"},{"$f":"_FV(Table3[[#This Row],[Name]],\"52 week low\",TRUE)","v":9.76},{"$f":"_FV(Table3[[#This Row],[Name]],\"52 week high\",TRUE)","v":34.28},{"$f":"_FV(Table3[[#This Row],[Name]],\"Previous close\",TRUE)","v":18.18},{"$f":"_FV(Table3[[#This Row],[Name]],\"Price\")","v":17.87}]
["ZYX Electric Cars","TSLA",{"$error":"#VALUE!"},{"$f":"_FV(Table3[[#This Row],[Name]],\"Industry\")","v":"Automobiles & Auto Parts"},{"$f":"_FV(Table3[[#This Row],[Name]],\"52 week low\",TRUE)","v":70.102000000000004},{"$f":"_FV(Table3[[#This Row],[Name]],\"52 week high\",TRUE)","v":900.4},{"$f":"_FV(Table3[[#This Row],[Name]],\"Previous close\",TRUE)","v":699.6},{"$f":"_FV(Table3[[#This Row],[Name]],\"Price\")","v":681.51880000000006}]
["ZYX Core Portfolio","TSM",{"$error":"#VALUE!"},{"$f":"_FV(Table3[[#This Row],[Name]],\"Industry\")","v":"Semiconductors & Semiconductor Equipment"},{"$f":"_FV(Table3[[#This Row],[Name]],\"52 week low\",TRUE)","v":42.7},{"$f":"_FV(Table3[[#This Row],[Name]],\"52 week high\",TRUE)","v":142.19499999999999},{"$f":"_FV(Table3[[#This Row],[Name]],\"Previous close\",TRUE)","v":120.58},{"$f":"_FV(Table3[[#This Row],[Name]],\"Price\")","v":118.79}]
["ZYX Signal Limited","TWM",{"$error":"#VALUE!"},{"$f":"_FV(Table3[[#This Row],[Name]],\"Industry\")","v":{"$error":"#VALUE!"}},{"$f":"_FV(Table3[[#This Row],[Name]],\"52 week low\",TRUE)","v":13.615},{"$f":"_FV(Table3[[#This Row],[Name]],\"52 week high\",TRUE)","v":120.3008},{"$f":"_FV(Table3[[#This Row],[Name]],\"Previous close\",TRUE)","v":13.66},{"$f":"_FV(Table3[[#This Row],[Name]],\"Price\")","v":13.6313}]
["ZYX Core Portfolio","TWTR",{"$error":"#VALUE!"},{"$f":"_FV(Table3[[#This Row],[Name]],\"Industry\")","v":"Software & IT Services"},{"$f":"_FV(Table3[[#This Row],[Name]],\"52 week low\",TRUE)","v":20},{"$f":"_FV(Table3[[#This Row],[Name]],\"52 week high\",TRUE)","v":80.75},{"$f":"_FV(Table3[[#This Row],[Name]],\"Previous close\",TRUE)","v":68.459999999999994},{"$f":"_FV(Table3[[#This Row],[Name]],\"Price\")","v":67.75}]
["Oil","TYG",{"$error":"#VALUE!"},{"$f":"_FV(Table3[[#This Row],[Name]],\"Industry\")","v":{"$error":"#VALUE!"}},{"$f":"_FV(Table3[[#This Row],[Name]],\"52 week low\",TRUE)","v":4.5999999999999996},{"$f":"_FV(Table3[[#This Row],[Name]],\"52 week high\",TRUE)","v":25.46},{"$f":"_FV(Table3[[#This Row],[Name]],\"Previous close\",TRUE)","v":25.18},{"$f":"_FV(Table3[[#This Row],[Name]],\"Price\")","v":25.02}]
["ZYX Core Portfolio","UBER",{"$error":"#VALUE!"},{"$f":"_FV(Table3[[#This Row],[Name]],\"Industry\")","v":"Software & IT Services"},{"$f":"_FV(Table3[[#This Row],[Name]],\"52 week low\",TRUE)","v":13.71},{"$f":"_FV(Table3[[#This Row],[Name]],\"52 week high\",TRUE)","v":64.05},{"$f":"_FV(Table3[[#This Row],[Name]],\"Previous close\",TRUE)","v":58.95},{"$f":"_FV(Table3[[#This Row],[Name]],\"Price\")","v":58.25}]
["ZYX Signal Limited","UNFI",{"$error":"#VALUE!"},{"$f":"_FV(Table3[[#This Row],[Name]],\"Industry\")","v":"Food & Drug Retailing"},{"$f":"_FV(Table3[[#This Row],[Name]],\"52 week low\",TRUE)","v":5.0549999999999997},{"$f":"_FV(Table3[[#This Row],[Name]],\"52 week high\",TRUE)","v":40.24},{"$f":"_FV(Table3[[#This Row],[Name]],\"Previous close\",TRUE)","v":39.24},{"$f":"_FV(Table3[[#This Row],[Name]],\"Price\")","v":39.19}]
["ZYX Signal Limited","VACQ",{"$error":"#VALUE!"},{"$f":"_FV(Table3[[#This Row],[Name]],\"Industry\")","v":"Holding Companies"},{"$f":"_FV(Table3[[#This Row],[Name]],\"52 week low\",TRUE)","v":9.7200000000000006},{"$f":"_FV(Table3[[#This Row],[Name]],\"52 week high\",TRUE)","v":15.15},{"$f":"_FV(Table3[[#This Row],[Name]],\"Previous close\",TRUE)","v":12.41},{"$f":"_FV(Table3[[#This Row],[Name]],\"Price\")","v":12.2}]
["ZYX Signal Limited","VSPR",{"$error":"#VALUE!"},{"$f":"_FV(Table3[[#This Row],[Name]],\"Industry\")","v":"Holding Companies"},{"$f":"_FV(Table3[[#This Row],[Name]],\"52 week low\",TRUE)","v":10.01},{"$f":"_FV(Table3[[#This Row],[Name]],\"52 week high\",TRUE)","v":12.84},{"$f":"_FV(Table3[[#This Row],[Name]],\"Previous close\",TRUE)","v":10.81},{"$f":"_FV(Table3[[#This Row],[Name]],\"Price\")","v":10.58}]
["ZYX Signal Limited","VTRS",{"$error":"#VALUE!"},{"$f":"_FV(Table3[[#This Row],[Name]],\"Industry\")","v":"Pharmaceuticals"},{"$f":"_FV(Table3[[#This Row],[Name]],\"52 week low\",TRUE)","v":12.75},{"$f":"_FV(Table3[[#This Row],[Name]],\"52 week high\",TRUE)","v":19.239999999999998},{"$f":"_FV(Table3[[#This Row],[Name]],\"Previous close\",TRUE)","v":14.1},{"$f":"_FV(Table3[[#This Row],[Name]],\"Price\")","v":14.234999999999999}]
["ZYX Signal Limited","WIFI",{"$error":"#VALUE!"},{"$f":"_FV(Table3[[#This Row],[Name]],\"Industry\")","v":"Telecommunications Services"},{"$f":"_FV(Table3[[#This Row],[Name]],\"52 week low\",TRUE)","v":6.66},{"$f":"_FV(Table3[[#This Row],[Name]],\"52 week high\",TRUE)","v":15.92},{"$f":"_FV(Table3[[#This Row],[Name]],\"Previous close\",TRUE)","v":14.11},{"$f":"_FV(Table3[[#This Row],[Name]],\"Price\")","v":14.13}]
["ZYX Core Portfolio","WMT",{"$error":"#VALUE!"},{"$f":"_FV(Table3[[#This Row],[Name]],\"Industry\")","v":"Food & Drug Retailing"},{"$f":"_FV(Table3[[#This Row],[Name]],\"52 week low\",TRUE)","v":102},{"$f":"_FV(Table3[[#This Row],[Name]],\"52 week high\",TRUE)","v":153.65969999999999},{"$f":"_FV(Table3[[#This Row],[Name]],\"Previous close\",TRUE)","v":132.13},{"$f":"_FV(Table3[[#This Row],[Name]],\"Price\")","v":132.76070000000001}]
["ZYX Signal Limited","WOW",{"$error":"#VALUE!"},{"$f":"_FV(Table3[[#This Row],[Name]],\"Industry\")","v":"Media & Publishing"},{"$f":"_FV(Table3[[#This Row],[Name]],\"52 week low\",TRUE)","v":2.9453},{"$f":"_FV(Table3[[#This Row],[Name]],\"52 week high\",TRUE)","v":18.2},{"$f":"_FV(Table3[[#This Row],[Name]],\"Previous close\",TRUE)","v":16.87},{"$f":"_FV(Table3[[#This Row],[Name]],\"Price\")","v":17.149999999999999}]
["ZYX Signal Limited","XL",{"$error":"#VALUE!"},{"$f":"_FV(Table3[[#This Row],[Name]],\"Industry\")","v":"Automobiles & Auto Parts"},{"$f":"_FV(Table3[[#This Row],[Name]],\"52 week low\",TRUE)","v":9.5},{"$f":"_FV(Table3[[#This Row],[Name]],\"52 week high\",TRUE)","v":35},{"$f":"_FV(Table3[[#This Row],[Name]],\"Previous close\",TRUE)","v":12.73},{"$f":"_FV(Table3[[#This Row],[Name]],\"Price\")","v":12.432700000000001}]
["ZYX Signal Limited","XSPA",{"$error":"#VALUE!"},{"$f":"_FV(Table3[[#This Row],[Name]],\"Industry\")","v":"Personal & Household Products & Services"},{"$f":"_FV(Table3[[#This Row],[Name]],\"52 week low\",TRUE)","v":0.15},{"$f":"_FV(Table3[[#This Row],[Name]],\"52 week high\",TRUE)","v":8.82},{"$f":"_FV(Table3[[#This Row],[Name]],\"Previous close\",TRUE)","v":1.95},{"$f":"_FV(Table3[[#This Row],[Name]],\"Price\")","v":1.94}]
["ZYX Signal Limited","YQ",{"$error":"#VALUE!"},{"$f":"_FV(Table3[[#This Row],[Name]],\"Industry\")","v":{"$error":"#VALUE!"}},{"$f":"_FV(Table3[[#This Row],[Name]],\"52 week low\",TRUE)","v":10},{"$f":"_FV(Table3[[#This Row],[Name]],\"52 week high\",TRUE)","v":23.93},{"$f":"_FV(Table3[[#This Row],[Name]],\"Previous close\",TRUE)","v":11.51},{"$f":"_FV(Table3[[#This Row],[Name]],\"Price\")","v":11.16}]
["ZYX Signal Limited","YUMC",{"$error":"#VALUE!"},{"$f":"_FV(Table3[[#This Row],[Name]],\"Industry\")","v":"Hotels & Entertainment Services"},{"$f":"_FV(Table3[[#This Row],[Name]],\"52 week low\",TRUE)","v":38.33},{"$f":"_FV(Table3[[#This Row],[Name]],\"52 week high\",TRUE)","v":64.64},{"$f":"_FV(Table3[[#This Row],[Name]],\"Previous close\",TRUE)","v":61.65},{"$f":"_FV(Table3[[#This Row],[Name]],\"Price\")","v":61.08}]
["Motley Fool","ZM",{"$error":"#VALUE!"},{"$f":"_FV(Table3[[#This Row],[Name]],\"Industry\")","v":"Software & IT Services"},{"$f":"_FV(Table3[[#This Row],[Name]],\"52 week low\",TRUE)","v":102},{"$f":"_FV(Table3[[#This Row],[Name]],\"52 week high\",TRUE)","v":588.84},{"$f":"_FV(Table3[[#This Row],[Name]],\"Previous close\",TRUE)","v":355.17},{"$f":"_FV(Table3[[#This Row],[Name]],\"Price\")","v":347.29}]

{"sheet":"Target","index":1,"n_rows":148,"n_cols":50,"rows_kept":148,"cut":false,"hidden":false,"merged":[[3,28,3,29],[3,24,3,25],[3,30,3,31],[3,22,3,23],[3,8,3,9],[3,26,3,27],[3,12,3,13],[3,14,3,15],[3,16,3,17],[3,18,3,19],[3,20,3,21]]}
[null,null,null,null,null,null,null,null,null,null,null,null,null,null,null,null,null,null,null,null,null,null,null,null,null,null,null,null,null,null,null,null,null,null,null,null,null,null,null,null,null,null,null,null,null,null,null,null,"Color Criteria","Formula"]
[null,null,null,null,null,null,null,null,null,null,null,null,null,null,null,null,null,null,null,null,null,null,null,null,null,null,null,null,null,null,null,null,null,null,"Top of Range",1,null,"Middle",null,1,null,1.05,null,1.1000000000000001,null,1.1499999999999999]
[null,null,"https://zyxbuyfeed.thearorareport.com/",null,null,null,null,null,null,null,null,null,null,null,null,null,null,null,null,null,null,null,null,null,null,null,null,null,null,null,null,null,null,null,"x",0.3,null,0.25,null,0.2,null,0.15,null,7.0000000000000007E-2,null,0.03]
["Portfolio","SYMBOL","Name","Industry2","52 week low","52 week high","Previous","Current","Best Way Buy Zone",null,"Size Range",null,"Stop Zone",null,"1st Target Zone",null,"1stTarget\nvs Current",null,"1stTarget\nvs BuyZone",null,"2nd Target Zone",null,"2ndTarget\nvs Current",null,"2ndTarget\nvs BuyZone",null,"3rd Target Zone",null,"3rdTarget\nvs Current",null,"3rdTarget\nvs BuyZone",null,"Gamble","Maximum\nCash","Cash","Bottom of Buy Zn",null,"Middle of Buy Zone",null,"Top of Buy Zone",null,"Within 5%",null,"Within 10%",null,"Within 15%"]
[{"$f":"Source!A5","v":"ZYX Signal Limited"},{"$f":"Source!B5","v":"AAL"},{"$f":"Source!C5","v":{"$error":"#VALUE!"}},{"$f":"Source!D5","v":"Passenger Transportation Services"},{"$f":"Source!E5","v":8.25},{"$f":"Source!F5","v":22.8},{"$f":"Source!G5","v":22.15},{"$f":"Source!H5","v":22.614999999999998},null,null,null,null,null,null,null,null,{"$f":"SUM(O5-$H5)/$H5","v":-1},{"$f":"SUM(P5-$H5)/$H5","v":-1},{"$f":"SUM(O5-$I5)/$I5","v":{"$error":"#DIV/0!"}},{"$f":"SUM(P5-$I5)/$I5","v":{"$error":"#DIV/0!"}},null,null,{"$f":"SUM(U5-$H5)/$H5","v":-1},{"$f":"SUM(V5-$H5)/$H5","v":-1},{"$f":"SUM(U5-$I5)/$I5","v":{"$error":"#DIV/0!"}},{"$f":"SUM(V5-$I5)/$I5","v":{"$error":"#DIV/0!"}},null,null,{"$f":"SUM(AA5-$H5)/$H5","v":-1},{"$f":"SUM(AB5-$H5)/$H5","v":-1},{"$f":"SUM(AA5-$I5)/$I5","v":{"$error":"#DIV/0!"}},{"$f":"SUM(AB5-$I5)/$I5","v":{"$error":"#DIV/0!"}},null,5000,{"$f":"ROUNDDOWN(SUM($L5*$AH5),0)","v":0},{"$f":"ROUNDDOWN(SUM($AI5*AJ$3),0)","v":0},{"$f":"ROUNDDOWN(SUM(AJ5/$H5),0)","v":0},{"$f":"ROUNDDOWN(SUM($AI5*AL$3),0)","v":0},{"$f":"ROUNDDOWN(SUM(AL5/$H5),0)","v":0},{"$f":"ROUNDDOWN(SUM($AI5*AN$3),0)","v":0},{"$f":"ROUNDDOWN(SUM(AN5/$H5),0)","v":0},{"$f":"ROUNDDOWN(SUM($AI5*AP$3),0)","v":0},{"$f":"ROUNDDOWN(SUM(AP5/$H5),0)","v":0},{"$f":"ROUNDDOWN(SUM($AI5*AR$3),0)","v":0},{"$f":"ROUNDDOWN(SUM(AR5/$H5),0)","v":0},{"$f":"ROUNDDOWN(SUM($AI5*AT$3),0)","v":0},{"$f":"ROUNDDOWN(SUM(AT5/$H5),0)","v":0},null,null,{"$f":"SumConditionColorCells(AJ5:AU5,AW$5)","v":{"$error":"#VALUE!"}}]
[{"$f":"Source!A6","v":"ZYX Core Portfolio"},{"$f":"Source!B6","v":"AAPL"},{"$f":"Source!C6","v":{"$error":"#VALUE!"}},{"$f":"Source!D6","v":"Computers, Phones & Household Electronics"},{"$f":"Source!E6","v":53.152500000000003},{"$f":"Source!F6","v":145.09},{"$f":"Source!G6","v":121.96},{"$f":"Source!H6","v":119.65},101.04,116.76,0.25,0.6,null,null,156,175,0.3038027580442958,0.46259924780610107,0.54394299287410919,0.73198733174980191,null,null,-1,-1,-1,-1,null,null,-1,-1,-1,-1,{"$f":"IF(#REF!=0,0,IF(#REF!=#REF!,#REF!-#REF!,0))","v":{"$error":"#REF!"}},{"$f":"$AH$5","v":5000},3000,900,7,750,6,600,5,450,3,210,1,90,0,null,null,{"$f":"SumConditionColorCells(AJ6:AU6,AW$5)","v":{"$error":"#VALUE!"}}]
[{"$f":"Source!A7","v":"ZYX Signal Limited"},{"$f":"Source!B7","v":"AAPL"},{"$f":"Source!C7","v":{"$error":"#VALUE!"}},{"$f":"Source!D7","v":"Computers, Phones & Household Electronics"},{"$f":"Source!E7","v":53.152500000000003},{"$f":"Source!F7","v":145.09},{"$f":"Source!G7","v":121.96},{"$f":"Source!H7","v":119.65},null,null,null,null,null,null,null,null,-1,-1,{"$error":"#DIV/0!"},{"$error":"#DIV/0!"},null,null,-1,-1,{"$error":"#DIV/0!"},{"$error":"#DIV/0!"},null,null,-1,-1,{"$error":"#DIV/0!"},{"$error":"#DIV/0!"},{"$f":"IF(#REF!=0,0,IF(#REF!=#REF!,#REF!-#REF!,0))","v":{"$error":"#REF!"}},5000,0,0,0,0,0,0,0,0,0,0,0,0,0,null,null,{"$error":"#VALUE!"}]
[{"$f":"Source!A8","v":"ZYX Signal Limited"},{"$f":"Source!B8","v":"ABNB"},{"$f":"Source!C8","v":{"$error":"#VALUE!"}},{"$f":"Source!D8","v":"Software & IT Services"},{"$f":"Source!E8","v":121.5},{"$f":"Source!F8","v":219.94},{"$f":"Source!G8","v":197.87},{"$f":"Source!H8","v":196},null,null,null,null,null,null,null,null,-1,-1,{"$error":"#DIV/0!"},{"$error":"#DIV/0!"},null,null,-1,-1,{"$error":"#DIV/0!"},{"$error":"#DIV/0!"},null,null,-1,-1,{"$error":"#DIV/0!"},{"$error":"#DIV/0!"},{"$f":"IF(#REF!=0,0,IF(#REF!=#REF!,#REF!-#REF!,0))","v":{"$error":"#REF!"}},5000,0,0,0,0,0,0,0,0,0,0,0,0,0,null,null,{"$error":"#VALUE!"}]
[{"$f":"Source!A9","v":"ZYX Signal Limited"},{"$f":"Source!B9","v":"ACAC"},{"$f":"Source!C9","v":{"$error":"#VALUE!"}},{"$f":"Source!D9","v":"Holding Companies"},{"$f":"Source!E9","v":9.7200000000000006},{"$f":"Source!F9","v":13.2},{"$f":"Source!G9","v":10.51},{"$f":"Source!H9","v":10.2707},12,13.37,null,0.15,9.18,9.6300000000000008,16.73,18.23,0.62890552737398631,0.77495204805904183,0.39416666666666672,0.51916666666666667,23,28,1.2393799838375184,1.7262017194543704,0.91666666666666663,1.3333333333333333,38,42,2.699845190688074,3.0893025791815556,2.1666666666666665,2.5,{"$f":"IF(#REF!=0,0,IF(#REF!=#REF!,#REF!-#REF!,0))","v":{"$error":"#REF!"}},5000,750,225,21,187,18,150,14,112,10,52,5,22,2,null,null,{"$error":"#VALUE!"}]
[{"$f":"Source!A10","v":"ZYX Signal Limited"},{"$f":"Source!B10","v":"AFRM"},{"$f":"Source!C10","v":{"$error":"#VALUE!"}},{"$f":"Source!D10","v":"Software & IT Services"},{"$f":"Source!E10","v":70.05},{"$f":"Source!F10","v":146.9},{"$f":"Source!G10","v":81.25},{"$f":"Source!H10","v":78.22},null,null,null,null,null,null,null,null,-1,-1,{"$error":"#DIV/0!"},{"$error":"#DIV/0!"},null,null,-1,-1,{"$error":"#DIV/0!"},{"$error":"#DIV/0!"},null,null,-1,-1,{"$error":"#DIV/0!"},{"$error":"#DIV/0!"},{"$f":"IF(#REF!=0,0,IF(#REF!=#REF!,#REF!-#REF!,0))","v":{"$error":"#REF!"}},5000,0,0,0,0,0,0,0,0,0,0,0,0,0,null,null,{"$error":"#VALUE!"}]
[{"$f":"Source!A11","v":"ZYX Signal Limited"},{"$f":"Source!B11","v":"AI"},{"$f":"Source!C11","v":{"$error":"#VALUE!"}},{"$f":"Source!D11","v":"Software & IT Services"},{"$f":"Source!E11","v":77},{"$f":"Source!F11","v":183.9},{"$f":"Source!G11","v":86.47},{"$f":"Source!H11","v":85.325000000000003},null,null,null,null,null,null,null,null,-1,-1,{"$error":"#DIV/0!"},{"$error":"#DIV/0!"},null,null,-1,-1,{"$error":"#DIV/0!"},{"$error":"#DIV/0!"},null,null,-1,-1,{"$error":"#DIV/0!"},{"$error":"#DIV/0!"},{"$f":"IF(#REF!=0,0,IF(#REF!=#REF!,#REF!-#REF!,0))","v":{"$error":"#REF!"}},5000,0,0,0,0,0,0,0,0,0,0,0,0,0,null,null,{"$error":"#VALUE!"}]
[{"$f":"Source!A12","v":"ZYX Core Portfolio"},{"$f":"Source!B12","v":"AIG"},{"$f":"Source!C12","v":{"$error":"#VALUE!"}},{"$f":"Source!D12","v":"Insurance"},{"$f":"Source!E12","v":16.07},{"$f":"Source!F12","v":48.92},{"$f":"Source!G12","v":48.01},{"$f":"Source!H12","v":48.435000000000002},33.11,38.72,0.2,0.6,null,null,75,80,0.54846701765252392,0.65169815216269222,1.265176683781335,1.4161884627000907,null,null,-1,-1,-1,-1,null,null,-1,-1,-1,-1,{"$f":"IF(#REF!=0,0,IF(#REF!=#REF!,#REF!-#REF!,0))","v":{"$error":"#REF!"}},5000,3000,900,18,750,15,600,12,450,9,210,4,90,1,null,null,{"$error":"#VALUE!"}]
[{"$f":"Source!A13","v":"ZYX Core Portfolio"},{"$f":"Source!B13","v":"AMAT"},{"$f":"Source!C13","v":{"$error":"#VALUE!"}},{"$f":"Source!D13","v":"Semiconductors & Semiconductor Equipment"},{"$f":"Source!E13","v":36.64},{"$f":"Source!F13","v":124.5},{"$f":"Source!G13","v":117.19},{"$f":"Source!H13","v":115.7199},78.52,92.13,0.2,0.45,null,null,152,166,0.313516517038124,0.43449830150216173,0.93581253183902202,1.1141110545084056,null,null,-1,-1,-1,-1,null,null,-1,-1,-1,-1,{"$f":"IF(#REF!=0,0,IF(#REF!=#REF!,#REF!-#REF!,0))","v":{"$error":"#REF!"}},5000,2250,675,5,562,4,450,3,337,2,157,1,67,0,null,null,{"$error":"#VALUE!"}]
[{"$f":"Source!A14","v":"ZYX Signal Limited"},{"$f":"Source!B14","v":"AMAT"},{"$f":"Source!C14","v":{"$error":"#VALUE!"}},{"$f":"Source!D14","v":"Semiconductors & Semiconductor Equipment"},{"$f":"Source!E14","v":36.64},{"$f":"Source!F14","v":124.5},{"$f":"Source!G14","v":117.19},{"$f":"Source!H14","v":115.7199},null,null,null,null,null,null,null,null,-1,-1,{"$error":"#DIV/0!"},{"$error":"#DIV/0!"},null,null,-1,-1,{"$error":"#DIV/0!"},{"$error":"#DIV/0!"},null,null,-1,-1,{"$error":"#DIV/0!"},{"$error":"#DIV/0!"},{"$f":"IF(#REF!=0,0,IF(#REF!=#REF!,#REF!-#REF!,0))","v":{"$error":"#REF!"}},5000,0,0,0,0,0,0,0,0,0,0,0,0,0,null,null,{"$error":"#VALUE!"}]
[{"$f":"Source!A15","v":"ZYX Signal Limited"},{"$f":"Source!B15","v":"AMCX"},{"$f":"Source!C15","v":{"$error":"#VALUE!"}},{"$f":"Source!D15","v":"Media & Publishing"},{"$f":"Source!E15","v":19.62},{"$f":"Source!F15","v":75.150000000000006},{"$f":"Source!G15","v":73.599999999999994},{"$f":"Source!H15","v":75.12},20.56,23.88,null,0.3,19,19.43,78,87,3.8338658146964792E-2,0.15814696485622995,2.7937743190661477,3.2315175097276265,null,null,-1,-1,-1,-1,null,null,-1,-1,-1,-1,{"$f":"IF(#REF!=0,0,IF(#REF!=#REF!,#REF!-#REF!,0))","v":{"$error":"#REF!"}},5000,1500,450,5,375,4,300,3,225,2,105,1,45,0,null,null,{"$error":"#VALUE!"}]
[{"$f":"Source!A16","v":"ZYX Core Portfolio"},{"$f":"Source!B16","v":"AMZN"},{"$f":"Source!C16","v":{"$error":"#VALUE!"}},{"$f":"Source!D16","v":"Diversified Retail"},{"$f":"Source!E16","v":1626.0318},{"$f":"Source!F16","v":3552.25},{"$f":"Source!G16","v":3113.5900999999999},{"$f":"Source!H16","v":3081.88},2878,3109,0.15,0.3,null,null,4200,4800,0.36280452191519458,0.55749088218879383,0.45934676858929813,0.66782487838776927,null,null,-1,-1,-1,-1,null,null,-1,-1,-1,-1,{"$f":"IF(#REF!=0,0,IF(#REF!=#REF!,#REF!-#REF!,0))","v":{"$error":"#REF!"}},5000,1500,450,0,375,0,300,0,225,0,105,0,45,0,null,null,{"$error":"#VALUE!"}]
[{"$f":"Source!A17","v":"ZYX Pot"},{"$f":"Source!B17","v":"APHA"},{"$f":"Source!C17","v":{"$error":"#VALUE!"}},{"$f":"Source!D17","v":"Pharmaceuticals"},{"$f":"Source!E17","v":1.95},{"$f":"Source!F17","v":32.29},{"$f":"Source!G17","v":19.86},{"$f":"Source!H17","v":19.100000000000001},8.51,12.78,0.2,0.3,null,null,"Suspended","Suspended",{"$error":"#VALUE!"},{"$error":"#VALUE!"},{"$error":"#VALUE!"},{"$error":"#VALUE!"},null,null,-1,-1,-1,-1,null,null,-1,-1,-1,-1,{"$f":"IF(#REF!=0,0,IF(#REF!=#REF!,#REF!-#REF!,0))","v":{"$error":"#REF!"}},5000,1500,450,23,375,19,300,15,225,11,105,5,45,2,null,null,{"$error":"#VALUE!"}]
[{"$f":"Source!A18","v":"Motley Fool"},{"$f":"Source!B18","v":"APPN"},{"$f":"Source!C18","v":{"$error":"#VALUE!"}},{"$f":"Source!D18","v":"Software & IT Services"},{"$f":"Source!E18","v":29.07},{"$f":"Source!F18","v":260},{"$f":"Source!G18","v":173.92},{"$f":"Source!H18","v":169.53},null,null,null,null,null,null,null,null,-1,-1,{"$error":"#DIV/0!"},{"$error":"#DIV/0!"},null,null,-1,-1,{"$error":"#DIV/0!"},{"$error":"#DIV/0!"},null,null,-1,-1,{"$error":"#DIV/0!"},{"$error":"#DIV/0!"},{"$f":"IF(#REF!=0,0,IF(#REF!=#REF!,#REF!-#REF!,0))","v":{"$error":"#REF!"}},5000,0,0,0,0,0,0,0,0,0,0,0,0,0,null,null,{"$error":"#VALUE!"}]
[{"$f":"Source!A19","v":"ZYX Signal Limited"},{"$f":"Source!B19","v":"APT"},{"$f":"Source!C19","v":{"$error":"#VALUE!"}},{"$f":"Source!D19","v":"Healthcare Equipment & Supplies"},{"$f":"Source!E19","v":8.56},{"$f":"Source!F19","v":25.55},{"$f":"Source!G19","v":10.43},{"$f":"Source!H19","v":10.4},null,null,null,null,null,null,null,null,-1,-1,{"$error":"#DIV/0!"},{"$error":"#DIV/0!"},null,null,-1,-1,{"$error":"#DIV/0!"},{"$error":"#DIV/0!"},null,null,-1,-1,{"$error":"#DIV/0!"},{"$error":"#DIV/0!"},{"$f":"IF(#REF!=0,0,IF(#REF!=#REF!,#REF!-#REF!,0))","v":{"$error":"#REF!"}},5000,0,0,0,0,0,0,0,0,0,0,0,0,0,null,null,{"$error":"#VALUE!"}]
[{"$f":"Source!A20","v":"ZYX Signal Limited"},{"$f":"Source!B20","v":"APXT"},{"$f":"Source!C20","v":{"$error":"#VALUE!"}},{"$f":"Source!D20","v":"Holding Companies"},{"$f":"Source!E20","v":9.125},{"$f":"Source!F20","v":17.899999999999999},{"$f":"Source!G20","v":12.76},{"$f":"Source!H20","v":12.56},null,null,null,null,null,null,null,null,-1,-1,{"$error":"#DIV/0!"},{"$error":"#DIV/0!"},null,null,-1,-1,{"$error":"#DIV/0!"},{"$error":"#DIV/0!"},null,null,-1,-1,{"$error":"#DIV/0!"},{"$error":"#DIV/0!"},{"$f":"IF(#REF!=0,0,IF(#REF!=#REF!,#REF!-#REF!,0))","v":{"$error":"#REF!"}},5000,0,0,0,0,0,0,0,0,0,0,0,0,0,null,null,{"$error":"#VALUE!"}]
[{"$f":"Source!A21","v":"ZYX Pot"},{"$f":"Source!B21","v":"ARNA"},{"$f":"Source!C21","v":{"$error":"#VALUE!"}},{"$f":"Source!D21","v":"Biotechnology & Medical Research"},{"$f":"Source!E21","v":32.950000000000003},{"$f":"Source!F21","v":90.19},{"$f":"Source!G21","v":75.66},{"$f":"Source!H21","v":75.900000000000006},46,50.57,0.1,0.25,36,39.43,110,120,0.44927536231884047,0.58102766798418959,1.3913043478260869,1.6086956521739131,null,null,-1,-1,-1,-1,null,null,-1,-1,-1,-1,{"$f":"IF(#REF!=0,0,IF(#REF!=#REF!,#REF!-#REF!,0))","v":{"$error":"#REF!"}},5000,1250,375,4,312,4,250,3,187,2,87,1,37,0,null,null,{"$error":"#VALUE!"}]
[{"$f":"Source!A22","v":"ZYX Core Portfolio"},{"$f":"Source!B22","v":"ARRY"},{"$f":"Source!C22","v":{"$error":"#VALUE!"}},{"$f":"Source!D22","v":"Renewable Energy"},{"$f":"Source!E22","v":29.05},{"$f":"Source!F22","v":54.78},{"$f":"Source!G22","v":35.07},{"$f":"Source!H22","v":34.56},36.409999999999997,40.880000000000003,0.2,0.35000000000000003,null,null,78,83,1.2569444444444442,1.4016203703703702,1.1422686075254054,1.2795935182642133,null,null,-1,-1,-1,-1,null,null,-1,-1,-1,-1,{"$f":"IF(#REF!=0,0,IF(#REF!=#REF!,#REF!-#REF!,0))","v":{"$error":"#REF!"}},5000,1750,525,15,437,12,350,10,262,7,122,3,52,1,null,null,{"$error":"#VALUE!"}]
[{"$f":"Source!A23","v":"ZYX Signal Limited"},{"$f":"Source!B23","v":"ASAN"},{"$f":"Source!C23","v":{"$error":"#VALUE!"}},{"$f":"Source!D23","v":"Software & IT Services"},{"$f":"Source!E23","v":20.57},{"$f":"Source!F23","v":43.72},{"$f":"Source!G23","v":33.94},{"$f":"Source!H23","v":32.200000000000003},null,null,null,null,null,null,null,null,-1,-1,{"$error":"#DIV/0!"},{"$error":"#DIV/0!"},null,null,-1,-1,{"$error":"#DIV/0!"},{"$error":"#DIV/0!"},null,null,-1,-1,{"$error":"#DIV/0!"},{"$error":"#DIV/0!"},{"$f":"IF(#REF!=0,0,IF(#REF!=#REF!,#REF!-#REF!,0))","v":{"$error":"#REF!"}},5000,0,0,0,0,0,0,0,0,0,0,0,0,0,null,null,{"$error":"#VALUE!"}]
[{"$f":"Source!A24","v":"ZYX Core Portfolio"},{"$f":"Source!B24","v":"BABA"},{"$f":"Source!C24","v":{"$error":"#VALUE!"}},{"$f":"Source!D24","v":"Software & IT Services"},{"$f":"Source!E24","v":169.95},{"$f":"Source!F24","v":319.32},{"$f":"Source!G24","v":240.8},{"$f":"Source!H24","v":232.15},188.13,225.67,0.3,0.55000000000000004,null,null,375,390,0.61533491277191465,0.67994830928279126,0.99330250358794459,1.0730346037314624,null,null,-1,-1,-1,-1,null,null,-1,-1,-1,-1,{"$f":"IF(#REF!=0,0,IF(#REF!=#REF!,#REF!-#REF!,0))","v":{"$error":"#REF!"}},5000,2750,825,3,687,2,550,2,412,1,192,0,82,0,null,null,{"$error":"#VALUE!"}]
[{"$f":"Source!A25","v":"ZYX Core Portfolio"},{"$f":"Source!B25","v":"BAC"},{"$f":"Source!C25","v":{"$error":"#VALUE!"}},{"$f":"Source!D25","v":"Banking Services"},{"$f":"Source!E25","v":17.95},{"$f":"Source!F25","v":38.176600000000001},{"$f":"Source!G25","v":37.24},{"$f":"Source!H25","v":37.82},24.63,28.33,0.2,0.6,null,null,47,51,0.24272871496562665,0.34849286092014808,0.90824198132358924,1.0706455542021924,null,null,-1,-1,-1,-1,null,null,-1,-1,-1,-1,{"$f":"IF(#REF!=0,0,IF(#REF!=#REF!,#REF!-#REF!,0))","v":{"$error":"#REF!"}},5000,3000,900,23,750,19,600,15,450,11,210,5,90,2,null,null,{"$error":"#VALUE!"}]
[{"$f":"Source!A26","v":"ZYX Signal Limited"},{"$f":"Source!B26","v":"BFT"},{"$f":"Source!C26","v":{"$error":"#VALUE!"}},{"$f":"Source!D26","v":"Holding Companies"},{"$f":"Source!E26","v":9.5950000000000006},{"$f":"Source!F26","v":19.566199999999998},{"$f":"Source!G26","v":14.92},{"$f":"Source!H26","v":15.05},null,null,null,null,null,null,null,null,-1,-1,{"$error":"#DIV/0!"},{"$error":"#DIV/0!"},null,null,-1,-1,{"$error":"#DIV/0!"},{"$error":"#DIV/0!"},null,null,-1,-1,{"$error":"#DIV/0!"},{"$error":"#DIV/0!"},{"$f":"IF(#REF!=0,0,IF(#REF!=#REF!,#REF!-#REF!,0))","v":{"$error":"#REF!"}},5000,0,0,0,0,0,0,0,0,0,0,0,0,0,null,null,{"$error":"#VALUE!"}]
[{"$f":"Source!A27","v":"ZYX Electric Cars"},{"$f":"Source!B27","v":"BLNK"},{"$f":"Source!C27","v":{"$error":"#VALUE!"}},{"$f":"Source!D27","v":"Electrical Utilities & IPPs"},{"$f":"Source!E27","v":1.25},{"$f":"Source!F27","v":64.5},{"$f":"Source!G27","v":41.4},{"$f":"Source!H27","v":39.344999999999999},null,null,null,null,null,null,null,null,-1,-1,{"$error":"#DIV/0!"},{"$error":"#DIV/0!"},null,null,-1,-1,{"$error":"#DIV/0!"},{"$error":"#DIV/0!"},null,null,-1,-1,{"$error":"#DIV/0!"},{"$error":"#DIV/0!"},{"$f":"IF(#REF!=0,0,IF(#REF!=#REF!,#REF!-#REF!,0))","v":{"$error":"#REF!"}},5000,0,0,0,0,0,0,0,0,0,0,0,0,0,null,null,{"$error":"#VALUE!"}]
[{"$f":"Source!A28","v":"ZYX Signal Limited"},{"$f":"Source!B28","v":"BMBL"},{"$f":"Source!C28","v":"BMBL"},{"$f":"Source!D28","v":{"$error":"#VALUE!"}},{"$f":"Source!E28","v":{"$error":"#VALUE!"}},{"$f":"Source!F28","v":{"$error":"#VALUE!"}},{"$f":"Source!G28","v":{"$error":"#VALUE!"}},{"$f":"Source!H28","v":70.31},52,61.56,null,0.2,42.68,42.93,73,81,3.8259138102688064E-2,0.1520409614564073,0.40384615384615385,0.55769230769230771,null,null,-1,-1,-1,-1,null,null,-1,-1,-1,-1,{"$f":"IF(#REF!=0,0,IF(#REF!=#REF!,#REF!-#REF!,0))","v":{"$error":"#REF!"}},5000,1000,300,4,250,3,200,2,150,2,70,0,30,0,null,null,{"$error":"#VALUE!"}]
[{"$f":"Source!A29","v":"ZYX Core Portfolio"},{"$f":"Source!B29","v":"BMY"},{"$f":"Source!C29","v":{"$error":"#VALUE!"}},{"$f":"Source!D29","v":"Pharmaceuticals"},{"$f":"Source!E29","v":45.76},{"$f":"Source!F29","v":67.159899999999993},{"$f":"Source!G29","v":60.35},{"$f":"Source!H29","v":60.755000000000003},57.7,60.77,0.25,0.4,null,null,100,110,0.64595506542671377,0.81055057196938518,0.73310225303292886,0.90641247833622174,null,null,-1,-1,-1,-1,null,null,-1,-1,-1,-1,{"$f":"IF(#REF!=0,0,IF(#REF!=#REF!,#REF!-#REF!,0))","v":{"$error":"#REF!"}},5000,2000,600,9,500,8,400,6,300,4,140,2,60,0,null,null,{"$error":"#VALUE!"}]
[{"$f":"Source!A30","v":"ZYX Signal Limited"},{"$f":"Source!B30","v":"BNGO"},{"$f":"Source!C30","v":{"$error":"#VALUE!"}},{"$f":"Source!D30","v":"Healthcare Equipment & Supplies"},{"$f":"Source!E30","v":0.25},{"$f":"Source!F30","v":15.69},{"$f":"Source!G30","v":9.5299999999999994},{"$f":"Source!H30","v":9.15},null,null,null,null,null,null,null,null,-1,-1,{"$error":"#DIV/0!"},{"$error":"#DIV/0!"},null,null,-1,-1,{"$error":"#DIV/0!"},{"$error":"#DIV/0!"},null,null,-1,-1,{"$error":"#DIV/0!"},{"$error":"#DIV/0!"},null,5000,0,0,0,0,0,0,0,0,0,0,0,0,0,null,null,{"$error":"#VALUE!"}]
[{"$f":"Source!A31","v":"ZYX Core Portfolio"},{"$f":"Source!B31","v":"BSX"},{"$f":"Source!C31","v":{"$error":"#VALUE!"}},{"$f":"Source!D31","v":"Healthcare Equipment & Supplies"},{"$f":"Source!E31","v":24.1},{"$f":"Source!F31","v":42.37},{"$f":"Source!G31","v":38.65},{"$f":"Source!H31","v":38.74},32.869999999999997,35.11,0.25,0.4,null,null,57,62,0.47134744450180682,0.60041300980898293,0.7341040462427747,0.88621843626407071,null,null,-1,-1,-1,-1,null,null,-1,-1,-1,-1,{"$f":"IF(#REF!=0,0,IF(#REF!=#REF!,#REF!-#REF!,0))","v":{"$error":"#REF!"}},5000,2000,600,15,500,12,400,10,300,7,140,3,60,1,null,null,{"$error":"#VALUE!"}]
[{"$f":"Source!A32","v":"ZYX Trade Around"},{"$f":"Source!B32","v":"CAPA"},{"$f":"Source!C32","v":{"$error":"#VALUE!"}},{"$f":"Source!D32","v":"Holding Companies"},{"$f":"Source!E32","v":9.8800000000000008},{"$f":"Source!F32","v":25},{"$f":"Source!G32","v":13.64},{"$f":"Source!H32","v":13.2},10,13.35,null,0.2,9,9.43,28,33,1.1212121212121213,1.5000000000000002,1.8,2.2999999999999998,58,62,3.393939393939394,3.6969696969696968,4.8,5.2,107,125,7.1060606060606064,8.4696969696969706,9.6999999999999993,11.5,{"$f":"IF(#REF!=0,0,IF(#REF!=#REF!,#REF!-#REF!,0))","v":{"$error":"#REF!"}},5000,1000,300,22,250,18,200,15,150,11,70,5,30,2,null,null,{"$error":"#VALUE!"}]
[{"$f":"Source!A33","v":"ZYX Signal Limited"},{"$f":"Source!B33","v":"CAPA"},{"$f":"Source!C33","v":{"$error":"#VALUE!"}},{"$f":"Source!D33","v":"Holding Companies"},{"$f":"Source!E33","v":9.8800000000000008},{"$f":"Source!F33","v":25},{"$f":"Source!G33","v":13.64},{"$f":"Source!H33","v":13.2},10,13.35,null,0.2,9,9.43,28,33,1.1212121212121213,1.5000000000000002,1.8,2.2999999999999998,58,62,3.393939393939394,3.6969696969696968,4.8,5.2,107,125,7.1060606060606064,8.4696969696969706,9.6999999999999993,11.5,{"$f":"IF(#REF!=0,0,IF(#REF!=#REF!,#REF!-#REF!,0))","v":{"$error":"#REF!"}},5000,1000,300,22,250,18,200,15,150,11,70,5,30,2,null,null,{"$error":"#VALUE!"}]
[{"$f":"Source!A34","v":"ZYX Core Portfolio"},{"$f":"Source!B34","v":"CCL"},{"$f":"Source!C34","v":{"$error":"#VALUE!"}},{"$f":"Source!D34","v":"Hotels & Entertainment Services"},{"$f":"Source!E34","v":7.8},{"$f":"Source!F34","v":29.59},{"$f":"Source!G34","v":27.47},{"$f":"Source!H34","v":27.925000000000001},17.11,21.56,0.35000000000000003,0.55000000000000004,null,null,67,75,1.3992837958818265,1.6857654431512983,2.9158386908240796,3.3834015195791936,null,null,-1,-1,-1,-1,null,null,-1,-1,-1,-1,{"$f":"IF(#REF!=0,0,IF(#REF!=#REF!,#REF!-#REF!,0))","v":{"$error":"#REF!"}},5000,2750,825,29,687,24,550,19,412,14,192,6,82,2,null,null,{"$error":"#VALUE!"}]
[{"$f":"Source!A35","v":"ZYX Signal Limited"},{"$f":"Source!B35","v":"CERT"},{"$f":"Source!C35","v":{"$error":"#VALUE!"}},{"$f":"Source!D35","v":"Software & IT Services"},{"$f":"Source!E35","v":24.9},{"$f":"Source!F35","v":41.79},{"$f":"Source!G35","v":27},{"$f":"Source!H35","v":26.83},null,null,null,null,null,null,null,null,-1,-1,{"$error":"#DIV/0!"},{"$error":"#DIV/0!"},null,null,-1,-1,{"$error":"#DIV/0!"},{"$error":"#DIV/0!"},null,null,-1,-1,{"$error":"#DIV/0!"},{"$error":"#DIV/0!"},{"$f":"IF(#REF!=0,0,IF(#REF!=#REF!,#REF!-#REF!,0))","v":{"$error":"#REF!"}},5000,0,0,0,0,0,0,0,0,0,0,0,0,0,null,null,{"$error":"#VALUE!"}]
[{"$f":"Source!A36","v":"ZYX Pot"},{"$f":"Source!B36","v":"CGC"},{"$f":"Source!C36","v":{"$error":"#VALUE!"}},{"$f":"Source!D36","v":"Pharmaceuticals"},{"$f":"Source!E36","v":9},{"$f":"Source!F36","v":56.496499999999997},{"$f":"Source!G36","v":34.28},{"$f":"Source!H36","v":33.219900000000003},27.26,34.51,0.2,0.4,null,null,117,130,2.5219853160304515,2.9133170178116128,3.292002934702861,3.7688921496698455,null,null,-1,-1,-1,-1,null,null,-1,-1,-1,-1,{"$f":"IF(#REF!=0,0,IF(#REF!=#REF!,#REF!-#REF!,0))","v":{"$error":"#REF!"}},5000,2000,600,18,500,15,400,12,300,9,140,4,60,1]
[{"$f":"Source!A37","v":"ZYX Core Portfolio"},{"$f":"Source!B37","v":"CGC"},{"$f":"Source!C37","v":{"$error":"#VALUE!"}},{"$f":"Source!D37","v":"Pharmaceuticals"},{"$f":"Source!E37","v":9},{"$f":"Source!F37","v":56.496499999999997},{"$f":"Source!G37","v":34.28},{"$f":"Source!H37","v":33.219900000000003},26.13,30.31,0.2,0.4,null,null,66,74,{"$f":"SUM(O37-$H37)/$H37","v":0.98676094750435717},{"$f":"SUM(P37-$H37)/$H37","v":1.2275804562927641},{"$f":"SUM(O37-$I37)/$I37","v":1.5258323765786455},{"$f":"SUM(P37-$I37)/$I37","v":1.8319938767699964},null,null,{"$f":"SUM(U37-$H37)/$H37","v":-1},{"$f":"SUM(V37-$H37)/$H37","v":-1},{"$f":"SUM(U37-$I37)/$I37","v":-1},{"$f":"SUM(V37-$I37)/$I37","v":-1},null,null,{"$f":"SUM(AA37-$H37)/$H37","v":-1},{"$f":"SUM(AB37-$H37)/$H37","v":-1},{"$f":"SUM(AA37-$I37)/$I37","v":-1},{"$f":"SUM(AB37-$I37)/$I37","v":-1},{"$f":"IF(#REF!=0,0,IF(#REF!=#REF!,#REF!-#REF!,0))","v":{"$error":"#REF!"}},5000,{"$f":"ROUNDDOWN(SUM($L37*$AH37),0)","v":2000},{"$f":"ROUNDDOWN(SUM($AI37*AJ$3),0)","v":600},{"$f":"ROUNDDOWN(SUM(AJ37/$H37),0)","v":18},{"$f":"ROUNDDOWN(SUM($AI37*AL$3),0)","v":500},{"$f":"ROUNDDOWN(SUM(AL37/$H37),0)","v":15},{"$f":"ROUNDDOWN(SUM($AI37*AN$3),0)","v":400},{"$f":"ROUNDDOWN(SUM(AN37/$H37),0)","v":12},{"$f":"ROUNDDOWN(SUM($AI37*AP$3),0)","v":300},{"$f":"ROUNDDOWN(SUM(AP37/$H37),0)","v":9},{"$f":"ROUNDDOWN(SUM($AI37*AR$3),0)","v":140},{"$f":"ROUNDDOWN(SUM(AR37/$H37),0)","v":4},{"$f":"ROUNDDOWN(SUM($AI37*AT$3),0)","v":60},{"$f":"ROUNDDOWN(SUM(AT37/$H37),0)","v":1}]
[{"$f":"Source!A38","v":"ZYX Core Portfolio"},{"$f":"Source!B38","v":"CIEN"},{"$f":"Source!C38","v":{"$error":"#VALUE!"}},{"$f":"Source!D38","v":"Communications & Networking"},{"$f":"Source!E38","v":30.58},{"$f":"Source!F38","v":61.515000000000001},{"$f":"Source!G38","v":53.26},{"$f":"Source!H38","v":53.5},42.52,47.63,0.25,0.4,28,29.43,76,82,0.42056074766355139,0.53271028037383172,0.7873941674506113,0.9285042333019754,null,null,-1,-1,-1,-1,null,null,-1,-1,-1,-1,{"$f":"IF(#REF!=0,0,IF(#REF!=#REF!,#REF!-#REF!,0))","v":{"$error":"#REF!"}},{"$f":"$AH$5","v":5000},2000,600,11,500,9,400,7,300,5,140,2,60,1]
[{"$f":"Source!A39","v":"ZYX Core Portfolio"},{"$f":"Source!B39","v":"CLF"},{"$f":"Source!C39","v":{"$error":"#VALUE!"}},{"$f":"Source!D39","v":"Metals & Mining"},{"$f":"Source!E39","v":2.63},{"$f":"Source!F39","v":18.77},{"$f":"Source!G39","v":16.899999999999999},{"$f":"Source!H39","v":17.079999999999998},10.130000000000001,12.57,0.15,0.25,8.73,9.18,22,26,0.28805620608899313,0.52224824355971911,1.1717670286278379,1.5666337611056267,null,null,-1,-1,-1,-1,null,null,-1,-1,-1,-1,{"$f":"IF(#REF!=0,0,IF(#REF!=#REF!,#REF!-#REF!,0))","v":{"$error":"#REF!"}},5000,1250,375,21,312,18,250,14,187,10,87,5,37,2]
[{"$f":"Source!A40","v":"ZYX Electric Cars"},{"$f":"Source!B40","v":"CLII"},{"$f":"Source!C40","v":{"$error":"#VALUE!"}},{"$f":"Source!D40","v":"Holding Companies"},{"$f":"Source!E40","v":9.7460000000000004},{"$f":"Source!F40","v":24.34},{"$f":"Source!G40","v":14.36},{"$f":"Source!H40","v":13.95},null,null,null,null,null,null,null,null,-1,-1,{"$error":"#DIV/0!"},{"$error":"#DIV/0!"},null,null,-1,-1,{"$error":"#DIV/0!"},{"$error":"#DIV/0!"},null,null,-1,-1,{"$error":"#DIV/0!"},{"$error":"#DIV/0!"},{"$f":"IF(#REF!=0,0,IF(#REF!=#REF!,#REF!-#REF!,0))","v":{"$error":"#REF!"}},5000,0,0,0,0,0,0,0,0,0,0,0,0,0]
[{"$f":"Source!A41","v":"ZYX Signal Limited"},{"$f":"Source!B41","v":"CLVS"},{"$f":"Source!C41","v":{"$error":"#VALUE!"}},{"$f":"Source!D41","v":"Biotechnology & Medical Research"},{"$f":"Source!E41","v":3.62},{"$f":"Source!F41","v":11.1},{"$f":"Source!G41","v":6.25},{"$f":"Source!H41","v":6.0589000000000004},null,null,null,null,null,null,null,null,-1,-1,{"$error":"#DIV/0!"},{"$error":"#DIV/0!"},null,null,-1,-1,{"$error":"#DIV/0!"},{"$error":"#DIV/0!"},null,null,-1,-1,{"$error":"#DIV/0!"},{"$error":"#DIV/0!"},{"$f":"IF(#REF!=0,0,IF(#REF!=#REF!,#REF!-#REF!,0))","v":{"$error":"#REF!"}},5000,0,0,0,0,0,0,0,0,0,0,0,0,0]
[{"$f":"Source!A42","v":"ZYX Core Portfolio"},{"$f":"Source!B42","v":"CNC"},{"$f":"Source!C42","v":{"$error":"#VALUE!"}},{"$f":"Source!D42","v":"Healthcare Providers & Services"},{"$f":"Source!E42","v":43.96},{"$f":"Source!F42","v":74.7},{"$f":"Source!G42","v":61.89},{"$f":"Source!H42","v":62.11},57.31,62.36,0.25,0.5,null,null,105,114,0.69054902592175171,0.83545322814361622,0.832140987611237,0.98918164369220019,null,null,-1,-1,-1,-1,null,null,-1,-1,-1,-1,{"$f":"IF(#REF!=0,0,IF(#REF!=#REF!,#REF!-#REF!,0))","v":{"$error":"#REF!"}},5000,2500,750,12,625,10,500,8,375,6,175,2,75,1]
[{"$f":"Source!A43","v":"ZYX Signal Limited"},{"$f":"Source!B43","v":"COIN"},{"$f":"Source!C43","v":"COIN"},{"$f":"Source!D43","v":{"$error":"#VALUE!"}},{"$f":"Source!E43","v":{"$error":"#VALUE!"}},{"$f":"Source!F43","v":{"$error":"#VALUE!"}},{"$f":"Source!G43","v":{"$error":"#VALUE!"}},{"$f":"Source!H43","v":{"$error":"#VALUE!"}},null,null,null,0.5,null,null,null,null,{"$error":"#VALUE!"},{"$error":"#VALUE!"},{"$error":"#DIV/0!"},{"$error":"#DIV/0!"},null,null,{"$error":"#VALUE!"},{"$error":"#VALUE!"},{"$error":"#DIV/0!"},{"$error":"#DIV/0!"},null,null,{"$error":"#VALUE!"},{"$error":"#VALUE!"},{"$error":"#DIV/0!"},{"$error":"#DIV/0!"},{"$f":"IF(#REF!=0,0,IF(#REF!=#REF!,#REF!-#REF!,0))","v":{"$error":"#REF!"}},5000,2500,750,{"$error":"#VALUE!"},625,{"$error":"#VALUE!"},500,{"$error":"#VALUE!"},375,{"$error":"#VALUE!"},175,{"$error":"#VALUE!"},75,{"$error":"#VALUE!"}]
[{"$f":"Source!A44","v":"ZYX Pot"},{"$f":"Source!B44","v":"CRLBF"},{"$f":"Source!C44","v":{"$error":"#VALUE!"}},{"$f":"Source!D44","v":"Pharmaceuticals"},{"$f":"Source!E44","v":1.94},{"$f":"Source!F44","v":17.491099999999999},{"$f":"Source!G44","v":13.4278},{"$f":"Source!H44","v":13.2525},10.36,12.78,0.15,0.3,null,null,23,26,0.73552159969817021,0.96189398226749678,1.2200772200772203,1.5096525096525097,null,null,-1,-1,-1,-1,null,null,-1,-1,-1,-1,{"$f":"IF(#REF!=0,0,IF(#REF!=#REF!,#REF!-#REF!,0))","v":{"$error":"#REF!"}},5000,1500,450,33,375,28,300,22,225,16,105,7,45,3]
[{"$f":"Source!A45","v":"ZYX Pot"},{"$f":"Source!B45","v":"CRON"},{"$f":"Source!C45","v":{"$error":"#VALUE!"}},{"$f":"Source!D45","v":"Pharmaceuticals"},{"$f":"Source!E45","v":4},{"$f":"Source!F45","v":15.83},{"$f":"Source!G45","v":10.48},{"$f":"Source!H45","v":10.14},8.6199999999999992,10.51,0.15,0.2,null,null,31,33,2.0571992110453645,2.254437869822485,2.5962877030162419,2.8283062645011605,null,null,-1,-1,-1,-1,null,null,-1,-1,-1,-1,{"$f":"IF(#REF!=0,0,IF(#REF!=#REF!,#REF!-#REF!,0))","v":{"$error":"#REF!"}},5000,1000,300,29,250,24,200,19,150,14,70,6,30,2]
[{"$f":"Source!A46","v":"ZYX Pot"},{"$f":"Source!B46","v":"CURLF"},{"$f":"Source!C46","v":{"$error":"#VALUE!"}},{"$f":"Source!D46","v":"Pharmaceuticals"},{"$f":"Source!E46","v":2.54},{"$f":"Source!F46","v":18.38},{"$f":"Source!G46","v":15.6},{"$f":"Source!H46","v":15.53},11.52,14.51,0.15,0.25,null,null,34,38,1.189311010946555,1.446877012234385,1.9513888888888891,2.2986111111111112,null,null,-1,-1,-1,-1,null,null,-1,-1,-1,-1,{"$f":"IF(#REF!=0,0,IF(#REF!=#REF!,#REF!-#REF!,0))","v":{"$error":"#REF!"}},5000,1250,375,24,312,20,250,16,187,12,87,5,37,2]
[{"$f":"Source!A47","v":"ZYX Signal Limited"},{"$f":"Source!B47","v":"DASH"},{"$f":"Source!C47","v":{"$error":"#VALUE!"}},{"$f":"Source!D47","v":"Software & IT Services"},{"$f":"Source!E47","v":130},{"$f":"Source!F47","v":256.08999999999997},{"$f":"Source!G47","v":144.97},{"$f":"Source!H47","v":141.44},null,null,null,null,null,null,null,null,-1,-1,{"$error":"#DIV/0!"},{"$error":"#DIV/0!"},null,null,-1,-1,{"$error":"#DIV/0!"},{"$error":"#DIV/0!"},null,null,-1,-1,{"$error":"#DIV/0!"},{"$error":"#DIV/0!"},{"$f":"IF(#REF!=0,0,IF(#REF!=#REF!,#REF!-#REF!,0))","v":{"$error":"#REF!"}},5000,0,0,0,0,0,0,0,0,0,0,0,0,0]
[{"$f":"Source!A48","v":"ZYX Core Portfolio"},{"$f":"Source!B48","v":"DIS"},{"$f":"Source!C48","v":{"$error":"#VALUE!"}},{"$f":"Source!D48","v":"Media & Publishing"},{"$f":"Source!E48","v":79.069999999999993},{"$f":"Source!F48","v":203.02},{"$f":"Source!G48","v":196.75},{"$f":"Source!H48","v":195.62},149.02000000000001,168.88,0.35000000000000003,0.65,null,null,310,325,0.58470504038441873,0.66138431653205187,1.0802576835324116,1.1809153133807542,null,null,-1,-1,-1,-1,null,null,-1,-1,-1,-1,{"$f":"IF(#REF!=0,0,IF(#REF!=#REF!,#REF!-#REF!,0))","v":{"$error":"#REF!"}},5000,3250,975,4,812,4,650,3,487,2,227,1,97,0]
[{"$f":"Source!A49","v":"ZYX Signal Limited"},{"$f":"Source!B49","v":"DIS"},{"$f":"Source!C49","v":{"$error":"#VALUE!"}},{"$f":"Source!D49","v":"Media & Publishing"},{"$f":"Source!E49","v":79.069999999999993},{"$f":"Source!F49","v":203.02},{"$f":"Source!G49","v":196.75},{"$f":"Source!H49","v":195.62},149.02000000000001,168.88,0.35000000000000003,0.65,null,null,310,325,0.58470504038441873,0.66138431653205187,1.0802576835324116,1.1809153133807542,null,null,-1,-1,-1,-1,null,null,-1,-1,-1,-1,{"$f":"IF(#REF!=0,0,IF(#REF!=#REF!,#REF!-#REF!,0))","v":{"$error":"#REF!"}},5000,3250,975,4,812,4,650,3,487,2,227,1,97,0]
[{"$f":"Source!A50","v":"ZYX Signal Limited"},{"$f":"Source!B50","v":"DNN"},{"$f":"Source!C50","v":{"$error":"#VALUE!"}},{"$f":"Source!D50","v":"Uranium"},{"$f":"Source!E50","v":0.19},{"$f":"Source!F50","v":1.8049999999999999},{"$f":"Source!G50","v":1.04},{"$f":"Source!H50","v":1.0549999999999999},0.91,1.1299999999999999,null,0.05,0.78,0.88,1.5,3,0.42180094786729866,1.8436018957345974,0.64835164835164827,2.2967032967032965,null,null,-1,-1,-1,-1,null,null,-1,-1,-1,-1,{"$f":"IF(#REF!=0,0,IF(#REF!=#REF!,#REF!-#REF!,0))","v":{"$error":"#REF!"}},5000,250,75,71,62,58,50,47,37,35,17,16,7,6]
[{"$f":"Source!A51","v":"ZYX Core Portfolio"},{"$f":"Source!B51","v":"EA"},{"$f":"Source!C51","v":{"$error":"#VALUE!"}},{"$f":"Source!D51","v":"Software & IT Services"},{"$f":"Source!E51","v":85.69},{"$f":"Source!F51","v":150.30000000000001},{"$f":"Source!G51","v":131.34},{"$f":"Source!H51","v":130.38999999999999},121.34,132.87,0.2,0.35000000000000003,null,null,215,226,0.64889945547971484,0.73326175320193288,0.77188066589747806,0.86253502554804673,null,null,-1,-1,-1,-1,null,null,-1,-1,-1,-1,{"$f":"IF(#REF!=0,0,IF(#REF!=#REF!,#REF!-#REF!,0))","v":{"$error":"#REF!"}},5000,1750,525,4,437,3,350,2,262,2,122,0,52,0]
[{"$f":"Source!A52","v":"Motley Fool"},{"$f":"Source!B52","v":"ESTC"},{"$f":"Source!C52","v":{"$error":"#VALUE!"}},{"$f":"Source!D52","v":"Software & IT Services"},{"$f":"Source!E52","v":39.01},{"$f":"Source!F52","v":176.49},{"$f":"Source!G52","v":118.67},{"$f":"Source!H52","v":116.39},null,null,null,null,null,null,null,null,-1,-1,{"$error":"#DIV/0!"},{"$error":"#DIV/0!"},null,null,-1,-1,{"$error":"#DIV/0!"},{"$error":"#DIV/0!"},null,null,-1,-1,{"$error":"#DIV/0!"},{"$error":"#DIV/0!"},{"$f":"IF(#REF!=0,0,IF(#REF!=#REF!,#REF!-#REF!,0))","v":{"$error":"#REF!"}},5000,0,0,0,0,0,0,0,0,0,0,0,0,0]
[{"$f":"Source!A53","v":"ZYX Signal Limited"},{"$f":"Source!B53","v":"EVRG"},{"$f":"Source!C53","v":{"$error":"#VALUE!"}},{"$f":"Source!D53","v":"Electrical Utilities & IPPs"},{"$f":"Source!E53","v":42.010100000000001},{"$f":"Source!F53","v":65.430000000000007},{"$f":"Source!G53","v":56.76},{"$f":"Source!H53","v":57.21},null,null,null,null,null,null,null,null,-1,-1,{"$error":"#DIV/0!"},{"$error":"#DIV/0!"},null,null,-1,-1,{"$error":"#DIV/0!"},{"$error":"#DIV/0!"},null,null,-1,-1,{"$error":"#DIV/0!"},{"$error":"#DIV/0!"},{"$f":"IF(#REF!=0,0,IF(#REF!=#REF!,#REF!-#REF!,0))","v":{"$error":"#REF!"}},5000,0,0,0,0,0,0,0,0,0,0,0,0,0]
[{"$f":"Source!A54","v":"ZYX Signal Limited"},{"$f":"Source!B54","v":"EXPC"},{"$f":"Source!C54","v":{"$error":"#VALUE!"}},{"$f":"Source!D54","v":"Holding Companies"},{"$f":"Source!E54","v":9.2799999999999994},{"$f":"Source!F54","v":19.88},{"$f":"Source!G54","v":13.4},{"$f":"Source!H54","v":12.72},null,null,null,null,null,null,null,null,-1,-1,{"$error":"#DIV/0!"},{"$error":"#DIV/0!"},null,null,-1,-1,{"$error":"#DIV/0!"},{"$error":"#DIV/0!"},null,null,-1,-1,{"$error":"#DIV/0!"},{"$error":"#DIV/0!"},{"$f":"IF(#REF!=0,0,IF(#REF!=#REF!,#REF!-#REF!,0))","v":{"$error":"#REF!"}},5000,0,0,0,0,0,0,0,0,0,0,0,0,0]
[{"$f":"Source!A55","v":"ZYX Signal Limited"},{"$f":"Source!B55","v":"F"},{"$f":"Source!C55","v":{"$error":"#VALUE!"}},{"$f":"Source!D55","v":"Automobiles & Auto Parts"},{"$f":"Source!E55","v":3.96},{"$f":"Source!F55","v":13.0594},{"$f":"Source!G55","v":12.81},{"$f":"Source!H55","v":12.914999999999999},null,null,null,null,null,null,null,null,-1,-1,{"$error":"#DIV/0!"},{"$error":"#DIV/0!"},null,null,-1,-1,{"$error":"#DIV/0!"},{"$error":"#DIV/0!"},null,null,-1,-1,{"$error":"#DIV/0!"},{"$error":"#DIV/0!"},{"$f":"IF(#REF!=0,0,IF(#REF!=#REF!,#REF!-#REF!,0))","v":{"$error":"#REF!"}},5000,0,0,0,0,0,0,0,0,0,0,0,0,0]
[{"$f":"Source!A56","v":"ZYX Core Portfolio"},{"$f":"Source!B56","v":"FB"},{"$f":"Source!C56","v":{"$error":"#VALUE!"}},{"$f":"Source!D56","v":"Software & IT Services"},{"$f":"Source!E56","v":137.10059999999999},{"$f":"Source!F56","v":304.67},{"$f":"Source!G56","v":273.88},{"$f":"Source!H56","v":267.26},"Suspended","Suspended",0.3,0.5,null,null,360,385,0.34700291850632348,0.44054478784704038,{"$error":"#VALUE!"},{"$error":"#VALUE!"},null,null,-1,-1,{"$error":"#VALUE!"},{"$error":"#VALUE!"},null,null,-1,-1,{"$error":"#VALUE!"},{"$error":"#VALUE!"},{"$f":"IF(#REF!=0,0,IF(#REF!=#REF!,#REF!-#REF!,0))","v":{"$error":"#REF!"}},5000,2500,750,2,625,2,500,1,375,1,175,0,75,0]
[{"$f":"Source!A57","v":"ZYX Electric Cars"},{"$f":"Source!B57","v":"FCEL"},{"$f":"Source!C57","v":{"$error":"#VALUE!"}},{"$f":"Source!D57","v":"Renewable Energy"},{"$f":"Source!E57","v":1},{"$f":"Source!F57","v":29.439599999999999},{"$f":"Source!G57","v":18.36},{"$f":"Source!H57","v":17.53},null,null,null,null,null,null,null,null,-1,-1,{"$error":"#DIV/0!"},{"$error":"#DIV/0!"},null,null,-1,-1,{"$error":"#DIV/0!"},{"$error":"#DIV/0!"},null,null,-1,-1,{"$error":"#DIV/0!"},{"$error":"#DIV/0!"},{"$f":"IF(#REF!=0,0,IF(#REF!=#REF!,#REF!-#REF!,0))","v":{"$error":"#REF!"}},5000,0,0,0,0,0,0,0,0,0,0,0,0,0]
[{"$f":"Source!A58","v":"ZYX Core Portfolio"},{"$f":"Source!B58","v":"FCX"},{"$f":"Source!C58","v":{"$error":"#VALUE!"}},{"$f":"Source!D58","v":"Metals & Mining"},{"$f":"Source!E58","v":4.82},{"$f":"Source!F58","v":39.1},{"$f":"Source!G58","v":37.47},{"$f":"Source!H58","v":37.1},16,22.87,0.15,0.25,null,null,33,37.5,-0.11051212938005395,1.078167115902961E-2,1.0625,1.34375,null,null,-1,-1,-1,-1,null,null,-1,-1,-1,-1,{"$f":"IF(#REF!=0,0,IF(#REF!=#REF!,#REF!-#REF!,0))","v":{"$error":"#REF!"}},5000,1250,375,10,312,8,250,6,187,5,87,2,37,0]
[{"$f":"Source!A59","v":"ZYX Core Portfolio"},{"$f":"Source!B59","v":"FFXDF"},{"$f":"Source!C59","v":{"$error":"#VALUE!"}},{"$f":"Source!D59","v":"Holding Companies"},{"$f":"Source!E59","v":5.3705999999999996},{"$f":"Source!F59","v":13.26},{"$f":"Source!G59","v":12.494},{"$f":"Source!H59","v":12.548},7.57,9.31,0.25,0.35000000000000003,null,null,18,22,0.43449155243863563,0.75326745298055464,1.3778071334214002,1.9062087186261558,null,null,-1,-1,-1,-1,null,null,-1,-1,-1,-1,{"$f":"IF(#REF!=0,0,IF(#REF!=#REF!,#REF!-#REF!,0))","v":{"$error":"#REF!"}},5000,1750,525,41,437,34,350,27,262,20,122,9,52,4]
[{"$f":"Source!A60","v":"Motley Fool"},{"$f":"Source!B60","v":"FSLY"},{"$f":"Source!C60","v":{"$error":"#VALUE!"}},{"$f":"Source!D60","v":"Software & IT Services"},{"$f":"Source!E60","v":10.63},{"$f":"Source!F60","v":136.5},{"$f":"Source!G60","v":75.44},{"$f":"Source!H60","v":73.25},null,null,null,null,null,null,null,null,-1,-1,{"$error":"#DIV/0!"},{"$error":"#DIV/0!"},null,null,-1,-1,{"$error":"#DIV/0!"},{"$error":"#DIV/0!"},null,null,-1,-1,{"$error":"#DIV/0!"},{"$error":"#DIV/0!"},{"$f":"IF(#REF!=0,0,IF(#REF!=#REF!,#REF!-#REF!,0))","v":{"$error":"#REF!"}},5000,0,0,0,0,0,0,0,0,0,0,0,0,0]
[{"$f":"Source!A61","v":"ZYX Core Portfolio"},{"$f":"Source!B61","v":"GAN"},{"$f":"Source!C61","v":{"$error":"#VALUE!"}},{"$f":"Source!D61","v":"Software & IT Services"},{"$f":"Source!E61","v":0.65},{"$f":"Source!F61","v":3.35},{"$f":"Source!G61","v":2.9},{"$f":"Source!H61","v":2.85},13.56,17.670000000000002,0.2,0.35000000000000003,null,null,73,78,24.614035087719298,26.368421052631579,4.3834808259587019,4.7522123893805306,null,null,-1,-1,-1,-1,null,null,-1,-1,-1,-1,{"$f":"IF(#REF!=0,0,IF(#REF!=#REF!,#REF!-#REF!,0))","v":{"$error":"#REF!"}},5000,1750,525,184,437,153,350,122,262,91,122,42,52,18]
[{"$f":"Source!A62","v":"ZYX Signal Limited"},{"$f":"Source!B62","v":"GBT"},{"$f":"Source!C62","v":{"$error":"#VALUE!"}},{"$f":"Source!D62","v":"Biotechnology & Medical Research"},{"$f":"Source!E62","v":36.49},{"$f":"Source!F62","v":83.69},{"$f":"Source!G62","v":42.9},{"$f":"Source!H62","v":43.12},null,null,null,null,null,null,null,null,-1,-1,{"$error":"#DIV/0!"},{"$error":"#DIV/0!"},null,null,-1,-1,{"$error":"#DIV/0!"},{"$error":"#DIV/0!"},null,null,-1,-1,{"$error":"#DIV/0!"},{"$error":"#DIV/0!"},{"$f":"IF(#REF!=0,0,IF(#REF!=#REF!,#REF!-#REF!,0))","v":{"$error":"#REF!"}},5000,0,0,0,0,0,0,0,0,0,0,0,0,0]
[{"$f":"Source!A63","v":"ZYX Electric Cars"},{"$f":"Source!B63","v":"GEVO"},{"$f":"Source!C63","v":{"$error":"#VALUE!"}},{"$f":"Source!D63","v":"Renewable Energy"},{"$f":"Source!E63","v":0.46},{"$f":"Source!F63","v":15.57},{"$f":"Source!G63","v":9.65},{"$f":"Source!H63","v":9.52},null,null,null,null,null,null,null,null,-1,-1,{"$error":"#DIV/0!"},{"$error":"#DIV/0!"},null,null,-1,-1,{"$error":"#DIV/0!"},{"$error":"#DIV/0!"},null,null,-1,-1,{"$error":"#DIV/0!"},{"$error":"#DIV/0!"},{"$f":"IF(#REF!=0,0,IF(#REF!=#REF!,#REF!-#REF!,0))","v":{"$error":"#REF!"}},5000,0,0,0,0,0,0,0,0,0,0,0,0,0]
[{"$f":"Source!A64","v":"ZYX Signal Limited"},{"$f":"Source!B64","v":"GIK"},{"$f":"Source!C64","v":{"$error":"#VALUE!"}},{"$f":"Source!D64","v":"Holding Companies"},{"$f":"Source!E64","v":9.7940000000000005},{"$f":"Source!F64","v":17.36},{"$f":"Source!G64","v":11.57},{"$f":"Source!H64","v":12.28},11.28,13.66,null,0.2,9.43,10.38,15.43,17.36,0.25651465798045608,0.41368078175895767,0.36790780141843976,0.53900709219858156,27,32,1.1986970684039089,1.6058631921824105,1.3936170212765959,1.8368794326241136,null,null,-1,-1,-1,-1,{"$f":"IF(#REF!=0,0,IF(#REF!=#REF!,#REF!-#REF!,0))","v":{"$error":"#REF!"}},5000,1000,300,24,250,20,200,16,150,12,70,5,30,2]
[{"$f":"Source!A65","v":"ZYX Core Portfolio"},{"$f":"Source!B65","v":"GILD"},{"$f":"Source!C65","v":{"$error":"#VALUE!"}},{"$f":"Source!D65","v":"Biotechnology & Medical Research"},{"$f":"Source!E65","v":56.56},{"$f":"Source!F65","v":85.97},{"$f":"Source!G65","v":62.38},{"$f":"Source!H65","v":62.26},54,60.81,0.25,0.4,null,null,110,130,0.7667844522968198,1.0880179890780599,1.037037037037037,1.4074074074074074,null,null,-1,-1,-1,-1,null,null,-1,-1,-1,-1,{"$f":"IF(#REF!=0,0,IF(#REF!=#REF!,#REF!-#REF!,0))","v":{"$error":"#REF!"}},5000,2000,600,9,500,8,400,6,300,4,140,2,60,0]
[{"$f":"Source!A66","v":"ZYX Signal Limited"},{"$f":"Source!B66","v":"GLUU"},{"$f":"Source!C66","v":{"$error":"#VALUE!"}},{"$f":"Source!D66","v":"Software & IT Services"},{"$f":"Source!E66","v":3.98},{"$f":"Source!F66","v":12.95},{"$f":"Source!G66","v":12.47},{"$f":"Source!H66","v":12.435},null,null,null,null,null,null,null,null,-1,-1,{"$error":"#DIV/0!"},{"$error":"#DIV/0!"},null,null,-1,-1,{"$error":"#DIV/0!"},{"$error":"#DIV/0!"},null,null,-1,-1,{"$error":"#DIV/0!"},{"$error":"#DIV/0!"},{"$f":"IF(#REF!=0,0,IF(#REF!=#REF!,#REF!-#REF!,0))","v":{"$error":"#REF!"}},5000,0,0,0,0,0,0,0,0,0,0,0,0,0]
[{"$f":"Source!A67","v":"ZYX Core Portfolio"},{"$f":"Source!B67","v":"GOOG"},{"$f":"Source!C67","v":{"$error":"#VALUE!"}},{"$f":"Source!D67","v":"Software & IT Services"},{"$f":"Source!E67","v":1013.5361},{"$f":"Source!F67","v":2152.6799999999998},{"$f":"Source!G67","v":2114.77},{"$f":"Source!H67","v":2075.83},1502,1631.78,0.2,0.3,null,null,2340,2420,0.12725993939773492,0.16579874074466602,0.55792276964047938,0.61118508655126502,null,null,-1,-1,-1,-1,null,null,-1,-1,-1,-1,{"$f":"IF(#REF!=0,0,IF(#REF!=#REF!,#REF!-#REF!,0))","v":{"$error":"#REF!"}},5000,1500,450,0,375,0,300,0,225,0,105,0,45,0]
[{"$f":"Source!A68","v":"ZYX Pot"},{"$f":"Source!B68","v":"GRWG"},{"$f":"Source!C68","v":{"$error":"#VALUE!"}},{"$f":"Source!D68","v":"Chemicals"},{"$f":"Source!E68","v":2.62},{"$f":"Source!F68","v":67.75},{"$f":"Source!G68","v":48.74},{"$f":"Source!H68","v":46.88},18.309999999999999,24.56,0.05,0.15,14,16.43,78,83,0.66382252559726951,0.77047781569965856,3.2599672310212999,3.5330420535226654,null,null,-1,-1,-1,-1,null,null,-1,-1,-1,-1,{"$f":"IF(#REF!=0,0,IF(#REF!=#REF!,#REF!-#REF!,0))","v":{"$error":"#REF!"}},5000,750,225,4,187,3,150,3,112,2,52,1,22,0]
[{"$f":"Source!A69","v":"ZYX Pot"},{"$f":"Source!B69","v":"GTBIF"},{"$f":"Source!C69","v":{"$error":"#VALUE!"}},{"$f":"Source!D69","v":"Pharmaceuticals"},{"$f":"Source!E69","v":3.6934},{"$f":"Source!F69","v":39.11},{"$f":"Source!G69","v":32.75},{"$f":"Source!H69","v":31.540099999999999},22.37,28.78,0.2,0.3,null,null,78,87,{"$f":"SUM(O69-$H69)/$H69","v":1.4730422541463091},{"$f":"SUM(P69-$H69)/$H69","v":1.7583932834708833},{"$f":"SUM(O69-$I69)/$I69","v":2.4868126955744296},{"$f":"SUM(P69-$I69)/$I69","v":2.8891372373714792},null,null,{"$f":"SUM(U69-$H69)/$H69","v":-1},{"$f":"SUM(V69-$H69)/$H69","v":-1},{"$f":"SUM(U69-$I69)/$I69","v":-1},{"$f":"SUM(V69-$I69)/$I69","v":-1},null,null,{"$f":"SUM(AA69-$H69)/$H69","v":-1},{"$f":"SUM(AB69-$H69)/$H69","v":-1},{"$f":"SUM(AA69-$I69)/$I69","v":-1},{"$f":"SUM(AB69-$I69)/$I69","v":-1},{"$f":"IF(#REF!=0,0,IF(#REF!=#REF!,#REF!-#REF!,0))","v":{"$error":"#REF!"}},5000,{"$f":"ROUNDDOWN(SUM($L69*$AH69),0)","v":1500},{"$f":"ROUNDDOWN(SUM($AI69*AJ$3),0)","v":450},{"$f":"ROUNDDOWN(SUM(AJ69/$H69),0)","v":14},{"$f":"ROUNDDOWN(SUM($AI69*AL$3),0)","v":375},{"$f":"ROUNDDOWN(SUM(AL69/$H69),0)","v":11},{"$f":"ROUNDDOWN(SUM($AI69*AN$3),0)","v":300},{"$f":"ROUNDDOWN(SUM(AN69/$H69),0)","v":9},{"$f":"ROUNDDOWN(SUM($AI69*AP$3),0)","v":225},{"$f":"ROUNDDOWN(SUM(AP69/$H69),0)","v":7},{"$f":"ROUNDDOWN(SUM($AI69*AR$3),0)","v":105},{"$f":"ROUNDDOWN(SUM(AR69/$H69),0)","v":3},{"$f":"ROUNDDOWN(SUM($AI69*AT$3),0)","v":45},{"$f":"ROUNDDOWN(SUM(AT69/$H69),0)","v":1}]
[{"$f":"Source!A70","v":"ZYX Pot"},{"$f":"Source!B70","v":"GWPH"},{"$f":"Source!C70","v":{"$error":"#VALUE!"}},{"$f":"Source!D70","v":"Biotechnology & Medical Research"},{"$f":"Source!E70","v":67.98},{"$f":"Source!F70","v":217.5},{"$f":"Source!G70","v":215.01},{"$f":"Source!H70","v":215.16},"Suspended","Suspended",0.05,0.15,180,183,220,240,2.2494887525562387E-2,0.11544896820970442,{"$error":"#VALUE!"},{"$error":"#VALUE!"},null,null,-1,-1,{"$error":"#VALUE!"},{"$error":"#VALUE!"},null,null,-1,-1,{"$error":"#VALUE!"},{"$error":"#VALUE!"},{"$f":"IF(#REF!=0,0,IF(#REF!=#REF!,#REF!-#REF!,0))","v":{"$error":"#REF!"}},{"$f":"$AH$5","v":5000},750,225,1,187,0,150,0,112,0,52,0,22,0]
[{"$f":"Source!A71","v":"ZYX Core Portfolio"},{"$f":"Source!B71","v":"HDGE"},{"$f":"Source!C71","v":{"$error":"#VALUE!"}},{"$f":"Source!D71","v":{"$error":"#VALUE!"}},{"$f":"Source!E71","v":24.83},{"$f":"Source!F71","v":79.5},{"$f":"Source!G71","v":24.84},{"$f":"Source!H71","v":24.971},2.4,3.26,"Hedge","Hedge",null,null,"Hedge","Hedge",{"$error":"#VALUE!"},{"$error":"#VALUE!"},{"$error":"#VALUE!"},{"$error":"#VALUE!"},null,null,-1,-1,-1,-1,null,null,-1,-1,-1,-1,{"$f":"IF(#REF!=0,0,IF(#REF!=#REF!,#REF!-#REF!,0))","v":{"$error":"#REF!"}},5000,{"$error":"#VALUE!"},{"$error":"#VALUE!"},{"$error":"#VALUE!"},{"$error":"#VALUE!"},{"$error":"#VALUE!"},{"$error":"#VALUE!"},{"$error":"#VALUE!"},{"$error":"#VALUE!"},{"$error":"#VALUE!"},{"$error":"#VALUE!"},{"$error":"#VALUE!"},{"$error":"#VALUE!"},{"$error":"#VALUE!"}]
[{"$f":"Source!A72","v":"ZYX Signal Limited"},{"$f":"Source!B72","v":"HMPT"},{"$f":"Source!C72","v":"HMPT"},{"$f":"Source!D72","v":{"$error":"#VALUE!"}},{"$f":"Source!E72","v":{"$error":"#VALUE!"}},{"$f":"Source!F72","v":{"$error":"#VALUE!"}},{"$f":"Source!G72","v":{"$error":"#VALUE!"}},{"$f":"Source!H72","v":11.94},8.5,10.5,0.2,0.35,7.35,8.18,12.43,12.93,4.1038525963149101E-2,8.2914572864321634E-2,0.46235294117647058,0.52117647058823524,14.83,17.329999999999998,0.24204355108877729,0.4514237855946398,0.74470588235294122,1.0388235294117645,null,null,-1,-1,-1,-1,{"$f":"IF(#REF!=0,0,IF(#REF!=#REF!,#REF!-#REF!,0))","v":{"$error":"#REF!"}},5000,1750,525,43,437,36,350,29,262,21,122,10,52,4]
[{"$f":"Source!A73","v":"ZYX Core Portfolio"},{"$f":"Source!B73","v":"HOLX"},{"$f":"Source!C73","v":{"$error":"#VALUE!"}},{"$f":"Source!D73","v":"Healthcare Equipment & Supplies"},{"$f":"Source!E73","v":26.49},{"$f":"Source!F73","v":85},{"$f":"Source!G73","v":71.03},{"$f":"Source!H73","v":70.239999999999995},"Suspended","Suspended",0.3,0.5,null,null,121,134,0.72266514806378146,0.90774487471526211,{"$error":"#VALUE!"},{"$error":"#VALUE!"},null,null,-1,-1,{"$error":"#VALUE!"},{"$error":"#VALUE!"},null,null,-1,-1,{"$error":"#VALUE!"},{"$error":"#VALUE!"},{"$f":"IF(#REF!=0,0,IF(#REF!=#REF!,#REF!-#REF!,0))","v":{"$error":"#REF!"}},5000,2500,750,10,625,8,500,7,375,5,175,2,75,1]
[{"$f":"Source!A74","v":"ZYX Pot"},{"$f":"Source!B74","v":"HYFM"},{"$f":"Source!C74","v":{"$error":"#VALUE!"}},{"$f":"Source!D74","v":"Machinery, Equipment & Components"},{"$f":"Source!E74","v":41.59},{"$f":"Source!F74","v":95.48},{"$f":"Source!G74","v":58.42},{"$f":"Source!H74","v":56.89},34,42.88,0.05,0.15,26,28.63,112,122,0.96871154860256636,1.1444893654420811,2.2941176470588234,2.5882352941176472,null,null,-1,-1,-1,-1,null,null,-1,-1,-1,-1,{"$f":"IF(#REF!=0,0,IF(#REF!=#REF!,#REF!-#REF!,0))","v":{"$error":"#REF!"}},5000,750,225,3,187,3,150,2,112,1,52,0,22,0]
[{"$f":"Source!A75","v":"ZYX Signal Limited"},{"$f":"Source!B75","v":"JD"},{"$f":"Source!C75","v":{"$error":"#VALUE!"}},{"$f":"Source!D75","v":"Diversified Retail"},{"$f":"Source!E75","v":32.700000000000003},{"$f":"Source!F75","v":108.29},{"$f":"Source!G75","v":90.01},{"$f":"Source!H75","v":84.202600000000004},null,null,null,null,null,null,null,null,-1,-1,{"$error":"#DIV/0!"},{"$error":"#DIV/0!"},null,null,-1,-1,{"$error":"#DIV/0!"},{"$error":"#DIV/0!"},null,null,-1,-1,{"$error":"#DIV/0!"},{"$error":"#DIV/0!"},{"$f":"IF(#REF!=0,0,IF(#REF!=#REF!,#REF!-#REF!,0))","v":{"$error":"#REF!"}},5000,0,0,0,0,0,0,0,0,0,0,0,0,0]
[{"$f":"Source!A76","v":"ZYX Core Portfolio"},{"$f":"Source!B76","v":"JPM"},{"$f":"Source!C76","v":{"$error":"#VALUE!"}},{"$f":"Source!D76","v":"Banking Services"},{"$f":"Source!E76","v":76.91},{"$f":"Source!F76","v":157.63},{"$f":"Source!G76","v":154.32},{"$f":"Source!H76","v":156.6},104,113.87,0.2,0.4,null,null,185,215,0.18135376756066415,0.37292464878671783,0.77884615384615385,1.0673076923076923,null,null,-1,-1,-1,-1,null,null,-1,-1,-1,-1,{"$f":"IF(#REF!=0,0,IF(#REF!=#REF!,#REF!-#REF!,0))","v":{"$error":"#REF!"}},5000,2000,600,3,500,3,400,2,300,1,140,0,60,0]
[{"$f":"Source!A77","v":"ZYX Core Portfolio"},{"$f":"Source!B77","v":"KBH"},{"$f":"Source!C77","v":{"$error":"#VALUE!"}},{"$f":"Source!D77","v":"Homebuilding & Construction Supplies"},{"$f":"Source!E77","v":9.82},{"$f":"Source!F77","v":45.59},{"$f":"Source!G77","v":44.43},{"$f":"Source!H77","v":43.22},30,34.659999999999997,0.3,0.4,null,null,56,61,0.29569643683479874,0.41138361869504864,0.8666666666666667,1.0333333333333334,null,null,-1,-1,-1,-1,null,null,-1,-1,-1,-1,{"$f":"IF(#REF!=0,0,IF(#REF!=#REF!,#REF!-#REF!,0))","v":{"$error":"#REF!"}},5000,2000,600,13,500,11,400,9,300,6,140,3,60,1]
[{"$f":"Source!A78","v":"ZYX Core Portfolio"},{"$f":"Source!B78","v":"KKR"},{"$f":"Source!C78","v":{"$error":"#VALUE!"}},{"$f":"Source!D78","v":"Investment Banking & Investment Services"},{"$f":"Source!E78","v":15.55},{"$f":"Source!F78","v":49.29},{"$f":"Source!G78","v":48.21},{"$f":"Source!H78","v":47.92},32.31,35.76,0.3,0.35000000000000003,null,null,58,63,0.2103505843071786,0.31469115191986641,0.79510987310430192,0.94986072423398316,null,null,-1,-1,-1,-1,null,null,-1,-1,-1,-1,{"$f":"IF(#REF!=0,0,IF(#REF!=#REF!,#REF!-#REF!,0))","v":{"$error":"#REF!"}},5000,1750,525,10,437,9,350,7,262,5,122,2,52,1]
[{"$f":"Source!A79","v":"ZYX Signal Limited"},{"$f":"Source!B79","v":"KSU"},{"$f":"Source!C79","v":{"$error":"#VALUE!"}},{"$f":"Source!D79","v":"Freight & Logistics Services"},{"$f":"Source!E79","v":92.86},{"$f":"Source!F79","v":223.59},{"$f":"Source!G79","v":214.86},{"$f":"Source!H79","v":215.19},null,null,null,null,null,null,null,null,-1,-1,{"$error":"#DIV/0!"},{"$error":"#DIV/0!"},null,null,-1,-1,{"$error":"#DIV/0!"},{"$error":"#DIV/0!"},null,null,-1,-1,{"$error":"#DIV/0!"},{"$error":"#DIV/0!"},{"$f":"IF(#REF!=0,0,IF(#REF!=#REF!,#REF!-#REF!,0))","v":{"$error":"#REF!"}},5000,0,0,0,0,0,0,0,0,0,0,0,0,0]
[{"$f":"Source!A80","v":"ZYX Electric Cars"},{"$f":"Source!B80","v":"LAC"},{"$f":"Source!C80","v":{"$error":"#VALUE!"}},{"$f":"Source!D80","v":"Metals & Mining"},{"$f":"Source!E80","v":1.92},{"$f":"Source!F80","v":28.75},{"$f":"Source!G80","v":17.37},{"$f":"Source!H80","v":17.02},null,null,null,null,null,null,null,null,-1,-1,{"$error":"#DIV/0!"},{"$error":"#DIV/0!"},null,null,-1,-1,{"$error":"#DIV/0!"},{"$error":"#DIV/0!"},null,null,-1,-1,{"$error":"#DIV/0!"},{"$error":"#DIV/0!"},{"$f":"IF(#REF!=0,0,IF(#REF!=#REF!,#REF!-#REF!,0))","v":{"$error":"#REF!"}},5000,0,0,0,0,0,0,0,0,0,0,0,0,0]
[{"$f":"Source!A81","v":"ZYX Signal Limited"},{"$f":"Source!B81","v":"LMNX"},{"$f":"Source!C81","v":{"$error":"#VALUE!"}},{"$f":"Source!D81","v":"Healthcare Equipment & Supplies"},{"$f":"Source!E81","v":20.61},{"$f":"Source!F81","v":41.69},{"$f":"Source!G81","v":32.450000000000003},{"$f":"Source!H81","v":32.049999999999997},25.31,32.520000000000003,null,0.5,19.18,19.78,38,42,0.18564742589703598,0.31045241809672397,0.50138285262742011,0.65942315290399056,null,null,-1,-1,-1,-1,null,null,-1,-1,-1,-1,{"$f":"IF(#REF!=0,0,IF(#REF!=#REF!,#REF!-#REF!,0))","v":{"$error":"#REF!"}},5000,2500,750,23,625,19,500,15,375,11,175,5,75,2]
[{"$f":"Source!A82","v":"ZYX Core Portfolio"},{"$f":"Source!B82","v":"LOW"},{"$f":"Source!C82","v":{"$error":"#VALUE!"}},{"$f":"Source!D82","v":"Specialty Retailers"},{"$f":"Source!E82","v":60},{"$f":"Source!F82","v":180.67},{"$f":"Source!G82","v":170.75},{"$f":"Source!H82","v":171.22},138.62,157.86000000000001,0.25,0.35000000000000003,null,null,210,220,0.22649223221586265,0.28489662422614181,0.51493291011398057,0.5870725725003606,null,null,-1,-1,-1,-1,null,null,-1,-1,-1,-1,{"$f":"IF(#REF!=0,0,IF(#REF!=#REF!,#REF!-#REF!,0))","v":{"$error":"#REF!"}},5000,1750,525,3,437,2,350,2,262,1,122,0,52,0]
[{"$f":"Source!A83","v":"ZYX Core Portfolio"},{"$f":"Source!B83","v":"LTHM"},{"$f":"Source!C83","v":{"$error":"#VALUE!"}},{"$f":"Source!D83","v":"Chemicals"},{"$f":"Source!E83","v":3.95},{"$f":"Source!F83","v":23.989899999999999},{"$f":"Source!G83","v":19.170000000000002},{"$f":"Source!H83","v":18.97},13.31,16.87,0.15,0.3,null,null,33,36,0.73958882445967322,0.89773326304691625,1.4793388429752063,1.7047332832456796,null,null,-1,-1,-1,-1,null,null,-1,-1,-1,-1,{"$f":"IF(#REF!=0,0,IF(#REF!=#REF!,#REF!-#REF!,0))","v":{"$error":"#REF!"}},5000,1500,450,23,375,19,300,15,225,11,105,5,45,2]
[{"$f":"Source!A84","v":"ZYX Space"},{"$f":"Source!B84","v":"MAXR"},{"$f":"Source!C84","v":{"$error":"#VALUE!"}},{"$f":"Source!D84","v":"Communications & Networking"},{"$f":"Source!E84","v":7.18},{"$f":"Source!F84","v":58.75},{"$f":"Source!G84","v":47},{"$f":"Source!H84","v":46.94},36.26,44.57,0.05,0.15,29,31.73,135,null,1.876011930123562,-1,2.7231108659680094,-1,null,null,-1,-1,-1,-1,null,null,-1,-1,-1,-1,{"$f":"IF(#REF!=0,0,IF(#REF!=#REF!,#REF!-#REF!,0))","v":{"$error":"#REF!"}},5000,750,225,4,187,3,150,3,112,2,52,1,22,0]
[{"$f":"Source!A85","v":"ZYX Signal Limited"},{"$f":"Source!B85","v":"MDB"},{"$f":"Source!C85","v":{"$error":"#VALUE!"}},{"$f":"Source!D85","v":"Software & IT Services"},{"$f":"Source!E85","v":93.81},{"$f":"Source!F85","v":428.96499999999997},{"$f":"Source!G85","v":327.26},{"$f":"Source!H85","v":319.33},null,null,null,null,null,null,null,null,-1,-1,{"$error":"#DIV/0!"},{"$error":"#DIV/0!"},null,null,-1,-1,{"$error":"#DIV/0!"},{"$error":"#DIV/0!"},null,null,-1,-1,{"$error":"#DIV/0!"},{"$error":"#DIV/0!"},{"$f":"IF(#REF!=0,0,IF(#REF!=#REF!,#REF!-#REF!,0))","v":{"$error":"#REF!"}},5000,0,0,0,0,0,0,0,0,0,0,0,0,0]
[{"$f":"Source!A86","v":"ZYX Signal Limited"},{"$f":"Source!B86","v":"MRVI"},{"$f":"Source!C86","v":{"$error":"#VALUE!"}},{"$f":"Source!D86","v":"Biotechnology & Medical Research"},{"$f":"Source!E86","v":23.62},{"$f":"Source!F86","v":40.24},{"$f":"Source!G86","v":36.520000000000003},{"$f":"Source!H86","v":36.35},33,38.47,null,0.3,24,26.43,48,52,0.32049518569463542,0.43053645116918837,0.45454545454545453,0.5757575757575758,73,78,1.0082530949105915,1.1458046767537826,1.2121212121212122,1.3636363636363635,null,null,-1,-1,-1,-1,{"$f":"IF(#REF!=0,0,IF(#REF!=#REF!,#REF!-#REF!,0))","v":{"$error":"#REF!"}},5000,1500,450,12,375,10,300,8,225,6,105,2,45,1]
[{"$f":"Source!A87","v":"ZYX Trade Around"},{"$f":"Source!B87","v":"MRVL"},{"$f":"Source!C87","v":{"$error":"#VALUE!"}},{"$f":"Source!D87","v":"Semiconductors & Semiconductor Equipment"},{"$f":"Source!E87","v":16.45},{"$f":"Source!F87","v":55.7},{"$f":"Source!G87","v":46.3},{"$f":"Source!H87","v":46.335000000000001},39.31,43.56,null,0.35,33.31,34.130000000000003,49,54.38,5.7515916693644094E-2,0.17362684795510958,0.24650216229966923,0.38336301195624523,null,null,-1,-1,-1,-1,null,null,-1,-1,-1,-1,{"$f":"IF(#REF!=0,0,IF(#REF!=#REF!,#REF!-#REF!,0))","v":{"$error":"#REF!"}},5000,1750,525,11,437,9,350,7,262,5,122,2,52,1]
[{"$f":"Source!A88","v":"ZYX Core Portfolio"},{"$f":"Source!B88","v":"MSFT"},{"$f":"Source!C88","v":{"$error":"#VALUE!"}},{"$f":"Source!D88","v":"Software & IT Services"},{"$f":"Source!E88","v":132.52000000000001},{"$f":"Source!F88","v":246.13},{"$f":"Source!G88","v":237.13},{"$f":"Source!H88","v":235.25},181.53,202.84,0.2,0.25,null,null,285,315,0.21147715196599362,0.33900106269925612,0.56998843166418778,0.73525037183936537,null,null,-1,-1,-1,-1,null,null,-1,-1,-1,-1,{"$f":"IF(#REF!=0,0,IF(#REF!=#REF!,#REF!-#REF!,0))","v":{"$error":"#REF!"}},5000,1250,375,1,312,1,250,1,187,0,87,0,37,0]
[{"$f":"Source!A89","v":"ZYX Signal Limited"},{"$f":"Source!B89","v":"MU"},{"$f":"Source!C89","v":{"$error":"#VALUE!"}},{"$f":"Source!D89","v":"Semiconductors & Semiconductor Equipment"},{"$f":"Source!E89","v":31.13},{"$f":"Source!F89","v":95.75},{"$f":"Source!G89","v":89.31},{"$f":"Source!H89","v":88.13},null,null,null,null,null,null,null,null,-1,-1,{"$error":"#DIV/0!"},{"$error":"#DIV/0!"},null,null,-1,-1,{"$error":"#DIV/0!"},{"$error":"#DIV/0!"},null,null,-1,-1,{"$error":"#DIV/0!"},{"$error":"#DIV/0!"},{"$f":"IF(#REF!=0,0,IF(#REF!=#REF!,#REF!-#REF!,0))","v":{"$error":"#REF!"}},5000,0,0,0,0,0,0,0,0,0,0,0,0,0]
[{"$f":"Source!A90","v":"ZYX Pot"},{"$f":"Source!B90","v":"NBEV"},{"$f":"Source!C90","v":{"$error":"#VALUE!"}},{"$f":"Source!D90","v":"Beverages"},{"$f":"Source!E90","v":0.98099999999999998},{"$f":"Source!F90","v":4.55},{"$f":"Source!G90","v":2.96},{"$f":"Source!H90","v":2.93},1.6,1.81,0.15,0.35,null,null,13,15,3.4368600682593855,4.1194539249146755,7.125,8.375,null,null,-1,-1,-1,-1,null,null,-1,-1,-1,-1,{"$f":"IF(#REF!=0,0,IF(#REF!=#REF!,#REF!-#REF!,0))","v":{"$error":"#REF!"}},5000,1750,525,179,437,149,350,119,262,89,122,41,52,17]
[{"$f":"Source!A91","v":"ZYX Core Portfolio"},{"$f":"Source!B91","v":"NEM"},{"$f":"Source!C91","v":{"$error":"#VALUE!"}},{"$f":"Source!D91","v":"Metals & Mining"},{"$f":"Source!E91","v":33},{"$f":"Source!F91","v":72.22},{"$f":"Source!G91","v":58.45},{"$f":"Source!H91","v":58.36},57,64.56,0.3,0.5,null,null,135,155,1.313228238519534,1.6559287183002056,1.368421052631579,1.7192982456140351,null,null,-1,-1,-1,-1,null,null,-1,-1,-1,-1,{"$f":"IF(#REF!=0,0,IF(#REF!=#REF!,#REF!-#REF!,0))","v":{"$error":"#REF!"}},5000,2500,750,12,625,10,500,8,375,6,175,2,75,1]
[{"$f":"Source!A92","v":"ZYX Electric Cars"},{"$f":"Source!B92","v":"NGAC"},{"$f":"Source!C92","v":{"$error":"#VALUE!"}},{"$f":"Source!D92","v":"Holding Companies"},{"$f":"Source!E92","v":9.6999999999999993},{"$f":"Source!F92","v":16},{"$f":"Source!G92","v":10.62},{"$f":"Source!H92","v":10.525},null,null,null,null,null,null,null,null,-1,-1,{"$error":"#DIV/0!"},{"$error":"#DIV/0!"},null,null,-1,-1,{"$error":"#DIV/0!"},{"$error":"#DIV/0!"},null,null,-1,-1,{"$error":"#DIV/0!"},{"$error":"#DIV/0!"},{"$f":"IF(#REF!=0,0,IF(#REF!=#REF!,#REF!-#REF!,0))","v":{"$error":"#REF!"}},5000,0,0,0,0,0,0,0,0,0,0,0,0,0]
[{"$f":"Source!A93","v":"ZYX Core Portfolio"},{"$f":"Source!B93","v":"NMR"},{"$f":"Source!C93","v":{"$error":"#VALUE!"}},{"$f":"Source!D93","v":"Investment Banking & Investment Services"},{"$f":"Source!E93","v":3.55},{"$f":"Source!F93","v":6.36},{"$f":"Source!G93","v":6.22},{"$f":"Source!H93","v":6.22},4.1399999999999997,5.18,0.1,0.2,null,null,8.6,10.11,0.38263665594855306,0.62540192926045013,1.0772946859903383,1.4420289855072463,null,null,-1,-1,-1,-1,null,null,-1,-1,-1,-1,{"$f":"IF(#REF!=0,0,IF(#REF!=#REF!,#REF!-#REF!,0))","v":{"$error":"#REF!"}},5000,1000,300,48,250,40,200,32,150,24,70,11,30,4]
[{"$f":"Source!A94","v":"ZYX Space"},{"$f":"Source!B94","v":"NPA"},{"$f":"Source!C94","v":{"$error":"#VALUE!"}},{"$f":"Source!D94","v":"Holding Companies"},{"$f":"Source!E94","v":9.5},{"$f":"Source!F94","v":25.37},{"$f":"Source!G94","v":13.3},{"$f":"Source!H94","v":12.9399},12.56,14.31,0.05,0.1,8,8.73,110,null,7.5008384917966913,-1,7.7579617834394901,-1,null,null,-1,-1,-1,-1,null,null,-1,-1,-1,-1,{"$f":"IF(#REF!=0,0,IF(#REF!=#REF!,#REF!-#REF!,0))","v":{"$error":"#REF!"}},5000,500,150,11,125,9,100,7,75,5,35,2,15,1]
[{"$f":"Source!A95","v":"ZYX Core Portfolio"},{"$f":"Source!B95","v":"NXPI"},{"$f":"Source!C95","v":{"$error":"#VALUE!"}},{"$f":"Source!D95","v":"Semiconductors & Semiconductor Equipment"},{"$f":"Source!E95","v":58.41},{"$f":"Source!F95","v":200.19},{"$f":"Source!G95","v":187.9375},{"$f":"Source!H95","v":185.22},125.31,141.56,0.25,0.35000000000000003,null,null,235,255,0.26876147284310553,0.37674117265953999,0.87534913414731463,1.0349533157768733,null,null,-1,-1,-1,-1,null,null,-1,-1,-1,-1,{"$f":"IF(#REF!=0,0,IF(#REF!=#REF!,#REF!-#REF!,0))","v":{"$error":"#REF!"}},5000,1750,525,2,437,2,350,1,262,1,122,0,52,0]
[{"$f":"Source!A96","v":"ZYX Space"},{"$f":"Source!B96","v":"ORBC"},{"$f":"Source!C96","v":{"$error":"#VALUE!"}},{"$f":"Source!D96","v":"Telecommunications Services"},{"$f":"Source!E96","v":1.24},{"$f":"Source!F96","v":9.25},{"$f":"Source!G96","v":8.09},{"$f":"Source!H96","v":7.98},6.32,7.68,0.15,0.3,4.38,5.43,25,null,2.132832080200501,-1,2.9556962025316453,-1,null,null,-1,-1,-1,-1,null,null,-1,-1,-1,-1,{"$f":"IF(#REF!=0,0,IF(#REF!=#REF!,#REF!-#REF!,0))","v":{"$error":"#REF!"}},5000,1500,450,56,375,46,300,37,225,28,105,13,45,5]
[{"$f":"Source!A97","v":"ZYX Signal Limited"},{"$f":"Source!B97","v":"PACE"},{"$f":"Source!C97","v":{"$error":"#VALUE!"}},{"$f":"Source!D97","v":"Holding Companies"},{"$f":"Source!E97","v":9.6999999999999993},{"$f":"Source!F97","v":12.5},{"$f":"Source!G97","v":10.32},{"$f":"Source!H97","v":10.27},10,12,null,0.15,8.43,8.7799999999999994,14.43,15.88,0.40506329113924056,0.54625121713729319,0.44299999999999995,0.58800000000000008,18,22,0.75267770204479068,1.1421616358325219,0.8,1.2,28,33,1.7263875365141188,2.2132424537487831,1.8,2.2999999999999998,{"$f":"IF(#REF!=0,0,IF(#REF!=#REF!,#REF!-#REF!,0))","v":{"$error":"#REF!"}},5000,750,225,21,187,18,150,14,112,10,52,5,22,2]
[{"$f":"Source!A98","v":"ZYX Core Portfolio"},{"$f":"Source!B98","v":"PCG"},{"$f":"Source!C98","v":{"$error":"#VALUE!"}},{"$f":"Source!D98","v":"Electrical Utilities & IPPs"},{"$f":"Source!E98","v":6.25},{"$f":"Source!F98","v":13.34},{"$f":"Source!G98","v":11.45},{"$f":"Source!H98","v":11.414999999999999},9.7799999999999994,11.18,0.25,0.45,null,null,22,24,0.92728865527814297,1.1024967148488831,1.2494887525562373,1.45398773006135,null,null,-1,-1,-1,-1,null,null,-1,-1,-1,-1,{"$f":"IF(#REF!=0,0,IF(#REF!=#REF!,#REF!-#REF!,0))","v":{"$error":"#REF!"}},5000,2250,675,59,562,49,450,39,337,29,157,13,67,5]
[{"$f":"Source!A99","v":"ZYX Signal Limited"},{"$f":"Source!B99","v":"PHUN"},{"$f":"Source!C99","v":{"$error":"#VALUE!"}},{"$f":"Source!D99","v":"Software & IT Services"},{"$f":"Source!E99","v":0.54},{"$f":"Source!F99","v":3.3376000000000001},{"$f":"Source!G99","v":1.93},{"$f":"Source!H99","v":2.0299999999999998},2.4,2.81,null,0.15,2.06,2.1800000000000002,18,23,7.8669950738916263,10.330049261083744,6.5,8.5833333333333339,null,null,-1,-1,-1,-1,null,null,-1,-1,-1,-1,{"$f":"IF(#REF!=0,0,IF(#REF!=#REF!,#REF!-#REF!,0))","v":{"$error":"#REF!"}},5000,750,225,110,187,92,150,73,112,55,52,25,22,10]
[{"$f":"Source!A100","v":"ZYX Signal Limited"},{"$f":"Source!B100","v":"PLTR"},{"$f":"Source!C100","v":{"$error":"#VALUE!"}},{"$f":"Source!D100","v":"Software & IT Services"},{"$f":"Source!E100","v":8.9},{"$f":"Source!F100","v":45},{"$f":"Source!G100","v":26.73},{"$f":"Source!H100","v":26.125},26.13,29.58,null,0.2,21.23,23.34,33.43,35.31,0.27961722488038276,0.35157894736842116,0.27937236892460776,0.35132032146957531,36.6,43.38,0.40095693779904312,0.66047846889952166,0.40068886337543064,0.66016073478760062,null,null,-1,-1,-1,-1,{"$f":"IF(#REF!=0,0,IF(#REF!=#REF!,#REF!-#REF!,0))","v":{"$error":"#REF!"}},5000,1000,300,11,250,9,200,7,150,5,70,2,30,1]
[{"$f":"Source!A101","v":"ZYX Signal Limited"},{"$f":"Source!B101","v":"PLUG"},{"$f":"Source!C101","v":{"$error":"#VALUE!"}},{"$f":"Source!D101","v":"Renewable Energy"},{"$f":"Source!E101","v":2.5299999999999998},{"$f":"Source!F101","v":75.489999999999995},{"$f":"Source!G101","v":48.16},{"$f":"Source!H101","v":46.4},null,null,null,null,null,null,null,null,{"$f":"SUM(O101-$H101)/$H101","v":-1},{"$f":"SUM(P101-$H101)/$H101","v":-1},{"$f":"SUM(O101-$I101)/$I101","v":{"$error":"#DIV/0!"}},{"$f":"SUM(P101-$I101)/$I101","v":{"$error":"#DIV/0!"}},null,null,{"$f":"SUM(U101-$H101)/$H101","v":-1},{"$f":"SUM(V101-$H101)/$H101","v":-1},{"$f":"SUM(U101-$I101)/$I101","v":{"$error":"#DIV/0!"}},{"$f":"SUM(V101-$I101)/$I101","v":{"$error":"#DIV/0!"}},null,null,{"$f":"SUM(AA101-$H101)/$H101","v":-1},{"$f":"SUM(AB101-$H101)/$H101","v":-1},{"$f":"SUM(AA101-$I101)/$I101","v":{"$error":"#DIV/0!"}},{"$f":"SUM(AB101-$I101)/$I101","v":{"$error":"#DIV/0!"}},{"$f":"IF(#REF!=0,0,IF(#REF!=#REF!,#REF!-#REF!,0))","v":{"$error":"#REF!"}},5000,{"$f":"ROUNDDOWN(SUM($L101*$AH101),0)","v":0},{"$f":"ROUNDDOWN(SUM($AI101*AJ$3),0)","v":0},{"$f":"ROUNDDOWN(SUM(AJ101/$H101),0)","v":0},{"$f":"ROUNDDOWN(SUM($AI101*AL$3),0)","v":0},{"$f":"ROUNDDOWN(SUM(AL101/$H101),0)","v":0},{"$f":"ROUNDDOWN(SUM($AI101*AN$3),0)","v":0},{"$f":"ROUNDDOWN(SUM(AN101/$H101),0)","v":0},{"$f":"ROUNDDOWN(SUM($AI101*AP$3),0)","v":0},{"$f":"ROUNDDOWN(SUM(AP101/$H101),0)","v":0},{"$f":"ROUNDDOWN(SUM($AI101*AR$3),0)","v":0},{"$f":"ROUNDDOWN(SUM(AR101/$H101),0)","v":0},{"$f":"ROUNDDOWN(SUM($AI101*AT$3),0)","v":0},{"$f":"ROUNDDOWN(SUM(AT101/$H101),0)","v":0}]
[{"$f":"Source!A102","v":"Oil"},{"$f":"Source!B102","v":"PRT"},{"$f":"Source!C102","v":{"$error":"#VALUE!"}},{"$f":"Source!D102","v":{"$error":"#VALUE!"}},{"$f":"Source!E102","v":1},{"$f":"Source!F102","v":5.35},{"$f":"Source!G102","v":5.22},{"$f":"Source!H102","v":5.1501000000000001},null,null,null,null,null,null,null,null,-1,-1,{"$error":"#DIV/0!"},{"$error":"#DIV/0!"},null,null,-1,-1,{"$error":"#DIV/0!"},{"$error":"#DIV/0!"},null,null,-1,-1,{"$error":"#DIV/0!"},{"$error":"#DIV/0!"},{"$f":"IF(#REF!=0,0,IF(#REF!=#REF!,#REF!-#REF!,0))","v":{"$error":"#REF!"}},{"$f":"$AH$5","v":5000},0,0,0,0,0,0,0,0,0,0,0,0,0]
[{"$f":"Source!A103","v":"ZYX Core Portfolio"},{"$f":"Source!B103","v":"PSQ"},{"$f":"Source!C103","v":{"$error":"#VALUE!"}},{"$f":"Source!D103","v":{"$error":"#VALUE!"}},{"$f":"Source!E103","v":13.29},{"$f":"Source!F103","v":29.7},{"$f":"Source!G103","v":14.02},{"$f":"Source!H103","v":14.18},13.26,15.31,"Hedge","Hedge",null,null,"Hedge","Hedge",{"$error":"#VALUE!"},{"$error":"#VALUE!"},{"$error":"#VALUE!"},{"$error":"#VALUE!"},null,null,-1,-1,-1,-1,null,null,-1,-1,-1,-1,{"$f":"IF(#REF!=0,0,IF(#REF!=#REF!,#REF!-#REF!,0))","v":{"$error":"#REF!"}},5000,{"$error":"#VALUE!"},{"$error":"#VALUE!"},{"$error":"#VALUE!"},{"$error":"#VALUE!"},{"$error":"#VALUE!"},{"$error":"#VALUE!"},{"$error":"#VALUE!"},{"$error":"#VALUE!"},{"$error":"#VALUE!"},{"$error":"#VALUE!"},{"$error":"#VALUE!"},{"$error":"#VALUE!"},{"$error":"#VALUE!"}]
[{"$f":"Source!A104","v":"ZYX Core Portfolio"},{"$f":"Source!B104","v":"QCOM"},{"$f":"Source!C104","v":{"$error":"#VALUE!"}},{"$f":"Source!D104","v":"Semiconductors & Semiconductor Equipment"},{"$f":"Source!E104","v":58},{"$f":"Source!F104","v":167.94},{"$f":"Source!G104","v":131.74},{"$f":"Source!H104","v":129.4725},127,145.76,0.3,0.65,null,null,232,256,0.79188630790322279,0.97725385699665956,0.82677165354330706,1.015748031496063,null,null,-1,-1,-1,-1,null,null,-1,-1,-1,-1,{"$f":"IF(#REF!=0,0,IF(#REF!=#REF!,#REF!-#REF!,0))","v":{"$error":"#REF!"}},5000,3250,975,7,812,6,650,5,487,3,227,1,97,0]
[{"$f":"Source!A105","v":"ZYX Signal Limited"},{"$f":"Source!B105","v":"QCOM"},{"$f":"Source!C105","v":{"$error":"#VALUE!"}},{"$f":"Source!D105","v":"Semiconductors & Semiconductor Equipment"},{"$f":"Source!E105","v":58},{"$f":"Source!F105","v":167.94},{"$f":"Source!G105","v":131.74},{"$f":"Source!H105","v":129.4725},null,null,null,null,null,null,null,null,-1,-1,{"$error":"#DIV/0!"},{"$error":"#DIV/0!"},null,null,-1,-1,{"$error":"#DIV/0!"},{"$error":"#DIV/0!"},null,null,-1,-1,{"$error":"#DIV/0!"},{"$error":"#DIV/0!"},{"$f":"IF(#REF!=0,0,IF(#REF!=#REF!,#REF!-#REF!,0))","v":{"$error":"#REF!"}},5000,0,0,0,0,0,0,0,0,0,0,0,0,0]
[{"$f":"Source!A106","v":"ZYX Core Portfolio"},{"$f":"Source!B106","v":"QQQJ"},{"$f":"Source!C106","v":{"$error":"#VALUE!"}},{"$f":"Source!D106","v":{"$error":"#VALUE!"}},{"$f":"Source!E106","v":24.669},{"$f":"Source!F106","v":35.18},{"$f":"Source!G106","v":33.22},{"$f":"Source!H106","v":32.840000000000003},24.13,28.76,0.15,0.4,null,null,42,46,0.2789281364190011,0.40073081607795358,0.74057190219643609,0.90634065478657277,null,null,-1,-1,-1,-1,null,null,-1,-1,-1,-1,{"$f":"IF(#REF!=0,0,IF(#REF!=#REF!,#REF!-#REF!,0))","v":{"$error":"#REF!"}},5000,2000,600,18,500,15,400,12,300,9,140,4,60,1]
[{"$f":"Source!A107","v":"ZYX Core Portfolio"},{"$f":"Source!B107","v":"QRVO"},{"$f":"Source!C107","v":{"$error":"#VALUE!"}},{"$f":"Source!D107","v":"Semiconductors & Semiconductor Equipment"},{"$f":"Source!E107","v":67.540000000000006},{"$f":"Source!F107","v":191.82499999999999},{"$f":"Source!G107","v":174.95},{"$f":"Source!H107","v":171.93010000000001},127.26,151.77000000000001,0.2,0.4,null,null,255,265,0.48316088922184064,0.54132406134818734,1.0037718057520038,1.0823510922520825,null,null,-1,-1,-1,-1,null,null,-1,-1,-1,-1,{"$f":"IF(#REF!=0,0,IF(#REF!=#REF!,#REF!-#REF!,0))","v":{"$error":"#REF!"}},5000,2000,600,3,500,2,400,2,300,1,140,0,60,0]
[{"$f":"Source!A108","v":"ZYX Signal Limited"},{"$f":"Source!B108","v":"QS"},{"$f":"Source!C108","v":{"$error":"#VALUE!"}},{"$f":"Source!D108","v":"Automobiles & Auto Parts"},{"$f":"Source!E108","v":9.74},{"$f":"Source!F108","v":132.72999999999999},{"$f":"Source!G108","v":58.2},{"$f":"Source!H108","v":57.209899999999998},42.32,51.94,null,0.2,37,38.43,107.33,123.48,0.87607389630116472,1.1583676951017221,1.5361531190926274,1.9177693761814745,168,210,1.9365546872132271,2.6706933590165338,2.9697542533081287,3.9621928166351608,null,90,-1,0.57315429672137175,-1,1.1266540642722116,{"$f":"IF(#REF!=0,0,IF(#REF!=#REF!,#REF!-#REF!,0))","v":{"$error":"#REF!"}},5000,1000,300,5,250,4,200,3,150,2,70,1,30,0]
[{"$f":"Source!A109","v":"ZYX Core Portfolio"},{"$f":"Source!B109","v":"RDS-B"},{"$f":"Source!C109","v":{"$error":"#VALUE!"}},{"$f":"Source!D109","v":"Oil & Gas"},{"$f":"Source!E109","v":19.190000000000001},{"$f":"Source!F109","v":42.27},{"$f":"Source!G109","v":41.72},{"$f":"Source!H109","v":42.06},28.31,32.520000000000003,0.15,0.3,null,null,56,62,0.33143128863528287,0.47408464098906317,0.97809961144471924,1.1900388555280819,null,null,-1,-1,-1,-1,null,null,-1,-1,-1,-1,{"$f":"IF(#REF!=0,0,IF(#REF!=#REF!,#REF!-#REF!,0))","v":{"$error":"#REF!"}},5000,1500,450,10,375,8,300,7,225,5,105,2,45,1]
[{"$f":"Source!A110","v":"Oil"},{"$f":"Source!B110","v":"RIG"},{"$f":"Source!C110","v":{"$error":"#VALUE!"}},{"$f":"Source!D110","v":"Oil & Gas Related Equipment and Services"},{"$f":"Source!E110","v":0.65},{"$f":"Source!F110","v":4.8099999999999996},{"$f":"Source!G110","v":4.55},{"$f":"Source!H110","v":4.54},4,4,null,null,null,null,null,null,-1,-1,-1,-1,null,null,-1,-1,-1,-1,null,null,-1,-1,-1,-1,{"$f":"IF(#REF!=0,0,IF(#REF!=#REF!,#REF!-#REF!,0))","v":{"$error":"#REF!"}},5000,0,0,0,0,0,0,0,0,0,0,0,0,0]
[{"$f":"Source!A111","v":"ZYX Signal Limited"},{"$f":"Source!B111","v":"RLX"},{"$f":"Source!C111","v":{"$error":"#VALUE!"}},{"$f":"Source!D111","v":"Food & Tobacco"},{"$f":"Source!E111","v":13.7},{"$f":"Source!F111","v":35},{"$f":"Source!G111","v":18.8},{"$f":"Source!H111","v":17.48},null,null,null,null,null,null,null,null,-1,-1,{"$error":"#DIV/0!"},{"$error":"#DIV/0!"},null,null,-1,-1,{"$error":"#DIV/0!"},{"$error":"#DIV/0!"},null,null,-1,-1,{"$error":"#DIV/0!"},{"$error":"#DIV/0!"},{"$f":"IF(#REF!=0,0,IF(#REF!=#REF!,#REF!-#REF!,0))","v":{"$error":"#REF!"}},5000,0,0,0,0,0,0,0,0,0,0,0,0,0]
[{"$f":"Source!A112","v":"Motley Fool"},{"$f":"Source!B112","v":"ROKU"},{"$f":"Source!C112","v":{"$error":"#VALUE!"}},{"$f":"Source!D112","v":"Media & Publishing"},{"$f":"Source!E112","v":58.22},{"$f":"Source!F112","v":486.72},{"$f":"Source!G112","v":363.34},{"$f":"Source!H112","v":356.005},null,null,null,null,null,null,null,null,-1,-1,{"$error":"#DIV/0!"},{"$error":"#DIV/0!"},null,null,-1,-1,{"$error":"#DIV/0!"},{"$error":"#DIV/0!"},null,null,-1,-1,{"$error":"#DIV/0!"},{"$error":"#DIV/0!"},{"$f":"IF(#REF!=0,0,IF(#REF!=#REF!,#REF!-#REF!,0))","v":{"$error":"#REF!"}},5000,0,0,0,0,0,0,0,0,0,0,0,0,0]
[{"$f":"Source!A113","v":"ZYX Signal Limited"},{"$f":"Source!B113","v":"SAVE"},{"$f":"Source!C113","v":{"$error":"#VALUE!"}},{"$f":"Source!D113","v":"Passenger Transportation Services"},{"$f":"Source!E113","v":7.01},{"$f":"Source!F113","v":39.14},{"$f":"Source!G113","v":36.51},{"$f":"Source!H113","v":37.369999999999997},25.06,27.31,null,0.3,23.43,24.43,42.38,47.43,0.1340647578271342,0.26919989296226926,0.69114126097366335,0.89265762170790108,58,67,0.55204709660155216,0.79288199090179301,1.3144453312051076,1.6735833998403831,null,null,-1,-1,-1,-1,{"$f":"IF(#REF!=0,0,IF(#REF!=#REF!,#REF!-#REF!,0))","v":{"$error":"#REF!"}},5000,1500,450,12,375,10,300,8,225,6,105,2,45,1]
[{"$f":"Source!A114","v":"ZYX Electric Cars"},{"$f":"Source!B114","v":"SBE"},{"$f":"Source!C114","v":{"$error":"#VALUE!"}},{"$f":"Source!D114","v":"Electrical Utilities & IPPs"},{"$f":"Source!E114","v":9.3800000000000008},{"$f":"Source!F114","v":49.48},{"$f":"Source!G114","v":30.43},{"$f":"Source!H114","v":27.588000000000001},null,null,null,null,null,null,null,null,-1,-1,{"$error":"#DIV/0!"},{"$error":"#DIV/0!"},null,null,-1,-1,{"$error":"#DIV/0!"},{"$error":"#DIV/0!"},null,null,-1,-1,{"$error":"#DIV/0!"},{"$error":"#DIV/0!"},{"$f":"IF(#REF!=0,0,IF(#REF!=#REF!,#REF!-#REF!,0))","v":{"$error":"#REF!"}},5000,0,0,0,0,0,0,0,0,0,0,0,0,0]
[{"$f":"Source!A115","v":"ZYX Signal Limited"},{"$f":"Source!B115","v":"SFIX"},{"$f":"Source!C115","v":{"$error":"#VALUE!"}},{"$f":"Source!D115","v":"Software & IT Services"},{"$f":"Source!E115","v":10.9},{"$f":"Source!F115","v":113.7594},{"$f":"Source!G115","v":50.93},{"$f":"Source!H115","v":51.034100000000002},null,null,null,null,null,null,null,null,-1,-1,{"$error":"#DIV/0!"},{"$error":"#DIV/0!"},null,null,-1,-1,{"$error":"#DIV/0!"},{"$error":"#DIV/0!"},null,null,-1,-1,{"$error":"#DIV/0!"},{"$error":"#DIV/0!"},{"$f":"IF(#REF!=0,0,IF(#REF!=#REF!,#REF!-#REF!,0))","v":{"$error":"#REF!"}},5000,0,0,0,0,0,0,0,0,0,0,0,0,0]
[{"$f":"Source!A116","v":"ZYX Signal Limited"},{"$f":"Source!B116","v":"SKLZ"},{"$f":"Source!C116","v":{"$error":"#VALUE!"}},{"$f":"Source!D116","v":"Holding Companies"},{"$f":"Source!E116","v":9.81},{"$f":"Source!F116","v":46.298000000000002},{"$f":"Source!G116","v":27.78},{"$f":"Source!H116","v":27.84},22.02,25.38,null,0.2,19.32,21.23,27.73,30.16,-3.9511494252873359E-3,8.3333333333333343E-2,0.25930971843778389,0.36966394187102636,32.43,36.42,0.1648706896551724,0.30818965517241387,0.47275204359673029,0.65395095367847422,null,null,-1,-1,-1,-1,{"$f":"IF(#REF!=0,0,IF(#REF!=#REF!,#REF!-#REF!,0))","v":{"$error":"#REF!"}},5000,1000,300,10,250,8,200,7,150,5,70,2,30,1]
[{"$f":"Source!A117","v":"ZYX Signal Limited"},{"$f":"Source!B117","v":"SKT"},{"$f":"Source!C117","v":{"$error":"#VALUE!"}},{"$f":"Source!D117","v":"Residential & Commercial REIT"},{"$f":"Source!E117","v":4.05},{"$f":"Source!F117","v":22.4},{"$f":"Source!G117","v":16.920000000000002},{"$f":"Source!H117","v":17.015000000000001},16.309999999999999,18.510000000000002,null,0.2,15.48,15.83,20,22,0.17543344108139872,0.29297678518953862,0.22624156958920916,0.34886572654813008,27,32,0.58683514545988824,0.88069350573023797,0.65542611894543235,0.96198651134273472,null,null,-1,-1,-1,-1,{"$f":"IF(#REF!=0,0,IF(#REF!=#REF!,#REF!-#REF!,0))","v":{"$error":"#REF!"}},5000,1000,300,17,250,14,200,11,150,8,70,4,30,1]
[{"$f":"Source!A118","v":"ZYX Core Portfolio"},{"$f":"Source!B118","v":"SLV"},{"$f":"Source!C118","v":{"$error":"#VALUE!"}},{"$f":"Source!D118","v":{"$error":"#VALUE!"}},{"$f":"Source!E118","v":10.86},{"$f":"Source!F118","v":27.98},{"$f":"Source!G118","v":24.25},{"$f":"Source!H118","v":23.846399999999999},20.5,23.88,0.15,0.35000000000000003,null,null,46,50,0.92901234567901236,1.0967525496511004,1.2439024390243902,1.4390243902439024,null,null,-1,-1,-1,-1,null,null,-1,-1,-1,-1,{"$f":"IF(#REF!=0,0,IF(#REF!=#REF!,#REF!-#REF!,0))","v":{"$error":"#REF!"}},5000,1750,525,22,437,18,350,14,262,10,122,5,52,2]
[{"$f":"Source!A119","v":"ZYX Signal Limited"},{"$f":"Source!B119","v":"SLV"},{"$f":"Source!C119","v":{"$error":"#VALUE!"}},{"$f":"Source!D119","v":{"$error":"#VALUE!"}},{"$f":"Source!E119","v":10.86},{"$f":"Source!F119","v":27.98},{"$f":"Source!G119","v":24.25},{"$f":"Source!H119","v":23.846399999999999},null,null,null,null,null,null,null,null,-1,-1,{"$error":"#DIV/0!"},{"$error":"#DIV/0!"},null,null,-1,-1,{"$error":"#DIV/0!"},{"$error":"#DIV/0!"},null,null,-1,-1,{"$error":"#DIV/0!"},{"$error":"#DIV/0!"},{"$f":"IF(#REF!=0,0,IF(#REF!=#REF!,#REF!-#REF!,0))","v":{"$error":"#REF!"}},5000,0,0,0,0,0,0,0,0,0,0,0,0,0]
[{"$f":"Source!A120","v":"ZYX Space"},{"$f":"Source!B120","v":"SPCE"},{"$f":"Source!C120","v":{"$error":"#VALUE!"}},{"$f":"Source!D120","v":"Aerospace & Defense"},{"$f":"Source!E120","v":9.06},{"$f":"Source!F120","v":62.8},{"$f":"Source!G120","v":33.58},{"$f":"Source!H120","v":32.82},24.13,28.63,0.1,0.2,18,21.34,52,null,0.58439975624619134,-1,1.1549937836717779,-1,null,null,-1,-1,-1,-1,null,null,-1,-1,-1,-1,{"$f":"IF(#REF!=0,0,IF(#REF!=#REF!,#REF!-#REF!,0))","v":{"$error":"#REF!"}},5000,1000,300,9,250,7,200,6,150,4,70,2,30,0]
[{"$f":"Source!A121","v":"ZYX Core Portfolio"},{"$f":"Source!B121","v":"SPR"},{"$f":"Source!C121","v":{"$error":"#VALUE!"}},{"$f":"Source!D121","v":"Aerospace & Defense"},{"$f":"Source!E121","v":13.69},{"$f":"Source!F121","v":51.56},{"$f":"Source!G121","v":49.83},{"$f":"Source!H121","v":50.625},28.16,35.130000000000003,0.2,0.3,null,null,73,78,0.44197530864197532,0.54074074074074074,1.5923295454545456,1.7698863636363638,null,null,-1,-1,-1,-1,null,null,-1,-1,-1,-1,{"$f":"IF(#REF!=0,0,IF(#REF!=#REF!,#REF!-#REF!,0))","v":{"$error":"#REF!"}},5000,1500,450,8,375,7,300,5,225,4,105,2,45,0]
[{"$f":"Source!A122","v":"ZYX Signal Limited"},{"$f":"Source!B122","v":"SPR"},{"$f":"Source!C122","v":{"$error":"#VALUE!"}},{"$f":"Source!D122","v":"Aerospace & Defense"},{"$f":"Source!E122","v":13.69},{"$f":"Source!F122","v":51.56},{"$f":"Source!G122","v":49.83},{"$f":"Source!H122","v":50.625},null,null,null,null,null,null,null,null,-1,-1,{"$error":"#DIV/0!"},{"$error":"#DIV/0!"},null,null,-1,-1,{"$error":"#DIV/0!"},{"$error":"#DIV/0!"},null,null,-1,-1,{"$error":"#DIV/0!"},{"$error":"#DIV/0!"},{"$f":"IF(#REF!=0,0,IF(#REF!=#REF!,#REF!-#REF!,0))","v":{"$error":"#REF!"}},5000,0,0,0,0,0,0,0,0,0,0,0,0,0]
[{"$f":"Source!A123","v":"ZYX Signal Limited"},{"$f":"Source!B123","v":"SQQQ"},{"$f":"Source!C123","v":{"$error":"#VALUE!"}},{"$f":"Source!D123","v":{"$error":"#VALUE!"}},{"$f":"Source!E123","v":11.76},{"$f":"Source!F123","v":162.15},{"$f":"Source!G123","v":13.49},{"$f":"Source!H123","v":13.994999999999999},null,null,null,null,null,null,null,null,-1,-1,{"$error":"#DIV/0!"},{"$error":"#DIV/0!"},null,null,-1,-1,{"$error":"#DIV/0!"},{"$error":"#DIV/0!"},null,null,-1,-1,{"$error":"#DIV/0!"},{"$error":"#DIV/0!"},{"$f":"IF(#REF!=0,0,IF(#REF!=#REF!,#REF!-#REF!,0))","v":{"$error":"#REF!"}},5000,0,0,0,0,0,0,0,0,0,0,0,0,0]
[{"$f":"Source!A124","v":"ZYX Space"},{"$f":"Source!B124","v":"SRACU"},{"$f":"Source!C124","v":{"$error":"#VALUE!"}},{"$f":"Source!D124","v":{"$error":"#VALUE!"}},{"$f":"Source!E124","v":9.3000000000000007},{"$f":"Source!F124","v":35},{"$f":"Source!G124","v":16.54},{"$f":"Source!H124","v":19.27},15.38,18.68,0.15,0.3,9,12.18,105,null,4.4488842760768037,-1,5.82704811443433,-1,null,null,-1,-1,-1,-1,null,null,-1,-1,-1,-1,{"$f":"IF(#REF!=0,0,IF(#REF!=#REF!,#REF!-#REF!,0))","v":{"$error":"#REF!"}},5000,1500,450,23,375,19,300,15,225,11,105,5,45,2]
[{"$f":"Source!A125","v":"ZYX Signal Limited"},{"$f":"Source!B125","v":"SRACU"},{"$f":"Source!C125","v":{"$error":"#VALUE!"}},{"$f":"Source!D125","v":{"$error":"#VALUE!"}},{"$f":"Source!E125","v":9.3000000000000007},{"$f":"Source!F125","v":35},{"$f":"Source!G125","v":16.54},{"$f":"Source!H125","v":19.27},null,null,null,null,null,null,null,null,-1,-1,{"$error":"#DIV/0!"},{"$error":"#DIV/0!"},null,null,-1,-1,{"$error":"#DIV/0!"},{"$error":"#DIV/0!"},null,null,-1,-1,{"$error":"#DIV/0!"},{"$error":"#DIV/0!"},{"$f":"IF(#REF!=0,0,IF(#REF!=#REF!,#REF!-#REF!,0))","v":{"$error":"#REF!"}},5000,0,0,0,0,0,0,0,0,0,0,0,0,0]
[{"$f":"Source!A126","v":"ZYX Signal Limited"},{"$f":"Source!B126","v":"SSYS"},{"$f":"Source!C126","v":{"$error":"#VALUE!"}},{"$f":"Source!D126","v":"Electronic Equipment & Parts"},{"$f":"Source!E126","v":11.89},{"$f":"Source!F126","v":56.95},{"$f":"Source!G126","v":28.14},{"$f":"Source!H126","v":27.49},26.38,28.57,null,0.25,24.43,25.38,31.43,34,0.14332484539832671,0.23681338668606775,0.1914329037149356,0.28885519332827903,36,42,0.30956711531465997,0.52782830120043656,0.36467020470053074,0.59211523881728589,null,null,-1,-1,-1,-1,{"$f":"IF(#REF!=0,0,IF(#REF!=#REF!,#REF!-#REF!,0))","v":{"$error":"#REF!"}},5000,1250,375,13,312,11,250,9,187,6,87,3,37,1]
[{"$f":"Source!A127","v":"ZYX Signal Limited"},{"$f":"Source!B127","v":"THCB"},{"$f":"Source!C127","v":{"$error":"#VALUE!"}},{"$f":"Source!D127","v":"Holding Companies"},{"$f":"Source!E127","v":9.16},{"$f":"Source!F127","v":25.2},{"$f":"Source!G127","v":14.68},{"$f":"Source!H127","v":14.557499999999999},null,null,null,null,null,null,null,null,-1,-1,{"$error":"#DIV/0!"},{"$error":"#DIV/0!"},null,null,-1,-1,{"$error":"#DIV/0!"},{"$error":"#DIV/0!"},null,null,-1,-1,{"$error":"#DIV/0!"},{"$error":"#DIV/0!"},{"$f":"IF(#REF!=0,0,IF(#REF!=#REF!,#REF!-#REF!,0))","v":{"$error":"#REF!"}},5000,0,0,0,0,0,0,0,0,0,0,0,0,0]
[{"$f":"Source!A128","v":"ZYX Pot"},{"$f":"Source!B128","v":"TLRY"},{"$f":"Source!C128","v":{"$error":"#VALUE!"}},{"$f":"Source!D128","v":"Pharmaceuticals"},{"$f":"Source!E128","v":2.4300000000000002},{"$f":"Source!F128","v":67},{"$f":"Source!G128","v":28.195},{"$f":"Source!H128","v":26.42},13.37,21.88,0.05,0.1,null,null,"Suspended","Suspended",{"$error":"#VALUE!"},{"$error":"#VALUE!"},{"$error":"#VALUE!"},{"$error":"#VALUE!"},null,null,-1,-1,-1,-1,null,null,-1,-1,-1,-1,{"$f":"IF(#REF!=0,0,IF(#REF!=#REF!,#REF!-#REF!,0))","v":{"$error":"#REF!"}},5000,500,150,5,125,4,100,3,75,2,35,1,15,0]
[{"$f":"Source!A129","v":"ZYX Core Portfolio"},{"$f":"Source!B129","v":"TMUS"},{"$f":"Source!C129","v":{"$error":"#VALUE!"}},{"$f":"Source!D129","v":"Telecommunications Services"},{"$f":"Source!E129","v":63.5},{"$f":"Source!F129","v":135.54},{"$f":"Source!G129","v":125.99},{"$f":"Source!H129","v":126.23},105.26,118.88,0.3,0.5,null,null,165,185,0.30713776439832047,0.46557870553751085,0.56754702641079224,0.7575527265817974,null,null,-1,-1,-1,-1,null,null,-1,-1,-1,-1,{"$f":"IF(#REF!=0,0,IF(#REF!=#REF!,#REF!-#REF!,0))","v":{"$error":"#REF!"}},5000,2500,750,5,625,4,500,3,375,2,175,1,75,0]
[{"$f":"Source!A130","v":"ZYX Electric Cars"},{"$f":"Source!B130","v":"TPGY"},{"$f":"Source!C130","v":{"$error":"#VALUE!"}},{"$f":"Source!D130","v":"Holding Companies"},{"$f":"Source!E130","v":9.76},{"$f":"Source!F130","v":34.28},{"$f":"Source!G130","v":18.18},{"$f":"Source!H130","v":17.87},null,null,null,null,null,null,null,null,-1,-1,{"$error":"#DIV/0!"},{"$error":"#DIV/0!"},null,null,-1,-1,{"$error":"#DIV/0!"},{"$error":"#DIV/0!"},null,null,-1,-1,{"$error":"#DIV/0!"},{"$error":"#DIV/0!"},{"$f":"IF(#REF!=0,0,IF(#REF!=#REF!,#REF!-#REF!,0))","v":{"$error":"#REF!"}},5000,0,0,0,0,0,0,0,0,0,0,0,0,0]
[{"$f":"Source!A131","v":"ZYX Electric Cars"},{"$f":"Source!B131","v":"TSLA"},{"$f":"Source!C131","v":{"$error":"#VALUE!"}},{"$f":"Source!D131","v":"Automobiles & Auto Parts"},{"$f":"Source!E131","v":70.102000000000004},{"$f":"Source!F131","v":900.4},{"$f":"Source!G131","v":699.6},{"$f":"Source!H131","v":681.51880000000006},null,null,null,null,null,null,null,null,-1,-1,{"$error":"#DIV/0!"},{"$error":"#DIV/0!"},null,null,-1,-1,{"$error":"#DIV/0!"},{"$error":"#DIV/0!"},null,null,-1,-1,{"$error":"#DIV/0!"},{"$error":"#DIV/0!"},{"$f":"IF(#REF!=0,0,IF(#REF!=#REF!,#REF!-#REF!,0))","v":{"$error":"#REF!"}},5000,0,0,0,0,0,0,0,0,0,0,0,0,0]
[{"$f":"Source!A132","v":"ZYX Core Portfolio"},{"$f":"Source!B132","v":"TSM"},{"$f":"Source!C132","v":{"$error":"#VALUE!"}},{"$f":"Source!D132","v":"Semiconductors & Semiconductor Equipment"},{"$f":"Source!E132","v":42.7},{"$f":"Source!F132","v":142.19499999999999},{"$f":"Source!G132","v":120.58},{"$f":"Source!H132","v":118.79},93.11,105.81,0.25,0.35000000000000003,null,null,167,178,0.40584224261301449,0.49844262985099747,0.79357748899151537,0.91171732359574698,null,null,-1,-1,-1,-1,null,null,-1,-1,-1,-1,{"$f":"IF(#REF!=0,0,IF(#REF!=#REF!,#REF!-#REF!,0))","v":{"$error":"#REF!"}},5000,1750,525,4,437,3,350,2,262,2,122,1,52,0]
[{"$f":"Source!A133","v":"ZYX Signal Limited"},{"$f":"Source!B133","v":"TWM"},{"$f":"Source!C133","v":{"$error":"#VALUE!"}},{"$f":"Source!D133","v":{"$error":"#VALUE!"}},{"$f":"Source!E133","v":13.615},{"$f":"Source!F133","v":120.3008},{"$f":"Source!G133","v":13.66},{"$f":"Source!H133","v":13.6313},null,null,null,null,null,null,null,null,{"$f":"SUM(O133-$H133)/$H133","v":-1},{"$f":"SUM(P133-$H133)/$H133","v":-1},{"$f":"SUM(O133-$I133)/$I133","v":{"$error":"#DIV/0!"}},{"$f":"SUM(P133-$I133)/$I133","v":{"$error":"#DIV/0!"}},null,null,{"$f":"SUM(U133-$H133)/$H133","v":-1},{"$f":"SUM(V133-$H133)/$H133","v":-1},{"$f":"SUM(U133-$I133)/$I133","v":{"$error":"#DIV/0!"}},{"$f":"SUM(V133-$I133)/$I133","v":{"$error":"#DIV/0!"}},null,null,{"$f":"SUM(AA133-$H133)/$H133","v":-1},{"$f":"SUM(AB133-$H133)/$H133","v":-1},{"$f":"SUM(AA133-$I133)/$I133","v":{"$error":"#DIV/0!"}},{"$f":"SUM(AB133-$I133)/$I133","v":{"$error":"#DIV/0!"}},{"$f":"IF(#REF!=0,0,IF(#REF!=#REF!,#REF!-#REF!,0))","v":{"$error":"#REF!"}},5000,{"$f":"ROUNDDOWN(SUM($L133*$AH133),0)","v":0},{"$f":"ROUNDDOWN(SUM($AI133*AJ$3),0)","v":0},{"$f":"ROUNDDOWN(SUM(AJ133/$H133),0)","v":0},{"$f":"ROUNDDOWN(SUM($AI133*AL$3),0)","v":0},{"$f":"ROUNDDOWN(SUM(AL133/$H133),0)","v":0},{"$f":"ROUNDDOWN(SUM($AI133*AN$3),0)","v":0},{"$f":"ROUNDDOWN(SUM(AN133/$H133),0)","v":0},{"$f":"ROUNDDOWN(SUM($AI133*AP$3),0)","v":0},{"$f":"ROUNDDOWN(SUM(AP133/$H133),0)","v":0},{"$f":"ROUNDDOWN(SUM($AI133*AR$3),0)","v":0},{"$f":"ROUNDDOWN(SUM(AR133/$H133),0)","v":0},{"$f":"ROUNDDOWN(SUM($AI133*AT$3),0)","v":0},{"$f":"ROUNDDOWN(SUM(AT133/$H133),0)","v":0}]
[{"$f":"Source!A134","v":"ZYX Core Portfolio"},{"$f":"Source!B134","v":"TWTR"},{"$f":"Source!C134","v":{"$error":"#VALUE!"}},{"$f":"Source!D134","v":"Software & IT Services"},{"$f":"Source!E134","v":20},{"$f":"Source!F134","v":80.75},{"$f":"Source!G134","v":68.459999999999994},{"$f":"Source!H134","v":67.75},52.39,60.56,0.2,0.35,null,null,94,102,0.38745387453874541,0.50553505535055354,0.79423554113380412,0.9469364382515747,140,156,1.0664206642066421,1.3025830258302582,1.6722656995609848,1.977667493796526,null,null,-1,-1,-1,-1,{"$f":"IF(#REF!=0,0,IF(#REF!=#REF!,#REF!-#REF!,0))","v":{"$error":"#REF!"}},{"$f":"$AH$5","v":5000},1750,525,7,437,6,350,5,262,3,122,1,52,0]
[{"$f":"Source!A135","v":"Oil"},{"$f":"Source!B135","v":"TYG"},{"$f":"Source!C135","v":{"$error":"#VALUE!"}},{"$f":"Source!D135","v":{"$error":"#VALUE!"}},{"$f":"Source!E135","v":4.5999999999999996},{"$f":"Source!F135","v":25.46},{"$f":"Source!G135","v":25.18},{"$f":"Source!H135","v":25.02},null,null,null,null,null,null,null,null,-1,-1,{"$error":"#DIV/0!"},{"$error":"#DIV/0!"},null,null,-1,-1,{"$error":"#DIV/0!"},{"$error":"#DIV/0!"},null,null,-1,-1,{"$error":"#DIV/0!"},{"$error":"#DIV/0!"},{"$f":"IF(#REF!=0,0,IF(#REF!=#REF!,#REF!-#REF!,0))","v":{"$error":"#REF!"}},5000,0,0,0,0,0,0,0,0,0,0,0,0,0]
[{"$f":"Source!A136","v":"ZYX Core Portfolio"},{"$f":"Source!B136","v":"UBER"},{"$f":"Source!C136","v":{"$error":"#VALUE!"}},{"$f":"Source!D136","v":"Software & IT Services"},{"$f":"Source!E136","v":13.71},{"$f":"Source!F136","v":64.05},{"$f":"Source!G136","v":58.95},{"$f":"Source!H136","v":58.25},40.369999999999997,45.62,0.2,0.35000000000000003,null,null,116,124,0.99141630901287559,1.1287553648068669,1.8734208570720832,2.0715878127322269,null,null,-1,-1,-1,-1,null,null,-1,-1,-1,-1,{"$f":"IF(#REF!=0,0,IF(#REF!=#REF!,#REF!-#REF!,0))","v":{"$error":"#REF!"}},5000,1750,525,9,437,7,350,6,262,4,122,2,52,0]
[{"$f":"Source!A137","v":"ZYX Signal Limited"},{"$f":"Source!B137","v":"UNFI"},{"$f":"Source!C137","v":{"$error":"#VALUE!"}},{"$f":"Source!D137","v":"Food & Drug Retailing"},{"$f":"Source!E137","v":5.0549999999999997},{"$f":"Source!F137","v":40.24},{"$f":"Source!G137","v":39.24},{"$f":"Source!H137","v":39.19},27,29.76,null,0.2,24.06,25.43,36,42,-8.1398315896912418E-2,7.170196478693551E-2,0.33333333333333331,0.55555555555555558,58,75,0.47996937994386329,0.91375350854809911,1.1481481481481481,1.7777777777777777,null,null,-1,-1,-1,-1,{"$f":"IF(#REF!=0,0,IF(#REF!=#REF!,#REF!-#REF!,0))","v":{"$error":"#REF!"}},5000,1000,300,7,250,6,200,5,150,3,70,1,30,0]
[{"$f":"Source!A138","v":"ZYX Signal Limited"},{"$f":"Source!B138","v":"VACQ"},{"$f":"Source!C138","v":{"$error":"#VALUE!"}},{"$f":"Source!D138","v":"Holding Companies"},{"$f":"Source!E138","v":9.7200000000000006},{"$f":"Source!F138","v":15.15},{"$f":"Source!G138","v":12.41},{"$f":"Source!H138","v":12.2},10.41,12.18,null,0.2,8.3800000000000008,8.68,15.02,16.73,0.2311475409836066,0.37131147540983617,0.44284341978866471,0.60710854947166193,19.13,22.5,0.56803278688524594,0.84426229508196737,0.83765609990393841,1.1613832853025936,28,34,1.2950819672131149,1.7868852459016396,1.6897214217098944,2.2660902977905861,{"$f":"IF(#REF!=0,0,IF(#REF!=#REF!,#REF!-#REF!,0))","v":{"$error":"#REF!"}},5000,1000,300,24,250,20,200,16,150,12,70,5,30,2]
[{"$f":"Source!A139","v":"ZYX Signal Limited"},{"$f":"Source!B139","v":"VSPR"},{"$f":"Source!C139","v":{"$error":"#VALUE!"}},{"$f":"Source!D139","v":"Holding Companies"},{"$f":"Source!E139","v":10.01},{"$f":"Source!F139","v":12.84},{"$f":"Source!G139","v":10.81},{"$f":"Source!H139","v":10.58},null,null,null,null,null,null,null,null,-1,-1,{"$error":"#DIV/0!"},{"$error":"#DIV/0!"},null,null,-1,-1,{"$error":"#DIV/0!"},{"$error":"#DIV/0!"},null,null,-1,-1,{"$error":"#DIV/0!"},{"$error":"#DIV/0!"},{"$f":"IF(#REF!=0,0,IF(#REF!=#REF!,#REF!-#REF!,0))","v":{"$error":"#REF!"}},5000,0,0,0,0,0,0,0,0,0,0,0,0,0]
[{"$f":"Source!A140","v":"ZYX Signal Limited"},{"$f":"Source!B140","v":"VTRS"},{"$f":"Source!C140","v":{"$error":"#VALUE!"}},{"$f":"Source!D140","v":"Pharmaceuticals"},{"$f":"Source!E140","v":12.75},{"$f":"Source!F140","v":19.239999999999998},{"$f":"Source!G140","v":14.1},{"$f":"Source!H140","v":14.234999999999999},null,null,null,null,null,null,null,null,-1,-1,{"$error":"#DIV/0!"},{"$error":"#DIV/0!"},null,null,-1,-1,{"$error":"#DIV/0!"},{"$error":"#DIV/0!"},null,null,-1,-1,{"$error":"#DIV/0!"},{"$error":"#DIV/0!"},{"$f":"IF(#REF!=0,0,IF(#REF!=#REF!,#REF!-#REF!,0))","v":{"$error":"#REF!"}},5000,0,0,0,0,0,0,0,0,0,0,0,0,0]
[{"$f":"Source!A141","v":"ZYX Signal Limited"},{"$f":"Source!B141","v":"WIFI"},{"$f":"Source!C141","v":{"$error":"#VALUE!"}},{"$f":"Source!D141","v":"Telecommunications Services"},{"$f":"Source!E141","v":6.66},{"$f":"Source!F141","v":15.92},{"$f":"Source!G141","v":14.11},{"$f":"Source!H141","v":14.13},13,14,null,0.1,13.18,13.38,15,16,6.1571125265392726E-2,0.1323425336164189,0.15384615384615385,0.23076923076923078,null,null,-1,-1,-1,-1,null,null,-1,-1,-1,-1,{"$f":"IF(#REF!=0,0,IF(#REF!=#REF!,#REF!-#REF!,0))","v":{"$error":"#REF!"}},5000,500,150,10,125,8,100,7,75,5,35,2,15,1]
[{"$f":"Source!A142","v":"ZYX Core Portfolio"},{"$f":"Source!B142","v":"WMT"},{"$f":"Source!C142","v":{"$error":"#VALUE!"}},{"$f":"Source!D142","v":"Food & Drug Retailing"},{"$f":"Source!E142","v":102},{"$f":"Source!F142","v":153.65969999999999},{"$f":"Source!G142","v":132.13},{"$f":"Source!H142","v":132.76070000000001},125.24,138.27000000000001,0.2,0.4,null,null,211,226,0.5893257567939908,0.70231100016797121,0.68476525071862027,0.80453529223890141,null,null,-1,-1,-1,-1,null,null,-1,-1,-1,-1,{"$f":"IF(#REF!=0,0,IF(#REF!=#REF!,#REF!-#REF!,0))","v":{"$error":"#REF!"}},5000,2000,600,4,500,3,400,3,300,2,140,1,60,0]
[{"$f":"Source!A143","v":"ZYX Signal Limited"},{"$f":"Source!B143","v":"WOW"},{"$f":"Source!C143","v":{"$error":"#VALUE!"}},{"$f":"Source!D143","v":"Media & Publishing"},{"$f":"Source!E143","v":2.9453},{"$f":"Source!F143","v":18.2},{"$f":"Source!G143","v":16.87},{"$f":"Source!H143","v":17.149999999999999},null,null,null,null,null,null,null,null,-1,-1,{"$error":"#DIV/0!"},{"$error":"#DIV/0!"},null,null,-1,-1,{"$error":"#DIV/0!"},{"$error":"#DIV/0!"},null,null,-1,-1,{"$error":"#DIV/0!"},{"$error":"#DIV/0!"},{"$f":"IF(#REF!=0,0,IF(#REF!=#REF!,#REF!-#REF!,0))","v":{"$error":"#REF!"}},5000,0,0,0,0,0,0,0,0,0,0,0,0,0]
[{"$f":"Source!A144","v":"ZYX Signal Limited"},{"$f":"Source!B144","v":"XL"},{"$f":"Source!C144","v":{"$error":"#VALUE!"}},{"$f":"Source!D144","v":"Automobiles & Auto Parts"},{"$f":"Source!E144","v":9.5},{"$f":"Source!F144","v":35},{"$f":"Source!G144","v":12.73},{"$f":"Source!H144","v":12.432700000000001},null,null,null,null,null,null,null,null,-1,-1,{"$error":"#DIV/0!"},{"$error":"#DIV/0!"},null,null,-1,-1,{"$error":"#DIV/0!"},{"$error":"#DIV/0!"},null,null,-1,-1,{"$error":"#DIV/0!"},{"$error":"#DIV/0!"},{"$f":"IF(#REF!=0,0,IF(#REF!=#REF!,#REF!-#REF!,0))","v":{"$error":"#REF!"}},5000,0,0,0,0,0,0,0,0,0,0,0,0,0]
[{"$f":"Source!A145","v":"ZYX Signal Limited"},{"$f":"Source!B145","v":"XSPA"},{"$f":"Source!C145","v":{"$error":"#VALUE!"}},{"$f":"Source!D145","v":"Personal & Household Products & Services"},{"$f":"Source!E145","v":0.15},{"$f":"Source!F145","v":8.82},{"$f":"Source!G145","v":1.95},{"$f":"Source!H145","v":1.94},null,null,null,null,null,null,null,null,-1,-1,{"$error":"#DIV/0!"},{"$error":"#DIV/0!"},null,null,-1,-1,{"$error":"#DIV/0!"},{"$error":"#DIV/0!"},null,null,-1,-1,{"$error":"#DIV/0!"},{"$error":"#DIV/0!"},{"$f":"IF(#REF!=0,0,IF(#REF!=#REF!,#REF!-#REF!,0))","v":{"$error":"#REF!"}},5000,0,0,0,0,0,0,0,0,0,0,0,0,0]
[{"$f":"Source!A146","v":"ZYX Signal Limited"},{"$f":"Source!B146","v":"YQ"},{"$f":"Source!C146","v":{"$error":"#VALUE!"}},{"$f":"Source!D146","v":{"$error":"#VALUE!"}},{"$f":"Source!E146","v":10},{"$f":"Source!F146","v":23.93},{"$f":"Source!G146","v":11.51},{"$f":"Source!H146","v":11.16},null,null,null,null,null,null,null,null,-1,-1,{"$error":"#DIV/0!"},{"$error":"#DIV/0!"},null,null,-1,-1,{"$error":"#DIV/0!"},{"$error":"#DIV/0!"},null,null,-1,-1,{"$error":"#DIV/0!"},{"$error":"#DIV/0!"},{"$f":"IF(#REF!=0,0,IF(#REF!=#REF!,#REF!-#REF!,0))","v":{"$error":"#REF!"}},5000,0,0,0,0,0,0,0,0,0,0,0,0,0]
[{"$f":"Source!A147","v":"ZYX Signal Limited"},{"$f":"Source!B147","v":"YUMC"},{"$f":"Source!C147","v":{"$error":"#VALUE!"}},{"$f":"Source!D147","v":"Hotels & Entertainment Services"},{"$f":"Source!E147","v":38.33},{"$f":"Source!F147","v":64.64},{"$f":"Source!G147","v":61.65},{"$f":"Source!H147","v":61.08},null,null,null,null,null,null,null,null,-1,-1,{"$error":"#DIV/0!"},{"$error":"#DIV/0!"},null,null,-1,-1,{"$error":"#DIV/0!"},{"$error":"#DIV/0!"},null,null,-1,-1,{"$error":"#DIV/0!"},{"$error":"#DIV/0!"},{"$f":"IF(#REF!=0,0,IF(#REF!=#REF!,#REF!-#REF!,0))","v":{"$error":"#REF!"}},5000,0,0,0,0,0,0,0,0,0,0,0,0,0]
[{"$f":"Source!A148","v":"Motley Fool"},{"$f":"Source!B148","v":"ZM"},{"$f":"Source!C148","v":{"$error":"#VALUE!"}},{"$f":"Source!D148","v":"Software & IT Services"},{"$f":"Source!E148","v":102},{"$f":"Source!F148","v":588.84},{"$f":"Source!G148","v":355.17},{"$f":"Source!H148","v":347.29},null,null,null,null,null,null,null,null,-1,-1,{"$error":"#DIV/0!"},{"$error":"#DIV/0!"},null,null,-1,-1,{"$error":"#DIV/0!"},{"$error":"#DIV/0!"},null,null,-1,-1,{"$error":"#DIV/0!"},{"$error":"#DIV/0!"},{"$f":"IF(#REF!=0,0,IF(#REF!=#REF!,#REF!-#REF!,0))","v":{"$error":"#REF!"}},5000,0,0,0,0,0,0,0,0,0,0,0,0,0]

{"sheet":"Sheet1","index":2,"n_rows":148,"n_cols":50,"rows_kept":148,"cut":false,"hidden":false,"merged":[[3,39,3,40],[3,41,3,42],[3,43,3,44],[3,45,3,46],[2,22,2,23],[2,26,2,27],[2,30,2,31],[3,35,3,36],[3,37,3,38],[3,30,3,31],[3,20,3,21],[3,22,3,23],[3,24,3,25],[3,26,3,27],[3,28,3,29],[3,8,3,9],[3,12,3,13],[3,14,3,15],[3,16,3,17],[3,18,3,19],[3,10,3,11],[2,10,2,11],[1,10,1,11],[0,10,0,11],[0,12,0,13],[1,12,1,13],[2,12,2,13],[2,14,2,15],[1,14,1,15],[0,14,0,15],[2,16,2,17],[1,16,1,17],[0,16,0,17],[1,18,1,19],[0,18,0,19],[2,20,2,21],[1,20,1,21],[0,20,0,21],[1,30,1,31],[0,30,0,31],[2,8,2,9],[1,8,1,9],[0,8,0,9],[1,26,1,27],[0,26,0,27],[2,28,2,29],[1,28,1,29],[0,28,0,29],[1,22,1,23],[0,22,0,23],[2,24,2,25],[1,24,1,25],[0,24,0,25],[2,18,2,19],[2,45,2,46],[1,45,1,46],[0,45,0,46],[0,43,0,44],[1,43,1,44],[2,43,2,44],[2,41,2,42],[1,41,1,42],[0,41,0,42],[0,39,0,40],[1,39,1,40],[2,39,2,40],[2,37,2,38],[1,37,1,38],[0,37,0,38],[0,35,0,36],[1,35,1,36],[2,35,2,36]]}
[]
[null,null,null,null,null,null,null,null,null,null,null,null,null,null,null,null,null,null,null,null,null,null,null,null,null,null,null,null,null,null,null,null,null,null,"Top of Range",1,null,"Middle",null,1,null,1.05,null,1.1000000000000001,null,1.1499999999999999]
[null,null,"https://zyxbuyfeed.thearorareport.com/",null,null,null,null,null,null,null,null,null,null,null,null,null,null,null,null,null,null,null,null,null,null,null,null,null,null,null,null,null,null,null,"x",0.3,null,0.25,null,0.2,null,0.15,null,7.0000000000000007E-2,null,0.03]
["Portfolio","SYMBOL","Name","Industry","52 week low","52 week high","Previous","Current","Best Way Buy Zone",null,"Size Range",null,"Stop Zone",null,"1st Target Zone",null,"1stTarget\nvs Current",null,"1stTarget\nvs BuyZone",null,"2nd Target Zone",null,"2ndTarget\nvs Current",null,"2ndTarget\nvs BuyZone",null,"3rd Target Zone",null,"3rdTarget\nvs Current",null,"3rdTarget\nvs BuyZone",null,"Gamble","Maximum\nCash","Cash","Bottom of Buy Zn",null,"Middle of Buy Zone",null,"Top of Buy Zone",null,"Within 5%",null,"Within 10%",null,"Within 15%",null,null,"Color Criteria","Formula"]
[{"$f":"Source!A5","v":"ZYX Signal Limited"},{"$f":"Source!B5","v":"AAL"},{"$f":"Source!C5","v":{"$error":"#VALUE!"}},{"$f":"Source!D5","v":"Passenger Transportation Services"},{"$f":"Source!E5","v":8.25},{"$f":"Source!F5","v":22.8},{"$f":"Source!G5","v":22.15},{"$f":"Source!H5","v":22.614999999999998},null,null,null,null,null,null,null,null,{"$f":"SUM(O5-$H5)/$H5","v":-1},-1,{"$f":"SUM(O5-$I5)/$I5","v":{"$error":"#DIV/0!"}},{"$error":"#DIV/0!"},null,null,{"$f":"SUM(U5-$H5)/$H5","v":-1},-1,{"$f":"SUM(U5-$I5)/$I5","v":{"$error":"#DIV/0!"}},{"$error":"#DIV/0!"},null,null,{"$f":"SUM(AA5-$H5)/$H5","v":-1},-1,{"$f":"SUM(AA5-$I5)/$I5","v":{"$error":"#DIV/0!"}},{"$error":"#DIV/0!"},null,5000,{"$f":"ROUNDDOWN(SUM($L5*$AH5),0)","v":0},{"$f":"ROUNDDOWN(SUM($AI5*AJ$3),0)","v":0},{"$f":"ROUNDDOWN(SUM(AJ5/$H5),0)","v":0},{"$f":"ROUNDDOWN(SUM($AI5*AL$3),0)","v":0},{"$f":"ROUNDDOWN(SUM(AL5/$H5),0)","v":0},{"$f":"ROUNDDOWN(SUM($AI5*AN$3),0)","v":0},{"$f":"ROUNDDOWN(SUM(AN5/$H5),0)","v":0},{"$f":"ROUNDDOWN(SUM($AI5*AP$3),0)","v":0},{"$f":"ROUNDDOWN(SUM(AP5/$H5),0)","v":0},{"$f":"ROUNDDOWN(SUM($AI5*AR$3),0)","v":0},{"$f":"ROUNDDOWN(SUM(AR5/$H5),0)","v":0},{"$f":"ROUNDDOWN(SUM($AI5*AT$3),0)","v":0},{"$f":"ROUNDDOWN(SUM(AT5/$H5),0)","v":0}]
[{"$f":"Source!A6","v":"ZYX Core Portfolio"},{"$f":"Source!B6","v":"AAPL"},{"$f":"Source!C6","v":{"$error":"#VALUE!"}},{"$f":"Source!D6","v":"Computers, Phones & Household Electronics"},{"$f":"Source!E6","v":53.152500000000003},{"$f":"Source!F6","v":145.09},{"$f":"Source!G6","v":121.96},{"$f":"Source!H6","v":119.65},101.04,116.76,0.25,0.6,null,null,156,175,0.3038027580442958,0.46259924780610107,0.54394299287410919,0.73198733174980191,null,null,-1,-1,-1,-1,null,null,-1,-1,-1,-1,{"$f":"IF(#REF!=0,0,IF(#REF!=#REF!,#REF!-#REF!,0))","v":{"$error":"#REF!"}},{"$f":"$AH$5","v":5000},3000,900,7,750,6,600,5,450,3,210,1,90,{"$f":"ROUNDDOWN(SUM(AT6/$H6),0)","v":0}]
[{"$f":"Source!A7","v":"ZYX Signal Limited"},{"$f":"Source!B7","v":"AAPL"},{"$f":"Source!C7","v":{"$error":"#VALUE!"}},{"$f":"Source!D7","v":"Computers, Phones & Household Electronics"},{"$f":"Source!E7","v":53.152500000000003},{"$f":"Source!F7","v":145.09},{"$f":"Source!G7","v":121.96},{"$f":"Source!H7","v":119.65},null,null,null,null,null,null,null,null,-1,-1,{"$error":"#DIV/0!"},{"$error":"#DIV/0!"},null,null,-1,-1,{"$error":"#DIV/0!"},{"$error":"#DIV/0!"},null,null,-1,-1,{"$error":"#DIV/0!"},{"$error":"#DIV/0!"},{"$f":"IF(#REF!=0,0,IF(#REF!=#REF!,#REF!-#REF!,0))","v":{"$error":"#REF!"}},5000,0,0,0,0,0,0,0,0,0,0,0,0,0]
[{"$f":"Source!A8","v":"ZYX Signal Limited"},{"$f":"Source!B8","v":"ABNB"},{"$f":"Source!C8","v":{"$error":"#VALUE!"}},{"$f":"Source!D8","v":"Software & IT Services"},{"$f":"Source!E8","v":121.5},{"$f":"Source!F8","v":219.94},{"$f":"Source!G8","v":197.87},{"$f":"Source!H8","v":196},null,null,null,null,null,null,null,null,-1,-1,{"$error":"#DIV/0!"},{"$error":"#DIV/0!"},null,null,-1,-1,{"$error":"#DIV/0!"},{"$error":"#DIV/0!"},null,null,-1,-1,{"$error":"#DIV/0!"},{"$error":"#DIV/0!"},{"$f":"IF(#REF!=0,0,IF(#REF!=#REF!,#REF!-#REF!,0))","v":{"$error":"#REF!"}},5000,0,0,0,0,0,0,0,0,0,0,0,0,0]
[{"$f":"Source!A9","v":"ZYX Signal Limited"},{"$f":"Source!B9","v":"ACAC"},{"$f":"Source!C9","v":{"$error":"#VALUE!"}},{"$f":"Source!D9","v":"Holding Companies"},{"$f":"Source!E9","v":9.7200000000000006},{"$f":"Source!F9","v":13.2},{"$f":"Source!G9","v":10.51},{"$f":"Source!H9","v":10.2707},12,13.37,null,0.15,9.18,9.6300000000000008,16.73,18.23,0.62890552737398631,0.77495204805904183,0.39416666666666672,0.51916666666666667,23,28,1.2393799838375184,1.7262017194543704,0.91666666666666663,1.3333333333333333,38,42,2.699845190688074,3.0893025791815556,2.1666666666666665,2.5,{"$f":"IF(#REF!=0,0,IF(#REF!=#REF!,#REF!-#REF!,0))","v":{"$error":"#REF!"}},5000,750,225,21,187,18,150,14,112,10,52,5,22,2,null,null,{"$f":"SumConditionColorCells($A$3:$G$16,AW9)","v":"NO-COLOR"}]
[{"$f":"Source!A10","v":"ZYX Signal Limited"},{"$f":"Source!B10","v":"AFRM"},{"$f":"Source!C10","v":{"$error":"#VALUE!"}},{"$f":"Source!D10","v":"Software & IT Services"},{"$f":"Source!E10","v":70.05},{"$f":"Source!F10","v":146.9},{"$f":"Source!G10","v":81.25},{"$f":"Source!H10","v":78.22},null,null,null,null,null,null,null,null,-1,-1,{"$error":"#DIV/0!"},{"$error":"#DIV/0!"},null,null,-1,-1,{"$error":"#DIV/0!"},{"$error":"#DIV/0!"},null,null,-1,-1,{"$error":"#DIV/0!"},{"$error":"#DIV/0!"},{"$f":"IF(#REF!=0,0,IF(#REF!=#REF!,#REF!-#REF!,0))","v":{"$error":"#REF!"}},5000,0,0,0,0,0,0,0,0,0,0,0,0,0]
[{"$f":"Source!A11","v":"ZYX Signal Limited"},{"$f":"Source!B11","v":"AI"},{"$f":"Source!C11","v":{"$error":"#VALUE!"}},{"$f":"Source!D11","v":"Software & IT Services"},{"$f":"Source!E11","v":77},{"$f":"Source!F11","v":183.9},{"$f":"Source!G11","v":86.47},{"$f":"Source!H11","v":85.325000000000003},null,null,null,null,null,null,null,null,-1,-1,{"$error":"#DIV/0!"},{"$error":"#DIV/0!"},null,null,-1,-1,{"$error":"#DIV/0!"},{"$error":"#DIV/0!"},null,null,-1,-1,{"$error":"#DIV/0!"},{"$error":"#DIV/0!"},{"$f":"IF(#REF!=0,0,IF(#REF!=#REF!,#REF!-#REF!,0))","v":{"$error":"#REF!"}},5000,0,0,0,0,0,0,0,0,0,0,0,0,0]
[{"$f":"Source!A12","v":"ZYX Core Portfolio"},{"$f":"Source!B12","v":"AIG"},{"$f":"Source!C12","v":{"$error":"#VALUE!"}},{"$f":"Source!D12","v":"Insurance"},{"$f":"Source!E12","v":16.07},{"$f":"Source!F12","v":48.92},{"$f":"Source!G12","v":48.01},{"$f":"Source!H12","v":48.435000000000002},33.11,38.72,0.2,0.6,null,null,75,80,0.54846701765252392,0.65169815216269222,1.265176683781335,1.4161884627000907,null,null,-1,-1,-1,-1,null,null,-1,-1,-1,-1,{"$f":"IF(#REF!=0,0,IF(#REF!=#REF!,#REF!-#REF!,0))","v":{"$error":"#REF!"}},5000,3000,900,18,750,15,600,12,450,9,210,4,90,1]
[{"$f":"Source!A13","v":"ZYX Core Portfolio"},{"$f":"Source!B13","v":"AMAT"},{"$f":"Source!C13","v":{"$error":"#VALUE!"}},{"$f":"Source!D13","v":"Semiconductors & Semiconductor Equipment"},{"$f":"Source!E13","v":36.64},{"$f":"Source!F13","v":124.5},{"$f":"Source!G13","v":117.19},{"$f":"Source!H13","v":115.7199},78.52,92.13,0.2,0.45,null,null,152,166,0.313516517038124,0.43449830150216173,0.93581253183902202,1.1141110545084056,null,null,-1,-1,-1,-1,null,null,-1,-1,-1,-1,{"$f":"IF(#REF!=0,0,IF(#REF!=#REF!,#REF!-#REF!,0))","v":{"$error":"#REF!"}},5000,2250,675,5,562,4,450,3,337,2,157,1,67,0]
[{"$f":"Source!A14","v":"ZYX Signal Limited"},{"$f":"Source!B14","v":"AMAT"},{"$f":"Source!C14","v":{"$error":"#VALUE!"}},{"$f":"Source!D14","v":"Semiconductors & Semiconductor Equipment"},{"$f":"Source!E14","v":36.64},{"$f":"Source!F14","v":124.5},{"$f":"Source!G14","v":117.19},{"$f":"Source!H14","v":115.7199},null,null,null,null,null,null,null,null,-1,-1,{"$error":"#DIV/0!"},{"$error":"#DIV/0!"},null,null,-1,-1,{"$error":"#DIV/0!"},{"$error":"#DIV/0!"},null,null,-1,-1,{"$error":"#DIV/0!"},{"$error":"#DIV/0!"},{"$f":"IF(#REF!=0,0,IF(#REF!=#REF!,#REF!-#REF!,0))","v":{"$error":"#REF!"}},5000,0,0,0,0,0,0,0,0,0,0,0,0,0]
[{"$f":"Source!A15","v":"ZYX Signal Limited"},{"$f":"Source!B15","v":"AMCX"},{"$f":"Source!C15","v":{"$error":"#VALUE!"}},{"$f":"Source!D15","v":"Media & Publishing"},{"$f":"Source!E15","v":19.62},{"$f":"Source!F15","v":75.150000000000006},{"$f":"Source!G15","v":73.599999999999994},{"$f":"Source!H15","v":75.12},20.56,23.88,null,0.3,19,19.43,78,87,3.8338658146964792E-2,0.15814696485622995,2.7937743190661477,3.2315175097276265,null,null,-1,-1,-1,-1,null,null,-1,-1,-1,-1,{"$f":"IF(#REF!=0,0,IF(#REF!=#REF!,#REF!-#REF!,0))","v":{"$error":"#REF!"}},5000,1500,450,5,375,4,300,3,225,2,105,1,45,0]
[{"$f":"Source!A16","v":"ZYX Core Portfolio"},{"$f":"Source!B16","v":"AMZN"},{"$f":"Source!C16","v":{"$error":"#VALUE!"}},{"$f":"Source!D16","v":"Diversified Retail"},{"$f":"Source!E16","v":1626.0318},{"$f":"Source!F16","v":3552.25},{"$f":"Source!G16","v":3113.5900999999999},{"$f":"Source!H16","v":3081.88},2878,3109,0.15,0.3,null,null,4200,4800,0.36280452191519458,0.55749088218879383,0.45934676858929813,0.66782487838776927,null,null,-1,-1,-1,-1,null,null,-1,-1,-1,-1,{"$f":"IF(#REF!=0,0,IF(#REF!=#REF!,#REF!-#REF!,0))","v":{"$error":"#REF!"}},5000,1500,450,0,375,0,300,0,225,0,105,0,45,0]
[{"$f":"Source!A17","v":"ZYX Pot"},{"$f":"Source!B17","v":"APHA"},{"$f":"Source!C17","v":{"$error":"#VALUE!"}},{"$f":"Source!D17","v":"Pharmaceuticals"},{"$f":"Source!E17","v":1.95},{"$f":"Source!F17","v":32.29},{"$f":"Source!G17","v":19.86},{"$f":"Source!H17","v":19.100000000000001},8.51,12.78,0.2,0.3,null,null,"Suspended","Suspended",{"$error":"#VALUE!"},{"$error":"#VALUE!"},{"$error":"#VALUE!"},{"$error":"#VALUE!"},null,null,-1,-1,-1,-1,null,null,-1,-1,-1,-1,{"$f":"IF(#REF!=0,0,IF(#REF!=#REF!,#REF!-#REF!,0))","v":{"$error":"#REF!"}},5000,1500,450,23,375,19,300,15,225,11,105,5,45,2]
[{"$f":"Source!A18","v":"Motley Fool"},{"$f":"Source!B18","v":"APPN"},{"$f":"Source!C18","v":{"$error":"#VALUE!"}},{"$f":"Source!D18","v":"Software & IT Services"},{"$f":"Source!E18","v":29.07},{"$f":"Source!F18","v":260},{"$f":"Source!G18","v":173.92},{"$f":"Source!H18","v":169.53},null,null,null,null,null,null,null,null,-1,-1,{"$error":"#DIV/0!"},{"$error":"#DIV/0!"},null,null,-1,-1,{"$error":"#DIV/0!"},{"$error":"#DIV/0!"},null,null,-1,-1,{"$error":"#DIV/0!"},{"$error":"#DIV/0!"},{"$f":"IF(#REF!=0,0,IF(#REF!=#REF!,#REF!-#REF!,0))","v":{"$error":"#REF!"}},5000,0,0,0,0,0,0,0,0,0,0,0,0,0]
[{"$f":"Source!A19","v":"ZYX Signal Limited"},{"$f":"Source!B19","v":"APT"},{"$f":"Source!C19","v":{"$error":"#VALUE!"}},{"$f":"Source!D19","v":"Healthcare Equipment & Supplies"},{"$f":"Source!E19","v":8.56},{"$f":"Source!F19","v":25.55},{"$f":"Source!G19","v":10.43},{"$f":"Source!H19","v":10.4},null,null,null,null,null,null,null,null,-1,-1,{"$error":"#DIV/0!"},{"$error":"#DIV/0!"},null,null,-1,-1,{"$error":"#DIV/0!"},{"$error":"#DIV/0!"},null,null,-1,-1,{"$error":"#DIV/0!"},{"$error":"#DIV/0!"},{"$f":"IF(#REF!=0,0,IF(#REF!=#REF!,#REF!-#REF!,0))","v":{"$error":"#REF!"}},5000,0,0,0,0,0,0,0,0,0,0,0,0,0]
[{"$f":"Source!A20","v":"ZYX Signal Limited"},{"$f":"Source!B20","v":"APXT"},{"$f":"Source!C20","v":{"$error":"#VALUE!"}},{"$f":"Source!D20","v":"Holding Companies"},{"$f":"Source!E20","v":9.125},{"$f":"Source!F20","v":17.899999999999999},{"$f":"Source!G20","v":12.76},{"$f":"Source!H20","v":12.56},null,null,null,null,null,null,null,null,-1,-1,{"$error":"#DIV/0!"},{"$error":"#DIV/0!"},null,null,-1,-1,{"$error":"#DIV/0!"},{"$error":"#DIV/0!"},null,null,-1,-1,{"$error":"#DIV/0!"},{"$error":"#DIV/0!"},{"$f":"IF(#REF!=0,0,IF(#REF!=#REF!,#REF!-#REF!,0))","v":{"$error":"#REF!"}},5000,0,0,0,0,0,0,0,0,0,0,0,0,0]
[{"$f":"Source!A21","v":"ZYX Pot"},{"$f":"Source!B21","v":"ARNA"},{"$f":"Source!C21","v":{"$error":"#VALUE!"}},{"$f":"Source!D21","v":"Biotechnology & Medical Research"},{"$f":"Source!E21","v":32.950000000000003},{"$f":"Source!F21","v":90.19},{"$f":"Source!G21","v":75.66},{"$f":"Source!H21","v":75.900000000000006},46,50.57,0.1,0.25,36,39.43,110,120,0.44927536231884047,0.58102766798418959,1.3913043478260869,1.6086956521739131,null,null,-1,-1,-1,-1,null,null,-1,-1,-1,-1,{"$f":"IF(#REF!=0,0,IF(#REF!=#REF!,#REF!-#REF!,0))","v":{"$error":"#REF!"}},5000,1250,375,4,312,4,250,3,187,2,87,1,37,0]
[{"$f":"Source!A22","v":"ZYX Core Portfolio"},{"$f":"Source!B22","v":"ARRY"},{"$f":"Source!C22","v":{"$error":"#VALUE!"}},{"$f":"Source!D22","v":"Renewable Energy"},{"$f":"Source!E22","v":29.05},{"$f":"Source!F22","v":54.78},{"$f":"Source!G22","v":35.07},{"$f":"Source!H22","v":34.56},36.409999999999997,40.880000000000003,0.2,0.35000000000000003,null,null,78,83,1.2569444444444442,1.4016203703703702,1.1422686075254054,1.2795935182642133,null,null,-1,-1,-1,-1,null,null,-1,-1,-1,-1,{"$f":"IF(#REF!=0,0,IF(#REF!=#REF!,#REF!-#REF!,0))","v":{"$error":"#REF!"}},5000,1750,525,15,437,12,350,10,262,7,122,3,52,1]
[{"$f":"Source!A23","v":"ZYX Signal Limited"},{"$f":"Source!B23","v":"ASAN"},{"$f":"Source!C23","v":{"$error":"#VALUE!"}},{"$f":"Source!D23","v":"Software & IT Services"},{"$f":"Source!E23","v":20.57},{"$f":"Source!F23","v":43.72},{"$f":"Source!G23","v":33.94},{"$f":"Source!H23","v":32.200000000000003},null,null,null,null,null,null,null,null,-1,-1,{"$error":"#DIV/0!"},{"$error":"#DIV/0!"},null,null,-1,-1,{"$error":"#DIV/0!"},{"$error":"#DIV/0!"},null,null,-1,-1,{"$error":"#DIV/0!"},{"$error":"#DIV/0!"},{"$f":"IF(#REF!=0,0,IF(#REF!=#REF!,#REF!-#REF!,0))","v":{"$error":"#REF!"}},5000,0,0,0,0,0,0,0,0,0,0,0,0,0]
[{"$f":"Source!A24","v":"ZYX Core Portfolio"},{"$f":"Source!B24","v":"BABA"},{"$f":"Source!C24","v":{"$error":"#VALUE!"}},{"$f":"Source!D24","v":"Software & IT Services"},{"$f":"Source!E24","v":169.95},{"$f":"Source!F24","v":319.32},{"$f":"Source!G24","v":240.8},{"$f":"Source!H24","v":232.15},188.13,225.67,0.3,0.55000000000000004,null,null,375,390,0.61533491277191465,0.67994830928279126,0.99330250358794459,1.0730346037314624,null,null,-1,-1,-1,-1,null,null,-1,-1,-1,-1,{"$f":"IF(#REF!=0,0,IF(#REF!=#REF!,#REF!-#REF!,0))","v":{"$error":"#REF!"}},5000,2750,825,3,687,2,550,2,412,1,192,0,82,0]
[{"$f":"Source!A25","v":"ZYX Core Portfolio"},{"$f":"Source!B25","v":"BAC"},{"$f":"Source!C25","v":{"$error":"#VALUE!"}},{"$f":"Source!D25","v":"Banking Services"},{"$f":"Source!E25","v":17.95},{"$f":"Source!F25","v":38.176600000000001},{"$f":"Source!G25","v":37.24},{"$f":"Source!H25","v":37.82},24.63,28.33,0.2,0.6,null,null,47,51,0.24272871496562665,0.34849286092014808,0.90824198132358924,1.0706455542021924,null,null,-1,-1,-1,-1,null,null,-1,-1,-1,-1,{"$f":"IF(#REF!=0,0,IF(#REF!=#REF!,#REF!-#REF!,0))","v":{"$error":"#REF!"}},5000,3000,900,23,750,19,600,15,450,11,210,5,90,2]
[{"$f":"Source!A26","v":"ZYX Signal Limited"},{"$f":"Source!B26","v":"BFT"},{"$f":"Source!C26","v":{"$error":"#VALUE!"}},{"$f":"Source!D26","v":"Holding Companies"},{"$f":"Source!E26","v":9.5950000000000006},{"$f":"Source!F26","v":19.566199999999998},{"$f":"Source!G26","v":14.92},{"$f":"Source!H26","v":15.05},null,null,null,null,null,null,null,null,-1,-1,{"$error":"#DIV/0!"},{"$error":"#DIV/0!"},null,null,-1,-1,{"$error":"#DIV/0!"},{"$error":"#DIV/0!"},null,null,-1,-1,{"$error":"#DIV/0!"},{"$error":"#DIV/0!"},{"$f":"IF(#REF!=0,0,IF(#REF!=#REF!,#REF!-#REF!,0))","v":{"$error":"#REF!"}},5000,0,0,0,0,0,0,0,0,0,0,0,0,0]
[{"$f":"Source!A27","v":"ZYX Electric Cars"},{"$f":"Source!B27","v":"BLNK"},{"$f":"Source!C27","v":{"$error":"#VALUE!"}},{"$f":"Source!D27","v":"Electrical Utilities & IPPs"},{"$f":"Source!E27","v":1.25},{"$f":"Source!F27","v":64.5},{"$f":"Source!G27","v":41.4},{"$f":"Source!H27","v":39.344999999999999},null,null,null,null,null,null,null,null,-1,-1,{"$error":"#DIV/0!"},{"$error":"#DIV/0!"},null,null,-1,-1,{"$error":"#DIV/0!"},{"$error":"#DIV/0!"},null,null,-1,-1,{"$error":"#DIV/0!"},{"$error":"#DIV/0!"},{"$f":"IF(#REF!=0,0,IF(#REF!=#REF!,#REF!-#REF!,0))","v":{"$error":"#REF!"}},5000,0,0,0,0,0,0,0,0,0,0,0,0,0]
[{"$f":"Source!A28","v":"ZYX Signal Limited"},{"$f":"Source!B28","v":"BMBL"},{"$f":"Source!C28","v":"BMBL"},{"$f":"Source!D28","v":{"$error":"#VALUE!"}},{"$f":"Source!E28","v":{"$error":"#VALUE!"}},{"$f":"Source!F28","v":{"$error":"#VALUE!"}},{"$f":"Source!G28","v":{"$error":"#VALUE!"}},{"$f":"Source!H28","v":70.31},52,61.56,null,0.2,42.68,42.93,73,81,3.8259138102688064E-2,0.1520409614564073,0.40384615384615385,0.55769230769230771,null,null,-1,-1,-1,-1,null,null,-1,-1,-1,-1,{"$f":"IF(#REF!=0,0,IF(#REF!=#REF!,#REF!-#REF!,0))","v":{"$error":"#REF!"}},5000,1000,300,4,250,3,200,2,150,2,70,0,30,0]
[{"$f":"Source!A29","v":"ZYX Core Portfolio"},{"$f":"Source!B29","v":"BMY"},{"$f":"Source!C29","v":{"$error":"#VALUE!"}},{"$f":"Source!D29","v":"Pharmaceuticals"},{"$f":"Source!E29","v":45.76},{"$f":"Source!F29","v":67.159899999999993},{"$f":"Source!G29","v":60.35},{"$f":"Source!H29","v":60.755000000000003},57.7,60.77,0.25,0.4,null,null,100,110,0.64595506542671377,0.81055057196938518,0.73310225303292886,0.90641247833622174,null,null,-1,-1,-1,-1,null,null,-1,-1,-1,-1,{"$f":"IF(#REF!=0,0,IF(#REF!=#REF!,#REF!-#REF!,0))","v":{"$error":"#REF!"}},5000,2000,600,9,500,8,400,6,300,4,140,2,60,0]
[{"$f":"Source!A30","v":"ZYX Signal Limited"},{"$f":"Source!B30","v":"BNGO"},{"$f":"Source!C30","v":{"$error":"#VALUE!"}},{"$f":"Source!D30","v":"Healthcare Equipment & Supplies"},{"$f":"Source!E30","v":0.25},{"$f":"Source!F30","v":15.69},{"$f":"Source!G30","v":9.5299999999999994},{"$f":"Source!H30","v":9.15},null,null,null,null,null,null,null,null,-1,-1,{"$error":"#DIV/0!"},{"$error":"#DIV/0!"},null,null,-1,-1,{"$error":"#DIV/0!"},{"$error":"#DIV/0!"},null,null,-1,-1,{"$error":"#DIV/0!"},{"$error":"#DIV/0!"},null,5000,0,0,0,0,0,0,0,0,0,0,0,0,0]
[{"$f":"Source!A31","v":"ZYX Core Portfolio"},{"$f":"Source!B31","v":"BSX"},{"$f":"Source!C31","v":{"$error":"#VALUE!"}},{"$f":"Source!D31","v":"Healthcare Equipment & Supplies"},{"$f":"Source!E31","v":24.1},{"$f":"Source!F31","v":42.37},{"$f":"Source!G31","v":38.65},{"$f":"Source!H31","v":38.74},32.869999999999997,35.11,0.25,0.4,null,null,57,62,0.47134744450180682,0.60041300980898293,0.7341040462427747,0.88621843626407071,null,null,-1,-1,-1,-1,null,null,-1,-1,-1,-1,{"$f":"IF(#REF!=0,0,IF(#REF!=#REF!,#REF!-#REF!,0))","v":{"$error":"#REF!"}},5000,2000,600,15,500,12,400,10,300,7,140,3,60,1]
[{"$f":"Source!A32","v":"ZYX Trade Around"},{"$f":"Source!B32","v":"CAPA"},{"$f":"Source!C32","v":{"$error":"#VALUE!"}},{"$f":"Source!D32","v":"Holding Companies"},{"$f":"Source!E32","v":9.8800000000000008},{"$f":"Source!F32","v":25},{"$f":"Source!G32","v":13.64},{"$f":"Source!H32","v":13.2},10,13.35,null,0.2,9,9.43,28,33,1.1212121212121213,1.5000000000000002,1.8,2.2999999999999998,58,62,3.393939393939394,3.6969696969696968,4.8,5.2,107,125,7.1060606060606064,8.4696969696969706,9.6999999999999993,11.5,{"$f":"IF(#REF!=0,0,IF(#REF!=#REF!,#REF!-#REF!,0))","v":{"$error":"#REF!"}},5000,1000,300,22,250,18,200,15,150,11,70,5,30,2]
[{"$f":"Source!A33","v":"ZYX Signal Limited"},{"$f":"Source!B33","v":"CAPA"},{"$f":"Source!C33","v":{"$error":"#VALUE!"}},{"$f":"Source!D33","v":"Holding Companies"},{"$f":"Source!E33","v":9.8800000000000008},{"$f":"Source!F33","v":25},{"$f":"Source!G33","v":13.64},{"$f":"Source!H33","v":13.2},10,13.35,null,0.2,9,9.43,28,33,1.1212121212121213,1.5000000000000002,1.8,2.2999999999999998,58,62,3.393939393939394,3.6969696969696968,4.8,5.2,107,125,7.1060606060606064,8.4696969696969706,9.6999999999999993,11.5,{"$f":"IF(#REF!=0,0,IF(#REF!=#REF!,#REF!-#REF!,0))","v":{"$error":"#REF!"}},5000,1000,300,22,250,18,200,15,150,11,70,5,30,2]
[{"$f":"Source!A34","v":"ZYX Core Portfolio"},{"$f":"Source!B34","v":"CCL"},{"$f":"Source!C34","v":{"$error":"#VALUE!"}},{"$f":"Source!D34","v":"Hotels & Entertainment Services"},{"$f":"Source!E34","v":7.8},{"$f":"Source!F34","v":29.59},{"$f":"Source!G34","v":27.47},{"$f":"Source!H34","v":27.925000000000001},17.11,21.56,0.35000000000000003,0.55000000000000004,null,null,67,75,1.3992837958818265,1.6857654431512983,2.9158386908240796,3.3834015195791936,null,null,-1,-1,-1,-1,null,null,-1,-1,-1,-1,{"$f":"IF(#REF!=0,0,IF(#REF!=#REF!,#REF!-#REF!,0))","v":{"$error":"#REF!"}},5000,2750,825,29,687,24,550,19,412,14,192,6,82,2]
[{"$f":"Source!A35","v":"ZYX Signal Limited"},{"$f":"Source!B35","v":"CERT"},{"$f":"Source!C35","v":{"$error":"#VALUE!"}},{"$f":"Source!D35","v":"Software & IT Services"},{"$f":"Source!E35","v":24.9},{"$f":"Source!F35","v":41.79},{"$f":"Source!G35","v":27},{"$f":"Source!H35","v":26.83},null,null,null,null,null,null,null,null,-1,-1,{"$error":"#DIV/0!"},{"$error":"#DIV/0!"},null,null,-1,-1,{"$error":"#DIV/0!"},{"$error":"#DIV/0!"},null,null,-1,-1,{"$error":"#DIV/0!"},{"$error":"#DIV/0!"},{"$f":"IF(#REF!=0,0,IF(#REF!=#REF!,#REF!-#REF!,0))","v":{"$error":"#REF!"}},5000,0,0,0,0,0,0,0,0,0,0,0,0,0]
[{"$f":"Source!A36","v":"ZYX Pot"},{"$f":"Source!B36","v":"CGC"},{"$f":"Source!C36","v":{"$error":"#VALUE!"}},{"$f":"Source!D36","v":"Pharmaceuticals"},{"$f":"Source!E36","v":9},{"$f":"Source!F36","v":56.496499999999997},{"$f":"Source!G36","v":34.28},{"$f":"Source!H36","v":33.219900000000003},27.26,34.51,0.2,0.4,null,null,117,130,2.5219853160304515,2.9133170178116128,3.292002934702861,3.7688921496698455,null,null,-1,-1,-1,-1,null,null,-1,-1,-1,-1,{"$f":"IF(#REF!=0,0,IF(#REF!=#REF!,#REF!-#REF!,0))","v":{"$error":"#REF!"}},5000,2000,600,18,500,15,400,12,300,9,140,4,60,1]
[{"$f":"Source!A37","v":"ZYX Core Portfolio"},{"$f":"Source!B37","v":"CGC"},{"$f":"Source!C37","v":{"$error":"#VALUE!"}},{"$f":"Source!D37","v":"Pharmaceuticals"},{"$f":"Source!E37","v":9},{"$f":"Source!F37","v":56.496499999999997},{"$f":"Source!G37","v":34.28},{"$f":"Source!H37","v":33.219900000000003},26.13,30.31,0.2,0.4,null,null,66,74,{"$f":"SUM(O37-$H37)/$H37","v":0.98676094750435717},1.2275804562927641,{"$f":"SUM(O37-$I37)/$I37","v":1.5258323765786455},1.8319938767699964,null,null,{"$f":"SUM(U37-$H37)/$H37","v":-1},-1,{"$f":"SUM(U37-$I37)/$I37","v":-1},-1,null,null,{"$f":"SUM(AA37-$H37)/$H37","v":-1},-1,{"$f":"SUM(AA37-$I37)/$I37","v":-1},-1,{"$f":"IF(#REF!=0,0,IF(#REF!=#REF!,#REF!-#REF!,0))","v":{"$error":"#REF!"}},5000,2000,600,18,500,15,400,12,300,9,140,4,60,1]
[{"$f":"Source!A38","v":"ZYX Core Portfolio"},{"$f":"Source!B38","v":"CIEN"},{"$f":"Source!C38","v":{"$error":"#VALUE!"}},{"$f":"Source!D38","v":"Communications & Networking"},{"$f":"Source!E38","v":30.58},{"$f":"Source!F38","v":61.515000000000001},{"$f":"Source!G38","v":53.26},{"$f":"Source!H38","v":53.5},42.52,47.63,0.25,0.4,28,29.43,76,82,0.42056074766355139,0.53271028037383172,0.7873941674506113,0.9285042333019754,null,null,-1,-1,-1,-1,null,null,-1,-1,-1,-1,{"$f":"IF(#REF!=0,0,IF(#REF!=#REF!,#REF!-#REF!,0))","v":{"$error":"#REF!"}},5000,2000,600,11,500,9,400,7,300,5,140,2,60,1]
[{"$f":"Source!A39","v":"ZYX Core Portfolio"},{"$f":"Source!B39","v":"CLF"},{"$f":"Source!C39","v":{"$error":"#VALUE!"}},{"$f":"Source!D39","v":"Metals & Mining"},{"$f":"Source!E39","v":2.63},{"$f":"Source!F39","v":18.77},{"$f":"Source!G39","v":16.899999999999999},{"$f":"Source!H39","v":17.079999999999998},10.130000000000001,12.57,0.15,0.25,8.73,9.18,22,26,0.28805620608899313,0.52224824355971911,1.1717670286278379,1.5666337611056267,null,null,-1,-1,-1,-1,null,null,-1,-1,-1,-1,{"$f":"IF(#REF!=0,0,IF(#REF!=#REF!,#REF!-#REF!,0))","v":{"$error":"#REF!"}},5000,1250,375,21,312,18,250,14,187,10,87,5,37,2]
[{"$f":"Source!A40","v":"ZYX Electric Cars"},{"$f":"Source!B40","v":"CLII"},{"$f":"Source!C40","v":{"$error":"#VALUE!"}},{"$f":"Source!D40","v":"Holding Companies"},{"$f":"Source!E40","v":9.7460000000000004},{"$f":"Source!F40","v":24.34},{"$f":"Source!G40","v":14.36},{"$f":"Source!H40","v":13.95},null,null,null,null,null,null,null,null,-1,-1,{"$error":"#DIV/0!"},{"$error":"#DIV/0!"},null,null,-1,-1,{"$error":"#DIV/0!"},{"$error":"#DIV/0!"},null,null,-1,-1,{"$error":"#DIV/0!"},{"$error":"#DIV/0!"},{"$f":"IF(#REF!=0,0,IF(#REF!=#REF!,#REF!-#REF!,0))","v":{"$error":"#REF!"}},5000,0,0,0,0,0,0,0,0,0,0,0,0,0]
[{"$f":"Source!A41","v":"ZYX Signal Limited"},{"$f":"Source!B41","v":"CLVS"},{"$f":"Source!C41","v":{"$error":"#VALUE!"}},{"$f":"Source!D41","v":"Biotechnology & Medical Research"},{"$f":"Source!E41","v":3.62},{"$f":"Source!F41","v":11.1},{"$f":"Source!G41","v":6.25},{"$f":"Source!H41","v":6.0589000000000004},null,null,null,null,null,null,null,null,-1,-1,{"$error":"#DIV/0!"},{"$error":"#DIV/0!"},null,null,-1,-1,{"$error":"#DIV/0!"},{"$error":"#DIV/0!"},null,null,-1,-1,{"$error":"#DIV/0!"},{"$error":"#DIV/0!"},{"$f":"IF(#REF!=0,0,IF(#REF!=#REF!,#REF!-#REF!,0))","v":{"$error":"#REF!"}},5000,0,0,0,0,0,0,0,0,0,0,0,0,0]
[{"$f":"Source!A42","v":"ZYX Core Portfolio"},{"$f":"Source!B42","v":"CNC"},{"$f":"Source!C42","v":{"$error":"#VALUE!"}},{"$f":"Source!D42","v":"Healthcare Providers & Services"},{"$f":"Source!E42","v":43.96},{"$f":"Source!F42","v":74.7},{"$f":"Source!G42","v":61.89},{"$f":"Source!H42","v":62.11},57.31,62.36,0.25,0.5,null,null,105,114,0.69054902592175171,0.83545322814361622,0.832140987611237,0.98918164369220019,null,null,-1,-1,-1,-1,null,null,-1,-1,-1,-1,{"$f":"IF(#REF!=0,0,IF(#REF!=#REF!,#REF!-#REF!,0))","v":{"$error":"#REF!"}},5000,2500,750,12,625,10,500,8,375,6,175,2,75,1]
[{"$f":"Source!A43","v":"ZYX Signal Limited"},{"$f":"Source!B43","v":"COIN"},{"$f":"Source!C43","v":"COIN"},{"$f":"Source!D43","v":{"$error":"#VALUE!"}},{"$f":"Source!E43","v":{"$error":"#VALUE!"}},{"$f":"Source!F43","v":{"$error":"#VALUE!"}},{"$f":"Source!G43","v":{"$error":"#VALUE!"}},{"$f":"Source!H43","v":{"$error":"#VALUE!"}},null,null,null,0.5,null,null,null,null,{"$error":"#VALUE!"},{"$error":"#VALUE!"},{"$error":"#DIV/0!"},{"$error":"#DIV/0!"},null,null,{"$error":"#VALUE!"},{"$error":"#VALUE!"},{"$error":"#DIV/0!"},{"$error":"#DIV/0!"},null,null,{"$error":"#VALUE!"},{"$error":"#VALUE!"},{"$error":"#DIV/0!"},{"$error":"#DIV/0!"},{"$f":"IF(#REF!=0,0,IF(#REF!=#REF!,#REF!-#REF!,0))","v":{"$error":"#REF!"}},5000,2500,750,{"$error":"#VALUE!"},625,{"$error":"#VALUE!"},500,{"$error":"#VALUE!"},375,{"$error":"#VALUE!"},175,{"$error":"#VALUE!"},75,{"$error":"#VALUE!"}]
[{"$f":"Source!A44","v":"ZYX Pot"},{"$f":"Source!B44","v":"CRLBF"},{"$f":"Source!C44","v":{"$error":"#VALUE!"}},{"$f":"Source!D44","v":"Pharmaceuticals"},{"$f":"Source!E44","v":1.94},{"$f":"Source!F44","v":17.491099999999999},{"$f":"Source!G44","v":13.4278},{"$f":"Source!H44","v":13.2525},10.36,12.78,0.15,0.3,null,null,23,26,0.73552159969817021,0.96189398226749678,1.2200772200772203,1.5096525096525097,null,null,-1,-1,-1,-1,null,null,-1,-1,-1,-1,{"$f":"IF(#REF!=0,0,IF(#REF!=#REF!,#REF!-#REF!,0))","v":{"$error":"#REF!"}},5000,1500,450,33,375,28,300,22,225,16,105,7,45,3]
[{"$f":"Source!A45","v":"ZYX Pot"},{"$f":"Source!B45","v":"CRON"},{"$f":"Source!C45","v":{"$error":"#VALUE!"}},{"$f":"Source!D45","v":"Pharmaceuticals"},{"$f":"Source!E45","v":4},{"$f":"Source!F45","v":15.83},{"$f":"Source!G45","v":10.48},{"$f":"Source!H45","v":10.14},8.6199999999999992,10.51,0.15,0.2,null,null,31,33,2.0571992110453645,2.254437869822485,2.5962877030162419,2.8283062645011605,null,null,-1,-1,-1,-1,null,null,-1,-1,-1,-1,{"$f":"IF(#REF!=0,0,IF(#REF!=#REF!,#REF!-#REF!,0))","v":{"$error":"#REF!"}},5000,1000,300,29,250,24,200,19,150,14,70,6,30,2]
[{"$f":"Source!A46","v":"ZYX Pot"},{"$f":"Source!B46","v":"CURLF"},{"$f":"Source!C46","v":{"$error":"#VALUE!"}},{"$f":"Source!D46","v":"Pharmaceuticals"},{"$f":"Source!E46","v":2.54},{"$f":"Source!F46","v":18.38},{"$f":"Source!G46","v":15.6},{"$f":"Source!H46","v":15.53},11.52,14.51,0.15,0.25,null,null,34,38,1.189311010946555,1.446877012234385,1.9513888888888891,2.2986111111111112,null,null,-1,-1,-1,-1,null,null,-1,-1,-1,-1,{"$f":"IF(#REF!=0,0,IF(#REF!=#REF!,#REF!-#REF!,0))","v":{"$error":"#REF!"}},5000,1250,375,24,312,20,250,16,187,12,87,5,37,2]
[{"$f":"Source!A47","v":"ZYX Signal Limited"},{"$f":"Source!B47","v":"DASH"},{"$f":"Source!C47","v":{"$error":"#VALUE!"}},{"$f":"Source!D47","v":"Software & IT Services"},{"$f":"Source!E47","v":130},{"$f":"Source!F47","v":256.08999999999997},{"$f":"Source!G47","v":144.97},{"$f":"Source!H47","v":141.44},null,null,null,null,null,null,null,null,-1,-1,{"$error":"#DIV/0!"},{"$error":"#DIV/0!"},null,null,-1,-1,{"$error":"#DIV/0!"},{"$error":"#DIV/0!"},null,null,-1,-1,{"$error":"#DIV/0!"},{"$error":"#DIV/0!"},{"$f":"IF(#REF!=0,0,IF(#REF!=#REF!,#REF!-#REF!,0))","v":{"$error":"#REF!"}},5000,0,0,0,0,0,0,0,0,0,0,0,0,0]
[{"$f":"Source!A48","v":"ZYX Core Portfolio"},{"$f":"Source!B48","v":"DIS"},{"$f":"Source!C48","v":{"$error":"#VALUE!"}},{"$f":"Source!D48","v":"Media & Publishing"},{"$f":"Source!E48","v":79.069999999999993},{"$f":"Source!F48","v":203.02},{"$f":"Source!G48","v":196.75},{"$f":"Source!H48","v":195.62},149.02000000000001,168.88,0.35000000000000003,0.65,null,null,310,325,0.58470504038441873,0.66138431653205187,1.0802576835324116,1.1809153133807542,null,null,-1,-1,-1,-1,null,null,-1,-1,-1,-1,{"$f":"IF(#REF!=0,0,IF(#REF!=#REF!,#REF!-#REF!,0))","v":{"$error":"#REF!"}},5000,3250,975,4,812,4,650,3,487,2,227,1,97,0]
[{"$f":"Source!A49","v":"ZYX Signal Limited"},{"$f":"Source!B49","v":"DIS"},{"$f":"Source!C49","v":{"$error":"#VALUE!"}},{"$f":"Source!D49","v":"Media & Publishing"},{"$f":"Source!E49","v":79.069999999999993},{"$f":"Source!F49","v":203.02},{"$f":"Source!G49","v":196.75},{"$f":"Source!H49","v":195.62},149.02000000000001,168.88,0.35000000000000003,0.65,null,null,310,325,0.58470504038441873,0.66138431653205187,1.0802576835324116,1.1809153133807542,null,null,-1,-1,-1,-1,null,null,-1,-1,-1,-1,{"$f":"IF(#REF!=0,0,IF(#REF!=#REF!,#REF!-#REF!,0))","v":{"$error":"#REF!"}},5000,3250,975,4,812,4,650,3,487,2,227,1,97,0]
[{"$f":"Source!A50","v":"ZYX Signal Limited"},{"$f":"Source!B50","v":"DNN"},{"$f":"Source!C50","v":{"$error":"#VALUE!"}},{"$f":"Source!D50","v":"Uranium"},{"$f":"Source!E50","v":0.19},{"$f":"Source!F50","v":1.8049999999999999},{"$f":"Source!G50","v":1.04},{"$f":"Source!H50","v":1.0549999999999999},0.91,1.1299999999999999,null,0.05,0.78,0.88,1.5,3,0.42180094786729866,1.8436018957345974,0.64835164835164827,2.2967032967032965,null,null,-1,-1,-1,-1,null,null,-1,-1,-1,-1,{"$f":"IF(#REF!=0,0,IF(#REF!=#REF!,#REF!-#REF!,0))","v":{"$error":"#REF!"}},5000,250,75,71,62,58,50,47,37,35,17,16,7,6]
[{"$f":"Source!A51","v":"ZYX Core Portfolio"},{"$f":"Source!B51","v":"EA"},{"$f":"Source!C51","v":{"$error":"#VALUE!"}},{"$f":"Source!D51","v":"Software & IT Services"},{"$f":"Source!E51","v":85.69},{"$f":"Source!F51","v":150.30000000000001},{"$f":"Source!G51","v":131.34},{"$f":"Source!H51","v":130.38999999999999},121.34,132.87,0.2,0.35000000000000003,null,null,215,226,0.64889945547971484,0.73326175320193288,0.77188066589747806,0.86253502554804673,null,null,-1,-1,-1,-1,null,null,-1,-1,-1,-1,{"$f":"IF(#REF!=0,0,IF(#REF!=#REF!,#REF!-#REF!,0))","v":{"$error":"#REF!"}},5000,1750,525,4,437,3,350,2,262,2,122,0,52,0]
[{"$f":"Source!A52","v":"Motley Fool"},{"$f":"Source!B52","v":"ESTC"},{"$f":"Source!C52","v":{"$error":"#VALUE!"}},{"$f":"Source!D52","v":"Software & IT Services"},{"$f":"Source!E52","v":39.01},{"$f":"Source!F52","v":176.49},{"$f":"Source!G52","v":118.67},{"$f":"Source!H52","v":116.39},null,null,null,null,null,null,null,null,-1,-1,{"$error":"#DIV/0!"},{"$error":"#DIV/0!"},null,null,-1,-1,{"$error":"#DIV/0!"},{"$error":"#DIV/0!"},null,null,-1,-1,{"$error":"#DIV/0!"},{"$error":"#DIV/0!"},{"$f":"IF(#REF!=0,0,IF(#REF!=#REF!,#REF!-#REF!,0))","v":{"$error":"#REF!"}},5000,0,0,0,0,0,0,0,0,0,0,0,0,0]
[{"$f":"Source!A53","v":"ZYX Signal Limited"},{"$f":"Source!B53","v":"EVRG"},{"$f":"Source!C53","v":{"$error":"#VALUE!"}},{"$f":"Source!D53","v":"Electrical Utilities & IPPs"},{"$f":"Source!E53","v":42.010100000000001},{"$f":"Source!F53","v":65.430000000000007},{"$f":"Source!G53","v":56.76},{"$f":"Source!H53","v":57.21},null,null,null,null,null,null,null,null,-1,-1,{"$error":"#DIV/0!"},{"$error":"#DIV/0!"},null,null,-1,-1,{"$error":"#DIV/0!"},{"$error":"#DIV/0!"},null,null,-1,-1,{"$error":"#DIV/0!"},{"$error":"#DIV/0!"},{"$f":"IF(#REF!=0,0,IF(#REF!=#REF!,#REF!-#REF!,0))","v":{"$error":"#REF!"}},5000,0,0,0,0,0,0,0,0,0,0,0,0,0]
[{"$f":"Source!A54","v":"ZYX Signal Limited"},{"$f":"Source!B54","v":"EXPC"},{"$f":"Source!C54","v":{"$error":"#VALUE!"}},{"$f":"Source!D54","v":"Holding Companies"},{"$f":"Source!E54","v":9.2799999999999994},{"$f":"Source!F54","v":19.88},{"$f":"Source!G54","v":13.4},{"$f":"Source!H54","v":12.72},null,null,null,null,null,null,null,null,-1,-1,{"$error":"#DIV/0!"},{"$error":"#DIV/0!"},null,null,-1,-1,{"$error":"#DIV/0!"},{"$error":"#DIV/0!"},null,null,-1,-1,{"$error":"#DIV/0!"},{"$error":"#DIV/0!"},{"$f":"IF(#REF!=0,0,IF(#REF!=#REF!,#REF!-#REF!,0))","v":{"$error":"#REF!"}},5000,0,0,0,0,0,0,0,0,0,0,0,0,0]
[{"$f":"Source!A55","v":"ZYX Signal Limited"},{"$f":"Source!B55","v":"F"},{"$f":"Source!C55","v":{"$error":"#VALUE!"}},{"$f":"Source!D55","v":"Automobiles & Auto Parts"},{"$f":"Source!E55","v":3.96},{"$f":"Source!F55","v":13.0594},{"$f":"Source!G55","v":12.81},{"$f":"Source!H55","v":12.914999999999999},null,null,null,null,null,null,null,null,-1,-1,{"$error":"#DIV/0!"},{"$error":"#DIV/0!"},null,null,-1,-1,{"$error":"#DIV/0!"},{"$error":"#DIV/0!"},null,null,-1,-1,{"$error":"#DIV/0!"},{"$error":"#DIV/0!"},{"$f":"IF(#REF!=0,0,IF(#REF!=#REF!,#REF!-#REF!,0))","v":{"$error":"#REF!"}},5000,0,0,0,0,0,0,0,0,0,0,0,0,0]
[{"$f":"Source!A56","v":"ZYX Core Portfolio"},{"$f":"Source!B56","v":"FB"},{"$f":"Source!C56","v":{"$error":"#VALUE!"}},{"$f":"Source!D56","v":"Software & IT Services"},{"$f":"Source!E56","v":137.10059999999999},{"$f":"Source!F56","v":304.67},{"$f":"Source!G56","v":273.88},{"$f":"Source!H56","v":267.26},"Suspended","Suspended",0.3,0.5,null,null,360,385,0.34700291850632348,0.44054478784704038,{"$error":"#VALUE!"},{"$error":"#VALUE!"},null,null,-1,-1,{"$error":"#VALUE!"},{"$error":"#VALUE!"},null,null,-1,-1,{"$error":"#VALUE!"},{"$error":"#VALUE!"},{"$f":"IF(#REF!=0,0,IF(#REF!=#REF!,#REF!-#REF!,0))","v":{"$error":"#REF!"}},5000,2500,750,2,625,2,500,1,375,1,175,0,75,0]
[{"$f":"Source!A57","v":"ZYX Electric Cars"},{"$f":"Source!B57","v":"FCEL"},{"$f":"Source!C57","v":{"$error":"#VALUE!"}},{"$f":"Source!D57","v":"Renewable Energy"},{"$f":"Source!E57","v":1},{"$f":"Source!F57","v":29.439599999999999},{"$f":"Source!G57","v":18.36},{"$f":"Source!H57","v":17.53},null,null,null,null,null,null,null,null,-1,-1,{"$error":"#DIV/0!"},{"$error":"#DIV/0!"},null,null,-1,-1,{"$error":"#DIV/0!"},{"$error":"#DIV/0!"},null,null,-1,-1,{"$error":"#DIV/0!"},{"$error":"#DIV/0!"},{"$f":"IF(#REF!=0,0,IF(#REF!=#REF!,#REF!-#REF!,0))","v":{"$error":"#REF!"}},5000,0,0,0,0,0,0,0,0,0,0,0,0,0]
[{"$f":"Source!A58","v":"ZYX Core Portfolio"},{"$f":"Source!B58","v":"FCX"},{"$f":"Source!C58","v":{"$error":"#VALUE!"}},{"$f":"Source!D58","v":"Metals & Mining"},{"$f":"Source!E58","v":4.82},{"$f":"Source!F58","v":39.1},{"$f":"Source!G58","v":37.47},{"$f":"Source!H58","v":37.1},16,22.87,0.15,0.25,null,null,33,37.5,-0.11051212938005395,1.078167115902961E-2,1.0625,1.34375,null,null,-1,-1,-1,-1,null,null,-1,-1,-1,-1,{"$f":"IF(#REF!=0,0,IF(#REF!=#REF!,#REF!-#REF!,0))","v":{"$error":"#REF!"}},5000,1250,375,10,312,8,250,6,187,5,87,2,37,0]
[{"$f":"Source!A59","v":"ZYX Core Portfolio"},{"$f":"Source!B59","v":"FFXDF"},{"$f":"Source!C59","v":{"$error":"#VALUE!"}},{"$f":"Source!D59","v":"Holding Companies"},{"$f":"Source!E59","v":5.3705999999999996},{"$f":"Source!F59","v":13.26},{"$f":"Source!G59","v":12.494},{"$f":"Source!H59","v":12.548},7.57,9.31,0.25,0.35000000000000003,null,null,18,22,0.43449155243863563,0.75326745298055464,1.3778071334214002,1.9062087186261558,null,null,-1,-1,-1,-1,null,null,-1,-1,-1,-1,{"$f":"IF(#REF!=0,0,IF(#REF!=#REF!,#REF!-#REF!,0))","v":{"$error":"#REF!"}},5000,1750,525,41,437,34,350,27,262,20,122,9,52,4]
[{"$f":"Source!A60","v":"Motley Fool"},{"$f":"Source!B60","v":"FSLY"},{"$f":"Source!C60","v":{"$error":"#VALUE!"}},{"$f":"Source!D60","v":"Software & IT Services"},{"$f":"Source!E60","v":10.63},{"$f":"Source!F60","v":136.5},{"$f":"Source!G60","v":75.44},{"$f":"Source!H60","v":73.25},null,null,null,null,null,null,null,null,-1,-1,{"$error":"#DIV/0!"},{"$error":"#DIV/0!"},null,null,-1,-1,{"$error":"#DIV/0!"},{"$error":"#DIV/0!"},null,null,-1,-1,{"$error":"#DIV/0!"},{"$error":"#DIV/0!"},{"$f":"IF(#REF!=0,0,IF(#REF!=#REF!,#REF!-#REF!,0))","v":{"$error":"#REF!"}},5000,0,0,0,0,0,0,0,0,0,0,0,0,0]
[{"$f":"Source!A61","v":"ZYX Core Portfolio"},{"$f":"Source!B61","v":"GAN"},{"$f":"Source!C61","v":{"$error":"#VALUE!"}},{"$f":"Source!D61","v":"Software & IT Services"},{"$f":"Source!E61","v":0.65},{"$f":"Source!F61","v":3.35},{"$f":"Source!G61","v":2.9},{"$f":"Source!H61","v":2.85},13.56,17.670000000000002,0.2,0.35000000000000003,null,null,73,78,24.614035087719298,26.368421052631579,4.3834808259587019,4.7522123893805306,null,null,-1,-1,-1,-1,null,null,-1,-1,-1,-1,{"$f":"IF(#REF!=0,0,IF(#REF!=#REF!,#REF!-#REF!,0))","v":{"$error":"#REF!"}},5000,1750,525,184,437,153,350,122,262,91,122,42,52,18]
[{"$f":"Source!A62","v":"ZYX Signal Limited"},{"$f":"Source!B62","v":"GBT"},{"$f":"Source!C62","v":{"$error":"#VALUE!"}},{"$f":"Source!D62","v":"Biotechnology & Medical Research"},{"$f":"Source!E62","v":36.49},{"$f":"Source!F62","v":83.69},{"$f":"Source!G62","v":42.9},{"$f":"Source!H62","v":43.12},null,null,null,null,null,null,null,null,-1,-1,{"$error":"#DIV/0!"},{"$error":"#DIV/0!"},null,null,-1,-1,{"$error":"#DIV/0!"},{"$error":"#DIV/0!"},null,null,-1,-1,{"$error":"#DIV/0!"},{"$error":"#DIV/0!"},{"$f":"IF(#REF!=0,0,IF(#REF!=#REF!,#REF!-#REF!,0))","v":{"$error":"#REF!"}},5000,0,0,0,0,0,0,0,0,0,0,0,0,0]
[{"$f":"Source!A63","v":"ZYX Electric Cars"},{"$f":"Source!B63","v":"GEVO"},{"$f":"Source!C63","v":{"$error":"#VALUE!"}},{"$f":"Source!D63","v":"Renewable Energy"},{"$f":"Source!E63","v":0.46},{"$f":"Source!F63","v":15.57},{"$f":"Source!G63","v":9.65},{"$f":"Source!H63","v":9.52},null,null,null,null,null,null,null,null,-1,-1,{"$error":"#DIV/0!"},{"$error":"#DIV/0!"},null,null,-1,-1,{"$error":"#DIV/0!"},{"$error":"#DIV/0!"},null,null,-1,-1,{"$error":"#DIV/0!"},{"$error":"#DIV/0!"},{"$f":"IF(#REF!=0,0,IF(#REF!=#REF!,#REF!-#REF!,0))","v":{"$error":"#REF!"}},5000,0,0,0,0,0,0,0,0,0,0,0,0,0]
[{"$f":"Source!A64","v":"ZYX Signal Limited"},{"$f":"Source!B64","v":"GIK"},{"$f":"Source!C64","v":{"$error":"#VALUE!"}},{"$f":"Source!D64","v":"Holding Companies"},{"$f":"Source!E64","v":9.7940000000000005},{"$f":"Source!F64","v":17.36},{"$f":"Source!G64","v":11.57},{"$f":"Source!H64","v":12.28},11.28,13.66,null,0.2,9.43,10.38,15.43,17.36,0.25651465798045608,0.41368078175895767,0.36790780141843976,0.53900709219858156,27,32,1.1986970684039089,1.6058631921824105,1.3936170212765959,1.8368794326241136,null,null,-1,-1,-1,-1,{"$f":"IF(#REF!=0,0,IF(#REF!=#REF!,#REF!-#REF!,0))","v":{"$error":"#REF!"}},5000,1000,300,24,250,20,200,16,150,12,70,5,30,2]
[{"$f":"Source!A65","v":"ZYX Core Portfolio"},{"$f":"Source!B65","v":"GILD"},{"$f":"Source!C65","v":{"$error":"#VALUE!"}},{"$f":"Source!D65","v":"Biotechnology & Medical Research"},{"$f":"Source!E65","v":56.56},{"$f":"Source!F65","v":85.97},{"$f":"Source!G65","v":62.38},{"$f":"Source!H65","v":62.26},54,60.81,0.25,0.4,null,null,110,130,0.7667844522968198,1.0880179890780599,1.037037037037037,1.4074074074074074,null,null,-1,-1,-1,-1,null,null,-1,-1,-1,-1,{"$f":"IF(#REF!=0,0,IF(#REF!=#REF!,#REF!-#REF!,0))","v":{"$error":"#REF!"}},5000,2000,600,9,500,8,400,6,300,4,140,2,60,0]
[{"$f":"Source!A66","v":"ZYX Signal Limited"},{"$f":"Source!B66","v":"GLUU"},{"$f":"Source!C66","v":{"$error":"#VALUE!"}},{"$f":"Source!D66","v":"Software & IT Services"},{"$f":"Source!E66","v":3.98},{"$f":"Source!F66","v":12.95},{"$f":"Source!G66","v":12.47},{"$f":"Source!H66","v":12.435},null,null,null,null,null,null,null,null,-1,-1,{"$error":"#DIV/0!"},{"$error":"#DIV/0!"},null,null,-1,-1,{"$error":"#DIV/0!"},{"$error":"#DIV/0!"},null,null,-1,-1,{"$error":"#DIV/0!"},{"$error":"#DIV/0!"},{"$f":"IF(#REF!=0,0,IF(#REF!=#REF!,#REF!-#REF!,0))","v":{"$error":"#REF!"}},5000,0,0,0,0,0,0,0,0,0,0,0,0,0]
[{"$f":"Source!A67","v":"ZYX Core Portfolio"},{"$f":"Source!B67","v":"GOOG"},{"$f":"Source!C67","v":{"$error":"#VALUE!"}},{"$f":"Source!D67","v":"Software & IT Services"},{"$f":"Source!E67","v":1013.5361},{"$f":"Source!F67","v":2152.6799999999998},{"$f":"Source!G67","v":2114.77},{"$f":"Source!H67","v":2075.83},1502,1631.78,0.2,0.3,null,null,2340,2420,0.12725993939773492,0.16579874074466602,0.55792276964047938,0.61118508655126502,null,null,-1,-1,-1,-1,null,null,-1,-1,-1,-1,{"$f":"IF(#REF!=0,0,IF(#REF!=#REF!,#REF!-#REF!,0))","v":{"$error":"#REF!"}},5000,1500,450,0,375,0,300,0,225,0,105,0,45,0]
[{"$f":"Source!A68","v":"ZYX Pot"},{"$f":"Source!B68","v":"GRWG"},{"$f":"Source!C68","v":{"$error":"#VALUE!"}},{"$f":"Source!D68","v":"Chemicals"},{"$f":"Source!E68","v":2.62},{"$f":"Source!F68","v":67.75},{"$f":"Source!G68","v":48.74},{"$f":"Source!H68","v":46.88},18.309999999999999,24.56,0.05,0.15,14,16.43,78,83,0.66382252559726951,0.77047781569965856,3.2599672310212999,3.5330420535226654,null,null,-1,-1,-1,-1,null,null,-1,-1,-1,-1,{"$f":"IF(#REF!=0,0,IF(#REF!=#REF!,#REF!-#REF!,0))","v":{"$error":"#REF!"}},5000,750,225,4,187,3,150,3,112,2,52,1,22,0]
[{"$f":"Source!A69","v":"ZYX Pot"},{"$f":"Source!B69","v":"GTBIF"},{"$f":"Source!C69","v":{"$error":"#VALUE!"}},{"$f":"Source!D69","v":"Pharmaceuticals"},{"$f":"Source!E69","v":3.6934},{"$f":"Source!F69","v":39.11},{"$f":"Source!G69","v":32.75},{"$f":"Source!H69","v":31.540099999999999},22.37,28.78,0.2,0.3,null,null,78,87,{"$f":"SUM(O69-$H69)/$H69","v":1.4730422541463091},1.7583932834708833,{"$f":"SUM(O69-$I69)/$I69","v":2.4868126955744296},2.8891372373714792,null,null,{"$f":"SUM(U69-$H69)/$H69","v":-1},-1,{"$f":"SUM(U69-$I69)/$I69","v":-1},-1,null,null,{"$f":"SUM(AA69-$H69)/$H69","v":-1},-1,{"$f":"SUM(AA69-$I69)/$I69","v":-1},-1,{"$f":"IF(#REF!=0,0,IF(#REF!=#REF!,#REF!-#REF!,0))","v":{"$error":"#REF!"}},5000,{"$f":"ROUNDDOWN(SUM($L69*$AH69),0)","v":1500},{"$f":"ROUNDDOWN(SUM($AI69*AJ$3),0)","v":450},{"$f":"ROUNDDOWN(SUM(AJ69/$H69),0)","v":14},{"$f":"ROUNDDOWN(SUM($AI69*AL$3),0)","v":375},{"$f":"ROUNDDOWN(SUM(AL69/$H69),0)","v":11},{"$f":"ROUNDDOWN(SUM($AI69*AN$3),0)","v":300},{"$f":"ROUNDDOWN(SUM(AN69/$H69),0)","v":9},{"$f":"ROUNDDOWN(SUM($AI69*AP$3),0)","v":225},{"$f":"ROUNDDOWN(SUM(AP69/$H69),0)","v":7},{"$f":"ROUNDDOWN(SUM($AI69*AR$3),0)","v":105},{"$f":"ROUNDDOWN(SUM(AR69/$H69),0)","v":3},{"$f":"ROUNDDOWN(SUM($AI69*AT$3),0)","v":45},{"$f":"ROUNDDOWN(SUM(AT69/$H69),0)","v":1}]
[{"$f":"Source!A70","v":"ZYX Pot"},{"$f":"Source!B70","v":"GWPH"},{"$f":"Source!C70","v":{"$error":"#VALUE!"}},{"$f":"Source!D70","v":"Biotechnology & Medical Research"},{"$f":"Source!E70","v":67.98},{"$f":"Source!F70","v":217.5},{"$f":"Source!G70","v":215.01},{"$f":"Source!H70","v":215.16},"Suspended","Suspended",0.05,0.15,180,183,220,240,2.2494887525562387E-2,0.11544896820970442,{"$error":"#VALUE!"},{"$error":"#VALUE!"},null,null,-1,-1,{"$error":"#VALUE!"},{"$error":"#VALUE!"},null,null,-1,-1,{"$error":"#VALUE!"},{"$error":"#VALUE!"},{"$f":"IF(#REF!=0,0,IF(#REF!=#REF!,#REF!-#REF!,0))","v":{"$error":"#REF!"}},{"$f":"$AH$5","v":5000},750,225,1,187,0,150,0,112,0,52,0,22,0]
[{"$f":"Source!A71","v":"ZYX Core Portfolio"},{"$f":"Source!B71","v":"HDGE"},{"$f":"Source!C71","v":{"$error":"#VALUE!"}},{"$f":"Source!D71","v":{"$error":"#VALUE!"}},{"$f":"Source!E71","v":24.83},{"$f":"Source!F71","v":79.5},{"$f":"Source!G71","v":24.84},{"$f":"Source!H71","v":24.971},2.4,3.26,"Hedge","Hedge",null,null,"Hedge","Hedge",{"$error":"#VALUE!"},{"$error":"#VALUE!"},{"$error":"#VALUE!"},{"$error":"#VALUE!"},null,null,-1,-1,-1,-1,null,null,-1,-1,-1,-1,{"$f":"IF(#REF!=0,0,IF(#REF!=#REF!,#REF!-#REF!,0))","v":{"$error":"#REF!"}},5000,{"$error":"#VALUE!"},{"$error":"#VALUE!"},{"$error":"#VALUE!"},{"$error":"#VALUE!"},{"$error":"#VALUE!"},{"$error":"#VALUE!"},{"$error":"#VALUE!"},{"$error":"#VALUE!"},{"$error":"#VALUE!"},{"$error":"#VALUE!"},{"$error":"#VALUE!"},{"$error":"#VALUE!"},{"$error":"#VALUE!"}]
[{"$f":"Source!A72","v":"ZYX Signal Limited"},{"$f":"Source!B72","v":"HMPT"},{"$f":"Source!C72","v":"HMPT"},{"$f":"Source!D72","v":{"$error":"#VALUE!"}},{"$f":"Source!E72","v":{"$error":"#VALUE!"}},{"$f":"Source!F72","v":{"$error":"#VALUE!"}},{"$f":"Source!G72","v":{"$error":"#VALUE!"}},{"$f":"Source!H72","v":11.94},8.5,10.5,0.2,0.35,7.35,8.18,12.43,12.93,4.1038525963149101E-2,8.2914572864321634E-2,0.46235294117647058,0.52117647058823524,14.83,17.329999999999998,0.24204355108877729,0.4514237855946398,0.74470588235294122,1.0388235294117645,null,null,-1,-1,-1,-1,{"$f":"IF(#REF!=0,0,IF(#REF!=#REF!,#REF!-#REF!,0))","v":{"$error":"#REF!"}},5000,1750,525,43,437,36,350,29,262,21,122,10,52,4]
[{"$f":"Source!A73","v":"ZYX Core Portfolio"},{"$f":"Source!B73","v":"HOLX"},{"$f":"Source!C73","v":{"$error":"#VALUE!"}},{"$f":"Source!D73","v":"Healthcare Equipment & Supplies"},{"$f":"Source!E73","v":26.49},{"$f":"Source!F73","v":85},{"$f":"Source!G73","v":71.03},{"$f":"Source!H73","v":70.239999999999995},"Suspended","Suspended",0.3,0.5,null,null,121,134,0.72266514806378146,0.90774487471526211,{"$error":"#VALUE!"},{"$error":"#VALUE!"},null,null,-1,-1,{"$error":"#VALUE!"},{"$error":"#VALUE!"},null,null,-1,-1,{"$error":"#VALUE!"},{"$error":"#VALUE!"},{"$f":"IF(#REF!=0,0,IF(#REF!=#REF!,#REF!-#REF!,0))","v":{"$error":"#REF!"}},5000,2500,750,10,625,8,500,7,375,5,175,2,75,1]
[{"$f":"Source!A74","v":"ZYX Pot"},{"$f":"Source!B74","v":"HYFM"},{"$f":"Source!C74","v":{"$error":"#VALUE!"}},{"$f":"Source!D74","v":"Machinery, Equipment & Components"},{"$f":"Source!E74","v":41.59},{"$f":"Source!F74","v":95.48},{"$f":"Source!G74","v":58.42},{"$f":"Source!H74","v":56.89},34,42.88,0.05,0.15,26,28.63,112,122,0.96871154860256636,1.1444893654420811,2.2941176470588234,2.5882352941176472,null,null,-1,-1,-1,-1,null,null,-1,-1,-1,-1,{"$f":"IF(#REF!=0,0,IF(#REF!=#REF!,#REF!-#REF!,0))","v":{"$error":"#REF!"}},5000,750,225,3,187,3,150,2,112,1,52,0,22,0]
[{"$f":"Source!A75","v":"ZYX Signal Limited"},{"$f":"Source!B75","v":"JD"},{"$f":"Source!C75","v":{"$error":"#VALUE!"}},{"$f":"Source!D75","v":"Diversified Retail"},{"$f":"Source!E75","v":32.700000000000003},{"$f":"Source!F75","v":108.29},{"$f":"Source!G75","v":90.01},{"$f":"Source!H75","v":84.202600000000004},null,null,null,null,null,null,null,null,-1,-1,{"$error":"#DIV/0!"},{"$error":"#DIV/0!"},null,null,-1,-1,{"$error":"#DIV/0!"},{"$error":"#DIV/0!"},null,null,-1,-1,{"$error":"#DIV/0!"},{"$error":"#DIV/0!"},{"$f":"IF(#REF!=0,0,IF(#REF!=#REF!,#REF!-#REF!,0))","v":{"$error":"#REF!"}},5000,0,0,0,0,0,0,0,0,0,0,0,0,0]
[{"$f":"Source!A76","v":"ZYX Core Portfolio"},{"$f":"Source!B76","v":"JPM"},{"$f":"Source!C76","v":{"$error":"#VALUE!"}},{"$f":"Source!D76","v":"Banking Services"},{"$f":"Source!E76","v":76.91},{"$f":"Source!F76","v":157.63},{"$f":"Source!G76","v":154.32},{"$f":"Source!H76","v":156.6},104,113.87,0.2,0.4,null,null,185,215,0.18135376756066415,0.37292464878671783,0.77884615384615385,1.0673076923076923,null,null,-1,-1,-1,-1,null,null,-1,-1,-1,-1,{"$f":"IF(#REF!=0,0,IF(#REF!=#REF!,#REF!-#REF!,0))","v":{"$error":"#REF!"}},5000,2000,600,3,500,3,400,2,300,1,140,0,60,0]
[{"$f":"Source!A77","v":"ZYX Core Portfolio"},{"$f":"Source!B77","v":"KBH"},{"$f":"Source!C77","v":{"$error":"#VALUE!"}},{"$f":"Source!D77","v":"Homebuilding & Construction Supplies"},{"$f":"Source!E77","v":9.82},{"$f":"Source!F77","v":45.59},{"$f":"Source!G77","v":44.43},{"$f":"Source!H77","v":43.22},30,34.659999999999997,0.3,0.4,null,null,56,61,0.29569643683479874,0.41138361869504864,0.8666666666666667,1.0333333333333334,null,null,-1,-1,-1,-1,null,null,-1,-1,-1,-1,{"$f":"IF(#REF!=0,0,IF(#REF!=#REF!,#REF!-#REF!,0))","v":{"$error":"#REF!"}},5000,2000,600,13,500,11,400,9,300,6,140,3,60,1]
[{"$f":"Source!A78","v":"ZYX Core Portfolio"},{"$f":"Source!B78","v":"KKR"},{"$f":"Source!C78","v":{"$error":"#VALUE!"}},{"$f":"Source!D78","v":"Investment Banking & Investment Services"},{"$f":"Source!E78","v":15.55},{"$f":"Source!F78","v":49.29},{"$f":"Source!G78","v":48.21},{"$f":"Source!H78","v":47.92},32.31,35.76,0.3,0.35000000000000003,null,null,58,63,0.2103505843071786,0.31469115191986641,0.79510987310430192,0.94986072423398316,null,null,-1,-1,-1,-1,null,null,-1,-1,-1,-1,{"$f":"IF(#REF!=0,0,IF(#REF!=#REF!,#REF!-#REF!,0))","v":{"$error":"#REF!"}},5000,1750,525,10,437,9,350,7,262,5,122,2,52,1]
[{"$f":"Source!A79","v":"ZYX Signal Limited"},{"$f":"Source!B79","v":"KSU"},{"$f":"Source!C79","v":{"$error":"#VALUE!"}},{"$f":"Source!D79","v":"Freight & Logistics Services"},{"$f":"Source!E79","v":92.86},{"$f":"Source!F79","v":223.59},{"$f":"Source!G79","v":214.86},{"$f":"Source!H79","v":215.19},null,null,null,null,null,null,null,null,-1,-1,{"$error":"#DIV/0!"},{"$error":"#DIV/0!"},null,null,-1,-1,{"$error":"#DIV/0!"},{"$error":"#DIV/0!"},null,null,-1,-1,{"$error":"#DIV/0!"},{"$error":"#DIV/0!"},{"$f":"IF(#REF!=0,0,IF(#REF!=#REF!,#REF!-#REF!,0))","v":{"$error":"#REF!"}},5000,0,0,0,0,0,0,0,0,0,0,0,0,0]
[{"$f":"Source!A80","v":"ZYX Electric Cars"},{"$f":"Source!B80","v":"LAC"},{"$f":"Source!C80","v":{"$error":"#VALUE!"}},{"$f":"Source!D80","v":"Metals & Mining"},{"$f":"Source!E80","v":1.92},{"$f":"Source!F80","v":28.75},{"$f":"Source!G80","v":17.37},{"$f":"Source!H80","v":17.02},null,null,null,null,null,null,null,null,-1,-1,{"$error":"#DIV/0!"},{"$error":"#DIV/0!"},null,null,-1,-1,{"$error":"#DIV/0!"},{"$error":"#DIV/0!"},null,null,-1,-1,{"$error":"#DIV/0!"},{"$error":"#DIV/0!"},{"$f":"IF(#REF!=0,0,IF(#REF!=#REF!,#REF!-#REF!,0))","v":{"$error":"#REF!"}},5000,0,0,0,0,0,0,0,0,0,0,0,0,0]
[{"$f":"Source!A81","v":"ZYX Signal Limited"},{"$f":"Source!B81","v":"LMNX"},{"$f":"Source!C81","v":{"$error":"#VALUE!"}},{"$f":"Source!D81","v":"Healthcare Equipment & Supplies"},{"$f":"Source!E81","v":20.61},{"$f":"Source!F81","v":41.69},{"$f":"Source!G81","v":32.450000000000003},{"$f":"Source!H81","v":32.049999999999997},25.31,32.520000000000003,null,0.5,19.18,19.78,38,42,0.18564742589703598,0.31045241809672397,0.50138285262742011,0.65942315290399056,null,null,-1,-1,-1,-1,null,null,-1,-1,-1,-1,{"$f":"IF(#REF!=0,0,IF(#REF!=#REF!,#REF!-#REF!,0))","v":{"$error":"#REF!"}},5000,2500,750,23,625,19,500,15,375,11,175,5,75,2]
[{"$f":"Source!A82","v":"ZYX Core Portfolio"},{"$f":"Source!B82","v":"LOW"},{"$f":"Source!C82","v":{"$error":"#VALUE!"}},{"$f":"Source!D82","v":"Specialty Retailers"},{"$f":"Source!E82","v":60},{"$f":"Source!F82","v":180.67},{"$f":"Source!G82","v":170.75},{"$f":"Source!H82","v":171.22},138.62,157.86000000000001,0.25,0.35000000000000003,null,null,210,220,0.22649223221586265,0.28489662422614181,0.51493291011398057,0.5870725725003606,null,null,-1,-1,-1,-1,null,null,-1,-1,-1,-1,{"$f":"IF(#REF!=0,0,IF(#REF!=#REF!,#REF!-#REF!,0))","v":{"$error":"#REF!"}},5000,1750,525,3,437,2,350,2,262,1,122,0,52,0]
[{"$f":"Source!A83","v":"ZYX Core Portfolio"},{"$f":"Source!B83","v":"LTHM"},{"$f":"Source!C83","v":{"$error":"#VALUE!"}},{"$f":"Source!D83","v":"Chemicals"},{"$f":"Source!E83","v":3.95},{"$f":"Source!F83","v":23.989899999999999},{"$f":"Source!G83","v":19.170000000000002},{"$f":"Source!H83","v":18.97},13.31,16.87,0.15,0.3,null,null,33,36,0.73958882445967322,0.89773326304691625,1.4793388429752063,1.7047332832456796,null,null,-1,-1,-1,-1,null,null,-1,-1,-1,-1,{"$f":"IF(#REF!=0,0,IF(#REF!=#REF!,#REF!-#REF!,0))","v":{"$error":"#REF!"}},5000,1500,450,23,375,19,300,15,225,11,105,5,45,2]
[{"$f":"Source!A84","v":"ZYX Space"},{"$f":"Source!B84","v":"MAXR"},{"$f":"Source!C84","v":{"$error":"#VALUE!"}},{"$f":"Source!D84","v":"Communications & Networking"},{"$f":"Source!E84","v":7.18},{"$f":"Source!F84","v":58.75},{"$f":"Source!G84","v":47},{"$f":"Source!H84","v":46.94},36.26,44.57,0.05,0.15,29,31.73,135,null,1.876011930123562,-1,2.7231108659680094,-1,null,null,-1,-1,-1,-1,null,null,-1,-1,-1,-1,{"$f":"IF(#REF!=0,0,IF(#REF!=#REF!,#REF!-#REF!,0))","v":{"$error":"#REF!"}},5000,750,225,4,187,3,150,3,112,2,52,1,22,0]
[{"$f":"Source!A85","v":"ZYX Signal Limited"},{"$f":"Source!B85","v":"MDB"},{"$f":"Source!C85","v":{"$error":"#VALUE!"}},{"$f":"Source!D85","v":"Software & IT Services"},{"$f":"Source!E85","v":93.81},{"$f":"Source!F85","v":428.96499999999997},{"$f":"Source!G85","v":327.26},{"$f":"Source!H85","v":319.33},null,null,null,null,null,null,null,null,-1,-1,{"$error":"#DIV/0!"},{"$error":"#DIV/0!"},null,null,-1,-1,{"$error":"#DIV/0!"},{"$error":"#DIV/0!"},null,null,-1,-1,{"$error":"#DIV/0!"},{"$error":"#DIV/0!"},{"$f":"IF(#REF!=0,0,IF(#REF!=#REF!,#REF!-#REF!,0))","v":{"$error":"#REF!"}},5000,0,0,0,0,0,0,0,0,0,0,0,0,0]
[{"$f":"Source!A86","v":"ZYX Signal Limited"},{"$f":"Source!B86","v":"MRVI"},{"$f":"Source!C86","v":{"$error":"#VALUE!"}},{"$f":"Source!D86","v":"Biotechnology & Medical Research"},{"$f":"Source!E86","v":23.62},{"$f":"Source!F86","v":40.24},{"$f":"Source!G86","v":36.520000000000003},{"$f":"Source!H86","v":36.35},33,38.47,null,0.3,24,26.43,48,52,0.32049518569463542,0.43053645116918837,0.45454545454545453,0.5757575757575758,73,78,1.0082530949105915,1.1458046767537826,1.2121212121212122,1.3636363636363635,null,null,-1,-1,-1,-1,{"$f":"IF(#REF!=0,0,IF(#REF!=#REF!,#REF!-#REF!,0))","v":{"$error":"#REF!"}},5000,1500,450,12,375,10,300,8,225,6,105,2,45,1]
[{"$f":"Source!A87","v":"ZYX Trade Around"},{"$f":"Source!B87","v":"MRVL"},{"$f":"Source!C87","v":{"$error":"#VALUE!"}},{"$f":"Source!D87","v":"Semiconductors & Semiconductor Equipment"},{"$f":"Source!E87","v":16.45},{"$f":"Source!F87","v":55.7},{"$f":"Source!G87","v":46.3},{"$f":"Source!H87","v":46.335000000000001},39.31,43.56,null,0.35,33.31,34.130000000000003,49,54.38,5.7515916693644094E-2,0.17362684795510958,0.24650216229966923,0.38336301195624523,null,null,-1,-1,-1,-1,null,null,-1,-1,-1,-1,{"$f":"IF(#REF!=0,0,IF(#REF!=#REF!,#REF!-#REF!,0))","v":{"$error":"#REF!"}},5000,1750,525,11,437,9,350,7,262,5,122,2,52,1]
[{"$f":"Source!A88","v":"ZYX Core Portfolio"},{"$f":"Source!B88","v":"MSFT"},{"$f":"Source!C88","v":{"$error":"#VALUE!"}},{"$f":"Source!D88","v":"Software & IT Services"},{"$f":"Source!E88","v":132.52000000000001},{"$f":"Source!F88","v":246.13},{"$f":"Source!G88","v":237.13},{"$f":"Source!H88","v":235.25},181.53,202.84,0.2,0.25,null,null,285,315,0.21147715196599362,0.33900106269925612,0.56998843166418778,0.73525037183936537,null,null,-1,-1,-1,-1,null,null,-1,-1,-1,-1,{"$f":"IF(#REF!=0,0,IF(#REF!=#REF!,#REF!-#REF!,0))","v":{"$error":"#REF!"}},5000,1250,375,1,312,1,250,1,187,0,87,0,37,0]
[{"$f":"Source!A89","v":"ZYX Signal Limited"},{"$f":"Source!B89","v":"MU"},{"$f":"Source!C89","v":{"$error":"#VALUE!"}},{"$f":"Source!D89","v":"Semiconductors & Semiconductor Equipment"},{"$f":"Source!E89","v":31.13},{"$f":"Source!F89","v":95.75},{"$f":"Source!G89","v":89.31},{"$f":"Source!H89","v":88.13},null,null,null,null,null,null,null,null,-1,-1,{"$error":"#DIV/0!"},{"$error":"#DIV/0!"},null,null,-1,-1,{"$error":"#DIV/0!"},{"$error":"#DIV/0!"},null,null,-1,-1,{"$error":"#DIV/0!"},{"$error":"#DIV/0!"},{"$f":"IF(#REF!=0,0,IF(#REF!=#REF!,#REF!-#REF!,0))","v":{"$error":"#REF!"}},5000,0,0,0,0,0,0,0,0,0,0,0,0,0]
[{"$f":"Source!A90","v":"ZYX Pot"},{"$f":"Source!B90","v":"NBEV"},{"$f":"Source!C90","v":{"$error":"#VALUE!"}},{"$f":"Source!D90","v":"Beverages"},{"$f":"Source!E90","v":0.98099999999999998},{"$f":"Source!F90","v":4.55},{"$f":"Source!G90","v":2.96},{"$f":"Source!H90","v":2.93},1.6,1.81,0.15,0.35,null,null,13,15,3.4368600682593855,4.1194539249146755,7.125,8.375,null,null,-1,-1,-1,-1,null,null,-1,-1,-1,-1,{"$f":"IF(#REF!=0,0,IF(#REF!=#REF!,#REF!-#REF!,0))","v":{"$error":"#REF!"}},5000,1750,525,179,437,149,350,119,262,89,122,41,52,17]
[{"$f":"Source!A91","v":"ZYX Core Portfolio"},{"$f":"Source!B91","v":"NEM"},{"$f":"Source!C91","v":{"$error":"#VALUE!"}},{"$f":"Source!D91","v":"Metals & Mining"},{"$f":"Source!E91","v":33},{"$f":"Source!F91","v":72.22},{"$f":"Source!G91","v":58.45},{"$f":"Source!H91","v":58.36},57,64.56,0.3,0.5,null,null,135,155,1.313228238519534,1.6559287183002056,1.368421052631579,1.7192982456140351,null,null,-1,-1,-1,-1,null,null,-1,-1,-1,-1,{"$f":"IF(#REF!=0,0,IF(#REF!=#REF!,#REF!-#REF!,0))","v":{"$error":"#REF!"}},5000,2500,750,12,625,10,500,8,375,6,175,2,75,1]
[{"$f":"Source!A92","v":"ZYX Electric Cars"},{"$f":"Source!B92","v":"NGAC"},{"$f":"Source!C92","v":{"$error":"#VALUE!"}},{"$f":"Source!D92","v":"Holding Companies"},{"$f":"Source!E92","v":9.6999999999999993},{"$f":"Source!F92","v":16},{"$f":"Source!G92","v":10.62},{"$f":"Source!H92","v":10.525},null,null,null,null,null,null,null,null,-1,-1,{"$error":"#DIV/0!"},{"$error":"#DIV/0!"},null,null,-1,-1,{"$error":"#DIV/0!"},{"$error":"#DIV/0!"},null,null,-1,-1,{"$error":"#DIV/0!"},{"$error":"#DIV/0!"},{"$f":"IF(#REF!=0,0,IF(#REF!=#REF!,#REF!-#REF!,0))","v":{"$error":"#REF!"}},5000,0,0,0,0,0,0,0,0,0,0,0,0,0]
[{"$f":"Source!A93","v":"ZYX Core Portfolio"},{"$f":"Source!B93","v":"NMR"},{"$f":"Source!C93","v":{"$error":"#VALUE!"}},{"$f":"Source!D93","v":"Investment Banking & Investment Services"},{"$f":"Source!E93","v":3.55},{"$f":"Source!F93","v":6.36},{"$f":"Source!G93","v":6.22},{"$f":"Source!H93","v":6.22},4.1399999999999997,5.18,0.1,0.2,null,null,8.6,10.11,0.38263665594855306,0.62540192926045013,1.0772946859903383,1.4420289855072463,null,null,-1,-1,-1,-1,null,null,-1,-1,-1,-1,{"$f":"IF(#REF!=0,0,IF(#REF!=#REF!,#REF!-#REF!,0))","v":{"$error":"#REF!"}},5000,1000,300,48,250,40,200,32,150,24,70,11,30,4]
[{"$f":"Source!A94","v":"ZYX Space"},{"$f":"Source!B94","v":"NPA"},{"$f":"Source!C94","v":{"$error":"#VALUE!"}},{"$f":"Source!D94","v":"Holding Companies"},{"$f":"Source!E94","v":9.5},{"$f":"Source!F94","v":25.37},{"$f":"Source!G94","v":13.3},{"$f":"Source!H94","v":12.9399},12.56,14.31,0.05,0.1,8,8.73,110,null,7.5008384917966913,-1,7.7579617834394901,-1,null,null,-1,-1,-1,-1,null,null,-1,-1,-1,-1,{"$f":"IF(#REF!=0,0,IF(#REF!=#REF!,#REF!-#REF!,0))","v":{"$error":"#REF!"}},5000,500,150,11,125,9,100,7,75,5,35,2,15,1]
[{"$f":"Source!A95","v":"ZYX Core Portfolio"},{"$f":"Source!B95","v":"NXPI"},{"$f":"Source!C95","v":{"$error":"#VALUE!"}},{"$f":"Source!D95","v":"Semiconductors & Semiconductor Equipment"},{"$f":"Source!E95","v":58.41},{"$f":"Source!F95","v":200.19},{"$f":"Source!G95","v":187.9375},{"$f":"Source!H95","v":185.22},125.31,141.56,0.25,0.35000000000000003,null,null,235,255,0.26876147284310553,0.37674117265953999,0.87534913414731463,1.0349533157768733,null,null,-1,-1,-1,-1,null,null,-1,-1,-1,-1,{"$f":"IF(#REF!=0,0,IF(#REF!=#REF!,#REF!-#REF!,0))","v":{"$error":"#REF!"}},5000,1750,525,2,437,2,350,1,262,1,122,0,52,0]
[{"$f":"Source!A96","v":"ZYX Space"},{"$f":"Source!B96","v":"ORBC"},{"$f":"Source!C96","v":{"$error":"#VALUE!"}},{"$f":"Source!D96","v":"Telecommunications Services"},{"$f":"Source!E96","v":1.24},{"$f":"Source!F96","v":9.25},{"$f":"Source!G96","v":8.09},{"$f":"Source!H96","v":7.98},6.32,7.68,0.15,0.3,4.38,5.43,25,null,2.132832080200501,-1,2.9556962025316453,-1,null,null,-1,-1,-1,-1,null,null,-1,-1,-1,-1,{"$f":"IF(#REF!=0,0,IF(#REF!=#REF!,#REF!-#REF!,0))","v":{"$error":"#REF!"}},5000,1500,450,56,375,46,300,37,225,28,105,13,45,5]
[{"$f":"Source!A97","v":"ZYX Signal Limited"},{"$f":"Source!B97","v":"PACE"},{"$f":"Source!C97","v":{"$error":"#VALUE!"}},{"$f":"Source!D97","v":"Holding Companies"},{"$f":"Source!E97","v":9.6999999999999993},{"$f":"Source!F97","v":12.5},{"$f":"Source!G97","v":10.32},{"$f":"Source!H97","v":10.27},10,12,null,0.15,8.43,8.7799999999999994,14.43,15.88,0.40506329113924056,0.54625121713729319,0.44299999999999995,0.58800000000000008,18,22,0.75267770204479068,1.1421616358325219,0.8,1.2,28,33,1.7263875365141188,2.2132424537487831,1.8,2.2999999999999998,{"$f":"IF(#REF!=0,0,IF(#REF!=#REF!,#REF!-#REF!,0))","v":{"$error":"#REF!"}},5000,750,225,21,187,18,150,14,112,10,52,5,22,2]
[{"$f":"Source!A98","v":"ZYX Core Portfolio"},{"$f":"Source!B98","v":"PCG"},{"$f":"Source!C98","v":{"$error":"#VALUE!"}},{"$f":"Source!D98","v":"Electrical Utilities & IPPs"},{"$f":"Source!E98","v":6.25},{"$f":"Source!F98","v":13.34},{"$f":"Source!G98","v":11.45},{"$f":"Source!H98","v":11.414999999999999},9.7799999999999994,11.18,0.25,0.45,null,null,22,24,0.92728865527814297,1.1024967148488831,1.2494887525562373,1.45398773006135,null,null,-1,-1,-1,-1,null,null,-1,-1,-1,-1,{"$f":"IF(#REF!=0,0,IF(#REF!=#REF!,#REF!-#REF!,0))","v":{"$error":"#REF!"}},5000,2250,675,59,562,49,450,39,337,29,157,13,67,5]
[{"$f":"Source!A99","v":"ZYX Signal Limited"},{"$f":"Source!B99","v":"PHUN"},{"$f":"Source!C99","v":{"$error":"#VALUE!"}},{"$f":"Source!D99","v":"Software & IT Services"},{"$f":"Source!E99","v":0.54},{"$f":"Source!F99","v":3.3376000000000001},{"$f":"Source!G99","v":1.93},{"$f":"Source!H99","v":2.0299999999999998},2.4,2.81,null,0.15,2.06,2.1800000000000002,18,23,7.8669950738916263,10.330049261083744,6.5,8.5833333333333339,null,null,-1,-1,-1,-1,null,null,-1,-1,-1,-1,{"$f":"IF(#REF!=0,0,IF(#REF!=#REF!,#REF!-#REF!,0))","v":{"$error":"#REF!"}},5000,750,225,110,187,92,150,73,112,55,52,25,22,10]
[{"$f":"Source!A100","v":"ZYX Signal Limited"},{"$f":"Source!B100","v":"PLTR"},{"$f":"Source!C100","v":{"$error":"#VALUE!"}},{"$f":"Source!D100","v":"Software & IT Services"},{"$f":"Source!E100","v":8.9},{"$f":"Source!F100","v":45},{"$f":"Source!G100","v":26.73},{"$f":"Source!H100","v":26.125},26.13,29.58,null,0.2,21.23,23.34,33.43,35.31,0.27961722488038276,0.35157894736842116,0.27937236892460776,0.35132032146957531,36.6,43.38,0.40095693779904312,0.66047846889952166,0.40068886337543064,0.66016073478760062,null,null,-1,-1,-1,-1,{"$f":"IF(#REF!=0,0,IF(#REF!=#REF!,#REF!-#REF!,0))","v":{"$error":"#REF!"}},5000,1000,300,11,250,9,200,7,150,5,70,2,30,1]
[{"$f":"Source!A101","v":"ZYX Signal Limited"},{"$f":"Source!B101","v":"PLUG"},{"$f":"Source!C101","v":{"$error":"#VALUE!"}},{"$f":"Source!D101","v":"Renewable Energy"},{"$f":"Source!E101","v":2.5299999999999998},{"$f":"Source!F101","v":75.489999999999995},{"$f":"Source!G101","v":48.16},{"$f":"Source!H101","v":46.4},null,null,null,null,null,null,null,null,{"$f":"SUM(O101-$H101)/$H101","v":-1},-1,{"$f":"SUM(O101-$I101)/$I101","v":{"$error":"#DIV/0!"}},{"$error":"#DIV/0!"},null,null,{"$f":"SUM(U101-$H101)/$H101","v":-1},-1,{"$f":"SUM(U101-$I101)/$I101","v":{"$error":"#DIV/0!"}},{"$error":"#DIV/0!"},null,null,{"$f":"SUM(AA101-$H101)/$H101","v":-1},-1,{"$f":"SUM(AA101-$I101)/$I101","v":{"$error":"#DIV/0!"}},{"$error":"#DIV/0!"},{"$f":"IF(#REF!=0,0,IF(#REF!=#REF!,#REF!-#REF!,0))","v":{"$error":"#REF!"}},5000,0,0,0,0,0,0,0,0,0,0,0,0,0]
[{"$f":"Source!A102","v":"Oil"},{"$f":"Source!B102","v":"PRT"},{"$f":"Source!C102","v":{"$error":"#VALUE!"}},{"$f":"Source!D102","v":{"$error":"#VALUE!"}},{"$f":"Source!E102","v":1},{"$f":"Source!F102","v":5.35},{"$f":"Source!G102","v":5.22},{"$f":"Source!H102","v":5.1501000000000001},null,null,null,null,null,null,null,null,-1,-1,{"$error":"#DIV/0!"},{"$error":"#DIV/0!"},null,null,-1,-1,{"$error":"#DIV/0!"},{"$error":"#DIV/0!"},null,null,-1,-1,{"$error":"#DIV/0!"},{"$error":"#DIV/0!"},{"$f":"IF(#REF!=0,0,IF(#REF!=#REF!,#REF!-#REF!,0))","v":{"$error":"#REF!"}},5000,0,0,0,0,0,0,0,0,0,0,0,0,0]
[{"$f":"Source!A103","v":"ZYX Core Portfolio"},{"$f":"Source!B103","v":"PSQ"},{"$f":"Source!C103","v":{"$error":"#VALUE!"}},{"$f":"Source!D103","v":{"$error":"#VALUE!"}},{"$f":"Source!E103","v":13.29},{"$f":"Source!F103","v":29.7},{"$f":"Source!G103","v":14.02},{"$f":"Source!H103","v":14.18},13.26,15.31,"Hedge","Hedge",null,null,"Hedge","Hedge",{"$error":"#VALUE!"},{"$error":"#VALUE!"},{"$error":"#VALUE!"},{"$error":"#VALUE!"},null,null,-1,-1,-1,-1,null,null,-1,-1,-1,-1,{"$f":"IF(#REF!=0,0,IF(#REF!=#REF!,#REF!-#REF!,0))","v":{"$error":"#REF!"}},5000,{"$error":"#VALUE!"},{"$error":"#VALUE!"},{"$error":"#VALUE!"},{"$error":"#VALUE!"},{"$error":"#VALUE!"},{"$error":"#VALUE!"},{"$error":"#VALUE!"},{"$error":"#VALUE!"},{"$error":"#VALUE!"},{"$error":"#VALUE!"},{"$error":"#VALUE!"},{"$error":"#VALUE!"},{"$error":"#VALUE!"}]
[{"$f":"Source!A104","v":"ZYX Core Portfolio"},{"$f":"Source!B104","v":"QCOM"},{"$f":"Source!C104","v":{"$error":"#VALUE!"}},{"$f":"Source!D104","v":"Semiconductors & Semiconductor Equipment"},{"$f":"Source!E104","v":58},{"$f":"Source!F104","v":167.94},{"$f":"Source!G104","v":131.74},{"$f":"Source!H104","v":129.4725},127,145.76,0.3,0.65,null,null,232,256,0.79188630790322279,0.97725385699665956,0.82677165354330706,1.015748031496063,null,null,-1,-1,-1,-1,null,null,-1,-1,-1,-1,{"$f":"IF(#REF!=0,0,IF(#REF!=#REF!,#REF!-#REF!,0))","v":{"$error":"#REF!"}},5000,3250,975,7,812,6,650,5,487,3,227,1,97,0]
[{"$f":"Source!A105","v":"ZYX Signal Limited"},{"$f":"Source!B105","v":"QCOM"},{"$f":"Source!C105","v":{"$error":"#VALUE!"}},{"$f":"Source!D105","v":"Semiconductors & Semiconductor Equipment"},{"$f":"Source!E105","v":58},{"$f":"Source!F105","v":167.94},{"$f":"Source!G105","v":131.74},{"$f":"Source!H105","v":129.4725},null,null,null,null,null,null,null,null,-1,-1,{"$error":"#DIV/0!"},{"$error":"#DIV/0!"},null,null,-1,-1,{"$error":"#DIV/0!"},{"$error":"#DIV/0!"},null,null,-1,-1,{"$error":"#DIV/0!"},{"$error":"#DIV/0!"},{"$f":"IF(#REF!=0,0,IF(#REF!=#REF!,#REF!-#REF!,0))","v":{"$error":"#REF!"}},5000,0,0,0,0,0,0,0,0,0,0,0,0,0]
[{"$f":"Source!A106","v":"ZYX Core Portfolio"},{"$f":"Source!B106","v":"QQQJ"},{"$f":"Source!C106","v":{"$error":"#VALUE!"}},{"$f":"Source!D106","v":{"$error":"#VALUE!"}},{"$f":"Source!E106","v":24.669},{"$f":"Source!F106","v":35.18},{"$f":"Source!G106","v":33.22},{"$f":"Source!H106","v":32.840000000000003},24.13,28.76,0.15,0.4,null,null,42,46,0.2789281364190011,0.40073081607795358,0.74057190219643609,0.90634065478657277,null,null,-1,-1,-1,-1,null,null,-1,-1,-1,-1,{"$f":"IF(#REF!=0,0,IF(#REF!=#REF!,#REF!-#REF!,0))","v":{"$error":"#REF!"}},5000,2000,600,18,500,15,400,12,300,9,140,4,60,1]
[{"$f":"Source!A107","v":"ZYX Core Portfolio"},{"$f":"Source!B107","v":"QRVO"},{"$f":"Source!C107","v":{"$error":"#VALUE!"}},{"$f":"Source!D107","v":"Semiconductors & Semiconductor Equipment"},{"$f":"Source!E107","v":67.540000000000006},{"$f":"Source!F107","v":191.82499999999999},{"$f":"Source!G107","v":174.95},{"$f":"Source!H107","v":171.93010000000001},127.26,151.77000000000001,0.2,0.4,null,null,255,265,0.48316088922184064,0.54132406134818734,1.0037718057520038,1.0823510922520825,null,null,-1,-1,-1,-1,null,null,-1,-1,-1,-1,{"$f":"IF(#REF!=0,0,IF(#REF!=#REF!,#REF!-#REF!,0))","v":{"$error":"#REF!"}},5000,2000,600,3,500,2,400,2,300,1,140,0,60,0]
[{"$f":"Source!A108","v":"ZYX Signal Limited"},{"$f":"Source!B108","v":"QS"},{"$f":"Source!C108","v":{"$error":"#VALUE!"}},{"$f":"Source!D108","v":"Automobiles & Auto Parts"},{"$f":"Source!E108","v":9.74},{"$f":"Source!F108","v":132.72999999999999},{"$f":"Source!G108","v":58.2},{"$f":"Source!H108","v":57.209899999999998},42.32,51.94,null,0.2,37,38.43,107.33,123.48,0.87607389630116472,1.1583676951017221,1.5361531190926274,1.9177693761814745,168,210,1.9365546872132271,2.6706933590165338,2.9697542533081287,3.9621928166351608,null,90,-1,0.57315429672137175,-1,1.1266540642722116,{"$f":"IF(#REF!=0,0,IF(#REF!=#REF!,#REF!-#REF!,0))","v":{"$error":"#REF!"}},5000,1000,300,5,250,4,200,3,150,2,70,1,30,0]
[{"$f":"Source!A109","v":"ZYX Core Portfolio"},{"$f":"Source!B109","v":"RDS-B"},{"$f":"Source!C109","v":{"$error":"#VALUE!"}},{"$f":"Source!D109","v":"Oil & Gas"},{"$f":"Source!E109","v":19.190000000000001},{"$f":"Source!F109","v":42.27},{"$f":"Source!G109","v":41.72},{"$f":"Source!H109","v":42.06},28.31,32.520000000000003,0.15,0.3,null,null,56,62,0.33143128863528287,0.47408464098906317,0.97809961144471924,1.1900388555280819,null,null,-1,-1,-1,-1,null,null,-1,-1,-1,-1,{"$f":"IF(#REF!=0,0,IF(#REF!=#REF!,#REF!-#REF!,0))","v":{"$error":"#REF!"}},5000,1500,450,10,375,8,300,7,225,5,105,2,45,1]
[{"$f":"Source!A110","v":"Oil"},{"$f":"Source!B110","v":"RIG"},{"$f":"Source!C110","v":{"$error":"#VALUE!"}},{"$f":"Source!D110","v":"Oil & Gas Related Equipment and Services"},{"$f":"Source!E110","v":0.65},{"$f":"Source!F110","v":4.8099999999999996},{"$f":"Source!G110","v":4.55},{"$f":"Source!H110","v":4.54},4,4,null,null,null,null,null,null,-1,-1,-1,-1,null,null,-1,-1,-1,-1,null,null,-1,-1,-1,-1,{"$f":"IF(#REF!=0,0,IF(#REF!=#REF!,#REF!-#REF!,0))","v":{"$error":"#REF!"}},5000,0,0,0,0,0,0,0,0,0,0,0,0,0]
[{"$f":"Source!A111","v":"ZYX Signal Limited"},{"$f":"Source!B111","v":"RLX"},{"$f":"Source!C111","v":{"$error":"#VALUE!"}},{"$f":"Source!D111","v":"Food & Tobacco"},{"$f":"Source!E111","v":13.7},{"$f":"Source!F111","v":35},{"$f":"Source!G111","v":18.8},{"$f":"Source!H111","v":17.48},null,null,null,null,null,null,null,null,-1,-1,{"$error":"#DIV/0!"},{"$error":"#DIV/0!"},null,null,-1,-1,{"$error":"#DIV/0!"},{"$error":"#DIV/0!"},null,null,-1,-1,{"$error":"#DIV/0!"},{"$error":"#DIV/0!"},{"$f":"IF(#REF!=0,0,IF(#REF!=#REF!,#REF!-#REF!,0))","v":{"$error":"#REF!"}},5000,0,0,0,0,0,0,0,0,0,0,0,0,0]
[{"$f":"Source!A112","v":"Motley Fool"},{"$f":"Source!B112","v":"ROKU"},{"$f":"Source!C112","v":{"$error":"#VALUE!"}},{"$f":"Source!D112","v":"Media & Publishing"},{"$f":"Source!E112","v":58.22},{"$f":"Source!F112","v":486.72},{"$f":"Source!G112","v":363.34},{"$f":"Source!H112","v":356.005},null,null,null,null,null,null,null,null,-1,-1,{"$error":"#DIV/0!"},{"$error":"#DIV/0!"},null,null,-1,-1,{"$error":"#DIV/0!"},{"$error":"#DIV/0!"},null,null,-1,-1,{"$error":"#DIV/0!"},{"$error":"#DIV/0!"},{"$f":"IF(#REF!=0,0,IF(#REF!=#REF!,#REF!-#REF!,0))","v":{"$error":"#REF!"}},5000,0,0,0,0,0,0,0,0,0,0,0,0,0]
[{"$f":"Source!A113","v":"ZYX Signal Limited"},{"$f":"Source!B113","v":"SAVE"},{"$f":"Source!C113","v":{"$error":"#VALUE!"}},{"$f":"Source!D113","v":"Passenger Transportation Services"},{"$f":"Source!E113","v":7.01},{"$f":"Source!F113","v":39.14},{"$f":"Source!G113","v":36.51},{"$f":"Source!H113","v":37.369999999999997},25.06,27.31,null,0.3,23.43,24.43,42.38,47.43,0.1340647578271342,0.26919989296226926,0.69114126097366335,0.89265762170790108,58,67,0.55204709660155216,0.79288199090179301,1.3144453312051076,1.6735833998403831,null,null,-1,-1,-1,-1,{"$f":"IF(#REF!=0,0,IF(#REF!=#REF!,#REF!-#REF!,0))","v":{"$error":"#REF!"}},5000,1500,450,12,375,10,300,8,225,6,105,2,45,1]
[{"$f":"Source!A114","v":"ZYX Electric Cars"},{"$f":"Source!B114","v":"SBE"},{"$f":"Source!C114","v":{"$error":"#VALUE!"}},{"$f":"Source!D114","v":"Electrical Utilities & IPPs"},{"$f":"Source!E114","v":9.3800000000000008},{"$f":"Source!F114","v":49.48},{"$f":"Source!G114","v":30.43},{"$f":"Source!H114","v":27.588000000000001},null,null,null,null,null,null,null,null,-1,-1,{"$error":"#DIV/0!"},{"$error":"#DIV/0!"},null,null,-1,-1,{"$error":"#DIV/0!"},{"$error":"#DIV/0!"},null,null,-1,-1,{"$error":"#DIV/0!"},{"$error":"#DIV/0!"},{"$f":"IF(#REF!=0,0,IF(#REF!=#REF!,#REF!-#REF!,0))","v":{"$error":"#REF!"}},5000,0,0,0,0,0,0,0,0,0,0,0,0,0]
[{"$f":"Source!A115","v":"ZYX Signal Limited"},{"$f":"Source!B115","v":"SFIX"},{"$f":"Source!C115","v":{"$error":"#VALUE!"}},{"$f":"Source!D115","v":"Software & IT Services"},{"$f":"Source!E115","v":10.9},{"$f":"Source!F115","v":113.7594},{"$f":"Source!G115","v":50.93},{"$f":"Source!H115","v":51.034100000000002},null,null,null,null,null,null,null,null,-1,-1,{"$error":"#DIV/0!"},{"$error":"#DIV/0!"},null,null,-1,-1,{"$error":"#DIV/0!"},{"$error":"#DIV/0!"},null,null,-1,-1,{"$error":"#DIV/0!"},{"$error":"#DIV/0!"},{"$f":"IF(#REF!=0,0,IF(#REF!=#REF!,#REF!-#REF!,0))","v":{"$error":"#REF!"}},5000,0,0,0,0,0,0,0,0,0,0,0,0,0]
[{"$f":"Source!A116","v":"ZYX Signal Limited"},{"$f":"Source!B116","v":"SKLZ"},{"$f":"Source!C116","v":{"$error":"#VALUE!"}},{"$f":"Source!D116","v":"Holding Companies"},{"$f":"Source!E116","v":9.81},{"$f":"Source!F116","v":46.298000000000002},{"$f":"Source!G116","v":27.78},{"$f":"Source!H116","v":27.84},22.02,25.38,null,0.2,19.32,21.23,27.73,30.16,-3.9511494252873359E-3,8.3333333333333343E-2,0.25930971843778389,0.36966394187102636,32.43,36.42,0.1648706896551724,0.30818965517241387,0.47275204359673029,0.65395095367847422,null,null,-1,-1,-1,-1,{"$f":"IF(#REF!=0,0,IF(#REF!=#REF!,#REF!-#REF!,0))","v":{"$error":"#REF!"}},5000,1000,300,10,250,8,200,7,150,5,70,2,30,1]
[{"$f":"Source!A117","v":"ZYX Signal Limited"},{"$f":"Source!B117","v":"SKT"},{"$f":"Source!C117","v":{"$error":"#VALUE!"}},{"$f":"Source!D117","v":"Residential & Commercial REIT"},{"$f":"Source!E117","v":4.05},{"$f":"Source!F117","v":22.4},{"$f":"Source!G117","v":16.920000000000002},{"$f":"Source!H117","v":17.015000000000001},16.309999999999999,18.510000000000002,null,0.2,15.48,15.83,20,22,0.17543344108139872,0.29297678518953862,0.22624156958920916,0.34886572654813008,27,32,0.58683514545988824,0.88069350573023797,0.65542611894543235,0.96198651134273472,null,null,-1,-1,-1,-1,{"$f":"IF(#REF!=0,0,IF(#REF!=#REF!,#REF!-#REF!,0))","v":{"$error":"#REF!"}},5000,1000,300,17,250,14,200,11,150,8,70,4,30,1]
[{"$f":"Source!A118","v":"ZYX Core Portfolio"},{"$f":"Source!B118","v":"SLV"},{"$f":"Source!C118","v":{"$error":"#VALUE!"}},{"$f":"Source!D118","v":{"$error":"#VALUE!"}},{"$f":"Source!E118","v":10.86},{"$f":"Source!F118","v":27.98},{"$f":"Source!G118","v":24.25},{"$f":"Source!H118","v":23.846399999999999},20.5,23.88,0.15,0.35000000000000003,null,null,46,50,0.92901234567901236,1.0967525496511004,1.2439024390243902,1.4390243902439024,null,null,-1,-1,-1,-1,null,null,-1,-1,-1,-1,{"$f":"IF(#REF!=0,0,IF(#REF!=#REF!,#REF!-#REF!,0))","v":{"$error":"#REF!"}},5000,1750,525,22,437,18,350,14,262,10,122,5,52,2]
[{"$f":"Source!A119","v":"ZYX Signal Limited"},{"$f":"Source!B119","v":"SLV"},{"$f":"Source!C119","v":{"$error":"#VALUE!"}},{"$f":"Source!D119","v":{"$error":"#VALUE!"}},{"$f":"Source!E119","v":10.86},{"$f":"Source!F119","v":27.98},{"$f":"Source!G119","v":24.25},{"$f":"Source!H119","v":23.846399999999999},null,null,null,null,null,null,null,null,-1,-1,{"$error":"#DIV/0!"},{"$error":"#DIV/0!"},null,null,-1,-1,{"$error":"#DIV/0!"},{"$error":"#DIV/0!"},null,null,-1,-1,{"$error":"#DIV/0!"},{"$error":"#DIV/0!"},{"$f":"IF(#REF!=0,0,IF(#REF!=#REF!,#REF!-#REF!,0))","v":{"$error":"#REF!"}},5000,0,0,0,0,0,0,0,0,0,0,0,0,0]
[{"$f":"Source!A120","v":"ZYX Space"},{"$f":"Source!B120","v":"SPCE"},{"$f":"Source!C120","v":{"$error":"#VALUE!"}},{"$f":"Source!D120","v":"Aerospace & Defense"},{"$f":"Source!E120","v":9.06},{"$f":"Source!F120","v":62.8},{"$f":"Source!G120","v":33.58},{"$f":"Source!H120","v":32.82},24.13,28.63,0.1,0.2,18,21.34,52,null,0.58439975624619134,-1,1.1549937836717779,-1,null,null,-1,-1,-1,-1,null,null,-1,-1,-1,-1,{"$f":"IF(#REF!=0,0,IF(#REF!=#REF!,#REF!-#REF!,0))","v":{"$error":"#REF!"}},5000,1000,300,9,250,7,200,6,150,4,70,2,30,0]
[{"$f":"Source!A121","v":"ZYX Core Portfolio"},{"$f":"Source!B121","v":"SPR"},{"$f":"Source!C121","v":{"$error":"#VALUE!"}},{"$f":"Source!D121","v":"Aerospace & Defense"},{"$f":"Source!E121","v":13.69},{"$f":"Source!F121","v":51.56},{"$f":"Source!G121","v":49.83},{"$f":"Source!H121","v":50.625},28.16,35.130000000000003,0.2,0.3,null,null,73,78,0.44197530864197532,0.54074074074074074,1.5923295454545456,1.7698863636363638,null,null,-1,-1,-1,-1,null,null,-1,-1,-1,-1,{"$f":"IF(#REF!=0,0,IF(#REF!=#REF!,#REF!-#REF!,0))","v":{"$error":"#REF!"}},5000,1500,450,8,375,7,300,5,225,4,105,2,45,0]
[{"$f":"Source!A122","v":"ZYX Signal Limited"},{"$f":"Source!B122","v":"SPR"},{"$f":"Source!C122","v":{"$error":"#VALUE!"}},{"$f":"Source!D122","v":"Aerospace & Defense"},{"$f":"Source!E122","v":13.69},{"$f":"Source!F122","v":51.56},{"$f":"Source!G122","v":49.83},{"$f":"Source!H122","v":50.625},null,null,null,null,null,null,null,null,-1,-1,{"$error":"#DIV/0!"},{"$error":"#DIV/0!"},null,null,-1,-1,{"$error":"#DIV/0!"},{"$error":"#DIV/0!"},null,null,-1,-1,{"$error":"#DIV/0!"},{"$error":"#DIV/0!"},{"$f":"IF(#REF!=0,0,IF(#REF!=#REF!,#REF!-#REF!,0))","v":{"$error":"#REF!"}},5000,0,0,0,0,0,0,0,0,0,0,0,0,0]
[{"$f":"Source!A123","v":"ZYX Signal Limited"},{"$f":"Source!B123","v":"SQQQ"},{"$f":"Source!C123","v":{"$error":"#VALUE!"}},{"$f":"Source!D123","v":{"$error":"#VALUE!"}},{"$f":"Source!E123","v":11.76},{"$f":"Source!F123","v":162.15},{"$f":"Source!G123","v":13.49},{"$f":"Source!H123","v":13.994999999999999},null,null,null,null,null,null,null,null,-1,-1,{"$error":"#DIV/0!"},{"$error":"#DIV/0!"},null,null,-1,-1,{"$error":"#DIV/0!"},{"$error":"#DIV/0!"},null,null,-1,-1,{"$error":"#DIV/0!"},{"$error":"#DIV/0!"},{"$f":"IF(#REF!=0,0,IF(#REF!=#REF!,#REF!-#REF!,0))","v":{"$error":"#REF!"}},5000,0,0,0,0,0,0,0,0,0,0,0,0,0]
[{"$f":"Source!A124","v":"ZYX Space"},{"$f":"Source!B124","v":"SRACU"},{"$f":"Source!C124","v":{"$error":"#VALUE!"}},{"$f":"Source!D124","v":{"$error":"#VALUE!"}},{"$f":"Source!E124","v":9.3000000000000007},{"$f":"Source!F124","v":35},{"$f":"Source!G124","v":16.54},{"$f":"Source!H124","v":19.27},15.38,18.68,0.15,0.3,9,12.18,105,null,4.4488842760768037,-1,5.82704811443433,-1,null,null,-1,-1,-1,-1,null,null,-1,-1,-1,-1,{"$f":"IF(#REF!=0,0,IF(#REF!=#REF!,#REF!-#REF!,0))","v":{"$error":"#REF!"}},5000,1500,450,23,375,19,300,15,225,11,105,5,45,2]
[{"$f":"Source!A125","v":"ZYX Signal Limited"},{"$f":"Source!B125","v":"SRACU"},{"$f":"Source!C125","v":{"$error":"#VALUE!"}},{"$f":"Source!D125","v":{"$error":"#VALUE!"}},{"$f":"Source!E125","v":9.3000000000000007},{"$f":"Source!F125","v":35},{"$f":"Source!G125","v":16.54},{"$f":"Source!H125","v":19.27},null,null,null,null,null,null,null,null,-1,-1,{"$error":"#DIV/0!"},{"$error":"#DIV/0!"},null,null,-1,-1,{"$error":"#DIV/0!"},{"$error":"#DIV/0!"},null,null,-1,-1,{"$error":"#DIV/0!"},{"$error":"#DIV/0!"},{"$f":"IF(#REF!=0,0,IF(#REF!=#REF!,#REF!-#REF!,0))","v":{"$error":"#REF!"}},5000,0,0,0,0,0,0,0,0,0,0,0,0,0]
[{"$f":"Source!A126","v":"ZYX Signal Limited"},{"$f":"Source!B126","v":"SSYS"},{"$f":"Source!C126","v":{"$error":"#VALUE!"}},{"$f":"Source!D126","v":"Electronic Equipment & Parts"},{"$f":"Source!E126","v":11.89},{"$f":"Source!F126","v":56.95},{"$f":"Source!G126","v":28.14},{"$f":"Source!H126","v":27.49},26.38,28.57,null,0.25,24.43,25.38,31.43,34,0.14332484539832671,0.23681338668606775,0.1914329037149356,0.28885519332827903,36,42,0.30956711531465997,0.52782830120043656,0.36467020470053074,0.59211523881728589,null,null,-1,-1,-1,-1,{"$f":"IF(#REF!=0,0,IF(#REF!=#REF!,#REF!-#REF!,0))","v":{"$error":"#REF!"}},5000,1250,375,13,312,11,250,9,187,6,87,3,37,1]
[{"$f":"Source!A127","v":"ZYX Signal Limited"},{"$f":"Source!B127","v":"THCB"},{"$f":"Source!C127","v":{"$error":"#VALUE!"}},{"$f":"Source!D127","v":"Holding Companies"},{"$f":"Source!E127","v":9.16},{"$f":"Source!F127","v":25.2},{"$f":"Source!G127","v":14.68},{"$f":"Source!H127","v":14.557499999999999},null,null,null,null,null,null,null,null,-1,-1,{"$error":"#DIV/0!"},{"$error":"#DIV/0!"},null,null,-1,-1,{"$error":"#DIV/0!"},{"$error":"#DIV/0!"},null,null,-1,-1,{"$error":"#DIV/0!"},{"$error":"#DIV/0!"},{"$f":"IF(#REF!=0,0,IF(#REF!=#REF!,#REF!-#REF!,0))","v":{"$error":"#REF!"}},5000,0,0,0,0,0,0,0,0,0,0,0,0,0]
[{"$f":"Source!A128","v":"ZYX Pot"},{"$f":"Source!B128","v":"TLRY"},{"$f":"Source!C128","v":{"$error":"#VALUE!"}},{"$f":"Source!D128","v":"Pharmaceuticals"},{"$f":"Source!E128","v":2.4300000000000002},{"$f":"Source!F128","v":67},{"$f":"Source!G128","v":28.195},{"$f":"Source!H128","v":26.42},13.37,21.88,0.05,0.1,null,null,"Suspended","Suspended",{"$error":"#VALUE!"},{"$error":"#VALUE!"},{"$error":"#VALUE!"},{"$error":"#VALUE!"},null,null,-1,-1,-1,-1,null,null,-1,-1,-1,-1,{"$f":"IF(#REF!=0,0,IF(#REF!=#REF!,#REF!-#REF!,0))","v":{"$error":"#REF!"}},5000,500,150,5,125,4,100,3,75,2,35,1,15,0]
[{"$f":"Source!A129","v":"ZYX Core Portfolio"},{"$f":"Source!B129","v":"TMUS"},{"$f":"Source!C129","v":{"$error":"#VALUE!"}},{"$f":"Source!D129","v":"Telecommunications Services"},{"$f":"Source!E129","v":63.5},{"$f":"Source!F129","v":135.54},{"$f":"Source!G129","v":125.99},{"$f":"Source!H129","v":126.23},105.26,118.88,0.3,0.5,null,null,165,185,0.30713776439832047,0.46557870553751085,0.56754702641079224,0.7575527265817974,null,null,-1,-1,-1,-1,null,null,-1,-1,-1,-1,{"$f":"IF(#REF!=0,0,IF(#REF!=#REF!,#REF!-#REF!,0))","v":{"$error":"#REF!"}},5000,2500,750,5,625,4,500,3,375,2,175,1,75,0]
[{"$f":"Source!A130","v":"ZYX Electric Cars"},{"$f":"Source!B130","v":"TPGY"},{"$f":"Source!C130","v":{"$error":"#VALUE!"}},{"$f":"Source!D130","v":"Holding Companies"},{"$f":"Source!E130","v":9.76},{"$f":"Source!F130","v":34.28},{"$f":"Source!G130","v":18.18},{"$f":"Source!H130","v":17.87},null,null,null,null,null,null,null,null,-1,-1,{"$error":"#DIV/0!"},{"$error":"#DIV/0!"},null,null,-1,-1,{"$error":"#DIV/0!"},{"$error":"#DIV/0!"},null,null,-1,-1,{"$error":"#DIV/0!"},{"$error":"#DIV/0!"},{"$f":"IF(#REF!=0,0,IF(#REF!=#REF!,#REF!-#REF!,0))","v":{"$error":"#REF!"}},5000,0,0,0,0,0,0,0,0,0,0,0,0,0]
[{"$f":"Source!A131","v":"ZYX Electric Cars"},{"$f":"Source!B131","v":"TSLA"},{"$f":"Source!C131","v":{"$error":"#VALUE!"}},{"$f":"Source!D131","v":"Automobiles & Auto Parts"},{"$f":"Source!E131","v":70.102000000000004},{"$f":"Source!F131","v":900.4},{"$f":"Source!G131","v":699.6},{"$f":"Source!H131","v":681.51880000000006},null,null,null,null,null,null,null,null,-1,-1,{"$error":"#DIV/0!"},{"$error":"#DIV/0!"},null,null,-1,-1,{"$error":"#DIV/0!"},{"$error":"#DIV/0!"},null,null,-1,-1,{"$error":"#DIV/0!"},{"$error":"#DIV/0!"},{"$f":"IF(#REF!=0,0,IF(#REF!=#REF!,#REF!-#REF!,0))","v":{"$error":"#REF!"}},5000,0,0,0,0,0,0,0,0,0,0,0,0,0]
[{"$f":"Source!A132","v":"ZYX Core Portfolio"},{"$f":"Source!B132","v":"TSM"},{"$f":"Source!C132","v":{"$error":"#VALUE!"}},{"$f":"Source!D132","v":"Semiconductors & Semiconductor Equipment"},{"$f":"Source!E132","v":42.7},{"$f":"Source!F132","v":142.19499999999999},{"$f":"Source!G132","v":120.58},{"$f":"Source!H132","v":118.79},93.11,105.81,0.25,0.35000000000000003,null,null,167,178,0.40584224261301449,0.49844262985099747,0.79357748899151537,0.91171732359574698,null,null,-1,-1,-1,-1,null,null,-1,-1,-1,-1,{"$f":"IF(#REF!=0,0,IF(#REF!=#REF!,#REF!-#REF!,0))","v":{"$error":"#REF!"}},5000,1750,525,4,437,3,350,2,262,2,122,1,52,0]
[{"$f":"Source!A133","v":"ZYX Signal Limited"},{"$f":"Source!B133","v":"TWM"},{"$f":"Source!C133","v":{"$error":"#VALUE!"}},{"$f":"Source!D133","v":{"$error":"#VALUE!"}},{"$f":"Source!E133","v":13.615},{"$f":"Source!F133","v":120.3008},{"$f":"Source!G133","v":13.66},{"$f":"Source!H133","v":13.6313},null,null,null,null,null,null,null,null,{"$f":"SUM(O133-$H133)/$H133","v":-1},-1,{"$f":"SUM(O133-$I133)/$I133","v":{"$error":"#DIV/0!"}},{"$error":"#DIV/0!"},null,null,{"$f":"SUM(U133-$H133)/$H133","v":-1},-1,{"$f":"SUM(U133-$I133)/$I133","v":{"$error":"#DIV/0!"}},{"$error":"#DIV/0!"},null,null,{"$f":"SUM(AA133-$H133)/$H133","v":-1},-1,{"$f":"SUM(AA133-$I133)/$I133","v":{"$error":"#DIV/0!"}},{"$error":"#DIV/0!"},{"$f":"IF(#REF!=0,0,IF(#REF!=#REF!,#REF!-#REF!,0))","v":{"$error":"#REF!"}},5000,{"$f":"ROUNDDOWN(SUM($L133*$AH133),0)","v":0},{"$f":"ROUNDDOWN(SUM($AI133*AJ$3),0)","v":0},{"$f":"ROUNDDOWN(SUM(AJ133/$H133),0)","v":0},{"$f":"ROUNDDOWN(SUM($AI133*AL$3),0)","v":0},{"$f":"ROUNDDOWN(SUM(AL133/$H133),0)","v":0},{"$f":"ROUNDDOWN(SUM($AI133*AN$3),0)","v":0},{"$f":"ROUNDDOWN(SUM(AN133/$H133),0)","v":0},{"$f":"ROUNDDOWN(SUM($AI133*AP$3),0)","v":0},{"$f":"ROUNDDOWN(SUM(AP133/$H133),0)","v":0},{"$f":"ROUNDDOWN(SUM($AI133*AR$3),0)","v":0},{"$f":"ROUNDDOWN(SUM(AR133/$H133),0)","v":0},{"$f":"ROUNDDOWN(SUM($AI133*AT$3),0)","v":0},{"$f":"ROUNDDOWN(SUM(AT133/$H133),0)","v":0}]
[{"$f":"Source!A134","v":"ZYX Core Portfolio"},{"$f":"Source!B134","v":"TWTR"},{"$f":"Source!C134","v":{"$error":"#VALUE!"}},{"$f":"Source!D134","v":"Software & IT Services"},{"$f":"Source!E134","v":20},{"$f":"Source!F134","v":80.75},{"$f":"Source!G134","v":68.459999999999994},{"$f":"Source!H134","v":67.75},52.39,60.56,0.2,0.35,null,null,94,102,0.38745387453874541,0.50553505535055354,0.79423554113380412,0.9469364382515747,140,156,1.0664206642066421,1.3025830258302582,1.6722656995609848,1.977667493796526,null,null,-1,-1,-1,-1,{"$f":"IF(#REF!=0,0,IF(#REF!=#REF!,#REF!-#REF!,0))","v":{"$error":"#REF!"}},{"$f":"$AH$5","v":5000},1750,525,7,437,6,350,5,262,3,122,1,52,0]
[{"$f":"Source!A135","v":"Oil"},{"$f":"Source!B135","v":"TYG"},{"$f":"Source!C135","v":{"$error":"#VALUE!"}},{"$f":"Source!D135","v":{"$error":"#VALUE!"}},{"$f":"Source!E135","v":4.5999999999999996},{"$f":"Source!F135","v":25.46},{"$f":"Source!G135","v":25.18},{"$f":"Source!H135","v":25.02},null,null,null,null,null,null,null,null,-1,-1,{"$error":"#DIV/0!"},{"$error":"#DIV/0!"},null,null,-1,-1,{"$error":"#DIV/0!"},{"$error":"#DIV/0!"},null,null,-1,-1,{"$error":"#DIV/0!"},{"$error":"#DIV/0!"},{"$f":"IF(#REF!=0,0,IF(#REF!=#REF!,#REF!-#REF!,0))","v":{"$error":"#REF!"}},5000,0,0,0,0,0,0,0,0,0,0,0,0,0]
[{"$f":"Source!A136","v":"ZYX Core Portfolio"},{"$f":"Source!B136","v":"UBER"},{"$f":"Source!C136","v":{"$error":"#VALUE!"}},{"$f":"Source!D136","v":"Software & IT Services"},{"$f":"Source!E136","v":13.71},{"$f":"Source!F136","v":64.05},{"$f":"Source!G136","v":58.95},{"$f":"Source!H136","v":58.25},40.369999999999997,45.62,0.2,0.35000000000000003,null,null,116,124,0.99141630901287559,1.1287553648068669,1.8734208570720832,2.0715878127322269,null,null,-1,-1,-1,-1,null,null,-1,-1,-1,-1,{"$f":"IF(#REF!=0,0,IF(#REF!=#REF!,#REF!-#REF!,0))","v":{"$error":"#REF!"}},5000,1750,525,9,437,7,350,6,262,4,122,2,52,0]
[{"$f":"Source!A137","v":"ZYX Signal Limited"},{"$f":"Source!B137","v":"UNFI"},{"$f":"Source!C137","v":{"$error":"#VALUE!"}},{"$f":"Source!D137","v":"Food & Drug Retailing"},{"$f":"Source!E137","v":5.0549999999999997},{"$f":"Source!F137","v":40.24},{"$f":"Source!G137","v":39.24},{"$f":"Source!H137","v":39.19},27,29.76,null,0.2,24.06,25.43,36,42,-8.1398315896912418E-2,7.170196478693551E-2,0.33333333333333331,0.55555555555555558,58,75,0.47996937994386329,0.91375350854809911,1.1481481481481481,1.7777777777777777,null,null,-1,-1,-1,-1,{"$f":"IF(#REF!=0,0,IF(#REF!=#REF!,#REF!-#REF!,0))","v":{"$error":"#REF!"}},5000,1000,300,7,250,6,200,5,150,3,70,1,30,0]
[{"$f":"Source!A138","v":"ZYX Signal Limited"},{"$f":"Source!B138","v":"VACQ"},{"$f":"Source!C138","v":{"$error":"#VALUE!"}},{"$f":"Source!D138","v":"Holding Companies"},{"$f":"Source!E138","v":9.7200000000000006},{"$f":"Source!F138","v":15.15},{"$f":"Source!G138","v":12.41},{"$f":"Source!H138","v":12.2},10.41,12.18,null,0.2,8.3800000000000008,8.68,15.02,16.73,0.2311475409836066,0.37131147540983617,0.44284341978866471,0.60710854947166193,19.13,22.5,0.56803278688524594,0.84426229508196737,0.83765609990393841,1.1613832853025936,28,34,1.2950819672131149,1.7868852459016396,1.6897214217098944,2.2660902977905861,{"$f":"IF(#REF!=0,0,IF(#REF!=#REF!,#REF!-#REF!,0))","v":{"$error":"#REF!"}},5000,1000,300,24,250,20,200,16,150,12,70,5,30,2]
[{"$f":"Source!A139","v":"ZYX Signal Limited"},{"$f":"Source!B139","v":"VSPR"},{"$f":"Source!C139","v":{"$error":"#VALUE!"}},{"$f":"Source!D139","v":"Holding Companies"},{"$f":"Source!E139","v":10.01},{"$f":"Source!F139","v":12.84},{"$f":"Source!G139","v":10.81},{"$f":"Source!H139","v":10.58},null,null,null,null,null,null,null,null,-1,-1,{"$error":"#DIV/0!"},{"$error":"#DIV/0!"},null,null,-1,-1,{"$error":"#DIV/0!"},{"$error":"#DIV/0!"},null,null,-1,-1,{"$error":"#DIV/0!"},{"$error":"#DIV/0!"},{"$f":"IF(#REF!=0,0,IF(#REF!=#REF!,#REF!-#REF!,0))","v":{"$error":"#REF!"}},5000,0,0,0,0,0,0,0,0,0,0,0,0,0]
[{"$f":"Source!A140","v":"ZYX Signal Limited"},{"$f":"Source!B140","v":"VTRS"},{"$f":"Source!C140","v":{"$error":"#VALUE!"}},{"$f":"Source!D140","v":"Pharmaceuticals"},{"$f":"Source!E140","v":12.75},{"$f":"Source!F140","v":19.239999999999998},{"$f":"Source!G140","v":14.1},{"$f":"Source!H140","v":14.234999999999999},null,null,null,null,null,null,null,null,-1,-1,{"$error":"#DIV/0!"},{"$error":"#DIV/0!"},null,null,-1,-1,{"$error":"#DIV/0!"},{"$error":"#DIV/0!"},null,null,-1,-1,{"$error":"#DIV/0!"},{"$error":"#DIV/0!"},{"$f":"IF(#REF!=0,0,IF(#REF!=#REF!,#REF!-#REF!,0))","v":{"$error":"#REF!"}},5000,0,0,0,0,0,0,0,0,0,0,0,0,0]
[{"$f":"Source!A141","v":"ZYX Signal Limited"},{"$f":"Source!B141","v":"WIFI"},{"$f":"Source!C141","v":{"$error":"#VALUE!"}},{"$f":"Source!D141","v":"Telecommunications Services"},{"$f":"Source!E141","v":6.66},{"$f":"Source!F141","v":15.92},{"$f":"Source!G141","v":14.11},{"$f":"Source!H141","v":14.13},13,14,null,0.1,13.18,13.38,15,16,6.1571125265392726E-2,0.1323425336164189,0.15384615384615385,0.23076923076923078,null,null,-1,-1,-1,-1,null,null,-1,-1,-1,-1,{"$f":"IF(#REF!=0,0,IF(#REF!=#REF!,#REF!-#REF!,0))","v":{"$error":"#REF!"}},5000,500,150,10,125,8,100,7,75,5,35,2,15,1]
[{"$f":"Source!A142","v":"ZYX Core Portfolio"},{"$f":"Source!B142","v":"WMT"},{"$f":"Source!C142","v":{"$error":"#VALUE!"}},{"$f":"Source!D142","v":"Food & Drug Retailing"},{"$f":"Source!E142","v":102},{"$f":"Source!F142","v":153.65969999999999},{"$f":"Source!G142","v":132.13},{"$f":"Source!H142","v":132.76070000000001},125.24,138.27000000000001,0.2,0.4,null,null,211,226,0.5893257567939908,0.70231100016797121,0.68476525071862027,0.80453529223890141,null,null,-1,-1,-1,-1,null,null,-1,-1,-1,-1,{"$f":"IF(#REF!=0,0,IF(#REF!=#REF!,#REF!-#REF!,0))","v":{"$error":"#REF!"}},5000,2000,600,4,500,3,400,3,300,2,140,1,60,0]
[{"$f":"Source!A143","v":"ZYX Signal Limited"},{"$f":"Source!B143","v":"WOW"},{"$f":"Source!C143","v":{"$error":"#VALUE!"}},{"$f":"Source!D143","v":"Media & Publishing"},{"$f":"Source!E143","v":2.9453},{"$f":"Source!F143","v":18.2},{"$f":"Source!G143","v":16.87},{"$f":"Source!H143","v":17.149999999999999},null,null,null,null,null,null,null,null,-1,-1,{"$error":"#DIV/0!"},{"$error":"#DIV/0!"},null,null,-1,-1,{"$error":"#DIV/0!"},{"$error":"#DIV/0!"},null,null,-1,-1,{"$error":"#DIV/0!"},{"$error":"#DIV/0!"},{"$f":"IF(#REF!=0,0,IF(#REF!=#REF!,#REF!-#REF!,0))","v":{"$error":"#REF!"}},5000,0,0,0,0,0,0,0,0,0,0,0,0,0]
[{"$f":"Source!A144","v":"ZYX Signal Limited"},{"$f":"Source!B144","v":"XL"},{"$f":"Source!C144","v":{"$error":"#VALUE!"}},{"$f":"Source!D144","v":"Automobiles & Auto Parts"},{"$f":"Source!E144","v":9.5},{"$f":"Source!F144","v":35},{"$f":"Source!G144","v":12.73},{"$f":"Source!H144","v":12.432700000000001},null,null,null,null,null,null,null,null,-1,-1,{"$error":"#DIV/0!"},{"$error":"#DIV/0!"},null,null,-1,-1,{"$error":"#DIV/0!"},{"$error":"#DIV/0!"},null,null,-1,-1,{"$error":"#DIV/0!"},{"$error":"#DIV/0!"},{"$f":"IF(#REF!=0,0,IF(#REF!=#REF!,#REF!-#REF!,0))","v":{"$error":"#REF!"}},5000,0,0,0,0,0,0,0,0,0,0,0,0,0]
[{"$f":"Source!A145","v":"ZYX Signal Limited"},{"$f":"Source!B145","v":"XSPA"},{"$f":"Source!C145","v":{"$error":"#VALUE!"}},{"$f":"Source!D145","v":"Personal & Household Products & Services"},{"$f":"Source!E145","v":0.15},{"$f":"Source!F145","v":8.82},{"$f":"Source!G145","v":1.95},{"$f":"Source!H145","v":1.94},null,null,null,null,null,null,null,null,-1,-1,{"$error":"#DIV/0!"},{"$error":"#DIV/0!"},null,null,-1,-1,{"$error":"#DIV/0!"},{"$error":"#DIV/0!"},null,null,-1,-1,{"$error":"#DIV/0!"},{"$error":"#DIV/0!"},{"$f":"IF(#REF!=0,0,IF(#REF!=#REF!,#REF!-#REF!,0))","v":{"$error":"#REF!"}},5000,0,0,0,0,0,0,0,0,0,0,0,0,0]
[{"$f":"Source!A146","v":"ZYX Signal Limited"},{"$f":"Source!B146","v":"YQ"},{"$f":"Source!C146","v":{"$error":"#VALUE!"}},{"$f":"Source!D146","v":{"$error":"#VALUE!"}},{"$f":"Source!E146","v":10},{"$f":"Source!F146","v":23.93},{"$f":"Source!G146","v":11.51},{"$f":"Source!H146","v":11.16},null,null,null,null,null,null,null,null,-1,-1,{"$error":"#DIV/0!"},{"$error":"#DIV/0!"},null,null,-1,-1,{"$error":"#DIV/0!"},{"$error":"#DIV/0!"},null,null,-1,-1,{"$error":"#DIV/0!"},{"$error":"#DIV/0!"},{"$f":"IF(#REF!=0,0,IF(#REF!=#REF!,#REF!-#REF!,0))","v":{"$error":"#REF!"}},5000,0,0,0,0,0,0,0,0,0,0,0,0,0]
[{"$f":"Source!A147","v":"ZYX Signal Limited"},{"$f":"Source!B147","v":"YUMC"},{"$f":"Source!C147","v":{"$error":"#VALUE!"}},{"$f":"Source!D147","v":"Hotels & Entertainment Services"},{"$f":"Source!E147","v":38.33},{"$f":"Source!F147","v":64.64},{"$f":"Source!G147","v":61.65},{"$f":"Source!H147","v":61.08},null,null,null,null,null,null,null,null,-1,-1,{"$error":"#DIV/0!"},{"$error":"#DIV/0!"},null,null,-1,-1,{"$error":"#DIV/0!"},{"$error":"#DIV/0!"},null,null,-1,-1,{"$error":"#DIV/0!"},{"$error":"#DIV/0!"},{"$f":"IF(#REF!=0,0,IF(#REF!=#REF!,#REF!-#REF!,0))","v":{"$error":"#REF!"}},5000,0,0,0,0,0,0,0,0,0,0,0,0,0]
[{"$f":"Source!A148","v":"Motley Fool"},{"$f":"Source!B148","v":"ZM"},{"$f":"Source!C148","v":{"$error":"#VALUE!"}},{"$f":"Source!D148","v":"Software & IT Services"},{"$f":"Source!E148","v":102},{"$f":"Source!F148","v":588.84},{"$f":"Source!G148","v":355.17},{"$f":"Source!H148","v":347.29},null,null,null,null,null,null,null,null,-1,-1,{"$error":"#DIV/0!"},{"$error":"#DIV/0!"},null,null,-1,-1,{"$error":"#DIV/0!"},{"$error":"#DIV/0!"},null,null,-1,-1,{"$error":"#DIV/0!"},{"$error":"#DIV/0!"},{"$f":"IF(#REF!=0,0,IF(#REF!=#REF!,#REF!-#REF!,0))","v":{"$error":"#REF!"}},5000,0,0,0,0,0,0,0,0,0,0,0,0,0]