{"text_format":"1","workbook":"xlsx","n_sheets":13,"sheets":["Introduction","Main","Blend Adjustments","VMA and Voids","VMA1","Voids1","VMA2 (Previous)","Voids2 (Previous)","1.18mm and AC","2.36mm and AC","4.75mm and AC","9.5mm and AC","Data"],"not_rendered":{"charts":18,"images":108,"macros":1,"external_links":0,"defined_names":1803,"comments":2,"pivot_tables":0},"unopened":[{"sheet":"VMA and Voids","index":3,"reason":"not_a_worksheet"},{"sheet":"VMA1","index":4,"reason":"not_a_worksheet"},{"sheet":"Voids1","index":5,"reason":"not_a_worksheet"},{"sheet":"VMA2 (Previous)","index":6,"reason":"not_a_worksheet"},{"sheet":"Voids2 (Previous)","index":7,"reason":"not_a_worksheet"},{"sheet":"1.18mm and AC","index":8,"reason":"not_a_worksheet"},{"sheet":"2.36mm and AC","index":9,"reason":"not_a_worksheet"},{"sheet":"4.75mm and AC","index":10,"reason":"not_a_worksheet"},{"sheet":"9.5mm and AC","index":11,"reason":"not_a_worksheet"}],"bounds":{"document_bytes":16777216,"sheet_cells":100000,"rows_first":2000,"rows_last":500,"rows_between":2000,"halvings":0,"cell_chars":16384,"cell_head_chars":4096},"cells_cut":0,"cells_raw":0,"read":"whole","date_system":"1900"}

{"sheet":"Introduction","index":0,"n_rows":5,"n_cols":9,"rows_kept":5,"cut":false,"hidden":false,"merged":[[3,8,3,11],[4,8,4,11]]}
[]
[]
[]
[null,null,null,null,null,null,null,null,"VMA and Voids Estimation"]
[null,null,null,null,null,null,null,null,"Version 2018-02-26"]

{"sheet":"Main","index":1,"n_rows":4001,"n_cols":103,"rows_kept":4001,"cut":false,"hidden":false,"merged":[[675,0,675,1],[689,0,690,0],[694,3,694,5],[663,0,663,1],[664,0,664,1],[665,0,665,1],[995,0,995,1],[996,0,996,1],[987,0,987,1],[988,0,988,1],[989,0,989,1],[990,0,990,1],[1001,0,1001,1],[1002,0,1002,1],[880,0,880,1],[874,0,874,1],[875,0,875,1],[881,0,881,1],[887,0,887,1],[890,0,890,1],[891,0,891,1],[892,0,892,1],[867,1,872,1],[876,0,876,1],[806,0,806,1],[807,0,807,1],[820,0,820,1],[821,0,821,1],[822,0,822,1],[916,0,916,1],[917,0,917,1],[864,0,865,0],[166,25,166,32],[179,25,179,32],[849,0,849,1],[850,0,850,1],[777,0,777,1],[778,0,778,1],[779,0,779,1],[780,0,780,1],[782,0,782,1],[810,0,810,1],[813,0,813,1],[785,0,785,1],[781,0,781,1],[814,0,814,1],[815,0,815,1],[816,0,816,1],[817,0,817,1],[818,0,818,1],[783,0,783,1],[808,0,808,1],[809,0,809,1],[799,0,800,0],[666,0,666,1],[586,8,586,10],[711,9,711,10],[721,8,721,10],[806,8,806,10],[713,0,713,1],[702,0,702,1],[703,0,703,1],[704,0,704,1],[705,0,705,1],[2798,0,2798,1],[2142,0,2142,1],[2143,0,2143,1],[2144,0,2144,1],[2145,0,2145,1],[2146,0,2146,1],[2147,0,2147,1],[2132,0,2132,1],[2133,0,2133,1],[2134,0,2134,1],[2135,0,2135,1],[2140,0,2140,1],[2141,0,2141,1],[2137,0,2137,1],[2138,0,2138,1],[2139,0,2139,1],[819,0,819,1],[1697,0,1697,1],[922,0,922,1],[923,0,923,1],[1700,0,1700,1],[893,0,893,1],[886,0,886,1],[2163,0,2163,1],[2156,0,2156,1],[2157,0,2157,1],[2158,0,2158,1],[2159,0,2159,1],[2168,0,2168,1],[2169,0,2169,1],[2170,0,2170,1],[2171,0,2171,1],[1026,8,1026,10],[696,0,696,1],[697,0,697,1],[698,0,698,1],[699,0,699,1],[700,0,700,1],[701,0,701,1],[669,0,669,1],[670,0,670,1],[671,0,671,1],[672,0,672,1],[673,0,673,1],[674,0,674,1],[729,0,729,1],[730,0,730,1],[811,0,811,1],[812,0,812,1],[784,0,784,1],[771,0,771,1],[924,0,924,1],[925,0,925,1],[714,0,714,1],[715,0,715,1],[716,0,716,1],[717,0,717,1],[718,0,718,1],[708,0,708,1],[709,0,709,1],[710,0,710,1],[711,0,711,1],[712,0,712,1],[706,0,706,1],[877,0,877,1],[878,0,878,1],[879,0,879,1],[1171,9,1171,10],[723,0,723,1],[724,0,724,1],[951,0,951,1],[952,0,952,1],[974,0,975,0],[984,0,984,1],[985,0,985,1],[977,1,982,1],[957,0,957,1],[958,0,958,1],[959,0,959,1],[960,0,960,1],[918,0,918,1],[919,0,919,1],[920,0,920,1],[848,0,848,1],[725,0,725,1],[734,0,734,1],[737,0,737,1],[738,0,738,1],[735,0,735,1],[736,0,736,1],[731,0,731,1],[732,0,732,1],[916,8,916,10],[894,0,894,1],[895,0,895,1],[909,0,910,0],[926,0,926,1],[1099,0,1099,1],[1100,0,1100,1],[1084,0,1085,0],[1094,0,1094,1],[1095,0,1095,1],[726,0,726,1],[733,0,733,1],[772,0,772,1],[775,0,775,1],[928,0,928,1],[929,0,929,1],[930,0,930,1],[1247,8,1247,10],[1181,8,1181,10],[773,0,773,1],[774,0,774,1],[766,0,766,1],[765,0,765,1],[754,0,755,0],[764,0,764,1],[739,0,739,1],[727,0,727,1],[804,7,804,12],[833,0,833,1],[834,0,834,1],[835,0,835,1],[844,0,844,1],[845,0,845,1],[921,0,921,1],[1000,0,1000,1],[1102,0,1102,1],[2218,0,2218,1],[2219,0,2219,1],[2220,0,2220,1],[2221,0,2221,1],[1542,0,1542,1],[1540,0,1540,1],[1556,0,1556,1],[1547,0,1547,1],[1548,0,1548,1],[1549,0,1549,1],[843,0,843,1],[722,0,722,1],[1161,9,1161,10],[1151,9,1151,10],[740,0,740,1],[757,1,762,1],[927,0,927,1],[2209,0,2209,1],[2214,0,2214,1],[2215,0,2215,1],[2216,0,2216,1],[2217,0,2217,1],[2210,0,2210,1],[2211,0,2211,1],[2212,0,2212,1],[2213,0,2213,1],[931,0,931,1],[889,0,889,1],[882,0,882,1],[883,0,883,1],[884,0,884,1],[885,0,885,1],[1356,7,1356,12],[2019,8,2019,10],[1689,8,1689,10],[1799,8,1799,10],[1909,8,1909,10],[1860,1,1865,1],[1970,1,1975,1],[2151,0,2151,1],[2160,0,2160,1],[2161,0,2161,1],[2162,0,2162,1],[2152,0,2152,1],[2153,0,2153,1],[2154,0,2154,1],[2155,0,2155,1],[2148,0,2148,1],[2149,0,2149,1],[2150,0,2150,1],[2136,0,2136,1],[1358,8,1358,10],[1358,0,1358,1],[1362,0,1362,1],[1488,0,1488,1],[1481,0,1481,1],[1653,0,1653,1],[1654,0,1654,1],[1606,0,1606,1],[1615,0,1615,1],[1616,0,1616,1],[1617,0,1617,1],[1618,0,1618,1],[1611,0,1611,1],[658,0,658,1],[659,0,659,1],[660,0,660,1],[661,0,661,1],[662,0,662,1],[630,0,630,1],[644,0,645,0],[654,0,654,1],[655,0,655,1],[656,0,656,1],[647,1,652,1],[832,0,832,1],[667,0,667,1],[668,0,668,1],[657,0,657,1],[888,0,888,1],[728,0,728,1],[767,0,767,1],[768,0,768,1],[776,0,776,1],[769,0,769,1],[770,0,770,1],[719,0,719,1],[720,0,720,1],[721,0,721,1],[846,0,846,1],[847,0,847,1],[840,0,840,1],[841,0,841,1],[842,0,842,1],[823,0,823,1],[707,0,707,1],[624,0,624,1],[625,0,625,1],[626,0,626,1],[627,0,627,1],[628,0,628,1],[629,0,629,1],[610,0,610,1],[611,0,611,1],[620,0,620,1],[621,0,621,1],[622,0,622,1],[623,0,623,1],[602,0,602,1],[603,0,603,1],[604,0,604,1],[605,0,605,1],[615,0,615,1],[616,0,616,1],[606,0,606,1],[607,0,607,1],[608,0,608,1],[609,0,609,1],[612,0,612,1],[617,0,617,1],[618,0,618,1],[619,0,619,1],[613,0,613,1],[614,0,614,1],[596,0,596,1],[597,0,597,1],[598,0,598,1],[599,0,599,1],[600,0,600,1],[601,0,601,1],[590,0,590,1],[591,0,591,1],[592,0,592,1],[593,0,593,1],[594,0,594,1],[595,0,595,1],[563,0,563,1],[564,0,564,1],[565,0,565,1],[579,0,580,0],[584,3,584,5],[586,0,586,1],[587,0,587,1],[588,0,588,1],[589,0,589,1],[557,0,557,1],[558,0,558,1],[559,0,559,1],[560,0,560,1],[561,0,561,1],[562,0,562,1],[551,0,551,1],[552,0,552,1],[553,0,553,1],[554,0,554,1],[555,0,555,1],[556,0,556,1],[545,0,545,1],[546,0,546,1],[547,0,547,1],[548,0,548,1],[549,0,549,1],[550,0,550,1],[517,0,517,1],[518,0,518,1],[519,0,519,1],[520,0,520,1],[534,0,535,0],[544,0,544,1],[537,1,542,1],[511,0,511,1],[512,0,512,1],[513,0,513,1],[514,0,514,1],[515,0,515,1],[516,0,516,1],[505,0,505,1],[506,0,506,1],[507,0,507,1],[508,0,508,1],[509,0,509,1],[510,0,510,1],[499,0,499,1],[500,0,500,1],[501,0,501,1],[502,0,502,1],[503,0,503,1],[504,0,504,1],[497,0,497,1],[498,0,498,1],[476,0,476,1],[492,0,492,1],[493,0,493,1],[494,0,494,1],[495,0,495,1],[488,0,488,1],[489,0,489,1],[496,0,496,1],[480,0,480,1],[484,0,484,1],[485,0,485,1],[481,0,481,1],[474,7,474,12],[477,0,477,1],[478,0,478,1],[479,0,479,1],[454,0,454,1],[455,0,455,1],[469,0,470,0],[474,3,474,5],[445,2,455,2],[450,0,450,1],[451,0,451,1],[452,0,452,1],[453,0,453,1],[446,0,446,1],[441,0,441,1],[447,0,447,1],[448,0,448,1],[449,0,449,1],[442,0,442,1],[443,0,443,1],[444,0,444,1],[445,0,445,1],[384,0,384,1],[385,0,385,1],[387,0,387,1],[388,0,388,1],[386,0,386,1],[435,0,435,1],[436,0,436,1],[437,0,437,1],[438,0,438,1],[439,0,439,1],[440,0,440,1],[407,0,407,1],[408,0,408,1],[409,0,409,1],[410,0,410,1],[424,0,425,0],[434,0,434,1],[427,1,432,1],[401,0,401,1],[402,0,402,1],[403,0,403,1],[404,0,404,1],[405,0,405,1],[406,0,406,1],[368,0,368,1],[369,0,369,1],[482,0,482,1],[483,0,483,1],[490,0,490,1],[491,0,491,1],[486,0,486,1],[487,0,487,1],[374,0,374,1],[344,0,344,1],[345,0,345,1],[359,0,360,0],[370,0,370,1],[371,0,371,1],[372,0,372,1],[373,0,373,1],[366,0,366,1],[367,0,367,1],[395,0,395,1],[396,0,396,1],[397,0,397,1],[398,0,398,1],[399,0,399,1],[400,0,400,1],[392,0,392,1],[393,0,393,1],[389,0,389,1],[390,0,390,1],[391,0,391,1],[394,0,394,1],[382,0,382,1],[383,0,383,1],[338,0,338,1],[339,0,339,1],[340,0,340,1],[341,0,341,1],[342,0,342,1],[343,0,343,1],[332,0,332,1],[333,0,333,1],[334,0,334,1],[335,0,335,1],[336,0,336,1],[337,0,337,1],[326,0,326,1],[327,0,327,1],[328,0,328,1],[329,0,329,1],[330,0,330,1],[331,0,331,1],[298,0,298,1],[299,0,299,1],[300,0,300,1],[314,0,315,0],[324,0,324,1],[325,0,325,1],[317,1,322,1],[292,0,292,1],[293,0,293,1],[294,0,294,1],[295,0,295,1],[296,0,296,1],[297,0,297,1],[286,0,286,1],[287,0,287,1],[288,0,288,1],[289,0,289,1],[290,0,290,1],[291,0,291,1],[280,0,280,1],[281,0,281,1],[282,0,282,1],[283,0,283,1],[284,0,284,1],[285,0,285,1],[274,0,274,1],[275,0,275,1],[276,0,276,1],[277,0,277,1],[278,0,278,1],[279,0,279,1],[268,0,268,1],[269,0,269,1],[270,0,270,1],[271,0,271,1],[272,0,272,1],[273,0,273,1],[267,0,267,1],[254,3,254,5],[254,7,254,12],[256,0,256,1],[257,0,257,1],[256,9,256,10],[257,9,257,10],[101,10,101,11],[102,10,102,11],[0,3,0,5],[0,7,0,12],[6,0,6,1],[4,0,4,1],[105,6,108,6],[96,6,99,6],[83,2,93,2],[95,4,95,6],[104,4,104,6],[95,10,95,12],[104,10,104,12],[96,12,97,12],[98,12,99,12],[96,10,99,11],[43,0,43,1],[44,0,44,1],[45,0,45,1],[27,2,37,2],[38,2,48,2],[75,0,75,1],[27,0,27,1],[28,0,28,1],[29,0,29,1],[30,0,30,1],[13,0,13,1],[83,0,83,1],[84,0,84,1],[85,0,85,1],[77,0,77,1],[78,0,78,1],[79,0,79,1],[80,0,80,1],[81,0,81,1],[82,0,82,1],[11,0,11,1],[12,0,12,1],[23,0,23,1],[35,0,35,1],[24,0,24,1],[25,0,25,1],[26,0,26,1],[31,0,31,1],[32,0,32,1],[36,0,36,1],[37,0,37,1],[33,0,33,1],[34,0,34,1],[46,0,46,1],[38,0,38,1],[39,0,39,1],[40,0,40,1],[41,0,41,1],[42,0,42,1],[0,0,0,1],[1,0,1,1],[2,0,2,1],[3,0,3,1],[5,0,5,1],[9,0,9,1],[7,0,7,1],[8,0,8,1],[18,0,18,1],[19,0,19,1],[20,0,20,1],[21,0,21,1],[14,0,14,1],[15,0,15,1],[16,0,16,1],[17,0,17,1],[22,0,22,1],[10,0,10,1],[98,4,99,4],[47,0,47,1],[48,0,48,1],[65,1,70,1],[62,0,63,0],[72,0,72,1],[76,0,76,1],[72,2,82,2],[224,2,224,3],[215,0,216,1],[195,2,196,2],[179,3,182,3],[96,4,97,4],[217,0,221,1],[202,2,203,2],[209,2,209,4],[222,2,223,2],[215,2,216,2],[86,0,86,1],[87,0,87,1],[90,0,90,1],[91,0,91,1],[73,0,73,1],[74,0,74,1],[88,0,88,1],[89,0,89,1],[266,0,266,1],[2164,0,2164,1],[2165,0,2165,1],[2166,0,2166,1],[2167,0,2167,1],[2176,0,2176,1],[2190,0,2191,0],[2200,0,2200,1],[2201,0,2201,1],[2172,0,2172,1],[2173,0,2173,1],[2174,0,2174,1],[2175,0,2175,1],[2193,1,2198,1],[2206,0,2206,1],[2207,0,2207,1],[2208,0,2208,1],[2202,0,2202,1],[2203,0,2203,1],[2204,0,2204,1],[2205,0,2205,1],[1027,0,1027,1],[941,0,941,1],[942,0,942,1],[943,0,943,1],[944,0,944,1],[953,0,953,1],[954,0,954,1],[955,0,955,1],[956,0,956,1],[949,0,949,1],[950,0,950,1],[2253,0,2253,1],[2243,0,2243,1],[2244,0,2244,1],[2242,0,2242,1],[2235,0,2236,0],[2254,0,2254,1],[2255,0,2255,1],[2256,0,2256,1],[2249,0,2249,1],[2250,0,2250,1],[2251,0,2251,1],[2252,0,2252,1],[2261,0,2261,1],[2262,0,2262,1],[2263,0,2263,1],[2264,0,2264,1],[2257,0,2257,1],[2258,0,2258,1],[2259,0,2259,1],[2260,0,2260,1],[2246,0,2246,1],[2247,0,2247,1],[2248,0,2248,1],[2245,0,2245,1],[2269,0,2269,1],[2270,0,2270,1],[2271,0,2271,1],[2272,0,2272,1],[2265,0,2265,1],[2266,0,2266,1],[2267,0,2267,1],[2268,0,2268,1],[2277,0,2277,1],[2278,0,2278,1],[2279,0,2279,1],[2280,0,2280,1],[2273,0,2273,1],[2274,0,2274,1],[2275,0,2275,1],[2276,0,2276,1],[2285,0,2285,1],[2286,0,2286,1],[2300,0,2301,0],[2310,0,2310,1],[2303,1,2308,1],[2281,0,2281,1],[2282,0,2282,1],[2283,0,2283,1],[2284,0,2284,1],[2315,0,2315,1],[2316,0,2316,1],[2317,0,2317,1],[2318,0,2318,1],[2311,0,2311,1],[2312,0,2312,1],[2313,0,2313,1],[2314,0,2314,1],[2323,0,2323,1],[2324,0,2324,1],[2325,0,2325,1],[2326,0,2326,1],[2319,0,2319,1],[2320,0,2320,1],[2321,0,2321,1],[2322,0,2322,1],[2356,0,2356,1],[2357,0,2357,1],[2358,0,2358,1],[2359,0,2359,1],[2327,0,2327,1],[2328,0,2328,1],[2329,0,2329,1],[2330,0,2330,1],[2354,0,2354,1],[2364,0,2364,1],[2365,0,2365,1],[2366,0,2366,1],[2352,0,2352,1],[2353,0,2353,1],[2355,0,2355,1],[2331,0,2331,1],[2345,0,2346,0],[2367,0,2367,1],[2360,0,2360,1],[2361,0,2361,1],[2362,0,2362,1],[2363,0,2363,1],[2372,0,2372,1],[2373,0,2373,1],[2374,0,2374,1],[2375,0,2375,1],[2368,0,2368,1],[2369,0,2369,1],[2370,0,2370,1],[2371,0,2371,1],[2380,0,2380,1],[2381,0,2381,1],[2382,0,2382,1],[2383,0,2383,1],[2376,0,2376,1],[2377,0,2377,1],[2378,0,2378,1],[2379,0,2379,1],[2388,0,2388,1],[2389,0,2389,1],[2390,0,2390,1],[2391,0,2391,1],[2384,0,2384,1],[2385,0,2385,1],[2386,0,2386,1],[2387,0,2387,1],[2396,0,2396,1],[2410,0,2411,0],[2420,0,2420,1],[2421,0,2421,1],[2413,1,2418,1],[2392,0,2392,1],[2393,0,2393,1],[2394,0,2394,1],[2395,0,2395,1],[2426,0,2426,1],[2427,0,2427,1],[2428,0,2428,1],[2429,0,2429,1],[2422,0,2422,1],[2423,0,2423,1],[2424,0,2424,1],[2425,0,2425,1],[2434,0,2434,1],[2435,0,2435,1],[2436,0,2436,1],[2437,0,2437,1],[2430,0,2430,1],[2431,0,2431,1],[2432,0,2432,1],[2433,0,2433,1],[2462,0,2462,1],[2463,0,2463,1],[2455,0,2456,0],[2464,0,2464,1],[2465,0,2465,1],[2438,0,2438,1],[2439,0,2439,1],[2440,0,2440,1],[2441,0,2441,1],[2470,0,2470,1],[2471,0,2471,1],[2472,0,2472,1],[2473,0,2473,1],[2466,0,2466,1],[2467,0,2467,1],[2468,0,2468,1],[2469,0,2469,1],[2478,0,2478,1],[2479,0,2479,1],[2480,0,2480,1],[2481,0,2481,1],[2474,0,2474,1],[2475,0,2475,1],[2476,0,2476,1],[2477,0,2477,1],[2486,0,2486,1],[2487,0,2487,1],[2542,0,2542,1],[2543,0,2543,1],[2590,0,2590,1],[2591,0,2591,1],[2536,0,2536,1],[2537,0,2537,1],[2538,0,2538,1],[2539,0,2539,1],[2548,0,2548,1],[2549,0,2549,1],[2550,0,2550,1],[2551,0,2551,1],[2544,0,2544,1],[2488,0,2488,1],[2489,0,2489,1],[2482,0,2482,1],[2483,0,2483,1],[2484,0,2484,1],[2485,0,2485,1],[2494,0,2494,1],[2495,0,2495,1],[2496,0,2496,1],[2497,0,2497,1],[2490,0,2490,1],[2491,0,2491,1],[2492,0,2492,1],[2493,0,2493,1],[2502,0,2502,1],[2503,0,2503,1],[2504,0,2504,1],[2633,1,2638,1],[2612,0,2612,1],[991,0,991,1],[992,0,992,1],[993,0,993,1],[994,0,994,1],[2609,0,2609,1],[2607,0,2607,1],[2577,0,2577,1],[2578,0,2578,1],[2579,0,2579,1],[2594,0,2594,1],[2595,0,2595,1],[2588,0,2588,1],[2589,0,2589,1],[2572,0,2572,1],[2573,0,2573,1],[2574,0,2574,1],[2575,0,2575,1],[2584,0,2584,1],[2585,0,2585,1],[2586,0,2586,1],[2587,0,2587,1],[2580,0,2580,1],[2581,0,2581,1],[2599,0,2599,1],[2505,0,2505,1],[2498,0,2498,1],[2499,0,2499,1],[2500,0,2500,1],[2501,0,2501,1],[2541,0,2541,1],[2646,0,2646,1],[2647,0,2647,1],[2648,0,2648,1],[2649,0,2649,1],[2642,0,2642,1],[2643,0,2643,1],[2644,0,2644,1],[2645,0,2645,1],[2675,0,2676,0],[804,3,804,5],[2657,0,2657,1],[2650,0,2650,1],[2651,0,2651,1],[2652,0,2652,1],[828,0,828,1],[829,0,829,1],[830,0,830,1],[831,0,831,1],[824,0,824,1],[825,0,825,1],[826,0,826,1],[827,0,827,1],[836,0,836,1],[837,0,837,1],[838,0,838,1],[839,0,839,1],[2545,0,2545,1],[2546,0,2546,1],[2547,0,2547,1],[2576,0,2576,1],[2565,0,2566,0],[2641,0,2641,1],[2740,0,2741,0],[2726,0,2726,1],[2686,0,2686,1],[2687,0,2687,1],[997,0,997,1],[998,0,998,1],[1049,0,1049,1],[1050,0,1050,1],[1046,0,1046,1],[1047,0,1047,1],[1026,0,1026,1],[2699,0,2699,1],[2700,0,2700,1],[2701,0,2701,1],[2682,0,2682,1],[2683,0,2683,1],[2684,0,2684,1],[2685,0,2685,1],[2694,0,2694,1],[2695,0,2695,1],[2696,0,2696,1],[2697,0,2697,1],[2658,0,2658,1],[2659,0,2659,1],[2660,0,2660,1],[2661,0,2661,1],[1031,0,1031,1],[2582,0,2582,1],[2583,0,2583,1],[2592,0,2592,1],[2593,0,2593,1],[2653,0,2653,1],[1105,0,1105,1],[1106,0,1106,1],[1138,0,1138,1],[1198,1,1203,1],[1176,0,1176,1],[1177,0,1177,1],[1178,0,1178,1],[1179,0,1179,1],[1251,0,1251,1],[1252,0,1252,1],[1160,0,1160,1],[1161,0,1161,1],[1129,0,1130,0],[1110,0,1110,1],[1111,0,1111,1],[2611,0,2611,1],[2604,0,2604,1],[2600,0,2600,1],[2532,0,2532,1],[2533,0,2533,1],[2534,0,2534,1],[2535,0,2535,1],[2506,0,2506,1],[2520,0,2521,0],[2530,0,2530,1],[2531,0,2531,1],[2523,1,2528,1],[2601,0,2601,1],[2602,0,2602,1],[2603,0,2603,1],[2540,0,2540,1],[2606,0,2606,1],[2613,0,2613,1],[2596,0,2596,1],[2597,0,2597,1],[2598,0,2598,1],[2724,0,2724,1],[2725,0,2725,1],[2756,0,2756,1],[2757,0,2757,1],[1211,0,1211,1],[1212,0,1212,1],[1249,0,1249,1],[1250,0,1250,1],[2654,0,2654,1],[2655,0,2655,1]],"merged_total":2626,"flags":["merged_cut"]}
["Version 2018-02-26",null,19,"19.0mm NMAS Coarse-Graded Mix",null,null,"19.0CG","Half = 9.5mm,  PCS = 4.75mm,  SCS = 1.18mm,  TCS = 0.300mm",null,null,null,null,null,"CG",false]
["Sample",null,"Mix Design",1,2,3,4,5,6,7,8,9,10,11,12,13,14,15,16,17,18,19,20,21,22,23,24,25,26,27,28,29,30,31,32,33,34,35,36,37,38,39,40,41,42,43,44,45,46,47,48,49,50,51,52,53,54,55,56,57,58,59,60,61,62,63,64,65,66,67,68,69,70,71,72,73,74,75,76,77,78,79,80,81,82,83,84,85,86,87,88,89,90,91,92,93,94,95,96,97,98,99,100]
["Date"]
["Identification"]
["50.0mm"]
["37.5mm"]
["25.0mm"]
["19.0mm"]
["12.5mm"]
["9.5mm"]
["4.75mm"]
["2.36mm"]
["1.18mm"]
["0.600mm"]
["0.300mm"]
["0.150mm"]
["0.075mm"]
["% AC"]
["% AC Absptn",null,{"$f":"IF(C63>0,C62,C50)","v":0},{"$f":"IF(D63>0,D62,D50)","v":0},{"$f":"IF(E63>0,E62,E50)","v":0},{"$f":"IF(F63>0,F62,F50)","v":0},0,0,0,0,0,0,0,0,0,0,0,0,0,0,0,0,0,0,0,0,0,0,0,0,0,0,0,0,0,0,0,0,0,0,0,0,0,0,0,0,0,0,0,0,0,0,0,0,0,0,0,0,0,0,0,0,0,0,0,0,0,0,0,{"$f":"IF(BR63>0,BR62,BR50)","v":0},0,0,0,0,0,0,0,0,0,0,0,0,0,0,0,0,0,0,0,0,0,0,0,0,0,0,0,0,0,0,0,0,0]
["Actual VMA"]
["Actual Voids"]
["CA",null,{"$f":"IF(C$12=0,\" \",ROUND(IF(NMAS=37.5,(C8-C10)/(100-C8),IF(NMAS=25,(C9-C11)/(100-C9),IF(NMAS=19,(C10-C11)/(100-C10),IF(NMAS=9.5,(C11-C12)/(100-C11),(C12-C13)/(100-C12))))),3))","v":" "}," "," "," "," "," "," "," "," "," "," "," "," "," "," "," "," "," "," "," "," "," "," "," "," "," "," "," "," "," "," "," ",{"$f":"IF(AI$12=0,\" \",ROUND(IF(NMAS=37.5,(AI8-AI10)/(100-AI8),IF(NMAS=25,(AI9-AI11)/(100-AI9),IF(NMAS=19,(AI10-AI11)/(100-AI10),IF(NMAS=9.5,(AI11-AI12)/(100-AI11),(AI12-AI13)/(100-AI12))))),3))","v":" "}," "," "," "," "," "," "," "," "," "," "," "," "," "," "," "," "," "," "," "," "," "," "," "," "," "," "," "," "," "," "," ",{"$f":"IF(BO$12=0,\" \",ROUND(IF(NMAS=37.5,(BO8-BO10)/(100-BO8),IF(NMAS=25,(BO9-BO11)/(100-BO9),IF(NMAS=19,(BO10-BO11)/(100-BO10),IF(NMAS=9.5,(BO11-BO12)/(100-BO11),(BO12-BO13)/(100-BO12))))),3))","v":" "}," "," "," "," "," "," "," "," "," "," "," "," "," "," "," "," "," "," "," "," "," "," "," "," "," "," "," "," "," "," "," "," "," "," "," "," "]
["FAc",null,{"$f":"IF(C$12=0,\" \",ROUND(IF(NMAS=37.5,(C12/C10),IF(NMAS=25,(C13/C11),IF(NMAS=19,(C13/C11),IF(NMAS=9.5,(C14/C12),(C15/C13))))),3))","v":" "}," "," "," "," "," "," "," "," "," "," "," "," "," "," "," "," "," "," "," "," "," "," "," "," "," "," "," "," "," "," "," ",{"$f":"IF(AI$12=0,\" \",ROUND(IF(NMAS=37.5,(AI12/AI10),IF(NMAS=25,(AI13/AI11),IF(NMAS=19,(AI13/AI11),IF(NMAS=9.5,(AI14/AI12),(AI15/AI13))))),3))","v":" "}," "," "," "," "," "," "," "," "," "," "," "," "," "," "," "," "," "," "," "," "," "," "," "," "," "," "," "," "," "," "," ",{"$f":"IF(BO$12=0,\" \",ROUND(IF(NMAS=37.5,(BO12/BO10),IF(NMAS=25,(BO13/BO11),IF(NMAS=19,(BO13/BO11),IF(NMAS=9.5,(BO14/BO12),(BO15/BO13))))),3))","v":" "}," "," "," "," "," "," "," "," "," "," "," "," "," "," "," "," "," "," "," "," "," "," "," "," "," "," "," "," "," "," "," "," "," "," "," "," "]
["FAf",null,{"$f":"IF(C$12=0,\" \",ROUND(IF(NMAS=37.5,(C14/C12),IF(NMAS=25,(C15/C13),IF(NMAS=19,(C15/C13),IF(NMAS=9.5,(C16/C14),(C17/C15))))),3))","v":" "}," "," "," "," "," "," "," "," "," "," "," "," "," "," "," "," "," "," "," "," "," "," "," "," "," "," "," "," "," "," "," ",{"$f":"IF(AI$12=0,\" \",ROUND(IF(NMAS=37.5,(AI14/AI12),IF(NMAS=25,(AI15/AI13),IF(NMAS=19,(AI15/AI13),IF(NMAS=9.5,(AI16/AI14),(AI17/AI15))))),3))","v":" "}," "," "," "," "," "," "," "," "," "," "," "," "," "," "," "," "," "," "," "," "," "," "," "," "," "," "," "," "," "," "," ",{"$f":"IF(BO$12=0,\" \",ROUND(IF(NMAS=37.5,(BO14/BO12),IF(NMAS=25,(BO15/BO13),IF(NMAS=19,(BO15/BO13),IF(NMAS=9.5,(BO16/BO14),(BO17/BO15))))),3))","v":" "}," "," "," "," "," "," "," "," "," "," "," "," "," "," "," "," "," "," "," "," "," "," "," "," "," "," "," "," "," "," "," "," "," "," "," "," "]
[null,null,{"$f":"IF(C$12=0,\" \",IF(OR(MixType=\"CG\",MixType=\"SMA\"),\" \",ROUND(IF(NMAS=37.5,(C11-C12)/(C10-C11),IF(OR(NMAS=25,NMAS=19),(C12-C13)/(C11-C12),IF(OR(NMAS=12.5,NMAS=9.5),(C13-C14)/(C12-C13),(C14-C15)/(C13-C14)))),3)))","v":" "}," "," "," "," "," "," "," "," "," "," "," "," "," "," "," "," "," "," "," "," "," "," "," "," "," "," "," "," "," "," "," ",{"$f":"IF(AI$12=0,\" \",IF(OR(MixType=\"CG\",MixType=\"SMA\"),\" \",ROUND(IF(NMAS=37.5,(AI11-AI12)/(AI10-AI11),IF(OR(NMAS=25,NMAS=19),(AI12-AI13)/(AI11-AI12),IF(OR(NMAS=12.5,NMAS=9.5),(AI13-AI14)/(AI12-AI13),(AI14-AI15)/(AI13-AI14)))),3)))","v":" "}," "," "," "," "," "," "," "," "," "," "," "," "," "," "," "," "," "," "," "," "," "," "," "," "," "," "," "," "," "," "," ",{"$f":"IF(BO$12=0,\" \",IF(OR(MixType=\"CG\",MixType=\"SMA\"),\" \",ROUND(IF(NMAS=37.5,(BO11-BO12)/(BO10-BO11),IF(OR(NMAS=25,NMAS=19),(BO12-BO13)/(BO11-BO12),IF(OR(NMAS=12.5,NMAS=9.5),(BO13-BO14)/(BO12-BO13),(BO14-BO15)/(BO13-BO14)))),3)))","v":" "}," "," "," "," "," "," "," "," "," "," "," "," "," "," "," "," "," "," "," "," "," "," "," "," "," "," "," "," "," "," "," "," "," "," "," "," "]
[null,null,{"$f":"IF(C$12=0,\" \",IF(OR(MixType=\"CG\",MixType=\"SMA\"),\" \",ROUND(IF(NMAS=37.5,(C14/C12),IF(OR(NMAS=25,NMAS=19),(C15/C13),IF(OR(NMAS=12.5,NMAS=9.5),(C16/C14),(C17/C15)))),3)))","v":" "}," "," "," "," "," "," "," "," "," "," "," "," "," "," "," "," "," "," "," "," "," "," "," "," "," "," "," "," "," "," "," ",{"$f":"IF(AI$12=0,\" \",IF(OR(MixType=\"CG\",MixType=\"SMA\"),\" \",ROUND(IF(NMAS=37.5,(AI14/AI12),IF(OR(NMAS=25,NMAS=19),(AI15/AI13),IF(OR(NMAS=12.5,NMAS=9.5),(AI16/AI14),(AI17/AI15)))),3)))","v":" "}," "," "," "," "," "," "," "," "," "," "," "," "," "," "," "," "," "," "," "," "," "," "," "," "," "," "," "," "," "," "," ",{"$f":"IF(BO$12=0,\" \",IF(OR(MixType=\"CG\",MixType=\"SMA\"),\" \",ROUND(IF(NMAS=37.5,(BO14/BO12),IF(OR(NMAS=25,NMAS=19),(BO15/BO13),IF(OR(NMAS=12.5,NMAS=9.5),(BO16/BO14),(BO17/BO15)))),3)))","v":" "}," "," "," "," "," "," "," "," "," "," "," "," "," "," "," "," "," "," "," "," "," "," "," "," "," "," "," "," "," "," "," "," "," "," "," "," "]
[null,null,{"$f":"IF(C$12=0,\" \",IF(OR(MixType=\"CG\",MixType=\"SMA\"),\" \",IF(NMAS=12.5,\" \",IF(NMAS=9.5,\" \",IF(NMAS=4.75,\" \",ROUND(IF(NMAS=37.5,(C16/C14),(C17/C15)),3))))))","v":" "}," "," "," "," "," "," "," "," "," "," "," "," "," "," "," "," "," "," "," "," "," "," "," "," "," "," "," "," "," "," "," ",{"$f":"IF(AI$12=0,\" \",IF(OR(MixType=\"CG\",MixType=\"SMA\"),\" \",IF(NMAS=12.5,\" \",IF(NMAS=9.5,\" \",IF(NMAS=4.75,\" \",ROUND(IF(NMAS=37.5,(AI16/AI14),(AI17/AI15)),3))))))","v":" "}," "," "," "," "," "," "," "," "," "," "," "," "," "," "," "," "," "," "," "," "," "," "," "," "," "," "," "," "," "," "," ",{"$f":"IF(BO$12=0,\" \",IF(OR(MixType=\"CG\",MixType=\"SMA\"),\" \",IF(NMAS=12.5,\" \",IF(NMAS=9.5,\" \",IF(NMAS=4.75,\" \",ROUND(IF(NMAS=37.5,(BO16/BO14),(BO17/BO15)),3))))))","v":" "}," "," "," "," "," "," "," "," "," "," "," "," "," "," "," "," "," "," "," "," "," "," "," "," "," "," "," "," "," "," "," "," "," "," "," "," "]
["PCS",null,"Compares Each Sample to the Mix Design",{"$f":"IF(OR(D$20=0,D$20=\" \"),\" \",ROUND(IF(NMAS=37.5,(($C$10-D$10)/OrigPCS),IF(OR(NMAS=25,NMAS=19),(($C$11-D$11)/OrigPCS),IF(OR(NMAS=12.5,NMAS=9.5),(($C$12-D$12)/OrigPCS),(($C13-D$13)/OrigPCS)))),Decimal))","v":" "}," "," "," "," "," "," "," "," "," "," "," "," "," "," "," "," "," "," "," "," "," "," "," "," "," "," "," "," "," "," "," ",{"$f":"IF(OR(AJ$20=0,AJ$20=\" \"),\" \",ROUND(IF(NMAS=37.5,(($C$10-AJ$10)/OrigPCS),IF(OR(NMAS=25,NMAS=19),(($C$11-AJ$11)/OrigPCS),IF(OR(NMAS=12.5,NMAS=9.5),(($C$12-AJ$12)/OrigPCS),(($C13-AJ$13)/OrigPCS)))),Decimal))","v":" "}," "," "," "," "," "," "," "," "," "," "," "," "," "," "," "," "," "," "," "," "," "," "," "," "," "," "," "," "," "," "," ",{"$f":"IF(OR(BP$20=0,BP$20=\" \"),\" \",ROUND(IF(NMAS=37.5,(($C$10-BP$10)/OrigPCS),IF(OR(NMAS=25,NMAS=19),(($C$11-BP$11)/OrigPCS),IF(OR(NMAS=12.5,NMAS=9.5),(($C$12-BP$12)/OrigPCS),(($C13-BP$13)/OrigPCS)))),Decimal))","v":" "}," "," "," "," "," "," "," "," "," "," "," "," "," "," "," "," "," "," "," "," "," "," "," "," "," "," "," "," "," "," "," "," "," "," "," "]
["CA",null,null,{"$f":"IF(OR(D$20=0,D$20=\" \"),\" \",ROUND((D$22-$C$22)/OrigCA,Decimal))","v":" "}," "," "," "," "," "," "," "," "," "," "," "," "," "," "," "," "," "," "," "," "," "," "," "," "," "," "," "," "," "," "," ",{"$f":"IF(OR(AJ$20=0,AJ$20=\" \"),\" \",ROUND((AJ$22-$C$22)/OrigCA,Decimal))","v":" "}," "," "," "," "," "," "," "," "," "," "," "," "," "," "," "," "," "," "," "," "," "," "," "," "," "," "," "," "," "," "," ",{"$f":"IF(OR(BP$20=0,BP$20=\" \"),\" \",ROUND((BP$22-$C$22)/OrigCA,Decimal))","v":" "}," "," "," "," "," "," "," "," "," "," "," "," "," "," "," "," "," "," "," "," "," "," "," "," "," "," "," "," "," "," "," "," "," "," "," "]
["FAc",null,null,{"$f":"IF(OR(D$20=0,D$20=\" \"),\" \",ROUND(IF(AND($C$23<=OrigFAcdip,D$23<=OrigFAcdip),(($C$23-D$23)/OrigFAc),IF(AND($C$23<=OrigFAcdip,D$23>OrigFAcdip),((($C$23-OrigFAcdip)/OrigFAc)+((D$23-OrigFAcdip)/OrigFAc)),IF(AND($C$23>OrigFAcdip,D$23<=OrigFAcdip),(((OrigFAcdip-$C$23)/OrigFAc)+((OrigFAcdip-D$23)/OrigFAc)),(D$23-$C$23)/OrigFAc))),Decimal))","v":" "}," "," "," "," "," "," "," "," "," "," "," "," "," "," "," "," "," "," "," "," "," "," "," "," "," "," "," "," "," "," "," ",{"$f":"IF(OR(AJ$20=0,AJ$20=\" \"),\" \",ROUND(IF(AND($C$23<=OrigFAcdip,AJ$23<=OrigFAcdip),(($C$23-AJ$23)/OrigFAc),IF(AND($C$23<=OrigFAcdip,AJ$23>OrigFAcdip),((($C$23-OrigFAcdip)/OrigFAc)+((AJ$23-OrigFAcdip)/OrigFAc)),IF(AND($C$23>OrigFAcdip,AJ$23<=OrigFAcdip),(((OrigFAcdip-$C$23)/OrigFAc)+((OrigFAcdip-AJ$23)/OrigFAc)),(AJ$23-$C$23)/OrigFAc))),Decimal))","v":" "}," "," "," "," "," "," "," "," "," "," "," "," "," "," "," "," "," "," "," "," "," "," "," "," "," "," "," "," "," "," "," ",{"$f":"IF(OR(BP$20=0,BP$20=\" \"),\" \",ROUND(IF(AND($C$23<=OrigFAcdip,BP$23<=OrigFAcdip),(($C$23-BP$23)/OrigFAc),IF(AND($C$23<=OrigFAcdip,BP$23>OrigFAcdip),((($C$23-OrigFAcdip)/OrigFAc)+((BP$23-OrigFAcdip)/OrigFAc)),IF(AND($C$23>OrigFAcdip,BP$23<=OrigFAcdip),(((OrigFAcdip-$C$23)/OrigFAc)+((OrigFAcdip-BP$23)/OrigFAc)),(BP$23-$C$23)/OrigFAc))),Decimal))","v":" "}," "," "," "," "," "," "," "," "," "," "," "," "," "," "," "," "," "," "," "," "," "," "," "," "," "," "," "," "," "," "," "," "," "," "," "]
["FAf",null,null,{"$f":"IF(OR(D$20=0,D$20=\" \"),\" \",ROUND(IF(AND($C$24<=OrigFAfdip,D$24<=OrigFAfdip),(($C$24-D$24)/OrigFAf),IF(AND($C$24<=OrigFAfdip,D$24>OrigFAfdip),((($C$24-OrigFAfdip)/OrigFAf)+((D$24-OrigFAfdip)/OrigFAf)),IF(AND($C$24>OrigFAfdip,D$24<=OrigFAfdip),(((OrigFAfdip-$C$24)/OrigFAf)+((OrigFAfdip-D$24)/OrigFAf)),(D$24-$C$24)/OrigFAf))),Decimal))","v":" "}," "," "," "," "," "," "," "," "," "," "," "," "," "," "," "," "," "," "," "," "," "," "," "," "," "," "," "," "," "," "," ",{"$f":"IF(OR(AJ$20=0,AJ$20=\" \"),\" \",ROUND(IF(AND($C$24<=OrigFAfdip,AJ$24<=OrigFAfdip),(($C$24-AJ$24)/OrigFAf),IF(AND($C$24<=OrigFAfdip,AJ$24>OrigFAfdip),((($C$24-OrigFAfdip)/OrigFAf)+((AJ$24-OrigFAfdip)/OrigFAf)),IF(AND($C$24>OrigFAfdip,AJ$24<=OrigFAfdip),(((OrigFAfdip-$C$24)/OrigFAf)+((OrigFAfdip-AJ$24)/OrigFAf)),(AJ$24-$C$24)/OrigFAf))),Decimal))","v":" "}," "," "," "," "," "," "," "," "," "," "," "," "," "," "," "," "," "," "," "," "," "," "," "," "," "," "," "," "," "," "," ",{"$f":"IF(OR(BP$20=0,BP$20=\" \"),\" \",ROUND(IF(AND($C$24<=OrigFAfdip,BP$24<=OrigFAfdip),(($C$24-BP$24)/OrigFAf),IF(AND($C$24<=OrigFAfdip,BP$24>OrigFAfdip),((($C$24-OrigFAfdip)/OrigFAf)+((BP$24-OrigFAfdip)/OrigFAf)),IF(AND($C$24>OrigFAfdip,BP$24<=OrigFAfdip),(((OrigFAfdip-$C$24)/OrigFAf)+((OrigFAfdip-BP$24)/OrigFAf)),(BP$24-$C$24)/OrigFAf))),Decimal))","v":" "}," "," "," "," "," "," "," "," "," "," "," "," "," "," "," "," "," "," "," "," "," "," "," "," "," "," "," "," "," "," "," "," "," "," "," "]
["Total",null,null,{"$f":"IF(OR(D$20=0,D$20=\" \"),\" \",ROUND(SUM(D28:D31),Decimal))","v":" "}," "," "," "," "," "," "," "," "," "," "," "," "," "," "," "," "," "," "," "," "," "," "," "," "," "," "," "," "," "," "," ",{"$f":"IF(OR(AJ$20=0,AJ$20=\" \"),\" \",ROUND(SUM(AJ28:AJ31),Decimal))","v":" "}," "," "," "," "," "," "," "," "," "," "," "," "," "," "," "," "," "," "," "," "," "," "," "," "," "," "," "," "," "," "," ",{"$f":"IF(OR(BP$20=0,BP$20=\" \"),\" \",ROUND(SUM(BP28:BP31),Decimal))","v":" "}," "," "," "," "," "," "," "," "," "," "," "," "," "," "," "," "," "," "," "," "," "," "," "," "," "," "," "," "," "," "," ",{"$f":"IF(OR(CV$20=0,CV$20=\" \"),\" \",ROUND(SUM(CV28:CV31),Decimal))","v":" "}," "," "," "]
["Est VMA",null,null,{"$f":"IF(OR(D$20=0,D$20=\" \"),\" \",ROUND(D32+$C$20,Decimal))","v":" "}," "," "," "," "," "," "," "," "," "," "," "," "," "," "," "," "," "," "," "," "," "," "," "," "," "," "," "," "," "," "," ",{"$f":"IF(OR(AJ$20=0,AJ$20=\" \"),\" \",ROUND(AJ32+$C$20,Decimal))","v":" "}," "," "," "," "," "," "," "," "," "," "," "," "," "," "," "," "," "," "," "," "," "," "," "," "," "," "," "," "," "," "," ",{"$f":"IF(OR(BP$20=0,BP$20=\" \"),\" \",ROUND(BP32+$C$20,Decimal))","v":" "}," "," "," "," "," "," "," "," "," "," "," "," "," "," "," "," "," "," "," "," "," "," "," "," "," "," "," "," "," "," "," ",{"$f":"IF(OR(CV$20=0,CV$20=\" \"),\" \",ROUND(CV32+$C$20,Decimal))","v":" "}," "," "," "]
["Act VMA",null,null,{"$f":"IF(OR(D$20=0,D$20=\" \"),\" \",ROUND(D$20,Decimal))","v":" "}," "," "," "," "," "," "," "," "," "," "," "," "," "," "," "," "," "," "," "," "," "," "," "," "," "," "," "," "," "," "," ",{"$f":"IF(OR(AJ$20=0,AJ$20=\" \"),\" \",ROUND(AJ$20,Decimal))","v":" "}," "," "," "," "," "," "," "," "," "," "," "," "," "," "," "," "," "," "," "," "," "," "," "," "," "," "," "," "," "," "," ",{"$f":"IF(OR(BP$20=0,BP$20=\" \"),\" \",ROUND(BP$20,Decimal))","v":" "}," "," "," "," "," "," "," "," "," "," "," "," "," "," "," "," "," "," "," "," "," "," "," "," "," "," "," "," "," "," "," "," "," "," "," "]
["Diff in VMA",null,null,{"$f":"IF(OR(D$20=0,D$20=\" \"),\" \",ROUND(D33-D34,Decimal))","v":" "}," "," "," "," "," "," "," "," "," "," "," "," "," "," "," "," "," "," "," "," "," "," "," "," "," "," "," "," "," "," "," ",{"$f":"IF(OR(AJ$20=0,AJ$20=\" \"),\" \",ROUND(AJ33-AJ34,Decimal))","v":" "}," "," "," "," "," "," "," "," "," "," "," "," "," "," "," "," "," "," "," "," "," "," "," "," "," "," "," "," "," "," "," ",{"$f":"IF(OR(BP$20=0,BP$20=\" \"),\" \",ROUND(BP33-BP34,Decimal))","v":" "}," "," "," "," "," "," "," "," "," "," "," "," "," "," "," "," "," "," "," "," "," "," "," "," "," "," "," "," "," "," "," ",{"$f":"IF(OR(CV$20=0,CV$20=\" \"),\" \",ROUND(CV33-CV34,Decimal))","v":" "}," "," "," "]
["Est Voids",null,null,{"$f":"IF(OR(D$21=0,D$21=\" \"),\" \",ROUND((($C$18-$C$19)-(D$18-D$19))*OrigACvolume+D32+$C$21,Decimal))","v":" "}," "," "," "," "," "," "," "," "," "," "," "," "," "," "," "," "," "," "," "," "," "," "," "," "," "," "," "," "," "," "," ",{"$f":"IF(OR(AJ$21=0,AJ$21=\" \"),\" \",ROUND((($C$18-$C$19)-(AJ$18-AJ$19))*OrigACvolume+AJ32+$C$21,Decimal))","v":" "}," "," "," "," "," "," "," "," "," "," "," "," "," "," "," "," "," "," "," "," "," "," "," "," "," "," "," "," "," "," "," ",{"$f":"IF(OR(BP$21=0,BP$21=\" \"),\" \",ROUND((($C$18-$C$19)-(BP$18-BP$19))*OrigACvolume+BP32+$C$21,Decimal))","v":" "}," "," "," "," "," "," "," "," "," "," "," "," "," "," "," "," "," "," "," "," "," "," "," "," "," "," "," "," "," "," "," "," "," "," "," "]
["Act Voids",null,null,{"$f":"IF(OR(D$21=0,D$21=\" \"),\" \",ROUND(D$21,Decimal))","v":" "}," "," "," "," "," "," "," "," "," "," "," "," "," "," "," "," "," "," "," "," "," "," "," "," "," "," "," "," "," "," "," ",{"$f":"IF(OR(AJ$21=0,AJ$21=\" \"),\" \",ROUND(AJ$21,Decimal))","v":" "}," "," "," "," "," "," "," "," "," "," "," "," "," "," "," "," "," "," "," "," "," "," "," "," "," "," "," "," "," "," "," ",{"$f":"IF(OR(BP$21=0,BP$21=\" \"),\" \",ROUND(BP$21,Decimal))","v":" "}," "," "," "," "," "," "," "," "," "," "," "," "," "," "," "," "," "," "," "," "," "," "," "," "," "," "," "," "," "," "," "," "," "," "," "]
["Diff in Voids",null,null,{"$f":"IF(OR(D$21=0,D$21=\" \"),\" \",ROUND(D36-D37,Decimal))","v":" "}," "," "," "," "," "," "," "," "," "," "," "," "," "," "," "," "," "," "," "," "," "," "," "," "," "," "," "," "," "," "," ",{"$f":"IF(OR(AJ$21=0,AJ$21=\" \"),\" \",ROUND(AJ36-AJ37,Decimal))","v":" "}," "," "," "," "," "," "," "," "," "," "," "," "," "," "," "," "," "," "," "," "," "," "," "," "," "," "," "," "," "," "," ",{"$f":"IF(OR(BP$21=0,BP$21=\" \"),\" \",ROUND(BP36-BP37,Decimal))","v":" "}," "," "," "," "," "," "," "," "," "," "," "," "," "," "," "," "," "," "," "," "," "," "," "," "," "," "," "," "," "," "," ",{"$f":"IF(OR(CV$21=0,CV$21=\" \"),\" \",ROUND(CV36-CV37,Decimal))","v":" "}," "," "," "]
["PCS",null,"Compares Each Sample to the Previous Sample",{"$f":"IF(D$12=0,\" \",ROUND(IF(NMAS=37.5,((C$10-D$10)/OrigPCS),IF(OR(NMAS=25,NMAS=19),((C$11-D$11)/OrigPCS),IF(OR(NMAS=12.5,NMAS=9.5),((C$12-D$12)/OrigPCS),((C$13-D$13)/OrigPCS)))),Decimal))","v":" "}," "," "," "," "," "," "," "," "," "," "," "," "," "," "," "," "," "," "," "," "," "," "," "," "," "," "," "," "," "," "," ",{"$f":"IF(AJ$12=0,\" \",ROUND(IF(NMAS=37.5,((AI$10-AJ$10)/OrigPCS),IF(OR(NMAS=25,NMAS=19),((AI$11-AJ$11)/OrigPCS),IF(OR(NMAS=12.5,NMAS=9.5),((AI$12-AJ$12)/OrigPCS),((AI$13-AJ$13)/OrigPCS)))),Decimal))","v":" "}," "," "," "," "," "," "," "," "," "," "," "," "," "," "," "," "," "," "," "," "," "," "," "," "," "," "," "," "," "," "," ",{"$f":"IF(BP$12=0,\" \",ROUND(IF(NMAS=37.5,((BO$10-BP$10)/OrigPCS),IF(OR(NMAS=25,NMAS=19),((BO$11-BP$11)/OrigPCS),IF(OR(NMAS=12.5,NMAS=9.5),((BO$12-BP$12)/OrigPCS),((BO$13-BP$13)/OrigPCS)))),Decimal))","v":" "}," "," "," "," "," "," "," "," "," "," "," "," "," "," "," "," "," "," "," "," "," "," "," "," "," "," "," "," "," "," "," "," "," "," "," "]
["CA",null,null,{"$f":"IF(D$12=0,\" \",ROUND((D$22-C$22)/OrigCA,Decimal))","v":" "}," "," "," "," "," "," "," "," "," "," "," "," "," "," "," "," "," "," "," "," "," "," "," "," "," "," "," "," "," "," "," ",{"$f":"IF(AJ$12=0,\" \",ROUND((AJ$22-AI$22)/OrigCA,Decimal))","v":" "}," "," "," "," "," "," "," "," "," "," "," "," "," "," "," "," "," "," "," "," "," "," "," "," "," "," "," "," "," "," "," ",{"$f":"IF(BP$12=0,\" \",ROUND((BP$22-BO$22)/OrigCA,Decimal))","v":" "}," "," "," "," "," "," "," "," "," "," "," "," "," "," "," "," "," "," "," "," "," "," "," "," "," "," "," "," "," "," "," "," "," "," "," "]
["FAc",null,null,{"$f":"IF(D$12=0,\" \",ROUND(IF(AND(C$23<=OrigFAcdip,D$23<=OrigFAcdip),((C$23-D$23)/OrigFAc),IF(AND(C$23<=OrigFAcdip,D$23>OrigFAcdip),(((C$23-OrigFAcdip)/OrigFAc)+((D$23-OrigFAcdip)/OrigFAc)),IF(AND(C$23>OrigFAcdip,D$23<=OrigFAcdip),(((OrigFAcdip-C$23)/OrigFAc)+((OrigFAcdip-D$23)/OrigFAc)),(D$23-C$23)/OrigFAc))),Decimal))","v":" "}," "," "," "," "," "," "," "," "," "," "," "," "," "," "," "," "," "," "," "," "," "," "," "," "," "," "," "," "," "," "," ",{"$f":"IF(AJ$12=0,\" \",ROUND(IF(AND(AI$23<=OrigFAcdip,AJ$23<=OrigFAcdip),((AI$23-AJ$23)/OrigFAc),IF(AND(AI$23<=OrigFAcdip,AJ$23>OrigFAcdip),(((AI$23-OrigFAcdip)/OrigFAc)+((AJ$23-OrigFAcdip)/OrigFAc)),IF(AND(AI$23>OrigFAcdip,AJ$23<=OrigFAcdip),(((OrigFAcdip-AI$23)/OrigFAc)+((OrigFAcdip-AJ$23)/OrigFAc)),(AJ$23-AI$23)/OrigFAc))),Decimal))","v":" "}," "," "," "," "," "," "," "," "," "," "," "," "," "," "," "," "," "," "," "," "," "," "," "," "," "," "," "," "," "," "," ",{"$f":"IF(BP$12=0,\" \",ROUND(IF(AND(BO$23<=OrigFAcdip,BP$23<=OrigFAcdip),((BO$23-BP$23)/OrigFAc),IF(AND(BO$23<=OrigFAcdip,BP$23>OrigFAcdip),(((BO$23-OrigFAcdip)/OrigFAc)+((BP$23-OrigFAcdip)/OrigFAc)),IF(AND(BO$23>OrigFAcdip,BP$23<=OrigFAcdip),(((OrigFAcdip-BO$23)/OrigFAc)+((OrigFAcdip-BP$23)/OrigFAc)),(BP$23-BO$23)/OrigFAc))),Decimal))","v":" "}," "," "," "," "," "," "," "," "," "," "," "," "," "," "," "," "," "," "," "," "," "," "," "," "," "," "," "," "," "," "," "," "," "," "," "]
["FAf",null,null,{"$f":"IF(D$12=0,\" \",ROUND(IF(AND(C$24<=OrigFAfdip,D$24<=OrigFAfdip),((C$24-D$24)/OrigFAf),IF(AND(C$24<=OrigFAfdip,D$24>OrigFAfdip),(((C$24-OrigFAfdip)/OrigFAf)+((D$24-OrigFAfdip)/OrigFAf)),IF(AND(C$24>OrigFAfdip,D$24<=OrigFAfdip),(((OrigFAfdip-C$24)/OrigFAf)+((OrigFAfdip-D$24)/OrigFAf)),(D$24-C$24)/OrigFAf))),Decimal))","v":" "}," "," "," "," "," "," "," "," "," "," "," "," "," "," "," "," "," "," "," "," "," "," "," "," "," "," "," "," "," "," "," ",{"$f":"IF(AJ$12=0,\" \",ROUND(IF(AND(AI$24<=OrigFAfdip,AJ$24<=OrigFAfdip),((AI$24-AJ$24)/OrigFAf),IF(AND(AI$24<=OrigFAfdip,AJ$24>OrigFAfdip),(((AI$24-OrigFAfdip)/OrigFAf)+((AJ$24-OrigFAfdip)/OrigFAf)),IF(AND(AI$24>OrigFAfdip,AJ$24<=OrigFAfdip),(((OrigFAfdip-AI$24)/OrigFAf)+((OrigFAfdip-AJ$24)/OrigFAf)),(AJ$24-AI$24)/OrigFAf))),Decimal))","v":" "}," "," "," "," "," "," "," "," "," "," "," "," "," "," "," "," "," "," "," "," "," "," "," "," "," "," "," "," "," "," "," ",{"$f":"IF(BP$12=0,\" \",ROUND(IF(AND(BO$24<=OrigFAfdip,BP$24<=OrigFAfdip),((BO$24-BP$24)/OrigFAf),IF(AND(BO$24<=OrigFAfdip,BP$24>OrigFAfdip),(((BO$24-OrigFAfdip)/OrigFAf)+((BP$24-OrigFAfdip)/OrigFAf)),IF(AND(BO$24>OrigFAfdip,BP$24<=OrigFAfdip),(((OrigFAfdip-BO$24)/OrigFAf)+((OrigFAfdip-BP$24)/OrigFAf)),(BP$24-BO$24)/OrigFAf))),Decimal))","v":" "}," "," "," "," "," "," "," "," "," "," "," "," "," "," "," "," "," "," "," "," "," "," "," "," "," "," "," "," "," "," "," "," "," "," "," "]
["Total",null,null,{"$f":"IF(D$12=0,\" \",ROUND(SUM(D39:D42),Decimal))","v":" "}," "," "," "," "," "," "," "," "," "," "," "," "," "," "," "," "," "," "," "," "," "," "," "," "," "," "," "," "," "," "," ",{"$f":"IF(AJ$12=0,\" \",ROUND(SUM(AJ39:AJ42),Decimal))","v":" "}," "," "," "," "," "," "," "," "," "," "," "," "," "," "," "," "," "," "," "," "," "," "," "," "," "," "," "," "," "," "," ",{"$f":"IF(BP$12=0,\" \",ROUND(SUM(BP39:BP42),Decimal))","v":" "}," "," "," "," "," "," "," "," "," "," "," "," "," "," "," "," "," "," "," "," "," "," "," "," "," "," "," "," "," "," "," ",{"$f":"IF(CV$12=0,\" \",ROUND(SUM(CV39:CV42),Decimal))","v":" "}," "," "," "]
["Est VMA",null,null,{"$f":"IF(D$12=0,\" \",ROUND(D43+C$20,Decimal))","v":" "}," "," "," "," "," "," "," "," "," "," "," "," "," "," "," "," "," "," "," "," "," "," "," "," "," "," "," "," "," "," "," ",{"$f":"IF(AJ$12=0,\" \",ROUND(AJ43+AI$20,Decimal))","v":" "}," "," "," "," "," "," "," "," "," "," "," "," "," "," "," "," "," "," "," "," "," "," "," "," "," "," "," "," "," "," "," ",{"$f":"IF(BP$12=0,\" \",ROUND(BP43+BO$20,Decimal))","v":" "}," "," "," "," "," "," "," "," "," "," "," "," "," "," "," "," "," "," "," "," "," "," "," "," "," "," "," "," "," "," "," ",{"$f":"IF(CV$12=0,\" \",ROUND(CV43+CU$20,Decimal))","v":" "}," "," "," "]
["Act VMA",null,null,{"$f":"IF(D44=\" \",\" \",IF(D$20=\" \",0,ROUND(D$20,Decimal)))","v":" "}," "," "," "," "," "," "," "," "," "," "," "," "," "," "," "," "," "," "," "," "," "," "," "," "," "," "," "," "," "," "," ",{"$f":"IF(AJ44=\" \",\" \",IF(AJ$20=\" \",0,ROUND(AJ$20,Decimal)))","v":" "}," "," "," "," "," "," "," "," "," "," "," "," "," "," "," "," "," "," "," "," "," "," "," "," "," "," "," "," "," "," "," ",{"$f":"IF(BP44=\" \",\" \",IF(BP$20=\" \",0,ROUND(BP$20,Decimal)))","v":" "}," "," "," "," "," "," "," "," "," "," "," "," "," "," "," "," "," "," "," "," "," "," "," "," "," "," "," "," "," "," "," ",{"$f":"IF(CV44=\" \",\" \",IF(CV$20=\" \",0,ROUND(CV$20,Decimal)))","v":" "}," "," "," "]
["Diff in VMA",null,null,{"$f":"IF(D$12=0,\" \",ROUND(D44-D45,Decimal))","v":" "}," "," "," "," "," "," "," "," "," "," "," "," "," "," "," "," "," "," "," "," "," "," "," "," "," "," "," "," "," "," "," ",{"$f":"IF(AJ$12=0,\" \",ROUND(AJ44-AJ45,Decimal))","v":" "}," "," "," "," "," "," "," "," "," "," "," "," "," "," "," "," "," "," "," "," "," "," "," "," "," "," "," "," "," "," "," ",{"$f":"IF(BP$12=0,\" \",ROUND(BP44-BP45,Decimal))","v":" "}," "," "," "," "," "," "," "," "," "," "," "," "," "," "," "," "," "," "," "," "," "," "," "," "," "," "," "," "," "," "," ",{"$f":"IF(CV$12=0,\" \",ROUND(CV44-CV45,Decimal))","v":" "}," "," "," "]
["Est Voids",null,null,{"$f":"IF(D$12=0,\" \",ROUND(((C$18-C$19)-(D$18-D$19))*OrigACvolume+D43+C$21,Decimal))","v":" "}," "," "," "," "," "," "," "," "," "," "," "," "," "," "," "," "," "," "," "," "," "," "," "," "," "," "," "," "," "," "," ",{"$f":"IF(AJ$12=0,\" \",ROUND(((AI$18-AI$19)-(AJ$18-AJ$19))*OrigACvolume+AJ43+AI$21,Decimal))","v":" "}," "," "," "," "," "," "," "," "," "," "," "," "," "," "," "," "," "," "," "," "," "," "," "," "," "," "," "," "," "," "," ",{"$f":"IF(BP$12=0,\" \",ROUND(((BO$18-BO$19)-(BP$18-BP$19))*OrigACvolume+BP43+BO$21,Decimal))","v":" "}," "," "," "," "," "," "," "," "," "," "," "," "," "," "," "," "," "," "," "," "," "," "," "," "," "," "," "," "," "," "," "," "," "," "," "]
["Act Voids",null,null,{"$f":"IF(D47=\" \",\" \",IF(D$21=\" \",0,ROUND(D$21,Decimal)))","v":" "}," "," "," "," "," "," "," "," "," "," "," "," "," "," "," "," "," "," "," "," "," "," "," "," "," "," "," "," "," "," "," ",{"$f":"IF(AJ47=\" \",\" \",IF(AJ$21=\" \",0,ROUND(AJ$21,Decimal)))","v":" "}," "," "," "," "," "," "," "," "," "," "," "," "," "," "," "," "," "," "," "," "," "," "," "," "," "," "," "," "," "," "," ",{"$f":"IF(BP47=\" \",\" \",IF(BP$21=\" \",0,ROUND(BP$21,Decimal)))","v":" "}," "," "," "," "," "," "," "," "," "," "," "," "," "," "," "," "," "," "," "," "," "," "," "," "," "," "," "," "," "," "," ",{"$f":"IF(CV47=\" \",\" \",IF(CV$21=\" \",0,ROUND(CV$21,Decimal)))","v":" "}," "," "," "]
["Diff in Voids",null,null,{"$f":"IF(D$12=0,\" \",ROUND(D47-D48,Decimal))","v":" "}," "," "," "," "," "," "," "," "," "," "," "," "," "," "," "," "," "," "," "," "," "," "," "," "," "," "," "," "," "," "," ",{"$f":"IF(AJ$12=0,\" \",ROUND(AJ47-AJ48,Decimal))","v":" "}," "," "," "," "," "," "," "," "," "," "," "," "," "," "," "," "," "," "," "," "," "," "," "," "," "," "," "," "," "," "," ",{"$f":"IF(BP$12=0,\" \",ROUND(BP47-BP48,Decimal))","v":" "}," "," "," "," "," "," "," "," "," "," "," "," "," "," "," "," "," "," "," "," "," "," "," "," "," "," "," "," "," "," "," ",{"$f":"IF(CV$12=0,\" \",ROUND(CV47-CV48,Decimal))","v":" "}," "," "," "]
["Original","Est Pba"]
["PCS","Gsb"]
[4,"Gmb1"]
["CA","Gmb2"]
[0.2,"Gmb3"]
["FAc","Avg",{"$f":"IF((C52+C53+C54=0),\" \",ROUND(AVERAGE(C52:C54),3))","v":" "}," "," "," "," "," "," "," "," "," "," "," "," "," "," "," "," "," "," "," "," "," "," "," ",{"$f":"IF((AA52+AA53+AA54=0),\" \",ROUND(AVERAGE(AA52:AA54),3))","v":" "}," "," "," "," "," "," "," ",{"$f":"IF((AI52+AI53+AI54=0),\" \",ROUND(AVERAGE(AI52:AI54),3))","v":" "}," "," "," "," "," "," "," "," "," "," "," "," "," "," "," "," "," "," "," "," "," "," "," "," "," "," "," "," "," "," "," ",{"$f":"IF((BO52+BO53+BO54=0),\" \",ROUND(AVERAGE(BO52:BO54),3))","v":" "}," "," "," "," "," "," "," "," "," "," "," "," "," "," "," "," "," "," "," "," "," "," "," "," "," "," "," "," "," "," "," ",{"$f":"IF((CU52+CU53+CU54=0),\" \",ROUND(AVERAGE(CU52:CU54),3))","v":" "},{"$f":"IF((CV52+CV53+CV54=0),\" \",ROUND(AVERAGE(CV52:CV54),3))","v":" "},{"$f":"IF((CW52+CW53+CW54=0),\" \",ROUND(AVERAGE(CW52:CW54),3))","v":" "},{"$f":"IF((CX52+CX53+CX54=0),\" \",ROUND(AVERAGE(CX52:CX54),3))","v":" "},{"$f":"IF((CY52+CY53+CY54=0),\" \",ROUND(AVERAGE(CY52:CY54),3))","v":" "}]
[0.05,"Gmm1"]
["FAc Dip","Gmm2"]
[0.55000000000000004,"Avg",{"$f":"IF((C56+C57=0),\" \",ROUND(AVERAGE(C56:C57),3))","v":" "}," "," "," "," "," "," "," "," "," "," "," "," "," "," "," "," "," "," "," "," "," "," "," "," "," "," "," "," "," "," "," ",{"$f":"IF((AI56+AI57=0),\" \",ROUND(AVERAGE(AI56:AI57),3))","v":" "}," "," "," "," "," "," "," "," "," "," "," "," "," "," "," "," "," "," "," "," "," "," "," "," "," "," "," "," "," "," "," ",{"$f":"IF((BO56+BO57=0),\" \",ROUND(AVERAGE(BO56:BO57),3))","v":" "}," "," "," "," "," "," "," "," "," "," "," "," "," "," "," "," "," "," "," "," "," "," "," "," "," "," "," "," "," "," "," ",{"$f":"IF((CU56+CU57=0),\" \",ROUND(AVERAGE(CU56:CU57),3))","v":" "},{"$f":"IF((CV56+CV57=0),\" \",ROUND(AVERAGE(CV56:CV57),3))","v":" "},{"$f":"IF((CW56+CW57=0),\" \",ROUND(AVERAGE(CW56:CW57),3))","v":" "},{"$f":"IF((CX56+CX57=0),\" \",ROUND(AVERAGE(CX56:CX57),3))","v":" "},{"$f":"IF((CY56+CY57=0),\" \",ROUND(AVERAGE(CY56:CY57),3))","v":" "}]
["FAf","VMA",{"$f":"IF((C52+C53+C54=0),\" \",ROUND(100-((C55*(100-ROUND(C18,1))/C51)),1))","v":" "},{"$f":"IF((D52+D53+D54=0),\" \",ROUND(100-((D55*(100-ROUND(D18,1))/D51)),1))","v":" "}," "," "," "," "," "," "," "," "," "," "," "," "," "," "," "," "," "," "," "," "," "," "," "," "," "," "," "," "," "," "," "," "," "," "," "," "," "," "," "," "," "," "," "," "," "," "," "," "," "," "," "," "," "," "," "," "," "," "," "," "," "," "," ",{"$f":"IF((BP52+BP53+BP54=0),\" \",ROUND(100-((BP55*(100-ROUND(BP18,1))/BP51)),1))","v":" "}," "," "," "," "," "," "," "," "," "," "," "," "," "," "," "," "," "," "," "," "," "," "," "," "," "," "," "," "," "," "," "," "," "," "," "]
[0.05,"Voids",{"$f":"IF((C52+C53+C54=0),\" \",ROUND(100-(100*(C55/C58)),1))","v":" "},{"$f":"IF((D52+D53+D54=0),\" \",ROUND(100-(100*(D55/D58)),1))","v":" "}," "," "," "," "," "," "," "," "," "," "," "," "," "," "," "," "," "," "," "," "," "," "," "," "," "," "," "," "," "," "," "," "," "," "," "," "," "," "," "," "," "," "," "," "," "," "," "," "," "," "," "," "," "," "," "," "," "," "," "," "," "," "," ",{"$f":"IF((BP52+BP53+BP54=0),\" \",ROUND(100-(100*(BP55/BP58)),1))","v":" "}," "," "," "," "," "," "," "," "," "," "," "," "," "," "," "," "," "," "," "," "," "," "," "," "," "," "," "," "," "," "," "," "," "," "," "]
["FAf Dip","Gse",{"$f":"IF(C58=\" \",0,ROUND((100-C18)/((100/C58)-(C18/BinderSpecificGravity)),3))","v":0},{"$f":"IF(D58=\" \",0,ROUND((100-D18)/((100/D58)-(D18/BinderSpecificGravity)),3))","v":0},{"$f":"IF(E58=\" \",0,ROUND((100-E18)/((100/E58)-(E18/BinderSpecificGravity)),3))","v":0},0,0,0,0,0,0,0,0,0,0,0,0,0,0,0,0,0,0,0,0,0,0,0,0,0,0,0,0,0,0,0,0,0,0,0,0,0,0,0,0,0,0,0,0,0,0,0,0,0,0,0,0,0,0,0,0,0,0,0,0,0,0,0,{"$f":"IF(BQ58=\" \",0,ROUND((100-BQ18)/((100/BQ58)-(BQ18/BinderSpecificGravity)),3))","v":0},0,0,0,0,0,0,0,0,0,0,0,0,0,0,0,0,0,0,0,0,0,0,0,0,0,0,0,0,0,0,0,0,0,0]
[0.55000000000000004,"Pba",{"$f":"IF(C61=0,0,ROUND(100*(((C61-C51)/(C51*C61))*BinderSpecificGravity),2))","v":0},{"$f":"IF(D61=0,0,ROUND(100*(((D61-D51)/(D51*D61))*BinderSpecificGravity),2))","v":0},0,0,0,0,0,0,0,0,0,0,0,0,0,0,0,0,0,0,0,0,0,0,0,0,0,0,0,0,0,0,0,0,0,0,0,0,0,0,0,0,0,0,0,0,0,0,0,0,0,0,0,0,0,0,0,0,0,0,0,0,0,0,0,{"$f":"IF(BP61=0,0,ROUND(100*(((BP61-BP51)/(BP51*BP61))*BinderSpecificGravity),2))","v":0},0,0,0,0,0,0,0,0,0,0,0,0,0,0,0,0,0,0,0,0,0,0,0,0,0,0,0,0,0,0,0,0,0,0,0]
["AC Volume Correction","Eff AC",{"$f":"IF(C61=0,0,ROUND(C18-((C62/100)*(100-C18)),2))","v":0},{"$f":"IF(D61=0,0,ROUND(D18-((D62/100)*(100-D18)),2))","v":0},0,0,0,0,0,0,0,0,0,0,0,0,0,0,0,0,0,0,0,0,0,0,0,0,0,0,0,0,0,0,0,0,0,0,0,0,0,0,0,0,0,0,0,0,0,0,0,0,0,0,0,0,0,0,0,0,0,0,0,0,0,0,0,{"$f":"IF(BP61=0,0,ROUND(BP18-((BP62/100)*(100-BP18)),2))","v":0},0,0,0,0,0,0,0,0,0,0,0,0,0,0,0,0,0,0,0,0,0,0,0,0,0,0,0,0,0,0,0,0,0,0,0]
[null,"AC Gb"]
[2.25,1.03]
[null,"Density",1]
[null,null,2]
[null,null,3]
[null,null,4]
[null,null,5]
[null,null,"Avg",{"$f":"IF(SUM(D66:D70)=0,\" \",ROUND(AVERAGE(D66:D70),1))","v":" "},{"$f":"IF(SUM(E66:E70)=0,\" \",ROUND(AVERAGE(E66:E70),1))","v":" "}," "," "," "," "," "," "," "," "," "," "," "," "," "," "," "," "," "," "," "," "," "," "," "," "," "," "," "," "," "," "," "," "," "," "," "," "," "," "," "," "," "," "," "," "," "," "," "," "," "," "," "," "," "," "," "," "," "," "," "," "," "," "," ",{"$f":"IF(SUM(BQ66:BQ70)=0,\" \",ROUND(AVERAGE(BQ66:BQ70),1))","v":" "}," "," "," "," "," "," "," "," "," "," "," "," "," "," "," "," "," "," "," "," "," "," "," "," "," "," "," "," "," "," "," "," "," "," "]
[]
["PCS",null,"Compares Each Sample to the Mix Design",{"$f":"IF(OR(D$20=0,D$20=\" \"),\" \",ROUND(IF(NMAS=37.5,(($C$10-D$10)/AdjPCS),IF(OR(NMAS=25,NMAS=19),(($C$11-D$11)/AdjPCS),IF(OR(NMAS=12.5,NMAS=9.5),(($C$12-D$12)/AdjPCS),(($C$13-D$13)/AdjPCS)))),Decimal))","v":" "}," "," "," "," "," "," "," "," "," "," "," "," "," "," "," "," "," "," "," "," "," "," "," "," "," "," "," "," "," "," "," ",{"$f":"IF(OR(AJ$20=0,AJ$20=\" \"),\" \",ROUND(IF(NMAS=37.5,(($C$10-AJ$10)/AdjPCS),IF(OR(NMAS=25,NMAS=19),(($C$11-AJ$11)/AdjPCS),IF(OR(NMAS=12.5,NMAS=9.5),(($C$12-AJ$12)/AdjPCS),(($C$13-AJ$13)/AdjPCS)))),Decimal))","v":" "}," "," "," "," "," "," "," "," "," "," "," "," "," "," "," "," "," "," "," "," "," "," "," "," "," "," "," "," "," "," "," ",{"$f":"IF(OR(BP$20=0,BP$20=\" \"),\" \",ROUND(IF(NMAS=37.5,(($C$10-BP$10)/AdjPCS),IF(OR(NMAS=25,NMAS=19),(($C$11-BP$11)/AdjPCS),IF(OR(NMAS=12.5,NMAS=9.5),(($C$12-BP$12)/AdjPCS),(($C$13-BP$13)/AdjPCS)))),Decimal))","v":" "}," "," "," "," "," "," "," "," "," "," "," "," "," "," "," "," "," "," "," "," "," "," "," "," "," "," "," "," "," "," "," "," "," "," "," "]
["CA",null,null,{"$f":"IF(OR(D$20=0,D$20=\" \"),\" \",ROUND((D$22-$C$22)/AdjCA,Decimal))","v":" "}," "," "," "," "," "," "," "," "," "," "," "," "," "," "," "," "," "," "," "," "," "," "," "," "," "," "," "," "," "," "," ",{"$f":"IF(OR(AJ$20=0,AJ$20=\" \"),\" \",ROUND((AJ$22-$C$22)/AdjCA,Decimal))","v":" "}," "," "," "," "," "," "," "," "," "," "," "," "," "," "," "," "," "," "," "," "," "," "," "," "," "," "," "," "," "," "," ",{"$f":"IF(OR(BP$20=0,BP$20=\" \"),\" \",ROUND((BP$22-$C$22)/AdjCA,Decimal))","v":" "}," "," "," "," "," "," "," "," "," "," "," "," "," "," "," "," "," "," "," "," "," "," "," "," "," "," "," "," "," "," "," "," "," "," "," "]
["FAc",null,null,{"$f":"IF(OR(D$20=0,D$20=\" \"),\" \",ROUND(IF(AND($C$23<=AdjFAcdip,D$23<=AdjFAcdip),(($C$23-D$23)/AdjFAc),IF(AND($C$23<=AdjFAcdip,D$23>AdjFAcdip),((($C$23-AdjFAcdip)/AdjFAc)+((D$23-AdjFAcdip)/AdjFAc)),IF(AND($C$23>AdjFAcdip,D$23<=AdjFAcdip),(((AdjFAcdip-$C$23)/AdjFAc)+((AdjFAcdip-D$23)/AdjFAc)),(D$23-$C$23)/AdjFAc))),Decimal))","v":" "}," "," "," "," "," "," "," "," "," "," "," "," "," "," "," "," "," "," "," "," "," "," "," "," "," "," "," "," "," "," "," ",{"$f":"IF(OR(AJ$20=0,AJ$20=\" \"),\" \",ROUND(IF(AND($C$23<=AdjFAcdip,AJ$23<=AdjFAcdip),(($C$23-AJ$23)/AdjFAc),IF(AND($C$23<=AdjFAcdip,AJ$23>AdjFAcdip),((($C$23-AdjFAcdip)/AdjFAc)+((AJ$23-AdjFAcdip)/AdjFAc)),IF(AND($C$23>AdjFAcdip,AJ$23<=AdjFAcdip),(((AdjFAcdip-$C$23)/AdjFAc)+((AdjFAcdip-AJ$23)/AdjFAc)),(AJ$23-$C$23)/AdjFAc))),Decimal))","v":" "}," "," "," "," "," "," "," "," "," "," "," "," "," "," "," "," "," "," "," "," "," "," "," "," "," "," "," "," "," "," "," ",{"$f":"IF(OR(BP$20=0,BP$20=\" \"),\" \",ROUND(IF(AND($C$23<=AdjFAcdip,BP$23<=AdjFAcdip),(($C$23-BP$23)/AdjFAc),IF(AND($C$23<=AdjFAcdip,BP$23>AdjFAcdip),((($C$23-AdjFAcdip)/AdjFAc)+((BP$23-AdjFAcdip)/AdjFAc)),IF(AND($C$23>AdjFAcdip,BP$23<=AdjFAcdip),(((AdjFAcdip-$C$23)/AdjFAc)+((AdjFAcdip-BP$23)/AdjFAc)),(BP$23-$C$23)/AdjFAc))),Decimal))","v":" "}," "," "," "," "," "," "," "," "," "," "," "," "," "," "," "," "," "," "," "," "," "," "," "," "," "," "," "," "," "," "," "," "," "," "," "]
["FAf",null,null,{"$f":"IF(OR(D$20=0,D$20=\" \"),\" \",ROUND(IF(AND($C$24<=AdjFAfdip,D$24<=AdjFAfdip),(($C$24-D$24)/AdjFAf),IF(AND($C$24<=AdjFAfdip,D$24>AdjFAfdip),((($C$24-AdjFAfdip)/AdjFAf)+((D$24-AdjFAfdip)/AdjFAf)),IF(AND($C$24>AdjFAfdip,D$24<=AdjFAfdip),(((AdjFAfdip-$C$24)/AdjFAf)+((AdjFAfdip-D$24)/AdjFAf)),(D$24-$C$24)/AdjFAf))),Decimal))","v":" "}," "," "," "," "," "," "," "," "," "," "," "," "," "," "," "," "," "," "," "," "," "," "," "," "," "," "," "," "," "," "," ",{"$f":"IF(OR(AJ$20=0,AJ$20=\" \"),\" \",ROUND(IF(AND($C$24<=AdjFAfdip,AJ$24<=AdjFAfdip),(($C$24-AJ$24)/AdjFAf),IF(AND($C$24<=AdjFAfdip,AJ$24>AdjFAfdip),((($C$24-AdjFAfdip)/AdjFAf)+((AJ$24-AdjFAfdip)/AdjFAf)),IF(AND($C$24>AdjFAfdip,AJ$24<=AdjFAfdip),(((AdjFAfdip-$C$24)/AdjFAf)+((AdjFAfdip-AJ$24)/AdjFAf)),(AJ$24-$C$24)/AdjFAf))),Decimal))","v":" "}," "," "," "," "," "," "," "," "," "," "," "," "," "," "," "," "," "," "," "," "," "," "," "," "," "," "," "," "," "," "," ",{"$f":"IF(OR(BP$20=0,BP$20=\" \"),\" \",ROUND(IF(AND($C$24<=AdjFAfdip,BP$24<=AdjFAfdip),(($C$24-BP$24)/AdjFAf),IF(AND($C$24<=AdjFAfdip,BP$24>AdjFAfdip),((($C$24-AdjFAfdip)/AdjFAf)+((BP$24-AdjFAfdip)/AdjFAf)),IF(AND($C$24>AdjFAfdip,BP$24<=AdjFAfdip),(((AdjFAfdip-$C$24)/AdjFAf)+((AdjFAfdip-BP$24)/AdjFAf)),(BP$24-$C$24)/AdjFAf))),Decimal))","v":" "}," "," "," "," "," "," "," "," "," "," "," "," "," "," "," "," "," "," "," "," "," "," "," "," "," "," "," "," "," "," "," "," "," "," "," "]
["Total",null,null,{"$f":"IF(OR(D$20=0,D$20=\" \"),\" \",ROUND(SUM(D73:D76),Decimal))","v":" "}," "," "," "," "," "," "," "," "," "," "," "," "," "," "," "," "," "," "," "," "," "," "," "," "," "," "," "," "," "," "," ",{"$f":"IF(OR(AJ$20=0,AJ$20=\" \"),\" \",ROUND(SUM(AJ73:AJ76),Decimal))","v":" "}," "," "," "," "," "," "," "," "," "," "," "," "," "," "," "," "," "," "," "," "," "," "," "," "," "," "," "," "," "," "," ",{"$f":"IF(OR(BP$20=0,BP$20=\" \"),\" \",ROUND(SUM(BP73:BP76),Decimal))","v":" "}," "," "," "," "," "," "," "," "," "," "," "," "," "," "," "," "," "," "," "," "," "," "," "," "," "," "," "," "," "," "," ",{"$f":"IF(OR(CV$20=0,CV$20=\" \"),\" \",ROUND(SUM(CV73:CV76),Decimal))","v":" "}," "," "," "]
["Est VMA",null,null,{"$f":"IF(OR(D$20=0,D$20=\" \"),\" \",ROUND(D77+$C$20,Decimal))","v":" "}," "," "," "," "," "," "," "," "," "," "," "," "," "," "," "," "," "," "," "," "," "," "," "," "," "," "," "," "," "," "," ",{"$f":"IF(OR(AJ$20=0,AJ$20=\" \"),\" \",ROUND(AJ77+$C$20,Decimal))","v":" "}," "," "," "," "," "," "," "," "," "," "," "," "," "," "," "," "," "," "," "," "," "," "," "," "," "," "," "," "," "," "," ",{"$f":"IF(OR(BP$20=0,BP$20=\" \"),\" \",ROUND(BP77+$C$20,Decimal))","v":" "}," "," "," "," "," "," "," "," "," "," "," "," "," "," "," "," "," "," "," "," "," "," "," "," "," "," "," "," "," "," "," ",{"$f":"IF(OR(CV$20=0,CV$20=\" \"),\" \",ROUND(CV77+$C$20,Decimal))","v":" "}," "," "," "]
["Act VMA",null,null,{"$f":"IF(OR(D$20=0,D$20=\" \"),\" \",ROUND(D$20,Decimal))","v":" "}," "," "," "," "," "," "," "," "," "," "," "," "," "," "," "," "," "," "," "," "," "," "," "," "," "," "," "," "," "," "," ",{"$f":"IF(OR(AJ$20=0,AJ$20=\" \"),\" \",ROUND(AJ$20,Decimal))","v":" "}," "," "," "," "," "," "," "," "," "," "," "," "," "," "," "," "," "," "," "," "," "," "," "," "," "," "," "," "," "," "," ",{"$f":"IF(OR(BP$20=0,BP$20=\" \"),\" \",ROUND(BP$20,Decimal))","v":" "}," "," "," "," "," "," "," "," "," "," "," "," "," "," "," "," "," "," "," "," "," "," "," "," "," "," "," "," "," "," "," "," "," "," "," "]
["Diff in VMA",null,null,{"$f":"IF(OR(D$20=0,D$20=\" \"),\" \",ROUND(D78-D79,Decimal))","v":" "}," "," "," "," "," "," "," "," "," "," "," "," "," "," "," "," "," "," "," "," "," "," "," "," "," "," "," "," "," "," "," ",{"$f":"IF(OR(AJ$20=0,AJ$20=\" \"),\" \",ROUND(AJ78-AJ79,Decimal))","v":" "}," "," "," "," "," "," "," "," "," "," "," "," "," "," "," "," "," "," "," "," "," "," "," "," "," "," "," "," "," "," "," ",{"$f":"IF(OR(BP$20=0,BP$20=\" \"),\" \",ROUND(BP78-BP79,Decimal))","v":" "}," "," "," "," "," "," "," "," "," "," "," "," "," "," "," "," "," "," "," "," "," "," "," "," "," "," "," "," "," "," "," ",{"$f":"IF(OR(CV$20=0,CV$20=\" \"),\" \",ROUND(CV78-CV79,Decimal))","v":" "}," "," "," "]
["Est Voids",null,null,{"$f":"IF(OR(D$21=0,D$21=\" \"),\" \",ROUND((($C$18-$C$19)-(D$18-D$19))*AdjACvolume+D77+$C$21,Decimal))","v":" "}," "," "," "," "," "," "," "," "," "," "," "," "," "," "," "," "," "," "," "," "," "," "," "," "," "," "," "," "," "," "," ",{"$f":"IF(OR(AJ$21=0,AJ$21=\" \"),\" \",ROUND((($C$18-$C$19)-(AJ$18-AJ$19))*AdjACvolume+AJ77+$C$21,Decimal))","v":" "}," "," "," "," "," "," "," "," "," "," "," "," "," "," "," "," "," "," "," "," "," "," "," "," "," "," "," "," "," "," "," ",{"$f":"IF(OR(BP$21=0,BP$21=\" \"),\" \",ROUND((($C$18-$C$19)-(BP$18-BP$19))*AdjACvolume+BP77+$C$21,Decimal))","v":" "}," "," "," "," "," "," "," "," "," "," "," "," "," "," "," "," "," "," "," "," "," "," "," "," "," "," "," "," "," "," "," "," "," "," "," "]
["Act Voids",null,null,{"$f":"IF(OR(D$21=0,D$21=\" \"),\" \",ROUND(D$21,Decimal))","v":" "}," "," "," "," "," "," "," "," "," "," "," "," "," "," "," "," "," "," "," "," "," "," "," "," "," "," "," "," "," "," "," ",{"$f":"IF(OR(AJ$21=0,AJ$21=\" \"),\" \",ROUND(AJ$21,Decimal))","v":" "}," "," "," "," "," "," "," "," "," "," "," "," "," "," "," "," "," "," "," "," "," "," "," "," "," "," "," "," "," "," "," ",{"$f":"IF(OR(BP$21=0,BP$21=\" \"),\" \",ROUND(BP$21,Decimal))","v":" "}," "," "," "," "," "," "," "," "," "," "," "," "," "," "," "," "," "," "," "," "," "," "," "," "," "," "," "," "," "," "," "," "," "," "," "]
["Diff in Voids",null,null,{"$f":"IF(OR(D$21=0,D$21=\" \"),\" \",ROUND(D81-D82,Decimal))","v":" "}," "," "," "," "," "," "," "," "," "," "," "," "," "," "," "," "," "," "," "," "," "," "," "," "," "," "," "," "," "," "," ",{"$f":"IF(OR(AJ$21=0,AJ$21=\" \"),\" \",ROUND(AJ81-AJ82,Decimal))","v":" "}," "," "," "," "," "," "," "," "," "," "," "," "," "," "," "," "," "," "," "," "," "," "," "," "," "," "," "," "," "," "," ",{"$f":"IF(OR(BP$21=0,BP$21=\" \"),\" \",ROUND(BP81-BP82,Decimal))","v":" "}," "," "," "," "," "," "," "," "," "," "," "," "," "," "," "," "," "," "," "," "," "," "," "," "," "," "," "," "," "," "," ",{"$f":"IF(OR(CV$21=0,CV$21=\" \"),\" \",ROUND(CV81-CV82,Decimal))","v":" "}," "," "," "]
["PCS",null,"Compares Each Sample to the Previous Sample",{"$f":"IF(D$12=0,\" \",ROUND(IF(NMAS=37.5,((C$10-D$10)/AdjPCS),IF(OR(NMAS=25,NMAS=19),((C$11-D$11)/AdjPCS),IF(OR(NMAS=12.5,NMAS=9.5),((C$12-D$12)/AdjPCS),((C$13-D$13)/AdjPCS)))),Decimal))","v":" "}," "," "," "," "," "," "," "," "," "," "," "," "," "," "," "," "," "," "," "," "," "," "," "," "," "," "," "," "," "," "," ",{"$f":"IF(AJ$12=0,\" \",ROUND(IF(NMAS=37.5,((AI$10-AJ$10)/AdjPCS),IF(OR(NMAS=25,NMAS=19),((AI$11-AJ$11)/AdjPCS),IF(OR(NMAS=12.5,NMAS=9.5),((AI$12-AJ$12)/AdjPCS),((AI$13-AJ$13)/AdjPCS)))),Decimal))","v":" "}," "," "," "," "," "," "," "," "," "," "," "," "," "," "," "," "," "," "," "," "," "," "," "," "," "," "," "," "," "," "," ",{"$f":"IF(BP$12=0,\" \",ROUND(IF(NMAS=37.5,((BO$10-BP$10)/AdjPCS),IF(OR(NMAS=25,NMAS=19),((BO$11-BP$11)/AdjPCS),IF(OR(NMAS=12.5,NMAS=9.5),((BO$12-BP$12)/AdjPCS),((BO$13-BP$13)/AdjPCS)))),Decimal))","v":" "}," "," "," "," "," "," "," "," "," "," "," "," "," "," "," "," "," "," "," "," "," "," "," "," "," "," "," "," "," "," "," "," "," "," "," "]
["CA",null,null,{"$f":"IF(D$12=0,\" \",ROUND((D$22-C$22)/AdjCA,Decimal))","v":" "}," "," "," "," "," "," "," "," "," "," "," "," "," "," "," "," "," "," "," "," "," "," "," "," "," "," "," "," "," "," "," ",{"$f":"IF(AJ$12=0,\" \",ROUND((AJ$22-AI$22)/AdjCA,Decimal))","v":" "}," "," "," "," "," "," "," "," "," "," "," "," "," "," "," "," "," "," "," "," "," "," "," "," "," "," "," "," "," "," "," ",{"$f":"IF(BP$12=0,\" \",ROUND((BP$22-BO$22)/AdjCA,Decimal))","v":" "}," "," "," "," "," "," "," "," "," "," "," "," "," "," "," "," "," "," "," "," "," "," "," "," "," "," "," "," "," "," "," "," "," "," "," "]
["FAc",null,null,{"$f":"IF(D$12=0,\" \",ROUND(IF(AND(C$23<=AdjFAcdip,D$23<=AdjFAcdip),((C$23-D$23)/AdjFAc),IF(AND(C$23<=AdjFAcdip,D$23>AdjFAcdip),(((C$23-AdjFAcdip)/AdjFAc)+((D$23-AdjFAcdip)/AdjFAc)),IF(AND(C$23>AdjFAcdip,D$23<=AdjFAcdip),(((AdjFAcdip-C$23)/AdjFAc)+((AdjFAcdip-D$23)/AdjFAc)),(D$23-C$23)/AdjFAc))),Decimal))","v":" "}," "," "," "," "," "," "," "," "," "," "," "," "," "," "," "," "," "," "," "," "," "," "," "," "," "," "," "," "," "," "," ",{"$f":"IF(AJ$12=0,\" \",ROUND(IF(AND(AI$23<=AdjFAcdip,AJ$23<=AdjFAcdip),((AI$23-AJ$23)/AdjFAc),IF(AND(AI$23<=AdjFAcdip,AJ$23>AdjFAcdip),(((AI$23-AdjFAcdip)/AdjFAc)+((AJ$23-AdjFAcdip)/AdjFAc)),IF(AND(AI$23>AdjFAcdip,AJ$23<=AdjFAcdip),(((AdjFAcdip-AI$23)/AdjFAc)+((AdjFAcdip-AJ$23)/AdjFAc)),(AJ$23-AI$23)/AdjFAc))),Decimal))","v":" "}," "," "," "," "," "," "," "," "," "," "," "," "," "," "," "," "," "," "," "," "," "," "," "," "," "," "," "," "," "," "," ",{"$f":"IF(BP$12=0,\" \",ROUND(IF(AND(BO$23<=AdjFAcdip,BP$23<=AdjFAcdip),((BO$23-BP$23)/AdjFAc),IF(AND(BO$23<=AdjFAcdip,BP$23>AdjFAcdip),(((BO$23-AdjFAcdip)/AdjFAc)+((BP$23-AdjFAcdip)/AdjFAc)),IF(AND(BO$23>AdjFAcdip,BP$23<=AdjFAcdip),(((AdjFAcdip-BO$23)/AdjFAc)+((AdjFAcdip-BP$23)/AdjFAc)),(BP$23-BO$23)/AdjFAc))),Decimal))","v":" "}," "," "," "," "," "," "," "," "," "," "," "," "," "," "," "," "," "," "," "," "," "," "," "," "," "," "," "," "," "," "," "," "," "," "," "]
["FAf",null,null,{"$f":"IF(D$12=0,\" \",ROUND(IF(AND(C$24<=AdjFAfdip,D$24<=AdjFAfdip),((C$24-D$24)/AdjFAf),IF(AND(C$24<=AdjFAfdip,D$24>AdjFAfdip),(((C$24-AdjFAfdip)/AdjFAf)+((D$24-AdjFAfdip)/AdjFAf)),IF(AND(C$24>AdjFAfdip,D$24<=AdjFAfdip),(((AdjFAfdip-C$24)/AdjFAf)+((AdjFAfdip-D$24)/AdjFAf)),(D$24-C$24)/AdjFAf))),Decimal))","v":" "}," "," "," "," "," "," "," "," "," "," "," "," "," "," "," "," "," "," "," "," "," "," "," "," "," "," "," "," "," "," "," ",{"$f":"IF(AJ$12=0,\" \",ROUND(IF(AND(AI$24<=AdjFAfdip,AJ$24<=AdjFAfdip),((AI$24-AJ$24)/AdjFAf),IF(AND(AI$24<=AdjFAfdip,AJ$24>AdjFAfdip),(((AI$24-AdjFAfdip)/AdjFAf)+((AJ$24-AdjFAfdip)/AdjFAf)),IF(AND(AI$24>AdjFAfdip,AJ$24<=AdjFAfdip),(((AdjFAfdip-AI$24)/AdjFAf)+((AdjFAfdip-AJ$24)/AdjFAf)),(AJ$24-AI$24)/AdjFAf))),Decimal))","v":" "}," "," "," "," "," "," "," "," "," "," "," "," "," "," "," "," "," "," "," "," "," "," "," "," "," "," "," "," "," "," "," ",{"$f":"IF(BP$12=0,\" \",ROUND(IF(AND(BO$24<=AdjFAfdip,BP$24<=AdjFAfdip),((BO$24-BP$24)/AdjFAf),IF(AND(BO$24<=AdjFAfdip,BP$24>AdjFAfdip),(((BO$24-AdjFAfdip)/AdjFAf)+((BP$24-AdjFAfdip)/AdjFAf)),IF(AND(BO$24>AdjFAfdip,BP$24<=AdjFAfdip),(((AdjFAfdip-BO$24)/AdjFAf)+((AdjFAfdip-BP$24)/AdjFAf)),(BP$24-BO$24)/AdjFAf))),Decimal))","v":" "}," "," "," "," "," "," "," "," "," "," "," "," "," "," "," "," "," "," "," "," "," "," "," "," "," "," "," "," "," "," "," "," "," "," "," "]
["Total",null,null,{"$f":"IF(D$12=0,\" \",ROUND(SUM(D84:D87),Decimal))","v":" "}," "," "," "," "," "," "," "," "," "," "," "," "," "," "," "," "," "," "," "," "," "," "," "," "," "," "," "," "," "," "," ",{"$f":"IF(AJ$12=0,\" \",ROUND(SUM(AJ84:AJ87),Decimal))","v":" "}," "," "," "," "," "," "," "," "," "," "," "," "," "," "," "," "," "," "," "," "," "," "," "," "," "," "," "," "," "," "," ",{"$f":"IF(BP$12=0,\" \",ROUND(SUM(BP84:BP87),Decimal))","v":" "}," "," "," "," "," "," "," "," "," "," "," "," "," "," "," "," "," "," "," "," "," "," "," "," "," "," "," "," "," "," "," ",{"$f":"IF(CV$12=0,\" \",ROUND(SUM(CV84:CV87),Decimal))","v":" "}," "," "," "]
["Est VMA",null,null,{"$f":"IF(D$12=0,\" \",ROUND(D88+C$20,Decimal))","v":" "}," "," "," "," "," "," "," "," "," "," "," "," "," "," "," "," "," "," "," "," "," "," "," "," "," "," "," "," "," "," "," ",{"$f":"IF(AJ$12=0,\" \",ROUND(AJ88+AI$20,Decimal))","v":" "}," "," "," "," "," "," "," "," "," "," "," "," "," "," "," "," "," "," "," "," "," "," "," "," "," "," "," "," "," "," "," ",{"$f":"IF(BP$12=0,\" \",ROUND(BP88+BO$20,Decimal))","v":" "}," "," "," "," "," "," "," "," "," "," "," "," "," "," "," "," "," "," "," "," "," "," "," "," "," "," "," "," "," "," "," ",{"$f":"IF(CV$12=0,\" \",ROUND(CV88+CU$20,Decimal))","v":" "}," "," "," "]
["Act VMA",null,null,{"$f":"IF(D89=\" \",\" \",IF(D$20=\" \",0,ROUND(D$20,Decimal)))","v":" "}," "," "," "," "," "," "," "," "," "," "," "," "," "," "," "," "," "," "," "," "," "," "," "," "," "," "," "," "," "," "," ",{"$f":"IF(AJ89=\" \",\" \",IF(AJ$20=\" \",0,ROUND(AJ$20,Decimal)))","v":" "}," "," "," "," "," "," "," "," "," "," "," "," "," "," "," "," "," "," "," "," "," "," "," "," "," "," "," "," "," "," "," ",{"$f":"IF(BP89=\" \",\" \",IF(BP$20=\" \",0,ROUND(BP$20,Decimal)))","v":" "}," "," "," "," "," "," "," "," "," "," "," "," "," "," "," "," "," "," "," "," "," "," "," "," "," "," "," "," "," "," "," ",{"$f":"IF(CV89=\" \",\" \",IF(CV$20=\" \",0,ROUND(CV$20,Decimal)))","v":" "}," "," "," "]
["Diff in VMA",null,null,{"$f":"IF(D$12=0,\" \",ROUND(D89-D90,Decimal))","v":" "}," "," "," "," "," "," "," "," "," "," "," "," "," "," "," "," "," "," "," "," "," "," "," "," "," "," "," "," "," "," "," ",{"$f":"IF(AJ$12=0,\" \",ROUND(AJ89-AJ90,Decimal))","v":" "}," "," "," "," "," "," "," "," "," "," "," "," "," "," "," "," "," "," "," "," "," "," "," "," "," "," "," "," "," "," "," ",{"$f":"IF(BP$12=0,\" \",ROUND(BP89-BP90,Decimal))","v":" "}," "," "," "," "," "," "," "," "," "," "," "," "," "," "," "," "," "," "," "," "," "," "," "," "," "," "," "," "," "," "," ",{"$f":"IF(CV$12=0,\" \",ROUND(CV89-CV90,Decimal))","v":" "}," "," "," "]
["Est Voids",null,null,{"$f":"IF(D$12=0,\" \",ROUND(((C$18-C$19)-(D$18-D$19))*AdjACvolume+D88+C$21,Decimal))","v":" "}," "," "," "," "," "," "," "," "," "," "," "," "," "," "," "," "," "," "," "," "," "," "," "," "," "," "," "," "," "," "," ",{"$f":"IF(AJ$12=0,\" \",ROUND(((AI$18-AI$19)-(AJ$18-AJ$19))*AdjACvolume+AJ88+AI$21,Decimal))","v":" "}," "," "," "," "," "," "," "," "," "," "," "," "," "," "," "," "," "," "," "," "," "," "," "," "," "," "," "," "," "," "," ",{"$f":"IF(BP$12=0,\" \",ROUND(((BO$18-BO$19)-(BP$18-BP$19))*AdjACvolume+BP88+BO$21,Decimal))","v":" "}," "," "," "," "," "," "," "," "," "," "," "," "," "," "," "," "," "," "," "," "," "," "," "," "," "," "," "," "," "," "," "," "," "," "," "]
["Act Voids",null,null,{"$f":"IF(D92=\" \",\" \",IF(D$21=\" \",0,ROUND(D$21,Decimal)))","v":" "}," "," "," "," "," "," "," "," "," "," "," "," "," "," "," "," "," "," "," "," "," "," "," "," "," "," "," "," "," "," "," ",{"$f":"IF(AJ92=\" \",\" \",IF(AJ$21=\" \",0,ROUND(AJ$21,Decimal)))","v":" "}," "," "," "," "," "," "," "," "," "," "," "," "," "," "," "," "," "," "," "," "," "," "," "," "," "," "," "," "," "," "," ",{"$f":"IF(BP92=\" \",\" \",IF(BP$21=\" \",0,ROUND(BP$21,Decimal)))","v":" "}," "," "," "," "," "," "," "," "," "," "," "," "," "," "," "," "," "," "," "," "," "," "," "," "," "," "," "," "," "," "," ",{"$f":"IF(CV92=\" \",\" \",IF(CV$21=\" \",0,ROUND(CV$21,Decimal)))","v":" "}," "," "," "]
["Diff in Voids",null,null,{"$f":"IF(D$12=0,\" \",ROUND(D92-D93,Decimal))","v":" "}," "," "," "," "," "," "," "," "," "," "," "," "," "," "," "," "," "," "," "," "," "," "," "," "," "," "," "," "," "," "," ",{"$f":"IF(AJ$12=0,\" \",ROUND(AJ92-AJ93,Decimal))","v":" "}," "," "," "," "," "," "," "," "," "," "," "," "," "," "," "," "," "," "," "," "," "," "," "," "," "," "," "," "," "," "," ",{"$f":"IF(BP$12=0,\" \",ROUND(BP92-BP93,Decimal))","v":" "}," "," "," "," "," "," "," "," "," "," "," "," "," "," "," "," "," "," "," "," "," "," "," "," "," "," "," "," "," "," "," ",{"$f":"IF(CV$12=0,\" \",ROUND(CV92-CV93,Decimal))","v":" "}," "," "," "]
["Adjusted"]
["PCS",null,null,null,"VMA - Sample to Previous",null,null,null,"Factor Limits",null,"VMA - Sample to Previous"]
[4,null,null,null,"Standard Dev",{"$f":"StdDevOrigVMA","v":" "},{"$f":"IF(Comparisons=0,\" \",IF(Comparisons<TotalMinStdDev,BvsWResult,StdDevResult))","v":" "},null,"For Optimization Macro",null,"Comparisons Within Plus or Minus 0.5% VMA",null,{"$f":"IF(Comparisons=0,\" \",(SUM(OrigDiffVMA0.5)/Comparisons))","v":" "}]
["CA",null,null,null,null,{"$f":"StdDevAdjVMA","v":" "},null,"Factor","Min","Max"]
[0.2,null,null,null,"Average Diff",{"$f":"AvgOrigVMA","v":" "},null,"PCS",3,5,null,null,{"$f":"IF(Comparisons=0,\" \",(SUM(AdjDiffVMA0.5)/Comparisons))","v":" "}]
["FAc",null,null,null,null,{"$f":"AvgAdjVMA","v":" "},null,"CA",0.1,0.3]
[0.05,null,null,null,null,"Prev Std Dev",null,"FAc",2.5000000000000001E-2,7.4999999999999997E-2]
["FAc Dip",null,null,null,{"$f":"IF(ABS(BetterVMAPrev)-ABS(WorseVMAPrev)>=0,\" \",\"X\")","v":" "}," ",{"$f":"IF(Comparisons=0,\" \",IF(Comparisons<TotalMinStdDev,\"B vs. W\",\"Std Dev\"))","v":" "},"FAc Dip",0.45,0.65,"Comparisons Evaluated",null,{"$f":"Comparisons","v":0}]
[0.55000000000000004,null,null,null,{"$f":"IF(Comparisons=0,\" \",IF(StdDevOrigVMA-StdDevAdjVMA>=0,\" \",\"X\"))","v":" "},"Prev Avg Diff",null,"FAf",2.5000000000000001E-2,7.4999999999999997E-2,"Comparisons Toggled Out",null,{"$f":"Total-Comparisons","v":0}]
["FAf",null,null,null,null," ",null,"FAf Dip",0.45,0.65]
[0.05,null,null,null,"Voids - Sample to Previous",null,null,"AC Volume",1.5,3,"Voids - Sample to Previous"]
["FAf Dip",null,null,null,"Standard Dev",{"$f":"StdDevOrigVoids","v":" "},{"$f":"IF(Comparisons=0,\" \",IF(StdDevOrigVoids-StdDevAdjVoids>=0,\" \",\"X\"))","v":" "},"Actual Sample Values For FA Ratios",null,null,"Comparisons Within Plus or Minus 0.5% Voids",null,{"$f":"IF(Comparisons=0,\" \",(SUM(OrigDiffVoids0.5)/Comparisons))","v":" "}]
[0.55000000000000004,null,null,null,null,{"$f":"StdDevAdjVoids","v":" "},null,null,"Min","Max"]
["AC Volume Correction",null,null,null,"Average Diff",{"$f":"AvgOrigVoids","v":" "},null,"FAc",{"$f":"IF(SUM(FAcValues)=0,\" \",MIN(FAcValues))","v":" "},{"$f":"IF(SUM(FAcValues)=0,\" \",MAX(FAcValues))","v":" "},null,null,{"$f":"IF(Comparisons=0,\" \",(SUM(AdjDiffVoids0.5)/Comparisons))","v":" "}]
[null,null,null,null,null,{"$f":"AvgAdjVoids","v":" "},null,"FAf",{"$f":"IF(SUM(FAfValues)=0,\" \",MIN(FAfValues))","v":" "},{"$f":"IF(SUM(FAfValues)=0,\" \",MAX(FAfValues))","v":" "}]
[2.25]
[null,null,null,null,null,null,null,"19.0mm NMAS Coarse-Graded Mix"]
[]
[]
[]
[]
[]
[]
[]
[null,null,null,null,{"$f":"E2","v":2},3,4,5,6,7,8,9,10,11,12,13,14,15,16,17,18,19,20,21,22,23,24,25,26,27,28,29,30,31,32,33,{"$f":"AK2","v":34},35,36,37,38,39,40,41,42,43,44,45,46,47,48,49,50,51,52,53,54,55,56,57,58,59,60,61,62,63,64,65,{"$f":"BQ2","v":66},67,68,69,70,71,72,73,74,75,76,77,78,79,80,81,82,83,84,85,86,87,88,89,90,91,92,93,94,95,96,97,98,99,100]
[null,null,"PCS","Orig PCS","PCS","PCS","PCS","PCS","PCS","PCS","PCS","PCS","PCS","PCS","PCS","PCS","PCS","PCS","PCS","PCS","PCS","PCS","PCS","PCS","PCS","PCS","PCS","PCS","PCS","PCS","PCS","PCS","PCS","PCS","PCS","PCS","PCS","PCS","PCS","PCS","PCS","PCS","PCS","PCS","PCS","PCS","PCS","PCS","PCS","PCS","PCS","PCS","PCS","PCS","PCS","PCS","PCS","PCS","PCS","PCS","PCS","PCS","PCS","PCS","PCS","PCS","PCS","PCS","PCS","PCS","PCS","PCS","PCS","PCS","PCS","PCS","PCS","PCS","PCS","PCS","PCS","PCS","PCS","PCS","PCS","PCS","PCS","PCS","PCS","PCS","PCS","PCS","PCS","PCS","PCS","PCS","PCS","PCS","PCS","PCS","PCS","PCS","PCS"]
[]
[null,null,"CA","New CA","CA","CA","CA","CA","CA","CA","CA","CA","CA","CA","CA","CA","CA","CA","CA","CA","CA","CA","CA","CA","CA","CA","CA","CA","CA","CA","CA","CA","CA","CA","CA","CA","CA","CA","CA","CA","CA","CA","CA","CA","CA","CA","CA","CA","CA","CA","CA","CA","CA","CA","CA","CA","CA","CA","CA","CA","CA","CA","CA","CA","CA","CA","CA","CA","CA","CA","CA","CA","CA","CA","CA","CA","CA","CA","CA","CA","CA","CA","CA","CA","CA","CA","CA","CA","CA","CA","CA","CA","CA","CA","CA","CA","CA","CA","CA","CA","CA","CA","CA"]
[]
[null,null,"FAc","New FAc","FAc","FAc","FAc","FAc","FAc","FAc","FAc","FAc","FAc","FAc","FAc","FAc","FAc","FAc","FAc","FAc","FAc","FAc","FAc","FAc","FAc","FAc","FAc","FAc","FAc","FAc","FAc","FAc","FAc","FAc","FAc","FAc","FAc","FAc","FAc","FAc","FAc","FAc","FAc","FAc","FAc","FAc","FAc","FAc","FAc","FAc","FAc","FAc","FAc","FAc","FAc","FAc","FAc","FAc","FAc","FAc","FAc","FAc","FAc","FAc","FAc","FAc","FAc","FAc","FAc","FAc","FAc","FAc","FAc","FAc","FAc","FAc","FAc","FAc","FAc","FAc","FAc","FAc","FAc","FAc","FAc","FAc","FAc","FAc","FAc","FAc","FAc","FAc","FAc","FAc","FAc","FAc","FAc","FAc","FAc","FAc","FAc","FAc","FAc"]
[]
[null,null,"FAc Dip","New FAc Dip","FAc Dip","FAc Dip","FAc Dip","FAc Dip","FAc Dip","FAc Dip","FAc Dip","FAc Dip","FAc Dip","FAc Dip","FAc Dip","FAc Dip","FAc Dip","FAc Dip","FAc Dip","FAc Dip","FAc Dip","FAc Dip","FAc Dip","FAc Dip","FAc Dip","FAc Dip","FAc Dip","FAc Dip","FAc Dip","FAc Dip","FAc Dip","FAc Dip","FAc Dip","FAc Dip","FAc Dip","FAc Dip","FAc Dip","FAc Dip","FAc Dip","FAc Dip","FAc Dip","FAc Dip","FAc Dip","FAc Dip","FAc Dip","FAc Dip","FAc Dip","FAc Dip","FAc Dip","FAc Dip","FAc Dip","FAc Dip","FAc Dip","FAc Dip","FAc Dip","FAc Dip","FAc Dip","FAc Dip","FAc Dip","FAc Dip","FAc Dip","FAc Dip","FAc Dip","FAc Dip","FAc Dip","FAc Dip","FAc Dip","FAc Dip","FAc Dip","FAc Dip","FAc Dip","FAc Dip","FAc Dip","FAc Dip","FAc Dip","FAc Dip","FAc Dip","FAc Dip","FAc Dip","FAc Dip","FAc Dip","FAc Dip","FAc Dip","FAc Dip","FAc Dip","FAc Dip","FAc Dip","FAc Dip","FAc Dip","FAc Dip","FAc Dip","FAc Dip","FAc Dip","FAc Dip","FAc Dip","FAc Dip","FAc Dip","FAc Dip","FAc Dip","FAc Dip","FAc Dip","FAc Dip","FAc Dip"]
[]
[null,null,"FAf","New FAf","FAf","FAf","FAf","FAf","FAf","FAf","FAf","FAf","FAf","FAf","FAf","FAf","FAf","FAf","FAf","FAf","FAf","FAf","FAf","FAf","FAf","FAf","FAf","FAf","FAf","FAf","FAf","FAf","FAf","FAf","FAf","FAf","FAf","FAf","FAf","FAf","FAf","FAf","FAf","FAf","FAf","FAf","FAf","FAf","FAf","FAf","FAf","FAf","FAf","FAf","FAf","FAf","FAf","FAf","FAf","FAf","FAf","FAf","FAf","FAf","FAf","FAf","FAf","FAf","FAf","FAf","FAf","FAf","FAf","FAf","FAf","FAf","FAf","FAf","FAf","FAf","FAf","FAf","FAf","FAf","FAf","FAf","FAf","FAf","FAf","FAf","FAf","FAf","FAf","FAf","FAf","FAf","FAf","FAf","FAf","FAf","FAf","FAf","FAf"]
[]
[null,null,"FAf Dip","New FAf Dip","FAf Dip","FAf Dip","FAf Dip","FAf Dip","FAf Dip","FAf Dip","FAf Dip","FAf Dip","FAf Dip","FAf Dip","FAf Dip","FAf Dip","FAf Dip","FAf Dip","FAf Dip","FAf Dip","FAf Dip","FAf Dip","FAf Dip","FAf Dip","FAf Dip","FAf Dip","FAf Dip","FAf Dip","FAf Dip","FAf Dip","FAf Dip","FAf Dip","FAf Dip","FAf Dip","FAf Dip","FAf Dip","FAf Dip","FAf Dip","FAf Dip","FAf Dip","FAf Dip","FAf Dip","FAf Dip","FAf Dip","FAf Dip","FAf Dip","FAf Dip","FAf Dip","FAf Dip","FAf Dip","FAf Dip","FAf Dip","FAf Dip","FAf Dip","FAf Dip","FAf Dip","FAf Dip","FAf Dip","FAf Dip","FAf Dip","FAf Dip","FAf Dip","FAf Dip","FAf Dip","FAf Dip","FAf Dip","FAf Dip","FAf Dip","FAf Dip","FAf Dip","FAf Dip","FAf Dip","FAf Dip","FAf Dip","FAf Dip","FAf Dip","FAf Dip","FAf Dip","FAf Dip","FAf Dip","FAf Dip","FAf Dip","FAf Dip","FAf Dip","FAf Dip","FAf Dip","FAf Dip","FAf Dip","FAf Dip","FAf Dip","FAf Dip","FAf Dip","FAf Dip","FAf Dip","FAf Dip","FAf Dip","FAf Dip","FAf Dip","FAf Dip","FAf Dip","FAf Dip","FAf Dip","FAf Dip"]
[]
[null,null,null,null,"Std Dev","Std Dev","Std Dev","Std Dev","Std Dev","Std Dev","Std Dev","Std Dev","Std Dev","Std Dev","Std Dev","Std Dev","Std Dev","Std Dev","Std Dev","Std Dev","Std Dev","Std Dev","Std Dev","Std Dev","Std Dev","Std Dev","Std Dev","Std Dev","Std Dev","Std Dev","Std Dev","Std Dev","Std Dev","Std Dev","Std Dev","Std Dev","Std Dev","Std Dev","Std Dev","Std Dev","Std Dev","Std Dev","Std Dev","Std Dev","Std Dev","Std Dev","Std Dev","Std Dev","Std Dev","Std Dev","Std Dev","Std Dev","Std Dev","Std Dev","Std Dev","Std Dev","Std Dev","Std Dev","Std Dev","Std Dev","Std Dev","Std Dev","Std Dev","Std Dev","Std Dev","Std Dev","Std Dev","Std Dev","Std Dev","Std Dev","Std Dev","Std Dev","Std Dev","Std Dev","Std Dev","Std Dev","Std Dev","Std Dev","Std Dev","Std Dev","Std Dev","Std Dev","Std Dev","Std Dev","Std Dev","Std Dev","Std Dev","Std Dev","Std Dev","Std Dev","Std Dev","Std Dev","Std Dev","Std Dev","Std Dev","Std Dev","Std Dev","Std Dev","Std Dev","Std Dev","Std Dev","Std Dev","Std Dev"]
[]
[null,null,null,null,"Avg Diff","Avg Diff","Avg Diff","Avg Diff","Avg Diff","Avg Diff","Avg Diff","Avg Diff","Avg Diff","Avg Diff","Avg Diff","Avg Diff","Avg Diff","Avg Diff","Avg Diff","Avg Diff","Avg Diff","Avg Diff","Avg Diff","Avg Diff","Avg Diff","Avg Diff","Avg Diff","Avg Diff","Avg Diff","Avg Diff","Avg Diff","Avg Diff","Avg Diff","Avg Diff","Avg Diff","Avg Diff","Avg Diff","Avg Diff","Avg Diff","Avg Diff","Avg Diff","Avg Diff","Avg Diff","Avg Diff","Avg Diff","Avg Diff","Avg Diff","Avg Diff","Avg Diff","Avg Diff","Avg Diff","Avg Diff","Avg Diff","Avg Diff","Avg Diff","Avg Diff","Avg Diff","Avg Diff","Avg Diff","Avg Diff","Avg Diff","Avg Diff","Avg Diff","Avg Diff","Avg Diff","Avg Diff","Avg Diff","Avg Diff","Avg Diff","Avg Diff","Avg Diff","Avg Diff","Avg Diff","Avg Diff","Avg Diff","Avg Diff","Avg Diff","Avg Diff","Avg Diff","Avg Diff","Avg Diff","Avg Diff","Avg Diff","Avg Diff","Avg Diff","Avg Diff","Avg Diff","Avg Diff","Avg Diff","Avg Diff","Avg Diff","Avg Diff","Avg Diff","Avg Diff","Avg Diff","Avg Diff","Avg Diff","Avg Diff","Avg Diff","Avg Diff","Avg Diff","Avg Diff","Avg Diff"]
[]
[null,null,null,null,"Evaluated","Evaluated","Evaluated","Evaluated","Evaluated","Evaluated","Evaluated","Evaluated","Evaluated","Evaluated","Evaluated","Evaluated","Evaluated","Evaluated","Evaluated","Evaluated","Evaluated","Evaluated","Evaluated","Evaluated","Evaluated","Evaluated","Evaluated","Evaluated","Evaluated","Evaluated","Evaluated","Evaluated","Evaluated","Evaluated","Evaluated","Evaluated","Evaluated","Evaluated","Evaluated","Evaluated","Evaluated","Evaluated","Evaluated","Evaluated","Evaluated","Evaluated","Evaluated","Evaluated","Evaluated","Evaluated","Evaluated","Evaluated","Evaluated","Evaluated","Evaluated","Evaluated","Evaluated","Evaluated","Evaluated","Evaluated","Evaluated","Evaluated","Evaluated","Evaluated","Evaluated","Evaluated","Evaluated","Evaluated","Evaluated","Evaluated","Evaluated","Evaluated","Evaluated","Evaluated","Evaluated","Evaluated","Evaluated","Evaluated","Evaluated","Evaluated","Evaluated","Evaluated","Evaluated","Evaluated","Evaluated","Evaluated","Evaluated","Evaluated","Evaluated","Evaluated","Evaluated","Evaluated","Evaluated","Evaluated","Evaluated","Evaluated","Evaluated","Evaluated","Evaluated","Evaluated","Evaluated","Evaluated","Evaluated"]
[]
[null,null,null,null,"Toggled","Toggled","Toggled","Toggled","Toggled","Toggled","Toggled","Toggled","Toggled","Toggled","Toggled","Toggled","Toggled","Toggled","Toggled","Toggled","Toggled","Toggled","Toggled","Toggled","Toggled","Toggled","Toggled","Toggled","Toggled","Toggled","Toggled","Toggled","Toggled","Toggled","Toggled","Toggled","Toggled","Toggled","Toggled","Toggled","Toggled","Toggled","Toggled","Toggled","Toggled","Toggled","Toggled","Toggled","Toggled","Toggled","Toggled","Toggled","Toggled","Toggled","Toggled","Toggled","Toggled","Toggled","Toggled","Toggled","Toggled","Toggled","Toggled","Toggled","Toggled","Toggled","Toggled","Toggled","Toggled","Toggled","Toggled","Toggled","Toggled","Toggled","Toggled","Toggled","Toggled","Toggled","Toggled","Toggled","Toggled","Toggled","Toggled","Toggled","Toggled","Toggled","Toggled","Toggled","Toggled","Toggled","Toggled","Toggled","Toggled","Toggled","Toggled","Toggled","Toggled","Toggled","Toggled","Toggled","Toggled","Toggled","Toggled"]
[]
[null,null,null,null,"Opt Method","Opt Method","Opt Method","Opt Method","Opt Method","Opt Method","Opt Method","Opt Method","Opt Method","Opt Method","Opt Method","Opt Method","Opt Method","Opt Method","Opt Method","Opt Method","Opt Method","Opt Method","Opt Method","Opt Method","Opt Method","Opt Method","Opt Method","Opt Method","Opt Method","Opt Method","Opt Method","Opt Method","Opt Method","Opt Method","Opt Method","Opt Method","Opt Method","Opt Method","Opt Method","Opt Method","Opt Method","Opt Method","Opt Method","Opt Method","Opt Method","Opt Method","Opt Method","Opt Method","Opt Method","Opt Method","Opt Method","Opt Method","Opt Method","Opt Method","Opt Method","Opt Method","Opt Method","Opt Method","Opt Method","Opt Method","Opt Method","Opt Method","Opt Method","Opt Method","Opt Method","Opt Method","Opt Method","Opt Method","Opt Method","Opt Method","Opt Method","Opt Method","Opt Method","Opt Method","Opt Method","Opt Method","Opt Method","Opt Method","Opt Method","Opt Method","Opt Method","Opt Method","Opt Method","Opt Method","Opt Method","Opt Method","Opt Method","Opt Method","Opt Method","Opt Method","Opt Method","Opt Method","Opt Method","Opt Method","Opt Method","Opt Method","Opt Method","Opt Method","Opt Method","Opt Method","Opt Method","Opt Method","Opt Method"]
[]
[]
[]
[]
[]
[]
[]
[]
[]
[]
[]
[]
[]
[]
[]
[]
[]
[]
[]
[]
[]
[]
[]
[]
[]
[null,null,"Rules-of-Thumb Values",null,null,"Max Change Allowed",null,null,"Macros - Incremental Change"]
[null,null,"Factor","Rule-of-Thumb",null,"Factor","Max Change",null,"Factor","Increment",null,null,null,null,null,null,null,null,null,null,null,null,null,null,null,"Values Referenced For Various \"PCS and AC\" Graphs Y-Axes Scale Adjustments"]
[null,null,"PCS",4,null,"PCS",0.5,null,"PCS",0.05,null,null,null,null,null,null,null,null,null,null,null,null,null,null,null,null,"Min","Max","Adj Min","Adj Max","Grad Spread"]
[null,null,"CA",0.2,null,"CA",0.05,null,"CA",5.0000000000000001E-3,null,null,null,null,null,null,null,null,null,null,null,null,null,null,null,"9.5 mm",{"$f":"MIN(Values95)","v":0},{"$f":"MAX(Values95)","v":0},{"$f":"IF(Values95Min=0,\" \",((ROUND(Values95Min,0)-1)))","v":" "},{"$f":"IF(Values95Max=0,\" \",((ROUND(Values95Max,0)+1)))","v":" "},{"$f":"IF(SUM(Values95)=0,\" \",IF(((Values95MaxAdj-Values95MinAdj)/10)>=(ValuesACMaxAdj-ValuesACMinAdj),(Values95MaxAdj-Values95MinAdj),((ValuesACMaxAdj-ValuesACMinAdj)*10)))","v":" "},"9.5 mm"]
[null,null,"FAc",0.05,null,"FAc",2.5000000000000001E-2,null,"FAc",5.0000000000000001E-3,null,null,null,null,null,null,null,null,null,null,null,null,null,null,null,"4.75 mm",{"$f":"MIN(Values475)","v":0},{"$f":"MAX(Values475)","v":0},{"$f":"IF(Values475Min=0,\" \",((ROUND(Values475Min,0)-1)))","v":" "},{"$f":"IF(Values475Max=0,\" \",((ROUND(Values475Max,0)+1)))","v":" "},{"$f":"IF(SUM(Values475)=0,\" \",IF(((Values475MaxAdj-Values475MinAdj)/10)>=(ValuesACMaxAdj-ValuesACMinAdj),(Values475MaxAdj-Values475MinAdj),((ValuesACMaxAdj-ValuesACMinAdj)*10)))","v":" "},"4.75 mm"]
[null,null,"FAc Dip",0.55000000000000004,null,"FAc Dip",null,null,"FAc Dip",1E-3,null,null,null,null,null,null,null,null,null,null,null,null,null,null,null,"2.36 mm",{"$f":"MIN(Values236)","v":0},{"$f":"MAX(Values236)","v":0},{"$f":"IF(Values236Min=0,\" \",((ROUND(Values236Min,0)-1)))","v":" "},{"$f":"IF(Values236Max=0,\" \",((ROUND(Values236Max,0)+1)))","v":" "},{"$f":"IF(SUM(Values236)=0,\" \",IF(((Values236MaxAdj-Values236MinAdj)/10)>=(ValuesACMaxAdj-ValuesACMinAdj),(Values236MaxAdj-Values236MinAdj),((ValuesACMaxAdj-ValuesACMinAdj)*10)))","v":" "},"2.36 mm"]
[null,null,"FAf",0.05,null,"FAf",2.5000000000000001E-2,null,"FAf",5.0000000000000001E-3,null,null,null,null,null,null,null,null,null,null,null,null,null,null,null,"1.18 mm",{"$f":"MIN(Values118)","v":0},{"$f":"MAX(Values118)","v":0},{"$f":"IF(Values118Min=0,\" \",((ROUND(Values118Min,0)-1)))","v":" "},{"$f":"IF(Values118Max=0,\" \",((ROUND(Values118Max,0)+1)))","v":" "},{"$f":"IF(SUM(Values118)=0,\" \",IF(((Values118MaxAdj-Values118MinAdj)/10)>=(ValuesACMaxAdj-ValuesACMinAdj),(Values118MaxAdj-Values118MinAdj),((ValuesACMaxAdj-ValuesACMinAdj)*10)))","v":" "},"1.18 mm"]
[null,null,"FAf Dip",0.55000000000000004,null,"FAf Dip",null,null,"FAf Dip",1E-3,null,null,null,null,null,null,null,null,null,null,null,null,null,null,null,"% AC",{"$f":"MIN(ValuesAC)","v":0},{"$f":"MAX(ValuesAC)","v":0},{"$f":"IF(ValuesACMin=0,\" \",((ROUND(ValuesACMin,1)-0.1)))","v":" "},{"$f":"IF(ValuesACMax=0,\" \",((ROUND(ValuesACMax,1)+0.1)))","v":" "}]
[null,null,"AC Volume",2.25,null,"AC Volume",null,null,"Max Loop",20]
[null,null,null,null,null,null,null,null,null,null,null,null,null,null,null,null,null,null,null,null,null,null,null,null,null,"Max Gradation Spread = ",null,{"$f":"MAX(AE169:AE172)","v":0},null,"Adjusted AC Spread",null,{"$f":"ValuesACMaxAdj-ValuesACMinAdj","v":{"$error":"#VALUE!"}}]
[]
[null,null,null,null,null,null,null,null,null,null,null,null,null,null,null,null,null,null,null,null,null,null,null,null,null,"Revised Gradation Spread = ",null,{"$f":"IF((AB175/10)>AF175, AB175,(AF175*10))","v":{"$error":"#VALUE!"}},null,"Revised AC Spread",null,{"$f":"IF((AF175*10)>AB175,AF175,AB175/10)","v":{"$error":"#VALUE!"}}]
[]
[]
[null,null,"List Decimal",3,null,"Suggested Ranges for Ratios",null,null,null,"Used in Macros",null,null,null,null,null,null,null,null,null,null,null,null,null,null,null,"Values Referenced For \"VMA and Voids\" Graph Y-Axes Scale Adjustments"]
[null,null,1,null,null,"Principle","Min","Max",null,null,null,null,null,null,null,null,null,null,null,null,null,null,null,null,null,null,"Min","Max","Adj Min","Adj Max","VMA Spread","Voids Spread"]
[null,null,2,null,null,"CA",0.6,0.75,null,1.9499999999999997,null,null,null,null,null,null,null,null,null,null,null,null,null,null,null,"VMA",{"$f":"MIN(ValuesVMA)","v":0},{"$f":"MAX(ValuesVMA)","v":0},{"$f":"IF(ValuesVMAMin=0,\" \",((ROUND(ValuesVMAMin,0)-1)))","v":" "},{"$f":"IF(ValuesVMAMax=0,\" \",((ROUND(ValuesVMAMax,0)+1)))","v":" "},{"$f":"IF(SUM(ValuesVMA)=0,\" \",ValuesVMAMaxAdj-ValuesVMAMinAdj)","v":" "},null,"VMA"]
[null,null,3,null,null,"FAc",0.35,0.5,null,0.17499999999999999,null,null,null,null,null,null,null,null,null,null,null,null,null,null,null,"Voids",{"$f":"MIN(ValuesVoids)","v":0},{"$f":"MAX(ValuesVoids)","v":0},{"$f":"IF(ValuesVoidsMin=0,\" \",((ROUND(ValuesVoidsMin,0)-1)))","v":" "},{"$f":"IF(ValuesVoidsMax=0,\" \",((ROUND(ValuesVoidsMax,0)+1)))","v":" "},null,{"$f":"IF(SUM(ValuesVoids)=0,\" \",ValuesVoidsMaxAdj-ValuesVoidsMinAdj)","v":" "},"Voids"]
[null,null,null,null,null,"FAf",0.35,0.5,null,0.125]
[null,null,null,null,null,null,null,null,null,0.76200000000000001]
[null,null,null,null,null,null,null,null,null,7.4999999999999997E-2]
[null,null,null,null,null,null,null,null,null,0.8]
[]
[]
[]
[]
[]
[]
[null,null,7.4999999999999997E-2,"Include?","Y","Y","Y","Y","Y","Y","Y","Y","Y","Y","Y","Y","Y","Y","Y","Y","Y","Y","Y","Y","Y","Y","Y","Y","Y","Y","Y","Y","Y","Y","Y","Y","Y","Y","Y","Y","Y","Y","Y","Y","Y","Y","Y","Y","Y","Y","Y","Y","Y","Y","Y","Y","Y","Y","Y","Y","Y","Y","Y","Y","Y","Y","Y","Y","Y","Y","Y","Y","Y","Y","Y","Y","Y","Y","Y","Y","Y","Y","Y","Y","Y","Y","Y","Y","Y","Y","Y","Y","Y","Y","Y","Y","Y","Y","Y","Y","Y","Y","Y"]
[null,null,{"$f":"AND(BetterVMAPrev=0,WorseVMAPrev=0,BetterVoidsPrev=0,WorseVoidsPrev=0)","v":true},"Sample",{"$f":"E2","v":2},3,4,5,6,7,8,9,10,11,12,13,14,15,16,17,18,19,20,21,22,23,24,25,26,27,28,29,30,31,32,33,{"$f":"AK2","v":34},35,36,37,38,39,40,41,42,43,44,45,46,47,48,49,50,51,52,53,54,55,56,57,58,59,60,61,62,63,64,65,{"$f":"BQ2","v":66},67,68,69,70,71,72,73,74,75,76,77,78,79,80,81,82,83,84,85,86,87,88,89,90,91,92,93,94,95,96,97,98,99,100]
["VMA",null,"Absolute Values","Original",{"$f":"IF(E$20=0,\" \",IF(E$194=\"Y\",ROUND(ABS(E46),Decimal),\" \"))","v":" "}," "," "," "," "," "," "," "," "," "," "," "," "," "," "," "," "," "," "," "," "," "," "," "," "," "," "," "," "," "," "," ",{"$f":"IF(AK$20=0,\" \",IF(AK$194=\"Y\",ROUND(ABS(AK46),Decimal),\" \"))","v":" "}," "," "," "," "," "," "," "," "," "," "," "," "," "," "," "," "," "," "," "," "," "," "," "," "," "," "," "," "," "," "," ",{"$f":"IF(BQ$20=0,\" \",IF(BQ$194=\"Y\",ROUND(ABS(BQ46),Decimal),\" \"))","v":" "}," "," "," "," "," "," "," "," "," "," "," "," "," "," "," "," "," "," "," "," "," "," "," "," "," "," "," "," "," "," "," "," "," "," "]
[null,null,null,"Adjusted",{"$f":"IF(E$20=0,\" \",IF(E$194=\"Y\",ROUND(ABS(E91),Decimal),\" \"))","v":" "}," "," "," "," "," "," "," "," "," "," "," "," "," "," "," "," "," "," "," "," "," "," "," "," "," "," "," "," "," "," "," ",{"$f":"IF(AK$20=0,\" \",IF(AK$194=\"Y\",ROUND(ABS(AK91),Decimal),\" \"))","v":" "}," "," "," "," "," "," "," "," "," "," "," "," "," "," "," "," "," "," "," "," "," "," "," "," "," "," "," "," "," "," "," ",{"$f":"IF(BQ$20=0,\" \",IF(BQ$194=\"Y\",ROUND(ABS(BQ91),Decimal),\" \"))","v":" "}," "," "," "," "," "," "," "," "," "," "," "," "," "," "," "," "," "," "," "," "," "," "," "," "," "," "," "," "," "," "," "," "," "," "]
["Sample to Previous",null,null,"Difference",{"$f":"IF(E$20=0,\" \",IF(E$194=\"Y\",E196-E197,\" \"))","v":" "},{"$f":"IF(F$20=0,\" \",IF(F$194=\"Y\",F196-F197,\" \"))","v":" "}," "," "," "," "," "," "," "," "," "," "," "," "," "," "," "," "," "," "," "," "," "," "," "," "," "," "," "," "," "," "," "," "," "," "," "," "," "," "," "," "," "," "," "," "," "," "," "," "," "," "," "," "," "," "," "," "," "," "," "," "," "," "," ",{"$f":"IF(BR$20=0,\" \",IF(BR$194=\"Y\",BR196-BR197,\" \"))","v":" "}," "," "," "," "," "," "," "," "," "," "," "," "," "," "," "," "," "," "," "," "," "," "," "," "," "," "," "," "," "," "," "," "," "]
[null,null,"Better",{"$f":"SUM(E199:CY199)","v":0},{"$f":"IF(E$20=0,\" \",IF(E$194=\"Y\",IF(E198>0,1,0),\" \"))","v":" "},{"$f":"IF(F$20=0,\" \",IF(F$194=\"Y\",IF(F198>0,1,0),\" \"))","v":" "}," "," "," "," "," "," "," "," "," "," "," "," "," "," "," "," "," "," "," "," "," "," "," "," "," "," "," "," "," "," "," "," "," "," "," "," "," "," "," "," "," "," "," "," "," "," "," "," "," "," "," "," "," "," "," "," "," "," "," "," "," "," "," ",{"$f":"IF(BR$20=0,\" \",IF(BR$194=\"Y\",IF(BR198>0,1,0),\" \"))","v":" "}," "," "," "," "," "," "," "," "," "," "," "," "," "," "," "," "," "," "," "," "," "," "," "," "," "," "," "," "," "," "," "," "," "]
[null,null,"Worse",{"$f":"SUM(E200:CY200)","v":0},{"$f":"IF(E$20=0,\" \",IF(E$194=\"Y\",IF(E198<0,-1,0),\" \"))","v":" "},{"$f":"IF(F$20=0,\" \",IF(F$194=\"Y\",IF(F198<0,-1,0),\" \"))","v":" "}," "," "," "," "," "," "," "," "," "," "," "," "," "," "," "," "," "," "," "," "," "," "," "," "," "," "," "," "," "," "," "," "," "," "," "," "," "," "," "," "," "," "," "," "," "," "," "," "," "," "," "," "," "," "," "," "," "," "," "," "," "," "," ",{"$f":"IF(BR$20=0,\" \",IF(BR$194=\"Y\",IF(BR198<0,-1,0),\" \"))","v":" "}," "," "," "," "," "," "," "," "," "," "," "," "," "," "," "," "," "," "," "," "," "," "," "," "," "," "," "," "," "," "," "," "," "]
[null,null,"Same",{"$f":"SUM(E201:CY201)","v":0},{"$f":"IF(E$20=0,\" \",IF(E$194=\"Y\",IF(E198=0,1,0),\" \"))","v":" "},{"$f":"IF(F$20=0,\" \",IF(F$194=\"Y\",IF(F198=0,1,0),\" \"))","v":" "}," "," "," "," "," "," "," "," "," "," "," "," "," "," "," "," "," "," "," "," "," "," "," "," "," "," "," "," "," "," "," "," "," "," "," "," "," "," "," "," "," "," "," "," "," "," "," "," "," "," "," "," "," "," "," "," "," "," "," "," "," "," "," ",{"$f":"IF(BR$20=0,\" \",IF(BR$194=\"Y\",IF(BR198=0,1,0),\" \"))","v":" "}," "," "," "," "," "," "," "," "," "," "," "," "," "," "," "," "," "," "," "," "," "," "," "," "," "," "," "," "," "," "," "," "," "]
[null,null,"Comparisons",{"$f":"SUM(E202:CY202)","v":0},{"$f":"IF(E$20=0,0,IF(E$194=\"Y\",1,\" \"))","v":0},{"$f":"IF(F$20=0,0,IF(F$194=\"Y\",1,\" \"))","v":0},0,0,0,0,0,0,0,0,0,0,0,0,0,0,0,0,0,0,0,0,0,0,0,0,0,0,0,0,0,0,0,0,0,0,0,0,0,0,0,0,0,0,0,0,0,0,0,0,0,0,0,0,0,0,0,0,0,0,0,0,0,0,0,{"$f":"IF(BR$20=0,0,IF(BR$194=\"Y\",1,\" \"))","v":0},0,0,0,0,0,0,0,0,0,0,0,0,0,0,0,0,0,0,0,0,0,0,0,0,0,0,0,0,0,0,0,0,0]
[null,null,"Actual Values","Original",{"$f":"IF(E$20=0,\" \",IF(E$194=\"Y\",ROUND(E46,Decimal),\" \"))","v":" "}," "," "," "," "," "," "," "," "," "," "," "," "," "," "," "," "," "," "," "," "," "," "," "," "," "," "," "," "," "," "," ",{"$f":"IF(AK$20=0,\" \",IF(AK$194=\"Y\",ROUND(AK46,Decimal),\" \"))","v":" "}," "," "," "," "," "," "," "," "," "," "," "," "," "," "," "," "," "," "," "," "," "," "," "," "," "," "," "," "," "," "," ",{"$f":"IF(BQ$20=0,\" \",IF(BQ$194=\"Y\",ROUND(BQ46,Decimal),\" \"))","v":" "}," "," "," "," "," "," "," "," "," "," "," "," "," "," "," "," "," "," "," "," "," "," "," "," "," "," "," "," "," "," "," "," "," "," "]
[null,null,null,"Adjusted",{"$f":"IF(E$20=0,\" \",IF(E$194=\"Y\",ROUND(E91,Decimal),\" \"))","v":" "}," "," "," "," "," "," "," "," "," "," "," "," "," "," "," "," "," "," "," "," "," "," "," "," "," "," "," "," "," "," "," ",{"$f":"IF(AK$20=0,\" \",IF(AK$194=\"Y\",ROUND(AK91,Decimal),\" \"))","v":" "}," "," "," "," "," "," "," "," "," "," "," "," "," "," "," "," "," "," "," "," "," "," "," "," "," "," "," "," "," "," "," ",{"$f":"IF(BQ$20=0,\" \",IF(BQ$194=\"Y\",ROUND(BQ91,Decimal),\" \"))","v":" "}," "," "," "," "," "," "," "," "," "," "," "," "," "," "," "," "," "," "," "," "," "," "," "," "," "," "," "," "," "," "," "," "," "," "]
[null,null,"Original within +/-0.5%",null,{"$f":"IF(E$20=0,\" \",IF(E$194=\"Y\",IF(E$196<=0.5,1,0),\" \"))","v":" "},{"$f":"IF(F$20=0,\" \",IF(F$194=\"Y\",IF(F$196<=0.5,1,0),\" \"))","v":" "}," "," "," "," "," "," "," "," "," "," "," "," "," "," "," "," "," "," "," "," "," "," "," "," "," "," "," "," "," "," "," "," "," "," "," "," "," "," "," "," "," "," "," "," "," "," "," "," "," "," "," "," "," "," "," "," "," "," "," "," "," "," "," ",{"$f":"IF(BR$20=0,\" \",IF(BR$194=\"Y\",IF(BR$196<=0.5,1,0),\" \"))","v":" "}," "," "," "," "," "," "," "," "," "," "," "," "," "," "," "," "," "," "," "," "," "," "," "," "," "," "," "," "," "," "," "," "," "]
[null,null,"Adjusted within +/-0.5%",null,{"$f":"IF(E$20=0,\" \",IF(E$194=\"Y\",IF(E$197<=0.5,1,0),\" \"))","v":" "},{"$f":"IF(F$20=0,\" \",IF(F$194=\"Y\",IF(F$197<=0.5,1,0),\" \"))","v":" "}," "," "," "," "," "," "," "," "," "," "," "," "," "," "," "," "," "," "," "," "," "," "," "," "," "," "," "," "," "," "," "," "," "," "," "," "," "," "," "," "," "," "," "," "," "," "," "," "," "," "," "," "," "," "," "," "," "," "," "," "," "," "," ",{"$f":"IF(BR$20=0,\" \",IF(BR$194=\"Y\",IF(BR$197<=0.5,1,0),\" \"))","v":" "}," "," "," "," "," "," "," "," "," "," "," "," "," "," "," "," "," "," "," "," "," "," "," "," "," "," "," "," "," "," "," "," "," "]
[null,null,"Orig Std Dev",{"$f":"IF(Comparisons < 2,\" \",ROUND(STDEV(E203:CY203),Decimal))","v":" "},"Orig Average",{"$f":"IF(Comparisons = 0,\" \",ROUND(AVERAGE(E203:CY203),Decimal))","v":" "}]
[null,null,"Adj Std Dev",{"$f":"IF(Comparisons < 2,\" \",ROUND(STDEV(E204:CY204),Decimal))","v":" "},"Adj Average",{"$f":"IF(Comparisons = 0,\" \",ROUND(AVERAGE(E204:CY204),Decimal))","v":" "}]
[]
[null,null,"Min # of Comparisons for Opt Macro",null,null,3]
[]
[null,null,"Min # of Comparisons for Std Dev",null,null,6]
[]
[null,null,null,"Include?","Y","Y","Y","Y","Y","Y","Y","Y","Y","Y","Y","Y","Y","Y","Y","Y","Y","Y","Y","Y","Y","Y","Y","Y","Y","Y","Y","Y","Y","Y","Y","Y","Y","Y","Y","Y","Y","Y","Y","Y","Y","Y","Y","Y","Y","Y","Y","Y","Y","Y","Y","Y","Y","Y","Y","Y","Y","Y","Y","Y","Y","Y","Y","Y","Y","Y","Y","Y","Y","Y","Y","Y","Y","Y","Y","Y","Y","Y","Y","Y","Y","Y","Y","Y","Y","Y","Y","Y","Y","Y","Y","Y","Y","Y","Y","Y","Y","Y","Y"]
[null,null,null,"Sample",{"$f":"E2","v":2},3,4,5,6,7,8,9,10,11,12,13,14,15,16,17,18,19,20,21,22,23,24,25,26,27,28,29,30,31,32,33,{"$f":"AK2","v":34},35,36,37,38,39,40,41,42,43,44,45,46,47,48,49,50,51,52,53,54,55,56,57,58,59,60,61,62,63,64,65,{"$f":"BQ2","v":66},67,68,69,70,71,72,73,74,75,76,77,78,79,80,81,82,83,84,85,86,87,88,89,90,91,92,93,94,95,96,97,98,99,100]
["VOIDS",null,"Absolute Values","Original",{"$f":"IF(E$20=0,\" \",IF(E$214=\"Y\",ROUND(ABS(E49),Decimal),\" \"))","v":" "}," "," "," "," "," "," "," "," "," "," "," "," "," "," "," "," "," "," "," "," "," "," "," "," "," "," "," "," "," "," "," ",{"$f":"IF(AK$20=0,\" \",IF(AK$214=\"Y\",ROUND(ABS(AK49),Decimal),\" \"))","v":" "}," "," "," "," "," "," "," "," "," "," "," "," "," "," "," "," "," "," "," "," "," "," "," "," "," "," "," "," "," "," "," ",{"$f":"IF(BQ$20=0,\" \",IF(BQ$214=\"Y\",ROUND(ABS(BQ49),Decimal),\" \"))","v":" "}," "," "," "," "," "," "," "," "," "," "," "," "," "," "," "," "," "," "," "," "," "," "," "," "," "," "," "," "," "," "," "," "," "," "]
[null,null,null,"Adjusted",{"$f":"IF(E$20=0,\" \",IF(E$214=\"Y\",ROUND(ABS(E94),Decimal),\" \"))","v":" "}," "," "," "," "," "," "," "," "," "," "," "," "," "," "," "," "," "," "," "," "," "," "," "," "," "," "," "," "," "," "," ",{"$f":"IF(AK$20=0,\" \",IF(AK$214=\"Y\",ROUND(ABS(AK94),Decimal),\" \"))","v":" "}," "," "," "," "," "," "," "," "," "," "," "," "," "," "," "," "," "," "," "," "," "," "," "," "," "," "," "," "," "," "," ",{"$f":"IF(BQ$20=0,\" \",IF(BQ$214=\"Y\",ROUND(ABS(BQ94),Decimal),\" \"))","v":" "}," "," "," "," "," "," "," "," "," "," "," "," "," "," "," "," "," "," "," "," "," "," "," "," "," "," "," "," "," "," "," "," "," "," "]
["Sample to Previous",null,null,"Difference",{"$f":"IF(E$20=0,\" \",IF(E$214=\"Y\",E216-E217,\" \"))","v":" "},{"$f":"IF(F$20=0,\" \",IF(F$214=\"Y\",F216-F217,\" \"))","v":" "}," "," "," "," "," "," "," "," "," "," "," "," "," "," "," "," "," "," "," "," "," "," "," "," "," "," "," "," "," "," "," "," "," "," "," "," "," "," "," "," "," "," "," "," "," "," "," "," "," "," "," "," "," "," "," "," "," "," "," "," "," "," "," ",{"$f":"IF(BR$20=0,\" \",IF(BR$214=\"Y\",BR216-BR217,\" \"))","v":" "}," "," "," "," "," "," "," "," "," "," "," "," "," "," "," "," "," "," "," "," "," "," "," "," "," "," "," "," "," "," "," "," "," "]
[null,null,"Better",{"$f":"SUM(E219:CY219)","v":0},{"$f":"IF(E$20=0,\" \",IF(E$214=\"Y\",IF(E218>0,1,0),\" \"))","v":" "},{"$f":"IF(F$20=0,\" \",IF(F$214=\"Y\",IF(F218>0,1,0),\" \"))","v":" "}," "," "," "," "," "," "," "," "," "," "," "," "," "," "," "," "," "," "," "," "," "," "," "," "," "," "," "," "," "," "," "," "," "," "," "," "," "," "," "," "," "," "," "," "," "," "," "," "," "," "," "," "," "," "," "," "," "," "," "," "," "," "," ",{"$f":"IF(BR$20=0,\" \",IF(BR$214=\"Y\",IF(BR218>0,1,0),\" \"))","v":" "}," "," "," "," "," "," "," "," "," "," "," "," "," "," "," "," "," "," "," "," "," "," "," "," "," "," "," "," "," "," "," "," "," "]
[null,null,"Worse",{"$f":"SUM(E220:CY220)","v":0},{"$f":"IF(E$20=0,\" \",IF(E$214=\"Y\",IF(E218<0,-1,0),\" \"))","v":" "},{"$f":"IF(F$20=0,\" \",IF(F$214=\"Y\",IF(F218<0,-1,0),\" \"))","v":" "}," "," "," "," "," "," "," "," "," "," "," "," "," "," "," "," "," "," "," "," "," "," "," "," "," "," "," "," "," "," "," "," "," "," "," "," "," "," "," "," "," "," "," "," "," "," "," "," "," "," "," "," "," "," "," "," "," "," "," "," "," "," "," ",{"$f":"IF(BR$20=0,\" \",IF(BR$214=\"Y\",IF(BR218<0,-1,0),\" \"))","v":" "}," "," "," "," "," "," "," "," "," "," "," "," "," "," "," "," "," "," "," "," "," "," "," "," "," "," "," "," "," "," "," "," "," "]
[null,null,"Same",{"$f":"SUM(E221:CY221)","v":0},{"$f":"IF(E$20=0,\" \",IF(E$214=\"Y\",IF(E218=0,1,0),\" \"))","v":" "},{"$f":"IF(F$20=0,\" \",IF(F$214=\"Y\",IF(F218=0,1,0),\" \"))","v":" "}," "," "," "," "," "," "," "," "," "," "," "," "," "," "," "," "," "," "," "," "," "," "," "," "," "," "," "," "," "," "," "," "," "," "," "," "," "," "," "," "," "," "," "," "," "," "," "," "," "," "," "," "," "," "," "," "," "," "," "," "," "," "," ",{"$f":"IF(BR$20=0,\" \",IF(BR$214=\"Y\",IF(BR218=0,1,0),\" \"))","v":" "}," "," "," "," "," "," "," "," "," "," "," "," "," "," "," "," "," "," "," "," "," "," "," "," "," "," "," "," "," "," "," "," "," "]
[null,null,"Comparisons",{"$f":"SUM(E222:CY222)","v":0},{"$f":"IF(E$20=0,0,IF(E$214=\"Y\",1,\" \"))","v":0},{"$f":"IF(F$20=0,0,IF(F$214=\"Y\",1,\" \"))","v":0},0,0,0,0,0,0,0,0,0,0,0,0,0,0,0,0,0,0,0,0,0,0,0,0,0,0,0,0,0,0,0,0,0,0,0,0,0,0,0,0,0,0,0,0,0,0,0,0,0,0,0,0,0,0,0,0,0,0,0,0,0,0,0,{"$f":"IF(BR$20=0,0,IF(BR$214=\"Y\",1,\" \"))","v":0},0,0,0,0,0,0,0,0,0,0,0,0,0,0,0,0,0,0,0,0,0,0,0,0,0,0,0,0,0,0,0,0,0]
[null,null,"Actual Values","Original",{"$f":"IF(E$20=0,\" \",IF(E$214=\"Y\",ROUND(E49,Decimal),\" \"))","v":" "}," "," "," "," "," "," "," "," "," "," "," "," "," "," "," "," "," "," "," "," "," "," "," "," "," "," "," "," "," "," "," ",{"$f":"IF(AK$20=0,\" \",IF(AK$214=\"Y\",ROUND(AK49,Decimal),\" \"))","v":" "}," "," "," "," "," "," "," "," "," "," "," "," "," "," "," "," "," "," "," "," "," "," "," "," "," "," "," "," "," "," "," ",{"$f":"IF(BQ$20=0,\" \",IF(BQ$214=\"Y\",ROUND(BQ49,Decimal),\" \"))","v":" "}," "," "," "," "," "," "," "," "," "," "," "," "," "," "," "," "," "," "," "," "," "," "," "," "," "," "," "," "," "," "," "," "," "," "]
[null,null,null,"Adjusted",{"$f":"IF(E$20=0,\" \",IF(E$214=\"Y\",ROUND(E94,Decimal),\" \"))","v":" "}," "," "," "," "," "," "," "," "," "," "," "," "," "," "," "," "," "," "," "," "," "," "," "," "," "," "," "," "," "," "," ",{"$f":"IF(AK$20=0,\" \",IF(AK$214=\"Y\",ROUND(AK94,Decimal),\" \"))","v":" "}," "," "," "," "," "," "," "," "," "," "," "," "," "," "," "," "," "," "," "," "," "," "," "," "," "," "," "," "," "," "," ",{"$f":"IF(BQ$20=0,\" \",IF(BQ$214=\"Y\",ROUND(BQ94,Decimal),\" \"))","v":" "}," "," "," "," "," "," "," "," "," "," "," "," "," "," "," "," "," "," "," "," "," "," "," "," "," "," "," "," "," "," "," "," "," "," "]
[null,null,"Original within +/-0.5%",null,{"$f":"IF(E$20=0,\" \",IF(E$214=\"Y\",IF(E$216<=0.5,1,0),\" \"))","v":" "},{"$f":"IF(F$20=0,\" \",IF(F$214=\"Y\",IF(F$216<=0.5,1,0),\" \"))","v":" "}," "," "," "," "," "," "," "," "," "," "," "," "," "," "," "," "," "," "," "," "," "," "," "," "," "," "," "," "," "," "," "," "," "," "," "," "," "," "," "," "," "," "," "," "," "," "," "," "," "," "," "," "," "," "," "," "," "," "," "," "," "," "," ",{"$f":"IF(BR$20=0,\" \",IF(BR$214=\"Y\",IF(BR$216<=0.5,1,0),\" \"))","v":" "}," "," "," "," "," "," "," "," "," "," "," "," "," "," "," "," "," "," "," "," "," "," "," "," "," "," "," "," "," "," "," "," "," "]
[null,null,"Adjusted within +/-0.5%",null,{"$f":"IF(E$20=0,\" \",IF(E$214=\"Y\",IF(E$217<=0.5,1,0),\" \"))","v":" "},{"$f":"IF(F$20=0,\" \",IF(F$214=\"Y\",IF(F$217<=0.5,1,0),\" \"))","v":" "}," "," "," "," "," "," "," "," "," "," "," "," "," "," "," "," "," "," "," "," "," "," "," "," "," "," "," "," "," "," "," "," "," "," "," "," "," "," "," "," "," "," "," "," "," "," "," "," "," "," "," "," "," "," "," "," "," "," "," "," "," "," "," ",{"$f":"IF(BR$20=0,\" \",IF(BR$214=\"Y\",IF(BR$217<=0.5,1,0),\" \"))","v":" "}," "," "," "," "," "," "," "," "," "," "," "," "," "," "," "," "," "," "," "," "," "," "," "," "," "," "," "," "," "," "," "," "," "]
[null,null,"Orig Std Dev",{"$f":"IF(Comparisons < 2,\" \",ROUND(STDEV(E223:CY223),Decimal))","v":" "},"Orig Average",{"$f":"IF(Comparisons = 0,\" \",ROUND(AVERAGE(E223:CY223),Decimal))","v":" "}]
[null,null,"Adj Std Dev",{"$f":"IF(Comparisons < 2,\" \",ROUND(STDEV(E224:CY224),Decimal))","v":" "},"Adj Average",{"$f":"IF(Comparisons = 0,\" \",ROUND(AVERAGE(E224:CY224),Decimal))","v":" "}]
[]
[null,null,"Total",{"$f":"SUM(E230:CY230)","v":0},{"$f":"IF(E$20=0,0,1)","v":0},{"$f":"IF(F$20=0,0,1)","v":0},0,0,0,0,0,0,0,0,0,0,0,0,0,0,0,0,0,0,0,0,0,0,0,0,0,0,0,0,0,0,0,0,0,0,0,0,0,0,0,0,0,0,0,0,0,0,0,0,0,0,0,0,0,0,0,0,0,0,0,0,0,0,0,{"$f":"IF(BR$20=0,0,1)","v":0},0,0,0,0,0,0,0,0,0,0,0,0,0,0,0,0,0,0,0,0,0,0,0,0,0,0,0,0,0,0,0,0,0]
[]
[null,null,"FAc",{"$f":"IF(E196<>\" \",D23,\" \")","v":" "},{"$f":"IF(E196<>\" \",E23,\" \")","v":" "}," "," "," "," "," "," "," "," "," "," "," "," "," "," "," "," "," "," "," "," "," "," "," "," "," "," "," "," "," "," "," ",{"$f":"IF(AK196<>\" \",AK23,\" \")","v":" "}," "," "," "," "," "," "," "," "," "," "," "," "," "," "," "," "," "," "," "," "," "," "," "," "," "," "," "," "," "," "," ",{"$f":"IF(BQ196<>\" \",BQ23,\" \")","v":" "}," "," "," "," "," "," "," "," "," "," "," "," "," "," "," "," "," "," "," "," "," "," "," "," "," "," "," "," "," "," "," "," "," "," "]
[null,null,"FAf",{"$f":"IF(E196<>\" \",D24,\" \")","v":" "},{"$f":"IF(E196<>\" \",E24,\" \")","v":" "}," "," "," "," "," "," "," "," "," "," "," "," "," "," "," "," "," "," "," "," "," "," "," "," "," "," "," "," "," "," "," ",{"$f":"IF(AK196<>\" \",AK24,\" \")","v":" "}," "," "," "," "," "," "," "," "," "," "," "," "," "," "," "," "," "," "," "," "," "," "," "," "," "," "," "," "," "," "," ",{"$f":"IF(BQ196<>\" \",BQ24,\" \")","v":" "}," "," "," "," "," "," "," "," "," "," "," "," "," "," "," "," "," "," "," "," "," "," "," "," "," "," "," "," "," "," "," "," "," "," "]
[]
[null,null,"New FAc",{"$f":"IF(E196<>\" \",D26,\" \")","v":" "},{"$f":"IF(E196<>\" \",E26,\" \")","v":" "}," "," "," "," "," "," "," "," "," "," "," "," "," "," "," "," "," "," "," "," "," "," "," "," "," "," "," "," "," "," "," ",{"$f":"IF(AK196<>\" \",AK26,\" \")","v":" "}," "," "," "," "," "," "," "," "," "," "," "," "," "," "," "," "," "," "," "," "," "," "," "," "," "," "," "," "," "," "," ",{"$f":"IF(BQ196<>\" \",BQ26,\" \")","v":" "}," "," "," "," "," "," "," "," "," "," "," "," "," "," "," "," "," "," "," "," "," "," "," "," "," "," "," "," "," "," "," "," "," "," "]
[null,null,"New FAf",{"$f":"IF(E196<>\" \",D27,\" \")","v":" "},{"$f":"IF(E196<>\" \",E27,\" \")","v":" "}," "," "," "," "," "," "," "," "," "," "," "," "," "," "," "," "," "," "," "," "," "," "," "," "," "," "," "," "," "," "," ",{"$f":"IF(AK196<>\" \",AK27,\" \")","v":" "}," "," "," "," "," "," "," "," "," "," "," "," "," "," "," "," "," "," "," "," "," "," "," "," "," "," "," "," "," "," "," ",{"$f":"IF(BQ196<>\" \",BQ27,\" \")","v":" "}," "," "," "," "," "," "," "," "," "," "," "," "," "," "," "," "," "," "," "," "," "," "," "," "," "," "," "," "," "," "," "," "," "," "]
[]
["Largest ORIGINAL Factor Change Sample to Previous",null,"Max",{"$f":"MAX(D39:D42)","v":0},{"$f":"MAX(E39:E42)","v":0},0,0,0,0,0,0,0,0,0,0,0,0,0,0,0,0,0,0,0,0,0,0,0,0,0,0,0,0,0,0,0,0,0,0,0,0,0,0,0,0,0,0,0,0,0,0,0,0,0,0,0,0,0,0,0,0,0,0,0,0,0,0,0,{"$f":"MAX(BQ39:BQ42)","v":0},0,0,0,0,0,0,0,0,0,0,0,0,0,0,0,0,0,0,0,0,0,0,0,0,0,0,0,0,0,0,0,0,0,0]
[null,null,"Min",{"$f":"MIN(D39:D42)","v":0},{"$f":"MIN(E39:E42)","v":0},0,0,0,0,0,0,0,0,0,0,0,0,0,0,0,0,0,0,0,0,0,0,0,0,0,0,0,0,0,0,0,0,0,0,0,0,0,0,0,0,0,0,0,0,0,0,0,0,0,0,0,0,0,0,0,0,0,0,0,0,0,0,0,{"$f":"MIN(BQ39:BQ42)","v":0},0,0,0,0,0,0,0,0,0,0,0,0,0,0,0,0,0,0,0,0,0,0,0,0,0,0,0,0,0,0,0,0,0,0]
[null,null,"Largest",{"$f":"IF(D238+D239>0,D238,D239)","v":0},{"$f":"IF(E238+E239>0,E238,E239)","v":0},0,0,0,0,0,0,0,0,0,0,0,0,0,0,0,0,0,0,0,0,0,0,0,0,0,0,0,0,0,0,0,0,0,0,0,0,0,0,0,0,0,0,0,0,0,0,0,0,0,0,0,0,0,0,0,0,0,0,0,0,0,0,0,{"$f":"IF(BQ238+BQ239>0,BQ238,BQ239)","v":0},0,0,0,0,0,0,0,0,0,0,0,0,0,0,0,0,0,0,0,0,0,0,0,0,0,0,0,0,0,0,0,0,0,0]
["Largest ADJUSTED Factor Change Sample to Previous",null,"Max",{"$f":"MAX(D84:D87)","v":0},{"$f":"MAX(E84:E87)","v":0},0,0,0,0,0,0,0,0,0,0,0,0,0,0,0,0,0,0,0,0,0,0,0,0,0,0,0,0,0,0,0,0,0,0,0,0,0,0,0,0,0,0,0,0,0,0,0,0,0,0,0,0,0,0,0,0,0,0,0,0,0,0,0,{"$f":"MAX(BQ84:BQ87)","v":0},0,0,0,0,0,0,0,0,0,0,0,0,0,0,0,0,0,0,0,0,0,0,0,0,0,0,0,0,0,0,0,0,0,0]
[null,null,"Min",{"$f":"MIN(D84:D87)","v":0},{"$f":"MIN(E84:E87)","v":0},0,0,0,0,0,0,0,0,0,0,0,0,0,0,0,0,0,0,0,0,0,0,0,0,0,0,0,0,0,0,0,0,0,0,0,0,0,0,0,0,0,0,0,0,0,0,0,0,0,0,0,0,0,0,0,0,0,0,0,0,0,0,0,{"$f":"MIN(BQ84:BQ87)","v":0},0,0,0,0,0,0,0,0,0,0,0,0,0,0,0,0,0,0,0,0,0,0,0,0,0,0,0,0,0,0,0,0,0,0]
[null,null,"Largest",{"$f":"IF(D241+D242>0,D241,D242)","v":0},{"$f":"IF(E241+E242>0,E241,E242)","v":0},0,0,0,0,0,0,0,0,0,0,0,0,0,0,0,0,0,0,0,0,0,0,0,0,0,0,0,0,0,0,0,0,0,0,0,0,0,0,0,0,0,0,0,0,0,0,0,0,0,0,0,0,0,0,0,0,0,0,0,0,0,0,0,{"$f":"IF(BQ241+BQ242>0,BQ241,BQ242)","v":0},0,0,0,0,0,0,0,0,0,0,0,0,0,0,0,0,0,0,0,0,0,0,0,0,0,0,0,0,0,0,0,0,0,0]
[]
[]
[]
[]
[]
[]
[]
[]
[]
[]
[]
["37.5mm",null,null,"37.5mm NMAS Fine-Graded Mix",null,null,null,"New Half = 4.75mm,    New PCS = 2.36mm,    New SCS = 0.600mm,    New TCS = 0.150mm"]
[]
["50.0mm",null,null,null,null,null,null,null,null,"Factor Limits"]
["37.5mm",null,null,null,null,null,null,null,null,"For Optimization Macro"]
["25.0mm",null,null,null,null,null,null,null,"Factor","Min","Max"]
["19.0mm",null,null,null,null,null,null,null,"Orig PCS",5,7]
["12.5mm",null,null,null,null,null,null,null,"New CA",0.25,0.45]
["9.5mm",null,null,null,null,null,null,null,"New FAc",2.5000000000000001E-2,7.4999999999999997E-2]
["4.75mm",null,null,null,null,null,null,null,"New FAc Dip",0.4,0.6]
["2.36mm",null,null,null,null,null,null,null,"New FAf",2.5000000000000001E-2,7.4999999999999997E-2]
["1.18mm",null,null,null,null,null,null,null,"New FAf Dip",0.4,0.6]
["0.600mm",null,null,null,null,null,null,null,"AC Volume",1.5,3]
["0.300mm",null,null,null,null,null,null,null,"Actual Sample Values For New FA Ratios"]
["0.150mm",null,null,null,null,null,null,null,null,"Min","Max"]
["0.075mm",null,null,null,null,null,null,null,"New FAc",{"$f":"IF(SUM(NewFAcValues)=0,\" \",MIN(NewFAcValues))","v":" "},{"$f":"IF(SUM(NewFAcValues)=0,\" \",MAX(NewFAcValues))","v":" "}]
["% AC",null,null,null,null,null,null,null,"New FAf",{"$f":"IF(SUM(NewFAfValues)=0,\" \",MIN(NewFAfValues))","v":" "},{"$f":"IF(SUM(NewFAfValues)=0,\" \",MAX(NewFAfValues))","v":" "}]
["% AC Absptn"]
["Actual VMA",null,null,null,null,null,null,null,null,"Rules-of-Thumb Values"]
["Actual Voids",null,null,null,null,null,null,null,null,"Factor","Rule-of-Thumb"]
["CA",null,{"$f":"IF(C$12=0,\" \",ROUND(IF(NMAS=37.5,(C260-C262)/(100-C260),IF(NMAS=25,(C261-C263)/(100-C261),IF(NMAS=19,(C262-C263)/(100-C262),IF(NMAS=9.5,(C263-C264)/(100-C263),(C264-C265)/(100-C264))))),3))","v":" "},null,null,null,null,null,null,"Orig PCS",6]
["FAc",null,{"$f":"IF(C$12=0,\" \",ROUND(IF(NMAS=37.5,(C264/C262),IF(NMAS=25,(C265/C263),IF(NMAS=19,(C265/C263),IF(NMAS=9.5,(C266/C264),(C267/C265))))),3))","v":" "},null,null,null,null,null,null,"New CA",0.35]
["FAf",null,{"$f":"IF(C$12=0,\" \",ROUND(IF(NMAS=37.5,(C266/C264),IF(NMAS=25,(C267/C265),IF(NMAS=19,(C267/C265),IF(NMAS=9.5,(C268/C266),(C269/C267))))),3))","v":" "},null,null,null,null,null,null,"New FAc",0.05]
["New CA",null,{"$f":"IF(C$12=0,\" \",IF(OR(MixType=\"CG\",MixType=\"SMA\"),\" \",ROUND(IF(NMAS=37.5,(C263-C264)/(C262-C263),IF(OR(NMAS=25,NMAS=19),(C264-C265)/(C263-C264),IF(OR(NMAS=12.5,NMAS=9.5),(C265-C266)/(C264-C265),(C266-C267)/(C265-C266)))),3)))","v":" "},null,null,null,null,null,null,"New FAc Dip",0.5]
["New FAc",null,{"$f":"IF(C$12=0,\" \",IF(OR(MixType=\"CG\",MixType=\"SMA\"),\" \",ROUND(IF(NMAS=37.5,(C266/C264),IF(OR(NMAS=25,NMAS=19),(C267/C265),IF(OR(NMAS=12.5,NMAS=9.5),(C268/C266),(C269/C267)))),3)))","v":" "},null,null,null,null,null,null,"New FAf",0.05]
["New FAf",null,{"$f":"IF(C$12=0,\" \",IF(OR(MixType=\"CG\",MixType=\"SMA\"),\" \",IF(NMAS=12.5,\" \",IF(NMAS=9.5,\" \",IF(NMAS=4.75,\" \",ROUND(IF(NMAS=37.5,(C268/C266),(C269/C267)),3))))))","v":" "},null,null,null,null,null,null,"New FAf Dip",0.5]
["Original PCS",null,"Compares Each Sample to the Mix Design",{"$f":"IF(OR(D$20=0,D$20=\" \"),\" \",ROUND(IF(NMAS=37.5,((D$10-$C$10)/OrigPCS),IF(OR(NMAS=25,NMAS=19),((D$11-$C$11)/OrigPCS),IF(OR(NMAS=12.5,NMAS=9.5),((D$12-$C$12)/OrigPCS),((D$13-$C$13)/OrigPCS)))),Decimal))","v":" "},null,null,null,null,null,"AC Volume",2.25]
["New CA",null,null,{"$f":"IF(OR(D$20=0,D$20=\" \"),\" \",ROUND((D$25-$C$25)/OrigCA,Decimal))","v":" "}]
["New FAc",null,null,{"$f":"IF(OR(D$20=0,D$20=\" \"),\" \",ROUND(IF(AND($C$26<=OrigFAcdip,D$26<=OrigFAcdip),(($C$26-D$26)/OrigFAc),IF(AND($C$26<=OrigFAcdip,D$26>OrigFAcdip),((($C$26-OrigFAcdip)/OrigFAc)+((D$26-OrigFAcdip)/OrigFAc)),IF(AND($C$26>OrigFAcdip,D$26<=OrigFAcdip),(((OrigFAcdip-$C$26)/OrigFAc)+((OrigFAcdip-D$26)/OrigFAc)),(D$26-$C$26)/OrigFAc))),Decimal))","v":" "},null,null,null,null,null,"Max Change Allowed"]
["New FAf",null,null,{"$f":"IF(OR(D$20=0,D$20=\" \"),\" \",IF(NMAS<=12.5,\" \",ROUND(IF(AND($C$27<=OrigFAfdip,D$27<=OrigFAfdip),(($C$27-D$27)/OrigFAf),IF(AND($C$27<=OrigFAfdip,D$27>OrigFAfdip),((($C$27-OrigFAfdip)/OrigFAf)+((D$27-OrigFAfdip)/OrigFAf)),IF(AND($C$27>OrigFAfdip,D$27<=OrigFAfdip),(((OrigFAfdip-$C$27)/OrigFAf)+((OrigFAfdip-D$27)/OrigFAf)),(D$27-$C$27)/OrigFAf))),Decimal)))","v":" "},null,null,null,null,null,"Factor","Max Change"]
["Total",null,null,{"$f":"IF(OR(D$20=0,D$20=\" \"),\" \",ROUND(SUM(D280:D283),Decimal))","v":" "},null,null,null,null,null,"Orig PCS",0.5]
["Est VMA",null,null,{"$f":"IF(OR(D$20=0,D$20=\" \"),\" \",ROUND(D284+$C$20,Decimal))","v":" "},null,null,null,null,null,"New CA",0.05]
["Act VMA",null,null,{"$f":"IF(OR(D$20=0,D$20=\" \"),\" \",ROUND(D$20,Decimal))","v":" "},null,null,null,null,null,"New FAc",2.5000000000000001E-2]
["Diff in VMA",null,null,{"$f":"IF(OR(D$20=0,D$20=\" \"),\" \",ROUND(D285-D286,Decimal))","v":" "},null,null,null,null,null,"New FAc Dip"]
["Est Voids",null,null,{"$f":"IF(OR(D$21=0,D$21=\" \"),\" \",ROUND((($C$18-$C$19)-(D$18-D$19))*OrigACvolume+D284+$C$21,Decimal))","v":" "},null,null,null,null,null,"New FAf",2.5000000000000001E-2]
["Act Voids",null,null,{"$f":"IF(OR(D$21=0,D$21=\" \"),\" \",ROUND(D$21,Decimal))","v":" "},null,null,null,null,null,"New FAf Dip"]
["Diff in Voids",null,null,{"$f":"IF(OR(D$21=0,D$21=\" \"),\" \",ROUND(D288-D289,Decimal))","v":" "},null,null,null,null,null,"AC Volume"]
["Original PCS",null,"Compares Each Sample to the Previous Sample",{"$f":"IF(D$12=0,\" \",ROUND(IF(NMAS=37.5,((D$10-C$10)/OrigPCS),IF(OR(NMAS=25,NMAS=19),((D$11-C$11)/OrigPCS),IF(OR(NMAS=12.5,NMAS=9.5),((D$12-C$12)/OrigPCS),((D$13-C$13)/OrigPCS)))),Decimal))","v":" "}]
["New CA",null,null,{"$f":"IF(D$12=0,\" \",ROUND((D$25-C$25)/OrigCA,Decimal))","v":" "},null,null,null,null,null,"Macros - Incremental Change"]
["New FAc",null,null,{"$f":"IF(D$12=0,\" \",ROUND(IF(AND(C$26<=OrigFAcdip,D$26<=OrigFAcdip),((C$26-D$26)/OrigFAc),IF(AND(C$26<=OrigFAcdip,D$26>OrigFAcdip),(((C$26-OrigFAcdip)/OrigFAc)+((D$26-OrigFAcdip)/OrigFAc)),IF(AND(C$26>OrigFAcdip,D$26<=OrigFAcdip),(((OrigFAcdip-C$26)/OrigFAc)+((OrigFAcdip-D$26)/OrigFAc)),(D$26-C$26)/OrigFAc))),Decimal))","v":" "},null,null,null,null,null,"Factor","Increment"]
["New FAf",null,null,{"$f":"IF(D$12=0,\" \",IF(NMAS<=12.5,\" \",ROUND(IF(AND(C$27<=OrigFAfdip,D$27<=OrigFAfdip),((C$27-D$27)/OrigFAf),IF(AND(C$27<=OrigFAfdip,D$27>OrigFAfdip),(((C$27-OrigFAfdip)/OrigFAf)+((D$27-OrigFAfdip)/OrigFAf)),IF(AND(C$27>OrigFAfdip,D$27<=OrigFAfdip),(((OrigFAfdip-C$27)/OrigFAf)+((OrigFAfdip-D$27)/OrigFAf)),(D$27-C$27)/OrigFAf))),Decimal)))","v":" "},null,null,null,null,null,"Orig PCS",0.05]
["Total",null,null,{"$f":"IF(D$12=0,\" \",ROUND(SUM(D291:D294),Decimal))","v":" "},null,null,null,null,null,"New CA",5.0000000000000001E-3]
["Est VMA",null,null,{"$f":"IF(D$12=0,\" \",ROUND(D295+C$20,Decimal))","v":" "},null,null,null,null,null,"New FAc",5.0000000000000001E-3]
["Act VMA",null,null,{"$f":"IF(D296=\" \",\" \",IF(D$20=\" \",0,ROUND(D$20,Decimal)))","v":" "},null,null,null,null,null,"New FAc Dip",1E-3]
["Diff in VMA",null,null,{"$f":"IF(D$12=0,\" \",ROUND(D296-D297,Decimal))","v":" "},null,null,null,null,null,"New FAf",5.0000000000000001E-3]
["Est Voids",null,null,{"$f":"IF(D$12=0,\" \",ROUND(((C$18-C$19)-(D$18-D$19))*OrigACvolume+D295+C$21,Decimal))","v":" "},null,null,null,null,null,"New FAf Dip",1E-3]
["Act Voids",null,null,{"$f":"IF(D299=\" \",\" \",IF(D$21=\" \",0,ROUND(D$21,Decimal)))","v":" "},null,null,null,null,null,"Max Loop",20]
["Diff in Voids",null,null,{"$f":"IF(D$12=0,\" \",ROUND(D299-D300,Decimal))","v":" "}]
["Original","Est Pba",null,null,null,null,null,null,"Suggested Ranges for Ratios"]
["Orig PCS","Gsb",null,null,null,null,null,null,"Principle","Min","Max"]
[6,"Gmb1",null,null,null,null,null,null,"CA",0.8,0.95]
["New CA","Gmb2",null,null,null,null,null,null,"FAc",0.35,0.5]
[0.35,"Gmb3",null,null,null,null,null,null,"FAf",0.35,0.5]
["New FAc","Avg",null,null,null,null,null,null,"New CA",0.6,1]
[0.05,"Gmm1",null,null,null,null,null,null,"New FAc",0.35,0.5]
["New FAc Dip","Gmm2",null,null,null,null,null,null,"New FAf",0.35,0.5]
[0.5,"Avg"]
["New FAf","VMA"]
[0.05,"Voids"]
["New FAf Dip","Gse"]
[0.5,"Pba"]
["AC Volume Correction","Eff AC"]
[null,"AC Gb"]
[2.25,1.03]
[null,"Density"]
[]
[]
[]
[]
[]
[]
["Original PCS",null,"Compares Each Sample to the Mix Design",{"$f":"IF(OR(D$20=0,D$20=\" \"),\" \",ROUND(IF(NMAS=37.5,((D$10-$C$10)/AdjPCS),IF(OR(NMAS=25,NMAS=19),((D$11-$C$11)/AdjPCS),IF(OR(NMAS=12.5,NMAS=9.5),((D$12-$C$12)/AdjPCS),((D$13-$C$13)/AdjPCS)))),Decimal))","v":" "}]
["New CA",null,null,{"$f":"IF(OR(D$20=0,D$20=\" \"),\" \",ROUND((D$25-$C$25)/AdjCA,Decimal))","v":" "}]
["New FAc",null,null,{"$f":"IF(OR(D$20=0,D$20=\" \"),\" \",ROUND(IF(AND($C$26<=AdjFAcdip,D$26<=AdjFAcdip),(($C$26-D$26)/AdjFAc),IF(AND($C$26<=AdjFAcdip,D$26>AdjFAcdip),((($C$26-AdjFAcdip)/AdjFAc)+((D$26-AdjFAcdip)/AdjFAc)),IF(AND($C$26>AdjFAcdip,D$26<=AdjFAcdip),(((AdjFAcdip-$C$26)/AdjFAc)+((AdjFAcdip-D$26)/AdjFAc)),(D$26-$C$26)/AdjFAc))),Decimal))","v":" "}]
["New FAf",null,null,{"$f":"IF(OR(D$20=0,D$20=\" \"),\" \",IF(NMAS<=12.5,\" \",ROUND(IF(AND($C$27<=AdjFAfdip,D$27<=AdjFAfdip),(($C$27-D$27)/AdjFAf),IF(AND($C$27<=AdjFAfdip,D$27>AdjFAfdip),((($C$27-AdjFAfdip)/AdjFAf)+((D$27-AdjFAfdip)/AdjFAf)),IF(AND($C$27>AdjFAfdip,D$27<=AdjFAfdip),(((AdjFAfdip-$C$27)/AdjFAf)+((AdjFAfdip-D$27)/AdjFAf)),(D$27-$C$27)/AdjFAf))),Decimal)))","v":" "}]
["Total",null,null,{"$f":"IF(OR(D$20=0,D$20=\" \"),\" \",ROUND(SUM(D325:D328),Decimal))","v":" "}]
["Est VMA",null,null,{"$f":"IF(OR(D$20=0,D$20=\" \"),\" \",ROUND(D329+$C$20,Decimal))","v":" "}]
["Act VMA",null,null,{"$f":"IF(OR(D$20=0,D$20=\" \"),\" \",ROUND(D$20,Decimal))","v":" "}]
["Diff in VMA",null,null,{"$f":"IF(OR(D$20=0,D$20=\" \"),\" \",ROUND(D330-D331,Decimal))","v":" "}]
["Est Voids",null,null,{"$f":"IF(OR(D$21=0,D$21=\" \"),\" \",ROUND((($C$18-$C$19)-(D$18-D$19))*AdjACvolume+D329+$C$21,Decimal))","v":" "}]
["Act Voids",null,null,{"$f":"IF(OR(D$21=0,D$21=\" \"),\" \",ROUND(D$21,Decimal))","v":" "}]
["Diff in Voids",null,null,{"$f":"IF(OR(D$21=0,D$21=\" \"),\" \",ROUND(D333-D334,Decimal))","v":" "}]
["Original PCS",null,"Compares Each Sample to the Previous Sample",{"$f":"IF(D$12=0,\" \",ROUND(IF(NMAS=37.5,((D$10-C$10)/AdjPCS),IF(OR(NMAS=25,NMAS=19),((D$11-C$11)/AdjPCS),IF(OR(NMAS=12.5,NMAS=9.5),((D$12-C$12)/AdjPCS),((D$13-C$13)/AdjPCS)))),Decimal))","v":" "}]
["New CA",null,null,{"$f":"IF(D$12=0,\" \",ROUND((D$25-C$25)/AdjCA,Decimal))","v":" "}]
["New FAc",null,null,{"$f":"IF(D$12=0,\" \",ROUND(IF(AND(C$26<=AdjFAcdip,D$26<=AdjFAcdip),((C$26-D$26)/AdjFAc),IF(AND(C$26<=AdjFAcdip,D$26>AdjFAcdip),(((C$26-AdjFAcdip)/AdjFAc)+((D$26-AdjFAcdip)/AdjFAc)),IF(AND(C$26>AdjFAcdip,D$26<=AdjFAcdip),(((AdjFAcdip-C$26)/AdjFAc)+((AdjFAcdip-D$26)/AdjFAc)),(D$26-C$26)/AdjFAc))),Decimal))","v":" "}]
["New FAf",null,null,{"$f":"IF(D$12=0,\" \",IF(NMAS<=12.5,\" \",ROUND(IF(AND(C$27<=AdjFAfdip,D$27<=AdjFAfdip),((C$27-D$27)/AdjFAf),IF(AND(C$27<=AdjFAfdip,D$27>AdjFAfdip),(((C$27-AdjFAfdip)/AdjFAf)+((D$27-AdjFAfdip)/AdjFAf)),IF(AND(C$27>AdjFAfdip,D$27<=AdjFAfdip),(((AdjFAfdip-C$27)/AdjFAf)+((AdjFAfdip-D$27)/AdjFAf)),(D$27-C$27)/AdjFAf))),Decimal)))","v":" "}]
["Total",null,null,{"$f":"IF(D$12=0,\" \",ROUND(SUM(D336:D339),Decimal))","v":" "}]
["Est VMA",null,null,{"$f":"IF(D$12=0,\" \",ROUND(D340+C$20,Decimal))","v":" "}]
["Act VMA",null,null,{"$f":"IF(D341=\" \",\" \",IF(D$20=\" \",0,ROUND(D$20,Decimal)))","v":" "}]
["Diff in VMA",null,null,{"$f":"IF(D$12=0,\" \",ROUND(D341-D342,Decimal))","v":" "}]
["Est Voids",null,null,{"$f":"IF(D$12=0,\" \",ROUND(((C$18-C$19)-(D$18-D$19))*AdjACvolume+D340+C$21,Decimal))","v":" "}]
["Act Voids",null,null,{"$f":"IF(D344=\" \",\" \",IF(D$21=\" \",0,ROUND(D$21,Decimal)))","v":" "}]
["Diff in Voids",null,null,{"$f":"IF(D$12=0,\" \",ROUND(D344-D345,Decimal))","v":" "}]
["Adjusted"]
["Orig PCS"]
[6]
["New CA"]
[0.35]
["New FAc"]
[0.05]
["New FAc Dip"]
[0.5]
["New FAf"]
[0.05]
["New FAf Dip"]
[0.5]
["AC Volume Correction"]
[]
[2.25]
[]
[]
["37.5mm",null,null,"37.5mm NMAS Coarse-Graded Mix",null,null,null,"Half = 19.0mm,  PCS = 9.5mm,  SCS = 2.36mm,  TCS = 0.600mm"]
[]
["50.0mm",null,null,null,null,null,null,null,null,"Factor Limits"]
["37.5mm",null,null,null,null,null,null,null,null,"For Optimization Macro"]
["25.0mm",null,null,null,null,null,null,null,"Factor","Min","Max"]
["19.0mm",null,null,null,null,null,null,null,"PCS",3,5]
["12.5mm",null,null,null,null,null,null,null,"CA",0.1,0.3]
["9.5mm",null,null,null,null,null,null,null,"FAc",2.5000000000000001E-2,7.4999999999999997E-2]
["4.75mm",null,null,null,null,null,null,null,"FAc Dip",0.45,0.65]
["2.36mm",null,null,null,null,null,null,null,"FAf",2.5000000000000001E-2,7.4999999999999997E-2]
["1.18mm",null,null,null,null,null,null,null,"FAf Dip",0.45,0.65]
["0.600mm",null,null,null,null,null,null,null,"AC Volume",1.5,3]
["0.300mm",null,null,null,null,null,null,null,"Actual Sample Values For FA Ratios"]
["0.150mm",null,null,null,null,null,null,null,null,"Min","Max"]
["0.075mm",null,null,null,null,null,null,null,"FAc",{"$f":"IF(SUM(FAcValues)=0,\" \",MIN(FAcValues))","v":" "},{"$f":"IF(SUM(FAcValues)=0,\" \",MAX(FAcValues))","v":" "}]
["% AC",null,null,null,null,null,null,null,"FAf",{"$f":"IF(SUM(FAfValues)=0,\" \",MIN(FAfValues))","v":" "},{"$f":"IF(SUM(FAfValues)=0,\" \",MAX(FAfValues))","v":" "}]
["% AC Absptn"]
["Actual VMA",null,null,null,null,null,null,null,null,"Rules-of-Thumb Values"]
["Actual Voids",null,null,null,null,null,null,null,null,"Factor","Rule-of-Thumb"]
["CA",null,null,null,null,null,null,null,null,"PCS",4]
["FAc",null,null,null,null,null,null,null,null,"CA",0.2]
["FAf",null,null,null,null,null,null,null,null,"FAc",0.05]
[null,null,null,null,null,null,null,null,null,"FAc Dip",0.55000000000000004]
[null,null,null,null,null,null,null,null,null,"FAf",0.05]
[null,null,null,null,null,null,null,null,null,"FAf Dip",0.55000000000000004]
["PCS",null,"Compares Each Sample to the Mix Design",{"$f":"IF(OR(D$20=0,D$20=\" \"),\" \",ROUND(IF(NMAS=37.5,(($C$10-D$10)/OrigPCS),IF(OR(NMAS=25,NMAS=19),(($C$11-D$11)/OrigPCS),IF(OR(NMAS=12.5,NMAS=9.5),(($C$12-D$12)/OrigPCS),(($C375-D$13)/OrigPCS)))),Decimal))","v":" "},null,null,null,null,null,"AC Volume",2.25]
["CA",null,null,{"$f":"IF(OR(D$20=0,D$20=\" \"),\" \",ROUND((D$22-$C$22)/OrigCA,Decimal))","v":" "}]
["FAc",null,null,{"$f":"IF(OR(D$20=0,D$20=\" \"),\" \",ROUND(IF(AND($C$23<=OrigFAcdip,D$23<=OrigFAcdip),(($C$23-D$23)/OrigFAc),IF(AND($C$23<=OrigFAcdip,D$23>OrigFAcdip),((($C$23-OrigFAcdip)/OrigFAc)+((D$23-OrigFAcdip)/OrigFAc)),IF(AND($C$23>OrigFAcdip,D$23<=OrigFAcdip),(((OrigFAcdip-$C$23)/OrigFAc)+((OrigFAcdip-D$23)/OrigFAc)),(D$23-$C$23)/OrigFAc))),Decimal))","v":" "},null,null,null,null,null,"Max Change Allowed"]
["FAf",null,null,{"$f":"IF(OR(D$20=0,D$20=\" \"),\" \",ROUND(IF(AND($C$24<=OrigFAfdip,D$24<=OrigFAfdip),(($C$24-D$24)/OrigFAf),IF(AND($C$24<=OrigFAfdip,D$24>OrigFAfdip),((($C$24-OrigFAfdip)/OrigFAf)+((D$24-OrigFAfdip)/OrigFAf)),IF(AND($C$24>OrigFAfdip,D$24<=OrigFAfdip),(((OrigFAfdip-$C$24)/OrigFAf)+((OrigFAfdip-D$24)/OrigFAf)),(D$24-$C$24)/OrigFAf))),Decimal))","v":" "},null,null,null,null,null,"Factor","Max Change"]
["Total",null,null,{"$f":"IF(OR(D$20=0,D$20=\" \"),\" \",ROUND(SUM(D390:D393),Decimal))","v":" "},null,null,null,null,null,"PCS",0.5]
["Est VMA",null,null,{"$f":"IF(OR(D$20=0,D$20=\" \"),\" \",ROUND(D394+$C$20,Decimal))","v":" "},null,null,null,null,null,"CA",0.05]
["Act VMA",null,null,{"$f":"IF(OR(D$20=0,D$20=\" \"),\" \",ROUND(D$20,Decimal))","v":" "},null,null,null,null,null,"FAc",2.5000000000000001E-2]
["Diff in VMA",null,null,{"$f":"IF(OR(D$20=0,D$20=\" \"),\" \",ROUND(D395-D396,Decimal))","v":" "},null,null,null,null,null,"FAc Dip"]
["Est Voids",null,null,{"$f":"IF(OR(D$21=0,D$21=\" \"),\" \",ROUND((($C$18-$C$19)-(D$18-D$19))*OrigACvolume+D394+$C$21,Decimal))","v":" "},null,null,null,null,null,"FAf",2.5000000000000001E-2]
["Act Voids",null,null,{"$f":"IF(OR(D$21=0,D$21=\" \"),\" \",ROUND(D$21,Decimal))","v":" "},null,null,null,null,null,"FAf Dip"]
["Diff in Voids",null,null,{"$f":"IF(OR(D$21=0,D$21=\" \"),\" \",ROUND(D398-D399,Decimal))","v":" "},null,null,null,null,null,"AC Volume"]
["PCS",null,"Compares Each Sample to the Previous Sample",{"$f":"IF(D$12=0,\" \",ROUND(IF(NMAS=37.5,((C$10-D$10)/OrigPCS),IF(OR(NMAS=25,NMAS=19),((C$11-D$11)/OrigPCS),IF(OR(NMAS=12.5,NMAS=9.5),((C$12-D$12)/OrigPCS),((C$13-D$13)/OrigPCS)))),Decimal))","v":" "}]
["CA",null,null,{"$f":"IF(D$12=0,\" \",ROUND((D$22-C$22)/OrigCA,Decimal))","v":" "},null,null,null,null,null,"Macros - Incremental Change"]
["FAc",null,null,{"$f":"IF(D$12=0,\" \",ROUND(IF(AND(C$23<=OrigFAcdip,D$23<=OrigFAcdip),((C$23-D$23)/OrigFAc),IF(AND(C$23<=OrigFAcdip,D$23>OrigFAcdip),(((C$23-OrigFAcdip)/OrigFAc)+((D$23-OrigFAcdip)/OrigFAc)),IF(AND(C$23>OrigFAcdip,D$23<=OrigFAcdip),(((OrigFAcdip-C$23)/OrigFAc)+((OrigFAcdip-D$23)/OrigFAc)),(D$23-C$23)/OrigFAc))),Decimal))","v":" "},null,null,null,null,null,"Factor","Increment"]
["FAf",null,null,{"$f":"IF(D$12=0,\" \",ROUND(IF(AND(C$24<=OrigFAfdip,D$24<=OrigFAfdip),((C$24-D$24)/OrigFAf),IF(AND(C$24<=OrigFAfdip,D$24>OrigFAfdip),(((C$24-OrigFAfdip)/OrigFAf)+((D$24-OrigFAfdip)/OrigFAf)),IF(AND(C$24>OrigFAfdip,D$24<=OrigFAfdip),(((OrigFAfdip-C$24)/OrigFAf)+((OrigFAfdip-D$24)/OrigFAf)),(D$24-C$24)/OrigFAf))),Decimal))","v":" "},null,null,null,null,null,"PCS",0.05]
["Total",null,null,{"$f":"IF(D$12=0,\" \",ROUND(SUM(D401:D404),Decimal))","v":" "},null,null,null,null,null,"CA",5.0000000000000001E-3]
["Est VMA",null,null,{"$f":"IF(D$12=0,\" \",ROUND(D405+C$20,Decimal))","v":" "},null,null,null,null,null,"FAc",5.0000000000000001E-3]
["Act VMA",null,null,{"$f":"IF(D406=\" \",\" \",IF(D$20=\" \",0,ROUND(D$20,Decimal)))","v":" "},null,null,null,null,null,"FAc Dip",1E-3]
["Diff in VMA",null,null,{"$f":"IF(D$12=0,\" \",ROUND(D406-D407,Decimal))","v":" "},null,null,null,null,null,"FAf",5.0000000000000001E-3]
["Est Voids",null,null,{"$f":"IF(D$12=0,\" \",ROUND(((C$18-C$19)-(D$18-D$19))*OrigACvolume+D405+C$21,Decimal))","v":" "},null,null,null,null,null,"FAf Dip",1E-3]
["Act Voids",null,null,{"$f":"IF(D409=\" \",\" \",IF(D$21=\" \",0,ROUND(D$21,Decimal)))","v":" "},null,null,null,null,null,"Max Loop",20]
["Diff in Voids",null,null,{"$f":"IF(D$12=0,\" \",ROUND(D409-D410,Decimal))","v":" "}]
["Original","Est Pba",null,null,null,null,null,null,"Suggested Ranges for Ratios"]
["PCS","Gsb",null,null,null,null,null,null,"Principle","Min","Max"]
[4,"Gmb1",null,null,null,null,null,null,"CA",0.8,0.95]
["CA","Gmb2",null,null,null,null,null,null,"FAc",0.35,0.5]
[0.2,"Gmb3",null,null,null,null,null,null,"FAf",0.35,0.5]
["FAc","Avg"]
[0.05,"Gmm1"]
["FAc Dip","Gmm2"]
[0.55000000000000004,"Avg"]
["FAf","VMA"]
[0.05,"Voids"]
["FAf Dip","Gse"]
[0.55000000000000004,"Pba"]
["AC Volume Correction","Eff AC"]
[null,"AC Gb"]
[2.25,1.03]
[null,"Density"]
[]
[]
[]
[]
[]
[]
["PCS",null,"Compares Each Sample to the Mix Design",{"$f":"IF(OR(D$20=0,D$20=\" \"),\" \",ROUND(IF(NMAS=37.5,(($C$10-D$10)/AdjPCS),IF(OR(NMAS=25,NMAS=19),(($C$11-D$11)/AdjPCS),IF(OR(NMAS=12.5,NMAS=9.5),(($C$12-D$12)/AdjPCS),(($C$13-D$13)/AdjPCS)))),Decimal))","v":" "}]
["CA",null,null,{"$f":"IF(OR(D$20=0,D$20=\" \"),\" \",ROUND((D$22-$C$22)/AdjCA,Decimal))","v":" "}]
["FAc",null,null,{"$f":"IF(OR(D$20=0,D$20=\" \"),\" \",ROUND(IF(AND($C$23<=AdjFAcdip,D$23<=AdjFAcdip),(($C$23-D$23)/AdjFAc),IF(AND($C$23<=AdjFAcdip,D$23>AdjFAcdip),((($C$23-AdjFAcdip)/AdjFAc)+((D$23-AdjFAcdip)/AdjFAc)),IF(AND($C$23>AdjFAcdip,D$23<=AdjFAcdip),(((AdjFAcdip-$C$23)/AdjFAc)+((AdjFAcdip-D$23)/AdjFAc)),(D$23-$C$23)/AdjFAc))),Decimal))","v":" "}]
["FAf",null,null,{"$f":"IF(OR(D$20=0,D$20=\" \"),\" \",ROUND(IF(AND($C$24<=AdjFAfdip,D$24<=AdjFAfdip),(($C$24-D$24)/AdjFAf),IF(AND($C$24<=AdjFAfdip,D$24>AdjFAfdip),((($C$24-AdjFAfdip)/AdjFAf)+((D$24-AdjFAfdip)/AdjFAf)),IF(AND($C$24>AdjFAfdip,D$24<=AdjFAfdip),(((AdjFAfdip-$C$24)/AdjFAf)+((AdjFAfdip-D$24)/AdjFAf)),(D$24-$C$24)/AdjFAf))),Decimal))","v":" "}]
["Total",null,null,{"$f":"IF(OR(D$20=0,D$20=\" \"),\" \",ROUND(SUM(D435:D438),Decimal))","v":" "}]
["Est VMA",null,null,{"$f":"IF(OR(D$20=0,D$20=\" \"),\" \",ROUND(D439+$C$20,Decimal))","v":" "}]
["Act VMA",null,null,{"$f":"IF(OR(D$20=0,D$20=\" \"),\" \",ROUND(D$20,Decimal))","v":" "}]
["Diff in VMA",null,null,{"$f":"IF(OR(D$20=0,D$20=\" \"),\" \",ROUND(D440-D441,Decimal))","v":" "}]
["Est Voids",null,null,{"$f":"IF(OR(D$21=0,D$21=\" \"),\" \",ROUND((($C$18-$C$19)-(D$18-D$19))*AdjACvolume+D439+$C$21,Decimal))","v":" "}]
["Act Voids",null,null,{"$f":"IF(OR(D$21=0,D$21=\" \"),\" \",ROUND(D$21,Decimal))","v":" "}]
["Diff in Voids",null,null,{"$f":"IF(OR(D$21=0,D$21=\" \"),\" \",ROUND(D443-D444,Decimal))","v":" "}]
["PCS",null,"Compares Each Sample to the Previous Sample",{"$f":"IF(D$12=0,\" \",ROUND(IF(NMAS=37.5,((C$10-D$10)/AdjPCS),IF(OR(NMAS=25,NMAS=19),((C$11-D$11)/AdjPCS),IF(OR(NMAS=12.5,NMAS=9.5),((C$12-D$12)/AdjPCS),((C$13-D$13)/AdjPCS)))),Decimal))","v":" "}]
["CA",null,null,{"$f":"IF(D$12=0,\" \",ROUND((D$22-C$22)/AdjCA,Decimal))","v":" "}]
["FAc",null,null,{"$f":"IF(D$12=0,\" \",ROUND(IF(AND(C$23<=AdjFAcdip,D$23<=AdjFAcdip),((C$23-D$23)/AdjFAc),IF(AND(C$23<=AdjFAcdip,D$23>AdjFAcdip),(((C$23-AdjFAcdip)/AdjFAc)+((D$23-AdjFAcdip)/AdjFAc)),IF(AND(C$23>AdjFAcdip,D$23<=AdjFAcdip),(((AdjFAcdip-C$23)/AdjFAc)+((AdjFAcdip-D$23)/AdjFAc)),(D$23-C$23)/AdjFAc))),Decimal))","v":" "}]
["FAf",null,null,{"$f":"IF(D$12=0,\" \",ROUND(IF(AND(C$24<=AdjFAfdip,D$24<=AdjFAfdip),((C$24-D$24)/AdjFAf),IF(AND(C$24<=AdjFAfdip,D$24>AdjFAfdip),(((C$24-AdjFAfdip)/AdjFAf)+((D$24-AdjFAfdip)/AdjFAf)),IF(AND(C$24>AdjFAfdip,D$24<=AdjFAfdip),(((AdjFAfdip-C$24)/AdjFAf)+((AdjFAfdip-D$24)/AdjFAf)),(D$24-C$24)/AdjFAf))),Decimal))","v":" "}]
["Total",null,null,{"$f":"IF(D$12=0,\" \",ROUND(SUM(D446:D449),Decimal))","v":" "}]
["Est VMA",null,null,{"$f":"IF(D$12=0,\" \",ROUND(D450+C$20,Decimal))","v":" "}]
["Act VMA",null,null,{"$f":"IF(D451=\" \",\" \",IF(D$20=\" \",0,ROUND(D$20,Decimal)))","v":" "}]
["Diff in VMA",null,null,{"$f":"IF(D$12=0,\" \",ROUND(D451-D452,Decimal))","v":" "}]
["Est Voids",null,null,{"$f":"IF(D$12=0,\" \",ROUND(((C$18-C$19)-(D$18-D$19))*AdjACvolume+D450+C$21,Decimal))","v":" "}]
["Act Voids",null,null,{"$f":"IF(D454=\" \",\" \",IF(D$21=\" \",0,ROUND(D$21,Decimal)))","v":" "}]
["Diff in Voids",null,null,{"$f":"IF(D$12=0,\" \",ROUND(D454-D455,Decimal))","v":" "}]
["Adjusted"]
["PCS"]
[4]
["CA"]
[0.2]
["FAc"]
[0.05]
["FAc Dip"]
[0.55000000000000004]
["FAf"]
[0.05]
["FAf Dip"]
[0.55000000000000004]
["AC Volume Correction"]
[]
[2.25]
[]
[]
["25.0mm",null,null,"25.0mm NMAS Fine-Graded Mix",null,null,null,"New Half = 2.36mm,    New PCS = 1.18mm,    New SCS = 0.300mm,    New TCS = 0.075mm"]
[]
["50.0mm",null,null,null,null,null,null,null,"Suggested Ranges for Ratios"]
["37.5mm",null,null,null,null,null,null,null,"Principle","Min","Max"]
["25.0mm",null,null,null,null,null,null,null,"CA",0.7,0.85]
["19.0mm",null,null,null,null,null,null,null,"FAc",0.35,0.5]
["12.5mm",null,null,null,null,null,null,null,"FAf",0.35,0.5]
["9.5mm",null,null,null,null,null,null,null,"New CA",0.6,1]
["4.75mm",null,null,null,null,null,null,null,"New FAc",0.35,0.5]
["2.36mm",null,null,null,null,null,null,null,"New FAf",0.35,0.5]
["1.18mm"]
["0.600mm"]
["0.300mm"]
["0.150mm"]
["0.075mm"]
["% AC"]
["% AC Absptn"]
["Actual VMA"]
["Actual Voids"]
["CA"]
["FAc"]
["FAf"]
["New CA"]
["New FAc"]
["New FAf"]
["Original PCS"]
["New CA"]
["New FAc"]
["New FAf"]
["Total"]
["Est VMA"]
["Act VMA"]
["Diff in VMA"]
["Est Voids"]
["Act Voids"]
["Diff in Voids"]
["Original PCS"]
["New CA"]
["New FAc"]
["New FAf"]
["Total"]
["Est VMA"]
["Act VMA"]
["Diff in VMA"]
["Est Voids"]
["Act Voids"]
["Diff in Voids"]
["Original","Est Pba"]
["Orig PCS","Gsb"]
[6,"Gmb1"]
["New CA","Gmb2"]
[0.35,"Gmb3"]
["New FAc","Avg"]
[0.05,"Gmm1"]
["New FAc Dip","Gmm2"]
[0.5,"Avg"]
["New FAf","VMA"]
[0.05,"Voids"]
["New FAf Dip","Gse"]
[0.5,"Pba"]
["AC Volume Correction","Eff AC"]
[null,"AC Gb"]
[2.25,1.03]
[null,"Density"]
[]
[]
[]
[]
[]
[]
["Original PCS"]
["New CA"]
["New FAc"]
["New FAf"]
["Total"]
["Est VMA"]
["Act VMA"]
["Diff in VMA"]
["Est Voids"]
["Act Voids"]
["Diff in Voids"]
["Original PCS"]
["New CA"]
["New FAc"]
["New FAf"]
["Total"]
["Est VMA"]
["Act VMA"]
["Diff in VMA"]
["Est Voids"]
["Act Voids"]
["Diff in Voids"]
["Adjusted"]
["Orig PCS"]
[6]
["New CA"]
[0.35]
["New FAc"]
[0.05]
["New FAc Dip"]
[0.5]
["New FAf"]
[0.05]
["New FAf Dip"]
[0.5]
["AC Volume Correction"]
[]
[2.25]
[]
[]
["25.0mm",null,null,"25.0mm NMAS Coarse-Graded Mix",null,null,null,"Half = 12.5mm,  PCS = 4.75mm,  SCS = 1.18mm,  TCS = 0.300mm"]
[]
["50.0mm",null,null,null,null,null,null,null,"Suggested Ranges for Ratios"]
["37.5mm",null,null,null,null,null,null,null,"Principle","Min","Max"]
["25.0mm",null,null,null,null,null,null,null,"CA",0.7,0.85]
["19.0mm",null,null,null,null,null,null,null,"FAc",0.35,0.5]
["12.5mm",null,null,null,null,null,null,null,"FAf",0.35,0.5]
["9.5mm"]
["4.75mm"]
["2.36mm"]
["1.18mm"]
["0.600mm"]
["0.300mm"]
["0.150mm"]
["0.075mm"]
["% AC"]
["% AC Absptn"]
["Actual VMA"]
["Actual Voids"]
["CA"]
["FAc"]
["FAf"]
[]
[]
[]
["PCS"]
["CA"]
["FAc"]
["FAf"]
["Total"]
["Est VMA"]
["Act VMA"]
["Diff in VMA"]
["Est Voids"]
["Act Voids"]
["Diff in Voids"]
["PCS"]
["CA"]
["FAc"]
["FAf"]
["Total"]
["Est VMA"]
["Act VMA"]
["Diff in VMA"]
["Est Voids"]
["Act Voids"]
["Diff in Voids"]
["Original","Est Pba"]
["PCS","Gsb"]
[4,"Gmb1"]
["CA","Gmb2"]
[0.2,"Gmb3"]
["FAc","Avg"]
[0.05,"Gmm1"]
["FAc Dip","Gmm2"]
[0.55000000000000004,"Avg"]
["FAf","VMA"]
[0.05,"Voids"]
["FAf Dip","Gse"]
[0.55000000000000004,"Pba"]
["AC Volume Correction","Eff AC"]
[null,"AC Gb"]
[2.25,1.03]
[null,"Density"]
[]
[]
[]
[]
[]
[]
["PCS"]
["CA"]
["FAc"]
["FAf"]
["Total"]
["Est VMA"]
["Act VMA"]
["Diff in VMA"]
["Est Voids"]
["Act Voids"]
["Diff in Voids"]
["PCS"]
["CA"]
["FAc"]
["FAf"]
["Total"]
["Est VMA"]
["Act VMA"]
["Diff in VMA"]
["Est Voids"]
["Act Voids"]
["Diff in Voids"]
["Adjusted"]
["PCS"]
[4]
["CA"]
[0.2]
["FAc"]
[0.05]
["FAc Dip"]
[0.55000000000000004]
["FAf"]
[0.05]
["FAf Dip"]
[0.55000000000000004]
["AC Volume Correction"]
[]
[2.25]
[]
[]
["25.0mm",null,null,"25.0mm NMAS SMA Mix",null,null,null,"Half = 12.5mm,  PCS = 4.75mm,  SCS = 1.18mm,  TCS = 0.300mm"]
[]
["50.0mm",null,null,null,null,null,null,null,null,"Factor Limits"]
["37.5mm",null,null,null,null,null,null,null,null,"For Optimization Macro"]
["25.0mm",null,null,null,null,null,null,null,"Factor","Min","Max"]
["19.0mm",null,null,null,null,null,null,null,"PCS",1,3]
["12.5mm",null,null,null,null,null,null,null,"CA",0.1,0.3]
["9.5mm",null,null,null,null,null,null,null,"FAc",7.4999999999999997E-2,0.125]
["4.75mm",null,null,null,null,null,null,null,"FAc Dip",0.55000000000000004,0.75]
["2.36mm",null,null,null,null,null,null,null,"FAf",7.4999999999999997E-2,0.125]
["1.18mm",null,null,null,null,null,null,null,"FAf Dip",0.6,0.8]
["0.600mm",null,null,null,null,null,null,null,"AC Volume",1.5,3]
["0.300mm",null,null,null,null,null,null,null,"Actual Sample Values For FA Ratios"]
["0.150mm",null,null,null,null,null,null,null,null,"Min","Max"]
["0.075mm",null,null,null,null,null,null,null,"FAc",{"$f":"IF(SUM(FAcValues)=0,\" \",MIN(FAcValues))","v":" "},{"$f":"IF(SUM(FAcValues)=0,\" \",MAX(FAcValues))","v":" "}]
["% AC",null,null,null,null,null,null,null,"FAf",{"$f":"IF(SUM(FAfValues)=0,\" \",MIN(FAfValues))","v":" "},{"$f":"IF(SUM(FAfValues)=0,\" \",MAX(FAfValues))","v":" "}]
["% AC Absptn"]
["Actual VMA",null,null,null,null,null,null,null,null,"Rules-of-Thumb Values"]
["Actual Voids",null,null,null,null,null,null,null,null,"Factor","Rule-of-Thumb"]
["CA",null,null,null,null,null,null,null,null,"PCS",2]
["FAc",null,null,null,null,null,null,null,null,"CA",0.2]
["FAf",null,null,null,null,null,null,null,null,"FAc",0.1]
[null,null,null,null,null,null,null,null,null,"FAc Dip",0.65]
[null,null,null,null,null,null,null,null,null,"FAf",0.1]
[null,null,null,null,null,null,null,null,null,"FAf Dip",0.7]
["PCS",null,null,null,null,null,null,null,null,"AC Volume",2.25]
["CA"]
["FAc",null,null,null,null,null,null,null,"Suggested Ranges for Ratios"]
["FAf",null,null,null,null,null,null,null,"Principle","Min","Max"]
["Total",null,null,null,null,null,null,null,"CA",0.45,0.6]
["Est VMA",null,null,null,null,null,null,null,"FAc",0.6,0.85]
["Act VMA",null,null,null,null,null,null,null,"FAf",0.65,0.9]
["Diff in VMA"]
["Est Voids"]
["Act Voids"]
["Diff in Voids"]
["PCS"]
["CA"]
["FAc"]
["FAf"]
["Total"]
["Est VMA"]
["Act VMA"]
["Diff in VMA"]
["Est Voids"]
["Act Voids"]
["Diff in Voids"]
["Original","Est Pba"]
["PCS","Gsb"]
[2,"Gmb1"]
["CA","Gmb2"]
[0.2,"Gmb3"]
["FAc","Avg"]
[0.1,"Gmm1"]
["FAc Dip","Gmm2"]
[0.65,"Avg"]
["FAf","VMA"]
[0.1,"Voids"]
["FAf Dip","Gse"]
[0.7,"Pba"]
["AC Volume Correction","Eff AC"]
[null,"AC Gb"]
[2.25,1.03]
[null,"Density"]
[]
[]
[]
[]
[]
[]
["PCS"]
["CA"]
["FAc"]
["FAf"]
["Total"]
["Est VMA"]
["Act VMA"]
["Diff in VMA"]
["Est Voids"]
["Act Voids"]
["Diff in Voids"]
["PCS"]
["CA"]
["FAc"]
["FAf"]
["Total"]
["Est VMA"]
["Act VMA"]
["Diff in VMA"]
["Est Voids"]
["Act Voids"]
["Diff in Voids"]
["Adjusted"]
["PCS"]
[2]
["CA"]
[0.2]
["FAc"]
[0.1]
["FAc Dip"]
[0.65]
["FAf"]
[0.1]
["FAf Dip"]
[0.7]
["AC Volume Correction"]
[]
[2.25]
[]
[]
["19.0mm",null,null,"19.0mm NMAS Fine-Graded Mix",null,null,null,"New Half = 2.36mm,    New PCS = 1.18mm,    New SCS = 0.300mm,    New TCS = 0.075mm"]
[]
["50.0mm",null,null,null,null,null,null,null,"Suggested Ranges for Ratios"]
["37.5mm",null,null,null,null,null,null,null,"Principle","Min","Max"]
["25.0mm",null,null,null,null,null,null,null,"CA",0.6,0.75]
["19.0mm",null,null,null,null,null,null,null,"FAc",0.35,0.5]
["12.5mm",null,null,null,null,null,null,null,"FAf",0.35,0.5]
["9.5mm",null,null,null,null,null,null,null,"New CA",0.6,1]
["4.75mm",null,null,null,null,null,null,null,"New FAc",0.35,0.5]
["2.36mm",null,null,null,null,null,null,null,"New FAf",0.35,0.5]
["1.18mm"]
["0.600mm"]
["0.300mm"]
["0.150mm"]
["0.075mm"]
["% AC"]
["% AC Absptn"]
["Actual VMA"]
["Actual Voids"]
["CA"]
["FAc"]
["FAf"]
["New CA"]
["New FAc"]
["New FAf"]
["Original PCS"]
["New CA"]
["New FAc"]
["New FAf"]
["Total"]
["Est VMA"]
["Act VMA"]
["Diff in VMA"]
["Est Voids"]
["Act Voids"]
["Diff in Voids"]
["Original PCS"]
["New CA"]
["New FAc"]
["New FAf"]
["Total"]
["Est VMA"]
["Act VMA"]
["Diff in VMA"]
["Est Voids"]
["Act Voids"]
["Diff in Voids"]
["Original","Est Pba"]
["Orig PCS","Gsb"]
[6,"Gmb1"]
["New CA","Gmb2"]
[0.35,"Gmb3"]
["New FAc","Avg"]
[0.05,"Gmm1"]
["New FAc Dip","Gmm2"]
[0.5,"Avg"]
["New FAf","VMA"]
[0.05,"Voids"]
["New FAf Dip","Gse"]
[0.5,"Pba"]
["AC Volume Correction","Eff AC"]
[null,"AC Gb"]
[2.25,1.03]
[null,"Density"]
[]
[]
[]
[]
[]
[]
["Original PCS"]
["New CA"]
["New FAc"]
["New FAf"]
["Total"]
["Est VMA"]
["Act VMA"]
["Diff in VMA"]
["Est Voids"]
["Act Voids"]
["Diff in Voids"]
["Original PCS"]
["New CA"]
["New FAc"]
["New FAf"]
["Total"]
["Est VMA"]
["Act VMA"]
["Diff in VMA"]
["Est Voids"]
["Act Voids"]
["Diff in Voids"]
["Adjusted"]
["Orig PCS"]
[6]
["New CA"]
[0.35]
["New FAc"]
[0.05]
["New FAc Dip"]
[0.5]
["New FAf"]
[0.05]
["New FAf Dip"]
[0.5]
["AC Volume Correction"]
[]
[2.25]
[]
[]
["19.0mm",null,null,"19.0mm NMAS Coarse-Graded Mix",null,null,null,"Half = 9.5mm,  PCS = 4.75mm,  SCS = 1.18mm,  TCS = 0.300mm"]
[]
["50.0mm",null,null,null,null,null,null,null,"Suggested Ranges for Ratios"]
["37.5mm",null,null,null,null,null,null,null,"Principle","Min","Max"]
["25.0mm",null,null,null,null,null,null,null,"CA",0.6,0.75]
["19.0mm",null,null,null,null,null,null,null,"FAc",0.35,0.5]
["12.5mm",null,null,null,null,null,null,null,"FAf",0.35,0.5]
["9.5mm"]
["4.75mm"]
["2.36mm"]
["1.18mm"]
["0.600mm"]
["0.300mm"]
["0.150mm"]
["0.075mm"]
["% AC"]
["% AC Absptn"]
["Actual VMA"]
["Actual Voids"]
["CA"]
["FAc"]
["FAf"]
[]
[]
[]
["PCS"]
["CA"]
["FAc"]
["FAf"]
["Total"]
["Est VMA"]
["Act VMA"]
["Diff in VMA"]
["Est Voids"]
["Act Voids"]
["Diff in Voids"]
["PCS"]
["CA"]
["FAc"]
["FAf"]
["Total"]
["Est VMA"]
["Act VMA"]
["Diff in VMA"]
["Est Voids"]
["Act Voids"]
["Diff in Voids"]
["Original","Est Pba"]
["PCS","Gsb"]
[4,"Gmb1"]
["CA","Gmb2"]
[0.2,"Gmb3"]
["FAc","Avg"]
[0.05,"Gmm1"]
["FAc Dip","Gmm2"]
[0.55000000000000004,"Avg"]
["FAf","VMA"]
[0.05,"Voids"]
["FAf Dip","Gse"]
[0.55000000000000004,"Pba"]
["AC Volume Correction","Eff AC"]
[null,"AC Gb"]
[2.25,1.03]
[null,"Density"]
[]
[]
[]
[]
[]
[]
["PCS"]
["CA"]
["FAc"]
["FAf"]
["Total"]
["Est VMA"]
["Act VMA"]
["Diff in VMA"]
["Est Voids"]
["Act Voids"]
["Diff in Voids"]
["PCS"]
["CA"]
["FAc"]
["FAf"]
["Total"]
["Est VMA"]
["Act VMA"]
["Diff in VMA"]
["Est Voids"]
["Act Voids"]
["Diff in Voids"]
["Adjusted"]
["PCS"]
[4]
["CA"]
[0.2]
["FAc"]
[0.05]
["FAc Dip"]
[0.55000000000000004]
["FAf"]
[0.05]
["FAf Dip"]
[0.55000000000000004]
["AC Volume Correction"]
[]
[2.25]
[]
[]
["19.0mm",null,null,"19.0mm NMAS SMA Mix",null,null,null,"Half = 9.5mm,  PCS = 4.75mm,  SCS = 1.18mm,  TCS = 0.300mm"]
[]
["50.0mm",null,null,null,null,null,null,null,"Suggested Ranges for Ratios"]
["37.5mm",null,null,null,null,null,null,null,"Principle","Min","Max"]
["25.0mm",null,null,null,null,null,null,null,"CA",0.35,0.5]
["19.0mm",null,null,null,null,null,null,null,"FAc",0.6,0.85]
["12.5mm",null,null,null,null,null,null,null,"FAf",0.65,0.9]
["9.5mm"]
["4.75mm"]
["2.36mm"]
["1.18mm"]
["0.600mm"]
["0.300mm"]
["0.150mm"]
["0.075mm"]
["% AC"]
["% AC Absptn"]
["Actual VMA"]
["Actual Voids"]
["CA"]
["FAc"]
["FAf"]
[]
[]
[]
["PCS"]
["CA"]
["FAc"]
["FAf"]
["Total"]
["Est VMA"]
["Act VMA"]
["Diff in VMA"]
["Est Voids"]
["Act Voids"]
["Diff in Voids"]
["PCS"]
["CA"]
["FAc"]
["FAf"]
["Total"]
["Est VMA"]
["Act VMA"]
["Diff in VMA"]
["Est Voids"]
["Act Voids"]
["Diff in Voids"]
["Original","Est Pba"]
["PCS","Gsb"]
[2,"Gmb1"]
["CA","Gmb2"]
[0.2,"Gmb3"]
["FAc","Avg"]
[0.1,"Gmm1"]
["FAc Dip","Gmm2"]
[0.65,"Avg"]
["FAf","VMA"]
[0.1,"Voids"]
["FAf Dip","Gse"]
[0.7,"Pba"]
["AC Volume Correction","Eff AC"]
[null,"AC Gb"]
[2.25,1.03]
[null,"Density"]
[]
[]
[]
[]
[]
[]
["PCS"]
["CA"]
["FAc"]
["FAf"]
["Total"]
["Est VMA"]
["Act VMA"]
["Diff in VMA"]
["Est Voids"]
["Act Voids"]
["Diff in Voids"]
["PCS"]
["CA"]
["FAc"]
["FAf"]
["Total"]
["Est VMA"]
["Act VMA"]
["Diff in VMA"]
["Est Voids"]
["Act Voids"]
["Diff in Voids"]
["Adjusted"]
["PCS"]
[2]
["CA"]
[0.2]
["FAc"]
[0.1]
["FAc Dip"]
[0.65]
["FAf"]
[0.1]
["FAf Dip"]
[0.7]
["AC Volume Correction"]
[]
[2.25]
[]
[]
["12.5mm",null,null,"12.5mm NMAS Fine-Graded Mix",null,null,null,"New Half = 1.18mm,    New PCS = 0.600mm,    New SCS = 0.150mm"]
[]
["50.0mm",null,null,null,null,null,null,null,null,"Factor Limits"]
["37.5mm",null,null,null,null,null,null,null,null,"For Optimization Macro"]
["25.0mm",null,null,null,null,null,null,null,"Factor","Min","Max"]
["19.0mm",null,null,null,null,null,null,null,"Orig PCS",5,7]
["12.5mm",null,null,null,null,null,null,null,"New CA",0.25,0.45]
["9.5mm",null,null,null,null,null,null,null,"New FAc",2.5000000000000001E-2,7.4999999999999997E-2]
["6.35mm",null,{"$f":"IF(C$12=0,\" \",C1142-(0.6632*(C1142-C1144)))","v":" "},null,null,null,null,null,"New FAc Dip",0.4,0.6]
["4.75mm"]
["2.36mm"]
["1.18mm",null,null,null,null,null,null,null,"AC Volume",1.5,3]
["0.600mm",null,null,null,null,null,null,null,"Actual Sample Values For New FA Ratios"]
["0.300mm",null,null,null,null,null,null,null,null,"Min","Max"]
["0.150mm",null,null,null,null,null,null,null,"New FAc",{"$f":"IF(SUM(NewFAcValues)=0,\" \",MIN(NewFAcValues))","v":" "},{"$f":"IF(SUM(NewFAcValues)=0,\" \",MAX(NewFAcValues))","v":" "}]
["0.075mm"]
["% AC"]
["% AC Absptn",null,null,null,null,null,null,null,null,"Rules-of-Thumb Values"]
["Actual VMA",null,null,null,null,null,null,null,null,"Factor","Rule-of-Thumb"]
["Actual Voids",null,null,null,null,null,null,null,null,"Orig PCS",6]
["CA",null,{"$f":"IF(C$13=0,\" \",ROUND((C1143-C1145)/(100-C1143),3))","v":" "},null,null,null,null,null,null,"New CA",0.35]
["FAc",null,{"$f":"IF(C$13=0,\" \",ROUND((C1147/C1145),3))","v":" "},null,null,null,null,null,null,"New FAc",0.05]
["FAf",null,{"$f":"IF(C$13=0,\" \",ROUND((C1149/C1147),3))","v":" "},null,null,null,null,null,null,"New FAc Dip",0.5]
["New CA",null,{"$f":"IF(C$13=0,\" \",IF(OR(MixType=\"CG\",MixType=\"SMA\"),\" \",ROUND((C1146-C1147)/(C1145-C1146),3)))","v":" "}]
["New FAc",null,{"$f":"IF(C$13=0,\" \",IF(OR(MixType=\"CG\",MixType=\"SMA\"),\" \",ROUND(C1149/C1147,3)))","v":" "}]
[null,null,null,null,null,null,null,null,null,"AC Volume",2.25]
["Original PCS"]
["New CA",null,null,null,null,null,null,null,null,"Max Change Allowed"]
["New FAc",null,null,null,null,null,null,null,null,"Factor","Max Change"]
[null,null,null,null,null,null,null,null,null,"Orig PCS",0.5]
["Total",null,null,null,null,null,null,null,null,"New CA",0.05]
["Est VMA",null,null,null,null,null,null,null,null,"New FAc",2.5000000000000001E-2]
["Act VMA",null,null,null,null,null,null,null,null,"New FAc Dip"]
["Diff in VMA"]
["Est Voids"]
["Act Voids",null,null,null,null,null,null,null,null,"AC Volume"]
["Diff in Voids"]
["Original PCS",null,null,null,null,null,null,null,null,"Macros - Incremental Change"]
["New CA",null,null,null,null,null,null,null,null,"Factor","Increment"]
["New FAc",null,null,null,null,null,null,null,null,"Orig PCS",0.05]
[null,null,null,null,null,null,null,null,null,"New CA",5.0000000000000001E-3]
["Total",null,null,null,null,null,null,null,null,"New FAc",5.0000000000000001E-3]
["Est VMA",null,null,null,null,null,null,null,null,"New FAc Dip",1E-3]
["Act VMA"]
["Diff in VMA"]
["Est Voids",null,null,null,null,null,null,null,null,"Max Loop",20]
["Act Voids"]
["Diff in Voids",null,null,null,null,null,null,null,"Suggested Ranges for Ratios"]
["Original","Est Pba",null,null,null,null,null,null,"Principle","Min","Max"]
["Orig PCS","Gsb",null,null,null,null,null,null,"CA",0.5,0.65]
[6,"Gmb1",null,null,null,null,null,null,"FAc",0.35,0.5]
["New CA","Gmb2",null,null,null,null,null,null,"FAf",0.35,0.5]
[0.35,"Gmb3",null,null,null,null,null,null,"New CA",0.6,1]
["New FAc","Avg",null,null,null,null,null,null,"New FAc",0.35,0.5]
[0.05,"Gmm1"]
["New FAc Dip","Gmm2"]
[0.5,"Avg"]
["New FAf","VMA"]
[null,"Voids"]
["New FAf Dip","Gse"]
[null,"Pba"]
["AC Volume Correction","Eff AC"]
[null,"AC Gb"]
[2.25,1.03]
[null,"Density"]
[]
[]
[]
[]
[]
[]
["Original PCS"]
["New CA"]
["New FAc"]
[]
["Total"]
["Est VMA"]
["Act VMA"]
["Diff in VMA"]
["Est Voids"]
["Act Voids"]
["Diff in Voids"]
["Original PCS"]
["New CA"]
["New FAc"]
[]
["Total"]
["Est VMA"]
["Act VMA"]
["Diff in VMA"]
["Est Voids"]
["Act Voids"]
["Diff in Voids"]
["Adjusted"]
["Orig PCS"]
[6]
["New CA"]
[0.35]
["New FAc"]
[0.05]
["New FAc Dip"]
[0.5]
["New FAf"]
[]
["New FAf Dip"]
[]
["AC Volume Correction"]
[]
[2.25]
[]
[]
["12.5mm",null,null,"12.5mm NMAS Coarse-Graded Mix",null,null,null,"Half = 6.35mm,  PCS = 2.36mm,  SCS = 0.600mm,  TCS = 0.150mm"]
[]
["50.0mm",null,null,null,null,null,null,null,"Suggested Ranges for Ratios"]
["37.5mm",null,null,null,null,null,null,null,"Principle","Min","Max"]
["25.0mm",null,null,null,null,null,null,null,"CA",0.5,0.65]
["19.0mm",null,null,null,null,null,null,null,"FAc",0.35,0.5]
["12.5mm",null,null,null,null,null,null,null,"FAf",0.35,0.5]
["9.5mm"]
["6.35mm"]
["4.75mm"]
["2.36mm"]
["1.18mm"]
["0.600mm"]
["0.300mm"]
["0.150mm"]
["0.075mm"]
["% AC"]
["% AC Absptn"]
["Actual VMA"]
["Actual Voids"]
["CA"]
["FAc"]
["FAf"]
[]
[]
[]
["PCS"]
["CA"]
["FAc"]
["FAf"]
["Total"]
["Est VMA"]
["Act VMA"]
["Diff in VMA"]
["Est Voids"]
["Act Voids"]
["Diff in Voids"]
["PCS"]
["CA"]
["FAc"]
["FAf"]
["Total"]
["Est VMA"]
["Act VMA"]
["Diff in VMA"]
["Est Voids"]
["Act Voids"]
["Diff in Voids"]
["Original","Est Pba"]
["PCS","Gsb"]
[4,"Gmb1"]
["CA","Gmb2"]
[0.2,"Gmb3"]
["FAc","Avg"]
[0.05,"Gmm1"]
["FAc Dip","Gmm2"]
[0.55000000000000004,"Avg"]
["FAf","VMA"]
[0.05,"Voids"]
["FAf Dip","Gse"]
[0.55000000000000004,"Pba"]
["AC Volume Correction","Eff AC"]
[null,"AC Gb"]
[2.25,1.03]
[null,"Density"]
[]
[]
[]
[]
[]
[]
["PCS"]
["CA"]
["FAc"]
["FAf"]
["Total"]
["Est VMA"]
["Act VMA"]
["Diff in VMA"]
["Est Voids"]
["Act Voids"]
["Diff in Voids"]
["PCS"]
["CA"]
["FAc"]
["FAf"]
["Total"]
["Est VMA"]
["Act VMA"]
["Diff in VMA"]
["Est Voids"]
["Act Voids"]
["Diff in Voids"]
["Adjusted"]
["PCS"]
[4]
["CA"]
[0.2]
["FAc"]
[0.05]
["FAc Dip"]
[0.55000000000000004]
["FAf"]
[0.05]
["FAf Dip"]
[0.55000000000000004]
["AC Volume Correction"]
[]
[2.25]
[]
[]
["12.5mm",null,null,"12.5mm NMAS SMA Mix",null,null,null,"Half = 6.35mm,  PCS = 2.36mm,  SCS = 0.600mm,  TCS = 0.150mm"]
[]
["50.0mm",null,null,null,null,null,null,null,"Suggested Ranges for Ratios"]
["37.5mm",null,null,null,null,null,null,null,"Principle","Min","Max"]
["25.0mm",null,null,null,null,null,null,null,"CA",0.25,0.4]
["19.0mm",null,null,null,null,null,null,null,"FAc",0.6,0.85]
["12.5mm",null,null,null,null,null,null,null,"FAf",0.65,0.9]
["9.5mm"]
["6.35mm"]
["4.75mm"]
["2.36mm"]
["1.18mm"]
["0.600mm"]
["0.300mm"]
["0.150mm"]
["0.075mm"]
["% AC"]
["% AC Absptn"]
["Actual VMA"]
["Actual Voids"]
["CA"]
["FAc"]
["FAf"]
[]
[]
[]
["PCS"]
["CA"]
["FAc"]
["FAf"]
["Total"]
["Est VMA"]
["Act VMA"]
["Diff in VMA"]
["Est Voids"]
["Act Voids"]
["Diff in Voids"]
["PCS"]
["CA"]
["FAc"]
["FAf"]
["Total"]
["Est VMA"]
["Act VMA"]
["Diff in VMA"]
["Est Voids"]
["Act Voids"]
["Diff in Voids"]
["Original","Est Pba"]
["PCS","Gsb"]
[2,"Gmb1"]
["CA","Gmb2"]
[0.2,"Gmb3"]
["FAc","Avg"]
[0.1,"Gmm1"]
["FAc Dip","Gmm2"]
[0.65,"Avg"]
["FAf","VMA"]
[0.1,"Voids"]
["FAf Dip","Gse"]
[0.7,"Pba"]
["AC Volume Correction","Eff AC"]
[null,"AC Gb"]
[2.25,1.03]
[null,"Density"]
[]
[]
[]
[]
[]
[]
["PCS"]
["CA"]
["FAc"]
["FAf"]
["Total"]
["Est VMA"]
["Act VMA"]
["Diff in VMA"]
["Est Voids"]
["Act Voids"]
["Diff in Voids"]
["PCS"]
["CA"]
["FAc"]
["FAf"]
["Total"]
["Est VMA"]
["Act VMA"]
["Diff in VMA"]
["Est Voids"]
["Act Voids"]
["Diff in Voids"]
["Adjusted"]
["PCS"]
[2]
["CA"]
[0.2]
["FAc"]
[0.1]
["FAc Dip"]
[0.65]
["FAf"]
[0.1]
["FAf Dip"]
[0.7]
["AC Volume Correction"]
[]
[2.25]
[]
[]
["9.5mm",null,null,"9.5mm NMAS Fine-Graded Mix",null,null,null,"New Half = 1.18mm,    New PCS = 0.600mm,    New SCS = 0.150mm"]
[]
["50.0mm",null,null,null,null,null,null,null,"Suggested Ranges for Ratios"]
["37.5mm",null,null,null,null,null,null,null,"Principle","Min","Max"]
["25.0mm",null,null,null,null,null,null,null,"CA",0.4,0.55000000000000004]
["19.0mm",null,null,null,null,null,null,null,"FAc",0.35,0.5]
["12.5mm",null,null,null,null,null,null,null,"FAf",0.35,0.5]
["9.5mm",null,null,null,null,null,null,null,"New CA",0.6,1]
["4.75mm",null,null,null,null,null,null,null,"New FAc",0.35,0.5]
["2.36mm"]
["1.18mm"]
["0.600mm"]
["0.300mm"]
["0.150mm"]
["0.075mm"]
["% AC"]
["% AC Absptn"]
["Actual VMA"]
["Actual Voids"]
["CA"]
["FAc"]
["FAf"]
["New CA"]
["New FAc"]
[]
["Original PCS"]
["New CA"]
["New FAc"]
[]
["Total"]
["Est VMA"]
["Act VMA"]
["Diff in VMA"]
["Est Voids"]
["Act Voids"]
["Diff in Voids"]
["Original PCS"]
["New CA"]
["New FAc"]
[]
["Total"]
["Est VMA"]
["Act VMA"]
["Diff in VMA"]
["Est Voids"]
["Act Voids"]
["Diff in Voids"]
["Original","Est Pba"]
["Orig PCS","Gsb"]
[6,"Gmb1"]
["New CA","Gmb2"]
[0.35,"Gmb3"]
["New FAc","Avg"]
[0.05,"Gmm1"]
["New FAc Dip","Gmm2"]
[0.5,"Avg"]
["New FAf","VMA"]
[null,"Voids"]
["New FAf Dip","Gse"]
[null,"Pba"]
["AC Volume Correction","Eff AC"]
[null,"AC Gb"]
[2.25,1.03]
[null,"Density"]
[]
[]
[]
[]
[]
[]
["Original PCS"]
["New CA"]
["New FAc"]
[]
["Total"]
["Est VMA"]
["Act VMA"]
["Diff in VMA"]
["Est Voids"]
["Act Voids"]
["Diff in Voids"]
["Original PCS"]
["New CA"]
["New FAc"]
[]
["Total"]
["Est VMA"]
["Act VMA"]
["Diff in VMA"]
["Est Voids"]
["Act Voids"]
["Diff in Voids"]
["Adjusted"]
["Orig PCS"]
[6]
["New CA"]
[0.35]
["New FAc"]
[0.05]
["New FAc Dip"]
[0.5]
["New FAf"]
[]
["New FAf Dip"]
[]
["AC Volume Correction"]
[]
[2.25]
[]
[]
["9.5mm",null,null,"9.5mm NMAS Coarse-Graded Mix",null,null,null,"Half = 4.75mm,  PCS = 2.36mm,  SCS = 0.600mm,  TCS = 0.150mm"]
[]
["50.0mm",null,null,null,null,null,null,null,"Suggested Ranges for Ratios"]
["37.5mm",null,null,null,null,null,null,null,"Principle","Min","Max"]
["25.0mm",null,null,null,null,null,null,null,"CA",0.4,0.55000000000000004]
["19.0mm",null,null,null,null,null,null,null,"FAc",0.35,0.5]
["12.5mm",null,null,null,null,null,null,null,"FAf",0.35,0.5]
["9.5mm"]
["4.75mm"]
["2.36mm"]
["1.18mm"]
["0.600mm"]
["0.300mm"]
["0.150mm"]
["0.075mm"]
["% AC"]
["% AC Absptn"]
["Actual VMA"]
["Actual Voids"]
["CA"]
["FAc"]
["FAf"]
[]
[]
[]
["PCS"]
["CA"]
["FAc"]
["FAf"]
["Total"]
["Est VMA"]
["Act VMA"]
["Diff in VMA"]
["Est Voids"]
["Act Voids"]
["Diff in Voids"]
["PCS"]
["CA"]
["FAc"]
["FAf"]
["Total"]
["Est VMA"]
["Act VMA"]
["Diff in VMA"]
["Est Voids"]
["Act Voids"]
["Diff in Voids"]
["Original","Est Pba"]
["PCS","Gsb"]
[4,"Gmb1"]
["CA","Gmb2"]
[0.2,"Gmb3"]
["FAc","Avg"]
[0.05,"Gmm1"]
["FAc Dip","Gmm2"]
[0.55000000000000004,"Avg"]
["FAf","VMA"]
[0.05,"Voids"]
["FAf Dip","Gse"]
[0.55000000000000004,"Pba"]
["AC Volume Correction","Eff AC"]
[null,"AC Gb"]
[2.25,1.03]
[null,"Density"]
[]
[]
[]
[]
[]
[]
["PCS"]
["CA"]
["FAc"]
["FAf"]
["Total"]
["Est VMA"]
["Act VMA"]
["Diff in VMA"]
["Est Voids"]
["Act Voids"]
["Diff in Voids"]
["PCS"]
["CA"]
["FAc"]
["FAf"]
["Total"]
["Est VMA"]
["Act VMA"]
["Diff in VMA"]
["Est Voids"]
["Act Voids"]
["Diff in Voids"]
["Adjusted"]
["PCS"]
[4]
["CA"]
[0.2]
["FAc"]
[0.05]
["FAc Dip"]
[0.55000000000000004]
["FAf"]
[0.05]
["FAf Dip"]
[0.55000000000000004]
["AC Volume Correction"]
[]
[2.25]
[]
[]
["9.5mm",null,null,"9.5mm NMAS SMA Mix",null,null,null,"Half = 4.75mm,  PCS = 2.36mm,  SCS = 0.600mm,  TCS = 0.150mm"]
[]
["50.0mm",null,null,null,null,null,null,null,"Suggested Ranges for Ratios"]
["37.5mm",null,null,null,null,null,null,null,"Principle","Min","Max"]
["25.0mm",null,null,null,null,null,null,null,"CA",0.15,0.3]
["19.0mm",null,null,null,null,null,null,null,"FAc",0.6,0.85]
["12.5mm",null,null,null,null,null,null,null,"FAf",0.65,0.9]
["9.5mm"]
["4.75mm"]
["2.36mm"]
["1.18mm"]
["0.600mm"]
["0.300mm"]
["0.150mm"]
["0.075mm"]
["% AC"]
["% AC Absptn"]
["Actual VMA"]
["Actual Voids"]
["CA"]
["FAc"]
["FAf"]
[]
[]
[]
["PCS"]
["CA"]
["FAc"]
["FAf"]
["Total"]
["Est VMA"]
["Act VMA"]
["Diff in VMA"]
["Est Voids"]
["Act Voids"]
["Diff in Voids"]
["PCS"]
["CA"]
["FAc"]
["FAf"]
["Total"]
["Est VMA"]
["Act VMA"]
["Diff in VMA"]
["Est Voids"]
["Act Voids"]
["Diff in Voids"]
["Original","Est Pba"]
["PCS","Gsb"]
[2,"Gmb1"]
["CA","Gmb2"]
[0.2,"Gmb3"]
["FAc","Avg"]
[0.1,"Gmm1"]
["FAc Dip","Gmm2"]
[0.65,"Avg"]
["FAf","VMA"]
[0.1,"Voids"]
["FAf Dip","Gse"]
[0.7,"Pba"]
["AC Volume Correction","Eff AC"]
[null,"AC Gb"]
[2.25,1.03]
[null,"Density"]
[]
[]
[]
[]
[]
[]
["PCS"]
["CA"]
["FAc"]
["FAf"]
["Total"]
["Est VMA"]
["Act VMA"]
["Diff in VMA"]
["Est Voids"]
["Act Voids"]
["Diff in Voids"]
["PCS"]
["CA"]
["FAc"]
["FAf"]
["Total"]
["Est VMA"]
["Act VMA"]
["Diff in VMA"]
["Est Voids"]
["Act Voids"]
["Diff in Voids"]
["Adjusted"]
["PCS"]
[2]
["CA"]
[0.2]
["FAc"]
[0.1]
["FAc Dip"]
[0.65]
["FAf"]
[0.1]
["FAf Dip"]
[0.7]
["AC Volume Correction"]
[]
[2.25]
[]
[]
["4.75mm",null,null,"4.75mm NMAS Fine-Graded Mix",null,null,null,"New Half = 0.600mm,    New PCS = 0.300mm,    New SCS = 0.075mm"]
[]
["50.0mm",null,null,null,null,null,null,null,"Suggested Ranges for Ratios"]
["37.5mm",null,null,null,null,null,null,null,"Principle","Min","Max"]
["25.0mm",null,null,null,null,null,null,null,"CA",0.3,0.45]
["19.0mm",null,null,null,null,null,null,null,"FAc",0.35,0.5]
["12.5mm",null,null,null,null,null,null,null,"FAf",0.35,0.5]
["9.5mm",null,null,null,null,null,null,null,"New CA",0.6,1]
["4.75mm",null,null,null,null,null,null,null,"New FAc",0.35,0.5]
["2.36mm"]
["1.18mm"]
["0.600mm"]
["0.300mm"]
["0.150mm"]
["0.075mm"]
["% AC"]
["% AC Absptn"]
["Actual VMA"]
["Actual Voids"]
["CA"]
["FAc"]
["FAf"]
["New CA"]
["New FAc"]
[]
["Original PCS"]
["New CA"]
["New FAc"]
[]
["Total"]
["Est VMA"]
["Act VMA"]
["Diff in VMA"]
["Est Voids"]
["Act Voids"]
["Diff in Voids"]
["Original PCS"]
["New CA"]
["New FAc"]
[]
["Total"]
["Est VMA"]
["Act VMA"]
["Diff in VMA"]
["Est Voids"]
["Act Voids"]
["Diff in Voids"]
["Original","Est Pba"]
["Orig PCS","Gsb"]
[6,"Gmb1"]
["New CA","Gmb2"]
[0.35,"Gmb3"]
["New FAc","Avg"]
[0.05,"Gmm1"]
["New FAc Dip","Gmm2"]
[0.5,"Avg"]
["New FAf","VMA"]
[null,"Voids"]
["New FAf Dip","Gse"]
[null,"Pba"]
["AC Volume Correction","Eff AC"]
[null,"AC Gb"]
[2.25,1.03]
[null,"Density"]
[]
[]
[]
[]
[]
[]
["Original PCS"]
["New CA"]
["New FAc"]
[]
["Total"]
["Est VMA"]
["Act VMA"]
["Diff in VMA"]
["Est Voids"]
["Act Voids"]
["Diff in Voids"]
["Original PCS"]
["New CA"]
["New FAc"]
[]
["Total"]
["Est VMA"]
["Act VMA"]
["Diff in VMA"]
["Est Voids"]
["Act Voids"]
["Diff in Voids"]
["Adjusted"]
["Orig PCS"]
[6]
["New CA"]
[0.35]
["New FAc"]
[0.05]
["New FAc Dip"]
[0.5]
["New FAf"]
[]
["New FAf Dip"]
[]
["AC Volume Correction"]
[]
[2.25]
[]
[]
["4.75mm",null,null,"4.75mm NMAS Coarse-Graded Mix",null,null,null,"Half = 2.36mm,  PCS = 1.18mm,  SCS = 0.300mm,  TCS = 0.075mm"]
[]
["50.0mm",null,null,null,null,null,null,null,"Suggested Ranges for Ratios"]
["37.5mm",null,null,null,null,null,null,null,"Principle","Min","Max"]
["25.0mm",null,null,null,null,null,null,null,"CA",0.3,0.45]
["19.0mm",null,null,null,null,null,null,null,"FAc",0.35,0.5]
["12.5mm",null,null,null,null,null,null,null,"FAf",0.35,0.5]
["9.5mm"]
["4.75mm"]
["2.36mm"]
["1.18mm"]
["0.600mm"]
["0.300mm"]
["0.150mm"]
["0.075mm"]
["% AC"]
["% AC Absptn"]
["Actual VMA"]
["Actual Voids"]
["CA"]
["FAc"]
["FAf"]
[]
[]
[]
["PCS"]
["CA"]
["FAc"]
["FAf"]
["Total"]
["Est VMA"]
["Act VMA"]
["Diff in VMA"]
["Est Voids"]
["Act Voids"]
["Diff in Voids"]
["PCS"]
["CA"]
["FAc"]
["FAf"]
["Total"]
["Est VMA"]
["Act VMA"]
["Diff in VMA"]
["Est Voids"]
["Act Voids"]
["Diff in Voids"]
["Original","Est Pba"]
["PCS","Gsb"]
[4,"Gmb1"]
["CA","Gmb2"]
[0.2,"Gmb3"]
["FAc","Avg"]
[0.05,"Gmm1"]
["FAc Dip","Gmm2"]
[0.55000000000000004,"Avg"]
["FAf","VMA"]
[0.05,"Voids"]
["FAf Dip","Gse"]
[0.55000000000000004,"Pba"]
["AC Volume Correction","Eff AC"]
[null,"AC Gb"]
[2.25,1.03]
[null,"Density"]
[]
[]
[]
[]
[]
[]
["PCS"]
["CA"]
["FAc"]
["FAf"]
["Total"]
["Est VMA"]
["Act VMA"]
["Diff in VMA"]
["Est Voids"]
["Act Voids"]
["Diff in Voids"]
["PCS"]
["CA"]
["FAc"]
["FAf"]
["Total"]
["Est VMA"]
["Act VMA"]
["Diff in VMA"]
["Est Voids"]
["Act Voids"]
["Diff in Voids"]
["Adjusted"]
["PCS"]
[4]
["CA"]
[0.2]
["FAc"]
[0.05]
["FAc Dip"]
[0.55000000000000004]
["FAf"]
[0.05]
["FAf Dip"]
[0.55000000000000004]
["AC Volume Correction"]
[]
[2.25]
[]
[]
["4.75mm",null,null,"4.75mm NMAS SMA Mix",null,null,null,"Half = 2.36mm,  PCS = 1.18mm,  SCS = 0.300mm,  TCS = 0.075mm"]
[]
["50.0mm",null,null,null,null,null,null,null,"Suggested Ranges for Ratios"]
["37.5mm",null,null,null,null,null,null,null,"Principle","Min","Max"]
["25.0mm",null,null,null,null,null,null,null,"CA",0.05,0.2]
["19.0mm",null,null,null,null,null,null,null,"FAc",0.6,0.85]
["12.5mm",null,null,null,null,null,null,null,"FAf",0.65,0.9]
["9.5mm"]
["4.75mm"]
["2.36mm"]
["1.18mm"]
["0.600mm"]
["0.300mm"]
["0.150mm"]
["0.075mm"]
["% AC"]
["% AC Absptn"]
["Actual VMA"]
["Actual Voids"]
["CA"]
["FAc"]
["FAf"]
[]
[]
[]
["PCS"]
["CA"]
["FAc"]
["FAf"]
["Total"]
["Est VMA"]
["Act VMA"]
["Diff in VMA"]
["Est Voids"]
["Act Voids"]
["Diff in Voids"]
["PCS"]
["CA"]
["FAc"]
["FAf"]
["Total"]
["Est VMA"]
["Act VMA"]
["Diff in VMA"]
["Est Voids"]
["Act Voids"]
["Diff in Voids"]
["Original","Est Pba"]
["PCS","Gsb"]
[2,"Gmb1"]
["CA","Gmb2"]
[0.2,"Gmb3"]
["FAc","Avg"]
[0.1,"Gmm1"]
["FAc Dip","Gmm2"]
[0.65,"Avg"]
["FAf","VMA"]
[0.1,"Voids"]
["FAf Dip","Gse"]
[0.7,"Pba"]
["AC Volume Correction","Eff AC"]
[null,"AC Gb"]
[2.25,1.03]
[null,"Density"]
[]
[]
[]
[]
[]
[]
["PCS"]
["CA"]
["FAc"]
["FAf"]
["Total"]
["Est VMA"]
["Act VMA"]
["Diff in VMA"]
["Est Voids"]
["Act Voids"]
["Diff in Voids"]
["PCS"]
["CA"]
["FAc"]
["FAf"]
["Total"]
["Est VMA"]
["Act VMA"]
["Diff in VMA"]
["Est Voids"]
["Act Voids"]
["Diff in Voids"]
["Adjusted"]
["PCS"]
[2]
["CA"]
[0.2]
["FAc"]
[0.1]
["FAc Dip"]
[0.65]
["FAf"]
[0.1]
["FAf Dip"]
[0.7]
["AC Volume Correction"]
[]
[2.25]
[]
[]
[]
[]
[]
["1-1/2\"",null,null,"1-1/2\" NMAS Fine-Graded Mix",null,null,null,"New Half = #4,    New PCS = #8,    New SCS = #30mm,    New TCS = #100mm"]
[]
["2\""]
["1-1/2\""]
["1\""]
["3/4\""]
["1/2\""]
["3/8\""]
["#4"]
["#8"]
["#16"]
["#30"]
["#50"]
["#100"]
["#200"]
["% AC"]
["% AC Absptn"]
["Actual VMA"]
["Actual Voids"]
["CA"]
["FAc"]
["FAf"]
["New CA"]
["New FAc"]
["New FAf"]
["Original PCS"]
["New CA"]
["New FAc"]
["New FAf"]
["Total"]
["Est VMA"]
["Act VMA"]
["Diff in VMA"]
["Est Voids"]
["Act Voids"]
["Diff in Voids"]
["Original PCS"]
["New CA"]
["New FAc"]
["New FAf"]
["Total"]
["Est VMA"]
["Act VMA"]
["Diff in VMA"]
["Est Voids"]
["Act Voids"]
["Diff in Voids"]
["Original","Est Pba"]
["Orig PCS","Gsb"]
[6,"Gmb1"]
["New CA","Gmb2"]
[0.35,"Gmb3"]
["New FAc","Avg"]
[0.05,"Gmm1"]
["New FAc Dip","Gmm2"]
[0.5,"Avg"]
["New FAf","VMA"]
[0.05,"Voids"]
["New FAf Dip","Gse"]
[0.5,"Pba"]
["AC Volume Correction","Eff AC"]
[null,"AC Gb"]
[2.25,1.03]
[null,"Density"]
[]
[]
[]
[]
[]
[]
["Original PCS"]
["New CA"]
["New FAc"]
["New FAf"]
["Total"]
["Est VMA"]
["Act VMA"]
["Diff in VMA"]
["Est Voids"]
["Act Voids"]
["Diff in Voids"]
["Original PCS"]
["New CA"]
["New FAc"]
["New FAf"]
["Total"]
["Est VMA"]
["Act VMA"]
["Diff in VMA"]
["Est Voids"]
["Act Voids"]
["Diff in Voids"]
["Adjusted"]
["Orig PCS"]
[6]
["New CA"]
[0.35]
["New FAc"]
[0.05]
["New FAc Dip"]
[0.5]
["New FAf"]
[0.05]
["New FAf Dip"]
[0.5]
["AC Volume Correction"]
[]
[2.25]
[]
[]
["1-1/2\"",null,null,"1-1/2\" NMAS Coarse-Graded Mix",null,null,null,"Half = 3/4\",  PCS = 3/8\",  SCS = #8,  TCS = #30"]
[]
["2\""]
["1-1/2\""]
["1\""]
["3/4\""]
["1/2\""]
["3/8\""]
["#4"]
["#8"]
["#16"]
["#30"]
["#50"]
["#100"]
["#200"]
["% AC"]
["% AC Absptn"]
["Actual VMA"]
["Actual Voids"]
["CA"]
["FAc"]
["FAf"]
[]
[]
[]
["PCS"]
["CA"]
["FAc"]
["FAf"]
["Total"]
["Est VMA"]
["Act VMA"]
["Diff in VMA"]
["Est Voids"]
["Act Voids"]
["Diff in Voids"]
["PCS"]
["CA"]
["FAc"]
["FAf"]
["Total"]
["Est VMA"]
["Act VMA"]
["Diff in VMA"]
["Est Voids"]
["Act Voids"]
["Diff in Voids"]
["Original","Est Pba"]
["PCS","Gsb"]
[4,"Gmb1"]
["CA","Gmb2"]
[0.2,"Gmb3"]
["FAc","Avg"]
[0.05,"Gmm1"]
["FAc Dip","Gmm2"]
[0.55000000000000004,"Avg"]
["FAf","VMA"]
[0.05,"Voids"]
["FAf Dip","Gse"]
[0.55000000000000004,"Pba"]
["AC Volume Correction","Eff AC"]
[null,"AC Gb"]
[2.25,1.03]
[null,"Density"]
[]
[]
[]
[]
[]
[]
["PCS"]
["CA"]
["FAc"]
["FAf"]
["Total"]
["Est VMA"]
["Act VMA"]
["Diff in VMA"]
["Est Voids"]
["Act Voids"]
["Diff in Voids"]
["PCS"]
["CA"]
["FAc"]
["FAf"]
["Total"]
["Est VMA"]
["Act VMA"]
["Diff in VMA"]
["Est Voids"]
["Act Voids"]
["Diff in Voids"]
["Adjusted"]
["PCS"]
[4]
["CA"]
[0.2]
["FAc"]
[0.05]
["FAc Dip"]
[0.55000000000000004]
["FAf"]
[0.05]
["FAf Dip"]
[0.55000000000000004]
["AC Volume Correction"]
[]
[2.25]
[]
[]
["1\"",null,null,"1\" NMAS Fine-Graded Mix",null,null,null,"New Half = #8,    New PCS = #16,    New SCS = #50,    New TCS = #200"]
[]
["2\""]
["1-1/2\""]
["1\""]
["3/4\""]
["1/2\""]
["3/8\""]
["#4"]
["#8"]
["#16"]
["#30"]
["#50"]
["#100"]
["#200"]
["% AC"]
["% AC Absptn"]
["Actual VMA"]
["Actual Voids"]
["CA"]
["FAc"]
["FAf"]
["New CA"]
["New FAc"]
["New FAf"]
["Original PCS"]
["New CA"]
["New FAc"]
["New FAf"]
["Total"]
["Est VMA"]
["Act VMA"]
["Diff in VMA"]
["Est Voids"]
["Act Voids"]
["Diff in Voids"]
["Original PCS"]
["New CA"]
["New FAc"]
["New FAf"]
["Total"]
["Est VMA"]
["Act VMA"]
["Diff in VMA"]
["Est Voids"]
["Act Voids"]
["Diff in Voids"]
["Original","Est Pba"]
["Orig PCS","Gsb"]
[6,"Gmb1"]
["New CA","Gmb2"]
[0.35,"Gmb3"]
["New FAc","Avg"]
[0.05,"Gmm1"]
["New FAc Dip","Gmm2"]
[0.5,"Avg"]
["New FAf","VMA"]
[0.05,"Voids"]
["New FAf Dip","Gse"]
[0.5,"Pba"]
["AC Volume Correction","Eff AC"]
[null,"AC Gb"]
[2.25,1.03]
[null,"Density"]
[]
[]
[]
[]
[]
[]
["Original PCS"]
["New CA"]
["New FAc"]
["New FAf"]
["Total"]
["Est VMA"]
["Act VMA"]
["Diff in VMA"]
["Est Voids"]
["Act Voids"]
["Diff in Voids"]
["Original PCS"]
["New CA"]
["New FAc"]
["New FAf"]
["Total"]
["Est VMA"]
["Act VMA"]
["Diff in VMA"]
["Est Voids"]
["Act Voids"]
["Diff in Voids"]
["Adjusted"]
["Orig PCS"]
[6]
["New CA"]
[0.35]
["New FAc"]
[0.05]
["New FAc Dip"]
[0.5]
["New FAf"]
[0.05]
["New FAf Dip"]
[0.5]
["AC Volume Correction"]
[]
[2.25]
[]
[]
["1\"",null,null,"1\" NMAS Coarse-Graded Mix",null,null,null,"Half = 1/2\",  PCS = #4,  SCS = #16,  TCS = #50"]
[]
["2\""]
["1-1/2\""]
["1\""]
["3/4\""]
["1/2\""]
["3/8\""]
["#4"]
["#8"]
["#16"]
["#30"]
["#50"]
["#100"]
["#200"]
["% AC"]
["% AC Absptn"]
["Actual VMA"]
["Actual Voids"]
["CA"]
["FAc"]
["FAf"]
[]
[]
[]
["PCS"]
["CA"]
["FAc"]
["FAf"]
["Total"]
["Est VMA"]
["Act VMA"]
["Diff in VMA"]
["Est Voids"]
["Act Voids"]
["Diff in Voids"]
["PCS"]
["CA"]
["FAc"]
["FAf"]
["Total"]
["Est VMA"]
["Act VMA"]
["Diff in VMA"]
["Est Voids"]
["Act Voids"]
["Diff in Voids"]
["Original","Est Pba"]
["PCS","Gsb"]
[4,"Gmb1"]
["CA","Gmb2"]
[0.2,"Gmb3"]
["FAc","Avg"]
[0.05,"Gmm1"]
["FAc Dip","Gmm2"]
[0.55000000000000004,"Avg"]
["FAf","VMA"]
[0.05,"Voids"]
["FAf Dip","Gse"]
[0.55000000000000004,"Pba"]
["AC Volume Correction","Eff AC"]
[null,"AC Gb"]
[2.25,1.03]
[null,"Density"]
[]
[]
[]
[]
[]
[]
["PCS"]
["CA"]
["FAc"]
["FAf"]
["Total"]
["Est VMA"]
["Act VMA"]
["Diff in VMA"]
["Est Voids"]
["Act Voids"]
["Diff in Voids"]
["PCS"]
["CA"]
["FAc"]
["FAf"]
["Total"]
["Est VMA"]
["Act VMA"]
["Diff in VMA"]
["Est Voids"]
["Act Voids"]
["Diff in Voids"]
["Adjusted"]
["PCS"]
[4]
["CA"]
[0.2]
["FAc"]
[0.05]
["FAc Dip"]
[0.55000000000000004]
["FAf"]
[0.05]
["FAf Dip"]
[0.55000000000000004]
["AC Volume Correction"]
[]
[2.25]
[]
[]
["1\"",null,null,"1\" NMAS SMA Mix",null,null,null,"Half = 1/2\",  PCS = #4,  SCS = #16,  TCS = #50"]
[]
["2\""]
["1-1/2\""]
["1\""]
["3/4\""]
["1/2\""]
["3/8\""]
["#4"]
["#8"]
["#16"]
["#30"]
["#50"]
["#100"]
["#200"]
["% AC"]
["% AC Absptn"]
["Actual VMA"]
["Actual Voids"]
["CA"]
["FAc"]
["FAf"]
[]
[]
[]
["PCS"]
["CA"]
["FAc"]
["FAf"]
["Total"]
["Est VMA"]
["Act VMA"]
["Diff in VMA"]
["Est Voids"]
["Act Voids"]
["Diff in Voids"]
["PCS"]
["CA"]
["FAc"]
["FAf"]
["Total"]
["Est VMA"]
["Act VMA"]
["Diff in VMA"]
["Est Voids"]
["Act Voids"]
["Diff in Voids"]
["Original","Est Pba"]
["PCS","Gsb"]
[2,"Gmb1"]
["CA","Gmb2"]
[0.2,"Gmb3"]
["FAc","Avg"]
[0.1,"Gmm1"]
["FAc Dip","Gmm2"]
[0.65,"Avg"]
["FAf","VMA"]
[0.1,"Voids"]
["FAf Dip","Gse"]
[0.7,"Pba"]
["AC Volume Correction","Eff AC"]
[null,"AC Gb"]
[2.25,1.03]
[null,"Density"]
[]
[]
[]
[]
[]
[]
["PCS"]
["CA"]
["FAc"]
["FAf"]
["Total"]
["Est VMA"]
["Act VMA"]
["Diff in VMA"]
["Est Voids"]
["Act Voids"]
["Diff in Voids"]
["PCS"]
["CA"]
["FAc"]
["FAf"]
["Total"]
["Est VMA"]
["Act VMA"]
["Diff in VMA"]
["Est Voids"]
["Act Voids"]
["Diff in Voids"]
["Adjusted"]
["PCS"]
[2]
["CA"]
[0.2]
["FAc"]
[0.1]
["FAc Dip"]
[0.65]
["FAf"]
[0.1]
["FAf Dip"]
[0.7]
["AC Volume Correction"]
[]
[2.25]
[]
[]
["3/4\"",null,null,"3/4\" NMAS Fine-Graded Mix",null,null,null,"New Half = #8,    New PCS = #16,    New SCS = #50,    New TCS = #200"]
[]
["2\""]
["1-1/2\""]
["1\""]
["3/4\""]
["1/2\""]
["3/8\""]
["#4"]
["#8"]
["#16"]
["#30"]
["#50"]
["#100"]
["#200"]
["% AC"]
["% AC Absptn"]
["Actual VMA"]
["Actual Voids"]
["CA"]
["FAc"]
["FAf"]
["New CA"]
["New FAc"]
["New FAf"]
["Original PCS"]
["New CA"]
["New FAc"]
["New FAf"]
["Total"]
["Est VMA"]
["Act VMA"]
["Diff in VMA"]
["Est Voids"]
["Act Voids"]
["Diff in Voids"]
["Original PCS"]
["New CA"]
["New FAc"]
["New FAf"]
["Total"]
["Est VMA"]
["Act VMA"]
["Diff in VMA"]
["Est Voids"]
["Act Voids"]
["Diff in Voids"]
["Original","Est Pba"]
["Orig PCS","Gsb"]
[6,"Gmb1"]
["New CA","Gmb2"]
[0.35,"Gmb3"]
["New FAc","Avg"]
[0.05,"Gmm1"]
["New FAc Dip","Gmm2"]
[0.5,"Avg"]
["New FAf","VMA"]
[0.05,"Voids"]
["New FAf Dip","Gse"]
[0.5,"Pba"]
["AC Volume Correction","Eff AC"]
[null,"AC Gb"]
[2.25,1.03]
[null,"Density"]
[]
[]
[]
[]
[]
[]
["Original PCS"]
["New CA"]
["New FAc"]
["New FAf"]
["Total"]
["Est VMA"]
["Act VMA"]
["Diff in VMA"]
["Est Voids"]
["Act Voids"]
["Diff in Voids"]
["Original PCS"]
["New CA"]
["New FAc"]
["New FAf"]
["Total"]
["Est VMA"]
["Act VMA"]
["Diff in VMA"]
["Est Voids"]
["Act Voids"]
["Diff in Voids"]
["Adjusted"]
["Orig PCS"]
[6]
["New CA"]
[0.35]
["New FAc"]
[0.05]
["New FAc Dip"]
[0.5]
["New FAf"]
[0.05]
["New FAf Dip"]
[0.5]
["AC Volume Correction"]
[]
[2.25]
[]
[]
["3/4\"",null,null,"3/4\" NMAS Coarse-Graded Mix",null,null,null,"Half = 3/8\",  PCS = #4,  SCS = #16,  TCS = #50"]
[]
["2\""]
["1-1/2\""]
["1\""]
["3/4\""]
["1/2\""]
["3/8\""]
["#4"]
["#8"]
["#16"]
["#30"]
["#50"]
["#100"]
["#200"]
["% AC"]
["% AC Absptn"]
["Actual VMA"]
["Actual Voids"]
["CA"]
["FAc"]
["FAf"]
[]
[]
[]
["PCS"]
["CA"]
["FAc"]
["FAf"]
["Total"]
["Est VMA"]
["Act VMA"]
["Diff in VMA"]
["Est Voids"]
["Act Voids"]
["Diff in Voids"]
["PCS"]
["CA"]
["FAc"]
["FAf"]
["Total"]
["Est VMA"]
["Act VMA"]
["Diff in VMA"]
["Est Voids"]
["Act Voids"]
["Diff in Voids"]
["Original","Est Pba"]
["PCS","Gsb"]
[4,"Gmb1"]
["CA","Gmb2"]
[0.2,"Gmb3"]
["FAc","Avg"]
[0.05,"Gmm1"]
["FAc Dip","Gmm2"]
[0.55000000000000004,"Avg"]
["FAf","VMA"]
[0.05,"Voids"]
["FAf Dip","Gse"]
[0.55000000000000004,"Pba"]
["AC Volume Correction","Eff AC"]
[null,"AC Gb"]
[2.25,1.03]
[null,"Density"]
[]
[]
[]
[]
[]
[]
["PCS"]
["CA"]
["FAc"]
["FAf"]
["Total"]
["Est VMA"]
["Act VMA"]
["Diff in VMA"]
["Est Voids"]
["Act Voids"]
["Diff in Voids"]
["PCS"]
["CA"]
["FAc"]
["FAf"]
["Total"]
["Est VMA"]
["Act VMA"]
["Diff in VMA"]
["Est Voids"]
["Act Voids"]
["Diff in Voids"]
["Adjusted"]
["PCS"]
[4]
["CA"]
[0.2]
["FAc"]
[0.05]
["FAc Dip"]
[0.55000000000000004]
["FAf"]
[0.05]
["FAf Dip"]
[0.55000000000000004]
["AC Volume Correction"]
[]
[2.25]
[]
[]
["3/4\"",null,null,"3/4\" NMAS SMA Mix",null,null,null,"Half = 3/8\",  PCS = #4,  SCS = #16,  TCS = #50"]
[]
["2\""]
["1-1/2\""]
["1\""]
["3/4\""]
["1/2\""]
["3/8\""]
["#4"]
["#8"]
["#16"]
["#30"]
["#50"]
["#100"]
["#200"]
["% AC"]
["% AC Absptn"]
["Actual VMA"]
["Actual Voids"]
["CA"]
["FAc"]
["FAf"]
[]
[]
[]
["PCS"]
["CA"]
["FAc"]
["FAf"]
["Total"]
["Est VMA"]
["Act VMA"]
["Diff in VMA"]
["Est Voids"]
["Act Voids"]
["Diff in Voids"]
["PCS"]
["CA"]
["FAc"]
["FAf"]
["Total"]
["Est VMA"]
["Act VMA"]
["Diff in VMA"]
["Est Voids"]
["Act Voids"]
["Diff in Voids"]
["Original","Est Pba"]
["PCS","Gsb"]
[2,"Gmb1"]
["CA","Gmb2"]
[0.2,"Gmb3"]
["FAc","Avg"]
[0.1,"Gmm1"]
["FAc Dip","Gmm2"]
[0.65,"Avg"]
["FAf","VMA"]
[0.1,"Voids"]
["FAf Dip","Gse"]
[0.7,"Pba"]
["AC Volume Correction","Eff AC"]
[null,"AC Gb"]
[2.25,1.03]
[null,"Density"]
[]
[]
[]
[]
[]
[]
["PCS"]
["CA"]
["FAc"]
["FAf"]
["Total"]
["Est VMA"]
["Act VMA"]
["Diff in VMA"]
["Est Voids"]
["Act Voids"]
["Diff in Voids"]
["PCS"]
["CA"]
["FAc"]
["FAf"]
["Total"]
["Est VMA"]
["Act VMA"]
["Diff in VMA"]
["Est Voids"]
["Act Voids"]
["Diff in Voids"]
["Adjusted"]
["PCS"]
[2]
["CA"]
[0.2]
["FAc"]
[0.1]
["FAc Dip"]
[0.65]
["FAf"]
[0.1]
["FAf Dip"]
[0.7]
["AC Volume Correction"]
[]
[2.25]
[]
[]
["1/2\"",null,null,"1/2\" NMAS Fine-Graded Mix",null,null,null,"New Half = #16,    New PCS = #30,    New SCS = #100"]
[]
["2\""]
["1-1/2\""]
["1\""]
["3/4\""]
["1/2\""]
["3/8\""]
["1/4\""]
["#4"]
["#8"]
["#16"]
["#30"]
["#50"]
["#100"]
["#200"]
["% AC"]
["% AC Absptn"]
["Actual VMA"]
["Actual Voids"]
["CA"]
["FAc"]
["FAf"]
["New CA"]
["New FAc"]
[]
["Original PCS"]
["New CA"]
["New FAc"]
[]
["Total"]
["Est VMA"]
["Act VMA"]
["Diff in VMA"]
["Est Voids"]
["Act Voids"]
["Diff in Voids"]
["Original PCS"]
["New CA"]
["New FAc"]
[]
["Total"]
["Est VMA"]
["Act VMA"]
["Diff in VMA"]
["Est Voids"]
["Act Voids"]
["Diff in Voids"]
["Original","Est Pba"]
["Orig PCS","Gsb"]
[6,"Gmb1"]
["New CA","Gmb2"]
[0.35,"Gmb3"]
["New FAc","Avg"]
[0.05,"Gmm1"]
["New FAc Dip","Gmm2"]
[0.5,"Avg"]
["New FAf","VMA"]
[null,"Voids"]
["New FAf Dip","Gse"]
[null,"Pba"]
["AC Volume Correction","Eff AC"]
[null,"AC Gb"]
[2.25,1.03]
[null,"Density"]
[]
[]
[]
[]
[]
[]
["Original PCS"]
["New CA"]
["New FAc"]
[]
["Total"]
["Est VMA"]
["Act VMA"]
["Diff in VMA"]
["Est Voids"]
["Act Voids"]
["Diff in Voids"]
["Original PCS"]
["New CA"]
["New FAc"]
[]
["Total"]
["Est VMA"]
["Act VMA"]
["Diff in VMA"]
["Est Voids"]
["Act Voids"]
["Diff in Voids"]
["Adjusted"]
["Orig PCS"]
[6]
["New CA"]
[0.35]
["New FAc"]
[0.05]
["New FAc Dip"]
[0.5]
["New FAf"]
[]
["New FAf Dip"]
[]
["AC Volume Correction"]
[]
[2.25]
[]
[]
["1/2\"",null,null,"1/2\" NMAS Coarse-Graded Mix",null,null,null,"Half = 1/4\",  PCS = #8,  SCS = #30,  TCS = #100"]
[]
["2\""]
["1-1/2\""]
["1\""]
["3/4\""]
["1/2\""]
["3/8\""]
["1/4\""]
["#4"]
["#8"]
["#16"]
["#30"]
["#50"]
["#100"]
["#200"]
["% AC"]
["% AC Absptn"]
["Actual VMA"]
["Actual Voids"]
["CA"]
["FAc"]
["FAf"]
[]
[]
[]
["PCS"]
["CA"]
["FAc"]
["FAf"]
["Total"]
["Est VMA"]
["Act VMA"]
["Diff in VMA"]
["Est Voids"]
["Act Voids"]
["Diff in Voids"]
["PCS"]
["CA"]
["FAc"]
["FAf"]
["Total"]
["Est VMA"]
["Act VMA"]
["Diff in VMA"]
["Est Voids"]
["Act Voids"]
["Diff in Voids"]
["Original","Est Pba"]
["PCS","Gsb"]
[4,"Gmb1"]
["CA","Gmb2"]
[0.2,"Gmb3"]
["FAc","Avg"]
[0.05,"Gmm1"]
["FAc Dip","Gmm2"]
[0.55000000000000004,"Avg"]
["FAf","VMA"]
[0.05,"Voids"]
["FAf Dip","Gse"]
[0.55000000000000004,"Pba"]
["AC Volume Correction","Eff AC"]
[null,"AC Gb"]
[2.25,1.03]
[null,"Density"]
[]
[]
[]
[]
[]
[]
["PCS"]
["CA"]
["FAc"]
["FAf"]
["Total"]
["Est VMA"]
["Act VMA"]
["Diff in VMA"]
["Est Voids"]
["Act Voids"]
["Diff in Voids"]
["PCS"]
["CA"]
["FAc"]
["FAf"]
["Total"]
["Est VMA"]
["Act VMA"]
["Diff in VMA"]
["Est Voids"]
["Act Voids"]
["Diff in Voids"]
["Adjusted"]
["PCS"]
[4]
["CA"]
[0.2]
["FAc"]
[0.05]
["FAc Dip"]
[0.55000000000000004]
["FAf"]
[0.05]
["FAf Dip"]
[0.55000000000000004]
["AC Volume Correction"]
[]
[2.25]
[]
[]
["1/2\"",null,null,"1/2\" NMAS SMA Mix",null,null,null,"Half = 1/4\",  PCS = #8,  SCS = #30,  TCS = #100"]
[]
["2\""]
["1-1/2\""]
["1\""]
["3/4\""]
["1/2\""]
["3/8\""]
["1/4\""]
["#4"]
["#8"]
["#16"]
["#30"]
["#50"]
["#100"]
["#200"]
["% AC"]
["% AC Absptn"]
["Actual VMA"]
["Actual Voids"]
["CA"]
["FAc"]
["FAf"]
[]
[]
[]
["PCS"]
["CA"]
["FAc"]
["FAf"]
["Total"]
["Est VMA"]
["Act VMA"]
["Diff in VMA"]
["Est Voids"]
["Act Voids"]
["Diff in Voids"]
["PCS"]
["CA"]
["FAc"]
["FAf"]
["Total"]
["Est VMA"]
["Act VMA"]
["Diff in VMA"]
["Est Voids"]
["Act Voids"]
["Diff in Voids"]
["Original","Est Pba"]
["PCS","Gsb"]
[2,"Gmb1"]
["CA","Gmb2"]
[0.2,"Gmb3"]
["FAc","Avg"]
[0.1,"Gmm1"]
["FAc Dip","Gmm2"]
[0.65,"Avg"]
["FAf","VMA"]
[0.1,"Voids"]
["FAf Dip","Gse"]
[0.7,"Pba"]
["AC Volume Correction","Eff AC"]
[null,"AC Gb"]
[2.25,1.03]
[null,"Density"]
[]
[]
[]
[]
[]
[]
["PCS"]
["CA"]
["FAc"]
["FAf"]
["Total"]
["Est VMA"]
["Act VMA"]
["Diff in VMA"]
["Est Voids"]
["Act Voids"]
["Diff in Voids"]
["PCS"]
["CA"]
["FAc"]
["FAf"]
["Total"]
["Est VMA"]
["Act VMA"]
["Diff in VMA"]
["Est Voids"]
["Act Voids"]
["Diff in Voids"]
["Adjusted"]
["PCS"]
[2]
["CA"]
[0.2]
["FAc"]
[0.1]
["FAc Dip"]
[0.65]
["FAf"]
[0.1]
["FAf Dip"]
[0.7]
["AC Volume Correction"]
[]
[2.25]
[]
[]
["3/8\"",null,null,"3/8\" NMAS Fine-Graded Mix",null,null,null,"New Half = #16,    New PCS = #30,    New SCS = #100"]
[]
["2\""]
["1-1/2\""]
["1\""]
["3/4\""]
["1/2\""]
["3/8\""]
["#4"]
["#8"]
["#16"]
["#30"]
["#50"]
["#100"]
["#200"]
["% AC"]
["% AC Absptn"]
["Actual VMA"]
["Actual Voids"]
["CA"]
["FAc"]
["FAf"]
["New CA"]
["New FAc"]
[]
["Original PCS"]
["New CA"]
["New FAc"]
[]
["Total"]
["Est VMA"]
["Act VMA"]
["Diff in VMA"]
["Est Voids"]
["Act Voids"]
["Diff in Voids"]
["Original PCS"]
["New CA"]
["New FAc"]
[]
["Total"]
["Est VMA"]
["Act VMA"]
["Diff in VMA"]
["Est Voids"]
["Act Voids"]
["Diff in Voids"]
["Original","Est Pba"]
["Orig PCS","Gsb"]
[6,"Gmb1"]
["New CA","Gmb2"]
[0.35,"Gmb3"]
["New FAc","Avg"]
[0.05,"Gmm1"]
["New FAc Dip","Gmm2"]
[0.5,"Avg"]
["New FAf","VMA"]
[null,"Voids"]
["New FAf Dip","Gse"]
[null,"Pba"]
["AC Volume Correction","Eff AC"]
[null,"AC Gb"]
[2.25,1.03]
[null,"Density"]
[]
[]
[]
[]
[]
[]
["Original PCS"]
["New CA"]
["New FAc"]
[]
["Total"]
["Est VMA"]
["Act VMA"]
["Diff in VMA"]
["Est Voids"]
["Act Voids"]
["Diff in Voids"]
["Original PCS"]
["New CA"]
["New FAc"]
[]
["Total"]
["Est VMA"]
["Act VMA"]
["Diff in VMA"]
["Est Voids"]
["Act Voids"]
["Diff in Voids"]
["Adjusted"]
["Orig PCS"]
[6]
["New CA"]
[0.35]
["New FAc"]
[0.05]
["New FAc Dip"]
[0.5]
["New FAf"]
[]
["New FAf Dip"]
[]
["AC Volume Correction"]
[]
[2.25]
[]
[]
["3/8\"",null,null,"3/8\" NMAS Coarse-Graded Mix",null,null,null,"Half = #4,  PCS = #8,  SCS = #30,  TCS = #100"]
[]
["2\""]
["1-1/2\""]
["1\""]
["3/4\""]
["1/2\""]
["3/8\""]
["#4"]
["#8"]
["#16"]
["#30"]
["#50"]
["#100"]
["#200"]
["% AC"]
["% AC Absptn"]
["Actual VMA"]
["Actual Voids"]
["CA"]
["FAc"]
["FAf"]
[]
[]
[]
["PCS"]
["CA"]
["FAc"]
["FAf"]
["Total"]
["Est VMA"]
["Act VMA"]
["Diff in VMA"]
["Est Voids"]
["Act Voids"]
["Diff in Voids"]
["PCS"]
["CA"]
["FAc"]
["FAf"]
["Total"]
["Est VMA"]
["Act VMA"]
["Diff in VMA"]
["Est Voids"]
["Act Voids"]
["Diff in Voids"]
["Original","Est Pba"]
["PCS","Gsb"]
[4,"Gmb1"]
["CA","Gmb2"]
[0.2,"Gmb3"]
["FAc","Avg"]
[0.05,"Gmm1"]
["FAc Dip","Gmm2"]
[0.55000000000000004,"Avg"]
["FAf","VMA"]
[0.05,"Voids"]
["FAf Dip","Gse"]
[0.55000000000000004,"Pba"]
["AC Volume Correction","Eff AC"]
[null,"AC Gb"]
[2.25,1.03]
[null,"Density"]
[]
[]
[]
[]
[]
[]
["PCS"]
["CA"]
["FAc"]
["FAf"]
["Total"]
["Est VMA"]
["Act VMA"]
["Diff in VMA"]
["Est Voids"]
["Act Voids"]
["Diff in Voids"]
["PCS"]
["CA"]
["FAc"]
["FAf"]
["Total"]
["Est VMA"]
["Act VMA"]
["Diff in VMA"]
["Est Voids"]
["Act Voids"]
["Diff in Voids"]
["Adjusted"]
["PCS"]
[4]
["CA"]
[0.2]
["FAc"]
[0.05]
["FAc Dip"]
[0.55000000000000004]
["FAf"]
[0.05]
["FAf Dip"]
[0.55000000000000004]
["AC Volume Correction"]
[]
[2.25]
[]
[]
["3/8\"",null,null,"3/8\" NMAS SMA Mix",null,null,null,"Half = #4,  PCS = #8,  SCS = #30,  TCS = #100"]
[]
["2\""]
["1-1/2\""]
["1\""]
["3/4\""]
["1/2\""]
["3/8\""]
["#4"]
["#8"]
["#16"]
["#30"]
["#50"]
["#100"]
["#200"]
["% AC"]
["% AC Absptn"]
["Actual VMA"]
["Actual Voids"]
["CA"]
["FAc"]
["FAf"]
[]
[]
[]
["PCS"]
["CA"]
["FAc"]
["FAf"]
["Total"]
["Est VMA"]
["Act VMA"]
["Diff in VMA"]
["Est Voids"]
["Act Voids"]
["Diff in Voids"]
["PCS"]
["CA"]
["FAc"]
["FAf"]
["Total"]
["Est VMA"]
["Act VMA"]
["Diff in VMA"]
["Est Voids"]
["Act Voids"]
["Diff in Voids"]
["Original","Est Pba"]
["PCS","Gsb"]
[2,"Gmb1"]
["CA","Gmb2"]
[0.2,"Gmb3"]
["FAc","Avg"]
[0.1,"Gmm1"]
["FAc Dip","Gmm2"]
[0.65,"Avg"]
["FAf","VMA"]
[0.1,"Voids"]
["FAf Dip","Gse"]
[0.7,"Pba"]
["AC Volume Correction","Eff AC"]
[null,"AC Gb"]
[2.25,1.03]
[null,"Density"]
[]
[]
[]
[]
[]
[]
["PCS"]
["CA"]
["FAc"]
["FAf"]
["Total"]
["Est VMA"]
["Act VMA"]
["Diff in VMA"]
["Est Voids"]
["Act Voids"]
["Diff in Voids"]
["PCS"]
["CA"]
["FAc"]
["FAf"]
["Total"]
["Est VMA"]
["Act VMA"]
["Diff in VMA"]
["Est Voids"]
["Act Voids"]
["Diff in Voids"]
["Adjusted"]
["PCS"]
[2]
["CA"]
[0.2]
["FAc"]
[0.1]
["FAc Dip"]
[0.65]
["FAf"]
[0.1]
["FAf Dip"]
[0.7]
["AC Volume Correction"]
[]
[2.25]
[]
[]
["#4",null,null,"#4 NMAS Fine-Graded Mix",null,null,null,"New Half = #30,    New PCS = #50,    New SCS = #200"]
[]
["2\""]
["1-1/2\""]
["1\""]
["3/4\""]
["1/2\""]
["3/8\""]
["#4"]
["#8"]
["#16"]
["#30"]
["#50"]
["#100"]
["#200"]
["% AC"]
["% AC Absptn"]
["Actual VMA"]
["Actual Voids"]
["CA"]
["FAc"]
["FAf"]
["New CA"]
["New FAc"]
[]
["Original PCS"]
["New CA"]
["New FAc"]
[]
["Total"]
["Est VMA"]
["Act VMA"]
["Diff in VMA"]
["Est Voids"]
["Act Voids"]
["Diff in Voids"]
["Original PCS"]
["New CA"]
["New FAc"]
[]
["Total"]
["Est VMA"]
["Act VMA"]
["Diff in VMA"]
["Est Voids"]
["Act Voids"]
["Diff in Voids"]
["Original","Est Pba"]
["Orig PCS","Gsb"]
[6,"Gmb1"]
["New CA","Gmb2"]
[0.35,"Gmb3"]
["New FAc","Avg"]
[0.05,"Gmm1"]
["New FAc Dip","Gmm2"]
[0.5,"Avg"]
["New FAf","VMA"]
[null,"Voids"]
["New FAf Dip","Gse"]
[null,"Pba"]
["AC Volume Correction","Eff AC"]
[null,"AC Gb"]
[2.25,1.03]
[null,"Density"]
[]
[]
[]
[]
[]
[]
["Original PCS"]
["New CA"]
["New FAc"]
[]
["Total"]
["Est VMA"]
["Act VMA"]
["Diff in VMA"]
["Est Voids"]
["Act Voids"]
["Diff in Voids"]
["Original PCS"]
["New CA"]
["New FAc"]
[]
["Total"]
["Est VMA"]
["Act VMA"]
["Diff in VMA"]
["Est Voids"]
["Act Voids"]
["Diff in Voids"]
["Adjusted"]
["Orig PCS"]
[6]
["New CA"]
[0.35]
["New FAc"]
[0.05]
["New FAc Dip"]
[0.5]
["New FAf"]
[]
["New FAf Dip"]
[]
["AC Volume Correction"]
[]
[2.25]
[]
[]
["#4",null,null,"#4 NMAS Coarse-Graded Mix",null,null,null,"Half = #8,  PCS = #16,  SCS = #50,  TCS = #200"]
[]
["2\""]
["1-1/2\""]
["1\""]
["3/4\""]
["1/2\""]
["3/8\""]
["#4"]
["#8"]
["#16"]
["#30"]
["#50"]
["#100"]
["#200"]
["% AC"]
["% AC Absptn"]
["Actual VMA"]
["Actual Voids"]
["CA"]
["FAc"]
["FAf"]
[]
[]
[]
["PCS"]
["CA"]
["FAc"]
["FAf"]
["Total"]
["Est VMA"]
["Act VMA"]
["Diff in VMA"]
["Est Voids"]
["Act Voids"]
["Diff in Voids"]
["PCS"]
["CA"]
["FAc"]
["FAf"]
["Total"]
["Est VMA"]
["Act VMA"]
["Diff in VMA"]
["Est Voids"]
["Act Voids"]
["Diff in Voids"]
["Original","Est Pba"]
["PCS","Gsb"]
[4,"Gmb1"]
["CA","Gmb2"]
[0.2,"Gmb3"]
["FAc","Avg"]
[0.05,"Gmm1"]
["FAc Dip","Gmm2"]
[0.55000000000000004,"Avg"]
["FAf","VMA"]
[0.05,"Voids"]
["FAf Dip","Gse"]
[0.55000000000000004,"Pba"]
["AC Volume Correction","Eff AC"]
[null,"AC Gb"]
[2.25,1.03]
[null,"Density"]
[]
[]
[]
[]
[]
[]
["PCS"]
["CA"]
["FAc"]
["FAf"]
["Total"]
["Est VMA"]
["Act VMA"]
["Diff in VMA"]
["Est Voids"]
["Act Voids"]
["Diff in Voids"]
["PCS"]
["CA"]
["FAc"]
["FAf"]
["Total"]
["Est VMA"]
["Act VMA"]
["Diff in VMA"]
["Est Voids"]
["Act Voids"]
["Diff in Voids"]
["Adjusted"]
["PCS"]
[4]
["CA"]
[0.2]
["FAc"]
[0.05]
["FAc Dip"]
[0.55000000000000004]
["FAf"]
[0.05]
["FAf Dip"]
[0.55000000000000004]
["AC Volume Correction"]
[]
[2.25]
[]
[]
["#4",null,null,"#4 NMAS SMA Mix",null,null,null,"Half = #8,  PCS = #16,  SCS = #50,  TCS = #200"]
[]
["2\""]
["1-1/2\""]
["1\""]
["3/4\""]
["1/2\""]
["3/8\""]
["#4"]
["#8"]
["#16"]
["#30"]
["#50"]
["#100"]
["#200"]
["% AC"]
["% AC Absptn"]
["Actual VMA"]
["Actual Voids"]
["CA"]
["FAc"]
["FAf"]
[]
[]
[]
["PCS"]
["CA"]
["FAc"]
["FAf"]
["Total"]
["Est VMA"]
["Act VMA"]
["Diff in VMA"]
["Est Voids"]
["Act Voids"]
["Diff in Voids"]
["PCS"]
["CA"]
["FAc"]
["FAf"]
["Total"]
["Est VMA"]
["Act VMA"]
["Diff in VMA"]
["Est Voids"]
["Act Voids"]
["Diff in Voids"]
["Original","Est Pba"]
["PCS","Gsb"]
[2,"Gmb1"]
["CA","Gmb2"]
[0.2,"Gmb3"]
["FAc","Avg"]
[0.1,"Gmm1"]
["FAc Dip","Gmm2"]
[0.65,"Avg"]
["FAf","VMA"]
[0.1,"Voids"]
["FAf Dip","Gse"]
[0.7,"Pba"]
["AC Volume Correction","Eff AC"]
[null,"AC Gb"]
[2.25,1.03]
[null,"Density"]
[]
[]
[]
[]
[]
[]
["PCS"]
["CA"]
["FAc"]
["FAf"]
["Total"]
["Est VMA"]
["Act VMA"]
["Diff in VMA"]
["Est Voids"]
["Act Voids"]
["Diff in Voids"]
["PCS"]
["CA"]
["FAc"]
["FAf"]
["Total"]
["Est VMA"]
["Act VMA"]
["Diff in VMA"]
["Est Voids"]
["Act Voids"]
["Diff in Voids"]
["Adjusted"]
["PCS"]
[2]
["CA"]
[0.2]
["FAc"]
[0.1]
["FAc Dip"]
[0.65]
["FAf"]
[0.1]
["FAf Dip"]
[0.7]
["AC Volume Correction"]
[]
[2.25]

{"sheet":"Blend Adjustments","index":2,"n_rows":51,"n_cols":26,"rows_kept":51,"cut":false,"hidden":false,"merged":[[8,19,9,19],[9,22,9,23],[9,24,9,25],[24,1,25,6],[49,1,50,6],[8,17,9,17],[33,17,34,17],[49,7,50,7],[24,7,25,7],[24,8,24,10],[25,8,25,10],[49,8,49,10],[50,8,50,10],[49,12,49,14],[50,12,50,16]]}
["Aggregate","#1-CA","#2-CA","#3-CA","#4-CA","#5-CA","#1-FA","#2-FA","#3-FA","#4-FA","#5-FA","MF","RAP1","RAP2","RAP3","AC"]
["Code"]
["Source id"]
["Name"]
["Location"]
[]
["Indv Agg %'s",null,null,null,null,null,null,null,null,null,null,null,null,null,null,{"$f":"IF(SUM(B7:O7)=0,\" \",SUM(B7:O7))","v":" "}]
[]
["Sieve, mm","#1-CA","#2-CA","#3-CA","#4-CA","#5-CA","#1-FA","#2-FA","#3-FA","#4-FA","#5-FA","  MF  ","RAP1","RAP2","RAP3","Combined",null,"Last Sample",null,"Spread"]
[null,null,null,null,null,null,null,null,null,null,null,null,null,null,null,"Blend 1"]
["50.0mm",null,null,null,null,null,null,null,null,null,null,null,null,null,null,{"$f":"IF(SUM(B11:O11)=0,\" \",ROUND((B11/100*$B$7)+(C11/100*$C$7)+(D11/100*$D$7)+(E11/100*$E$7)+(F11/100*$F$7)+(G11/100*$G$7)+(H11/100*$H$7)+(I11/100*$I$7)+(J11/100*$J$7)+(K11/100*$K$7)+(L11/100*$L$7)+(M11/100*$M$7)+(N11/100*$N$7)+(O11/100*$O$7),1))","v":" "},null,null,null,{"$f":"IF(R11=0,\" \",ROUND(R11-P11,1))","v":" "},null,null,-1.5,1.5,-2.5,2.5]
["37.5mm",null,null,null,null,null,null,null,null,null,null,null,null,null,null,{"$f":"IF(SUM(B12:O12)=0,\" \",ROUND((B12/100*$B$7)+(C12/100*$C$7)+(D12/100*$D$7)+(E12/100*$E$7)+(F12/100*$F$7)+(G12/100*$G$7)+(H12/100*$H$7)+(I12/100*$I$7)+(J12/100*$J$7)+(K12/100*$K$7)+(L12/100*$L$7)+(M12/100*$M$7)+(N12/100*$N$7)+(O12/100*$O$7),1))","v":" "},null,null,null,{"$f":"IF(R12=0,\" \",ROUND(R12-P12,1))","v":" "},null,null,-1.5,1.5,-2.5,2.5]
["25.0mm",null,null,null,null,null,null,null,null,null,null,null,null,null,null," ",null,null,null," ",null,null,-1.5,1.5,-2.5,2.5]
["19.0mm",null,null,null,null,null,null,null,null,null,null,null,null,null,null," ",null,null,null," ",null,null,-1.5,1.5,-2.5,2.5]
["12.5mm",null,null,null,null,null,null,null,null,null,null,null,null,null,null," ",null,null,null," ",null,null,-1.5,1.5,-2.5,2.5]
["9.5mm",null,null,null,null,null,null,null,null,null,null,null,null,null,null," ",null,null,null," ",null,null,-1,1,-2,2]
["4.75mm",null,null,null,null,null,null,null,null,null,null,null,null,null,null," ",null,null,null," ",null,null,-1,1,-2,2]
["2.36mm",null,null,null,null,null,null,null,null,null,null,null,null,null,null," ",null,null,null," ",null,null,-1,1,-2,2]
["1.18mm",null,null,null,null,null,null,null,null,null,null,null,null,null,null," ",null,null,null," ",null,null,-1,1,-2,2]
["0.600mm",null,null,null,null,null,null,null,null,null,null,null,null,null,null," ",null,null,null," ",null,null,-0.5,0.5,-1,1]
["0.300mm",null,null,null,null,null,null,null,null,null,null,null,null,null,null," ",null,null,null," ",null,null,-0.5,0.5,-1,1]
["0.150mm",null,null,null,null,null,null,null,null,null,null,null,null,null,null," ",null,null,null," ",null,null,-0.5,0.5,-1,1]
["0.075mm",null,null,null,null,null,null,null,null,null,null,null,null,null,null," ",null,null,null," ",null,null,-0.5,0.5,-1,1]
[]
[null,"Combined Bulk Specific Gravity of ALL Aggregates (Gsb)",null,null,null,null,null,{"$f":"IF(SUM(B30:O30)=0,\"\",100/SUM(B30:O30))","v":""},"Combined Water Absorption",null,null,"RAP AC"]
[null,null,null,null,null,null,null,null,{"$f":"IF(OR(SumBlend1<100,SumBlend1=\" \"),\" \",ROUND((((B7/SumBlend1*$B$29)+((C7/SumBlend1)*$C$29)+((D7/SumBlend1)*$D$29)+((E7/SumBlend1)*$E$29)+((F7/SumBlend1)*$F$29)+((G7/SumBlend1)*$G$29)+((H7/SumBlend1)*$H$29)+((I7/SumBlend1)*$I$29)+((J7/SumBlend1)*$J$29)+((K7/SumBlend1)*$K$29)+((L7/SumBlend1)*$L$29)+((M7/SumBlend1)*$M$29)+((N7/SumBlend1)*$N$29)+((O7/SumBlend1)*$O$29))),2))","v":" "},null,null,"RAP Gmm"]
[null,null,null,null,null,null,null,null,null,null,null,"RAP Gb"]
["Bulk Spec Gr"]
["% Absptn.",null,null,null,null,null,null,null,null,null,null,1,1,1,1]
[null,{"$f":"IF(B28>0,B7/B28,0)","v":0},{"$f":"IF(C28>0,C7/C28,0)","v":0},0,0,0,0,0,0,0,0,0,{"$f":"IF(M28=\" \",\" \",IF(M28>0,M7/M28,0))","v":0},{"$f":"IF(N28=\" \",\" \",IF(N28>0,N7/N28,0))","v":0},{"$f":"IF(O28=\" \",\" \",IF(O28>0,O7/O28,0))","v":0}]
[]
["Indv Agg %'s",null,null,null,null,null,null,null,null,null,null,null,null,null,null,{"$f":"IF(SUM(B32:O32)=0,\" \",SUM(B32:O32))","v":" "}]
[]
["Sieve, mm","#1-CA","#2-CA","#3-CA","#4-CA","#5-CA","#1-FA","#2-FA","#3-FA","#4-FA","#5-FA","MF","RAP1","RAP2","RAP3","Combined",null,"Adjusted Blend"]
[null,{"$f":"IF(B28>0,B32/B28,0)","v":0},{"$f":"IF(C28>0,C32/C28,0)","v":0},0,0,0,0,0,0,0,0,0,{"$f":"IF(M28=\" \",\" \",IF(M28>0,M32/M28,0))","v":0},{"$f":"IF(N28=\" \",\" \",IF(N28>0,N32/N28,0))","v":0},{"$f":"IF(O28=\" \",\" \",IF(O28>0,O32/O28,0))","v":0},"Blend 2"]
["50.0mm",{"$f":"IF(B11=0,\" \",B11)","v":" "},{"$f":"IF(C11=0,\" \",C11)","v":" "}," "," "," "," "," "," "," "," "," "," "," "," ",{"$f":"IF(SUM(B36:O36)=0,\" \",ROUND((IF(B36=\" \",0,B36/100*$B$32))+(IF(C36=\" \",0,C36/100*$C$32))+(IF(D36=\" \",0,D36/100*$D$32))+(IF(E36=\" \",0,E36/100*$E$32))+(IF(F36=\" \",0,F36/100*$F$32))+(IF(G36=\" \",0,G36/100*$G$32))+(IF(H36=\" \",0,H36/100*$H$32))+(IF(I36=\" \",0,I36/100*$I$32))+(IF(J36=\" \",0,J36/100*$J$32))+(IF(K36=\" \",0,K36/100*$K$32))+(IF(L36=\" \",0,L36/100*$L$32))+(IF(M36=\" \",0,M36/100*$M$32))+(IF(N36=\" \",0,N36/100*$N$32))+(IF(O36=\" \",0,O36/100*$O$32)),1))","v":" "},null,{"$f":"IF(P36=\" \",\" \",ROUND((P36-P11)+R11,1))","v":" "}]
["37.5mm",{"$f":"IF(B12=0,\" \",B12)","v":" "}," "," "," "," "," "," "," "," "," "," "," "," "," ",{"$f":"IF(SUM(B37:O37)=0,\" \",ROUND((IF(B37=\" \",0,B37/100*$B$32))+(IF(C37=\" \",0,C37/100*$C$32))+(IF(D37=\" \",0,D37/100*$D$32))+(IF(E37=\" \",0,E37/100*$E$32))+(IF(F37=\" \",0,F37/100*$F$32))+(IF(G37=\" \",0,G37/100*$G$32))+(IF(H37=\" \",0,H37/100*$H$32))+(IF(I37=\" \",0,I37/100*$I$32))+(IF(J37=\" \",0,J37/100*$J$32))+(IF(K37=\" \",0,K37/100*$K$32))+(IF(L37=\" \",0,L37/100*$L$32))+(IF(M37=\" \",0,M37/100*$M$32))+(IF(N37=\" \",0,N37/100*$N$32))+(IF(O37=\" \",0,O37/100*$O$32)),1))","v":" "},null,{"$f":"IF(P37=\" \",\" \",ROUND((P37-P12)+R12,1))","v":" "}]
["25.0mm"," "," "," "," "," "," "," "," "," "," "," "," "," "," "," ",null," "]
["19.0mm"," "," "," "," "," "," "," "," "," "," "," "," "," "," "," ",null," "]
["12.5mm"," "," "," "," "," "," "," "," "," "," "," "," "," "," "," ",null," "]
["9.5mm"," "," "," "," "," "," "," "," "," "," "," "," "," "," "," ",null," "]
["4.75mm"," "," "," "," "," "," "," "," "," "," "," "," "," "," "," ",null," "]
["2.36mm"," "," "," "," "," "," "," "," "," "," "," "," "," "," "," ",null," "]
["1.18mm"," "," "," "," "," "," "," "," "," "," "," "," "," "," "," ",null," "]
["0.600mm"," "," "," "," "," "," "," "," "," "," "," "," "," "," "," ",null," "]
["0.300mm"," "," "," "," "," "," "," "," "," "," "," "," "," "," "," ",null," "]
["0.150mm"," "," "," "," "," "," "," "," "," "," "," "," "," "," "," ",null," "]
["0.075mm"," "," "," "," "," "," "," "," "," "," "," "," "," "," "," ",null," "]
[]
[null,"Combined Bulk Specific Gravity of ALL Aggregates (Gsb)",null,null,null,null,null,{"$f":"IF(SUM(B35:O35)=0,\"\",100/SUM(B35:O35))","v":""},"Combined Water Absorption",null,null,null,"Pba as % of Water Absorption",null,null,0.65]
[null,null,null,null,null,null,null,null,{"$f":"IF(OR(SumBlend2<100,SumBlend2=\" \"),\" \",ROUND((((B32/SumBlend2*$B$29)+((C32/SumBlend2)*$C$29)+((D32/SumBlend2)*$D$29)+((E32/SumBlend2)*$E$29)+((F32/SumBlend2)*$F$29)+((G32/SumBlend2)*$G$29)+((H32/SumBlend2)*$H$29)+((I32/SumBlend2)*$I$29)+((J32/SumBlend2)*$J$29)+((K32/SumBlend2)*$K$29)+((L32/SumBlend2)*$L$29)+((M32/SumBlend2)*$M$29)+((N32/SumBlend2)*$N$29)+((O32/SumBlend2)*$O$29))),2))","v":" "},null,null,null,"Estimated Change in Pba",null,null,null,null,{"$f":"IF(OR(GsbBlend1=0,GsbBlend1=\"\",GsbBlend2=0,GsbBlend2=\"\"),\"\",ROUND(((WaterAbsBlend2-WaterAbsBlend1)*PbaWaterAbs),2))","v":""}]

{"sheet":"Data","index":12,"n_rows":40,"n_cols":103,"rows_kept":40,"cut":false,"hidden":false,"merged":[]}
[]
[null,null,"Sample",{"$f":"IF(OR(Main!D2=0,Main!D2=\" \"),\" \",Main!D2)","v":1},{"$f":"IF(OR(Main!E2=0,Main!E2=\" \"),\" \",Main!E2)","v":2},{"$f":"IF(OR(Main!F2=0,Main!F2=\" \"),\" \",Main!F2)","v":3},{"$f":"IF(OR(Main!G2=0,Main!G2=\" \"),\" \",Main!G2)","v":4},{"$f":"IF(OR(Main!H2=0,Main!H2=\" \"),\" \",Main!H2)","v":5},{"$f":"IF(OR(Main!I2=0,Main!I2=\" \"),\" \",Main!I2)","v":6},{"$f":"IF(OR(Main!J2=0,Main!J2=\" \"),\" \",Main!J2)","v":7},{"$f":"IF(OR(Main!K2=0,Main!K2=\" \"),\" \",Main!K2)","v":8},{"$f":"IF(OR(Main!L2=0,Main!L2=\" \"),\" \",Main!L2)","v":9},{"$f":"IF(OR(Main!M2=0,Main!M2=\" \"),\" \",Main!M2)","v":10},{"$f":"IF(OR(Main!N2=0,Main!N2=\" \"),\" \",Main!N2)","v":11},{"$f":"IF(OR(Main!O2=0,Main!O2=\" \"),\" \",Main!O2)","v":12},{"$f":"IF(OR(Main!P2=0,Main!P2=\" \"),\" \",Main!P2)","v":13},{"$f":"IF(OR(Main!Q2=0,Main!Q2=\" \"),\" \",Main!Q2)","v":14},{"$f":"IF(OR(Main!R2=0,Main!R2=\" \"),\" \",Main!R2)","v":15},{"$f":"IF(OR(Main!S2=0,Main!S2=\" \"),\" \",Main!S2)","v":16},{"$f":"IF(OR(Main!T2=0,Main!T2=\" \"),\" \",Main!T2)","v":17},{"$f":"IF(OR(Main!U2=0,Main!U2=\" \"),\" \",Main!U2)","v":18},{"$f":"IF(OR(Main!V2=0,Main!V2=\" \"),\" \",Main!V2)","v":19},{"$f":"IF(OR(Main!W2=0,Main!W2=\" \"),\" \",Main!W2)","v":20},{"$f":"IF(OR(Main!X2=0,Main!X2=\" \"),\" \",Main!X2)","v":21},{"$f":"IF(OR(Main!Y2=0,Main!Y2=\" \"),\" \",Main!Y2)","v":22},{"$f":"IF(OR(Main!Z2=0,Main!Z2=\" \"),\" \",Main!Z2)","v":23},{"$f":"IF(OR(Main!AA2=0,Main!AA2=\" \"),\" \",Main!AA2)","v":24},{"$f":"IF(OR(Main!AB2=0,Main!AB2=\" \"),\" \",Main!AB2)","v":25},{"$f":"IF(OR(Main!AC2=0,Main!AC2=\" \"),\" \",Main!AC2)","v":26},{"$f":"IF(OR(Main!AD2=0,Main!AD2=\" \"),\" \",Main!AD2)","v":27},{"$f":"IF(OR(Main!AE2=0,Main!AE2=\" \"),\" \",Main!AE2)","v":28},{"$f":"IF(OR(Main!AF2=0,Main!AF2=\" \"),\" \",Main!AF2)","v":29},{"$f":"IF(OR(Main!AG2=0,Main!AG2=\" \"),\" \",Main!AG2)","v":30},{"$f":"IF(OR(Main!AH2=0,Main!AH2=\" \"),\" \",Main!AH2)","v":31},{"$f":"IF(OR(Main!AI2=0,Main!AI2=\" \"),\" \",Main!AI2)","v":32},{"$f":"IF(OR(Main!AJ2=0,Main!AJ2=\" \"),\" \",Main!AJ2)","v":33},{"$f":"IF(OR(Main!AK2=0,Main!AK2=\" \"),\" \",Main!AK2)","v":34},{"$f":"IF(OR(Main!AL2=0,Main!AL2=\" \"),\" \",Main!AL2)","v":35},{"$f":"IF(OR(Main!AM2=0,Main!AM2=\" \"),\" \",Main!AM2)","v":36},{"$f":"IF(OR(Main!AN2=0,Main!AN2=\" \"),\" \",Main!AN2)","v":37},{"$f":"IF(OR(Main!AO2=0,Main!AO2=\" \"),\" \",Main!AO2)","v":38},{"$f":"IF(OR(Main!AP2=0,Main!AP2=\" \"),\" \",Main!AP2)","v":39},{"$f":"IF(OR(Main!AQ2=0,Main!AQ2=\" \"),\" \",Main!AQ2)","v":40},{"$f":"IF(OR(Main!AR2=0,Main!AR2=\" \"),\" \",Main!AR2)","v":41},{"$f":"IF(OR(Main!AS2=0,Main!AS2=\" \"),\" \",Main!AS2)","v":42},{"$f":"IF(OR(Main!AT2=0,Main!AT2=\" \"),\" \",Main!AT2)","v":43},{"$f":"IF(OR(Main!AU2=0,Main!AU2=\" \"),\" \",Main!AU2)","v":44},{"$f":"IF(OR(Main!AV2=0,Main!AV2=\" \"),\" \",Main!AV2)","v":45},{"$f":"IF(OR(Main!AW2=0,Main!AW2=\" \"),\" \",Main!AW2)","v":46},{"$f":"IF(OR(Main!AX2=0,Main!AX2=\" \"),\" \",Main!AX2)","v":47},{"$f":"IF(OR(Main!AY2=0,Main!AY2=\" \"),\" \",Main!AY2)","v":48},{"$f":"IF(OR(Main!AZ2=0,Main!AZ2=\" \"),\" \",Main!AZ2)","v":49},{"$f":"IF(OR(Main!BA2=0,Main!BA2=\" \"),\" \",Main!BA2)","v":50},{"$f":"IF(OR(Main!BB2=0,Main!BB2=\" \"),\" \",Main!BB2)","v":51},{"$f":"IF(OR(Main!BC2=0,Main!BC2=\" \"),\" \",Main!BC2)","v":52},{"$f":"IF(OR(Main!BD2=0,Main!BD2=\" \"),\" \",Main!BD2)","v":53},{"$f":"IF(OR(Main!BE2=0,Main!BE2=\" \"),\" \",Main!BE2)","v":54},{"$f":"IF(OR(Main!BF2=0,Main!BF2=\" \"),\" \",Main!BF2)","v":55},{"$f":"IF(OR(Main!BG2=0,Main!BG2=\" \"),\" \",Main!BG2)","v":56},{"$f":"IF(OR(Main!BH2=0,Main!BH2=\" \"),\" \",Main!BH2)","v":57},{"$f":"IF(OR(Main!BI2=0,Main!BI2=\" \"),\" \",Main!BI2)","v":58},{"$f":"IF(OR(Main!BJ2=0,Main!BJ2=\" \"),\" \",Main!BJ2)","v":59},{"$f":"IF(OR(Main!BK2=0,Main!BK2=\" \"),\" \",Main!BK2)","v":60},{"$f":"IF(OR(Main!BL2=0,Main!BL2=\" \"),\" \",Main!BL2)","v":61},{"$f":"IF(OR(Main!BM2=0,Main!BM2=\" \"),\" \",Main!BM2)","v":62},{"$f":"IF(OR(Main!BN2=0,Main!BN2=\" \"),\" \",Main!BN2)","v":63},{"$f":"IF(OR(Main!BO2=0,Main!BO2=\" \"),\" \",Main!BO2)","v":64},{"$f":"IF(OR(Main!BP2=0,Main!BP2=\" \"),\" \",Main!BP2)","v":65},{"$f":"IF(OR(Main!BQ2=0,Main!BQ2=\" \"),\" \",Main!BQ2)","v":66},{"$f":"IF(OR(Main!BR2=0,Main!BR2=\" \"),\" \",Main!BR2)","v":67},{"$f":"IF(OR(Main!BS2=0,Main!BS2=\" \"),\" \",Main!BS2)","v":68},{"$f":"IF(OR(Main!BT2=0,Main!BT2=\" \"),\" \",Main!BT2)","v":69},{"$f":"IF(OR(Main!BU2=0,Main!BU2=\" \"),\" \",Main!BU2)","v":70},{"$f":"IF(OR(Main!BV2=0,Main!BV2=\" \"),\" \",Main!BV2)","v":71},{"$f":"IF(OR(Main!BW2=0,Main!BW2=\" \"),\" \",Main!BW2)","v":72},{"$f":"IF(OR(Main!BX2=0,Main!BX2=\" \"),\" \",Main!BX2)","v":73},{"$f":"IF(OR(Main!BY2=0,Main!BY2=\" \"),\" \",Main!BY2)","v":74},{"$f":"IF(OR(Main!BZ2=0,Main!BZ2=\" \"),\" \",Main!BZ2)","v":75},{"$f":"IF(OR(Main!CA2=0,Main!CA2=\" \"),\" \",Main!CA2)","v":76},{"$f":"IF(OR(Main!CB2=0,Main!CB2=\" \"),\" \",Main!CB2)","v":77},{"$f":"IF(OR(Main!CC2=0,Main!CC2=\" \"),\" \",Main!CC2)","v":78},{"$f":"IF(OR(Main!CD2=0,Main!CD2=\" \"),\" \",Main!CD2)","v":79},{"$f":"IF(OR(Main!CE2=0,Main!CE2=\" \"),\" \",Main!CE2)","v":80},{"$f":"IF(OR(Main!CF2=0,Main!CF2=\" \"),\" \",Main!CF2)","v":81},{"$f":"IF(OR(Main!CG2=0,Main!CG2=\" \"),\" \",Main!CG2)","v":82},{"$f":"IF(OR(Main!CH2=0,Main!CH2=\" \"),\" \",Main!CH2)","v":83},{"$f":"IF(OR(Main!CI2=0,Main!CI2=\" \"),\" \",Main!CI2)","v":84},{"$f":"IF(OR(Main!CJ2=0,Main!CJ2=\" \"),\" \",Main!CJ2)","v":85},{"$f":"IF(OR(Main!CK2=0,Main!CK2=\" \"),\" \",Main!CK2)","v":86},{"$f":"IF(OR(Main!CL2=0,Main!CL2=\" \"),\" \",Main!CL2)","v":87},{"$f":"IF(OR(Main!CM2=0,Main!CM2=\" \"),\" \",Main!CM2)","v":88},{"$f":"IF(OR(Main!CN2=0,Main!CN2=\" \"),\" \",Main!CN2)","v":89},{"$f":"IF(OR(Main!CO2=0,Main!CO2=\" \"),\" \",Main!CO2)","v":90},{"$f":"IF(OR(Main!CP2=0,Main!CP2=\" \"),\" \",Main!CP2)","v":91},{"$f":"IF(OR(Main!CQ2=0,Main!CQ2=\" \"),\" \",Main!CQ2)","v":92},{"$f":"IF(OR(Main!CR2=0,Main!CR2=\" \"),\" \",Main!CR2)","v":93},{"$f":"IF(OR(Main!CS2=0,Main!CS2=\" \"),\" \",Main!CS2)","v":94},{"$f":"IF(OR(Main!CT2=0,Main!CT2=\" \"),\" \",Main!CT2)","v":95},{"$f":"IF(OR(Main!CU2=0,Main!CU2=\" \"),\" \",Main!CU2)","v":96},{"$f":"IF(OR(Main!CV2=0,Main!CV2=\" \"),\" \",Main!CV2)","v":97},{"$f":"IF(OR(Main!CW2=0,Main!CW2=\" \"),\" \",Main!CW2)","v":98},{"$f":"IF(OR(Main!CX2=0,Main!CX2=\" \"),\" \",Main!CX2)","v":99},{"$f":"IF(OR(Main!CY2=0,Main!CY2=\" \"),\" \",Main!CY2)","v":100}]
[]
[null,null,"9.5mm / 3/8\"",{"$f":"IF(OR(Main!D10=\"\",Main!D10=0),NA(),Main!D10)","v":{"$error":"#N/A"}},{"$f":"IF(OR(Main!E10=\"\",Main!E10=0),NA(),Main!E10)","v":{"$error":"#N/A"}},{"$f":"IF(OR(Main!F10=\"\",Main!F10=0),NA(),Main!F10)","v":{"$error":"#N/A"}},{"$f":"IF(OR(Main!G10=\"\",Main!G10=0),NA(),Main!G10)","v":{"$error":"#N/A"}},{"$f":"IF(OR(Main!H10=\"\",Main!H10=0),NA(),Main!H10)","v":{"$error":"#N/A"}},{"$f":"IF(OR(Main!I10=\"\",Main!I10=0),NA(),Main!I10)","v":{"$error":"#N/A"}},{"$f":"IF(OR(Main!J10=\"\",Main!J10=0),NA(),Main!J10)","v":{"$error":"#N/A"}},{"$f":"IF(OR(Main!K10=\"\",Main!K10=0),NA(),Main!K10)","v":{"$error":"#N/A"}},{"$f":"IF(OR(Main!L10=\"\",Main!L10=0),NA(),Main!L10)","v":{"$error":"#N/A"}},{"$f":"IF(OR(Main!M10=\"\",Main!M10=0),NA(),Main!M10)","v":{"$error":"#N/A"}},{"$f":"IF(OR(Main!N10=\"\",Main!N10=0),NA(),Main!N10)","v":{"$error":"#N/A"}},{"$f":"IF(OR(Main!O10=\"\",Main!O10=0),NA(),Main!O10)","v":{"$error":"#N/A"}},{"$f":"IF(OR(Main!P10=\"\",Main!P10=0),NA(),Main!P10)","v":{"$error":"#N/A"}},{"$f":"IF(OR(Main!Q10=\"\",Main!Q10=0),NA(),Main!Q10)","v":{"$error":"#N/A"}},{"$f":"IF(OR(Main!R10=\"\",Main!R10=0),NA(),Main!R10)","v":{"$error":"#N/A"}},{"$f":"IF(OR(Main!S10=\"\",Main!S10=0),NA(),Main!S10)","v":{"$error":"#N/A"}},{"$f":"IF(OR(Main!T10=\"\",Main!T10=0),NA(),Main!T10)","v":{"$error":"#N/A"}},{"$f":"IF(OR(Main!U10=\"\",Main!U10=0),NA(),Main!U10)","v":{"$error":"#N/A"}},{"$f":"IF(OR(Main!V10=\"\",Main!V10=0),NA(),Main!V10)","v":{"$error":"#N/A"}},{"$f":"IF(OR(Main!W10=\"\",Main!W10=0),NA(),Main!W10)","v":{"$error":"#N/A"}},{"$f":"IF(OR(Main!X10=\"\",Main!X10=0),NA(),Main!X10)","v":{"$error":"#N/A"}},{"$f":"IF(OR(Main!Y10=\"\",Main!Y10=0),NA(),Main!Y10)","v":{"$error":"#N/A"}},{"$f":"IF(OR(Main!Z10=\"\",Main!Z10=0),NA(),Main!Z10)","v":{"$error":"#N/A"}},{"$f":"IF(OR(Main!AA10=\"\",Main!AA10=0),NA(),Main!AA10)","v":{"$error":"#N/A"}},{"$f":"IF(OR(Main!AB10=\"\",Main!AB10=0),NA(),Main!AB10)","v":{"$error":"#N/A"}},{"$f":"IF(OR(Main!AC10=\"\",Main!AC10=0),NA(),Main!AC10)","v":{"$error":"#N/A"}},{"$f":"IF(OR(Main!AD10=\"\",Main!AD10=0),NA(),Main!AD10)","v":{"$error":"#N/A"}},{"$f":"IF(OR(Main!AE10=\"\",Main!AE10=0),NA(),Main!AE10)","v":{"$error":"#N/A"}},{"$f":"IF(OR(Main!AF10=\"\",Main!AF10=0),NA(),Main!AF10)","v":{"$error":"#N/A"}},{"$f":"IF(OR(Main!AG10=\"\",Main!AG10=0),NA(),Main!AG10)","v":{"$error":"#N/A"}},{"$f":"IF(OR(Main!AH10=\"\",Main!AH10=0),NA(),Main!AH10)","v":{"$error":"#N/A"}},{"$f":"IF(OR(Main!AI10=\"\",Main!AI10=0),NA(),Main!AI10)","v":{"$error":"#N/A"}},{"$f":"IF(OR(Main!AJ10=\"\",Main!AJ10=0),NA(),Main!AJ10)","v":{"$error":"#N/A"}},{"$f":"IF(OR(Main!AK10=\"\",Main!AK10=0),NA(),Main!AK10)","v":{"$error":"#N/A"}},{"$f":"IF(OR(Main!AL10=\"\",Main!AL10=0),NA(),Main!AL10)","v":{"$error":"#N/A"}},{"$f":"IF(OR(Main!AM10=\"\",Main!AM10=0),NA(),Main!AM10)","v":{"$error":"#N/A"}},{"$f":"IF(OR(Main!AN10=\"\",Main!AN10=0),NA(),Main!AN10)","v":{"$error":"#N/A"}},{"$f":"IF(OR(Main!AO10=\"\",Main!AO10=0),NA(),Main!AO10)","v":{"$error":"#N/A"}},{"$f":"IF(OR(Main!AP10=\"\",Main!AP10=0),NA(),Main!AP10)","v":{"$error":"#N/A"}},{"$f":"IF(OR(Main!AQ10=\"\",Main!AQ10=0),NA(),Main!AQ10)","v":{"$error":"#N/A"}},{"$f":"IF(OR(Main!AR10=\"\",Main!AR10=0),NA(),Main!AR10)","v":{"$error":"#N/A"}},{"$f":"IF(OR(Main!AS10=\"\",Main!AS10=0),NA(),Main!AS10)","v":{"$error":"#N/A"}},{"$f":"IF(OR(Main!AT10=\"\",Main!AT10=0),NA(),Main!AT10)","v":{"$error":"#N/A"}},{"$f":"IF(OR(Main!AU10=\"\",Main!AU10=0),NA(),Main!AU10)","v":{"$error":"#N/A"}},{"$f":"IF(OR(Main!AV10=\"\",Main!AV10=0),NA(),Main!AV10)","v":{"$error":"#N/A"}},{"$f":"IF(OR(Main!AW10=\"\",Main!AW10=0),NA(),Main!AW10)","v":{"$error":"#N/A"}},{"$f":"IF(OR(Main!AX10=\"\",Main!AX10=0),NA(),Main!AX10)","v":{"$error":"#N/A"}},{"$f":"IF(OR(Main!AY10=\"\",Main!AY10=0),NA(),Main!AY10)","v":{"$error":"#N/A"}},{"$f":"IF(OR(Main!AZ10=\"\",Main!AZ10=0),NA(),Main!AZ10)","v":{"$error":"#N/A"}},{"$f":"IF(OR(Main!BA10=\"\",Main!BA10=0),NA(),Main!BA10)","v":{"$error":"#N/A"}},{"$f":"IF(OR(Main!BB10=\"\",Main!BB10=0),NA(),Main!BB10)","v":{"$error":"#N/A"}},{"$f":"IF(OR(Main!BC10=\"\",Main!BC10=0),NA(),Main!BC10)","v":{"$error":"#N/A"}},{"$f":"IF(OR(Main!BD10=\"\",Main!BD10=0),NA(),Main!BD10)","v":{"$error":"#N/A"}},{"$f":"IF(OR(Main!BE10=\"\",Main!BE10=0),NA(),Main!BE10)","v":{"$error":"#N/A"}},{"$f":"IF(OR(Main!BF10=\"\",Main!BF10=0),NA(),Main!BF10)","v":{"$error":"#N/A"}},{"$f":"IF(OR(Main!BG10=\"\",Main!BG10=0),NA(),Main!BG10)","v":{"$error":"#N/A"}},{"$f":"IF(OR(Main!BH10=\"\",Main!BH10=0),NA(),Main!BH10)","v":{"$error":"#N/A"}},{"$f":"IF(OR(Main!BI10=\"\",Main!BI10=0),NA(),Main!BI10)","v":{"$error":"#N/A"}},{"$f":"IF(OR(Main!BJ10=\"\",Main!BJ10=0),NA(),Main!BJ10)","v":{"$error":"#N/A"}},{"$f":"IF(OR(Main!BK10=\"\",Main!BK10=0),NA(),Main!BK10)","v":{"$error":"#N/A"}},{"$f":"IF(OR(Main!BL10=\"\",Main!BL10=0),NA(),Main!BL10)","v":{"$error":"#N/A"}},{"$f":"IF(OR(Main!BM10=\"\",Main!BM10=0),NA(),Main!BM10)","v":{"$error":"#N/A"}},{"$f":"IF(OR(Main!BN10=\"\",Main!BN10=0),NA(),Main!BN10)","v":{"$error":"#N/A"}},{"$f":"IF(OR(Main!BO10=\"\",Main!BO10=0),NA(),Main!BO10)","v":{"$error":"#N/A"}},{"$f":"IF(OR(Main!BP10=\"\",Main!BP10=0),NA(),Main!BP10)","v":{"$error":"#N/A"}},{"$f":"IF(OR(Main!BQ10=\"\",Main!BQ10=0),NA(),Main!BQ10)","v":{"$error":"#N/A"}},{"$f":"IF(OR(Main!BR10=\"\",Main!BR10=0),NA(),Main!BR10)","v":{"$error":"#N/A"}},{"$f":"IF(OR(Main!BS10=\"\",Main!BS10=0),NA(),Main!BS10)","v":{"$error":"#N/A"}},{"$f":"IF(OR(Main!BT10=\"\",Main!BT10=0),NA(),Main!BT10)","v":{"$error":"#N/A"}},{"$f":"IF(OR(Main!BU10=\"\",Main!BU10=0),NA(),Main!BU10)","v":{"$error":"#N/A"}},{"$f":"IF(OR(Main!BV10=\"\",Main!BV10=0),NA(),Main!BV10)","v":{"$error":"#N/A"}},{"$f":"IF(OR(Main!BW10=\"\",Main!BW10=0),NA(),Main!BW10)","v":{"$error":"#N/A"}},{"$f":"IF(OR(Main!BX10=\"\",Main!BX10=0),NA(),Main!BX10)","v":{"$error":"#N/A"}},{"$f":"IF(OR(Main!BY10=\"\",Main!BY10=0),NA(),Main!BY10)","v":{"$error":"#N/A"}},{"$f":"IF(OR(Main!BZ10=\"\",Main!BZ10=0),NA(),Main!BZ10)","v":{"$error":"#N/A"}},{"$f":"IF(OR(Main!CA10=\"\",Main!CA10=0),NA(),Main!CA10)","v":{"$error":"#N/A"}},{"$f":"IF(OR(Main!CB10=\"\",Main!CB10=0),NA(),Main!CB10)","v":{"$error":"#N/A"}},{"$f":"IF(OR(Main!CC10=\"\",Main!CC10=0),NA(),Main!CC10)","v":{"$error":"#N/A"}},{"$f":"IF(OR(Main!CD10=\"\",Main!CD10=0),NA(),Main!CD10)","v":{"$error":"#N/A"}},{"$f":"IF(OR(Main!CE10=\"\",Main!CE10=0),NA(),Main!CE10)","v":{"$error":"#N/A"}},{"$f":"IF(OR(Main!CF10=\"\",Main!CF10=0),NA(),Main!CF10)","v":{"$error":"#N/A"}},{"$f":"IF(OR(Main!CG10=\"\",Main!CG10=0),NA(),Main!CG10)","v":{"$error":"#N/A"}},{"$f":"IF(OR(Main!CH10=\"\",Main!CH10=0),NA(),Main!CH10)","v":{"$error":"#N/A"}},{"$f":"IF(OR(Main!CI10=\"\",Main!CI10=0),NA(),Main!CI10)","v":{"$error":"#N/A"}},{"$f":"IF(OR(Main!CJ10=\"\",Main!CJ10=0),NA(),Main!CJ10)","v":{"$error":"#N/A"}},{"$f":"IF(OR(Main!CK10=\"\",Main!CK10=0),NA(),Main!CK10)","v":{"$error":"#N/A"}},{"$f":"IF(OR(Main!CL10=\"\",Main!CL10=0),NA(),Main!CL10)","v":{"$error":"#N/A"}},{"$f":"IF(OR(Main!CM10=\"\",Main!CM10=0),NA(),Main!CM10)","v":{"$error":"#N/A"}},{"$f":"IF(OR(Main!CN10=\"\",Main!CN10=0),NA(),Main!CN10)","v":{"$error":"#N/A"}},{"$f":"IF(OR(Main!CO10=\"\",Main!CO10=0),NA(),Main!CO10)","v":{"$error":"#N/A"}},{"$f":"IF(OR(Main!CP10=\"\",Main!CP10=0),NA(),Main!CP10)","v":{"$error":"#N/A"}},{"$f":"IF(OR(Main!CQ10=\"\",Main!CQ10=0),NA(),Main!CQ10)","v":{"$error":"#N/A"}},{"$f":"IF(OR(Main!CR10=\"\",Main!CR10=0),NA(),Main!CR10)","v":{"$error":"#N/A"}},{"$f":"IF(OR(Main!CS10=\"\",Main!CS10=0),NA(),Main!CS10)","v":{"$error":"#N/A"}},{"$f":"IF(OR(Main!CT10=\"\",Main!CT10=0),NA(),Main!CT10)","v":{"$error":"#N/A"}},{"$f":"IF(OR(Main!CU10=\"\",Main!CU10=0),NA(),Main!CU10)","v":{"$error":"#N/A"}},{"$f":"IF(OR(Main!CV10=\"\",Main!CV10=0),NA(),Main!CV10)","v":{"$error":"#N/A"}},{"$f":"IF(OR(Main!CW10=\"\",Main!CW10=0),NA(),Main!CW10)","v":{"$error":"#N/A"}},{"$f":"IF(OR(Main!CX10=\"\",Main!CX10=0),NA(),Main!CX10)","v":{"$error":"#N/A"}},{"$f":"IF(OR(Main!CY10=\"\",Main!CY10=0),NA(),Main!CY10)","v":{"$error":"#N/A"}}]
[]
[null,null,"4.75mm / #4",{"$f":"IF(OR(Main!D11=\"\",Main!D11=0),NA(),Main!D11)","v":{"$error":"#N/A"}},{"$f":"IF(OR(Main!E11=\"\",Main!E11=0),NA(),Main!E11)","v":{"$error":"#N/A"}},{"$f":"IF(OR(Main!F11=\"\",Main!F11=0),NA(),Main!F11)","v":{"$error":"#N/A"}},{"$f":"IF(OR(Main!G11=\"\",Main!G11=0),NA(),Main!G11)","v":{"$error":"#N/A"}},{"$f":"IF(OR(Main!H11=\"\",Main!H11=0),NA(),Main!H11)","v":{"$error":"#N/A"}},{"$f":"IF(OR(Main!I11=\"\",Main!I11=0),NA(),Main!I11)","v":{"$error":"#N/A"}},{"$f":"IF(OR(Main!J11=\"\",Main!J11=0),NA(),Main!J11)","v":{"$error":"#N/A"}},{"$f":"IF(OR(Main!K11=\"\",Main!K11=0),NA(),Main!K11)","v":{"$error":"#N/A"}},{"$f":"IF(OR(Main!L11=\"\",Main!L11=0),NA(),Main!L11)","v":{"$error":"#N/A"}},{"$f":"IF(OR(Main!M11=\"\",Main!M11=0),NA(),Main!M11)","v":{"$error":"#N/A"}},{"$f":"IF(OR(Main!N11=\"\",Main!N11=0),NA(),Main!N11)","v":{"$error":"#N/A"}},{"$f":"IF(OR(Main!O11=\"\",Main!O11=0),NA(),Main!O11)","v":{"$error":"#N/A"}},{"$f":"IF(OR(Main!P11=\"\",Main!P11=0),NA(),Main!P11)","v":{"$error":"#N/A"}},{"$f":"IF(OR(Main!Q11=\"\",Main!Q11=0),NA(),Main!Q11)","v":{"$error":"#N/A"}},{"$f":"IF(OR(Main!R11=\"\",Main!R11=0),NA(),Main!R11)","v":{"$error":"#N/A"}},{"$f":"IF(OR(Main!S11=\"\",Main!S11=0),NA(),Main!S11)","v":{"$error":"#N/A"}},{"$f":"IF(OR(Main!T11=\"\",Main!T11=0),NA(),Main!T11)","v":{"$error":"#N/A"}},{"$f":"IF(OR(Main!U11=\"\",Main!U11=0),NA(),Main!U11)","v":{"$error":"#N/A"}},{"$f":"IF(OR(Main!V11=\"\",Main!V11=0),NA(),Main!V11)","v":{"$error":"#N/A"}},{"$f":"IF(OR(Main!W11=\"\",Main!W11=0),NA(),Main!W11)","v":{"$error":"#N/A"}},{"$f":"IF(OR(Main!X11=\"\",Main!X11=0),NA(),Main!X11)","v":{"$error":"#N/A"}},{"$f":"IF(OR(Main!Y11=\"\",Main!Y11=0),NA(),Main!Y11)","v":{"$error":"#N/A"}},{"$f":"IF(OR(Main!Z11=\"\",Main!Z11=0),NA(),Main!Z11)","v":{"$error":"#N/A"}},{"$f":"IF(OR(Main!AA11=\"\",Main!AA11=0),NA(),Main!AA11)","v":{"$error":"#N/A"}},{"$f":"IF(OR(Main!AB11=\"\",Main!AB11=0),NA(),Main!AB11)","v":{"$error":"#N/A"}},{"$f":"IF(OR(Main!AC11=\"\",Main!AC11=0),NA(),Main!AC11)","v":{"$error":"#N/A"}},{"$f":"IF(OR(Main!AD11=\"\",Main!AD11=0),NA(),Main!AD11)","v":{"$error":"#N/A"}},{"$f":"IF(OR(Main!AE11=\"\",Main!AE11=0),NA(),Main!AE11)","v":{"$error":"#N/A"}},{"$f":"IF(OR(Main!AF11=\"\",Main!AF11=0),NA(),Main!AF11)","v":{"$error":"#N/A"}},{"$f":"IF(OR(Main!AG11=\"\",Main!AG11=0),NA(),Main!AG11)","v":{"$error":"#N/A"}},{"$f":"IF(OR(Main!AH11=\"\",Main!AH11=0),NA(),Main!AH11)","v":{"$error":"#N/A"}},{"$f":"IF(OR(Main!AI11=\"\",Main!AI11=0),NA(),Main!AI11)","v":{"$error":"#N/A"}},{"$f":"IF(OR(Main!AJ11=\"\",Main!AJ11=0),NA(),Main!AJ11)","v":{"$error":"#N/A"}},{"$f":"IF(OR(Main!AK11=\"\",Main!AK11=0),NA(),Main!AK11)","v":{"$error":"#N/A"}},{"$f":"IF(OR(Main!AL11=\"\",Main!AL11=0),NA(),Main!AL11)","v":{"$error":"#N/A"}},{"$f":"IF(OR(Main!AM11=\"\",Main!AM11=0),NA(),Main!AM11)","v":{"$error":"#N/A"}},{"$f":"IF(OR(Main!AN11=\"\",Main!AN11=0),NA(),Main!AN11)","v":{"$error":"#N/A"}},{"$f":"IF(OR(Main!AO11=\"\",Main!AO11=0),NA(),Main!AO11)","v":{"$error":"#N/A"}},{"$f":"IF(OR(Main!AP11=\"\",Main!AP11=0),NA(),Main!AP11)","v":{"$error":"#N/A"}},{"$f":"IF(OR(Main!AQ11=\"\",Main!AQ11=0),NA(),Main!AQ11)","v":{"$error":"#N/A"}},{"$f":"IF(OR(Main!AR11=\"\",Main!AR11=0),NA(),Main!AR11)","v":{"$error":"#N/A"}},{"$f":"IF(OR(Main!AS11=\"\",Main!AS11=0),NA(),Main!AS11)","v":{"$error":"#N/A"}},{"$f":"IF(OR(Main!AT11=\"\",Main!AT11=0),NA(),Main!AT11)","v":{"$error":"#N/A"}},{"$f":"IF(OR(Main!AU11=\"\",Main!AU11=0),NA(),Main!AU11)","v":{"$error":"#N/A"}},{"$f":"IF(OR(Main!AV11=\"\",Main!AV11=0),NA(),Main!AV11)","v":{"$error":"#N/A"}},{"$f":"IF(OR(Main!AW11=\"\",Main!AW11=0),NA(),Main!AW11)","v":{"$error":"#N/A"}},{"$f":"IF(OR(Main!AX11=\"\",Main!AX11=0),NA(),Main!AX11)","v":{"$error":"#N/A"}},{"$f":"IF(OR(Main!AY11=\"\",Main!AY11=0),NA(),Main!AY11)","v":{"$error":"#N/A"}},{"$f":"IF(OR(Main!AZ11=\"\",Main!AZ11=0),NA(),Main!AZ11)","v":{"$error":"#N/A"}},{"$f":"IF(OR(Main!BA11=\"\",Main!BA11=0),NA(),Main!BA11)","v":{"$error":"#N/A"}},{"$f":"IF(OR(Main!BB11=\"\",Main!BB11=0),NA(),Main!BB11)","v":{"$error":"#N/A"}},{"$f":"IF(OR(Main!BC11=\"\",Main!BC11=0),NA(),Main!BC11)","v":{"$error":"#N/A"}},{"$f":"IF(OR(Main!BD11=\"\",Main!BD11=0),NA(),Main!BD11)","v":{"$error":"#N/A"}},{"$f":"IF(OR(Main!BE11=\"\",Main!BE11=0),NA(),Main!BE11)","v":{"$error":"#N/A"}},{"$f":"IF(OR(Main!BF11=\"\",Main!BF11=0),NA(),Main!BF11)","v":{"$error":"#N/A"}},{"$f":"IF(OR(Main!BG11=\"\",Main!BG11=0),NA(),Main!BG11)","v":{"$error":"#N/A"}},{"$f":"IF(OR(Main!BH11=\"\",Main!BH11=0),NA(),Main!BH11)","v":{"$error":"#N/A"}},{"$f":"IF(OR(Main!BI11=\"\",Main!BI11=0),NA(),Main!BI11)","v":{"$error":"#N/A"}},{"$f":"IF(OR(Main!BJ11=\"\",Main!BJ11=0),NA(),Main!BJ11)","v":{"$error":"#N/A"}},{"$f":"IF(OR(Main!BK11=\"\",Main!BK11=0),NA(),Main!BK11)","v":{"$error":"#N/A"}},{"$f":"IF(OR(Main!BL11=\"\",Main!BL11=0),NA(),Main!BL11)","v":{"$error":"#N/A"}},{"$f":"IF(OR(Main!BM11=\"\",Main!BM11=0),NA(),Main!BM11)","v":{"$error":"#N/A"}},{"$f":"IF(OR(Main!BN11=\"\",Main!BN11=0),NA(),Main!BN11)","v":{"$error":"#N/A"}},{"$f":"IF(OR(Main!BO11=\"\",Main!BO11=0),NA(),Main!BO11)","v":{"$error":"#N/A"}},{"$f":"IF(OR(Main!BP11=\"\",Main!BP11=0),NA(),Main!BP11)","v":{"$error":"#N/A"}},{"$f":"IF(OR(Main!BQ11=\"\",Main!BQ11=0),NA(),Main!BQ11)","v":{"$error":"#N/A"}},{"$f":"IF(OR(Main!BR11=\"\",Main!BR11=0),NA(),Main!BR11)","v":{"$error":"#N/A"}},{"$f":"IF(OR(Main!BS11=\"\",Main!BS11=0),NA(),Main!BS11)","v":{"$error":"#N/A"}},{"$f":"IF(OR(Main!BT11=\"\",Main!BT11=0),NA(),Main!BT11)","v":{"$error":"#N/A"}},{"$f":"IF(OR(Main!BU11=\"\",Main!BU11=0),NA(),Main!BU11)","v":{"$error":"#N/A"}},{"$f":"IF(OR(Main!BV11=\"\",Main!BV11=0),NA(),Main!BV11)","v":{"$error":"#N/A"}},{"$f":"IF(OR(Main!BW11=\"\",Main!BW11=0),NA(),Main!BW11)","v":{"$error":"#N/A"}},{"$f":"IF(OR(Main!BX11=\"\",Main!BX11=0),NA(),Main!BX11)","v":{"$error":"#N/A"}},{"$f":"IF(OR(Main!BY11=\"\",Main!BY11=0),NA(),Main!BY11)","v":{"$error":"#N/A"}},{"$f":"IF(OR(Main!BZ11=\"\",Main!BZ11=0),NA(),Main!BZ11)","v":{"$error":"#N/A"}},{"$f":"IF(OR(Main!CA11=\"\",Main!CA11=0),NA(),Main!CA11)","v":{"$error":"#N/A"}},{"$f":"IF(OR(Main!CB11=\"\",Main!CB11=0),NA(),Main!CB11)","v":{"$error":"#N/A"}},{"$f":"IF(OR(Main!CC11=\"\",Main!CC11=0),NA(),Main!CC11)","v":{"$error":"#N/A"}},{"$f":"IF(OR(Main!CD11=\"\",Main!CD11=0),NA(),Main!CD11)","v":{"$error":"#N/A"}},{"$f":"IF(OR(Main!CE11=\"\",Main!CE11=0),NA(),Main!CE11)","v":{"$error":"#N/A"}},{"$f":"IF(OR(Main!CF11=\"\",Main!CF11=0),NA(),Main!CF11)","v":{"$error":"#N/A"}},{"$f":"IF(OR(Main!CG11=\"\",Main!CG11=0),NA(),Main!CG11)","v":{"$error":"#N/A"}},{"$f":"IF(OR(Main!CH11=\"\",Main!CH11=0),NA(),Main!CH11)","v":{"$error":"#N/A"}},{"$f":"IF(OR(Main!CI11=\"\",Main!CI11=0),NA(),Main!CI11)","v":{"$error":"#N/A"}},{"$f":"IF(OR(Main!CJ11=\"\",Main!CJ11=0),NA(),Main!CJ11)","v":{"$error":"#N/A"}},{"$f":"IF(OR(Main!CK11=\"\",Main!CK11=0),NA(),Main!CK11)","v":{"$error":"#N/A"}},{"$f":"IF(OR(Main!CL11=\"\",Main!CL11=0),NA(),Main!CL11)","v":{"$error":"#N/A"}},{"$f":"IF(OR(Main!CM11=\"\",Main!CM11=0),NA(),Main!CM11)","v":{"$error":"#N/A"}},{"$f":"IF(OR(Main!CN11=\"\",Main!CN11=0),NA(),Main!CN11)","v":{"$error":"#N/A"}},{"$f":"IF(OR(Main!CO11=\"\",Main!CO11=0),NA(),Main!CO11)","v":{"$error":"#N/A"}},{"$f":"IF(OR(Main!CP11=\"\",Main!CP11=0),NA(),Main!CP11)","v":{"$error":"#N/A"}},{"$f":"IF(OR(Main!CQ11=\"\",Main!CQ11=0),NA(),Main!CQ11)","v":{"$error":"#N/A"}},{"$f":"IF(OR(Main!CR11=\"\",Main!CR11=0),NA(),Main!CR11)","v":{"$error":"#N/A"}},{"$f":"IF(OR(Main!CS11=\"\",Main!CS11=0),NA(),Main!CS11)","v":{"$error":"#N/A"}},{"$f":"IF(OR(Main!CT11=\"\",Main!CT11=0),NA(),Main!CT11)","v":{"$error":"#N/A"}},{"$f":"IF(OR(Main!CU11=\"\",Main!CU11=0),NA(),Main!CU11)","v":{"$error":"#N/A"}},{"$f":"IF(OR(Main!CV11=\"\",Main!CV11=0),NA(),Main!CV11)","v":{"$error":"#N/A"}},{"$f":"IF(OR(Main!CW11=\"\",Main!CW11=0),NA(),Main!CW11)","v":{"$error":"#N/A"}},{"$f":"IF(OR(Main!CX11=\"\",Main!CX11=0),NA(),Main!CX11)","v":{"$error":"#N/A"}},{"$f":"IF(OR(Main!CY11=\"\",Main!CY11=0),NA(),Main!CY11)","v":{"$error":"#N/A"}}]
[]
[null,null,"2.36mm / #8",{"$f":"IF(OR(Main!D12=\"\",Main!D12=0),NA(),Main!D12)","v":{"$error":"#N/A"}},{"$f":"IF(OR(Main!E12=\"\",Main!E12=0),NA(),Main!E12)","v":{"$error":"#N/A"}},{"$f":"IF(OR(Main!F12=\"\",Main!F12=0),NA(),Main!F12)","v":{"$error":"#N/A"}},{"$f":"IF(OR(Main!G12=\"\",Main!G12=0),NA(),Main!G12)","v":{"$error":"#N/A"}},{"$f":"IF(OR(Main!H12=\"\",Main!H12=0),NA(),Main!H12)","v":{"$error":"#N/A"}},{"$f":"IF(OR(Main!I12=\"\",Main!I12=0),NA(),Main!I12)","v":{"$error":"#N/A"}},{"$f":"IF(OR(Main!J12=\"\",Main!J12=0),NA(),Main!J12)","v":{"$error":"#N/A"}},{"$f":"IF(OR(Main!K12=\"\",Main!K12=0),NA(),Main!K12)","v":{"$error":"#N/A"}},{"$f":"IF(OR(Main!L12=\"\",Main!L12=0),NA(),Main!L12)","v":{"$error":"#N/A"}},{"$f":"IF(OR(Main!M12=\"\",Main!M12=0),NA(),Main!M12)","v":{"$error":"#N/A"}},{"$f":"IF(OR(Main!N12=\"\",Main!N12=0),NA(),Main!N12)","v":{"$error":"#N/A"}},{"$f":"IF(OR(Main!O12=\"\",Main!O12=0),NA(),Main!O12)","v":{"$error":"#N/A"}},{"$f":"IF(OR(Main!P12=\"\",Main!P12=0),NA(),Main!P12)","v":{"$error":"#N/A"}},{"$f":"IF(OR(Main!Q12=\"\",Main!Q12=0),NA(),Main!Q12)","v":{"$error":"#N/A"}},{"$f":"IF(OR(Main!R12=\"\",Main!R12=0),NA(),Main!R12)","v":{"$error":"#N/A"}},{"$f":"IF(OR(Main!S12=\"\",Main!S12=0),NA(),Main!S12)","v":{"$error":"#N/A"}},{"$f":"IF(OR(Main!T12=\"\",Main!T12=0),NA(),Main!T12)","v":{"$error":"#N/A"}},{"$f":"IF(OR(Main!U12=\"\",Main!U12=0),NA(),Main!U12)","v":{"$error":"#N/A"}},{"$f":"IF(OR(Main!V12=\"\",Main!V12=0),NA(),Main!V12)","v":{"$error":"#N/A"}},{"$f":"IF(OR(Main!W12=\"\",Main!W12=0),NA(),Main!W12)","v":{"$error":"#N/A"}},{"$f":"IF(OR(Main!X12=\"\",Main!X12=0),NA(),Main!X12)","v":{"$error":"#N/A"}},{"$f":"IF(OR(Main!Y12=\"\",Main!Y12=0),NA(),Main!Y12)","v":{"$error":"#N/A"}},{"$f":"IF(OR(Main!Z12=\"\",Main!Z12=0),NA(),Main!Z12)","v":{"$error":"#N/A"}},{"$f":"IF(OR(Main!AA12=\"\",Main!AA12=0),NA(),Main!AA12)","v":{"$error":"#N/A"}},{"$f":"IF(OR(Main!AB12=\"\",Main!AB12=0),NA(),Main!AB12)","v":{"$error":"#N/A"}},{"$f":"IF(OR(Main!AC12=\"\",Main!AC12=0),NA(),Main!AC12)","v":{"$error":"#N/A"}},{"$f":"IF(OR(Main!AD12=\"\",Main!AD12=0),NA(),Main!AD12)","v":{"$error":"#N/A"}},{"$f":"IF(OR(Main!AE12=\"\",Main!AE12=0),NA(),Main!AE12)","v":{"$error":"#N/A"}},{"$f":"IF(OR(Main!AF12=\"\",Main!AF12=0),NA(),Main!AF12)","v":{"$error":"#N/A"}},{"$f":"IF(OR(Main!AG12=\"\",Main!AG12=0),NA(),Main!AG12)","v":{"$error":"#N/A"}},{"$f":"IF(OR(Main!AH12=\"\",Main!AH12=0),NA(),Main!AH12)","v":{"$error":"#N/A"}},{"$f":"IF(OR(Main!AI12=\"\",Main!AI12=0),NA(),Main!AI12)","v":{"$error":"#N/A"}},{"$f":"IF(OR(Main!AJ12=\"\",Main!AJ12=0),NA(),Main!AJ12)","v":{"$error":"#N/A"}},{"$f":"IF(OR(Main!AK12=\"\",Main!AK12=0),NA(),Main!AK12)","v":{"$error":"#N/A"}},{"$f":"IF(OR(Main!AL12=\"\",Main!AL12=0),NA(),Main!AL12)","v":{"$error":"#N/A"}},{"$f":"IF(OR(Main!AM12=\"\",Main!AM12=0),NA(),Main!AM12)","v":{"$error":"#N/A"}},{"$f":"IF(OR(Main!AN12=\"\",Main!AN12=0),NA(),Main!AN12)","v":{"$error":"#N/A"}},{"$f":"IF(OR(Main!AO12=\"\",Main!AO12=0),NA(),Main!AO12)","v":{"$error":"#N/A"}},{"$f":"IF(OR(Main!AP12=\"\",Main!AP12=0),NA(),Main!AP12)","v":{"$error":"#N/A"}},{"$f":"IF(OR(Main!AQ12=\"\",Main!AQ12=0),NA(),Main!AQ12)","v":{"$error":"#N/A"}},{"$f":"IF(OR(Main!AR12=\"\",Main!AR12=0),NA(),Main!AR12)","v":{"$error":"#N/A"}},{"$f":"IF(OR(Main!AS12=\"\",Main!AS12=0),NA(),Main!AS12)","v":{"$error":"#N/A"}},{"$f":"IF(OR(Main!AT12=\"\",Main!AT12=0),NA(),Main!AT12)","v":{"$error":"#N/A"}},{"$f":"IF(OR(Main!AU12=\"\",Main!AU12=0),NA(),Main!AU12)","v":{"$error":"#N/A"}},{"$f":"IF(OR(Main!AV12=\"\",Main!AV12=0),NA(),Main!AV12)","v":{"$error":"#N/A"}},{"$f":"IF(OR(Main!AW12=\"\",Main!AW12=0),NA(),Main!AW12)","v":{"$error":"#N/A"}},{"$f":"IF(OR(Main!AX12=\"\",Main!AX12=0),NA(),Main!AX12)","v":{"$error":"#N/A"}},{"$f":"IF(OR(Main!AY12=\"\",Main!AY12=0),NA(),Main!AY12)","v":{"$error":"#N/A"}},{"$f":"IF(OR(Main!AZ12=\"\",Main!AZ12=0),NA(),Main!AZ12)","v":{"$error":"#N/A"}},{"$f":"IF(OR(Main!BA12=\"\",Main!BA12=0),NA(),Main!BA12)","v":{"$error":"#N/A"}},{"$f":"IF(OR(Main!BB12=\"\",Main!BB12=0),NA(),Main!BB12)","v":{"$error":"#N/A"}},{"$f":"IF(OR(Main!BC12=\"\",Main!BC12=0),NA(),Main!BC12)","v":{"$error":"#N/A"}},{"$f":"IF(OR(Main!BD12=\"\",Main!BD12=0),NA(),Main!BD12)","v":{"$error":"#N/A"}},{"$f":"IF(OR(Main!BE12=\"\",Main!BE12=0),NA(),Main!BE12)","v":{"$error":"#N/A"}},{"$f":"IF(OR(Main!BF12=\"\",Main!BF12=0),NA(),Main!BF12)","v":{"$error":"#N/A"}},{"$f":"IF(OR(Main!BG12=\"\",Main!BG12=0),NA(),Main!BG12)","v":{"$error":"#N/A"}},{"$f":"IF(OR(Main!BH12=\"\",Main!BH12=0),NA(),Main!BH12)","v":{"$error":"#N/A"}},{"$f":"IF(OR(Main!BI12=\"\",Main!BI12=0),NA(),Main!BI12)","v":{"$error":"#N/A"}},{"$f":"IF(OR(Main!BJ12=\"\",Main!BJ12=0),NA(),Main!BJ12)","v":{"$error":"#N/A"}},{"$f":"IF(OR(Main!BK12=\"\",Main!BK12=0),NA(),Main!BK12)","v":{"$error":"#N/A"}},{"$f":"IF(OR(Main!BL12=\"\",Main!BL12=0),NA(),Main!BL12)","v":{"$error":"#N/A"}},{"$f":"IF(OR(Main!BM12=\"\",Main!BM12=0),NA(),Main!BM12)","v":{"$error":"#N/A"}},{"$f":"IF(OR(Main!BN12=\"\",Main!BN12=0),NA(),Main!BN12)","v":{"$error":"#N/A"}},{"$f":"IF(OR(Main!BO12=\"\",Main!BO12=0),NA(),Main!BO12)","v":{"$error":"#N/A"}},{"$f":"IF(OR(Main!BP12=\"\",Main!BP12=0),NA(),Main!BP12)","v":{"$error":"#N/A"}},{"$f":"IF(OR(Main!BQ12=\"\",Main!BQ12=0),NA(),Main!BQ12)","v":{"$error":"#N/A"}},{"$f":"IF(OR(Main!BR12=\"\",Main!BR12=0),NA(),Main!BR12)","v":{"$error":"#N/A"}},{"$f":"IF(OR(Main!BS12=\"\",Main!BS12=0),NA(),Main!BS12)","v":{"$error":"#N/A"}},{"$f":"IF(OR(Main!BT12=\"\",Main!BT12=0),NA(),Main!BT12)","v":{"$error":"#N/A"}},{"$f":"IF(OR(Main!BU12=\"\",Main!BU12=0),NA(),Main!BU12)","v":{"$error":"#N/A"}},{"$f":"IF(OR(Main!BV12=\"\",Main!BV12=0),NA(),Main!BV12)","v":{"$error":"#N/A"}},{"$f":"IF(OR(Main!BW12=\"\",Main!BW12=0),NA(),Main!BW12)","v":{"$error":"#N/A"}},{"$f":"IF(OR(Main!BX12=\"\",Main!BX12=0),NA(),Main!BX12)","v":{"$error":"#N/A"}},{"$f":"IF(OR(Main!BY12=\"\",Main!BY12=0),NA(),Main!BY12)","v":{"$error":"#N/A"}},{"$f":"IF(OR(Main!BZ12=\"\",Main!BZ12=0),NA(),Main!BZ12)","v":{"$error":"#N/A"}},{"$f":"IF(OR(Main!CA12=\"\",Main!CA12=0),NA(),Main!CA12)","v":{"$error":"#N/A"}},{"$f":"IF(OR(Main!CB12=\"\",Main!CB12=0),NA(),Main!CB12)","v":{"$error":"#N/A"}},{"$f":"IF(OR(Main!CC12=\"\",Main!CC12=0),NA(),Main!CC12)","v":{"$error":"#N/A"}},{"$f":"IF(OR(Main!CD12=\"\",Main!CD12=0),NA(),Main!CD12)","v":{"$error":"#N/A"}},{"$f":"IF(OR(Main!CE12=\"\",Main!CE12=0),NA(),Main!CE12)","v":{"$error":"#N/A"}},{"$f":"IF(OR(Main!CF12=\"\",Main!CF12=0),NA(),Main!CF12)","v":{"$error":"#N/A"}},{"$f":"IF(OR(Main!CG12=\"\",Main!CG12=0),NA(),Main!CG12)","v":{"$error":"#N/A"}},{"$f":"IF(OR(Main!CH12=\"\",Main!CH12=0),NA(),Main!CH12)","v":{"$error":"#N/A"}},{"$f":"IF(OR(Main!CI12=\"\",Main!CI12=0),NA(),Main!CI12)","v":{"$error":"#N/A"}},{"$f":"IF(OR(Main!CJ12=\"\",Main!CJ12=0),NA(),Main!CJ12)","v":{"$error":"#N/A"}},{"$f":"IF(OR(Main!CK12=\"\",Main!CK12=0),NA(),Main!CK12)","v":{"$error":"#N/A"}},{"$f":"IF(OR(Main!CL12=\"\",Main!CL12=0),NA(),Main!CL12)","v":{"$error":"#N/A"}},{"$f":"IF(OR(Main!CM12=\"\",Main!CM12=0),NA(),Main!CM12)","v":{"$error":"#N/A"}},{"$f":"IF(OR(Main!CN12=\"\",Main!CN12=0),NA(),Main!CN12)","v":{"$error":"#N/A"}},{"$f":"IF(OR(Main!CO12=\"\",Main!CO12=0),NA(),Main!CO12)","v":{"$error":"#N/A"}},{"$f":"IF(OR(Main!CP12=\"\",Main!CP12=0),NA(),Main!CP12)","v":{"$error":"#N/A"}},{"$f":"IF(OR(Main!CQ12=\"\",Main!CQ12=0),NA(),Main!CQ12)","v":{"$error":"#N/A"}},{"$f":"IF(OR(Main!CR12=\"\",Main!CR12=0),NA(),Main!CR12)","v":{"$error":"#N/A"}},{"$f":"IF(OR(Main!CS12=\"\",Main!CS12=0),NA(),Main!CS12)","v":{"$error":"#N/A"}},{"$f":"IF(OR(Main!CT12=\"\",Main!CT12=0),NA(),Main!CT12)","v":{"$error":"#N/A"}},{"$f":"IF(OR(Main!CU12=\"\",Main!CU12=0),NA(),Main!CU12)","v":{"$error":"#N/A"}},{"$f":"IF(OR(Main!CV12=\"\",Main!CV12=0),NA(),Main!CV12)","v":{"$error":"#N/A"}},{"$f":"IF(OR(Main!CW12=\"\",Main!CW12=0),NA(),Main!CW12)","v":{"$error":"#N/A"}},{"$f":"IF(OR(Main!CX12=\"\",Main!CX12=0),NA(),Main!CX12)","v":{"$error":"#N/A"}},{"$f":"IF(OR(Main!CY12=\"\",Main!CY12=0),NA(),Main!CY12)","v":{"$error":"#N/A"}}]
[]
[null,null,"1.18mm / #16",{"$f":"IF(OR(Main!D13=\"\",Main!D13=0),NA(),Main!D13)","v":{"$error":"#N/A"}},{"$f":"IF(OR(Main!E13=\"\",Main!E13=0),NA(),Main!E13)","v":{"$error":"#N/A"}},{"$f":"IF(OR(Main!F13=\"\",Main!F13=0),NA(),Main!F13)","v":{"$error":"#N/A"}},{"$f":"IF(OR(Main!G13=\"\",Main!G13=0),NA(),Main!G13)","v":{"$error":"#N/A"}},{"$f":"IF(OR(Main!H13=\"\",Main!H13=0),NA(),Main!H13)","v":{"$error":"#N/A"}},{"$f":"IF(OR(Main!I13=\"\",Main!I13=0),NA(),Main!I13)","v":{"$error":"#N/A"}},{"$f":"IF(OR(Main!J13=\"\",Main!J13=0),NA(),Main!J13)","v":{"$error":"#N/A"}},{"$f":"IF(OR(Main!K13=\"\",Main!K13=0),NA(),Main!K13)","v":{"$error":"#N/A"}},{"$f":"IF(OR(Main!L13=\"\",Main!L13=0),NA(),Main!L13)","v":{"$error":"#N/A"}},{"$f":"IF(OR(Main!M13=\"\",Main!M13=0),NA(),Main!M13)","v":{"$error":"#N/A"}},{"$f":"IF(OR(Main!N13=\"\",Main!N13=0),NA(),Main!N13)","v":{"$error":"#N/A"}},{"$f":"IF(OR(Main!O13=\"\",Main!O13=0),NA(),Main!O13)","v":{"$error":"#N/A"}},{"$f":"IF(OR(Main!P13=\"\",Main!P13=0),NA(),Main!P13)","v":{"$error":"#N/A"}},{"$f":"IF(OR(Main!Q13=\"\",Main!Q13=0),NA(),Main!Q13)","v":{"$error":"#N/A"}},{"$f":"IF(OR(Main!R13=\"\",Main!R13=0),NA(),Main!R13)","v":{"$error":"#N/A"}},{"$f":"IF(OR(Main!S13=\"\",Main!S13=0),NA(),Main!S13)","v":{"$error":"#N/A"}},{"$f":"IF(OR(Main!T13=\"\",Main!T13=0),NA(),Main!T13)","v":{"$error":"#N/A"}},{"$f":"IF(OR(Main!U13=\"\",Main!U13=0),NA(),Main!U13)","v":{"$error":"#N/A"}},{"$f":"IF(OR(Main!V13=\"\",Main!V13=0),NA(),Main!V13)","v":{"$error":"#N/A"}},{"$f":"IF(OR(Main!W13=\"\",Main!W13=0),NA(),Main!W13)","v":{"$error":"#N/A"}},{"$f":"IF(OR(Main!X13=\"\",Main!X13=0),NA(),Main!X13)","v":{"$error":"#N/A"}},{"$f":"IF(OR(Main!Y13=\"\",Main!Y13=0),NA(),Main!Y13)","v":{"$error":"#N/A"}},{"$f":"IF(OR(Main!Z13=\"\",Main!Z13=0),NA(),Main!Z13)","v":{"$error":"#N/A"}},{"$f":"IF(OR(Main!AA13=\"\",Main!AA13=0),NA(),Main!AA13)","v":{"$error":"#N/A"}},{"$f":"IF(OR(Main!AB13=\"\",Main!AB13=0),NA(),Main!AB13)","v":{"$error":"#N/A"}},{"$f":"IF(OR(Main!AC13=\"\",Main!AC13=0),NA(),Main!AC13)","v":{"$error":"#N/A"}},{"$f":"IF(OR(Main!AD13=\"\",Main!AD13=0),NA(),Main!AD13)","v":{"$error":"#N/A"}},{"$f":"IF(OR(Main!AE13=\"\",Main!AE13=0),NA(),Main!AE13)","v":{"$error":"#N/A"}},{"$f":"IF(OR(Main!AF13=\"\",Main!AF13=0),NA(),Main!AF13)","v":{"$error":"#N/A"}},{"$f":"IF(OR(Main!AG13=\"\",Main!AG13=0),NA(),Main!AG13)","v":{"$error":"#N/A"}},{"$f":"IF(OR(Main!AH13=\"\",Main!AH13=0),NA(),Main!AH13)","v":{"$error":"#N/A"}},{"$f":"IF(OR(Main!AI13=\"\",Main!AI13=0),NA(),Main!AI13)","v":{"$error":"#N/A"}},{"$f":"IF(OR(Main!AJ13=\"\",Main!AJ13=0),NA(),Main!AJ13)","v":{"$error":"#N/A"}},{"$f":"IF(OR(Main!AK13=\"\",Main!AK13=0),NA(),Main!AK13)","v":{"$error":"#N/A"}},{"$f":"IF(OR(Main!AL13=\"\",Main!AL13=0),NA(),Main!AL13)","v":{"$error":"#N/A"}},{"$f":"IF(OR(Main!AM13=\"\",Main!AM13=0),NA(),Main!AM13)","v":{"$error":"#N/A"}},{"$f":"IF(OR(Main!AN13=\"\",Main!AN13=0),NA(),Main!AN13)","v":{"$error":"#N/A"}},{"$f":"IF(OR(Main!AO13=\"\",Main!AO13=0),NA(),Main!AO13)","v":{"$error":"#N/A"}},{"$f":"IF(OR(Main!AP13=\"\",Main!AP13=0),NA(),Main!AP13)","v":{"$error":"#N/A"}},{"$f":"IF(OR(Main!AQ13=\"\",Main!AQ13=0),NA(),Main!AQ13)","v":{"$error":"#N/A"}},{"$f":"IF(OR(Main!AR13=\"\",Main!AR13=0),NA(),Main!AR13)","v":{"$error":"#N/A"}},{"$f":"IF(OR(Main!AS13=\"\",Main!AS13=0),NA(),Main!AS13)","v":{"$error":"#N/A"}},{"$f":"IF(OR(Main!AT13=\"\",Main!AT13=0),NA(),Main!AT13)","v":{"$error":"#N/A"}},{"$f":"IF(OR(Main!AU13=\"\",Main!AU13=0),NA(),Main!AU13)","v":{"$error":"#N/A"}},{"$f":"IF(OR(Main!AV13=\"\",Main!AV13=0),NA(),Main!AV13)","v":{"$error":"#N/A"}},{"$f":"IF(OR(Main!AW13=\"\",Main!AW13=0),NA(),Main!AW13)","v":{"$error":"#N/A"}},{"$f":"IF(OR(Main!AX13=\"\",Main!AX13=0),NA(),Main!AX13)","v":{"$error":"#N/A"}},{"$f":"IF(OR(Main!AY13=\"\",Main!AY13=0),NA(),Main!AY13)","v":{"$error":"#N/A"}},{"$f":"IF(OR(Main!AZ13=\"\",Main!AZ13=0),NA(),Main!AZ13)","v":{"$error":"#N/A"}},{"$f":"IF(OR(Main!BA13=\"\",Main!BA13=0),NA(),Main!BA13)","v":{"$error":"#N/A"}},{"$f":"IF(OR(Main!BB13=\"\",Main!BB13=0),NA(),Main!BB13)","v":{"$error":"#N/A"}},{"$f":"IF(OR(Main!BC13=\"\",Main!BC13=0),NA(),Main!BC13)","v":{"$error":"#N/A"}},{"$f":"IF(OR(Main!BD13=\"\",Main!BD13=0),NA(),Main!BD13)","v":{"$error":"#N/A"}},{"$f":"IF(OR(Main!BE13=\"\",Main!BE13=0),NA(),Main!BE13)","v":{"$error":"#N/A"}},{"$f":"IF(OR(Main!BF13=\"\",Main!BF13=0),NA(),Main!BF13)","v":{"$error":"#N/A"}},{"$f":"IF(OR(Main!BG13=\"\",Main!BG13=0),NA(),Main!BG13)","v":{"$error":"#N/A"}},{"$f":"IF(OR(Main!BH13=\"\",Main!BH13=0),NA(),Main!BH13)","v":{"$error":"#N/A"}},{"$f":"IF(OR(Main!BI13=\"\",Main!BI13=0),NA(),Main!BI13)","v":{"$error":"#N/A"}},{"$f":"IF(OR(Main!BJ13=\"\",Main!BJ13=0),NA(),Main!BJ13)","v":{"$error":"#N/A"}},{"$f":"IF(OR(Main!BK13=\"\",Main!BK13=0),NA(),Main!BK13)","v":{"$error":"#N/A"}},{"$f":"IF(OR(Main!BL13=\"\",Main!BL13=0),NA(),Main!BL13)","v":{"$error":"#N/A"}},{"$f":"IF(OR(Main!BM13=\"\",Main!BM13=0),NA(),Main!BM13)","v":{"$error":"#N/A"}},{"$f":"IF(OR(Main!BN13=\"\",Main!BN13=0),NA(),Main!BN13)","v":{"$error":"#N/A"}},{"$f":"IF(OR(Main!BO13=\"\",Main!BO13=0),NA(),Main!BO13)","v":{"$error":"#N/A"}},{"$f":"IF(OR(Main!BP13=\"\",Main!BP13=0),NA(),Main!BP13)","v":{"$error":"#N/A"}},{"$f":"IF(OR(Main!BQ13=\"\",Main!BQ13=0),NA(),Main!BQ13)","v":{"$error":"#N/A"}},{"$f":"IF(OR(Main!BR13=\"\",Main!BR13=0),NA(),Main!BR13)","v":{"$error":"#N/A"}},{"$f":"IF(OR(Main!BS13=\"\",Main!BS13=0),NA(),Main!BS13)","v":{"$error":"#N/A"}},{"$f":"IF(OR(Main!BT13=\"\",Main!BT13=0),NA(),Main!BT13)","v":{"$error":"#N/A"}},{"$f":"IF(OR(Main!BU13=\"\",Main!BU13=0),NA(),Main!BU13)","v":{"$error":"#N/A"}},{"$f":"IF(OR(Main!BV13=\"\",Main!BV13=0),NA(),Main!BV13)","v":{"$error":"#N/A"}},{"$f":"IF(OR(Main!BW13=\"\",Main!BW13=0),NA(),Main!BW13)","v":{"$error":"#N/A"}},{"$f":"IF(OR(Main!BX13=\"\",Main!BX13=0),NA(),Main!BX13)","v":{"$error":"#N/A"}},{"$f":"IF(OR(Main!BY13=\"\",Main!BY13=0),NA(),Main!BY13)","v":{"$error":"#N/A"}},{"$f":"IF(OR(Main!BZ13=\"\",Main!BZ13=0),NA(),Main!BZ13)","v":{"$error":"#N/A"}},{"$f":"IF(OR(Main!CA13=\"\",Main!CA13=0),NA(),Main!CA13)","v":{"$error":"#N/A"}},{"$f":"IF(OR(Main!CB13=\"\",Main!CB13=0),NA(),Main!CB13)","v":{"$error":"#N/A"}},{"$f":"IF(OR(Main!CC13=\"\",Main!CC13=0),NA(),Main!CC13)","v":{"$error":"#N/A"}},{"$f":"IF(OR(Main!CD13=\"\",Main!CD13=0),NA(),Main!CD13)","v":{"$error":"#N/A"}},{"$f":"IF(OR(Main!CE13=\"\",Main!CE13=0),NA(),Main!CE13)","v":{"$error":"#N/A"}},{"$f":"IF(OR(Main!CF13=\"\",Main!CF13=0),NA(),Main!CF13)","v":{"$error":"#N/A"}},{"$f":"IF(OR(Main!CG13=\"\",Main!CG13=0),NA(),Main!CG13)","v":{"$error":"#N/A"}},{"$f":"IF(OR(Main!CH13=\"\",Main!CH13=0),NA(),Main!CH13)","v":{"$error":"#N/A"}},{"$f":"IF(OR(Main!CI13=\"\",Main!CI13=0),NA(),Main!CI13)","v":{"$error":"#N/A"}},{"$f":"IF(OR(Main!CJ13=\"\",Main!CJ13=0),NA(),Main!CJ13)","v":{"$error":"#N/A"}},{"$f":"IF(OR(Main!CK13=\"\",Main!CK13=0),NA(),Main!CK13)","v":{"$error":"#N/A"}},{"$f":"IF(OR(Main!CL13=\"\",Main!CL13=0),NA(),Main!CL13)","v":{"$error":"#N/A"}},{"$f":"IF(OR(Main!CM13=\"\",Main!CM13=0),NA(),Main!CM13)","v":{"$error":"#N/A"}},{"$f":"IF(OR(Main!CN13=\"\",Main!CN13=0),NA(),Main!CN13)","v":{"$error":"#N/A"}},{"$f":"IF(OR(Main!CO13=\"\",Main!CO13=0),NA(),Main!CO13)","v":{"$error":"#N/A"}},{"$f":"IF(OR(Main!CP13=\"\",Main!CP13=0),NA(),Main!CP13)","v":{"$error":"#N/A"}},{"$f":"IF(OR(Main!CQ13=\"\",Main!CQ13=0),NA(),Main!CQ13)","v":{"$error":"#N/A"}},{"$f":"IF(OR(Main!CR13=\"\",Main!CR13=0),NA(),Main!CR13)","v":{"$error":"#N/A"}},{"$f":"IF(OR(Main!CS13=\"\",Main!CS13=0),NA(),Main!CS13)","v":{"$error":"#N/A"}},{"$f":"IF(OR(Main!CT13=\"\",Main!CT13=0),NA(),Main!CT13)","v":{"$error":"#N/A"}},{"$f":"IF(OR(Main!CU13=\"\",Main!CU13=0),NA(),Main!CU13)","v":{"$error":"#N/A"}},{"$f":"IF(OR(Main!CV13=\"\",Main!CV13=0),NA(),Main!CV13)","v":{"$error":"#N/A"}},{"$f":"IF(OR(Main!CW13=\"\",Main!CW13=0),NA(),Main!CW13)","v":{"$error":"#N/A"}},{"$f":"IF(OR(Main!CX13=\"\",Main!CX13=0),NA(),Main!CX13)","v":{"$error":"#N/A"}},{"$f":"IF(OR(Main!CY13=\"\",Main!CY13=0),NA(),Main!CY13)","v":{"$error":"#N/A"}}]
[]
[null,null,"AC",{"$f":"IF(OR(Main!D18=\"\",Main!D18=0),NA(),Main!D18)","v":{"$error":"#N/A"}},{"$f":"IF(OR(Main!E18=\"\",Main!E18=0),NA(),Main!E18)","v":{"$error":"#N/A"}},{"$f":"IF(OR(Main!F18=\"\",Main!F18=0),NA(),Main!F18)","v":{"$error":"#N/A"}},{"$f":"IF(OR(Main!G18=\"\",Main!G18=0),NA(),Main!G18)","v":{"$error":"#N/A"}},{"$f":"IF(OR(Main!H18=\"\",Main!H18=0),NA(),Main!H18)","v":{"$error":"#N/A"}},{"$f":"IF(OR(Main!I18=\"\",Main!I18=0),NA(),Main!I18)","v":{"$error":"#N/A"}},{"$f":"IF(OR(Main!J18=\"\",Main!J18=0),NA(),Main!J18)","v":{"$error":"#N/A"}},{"$f":"IF(OR(Main!K18=\"\",Main!K18=0),NA(),Main!K18)","v":{"$error":"#N/A"}},{"$f":"IF(OR(Main!L18=\"\",Main!L18=0),NA(),Main!L18)","v":{"$error":"#N/A"}},{"$f":"IF(OR(Main!M18=\"\",Main!M18=0),NA(),Main!M18)","v":{"$error":"#N/A"}},{"$f":"IF(OR(Main!N18=\"\",Main!N18=0),NA(),Main!N18)","v":{"$error":"#N/A"}},{"$f":"IF(OR(Main!O18=\"\",Main!O18=0),NA(),Main!O18)","v":{"$error":"#N/A"}},{"$f":"IF(OR(Main!P18=\"\",Main!P18=0),NA(),Main!P18)","v":{"$error":"#N/A"}},{"$f":"IF(OR(Main!Q18=\"\",Main!Q18=0),NA(),Main!Q18)","v":{"$error":"#N/A"}},{"$f":"IF(OR(Main!R18=\"\",Main!R18=0),NA(),Main!R18)","v":{"$error":"#N/A"}},{"$f":"IF(OR(Main!S18=\"\",Main!S18=0),NA(),Main!S18)","v":{"$error":"#N/A"}},{"$f":"IF(OR(Main!T18=\"\",Main!T18=0),NA(),Main!T18)","v":{"$error":"#N/A"}},{"$f":"IF(OR(Main!U18=\"\",Main!U18=0),NA(),Main!U18)","v":{"$error":"#N/A"}},{"$f":"IF(OR(Main!V18=\"\",Main!V18=0),NA(),Main!V18)","v":{"$error":"#N/A"}},{"$f":"IF(OR(Main!W18=\"\",Main!W18=0),NA(),Main!W18)","v":{"$error":"#N/A"}},{"$f":"IF(OR(Main!X18=\"\",Main!X18=0),NA(),Main!X18)","v":{"$error":"#N/A"}},{"$f":"IF(OR(Main!Y18=\"\",Main!Y18=0),NA(),Main!Y18)","v":{"$error":"#N/A"}},{"$f":"IF(OR(Main!Z18=\"\",Main!Z18=0),NA(),Main!Z18)","v":{"$error":"#N/A"}},{"$f":"IF(OR(Main!AA18=\"\",Main!AA18=0),NA(),Main!AA18)","v":{"$error":"#N/A"}},{"$f":"IF(OR(Main!AB18=\"\",Main!AB18=0),NA(),Main!AB18)","v":{"$error":"#N/A"}},{"$f":"IF(OR(Main!AC18=\"\",Main!AC18=0),NA(),Main!AC18)","v":{"$error":"#N/A"}},{"$f":"IF(OR(Main!AD18=\"\",Main!AD18=0),NA(),Main!AD18)","v":{"$error":"#N/A"}},{"$f":"IF(OR(Main!AE18=\"\",Main!AE18=0),NA(),Main!AE18)","v":{"$error":"#N/A"}},{"$f":"IF(OR(Main!AF18=\"\",Main!AF18=0),NA(),Main!AF18)","v":{"$error":"#N/A"}},{"$f":"IF(OR(Main!AG18=\"\",Main!AG18=0),NA(),Main!AG18)","v":{"$error":"#N/A"}},{"$f":"IF(OR(Main!AH18=\"\",Main!AH18=0),NA(),Main!AH18)","v":{"$error":"#N/A"}},{"$f":"IF(OR(Main!AI18=\"\",Main!AI18=0),NA(),Main!AI18)","v":{"$error":"#N/A"}},{"$f":"IF(OR(Main!AJ18=\"\",Main!AJ18=0),NA(),Main!AJ18)","v":{"$error":"#N/A"}},{"$f":"IF(OR(Main!AK18=\"\",Main!AK18=0),NA(),Main!AK18)","v":{"$error":"#N/A"}},{"$f":"IF(OR(Main!AL18=\"\",Main!AL18=0),NA(),Main!AL18)","v":{"$error":"#N/A"}},{"$f":"IF(OR(Main!AM18=\"\",Main!AM18=0),NA(),Main!AM18)","v":{"$error":"#N/A"}},{"$f":"IF(OR(Main!AN18=\"\",Main!AN18=0),NA(),Main!AN18)","v":{"$error":"#N/A"}},{"$f":"IF(OR(Main!AO18=\"\",Main!AO18=0),NA(),Main!AO18)","v":{"$error":"#N/A"}},{"$f":"IF(OR(Main!AP18=\"\",Main!AP18=0),NA(),Main!AP18)","v":{"$error":"#N/A"}},{"$f":"IF(OR(Main!AQ18=\"\",Main!AQ18=0),NA(),Main!AQ18)","v":{"$error":"#N/A"}},{"$f":"IF(OR(Main!AR18=\"\",Main!AR18=0),NA(),Main!AR18)","v":{"$error":"#N/A"}},{"$f":"IF(OR(Main!AS18=\"\",Main!AS18=0),NA(),Main!AS18)","v":{"$error":"#N/A"}},{"$f":"IF(OR(Main!AT18=\"\",Main!AT18=0),NA(),Main!AT18)","v":{"$error":"#N/A"}},{"$f":"IF(OR(Main!AU18=\"\",Main!AU18=0),NA(),Main!AU18)","v":{"$error":"#N/A"}},{"$f":"IF(OR(Main!AV18=\"\",Main!AV18=0),NA(),Main!AV18)","v":{"$error":"#N/A"}},{"$f":"IF(OR(Main!AW18=\"\",Main!AW18=0),NA(),Main!AW18)","v":{"$error":"#N/A"}},{"$f":"IF(OR(Main!AX18=\"\",Main!AX18=0),NA(),Main!AX18)","v":{"$error":"#N/A"}},{"$f":"IF(OR(Main!AY18=\"\",Main!AY18=0),NA(),Main!AY18)","v":{"$error":"#N/A"}},{"$f":"IF(OR(Main!AZ18=\"\",Main!AZ18=0),NA(),Main!AZ18)","v":{"$error":"#N/A"}},{"$f":"IF(OR(Main!BA18=\"\",Main!BA18=0),NA(),Main!BA18)","v":{"$error":"#N/A"}},{"$f":"IF(OR(Main!BB18=\"\",Main!BB18=0),NA(),Main!BB18)","v":{"$error":"#N/A"}},{"$f":"IF(OR(Main!BC18=\"\",Main!BC18=0),NA(),Main!BC18)","v":{"$error":"#N/A"}},{"$f":"IF(OR(Main!BD18=\"\",Main!BD18=0),NA(),Main!BD18)","v":{"$error":"#N/A"}},{"$f":"IF(OR(Main!BE18=\"\",Main!BE18=0),NA(),Main!BE18)","v":{"$error":"#N/A"}},{"$f":"IF(OR(Main!BF18=\"\",Main!BF18=0),NA(),Main!BF18)","v":{"$error":"#N/A"}},{"$f":"IF(OR(Main!BG18=\"\",Main!BG18=0),NA(),Main!BG18)","v":{"$error":"#N/A"}},{"$f":"IF(OR(Main!BH18=\"\",Main!BH18=0),NA(),Main!BH18)","v":{"$error":"#N/A"}},{"$f":"IF(OR(Main!BI18=\"\",Main!BI18=0),NA(),Main!BI18)","v":{"$error":"#N/A"}},{"$f":"IF(OR(Main!BJ18=\"\",Main!BJ18=0),NA(),Main!BJ18)","v":{"$error":"#N/A"}},{"$f":"IF(OR(Main!BK18=\"\",Main!BK18=0),NA(),Main!BK18)","v":{"$error":"#N/A"}},{"$f":"IF(OR(Main!BL18=\"\",Main!BL18=0),NA(),Main!BL18)","v":{"$error":"#N/A"}},{"$f":"IF(OR(Main!BM18=\"\",Main!BM18=0),NA(),Main!BM18)","v":{"$error":"#N/A"}},{"$f":"IF(OR(Main!BN18=\"\",Main!BN18=0),NA(),Main!BN18)","v":{"$error":"#N/A"}},{"$f":"IF(OR(Main!BO18=\"\",Main!BO18=0),NA(),Main!BO18)","v":{"$error":"#N/A"}},{"$f":"IF(OR(Main!BP18=\"\",Main!BP18=0),NA(),Main!BP18)","v":{"$error":"#N/A"}},{"$f":"IF(OR(Main!BQ18=\"\",Main!BQ18=0),NA(),Main!BQ18)","v":{"$error":"#N/A"}},{"$f":"IF(OR(Main!BR18=\"\",Main!BR18=0),NA(),Main!BR18)","v":{"$error":"#N/A"}},{"$f":"IF(OR(Main!BS18=\"\",Main!BS18=0),NA(),Main!BS18)","v":{"$error":"#N/A"}},{"$f":"IF(OR(Main!BT18=\"\",Main!BT18=0),NA(),Main!BT18)","v":{"$error":"#N/A"}},{"$f":"IF(OR(Main!BU18=\"\",Main!BU18=0),NA(),Main!BU18)","v":{"$error":"#N/A"}},{"$f":"IF(OR(Main!BV18=\"\",Main!BV18=0),NA(),Main!BV18)","v":{"$error":"#N/A"}},{"$f":"IF(OR(Main!BW18=\"\",Main!BW18=0),NA(),Main!BW18)","v":{"$error":"#N/A"}},{"$f":"IF(OR(Main!BX18=\"\",Main!BX18=0),NA(),Main!BX18)","v":{"$error":"#N/A"}},{"$f":"IF(OR(Main!BY18=\"\",Main!BY18=0),NA(),Main!BY18)","v":{"$error":"#N/A"}},{"$f":"IF(OR(Main!BZ18=\"\",Main!BZ18=0),NA(),Main!BZ18)","v":{"$error":"#N/A"}},{"$f":"IF(OR(Main!CA18=\"\",Main!CA18=0),NA(),Main!CA18)","v":{"$error":"#N/A"}},{"$f":"IF(OR(Main!CB18=\"\",Main!CB18=0),NA(),Main!CB18)","v":{"$error":"#N/A"}},{"$f":"IF(OR(Main!CC18=\"\",Main!CC18=0),NA(),Main!CC18)","v":{"$error":"#N/A"}},{"$f":"IF(OR(Main!CD18=\"\",Main!CD18=0),NA(),Main!CD18)","v":{"$error":"#N/A"}},{"$f":"IF(OR(Main!CE18=\"\",Main!CE18=0),NA(),Main!CE18)","v":{"$error":"#N/A"}},{"$f":"IF(OR(Main!CF18=\"\",Main!CF18=0),NA(),Main!CF18)","v":{"$error":"#N/A"}},{"$f":"IF(OR(Main!CG18=\"\",Main!CG18=0),NA(),Main!CG18)","v":{"$error":"#N/A"}},{"$f":"IF(OR(Main!CH18=\"\",Main!CH18=0),NA(),Main!CH18)","v":{"$error":"#N/A"}},{"$f":"IF(OR(Main!CI18=\"\",Main!CI18=0),NA(),Main!CI18)","v":{"$error":"#N/A"}},{"$f":"IF(OR(Main!CJ18=\"\",Main!CJ18=0),NA(),Main!CJ18)","v":{"$error":"#N/A"}},{"$f":"IF(OR(Main!CK18=\"\",Main!CK18=0),NA(),Main!CK18)","v":{"$error":"#N/A"}},{"$f":"IF(OR(Main!CL18=\"\",Main!CL18=0),NA(),Main!CL18)","v":{"$error":"#N/A"}},{"$f":"IF(OR(Main!CM18=\"\",Main!CM18=0),NA(),Main!CM18)","v":{"$error":"#N/A"}},{"$f":"IF(OR(Main!CN18=\"\",Main!CN18=0),NA(),Main!CN18)","v":{"$error":"#N/A"}},{"$f":"IF(OR(Main!CO18=\"\",Main!CO18=0),NA(),Main!CO18)","v":{"$error":"#N/A"}},{"$f":"IF(OR(Main!CP18=\"\",Main!CP18=0),NA(),Main!CP18)","v":{"$error":"#N/A"}},{"$f":"IF(OR(Main!CQ18=\"\",Main!CQ18=0),NA(),Main!CQ18)","v":{"$error":"#N/A"}},{"$f":"IF(OR(Main!CR18=\"\",Main!CR18=0),NA(),Main!CR18)","v":{"$error":"#N/A"}},{"$f":"IF(OR(Main!CS18=\"\",Main!CS18=0),NA(),Main!CS18)","v":{"$error":"#N/A"}},{"$f":"IF(OR(Main!CT18=\"\",Main!CT18=0),NA(),Main!CT18)","v":{"$error":"#N/A"}},{"$f":"IF(OR(Main!CU18=\"\",Main!CU18=0),NA(),Main!CU18)","v":{"$error":"#N/A"}},{"$f":"IF(OR(Main!CV18=\"\",Main!CV18=0),NA(),Main!CV18)","v":{"$error":"#N/A"}},{"$f":"IF(OR(Main!CW18=\"\",Main!CW18=0),NA(),Main!CW18)","v":{"$error":"#N/A"}},{"$f":"IF(OR(Main!CX18=\"\",Main!CX18=0),NA(),Main!CX18)","v":{"$error":"#N/A"}},{"$f":"IF(OR(Main!CY18=\"\",Main!CY18=0),NA(),Main!CY18)","v":{"$error":"#N/A"}}]
[]
[null,null,"Pba",{"$f":"IF(OR(Main!D19=\"\",Main!D19=0),NA(),Main!D19)","v":{"$error":"#N/A"}},{"$f":"IF(OR(Main!E19=\"\",Main!E19=0),NA(),Main!E19)","v":{"$error":"#N/A"}},{"$f":"IF(OR(Main!F19=\"\",Main!F19=0),NA(),Main!F19)","v":{"$error":"#N/A"}},{"$f":"IF(OR(Main!G19=\"\",Main!G19=0),NA(),Main!G19)","v":{"$error":"#N/A"}},{"$f":"IF(OR(Main!H19=\"\",Main!H19=0),NA(),Main!H19)","v":{"$error":"#N/A"}},{"$f":"IF(OR(Main!I19=\"\",Main!I19=0),NA(),Main!I19)","v":{"$error":"#N/A"}},{"$f":"IF(OR(Main!J19=\"\",Main!J19=0),NA(),Main!J19)","v":{"$error":"#N/A"}},{"$f":"IF(OR(Main!K19=\"\",Main!K19=0),NA(),Main!K19)","v":{"$error":"#N/A"}},{"$f":"IF(OR(Main!L19=\"\",Main!L19=0),NA(),Main!L19)","v":{"$error":"#N/A"}},{"$f":"IF(OR(Main!M19=\"\",Main!M19=0),NA(),Main!M19)","v":{"$error":"#N/A"}},{"$f":"IF(OR(Main!N19=\"\",Main!N19=0),NA(),Main!N19)","v":{"$error":"#N/A"}},{"$f":"IF(OR(Main!O19=\"\",Main!O19=0),NA(),Main!O19)","v":{"$error":"#N/A"}},{"$f":"IF(OR(Main!P19=\"\",Main!P19=0),NA(),Main!P19)","v":{"$error":"#N/A"}},{"$f":"IF(OR(Main!Q19=\"\",Main!Q19=0),NA(),Main!Q19)","v":{"$error":"#N/A"}},{"$f":"IF(OR(Main!R19=\"\",Main!R19=0),NA(),Main!R19)","v":{"$error":"#N/A"}},{"$f":"IF(OR(Main!S19=\"\",Main!S19=0),NA(),Main!S19)","v":{"$error":"#N/A"}},{"$f":"IF(OR(Main!T19=\"\",Main!T19=0),NA(),Main!T19)","v":{"$error":"#N/A"}},{"$f":"IF(OR(Main!U19=\"\",Main!U19=0),NA(),Main!U19)","v":{"$error":"#N/A"}},{"$f":"IF(OR(Main!V19=\"\",Main!V19=0),NA(),Main!V19)","v":{"$error":"#N/A"}},{"$f":"IF(OR(Main!W19=\"\",Main!W19=0),NA(),Main!W19)","v":{"$error":"#N/A"}},{"$f":"IF(OR(Main!X19=\"\",Main!X19=0),NA(),Main!X19)","v":{"$error":"#N/A"}},{"$f":"IF(OR(Main!Y19=\"\",Main!Y19=0),NA(),Main!Y19)","v":{"$error":"#N/A"}},{"$f":"IF(OR(Main!Z19=\"\",Main!Z19=0),NA(),Main!Z19)","v":{"$error":"#N/A"}},{"$f":"IF(OR(Main!AA19=\"\",Main!AA19=0),NA(),Main!AA19)","v":{"$error":"#N/A"}},{"$f":"IF(OR(Main!AB19=\"\",Main!AB19=0),NA(),Main!AB19)","v":{"$error":"#N/A"}},{"$f":"IF(OR(Main!AC19=\"\",Main!AC19=0),NA(),Main!AC19)","v":{"$error":"#N/A"}},{"$f":"IF(OR(Main!AD19=\"\",Main!AD19=0),NA(),Main!AD19)","v":{"$error":"#N/A"}},{"$f":"IF(OR(Main!AE19=\"\",Main!AE19=0),NA(),Main!AE19)","v":{"$error":"#N/A"}},{"$f":"IF(OR(Main!AF19=\"\",Main!AF19=0),NA(),Main!AF19)","v":{"$error":"#N/A"}},{"$f":"IF(OR(Main!AG19=\"\",Main!AG19=0),NA(),Main!AG19)","v":{"$error":"#N/A"}},{"$f":"IF(OR(Main!AH19=\"\",Main!AH19=0),NA(),Main!AH19)","v":{"$error":"#N/A"}},{"$f":"IF(OR(Main!AI19=\"\",Main!AI19=0),NA(),Main!AI19)","v":{"$error":"#N/A"}},{"$f":"IF(OR(Main!AJ19=\"\",Main!AJ19=0),NA(),Main!AJ19)","v":{"$error":"#N/A"}},{"$f":"IF(OR(Main!AK19=\"\",Main!AK19=0),NA(),Main!AK19)","v":{"$error":"#N/A"}},{"$f":"IF(OR(Main!AL19=\"\",Main!AL19=0),NA(),Main!AL19)","v":{"$error":"#N/A"}},{"$f":"IF(OR(Main!AM19=\"\",Main!AM19=0),NA(),Main!AM19)","v":{"$error":"#N/A"}},{"$f":"IF(OR(Main!AN19=\"\",Main!AN19=0),NA(),Main!AN19)","v":{"$error":"#N/A"}},{"$f":"IF(OR(Main!AO19=\"\",Main!AO19=0),NA(),Main!AO19)","v":{"$error":"#N/A"}},{"$f":"IF(OR(Main!AP19=\"\",Main!AP19=0),NA(),Main!AP19)","v":{"$error":"#N/A"}},{"$f":"IF(OR(Main!AQ19=\"\",Main!AQ19=0),NA(),Main!AQ19)","v":{"$error":"#N/A"}},{"$f":"IF(OR(Main!AR19=\"\",Main!AR19=0),NA(),Main!AR19)","v":{"$error":"#N/A"}},{"$f":"IF(OR(Main!AS19=\"\",Main!AS19=0),NA(),Main!AS19)","v":{"$error":"#N/A"}},{"$f":"IF(OR(Main!AT19=\"\",Main!AT19=0),NA(),Main!AT19)","v":{"$error":"#N/A"}},{"$f":"IF(OR(Main!AU19=\"\",Main!AU19=0),NA(),Main!AU19)","v":{"$error":"#N/A"}},{"$f":"IF(OR(Main!AV19=\"\",Main!AV19=0),NA(),Main!AV19)","v":{"$error":"#N/A"}},{"$f":"IF(OR(Main!AW19=\"\",Main!AW19=0),NA(),Main!AW19)","v":{"$error":"#N/A"}},{"$f":"IF(OR(Main!AX19=\"\",Main!AX19=0),NA(),Main!AX19)","v":{"$error":"#N/A"}},{"$f":"IF(OR(Main!AY19=\"\",Main!AY19=0),NA(),Main!AY19)","v":{"$error":"#N/A"}},{"$f":"IF(OR(Main!AZ19=\"\",Main!AZ19=0),NA(),Main!AZ19)","v":{"$error":"#N/A"}},{"$f":"IF(OR(Main!BA19=\"\",Main!BA19=0),NA(),Main!BA19)","v":{"$error":"#N/A"}},{"$f":"IF(OR(Main!BB19=\"\",Main!BB19=0),NA(),Main!BB19)","v":{"$error":"#N/A"}},{"$f":"IF(OR(Main!BC19=\"\",Main!BC19=0),NA(),Main!BC19)","v":{"$error":"#N/A"}},{"$f":"IF(OR(Main!BD19=\"\",Main!BD19=0),NA(),Main!BD19)","v":{"$error":"#N/A"}},{"$f":"IF(OR(Main!BE19=\"\",Main!BE19=0),NA(),Main!BE19)","v":{"$error":"#N/A"}},{"$f":"IF(OR(Main!BF19=\"\",Main!BF19=0),NA(),Main!BF19)","v":{"$error":"#N/A"}},{"$f":"IF(OR(Main!BG19=\"\",Main!BG19=0),NA(),Main!BG19)","v":{"$error":"#N/A"}},{"$f":"IF(OR(Main!BH19=\"\",Main!BH19=0),NA(),Main!BH19)","v":{"$error":"#N/A"}},{"$f":"IF(OR(Main!BI19=\"\",Main!BI19=0),NA(),Main!BI19)","v":{"$error":"#N/A"}},{"$f":"IF(OR(Main!BJ19=\"\",Main!BJ19=0),NA(),Main!BJ19)","v":{"$error":"#N/A"}},{"$f":"IF(OR(Main!BK19=\"\",Main!BK19=0),NA(),Main!BK19)","v":{"$error":"#N/A"}},{"$f":"IF(OR(Main!BL19=\"\",Main!BL19=0),NA(),Main!BL19)","v":{"$error":"#N/A"}},{"$f":"IF(OR(Main!BM19=\"\",Main!BM19=0),NA(),Main!BM19)","v":{"$error":"#N/A"}},{"$f":"IF(OR(Main!BN19=\"\",Main!BN19=0),NA(),Main!BN19)","v":{"$error":"#N/A"}},{"$f":"IF(OR(Main!BO19=\"\",Main!BO19=0),NA(),Main!BO19)","v":{"$error":"#N/A"}},{"$f":"IF(OR(Main!BP19=\"\",Main!BP19=0),NA(),Main!BP19)","v":{"$error":"#N/A"}},{"$f":"IF(OR(Main!BQ19=\"\",Main!BQ19=0),NA(),Main!BQ19)","v":{"$error":"#N/A"}},{"$f":"IF(OR(Main!BR19=\"\",Main!BR19=0),NA(),Main!BR19)","v":{"$error":"#N/A"}},{"$f":"IF(OR(Main!BS19=\"\",Main!BS19=0),NA(),Main!BS19)","v":{"$error":"#N/A"}},{"$f":"IF(OR(Main!BT19=\"\",Main!BT19=0),NA(),Main!BT19)","v":{"$error":"#N/A"}},{"$f":"IF(OR(Main!BU19=\"\",Main!BU19=0),NA(),Main!BU19)","v":{"$error":"#N/A"}},{"$f":"IF(OR(Main!BV19=\"\",Main!BV19=0),NA(),Main!BV19)","v":{"$error":"#N/A"}},{"$f":"IF(OR(Main!BW19=\"\",Main!BW19=0),NA(),Main!BW19)","v":{"$error":"#N/A"}},{"$f":"IF(OR(Main!BX19=\"\",Main!BX19=0),NA(),Main!BX19)","v":{"$error":"#N/A"}},{"$f":"IF(OR(Main!BY19=\"\",Main!BY19=0),NA(),Main!BY19)","v":{"$error":"#N/A"}},{"$f":"IF(OR(Main!BZ19=\"\",Main!BZ19=0),NA(),Main!BZ19)","v":{"$error":"#N/A"}},{"$f":"IF(OR(Main!CA19=\"\",Main!CA19=0),NA(),Main!CA19)","v":{"$error":"#N/A"}},{"$f":"IF(OR(Main!CB19=\"\",Main!CB19=0),NA(),Main!CB19)","v":{"$error":"#N/A"}},{"$f":"IF(OR(Main!CC19=\"\",Main!CC19=0),NA(),Main!CC19)","v":{"$error":"#N/A"}},{"$f":"IF(OR(Main!CD19=\"\",Main!CD19=0),NA(),Main!CD19)","v":{"$error":"#N/A"}},{"$f":"IF(OR(Main!CE19=\"\",Main!CE19=0),NA(),Main!CE19)","v":{"$error":"#N/A"}},{"$f":"IF(OR(Main!CF19=\"\",Main!CF19=0),NA(),Main!CF19)","v":{"$error":"#N/A"}},{"$f":"IF(OR(Main!CG19=\"\",Main!CG19=0),NA(),Main!CG19)","v":{"$error":"#N/A"}},{"$f":"IF(OR(Main!CH19=\"\",Main!CH19=0),NA(),Main!CH19)","v":{"$error":"#N/A"}},{"$f":"IF(OR(Main!CI19=\"\",Main!CI19=0),NA(),Main!CI19)","v":{"$error":"#N/A"}},{"$f":"IF(OR(Main!CJ19=\"\",Main!CJ19=0),NA(),Main!CJ19)","v":{"$error":"#N/A"}},{"$f":"IF(OR(Main!CK19=\"\",Main!CK19=0),NA(),Main!CK19)","v":{"$error":"#N/A"}},{"$f":"IF(OR(Main!CL19=\"\",Main!CL19=0),NA(),Main!CL19)","v":{"$error":"#N/A"}},{"$f":"IF(OR(Main!CM19=\"\",Main!CM19=0),NA(),Main!CM19)","v":{"$error":"#N/A"}},{"$f":"IF(OR(Main!CN19=\"\",Main!CN19=0),NA(),Main!CN19)","v":{"$error":"#N/A"}},{"$f":"IF(OR(Main!CO19=\"\",Main!CO19=0),NA(),Main!CO19)","v":{"$error":"#N/A"}},{"$f":"IF(OR(Main!CP19=\"\",Main!CP19=0),NA(),Main!CP19)","v":{"$error":"#N/A"}},{"$f":"IF(OR(Main!CQ19=\"\",Main!CQ19=0),NA(),Main!CQ19)","v":{"$error":"#N/A"}},{"$f":"IF(OR(Main!CR19=\"\",Main!CR19=0),NA(),Main!CR19)","v":{"$error":"#N/A"}},{"$f":"IF(OR(Main!CS19=\"\",Main!CS19=0),NA(),Main!CS19)","v":{"$error":"#N/A"}},{"$f":"IF(OR(Main!CT19=\"\",Main!CT19=0),NA(),Main!CT19)","v":{"$error":"#N/A"}},{"$f":"IF(OR(Main!CU19=\"\",Main!CU19=0),NA(),Main!CU19)","v":{"$error":"#N/A"}},{"$f":"IF(OR(Main!CV19=\"\",Main!CV19=0),NA(),Main!CV19)","v":{"$error":"#N/A"}},{"$f":"IF(OR(Main!CW19=\"\",Main!CW19=0),NA(),Main!CW19)","v":{"$error":"#N/A"}},{"$f":"IF(OR(Main!CX19=\"\",Main!CX19=0),NA(),Main!CX19)","v":{"$error":"#N/A"}},{"$f":"IF(OR(Main!CY19=\"\",Main!CY19=0),NA(),Main!CY19)","v":{"$error":"#N/A"}}]
[]
[null,null,"VMA",{"$f":"IF(OR(Main!D20=\"\",Main!D20=0),NA(),Main!D20)","v":{"$error":"#N/A"}},{"$f":"IF(OR(Main!E20=\"\",Main!E20=0),NA(),Main!E20)","v":{"$error":"#N/A"}},{"$f":"IF(OR(Main!F20=\"\",Main!F20=0),NA(),Main!F20)","v":{"$error":"#N/A"}},{"$f":"IF(OR(Main!G20=\"\",Main!G20=0),NA(),Main!G20)","v":{"$error":"#N/A"}},{"$f":"IF(OR(Main!H20=\"\",Main!H20=0),NA(),Main!H20)","v":{"$error":"#N/A"}},{"$f":"IF(OR(Main!I20=\"\",Main!I20=0),NA(),Main!I20)","v":{"$error":"#N/A"}},{"$f":"IF(OR(Main!J20=\"\",Main!J20=0),NA(),Main!J20)","v":{"$error":"#N/A"}},{"$f":"IF(OR(Main!K20=\"\",Main!K20=0),NA(),Main!K20)","v":{"$error":"#N/A"}},{"$f":"IF(OR(Main!L20=\"\",Main!L20=0),NA(),Main!L20)","v":{"$error":"#N/A"}},{"$f":"IF(OR(Main!M20=\"\",Main!M20=0),NA(),Main!M20)","v":{"$error":"#N/A"}},{"$f":"IF(OR(Main!N20=\"\",Main!N20=0),NA(),Main!N20)","v":{"$error":"#N/A"}},{"$f":"IF(OR(Main!O20=\"\",Main!O20=0),NA(),Main!O20)","v":{"$error":"#N/A"}},{"$f":"IF(OR(Main!P20=\"\",Main!P20=0),NA(),Main!P20)","v":{"$error":"#N/A"}},{"$f":"IF(OR(Main!Q20=\"\",Main!Q20=0),NA(),Main!Q20)","v":{"$error":"#N/A"}},{"$f":"IF(OR(Main!R20=\"\",Main!R20=0),NA(),Main!R20)","v":{"$error":"#N/A"}},{"$f":"IF(OR(Main!S20=\"\",Main!S20=0),NA(),Main!S20)","v":{"$error":"#N/A"}},{"$f":"IF(OR(Main!T20=\"\",Main!T20=0),NA(),Main!T20)","v":{"$error":"#N/A"}},{"$f":"IF(OR(Main!U20=\"\",Main!U20=0),NA(),Main!U20)","v":{"$error":"#N/A"}},{"$f":"IF(OR(Main!V20=\"\",Main!V20=0),NA(),Main!V20)","v":{"$error":"#N/A"}},{"$f":"IF(OR(Main!W20=\"\",Main!W20=0),NA(),Main!W20)","v":{"$error":"#N/A"}},{"$f":"IF(OR(Main!X20=\"\",Main!X20=0),NA(),Main!X20)","v":{"$error":"#N/A"}},{"$f":"IF(OR(Main!Y20=\"\",Main!Y20=0),NA(),Main!Y20)","v":{"$error":"#N/A"}},{"$f":"IF(OR(Main!Z20=\"\",Main!Z20=0),NA(),Main!Z20)","v":{"$error":"#N/A"}},{"$f":"IF(OR(Main!AA20=\"\",Main!AA20=0),NA(),Main!AA20)","v":{"$error":"#N/A"}},{"$f":"IF(OR(Main!AB20=\"\",Main!AB20=0),NA(),Main!AB20)","v":{"$error":"#N/A"}},{"$f":"IF(OR(Main!AC20=\"\",Main!AC20=0),NA(),Main!AC20)","v":{"$error":"#N/A"}},{"$f":"IF(OR(Main!AD20=\"\",Main!AD20=0),NA(),Main!AD20)","v":{"$error":"#N/A"}},{"$f":"IF(OR(Main!AE20=\"\",Main!AE20=0),NA(),Main!AE20)","v":{"$error":"#N/A"}},{"$f":"IF(OR(Main!AF20=\"\",Main!AF20=0),NA(),Main!AF20)","v":{"$error":"#N/A"}},{"$f":"IF(OR(Main!AG20=\"\",Main!AG20=0),NA(),Main!AG20)","v":{"$error":"#N/A"}},{"$f":"IF(OR(Main!AH20=\"\",Main!AH20=0),NA(),Main!AH20)","v":{"$error":"#N/A"}},{"$f":"IF(OR(Main!AI20=\"\",Main!AI20=0),NA(),Main!AI20)","v":{"$error":"#N/A"}},{"$f":"IF(OR(Main!AJ20=\"\",Main!AJ20=0),NA(),Main!AJ20)","v":{"$error":"#N/A"}},{"$f":"IF(OR(Main!AK20=\"\",Main!AK20=0),NA(),Main!AK20)","v":{"$error":"#N/A"}},{"$f":"IF(OR(Main!AL20=\"\",Main!AL20=0),NA(),Main!AL20)","v":{"$error":"#N/A"}},{"$f":"IF(OR(Main!AM20=\"\",Main!AM20=0),NA(),Main!AM20)","v":{"$error":"#N/A"}},{"$f":"IF(OR(Main!AN20=\"\",Main!AN20=0),NA(),Main!AN20)","v":{"$error":"#N/A"}},{"$f":"IF(OR(Main!AO20=\"\",Main!AO20=0),NA(),Main!AO20)","v":{"$error":"#N/A"}},{"$f":"IF(OR(Main!AP20=\"\",Main!AP20=0),NA(),Main!AP20)","v":{"$error":"#N/A"}},{"$f":"IF(OR(Main!AQ20=\"\",Main!AQ20=0),NA(),Main!AQ20)","v":{"$error":"#N/A"}},{"$f":"IF(OR(Main!AR20=\"\",Main!AR20=0),NA(),Main!AR20)","v":{"$error":"#N/A"}},{"$f":"IF(OR(Main!AS20=\"\",Main!AS20=0),NA(),Main!AS20)","v":{"$error":"#N/A"}},{"$f":"IF(OR(Main!AT20=\"\",Main!AT20=0),NA(),Main!AT20)","v":{"$error":"#N/A"}},{"$f":"IF(OR(Main!AU20=\"\",Main!AU20=0),NA(),Main!AU20)","v":{"$error":"#N/A"}},{"$f":"IF(OR(Main!AV20=\"\",Main!AV20=0),NA(),Main!AV20)","v":{"$error":"#N/A"}},{"$f":"IF(OR(Main!AW20=\"\",Main!AW20=0),NA(),Main!AW20)","v":{"$error":"#N/A"}},{"$f":"IF(OR(Main!AX20=\"\",Main!AX20=0),NA(),Main!AX20)","v":{"$error":"#N/A"}},{"$f":"IF(OR(Main!AY20=\"\",Main!AY20=0),NA(),Main!AY20)","v":{"$error":"#N/A"}},{"$f":"IF(OR(Main!AZ20=\"\",Main!AZ20=0),NA(),Main!AZ20)","v":{"$error":"#N/A"}},{"$f":"IF(OR(Main!BA20=\"\",Main!BA20=0),NA(),Main!BA20)","v":{"$error":"#N/A"}},{"$f":"IF(OR(Main!BB20=\"\",Main!BB20=0),NA(),Main!BB20)","v":{"$error":"#N/A"}},{"$f":"IF(OR(Main!BC20=\"\",Main!BC20=0),NA(),Main!BC20)","v":{"$error":"#N/A"}},{"$f":"IF(OR(Main!BD20=\"\",Main!BD20=0),NA(),Main!BD20)","v":{"$error":"#N/A"}},{"$f":"IF(OR(Main!BE20=\"\",Main!BE20=0),NA(),Main!BE20)","v":{"$error":"#N/A"}},{"$f":"IF(OR(Main!BF20=\"\",Main!BF20=0),NA(),Main!BF20)","v":{"$error":"#N/A"}},{"$f":"IF(OR(Main!BG20=\"\",Main!BG20=0),NA(),Main!BG20)","v":{"$error":"#N/A"}},{"$f":"IF(OR(Main!BH20=\"\",Main!BH20=0),NA(),Main!BH20)","v":{"$error":"#N/A"}},{"$f":"IF(OR(Main!BI20=\"\",Main!BI20=0),NA(),Main!BI20)","v":{"$error":"#N/A"}},{"$f":"IF(OR(Main!BJ20=\"\",Main!BJ20=0),NA(),Main!BJ20)","v":{"$error":"#N/A"}},{"$f":"IF(OR(Main!BK20=\"\",Main!BK20=0),NA(),Main!BK20)","v":{"$error":"#N/A"}},{"$f":"IF(OR(Main!BL20=\"\",Main!BL20=0),NA(),Main!BL20)","v":{"$error":"#N/A"}},{"$f":"IF(OR(Main!BM20=\"\",Main!BM20=0),NA(),Main!BM20)","v":{"$error":"#N/A"}},{"$f":"IF(OR(Main!BN20=\"\",Main!BN20=0),NA(),Main!BN20)","v":{"$error":"#N/A"}},{"$f":"IF(OR(Main!BO20=\"\",Main!BO20=0),NA(),Main!BO20)","v":{"$error":"#N/A"}},{"$f":"IF(OR(Main!BP20=\"\",Main!BP20=0),NA(),Main!BP20)","v":{"$error":"#N/A"}},{"$f":"IF(OR(Main!BQ20=\"\",Main!BQ20=0),NA(),Main!BQ20)","v":{"$error":"#N/A"}},{"$f":"IF(OR(Main!BR20=\"\",Main!BR20=0),NA(),Main!BR20)","v":{"$error":"#N/A"}},{"$f":"IF(OR(Main!BS20=\"\",Main!BS20=0),NA(),Main!BS20)","v":{"$error":"#N/A"}},{"$f":"IF(OR(Main!BT20=\"\",Main!BT20=0),NA(),Main!BT20)","v":{"$error":"#N/A"}},{"$f":"IF(OR(Main!BU20=\"\",Main!BU20=0),NA(),Main!BU20)","v":{"$error":"#N/A"}},{"$f":"IF(OR(Main!BV20=\"\",Main!BV20=0),NA(),Main!BV20)","v":{"$error":"#N/A"}},{"$f":"IF(OR(Main!BW20=\"\",Main!BW20=0),NA(),Main!BW20)","v":{"$error":"#N/A"}},{"$f":"IF(OR(Main!BX20=\"\",Main!BX20=0),NA(),Main!BX20)","v":{"$error":"#N/A"}},{"$f":"IF(OR(Main!BY20=\"\",Main!BY20=0),NA(),Main!BY20)","v":{"$error":"#N/A"}},{"$f":"IF(OR(Main!BZ20=\"\",Main!BZ20=0),NA(),Main!BZ20)","v":{"$error":"#N/A"}},{"$f":"IF(OR(Main!CA20=\"\",Main!CA20=0),NA(),Main!CA20)","v":{"$error":"#N/A"}},{"$f":"IF(OR(Main!CB20=\"\",Main!CB20=0),NA(),Main!CB20)","v":{"$error":"#N/A"}},{"$f":"IF(OR(Main!CC20=\"\",Main!CC20=0),NA(),Main!CC20)","v":{"$error":"#N/A"}},{"$f":"IF(OR(Main!CD20=\"\",Main!CD20=0),NA(),Main!CD20)","v":{"$error":"#N/A"}},{"$f":"IF(OR(Main!CE20=\"\",Main!CE20=0),NA(),Main!CE20)","v":{"$error":"#N/A"}},{"$f":"IF(OR(Main!CF20=\"\",Main!CF20=0),NA(),Main!CF20)","v":{"$error":"#N/A"}},{"$f":"IF(OR(Main!CG20=\"\",Main!CG20=0),NA(),Main!CG20)","v":{"$error":"#N/A"}},{"$f":"IF(OR(Main!CH20=\"\",Main!CH20=0),NA(),Main!CH20)","v":{"$error":"#N/A"}},{"$f":"IF(OR(Main!CI20=\"\",Main!CI20=0),NA(),Main!CI20)","v":{"$error":"#N/A"}},{"$f":"IF(OR(Main!CJ20=\"\",Main!CJ20=0),NA(),Main!CJ20)","v":{"$error":"#N/A"}},{"$f":"IF(OR(Main!CK20=\"\",Main!CK20=0),NA(),Main!CK20)","v":{"$error":"#N/A"}},{"$f":"IF(OR(Main!CL20=\"\",Main!CL20=0),NA(),Main!CL20)","v":{"$error":"#N/A"}},{"$f":"IF(OR(Main!CM20=\"\",Main!CM20=0),NA(),Main!CM20)","v":{"$error":"#N/A"}},{"$f":"IF(OR(Main!CN20=\"\",Main!CN20=0),NA(),Main!CN20)","v":{"$error":"#N/A"}},{"$f":"IF(OR(Main!CO20=\"\",Main!CO20=0),NA(),Main!CO20)","v":{"$error":"#N/A"}},{"$f":"IF(OR(Main!CP20=\"\",Main!CP20=0),NA(),Main!CP20)","v":{"$error":"#N/A"}},{"$f":"IF(OR(Main!CQ20=\"\",Main!CQ20=0),NA(),Main!CQ20)","v":{"$error":"#N/A"}},{"$f":"IF(OR(Main!CR20=\"\",Main!CR20=0),NA(),Main!CR20)","v":{"$error":"#N/A"}},{"$f":"IF(OR(Main!CS20=\"\",Main!CS20=0),NA(),Main!CS20)","v":{"$error":"#N/A"}},{"$f":"IF(OR(Main!CT20=\"\",Main!CT20=0),NA(),Main!CT20)","v":{"$error":"#N/A"}},{"$f":"IF(OR(Main!CU20=\"\",Main!CU20=0),NA(),Main!CU20)","v":{"$error":"#N/A"}},{"$f":"IF(OR(Main!CV20=\"\",Main!CV20=0),NA(),Main!CV20)","v":{"$error":"#N/A"}},{"$f":"IF(OR(Main!CW20=\"\",Main!CW20=0),NA(),Main!CW20)","v":{"$error":"#N/A"}},{"$f":"IF(OR(Main!CX20=\"\",Main!CX20=0),NA(),Main!CX20)","v":{"$error":"#N/A"}},{"$f":"IF(OR(Main!CY20=\"\",Main!CY20=0),NA(),Main!CY20)","v":{"$error":"#N/A"}}]
[]
[null,null,"Voids",{"$f":"IF(OR(Main!D21=\"\",Main!D21=0),NA(),Main!D21)","v":{"$error":"#N/A"}},{"$f":"IF(OR(Main!E21=\"\",Main!E21=0),NA(),Main!E21)","v":{"$error":"#N/A"}},{"$f":"IF(OR(Main!F21=\"\",Main!F21=0),NA(),Main!F21)","v":{"$error":"#N/A"}},{"$f":"IF(OR(Main!G21=\"\",Main!G21=0),NA(),Main!G21)","v":{"$error":"#N/A"}},{"$f":"IF(OR(Main!H21=\"\",Main!H21=0),NA(),Main!H21)","v":{"$error":"#N/A"}},{"$f":"IF(OR(Main!I21=\"\",Main!I21=0),NA(),Main!I21)","v":{"$error":"#N/A"}},{"$f":"IF(OR(Main!J21=\"\",Main!J21=0),NA(),Main!J21)","v":{"$error":"#N/A"}},{"$f":"IF(OR(Main!K21=\"\",Main!K21=0),NA(),Main!K21)","v":{"$error":"#N/A"}},{"$f":"IF(OR(Main!L21=\"\",Main!L21=0),NA(),Main!L21)","v":{"$error":"#N/A"}},{"$f":"IF(OR(Main!M21=\"\",Main!M21=0),NA(),Main!M21)","v":{"$error":"#N/A"}},{"$f":"IF(OR(Main!N21=\"\",Main!N21=0),NA(),Main!N21)","v":{"$error":"#N/A"}},{"$f":"IF(OR(Main!O21=\"\",Main!O21=0),NA(),Main!O21)","v":{"$error":"#N/A"}},{"$f":"IF(OR(Main!P21=\"\",Main!P21=0),NA(),Main!P21)","v":{"$error":"#N/A"}},{"$f":"IF(OR(Main!Q21=\"\",Main!Q21=0),NA(),Main!Q21)","v":{"$error":"#N/A"}},{"$f":"IF(OR(Main!R21=\"\",Main!R21=0),NA(),Main!R21)","v":{"$error":"#N/A"}},{"$f":"IF(OR(Main!S21=\"\",Main!S21=0),NA(),Main!S21)","v":{"$error":"#N/A"}},{"$f":"IF(OR(Main!T21=\"\",Main!T21=0),NA(),Main!T21)","v":{"$error":"#N/A"}},{"$f":"IF(OR(Main!U21=\"\",Main!U21=0),NA(),Main!U21)","v":{"$error":"#N/A"}},{"$f":"IF(OR(Main!V21=\"\",Main!V21=0),NA(),Main!V21)","v":{"$error":"#N/A"}},{"$f":"IF(OR(Main!W21=\"\",Main!W21=0),NA(),Main!W21)","v":{"$error":"#N/A"}},{"$f":"IF(OR(Main!X21=\"\",Main!X21=0),NA(),Main!X21)","v":{"$error":"#N/A"}},{"$f":"IF(OR(Main!Y21=\"\",Main!Y21=0),NA(),Main!Y21)","v":{"$error":"#N/A"}},{"$f":"IF(OR(Main!Z21=\"\",Main!Z21=0),NA(),Main!Z21)","v":{"$error":"#N/A"}},{"$f":"IF(OR(Main!AA21=\"\",Main!AA21=0),NA(),Main!AA21)","v":{"$error":"#N/A"}},{"$f":"IF(OR(Main!AB21=\"\",Main!AB21=0),NA(),Main!AB21)","v":{"$error":"#N/A"}},{"$f":"IF(OR(Main!AC21=\"\",Main!AC21=0),NA(),Main!AC21)","v":{"$error":"#N/A"}},{"$f":"IF(OR(Main!AD21=\"\",Main!AD21=0),NA(),Main!AD21)","v":{"$error":"#N/A"}},{"$f":"IF(OR(Main!AE21=\"\",Main!AE21=0),NA(),Main!AE21)","v":{"$error":"#N/A"}},{"$f":"IF(OR(Main!AF21=\"\",Main!AF21=0),NA(),Main!AF21)","v":{"$error":"#N/A"}},{"$f":"IF(OR(Main!AG21=\"\",Main!AG21=0),NA(),Main!AG21)","v":{"$error":"#N/A"}},{"$f":"IF(OR(Main!AH21=\"\",Main!AH21=0),NA(),Main!AH21)","v":{"$error":"#N/A"}},{"$f":"IF(OR(Main!AI21=\"\",Main!AI21=0),NA(),Main!AI21)","v":{"$error":"#N/A"}},{"$f":"IF(OR(Main!AJ21=\"\",Main!AJ21=0),NA(),Main!AJ21)","v":{"$error":"#N/A"}},{"$f":"IF(OR(Main!AK21=\"\",Main!AK21=0),NA(),Main!AK21)","v":{"$error":"#N/A"}},{"$f":"IF(OR(Main!AL21=\"\",Main!AL21=0),NA(),Main!AL21)","v":{"$error":"#N/A"}},{"$f":"IF(OR(Main!AM21=\"\",Main!AM21=0),NA(),Main!AM21)","v":{"$error":"#N/A"}},{"$f":"IF(OR(Main!AN21=\"\",Main!AN21=0),NA(),Main!AN21)","v":{"$error":"#N/A"}},{"$f":"IF(OR(Main!AO21=\"\",Main!AO21=0),NA(),Main!AO21)","v":{"$error":"#N/A"}},{"$f":"IF(OR(Main!AP21=\"\",Main!AP21=0),NA(),Main!AP21)","v":{"$error":"#N/A"}},{"$f":"IF(OR(Main!AQ21=\"\",Main!AQ21=0),NA(),Main!AQ21)","v":{"$error":"#N/A"}},{"$f":"IF(OR(Main!AR21=\"\",Main!AR21=0),NA(),Main!AR21)","v":{"$error":"#N/A"}},{"$f":"IF(OR(Main!AS21=\"\",Main!AS21=0),NA(),Main!AS21)","v":{"$error":"#N/A"}},{"$f":"IF(OR(Main!AT21=\"\",Main!AT21=0),NA(),Main!AT21)","v":{"$error":"#N/A"}},{"$f":"IF(OR(Main!AU21=\"\",Main!AU21=0),NA(),Main!AU21)","v":{"$error":"#N/A"}},{"$f":"IF(OR(Main!AV21=\"\",Main!AV21=0),NA(),Main!AV21)","v":{"$error":"#N/A"}},{"$f":"IF(OR(Main!AW21=\"\",Main!AW21=0),NA(),Main!AW21)","v":{"$error":"#N/A"}},{"$f":"IF(OR(Main!AX21=\"\",Main!AX21=0),NA(),Main!AX21)","v":{"$error":"#N/A"}},{"$f":"IF(OR(Main!AY21=\"\",Main!AY21=0),NA(),Main!AY21)","v":{"$error":"#N/A"}},{"$f":"IF(OR(Main!AZ21=\"\",Main!AZ21=0),NA(),Main!AZ21)","v":{"$error":"#N/A"}},{"$f":"IF(OR(Main!BA21=\"\",Main!BA21=0),NA(),Main!BA21)","v":{"$error":"#N/A"}},{"$f":"IF(OR(Main!BB21=\"\",Main!BB21=0),NA(),Main!BB21)","v":{"$error":"#N/A"}},{"$f":"IF(OR(Main!BC21=\"\",Main!BC21=0),NA(),Main!BC21)","v":{"$error":"#N/A"}},{"$f":"IF(OR(Main!BD21=\"\",Main!BD21=0),NA(),Main!BD21)","v":{"$error":"#N/A"}},{"$f":"IF(OR(Main!BE21=\"\",Main!BE21=0),NA(),Main!BE21)","v":{"$error":"#N/A"}},{"$f":"IF(OR(Main!BF21=\"\",Main!BF21=0),NA(),Main!BF21)","v":{"$error":"#N/A"}},{"$f":"IF(OR(Main!BG21=\"\",Main!BG21=0),NA(),Main!BG21)","v":{"$error":"#N/A"}},{"$f":"IF(OR(Main!BH21=\"\",Main!BH21=0),NA(),Main!BH21)","v":{"$error":"#N/A"}},{"$f":"IF(OR(Main!BI21=\"\",Main!BI21=0),NA(),Main!BI21)","v":{"$error":"#N/A"}},{"$f":"IF(OR(Main!BJ21=\"\",Main!BJ21=0),NA(),Main!BJ21)","v":{"$error":"#N/A"}},{"$f":"IF(OR(Main!BK21=\"\",Main!BK21=0),NA(),Main!BK21)","v":{"$error":"#N/A"}},{"$f":"IF(OR(Main!BL21=\"\",Main!BL21=0),NA(),Main!BL21)","v":{"$error":"#N/A"}},{"$f":"IF(OR(Main!BM21=\"\",Main!BM21=0),NA(),Main!BM21)","v":{"$error":"#N/A"}},{"$f":"IF(OR(Main!BN21=\"\",Main!BN21=0),NA(),Main!BN21)","v":{"$error":"#N/A"}},{"$f":"IF(OR(Main!BO21=\"\",Main!BO21=0),NA(),Main!BO21)","v":{"$error":"#N/A"}},{"$f":"IF(OR(Main!BP21=\"\",Main!BP21=0),NA(),Main!BP21)","v":{"$error":"#N/A"}},{"$f":"IF(OR(Main!BQ21=\"\",Main!BQ21=0),NA(),Main!BQ21)","v":{"$error":"#N/A"}},{"$f":"IF(OR(Main!BR21=\"\",Main!BR21=0),NA(),Main!BR21)","v":{"$error":"#N/A"}},{"$f":"IF(OR(Main!BS21=\"\",Main!BS21=0),NA(),Main!BS21)","v":{"$error":"#N/A"}},{"$f":"IF(OR(Main!BT21=\"\",Main!BT21=0),NA(),Main!BT21)","v":{"$error":"#N/A"}},{"$f":"IF(OR(Main!BU21=\"\",Main!BU21=0),NA(),Main!BU21)","v":{"$error":"#N/A"}},{"$f":"IF(OR(Main!BV21=\"\",Main!BV21=0),NA(),Main!BV21)","v":{"$error":"#N/A"}},{"$f":"IF(OR(Main!BW21=\"\",Main!BW21=0),NA(),Main!BW21)","v":{"$error":"#N/A"}},{"$f":"IF(OR(Main!BX21=\"\",Main!BX21=0),NA(),Main!BX21)","v":{"$error":"#N/A"}},{"$f":"IF(OR(Main!BY21=\"\",Main!BY21=0),NA(),Main!BY21)","v":{"$error":"#N/A"}},{"$f":"IF(OR(Main!BZ21=\"\",Main!BZ21=0),NA(),Main!BZ21)","v":{"$error":"#N/A"}},{"$f":"IF(OR(Main!CA21=\"\",Main!CA21=0),NA(),Main!CA21)","v":{"$error":"#N/A"}},{"$f":"IF(OR(Main!CB21=\"\",Main!CB21=0),NA(),Main!CB21)","v":{"$error":"#N/A"}},{"$f":"IF(OR(Main!CC21=\"\",Main!CC21=0),NA(),Main!CC21)","v":{"$error":"#N/A"}},{"$f":"IF(OR(Main!CD21=\"\",Main!CD21=0),NA(),Main!CD21)","v":{"$error":"#N/A"}},{"$f":"IF(OR(Main!CE21=\"\",Main!CE21=0),NA(),Main!CE21)","v":{"$error":"#N/A"}},{"$f":"IF(OR(Main!CF21=\"\",Main!CF21=0),NA(),Main!CF21)","v":{"$error":"#N/A"}},{"$f":"IF(OR(Main!CG21=\"\",Main!CG21=0),NA(),Main!CG21)","v":{"$error":"#N/A"}},{"$f":"IF(OR(Main!CH21=\"\",Main!CH21=0),NA(),Main!CH21)","v":{"$error":"#N/A"}},{"$f":"IF(OR(Main!CI21=\"\",Main!CI21=0),NA(),Main!CI21)","v":{"$error":"#N/A"}},{"$f":"IF(OR(Main!CJ21=\"\",Main!CJ21=0),NA(),Main!CJ21)","v":{"$error":"#N/A"}},{"$f":"IF(OR(Main!CK21=\"\",Main!CK21=0),NA(),Main!CK21)","v":{"$error":"#N/A"}},{"$f":"IF(OR(Main!CL21=\"\",Main!CL21=0),NA(),Main!CL21)","v":{"$error":"#N/A"}},{"$f":"IF(OR(Main!CM21=\"\",Main!CM21=0),NA(),Main!CM21)","v":{"$error":"#N/A"}},{"$f":"IF(OR(Main!CN21=\"\",Main!CN21=0),NA(),Main!CN21)","v":{"$error":"#N/A"}},{"$f":"IF(OR(Main!CO21=\"\",Main!CO21=0),NA(),Main!CO21)","v":{"$error":"#N/A"}},{"$f":"IF(OR(Main!CP21=\"\",Main!CP21=0),NA(),Main!CP21)","v":{"$error":"#N/A"}},{"$f":"IF(OR(Main!CQ21=\"\",Main!CQ21=0),NA(),Main!CQ21)","v":{"$error":"#N/A"}},{"$f":"IF(OR(Main!CR21=\"\",Main!CR21=0),NA(),Main!CR21)","v":{"$error":"#N/A"}},{"$f":"IF(OR(Main!CS21=\"\",Main!CS21=0),NA(),Main!CS21)","v":{"$error":"#N/A"}},{"$f":"IF(OR(Main!CT21=\"\",Main!CT21=0),NA(),Main!CT21)","v":{"$error":"#N/A"}},{"$f":"IF(OR(Main!CU21=\"\",Main!CU21=0),NA(),Main!CU21)","v":{"$error":"#N/A"}},{"$f":"IF(OR(Main!CV21=\"\",Main!CV21=0),NA(),Main!CV21)","v":{"$error":"#N/A"}},{"$f":"IF(OR(Main!CW21=\"\",Main!CW21=0),NA(),Main!CW21)","v":{"$error":"#N/A"}},{"$f":"IF(OR(Main!CX21=\"\",Main!CX21=0),NA(),Main!CX21)","v":{"$error":"#N/A"}},{"$f":"IF(OR(Main!CY21=\"\",Main!CY21=0),NA(),Main!CY21)","v":{"$error":"#N/A"}}]
[]
[null,null,"VMA1 Orig",{"$f":"IF(OR(Main!D35=\"\",Main!D35=0),NA(),Main!D35)","v":" "},{"$f":"IF(OR(Main!E35=\"\",Main!E35=0),NA(),Main!E35)","v":" "},{"$f":"IF(OR(Main!F35=\"\",Main!F35=0),NA(),Main!F35)","v":" "},{"$f":"IF(OR(Main!G35=\"\",Main!G35=0),NA(),Main!G35)","v":" "},{"$f":"IF(OR(Main!H35=\"\",Main!H35=0),NA(),Main!H35)","v":" "},{"$f":"IF(OR(Main!I35=\"\",Main!I35=0),NA(),Main!I35)","v":" "},{"$f":"IF(OR(Main!J35=\"\",Main!J35=0),NA(),Main!J35)","v":" "},{"$f":"IF(OR(Main!K35=\"\",Main!K35=0),NA(),Main!K35)","v":" "},{"$f":"IF(OR(Main!L35=\"\",Main!L35=0),NA(),Main!L35)","v":" "},{"$f":"IF(OR(Main!M35=\"\",Main!M35=0),NA(),Main!M35)","v":" "},{"$f":"IF(OR(Main!N35=\"\",Main!N35=0),NA(),Main!N35)","v":" "},{"$f":"IF(OR(Main!O35=\"\",Main!O35=0),NA(),Main!O35)","v":" "},{"$f":"IF(OR(Main!P35=\"\",Main!P35=0),NA(),Main!P35)","v":" "},{"$f":"IF(OR(Main!Q35=\"\",Main!Q35=0),NA(),Main!Q35)","v":" "},{"$f":"IF(OR(Main!R35=\"\",Main!R35=0),NA(),Main!R35)","v":" "},{"$f":"IF(OR(Main!S35=\"\",Main!S35=0),NA(),Main!S35)","v":" "},{"$f":"IF(OR(Main!T35=\"\",Main!T35=0),NA(),Main!T35)","v":" "},{"$f":"IF(OR(Main!U35=\"\",Main!U35=0),NA(),Main!U35)","v":" "},{"$f":"IF(OR(Main!V35=\"\",Main!V35=0),NA(),Main!V35)","v":" "},{"$f":"IF(OR(Main!W35=\"\",Main!W35=0),NA(),Main!W35)","v":" "},{"$f":"IF(OR(Main!X35=\"\",Main!X35=0),NA(),Main!X35)","v":" "},{"$f":"IF(OR(Main!Y35=\"\",Main!Y35=0),NA(),Main!Y35)","v":" "},{"$f":"IF(OR(Main!Z35=\"\",Main!Z35=0),NA(),Main!Z35)","v":" "},{"$f":"IF(OR(Main!AA35=\"\",Main!AA35=0),NA(),Main!AA35)","v":" "},{"$f":"IF(OR(Main!AB35=\"\",Main!AB35=0),NA(),Main!AB35)","v":" "},{"$f":"IF(OR(Main!AC35=\"\",Main!AC35=0),NA(),Main!AC35)","v":" "},{"$f":"IF(OR(Main!AD35=\"\",Main!AD35=0),NA(),Main!AD35)","v":" "},{"$f":"IF(OR(Main!AE35=\"\",Main!AE35=0),NA(),Main!AE35)","v":" "},{"$f":"IF(OR(Main!AF35=\"\",Main!AF35=0),NA(),Main!AF35)","v":" "},{"$f":"IF(OR(Main!AG35=\"\",Main!AG35=0),NA(),Main!AG35)","v":" "},{"$f":"IF(OR(Main!AH35=\"\",Main!AH35=0),NA(),Main!AH35)","v":" "},{"$f":"IF(OR(Main!AI35=\"\",Main!AI35=0),NA(),Main!AI35)","v":" "},{"$f":"IF(OR(Main!AJ35=\"\",Main!AJ35=0),NA(),Main!AJ35)","v":" "},{"$f":"IF(OR(Main!AK35=\"\",Main!AK35=0),NA(),Main!AK35)","v":" "},{"$f":"IF(OR(Main!AL35=\"\",Main!AL35=0),NA(),Main!AL35)","v":" "},{"$f":"IF(OR(Main!AM35=\"\",Main!AM35=0),NA(),Main!AM35)","v":" "},{"$f":"IF(OR(Main!AN35=\"\",Main!AN35=0),NA(),Main!AN35)","v":" "},{"$f":"IF(OR(Main!AO35=\"\",Main!AO35=0),NA(),Main!AO35)","v":" "},{"$f":"IF(OR(Main!AP35=\"\",Main!AP35=0),NA(),Main!AP35)","v":" "},{"$f":"IF(OR(Main!AQ35=\"\",Main!AQ35=0),NA(),Main!AQ35)","v":" "},{"$f":"IF(OR(Main!AR35=\"\",Main!AR35=0),NA(),Main!AR35)","v":" "},{"$f":"IF(OR(Main!AS35=\"\",Main!AS35=0),NA(),Main!AS35)","v":" "},{"$f":"IF(OR(Main!AT35=\"\",Main!AT35=0),NA(),Main!AT35)","v":" "},{"$f":"IF(OR(Main!AU35=\"\",Main!AU35=0),NA(),Main!AU35)","v":" "},{"$f":"IF(OR(Main!AV35=\"\",Main!AV35=0),NA(),Main!AV35)","v":" "},{"$f":"IF(OR(Main!AW35=\"\",Main!AW35=0),NA(),Main!AW35)","v":" "},{"$f":"IF(OR(Main!AX35=\"\",Main!AX35=0),NA(),Main!AX35)","v":" "},{"$f":"IF(OR(Main!AY35=\"\",Main!AY35=0),NA(),Main!AY35)","v":" "},{"$f":"IF(OR(Main!AZ35=\"\",Main!AZ35=0),NA(),Main!AZ35)","v":" "},{"$f":"IF(OR(Main!BA35=\"\",Main!BA35=0),NA(),Main!BA35)","v":" "},{"$f":"IF(OR(Main!BB35=\"\",Main!BB35=0),NA(),Main!BB35)","v":" "},{"$f":"IF(OR(Main!BC35=\"\",Main!BC35=0),NA(),Main!BC35)","v":" "},{"$f":"IF(OR(Main!BD35=\"\",Main!BD35=0),NA(),Main!BD35)","v":" "},{"$f":"IF(OR(Main!BE35=\"\",Main!BE35=0),NA(),Main!BE35)","v":" "},{"$f":"IF(OR(Main!BF35=\"\",Main!BF35=0),NA(),Main!BF35)","v":" "},{"$f":"IF(OR(Main!BG35=\"\",Main!BG35=0),NA(),Main!BG35)","v":" "},{"$f":"IF(OR(Main!BH35=\"\",Main!BH35=0),NA(),Main!BH35)","v":" "},{"$f":"IF(OR(Main!BI35=\"\",Main!BI35=0),NA(),Main!BI35)","v":" "},{"$f":"IF(OR(Main!BJ35=\"\",Main!BJ35=0),NA(),Main!BJ35)","v":" "},{"$f":"IF(OR(Main!BK35=\"\",Main!BK35=0),NA(),Main!BK35)","v":" "},{"$f":"IF(OR(Main!BL35=\"\",Main!BL35=0),NA(),Main!BL35)","v":" "},{"$f":"IF(OR(Main!BM35=\"\",Main!BM35=0),NA(),Main!BM35)","v":" "},{"$f":"IF(OR(Main!BN35=\"\",Main!BN35=0),NA(),Main!BN35)","v":" "},{"$f":"IF(OR(Main!BO35=\"\",Main!BO35=0),NA(),Main!BO35)","v":" "},{"$f":"IF(OR(Main!BP35=\"\",Main!BP35=0),NA(),Main!BP35)","v":" "},{"$f":"IF(OR(Main!BQ35=\"\",Main!BQ35=0),NA(),Main!BQ35)","v":" "},{"$f":"IF(OR(Main!BR35=\"\",Main!BR35=0),NA(),Main!BR35)","v":" "},{"$f":"IF(OR(Main!BS35=\"\",Main!BS35=0),NA(),Main!BS35)","v":" "},{"$f":"IF(OR(Main!BT35=\"\",Main!BT35=0),NA(),Main!BT35)","v":" "},{"$f":"IF(OR(Main!BU35=\"\",Main!BU35=0),NA(),Main!BU35)","v":" "},{"$f":"IF(OR(Main!BV35=\"\",Main!BV35=0),NA(),Main!BV35)","v":" "},{"$f":"IF(OR(Main!BW35=\"\",Main!BW35=0),NA(),Main!BW35)","v":" "},{"$f":"IF(OR(Main!BX35=\"\",Main!BX35=0),NA(),Main!BX35)","v":" "},{"$f":"IF(OR(Main!BY35=\"\",Main!BY35=0),NA(),Main!BY35)","v":" "},{"$f":"IF(OR(Main!BZ35=\"\",Main!BZ35=0),NA(),Main!BZ35)","v":" "},{"$f":"IF(OR(Main!CA35=\"\",Main!CA35=0),NA(),Main!CA35)","v":" "},{"$f":"IF(OR(Main!CB35=\"\",Main!CB35=0),NA(),Main!CB35)","v":" "},{"$f":"IF(OR(Main!CC35=\"\",Main!CC35=0),NA(),Main!CC35)","v":" "},{"$f":"IF(OR(Main!CD35=\"\",Main!CD35=0),NA(),Main!CD35)","v":" "},{"$f":"IF(OR(Main!CE35=\"\",Main!CE35=0),NA(),Main!CE35)","v":" "},{"$f":"IF(OR(Main!CF35=\"\",Main!CF35=0),NA(),Main!CF35)","v":" "},{"$f":"IF(OR(Main!CG35=\"\",Main!CG35=0),NA(),Main!CG35)","v":" "},{"$f":"IF(OR(Main!CH35=\"\",Main!CH35=0),NA(),Main!CH35)","v":" "},{"$f":"IF(OR(Main!CI35=\"\",Main!CI35=0),NA(),Main!CI35)","v":" "},{"$f":"IF(OR(Main!CJ35=\"\",Main!CJ35=0),NA(),Main!CJ35)","v":" "},{"$f":"IF(OR(Main!CK35=\"\",Main!CK35=0),NA(),Main!CK35)","v":" "},{"$f":"IF(OR(Main!CL35=\"\",Main!CL35=0),NA(),Main!CL35)","v":" "},{"$f":"IF(OR(Main!CM35=\"\",Main!CM35=0),NA(),Main!CM35)","v":" "},{"$f":"IF(OR(Main!CN35=\"\",Main!CN35=0),NA(),Main!CN35)","v":" "},{"$f":"IF(OR(Main!CO35=\"\",Main!CO35=0),NA(),Main!CO35)","v":" "},{"$f":"IF(OR(Main!CP35=\"\",Main!CP35=0),NA(),Main!CP35)","v":" "},{"$f":"IF(OR(Main!CQ35=\"\",Main!CQ35=0),NA(),Main!CQ35)","v":" "},{"$f":"IF(OR(Main!CR35=\"\",Main!CR35=0),NA(),Main!CR35)","v":" "},{"$f":"IF(OR(Main!CS35=\"\",Main!CS35=0),NA(),Main!CS35)","v":" "},{"$f":"IF(OR(Main!CT35=\"\",Main!CT35=0),NA(),Main!CT35)","v":" "},{"$f":"IF(OR(Main!CU35=\"\",Main!CU35=0),NA(),Main!CU35)","v":" "},{"$f":"IF(OR(Main!CV35=\"\",Main!CV35=0),NA(),Main!CV35)","v":" "},{"$f":"IF(OR(Main!CW35=\"\",Main!CW35=0),NA(),Main!CW35)","v":" "},{"$f":"IF(OR(Main!CX35=\"\",Main!CX35=0),NA(),Main!CX35)","v":" "},{"$f":"IF(OR(Main!CY35=\"\",Main!CY35=0),NA(),Main!CY35)","v":" "}]
[]
[null,null,"VMA1 Adj",{"$f":"IF(OR(Main!D80=\"\",Main!D80=0),NA(),Main!D80)","v":" "},{"$f":"IF(OR(Main!E80=\"\",Main!E80=0),NA(),Main!E80)","v":" "},{"$f":"IF(OR(Main!F80=\"\",Main!F80=0),NA(),Main!F80)","v":" "},{"$f":"IF(OR(Main!G80=\"\",Main!G80=0),NA(),Main!G80)","v":" "},{"$f":"IF(OR(Main!H80=\"\",Main!H80=0),NA(),Main!H80)","v":" "},{"$f":"IF(OR(Main!I80=\"\",Main!I80=0),NA(),Main!I80)","v":" "},{"$f":"IF(OR(Main!J80=\"\",Main!J80=0),NA(),Main!J80)","v":" "},{"$f":"IF(OR(Main!K80=\"\",Main!K80=0),NA(),Main!K80)","v":" "},{"$f":"IF(OR(Main!L80=\"\",Main!L80=0),NA(),Main!L80)","v":" "},{"$f":"IF(OR(Main!M80=\"\",Main!M80=0),NA(),Main!M80)","v":" "},{"$f":"IF(OR(Main!N80=\"\",Main!N80=0),NA(),Main!N80)","v":" "},{"$f":"IF(OR(Main!O80=\"\",Main!O80=0),NA(),Main!O80)","v":" "},{"$f":"IF(OR(Main!P80=\"\",Main!P80=0),NA(),Main!P80)","v":" "},{"$f":"IF(OR(Main!Q80=\"\",Main!Q80=0),NA(),Main!Q80)","v":" "},{"$f":"IF(OR(Main!R80=\"\",Main!R80=0),NA(),Main!R80)","v":" "},{"$f":"IF(OR(Main!S80=\"\",Main!S80=0),NA(),Main!S80)","v":" "},{"$f":"IF(OR(Main!T80=\"\",Main!T80=0),NA(),Main!T80)","v":" "},{"$f":"IF(OR(Main!U80=\"\",Main!U80=0),NA(),Main!U80)","v":" "},{"$f":"IF(OR(Main!V80=\"\",Main!V80=0),NA(),Main!V80)","v":" "},{"$f":"IF(OR(Main!W80=\"\",Main!W80=0),NA(),Main!W80)","v":" "},{"$f":"IF(OR(Main!X80=\"\",Main!X80=0),NA(),Main!X80)","v":" "},{"$f":"IF(OR(Main!Y80=\"\",Main!Y80=0),NA(),Main!Y80)","v":" "},{"$f":"IF(OR(Main!Z80=\"\",Main!Z80=0),NA(),Main!Z80)","v":" "},{"$f":"IF(OR(Main!AA80=\"\",Main!AA80=0),NA(),Main!AA80)","v":" "},{"$f":"IF(OR(Main!AB80=\"\",Main!AB80=0),NA(),Main!AB80)","v":" "},{"$f":"IF(OR(Main!AC80=\"\",Main!AC80=0),NA(),Main!AC80)","v":" "},{"$f":"IF(OR(Main!AD80=\"\",Main!AD80=0),NA(),Main!AD80)","v":" "},{"$f":"IF(OR(Main!AE80=\"\",Main!AE80=0),NA(),Main!AE80)","v":" "},{"$f":"IF(OR(Main!AF80=\"\",Main!AF80=0),NA(),Main!AF80)","v":" "},{"$f":"IF(OR(Main!AG80=\"\",Main!AG80=0),NA(),Main!AG80)","v":" "},{"$f":"IF(OR(Main!AH80=\"\",Main!AH80=0),NA(),Main!AH80)","v":" "},{"$f":"IF(OR(Main!AI80=\"\",Main!AI80=0),NA(),Main!AI80)","v":" "},{"$f":"IF(OR(Main!AJ80=\"\",Main!AJ80=0),NA(),Main!AJ80)","v":" "},{"$f":"IF(OR(Main!AK80=\"\",Main!AK80=0),NA(),Main!AK80)","v":" "},{"$f":"IF(OR(Main!AL80=\"\",Main!AL80=0),NA(),Main!AL80)","v":" "},{"$f":"IF(OR(Main!AM80=\"\",Main!AM80=0),NA(),Main!AM80)","v":" "},{"$f":"IF(OR(Main!AN80=\"\",Main!AN80=0),NA(),Main!AN80)","v":" "},{"$f":"IF(OR(Main!AO80=\"\",Main!AO80=0),NA(),Main!AO80)","v":" "},{"$f":"IF(OR(Main!AP80=\"\",Main!AP80=0),NA(),Main!AP80)","v":" "},{"$f":"IF(OR(Main!AQ80=\"\",Main!AQ80=0),NA(),Main!AQ80)","v":" "},{"$f":"IF(OR(Main!AR80=\"\",Main!AR80=0),NA(),Main!AR80)","v":" "},{"$f":"IF(OR(Main!AS80=\"\",Main!AS80=0),NA(),Main!AS80)","v":" "},{"$f":"IF(OR(Main!AT80=\"\",Main!AT80=0),NA(),Main!AT80)","v":" "},{"$f":"IF(OR(Main!AU80=\"\",Main!AU80=0),NA(),Main!AU80)","v":" "},{"$f":"IF(OR(Main!AV80=\"\",Main!AV80=0),NA(),Main!AV80)","v":" "},{"$f":"IF(OR(Main!AW80=\"\",Main!AW80=0),NA(),Main!AW80)","v":" "},{"$f":"IF(OR(Main!AX80=\"\",Main!AX80=0),NA(),Main!AX80)","v":" "},{"$f":"IF(OR(Main!AY80=\"\",Main!AY80=0),NA(),Main!AY80)","v":" "},{"$f":"IF(OR(Main!AZ80=\"\",Main!AZ80=0),NA(),Main!AZ80)","v":" "},{"$f":"IF(OR(Main!BA80=\"\",Main!BA80=0),NA(),Main!BA80)","v":" "},{"$f":"IF(OR(Main!BB80=\"\",Main!BB80=0),NA(),Main!BB80)","v":" "},{"$f":"IF(OR(Main!BC80=\"\",Main!BC80=0),NA(),Main!BC80)","v":" "},{"$f":"IF(OR(Main!BD80=\"\",Main!BD80=0),NA(),Main!BD80)","v":" "},{"$f":"IF(OR(Main!BE80=\"\",Main!BE80=0),NA(),Main!BE80)","v":" "},{"$f":"IF(OR(Main!BF80=\"\",Main!BF80=0),NA(),Main!BF80)","v":" "},{"$f":"IF(OR(Main!BG80=\"\",Main!BG80=0),NA(),Main!BG80)","v":" "},{"$f":"IF(OR(Main!BH80=\"\",Main!BH80=0),NA(),Main!BH80)","v":" "},{"$f":"IF(OR(Main!BI80=\"\",Main!BI80=0),NA(),Main!BI80)","v":" "},{"$f":"IF(OR(Main!BJ80=\"\",Main!BJ80=0),NA(),Main!BJ80)","v":" "},{"$f":"IF(OR(Main!BK80=\"\",Main!BK80=0),NA(),Main!BK80)","v":" "},{"$f":"IF(OR(Main!BL80=\"\",Main!BL80=0),NA(),Main!BL80)","v":" "},{"$f":"IF(OR(Main!BM80=\"\",Main!BM80=0),NA(),Main!BM80)","v":" "},{"$f":"IF(OR(Main!BN80=\"\",Main!BN80=0),NA(),Main!BN80)","v":" "},{"$f":"IF(OR(Main!BO80=\"\",Main!BO80=0),NA(),Main!BO80)","v":" "},{"$f":"IF(OR(Main!BP80=\"\",Main!BP80=0),NA(),Main!BP80)","v":" "},{"$f":"IF(OR(Main!BQ80=\"\",Main!BQ80=0),NA(),Main!BQ80)","v":" "},{"$f":"IF(OR(Main!BR80=\"\",Main!BR80=0),NA(),Main!BR80)","v":" "},{"$f":"IF(OR(Main!BS80=\"\",Main!BS80=0),NA(),Main!BS80)","v":" "},{"$f":"IF(OR(Main!BT80=\"\",Main!BT80=0),NA(),Main!BT80)","v":" "},{"$f":"IF(OR(Main!BU80=\"\",Main!BU80=0),NA(),Main!BU80)","v":" "},{"$f":"IF(OR(Main!BV80=\"\",Main!BV80=0),NA(),Main!BV80)","v":" "},{"$f":"IF(OR(Main!BW80=\"\",Main!BW80=0),NA(),Main!BW80)","v":" "},{"$f":"IF(OR(Main!BX80=\"\",Main!BX80=0),NA(),Main!BX80)","v":" "},{"$f":"IF(OR(Main!BY80=\"\",Main!BY80=0),NA(),Main!BY80)","v":" "},{"$f":"IF(OR(Main!BZ80=\"\",Main!BZ80=0),NA(),Main!BZ80)","v":" "},{"$f":"IF(OR(Main!CA80=\"\",Main!CA80=0),NA(),Main!CA80)","v":" "},{"$f":"IF(OR(Main!CB80=\"\",Main!CB80=0),NA(),Main!CB80)","v":" "},{"$f":"IF(OR(Main!CC80=\"\",Main!CC80=0),NA(),Main!CC80)","v":" "},{"$f":"IF(OR(Main!CD80=\"\",Main!CD80=0),NA(),Main!CD80)","v":" "},{"$f":"IF(OR(Main!CE80=\"\",Main!CE80=0),NA(),Main!CE80)","v":" "},{"$f":"IF(OR(Main!CF80=\"\",Main!CF80=0),NA(),Main!CF80)","v":" "},{"$f":"IF(OR(Main!CG80=\"\",Main!CG80=0),NA(),Main!CG80)","v":" "},{"$f":"IF(OR(Main!CH80=\"\",Main!CH80=0),NA(),Main!CH80)","v":" "},{"$f":"IF(OR(Main!CI80=\"\",Main!CI80=0),NA(),Main!CI80)","v":" "},{"$f":"IF(OR(Main!CJ80=\"\",Main!CJ80=0),NA(),Main!CJ80)","v":" "},{"$f":"IF(OR(Main!CK80=\"\",Main!CK80=0),NA(),Main!CK80)","v":" "},{"$f":"IF(OR(Main!CL80=\"\",Main!CL80=0),NA(),Main!CL80)","v":" "},{"$f":"IF(OR(Main!CM80=\"\",Main!CM80=0),NA(),Main!CM80)","v":" "},{"$f":"IF(OR(Main!CN80=\"\",Main!CN80=0),NA(),Main!CN80)","v":" "},{"$f":"IF(OR(Main!CO80=\"\",Main!CO80=0),NA(),Main!CO80)","v":" "},{"$f":"IF(OR(Main!CP80=\"\",Main!CP80=0),NA(),Main!CP80)","v":" "},{"$f":"IF(OR(Main!CQ80=\"\",Main!CQ80=0),NA(),Main!CQ80)","v":" "},{"$f":"IF(OR(Main!CR80=\"\",Main!CR80=0),NA(),Main!CR80)","v":" "},{"$f":"IF(OR(Main!CS80=\"\",Main!CS80=0),NA(),Main!CS80)","v":" "},{"$f":"IF(OR(Main!CT80=\"\",Main!CT80=0),NA(),Main!CT80)","v":" "},{"$f":"IF(OR(Main!CU80=\"\",Main!CU80=0),NA(),Main!CU80)","v":" "},{"$f":"IF(OR(Main!CV80=\"\",Main!CV80=0),NA(),Main!CV80)","v":" "},{"$f":"IF(OR(Main!CW80=\"\",Main!CW80=0),NA(),Main!CW80)","v":" "},{"$f":"IF(OR(Main!CX80=\"\",Main!CX80=0),NA(),Main!CX80)","v":" "},{"$f":"IF(OR(Main!CY80=\"\",Main!CY80=0),NA(),Main!CY80)","v":" "}]
[]
[null,null,"Voids1 Orig",{"$f":"IF(OR(Main!D38=\"\",Main!D38=0),NA(),Main!D38)","v":" "},{"$f":"IF(OR(Main!E38=\"\",Main!E38=0),NA(),Main!E38)","v":" "},{"$f":"IF(OR(Main!F38=\"\",Main!F38=0),NA(),Main!F38)","v":" "},{"$f":"IF(OR(Main!G38=\"\",Main!G38=0),NA(),Main!G38)","v":" "},{"$f":"IF(OR(Main!H38=\"\",Main!H38=0),NA(),Main!H38)","v":" "},{"$f":"IF(OR(Main!I38=\"\",Main!I38=0),NA(),Main!I38)","v":" "},{"$f":"IF(OR(Main!J38=\"\",Main!J38=0),NA(),Main!J38)","v":" "},{"$f":"IF(OR(Main!K38=\"\",Main!K38=0),NA(),Main!K38)","v":" "},{"$f":"IF(OR(Main!L38=\"\",Main!L38=0),NA(),Main!L38)","v":" "},{"$f":"IF(OR(Main!M38=\"\",Main!M38=0),NA(),Main!M38)","v":" "},{"$f":"IF(OR(Main!N38=\"\",Main!N38=0),NA(),Main!N38)","v":" "},{"$f":"IF(OR(Main!O38=\"\",Main!O38=0),NA(),Main!O38)","v":" "},{"$f":"IF(OR(Main!P38=\"\",Main!P38=0),NA(),Main!P38)","v":" "},{"$f":"IF(OR(Main!Q38=\"\",Main!Q38=0),NA(),Main!Q38)","v":" "},{"$f":"IF(OR(Main!R38=\"\",Main!R38=0),NA(),Main!R38)","v":" "},{"$f":"IF(OR(Main!S38=\"\",Main!S38=0),NA(),Main!S38)","v":" "},{"$f":"IF(OR(Main!T38=\"\",Main!T38=0),NA(),Main!T38)","v":" "},{"$f":"IF(OR(Main!U38=\"\",Main!U38=0),NA(),Main!U38)","v":" "},{"$f":"IF(OR(Main!V38=\"\",Main!V38=0),NA(),Main!V38)","v":" "},{"$f":"IF(OR(Main!W38=\"\",Main!W38=0),NA(),Main!W38)","v":" "},{"$f":"IF(OR(Main!X38=\"\",Main!X38=0),NA(),Main!X38)","v":" "},{"$f":"IF(OR(Main!Y38=\"\",Main!Y38=0),NA(),Main!Y38)","v":" "},{"$f":"IF(OR(Main!Z38=\"\",Main!Z38=0),NA(),Main!Z38)","v":" "},{"$f":"IF(OR(Main!AA38=\"\",Main!AA38=0),NA(),Main!AA38)","v":" "},{"$f":"IF(OR(Main!AB38=\"\",Main!AB38=0),NA(),Main!AB38)","v":" "},{"$f":"IF(OR(Main!AC38=\"\",Main!AC38=0),NA(),Main!AC38)","v":" "},{"$f":"IF(OR(Main!AD38=\"\",Main!AD38=0),NA(),Main!AD38)","v":" "},{"$f":"IF(OR(Main!AE38=\"\",Main!AE38=0),NA(),Main!AE38)","v":" "},{"$f":"IF(OR(Main!AF38=\"\",Main!AF38=0),NA(),Main!AF38)","v":" "},{"$f":"IF(OR(Main!AG38=\"\",Main!AG38=0),NA(),Main!AG38)","v":" "},{"$f":"IF(OR(Main!AH38=\"\",Main!AH38=0),NA(),Main!AH38)","v":" "},{"$f":"IF(OR(Main!AI38=\"\",Main!AI38=0),NA(),Main!AI38)","v":" "},{"$f":"IF(OR(Main!AJ38=\"\",Main!AJ38=0),NA(),Main!AJ38)","v":" "},{"$f":"IF(OR(Main!AK38=\"\",Main!AK38=0),NA(),Main!AK38)","v":" "},{"$f":"IF(OR(Main!AL38=\"\",Main!AL38=0),NA(),Main!AL38)","v":" "},{"$f":"IF(OR(Main!AM38=\"\",Main!AM38=0),NA(),Main!AM38)","v":" "},{"$f":"IF(OR(Main!AN38=\"\",Main!AN38=0),NA(),Main!AN38)","v":" "},{"$f":"IF(OR(Main!AO38=\"\",Main!AO38=0),NA(),Main!AO38)","v":" "},{"$f":"IF(OR(Main!AP38=\"\",Main!AP38=0),NA(),Main!AP38)","v":" "},{"$f":"IF(OR(Main!AQ38=\"\",Main!AQ38=0),NA(),Main!AQ38)","v":" "},{"$f":"IF(OR(Main!AR38=\"\",Main!AR38=0),NA(),Main!AR38)","v":" "},{"$f":"IF(OR(Main!AS38=\"\",Main!AS38=0),NA(),Main!AS38)","v":" "},{"$f":"IF(OR(Main!AT38=\"\",Main!AT38=0),NA(),Main!AT38)","v":" "},{"$f":"IF(OR(Main!AU38=\"\",Main!AU38=0),NA(),Main!AU38)","v":" "},{"$f":"IF(OR(Main!AV38=\"\",Main!AV38=0),NA(),Main!AV38)","v":" "},{"$f":"IF(OR(Main!AW38=\"\",Main!AW38=0),NA(),Main!AW38)","v":" "},{"$f":"IF(OR(Main!AX38=\"\",Main!AX38=0),NA(),Main!AX38)","v":" "},{"$f":"IF(OR(Main!AY38=\"\",Main!AY38=0),NA(),Main!AY38)","v":" "},{"$f":"IF(OR(Main!AZ38=\"\",Main!AZ38=0),NA(),Main!AZ38)","v":" "},{"$f":"IF(OR(Main!BA38=\"\",Main!BA38=0),NA(),Main!BA38)","v":" "},{"$f":"IF(OR(Main!BB38=\"\",Main!BB38=0),NA(),Main!BB38)","v":" "},{"$f":"IF(OR(Main!BC38=\"\",Main!BC38=0),NA(),Main!BC38)","v":" "},{"$f":"IF(OR(Main!BD38=\"\",Main!BD38=0),NA(),Main!BD38)","v":" "},{"$f":"IF(OR(Main!BE38=\"\",Main!BE38=0),NA(),Main!BE38)","v":" "},{"$f":"IF(OR(Main!BF38=\"\",Main!BF38=0),NA(),Main!BF38)","v":" "},{"$f":"IF(OR(Main!BG38=\"\",Main!BG38=0),NA(),Main!BG38)","v":" "},{"$f":"IF(OR(Main!BH38=\"\",Main!BH38=0),NA(),Main!BH38)","v":" "},{"$f":"IF(OR(Main!BI38=\"\",Main!BI38=0),NA(),Main!BI38)","v":" "},{"$f":"IF(OR(Main!BJ38=\"\",Main!BJ38=0),NA(),Main!BJ38)","v":" "},{"$f":"IF(OR(Main!BK38=\"\",Main!BK38=0),NA(),Main!BK38)","v":" "},{"$f":"IF(OR(Main!BL38=\"\",Main!BL38=0),NA(),Main!BL38)","v":" "},{"$f":"IF(OR(Main!BM38=\"\",Main!BM38=0),NA(),Main!BM38)","v":" "},{"$f":"IF(OR(Main!BN38=\"\",Main!BN38=0),NA(),Main!BN38)","v":" "},{"$f":"IF(OR(Main!BO38=\"\",Main!BO38=0),NA(),Main!BO38)","v":" "},{"$f":"IF(OR(Main!BP38=\"\",Main!BP38=0),NA(),Main!BP38)","v":" "},{"$f":"IF(OR(Main!BQ38=\"\",Main!BQ38=0),NA(),Main!BQ38)","v":" "},{"$f":"IF(OR(Main!BR38=\"\",Main!BR38=0),NA(),Main!BR38)","v":" "},{"$f":"IF(OR(Main!BS38=\"\",Main!BS38=0),NA(),Main!BS38)","v":" "},{"$f":"IF(OR(Main!BT38=\"\",Main!BT38=0),NA(),Main!BT38)","v":" "},{"$f":"IF(OR(Main!BU38=\"\",Main!BU38=0),NA(),Main!BU38)","v":" "},{"$f":"IF(OR(Main!BV38=\"\",Main!BV38=0),NA(),Main!BV38)","v":" "},{"$f":"IF(OR(Main!BW38=\"\",Main!BW38=0),NA(),Main!BW38)","v":" "},{"$f":"IF(OR(Main!BX38=\"\",Main!BX38=0),NA(),Main!BX38)","v":" "},{"$f":"IF(OR(Main!BY38=\"\",Main!BY38=0),NA(),Main!BY38)","v":" "},{"$f":"IF(OR(Main!BZ38=\"\",Main!BZ38=0),NA(),Main!BZ38)","v":" "},{"$f":"IF(OR(Main!CA38=\"\",Main!CA38=0),NA(),Main!CA38)","v":" "},{"$f":"IF(OR(Main!CB38=\"\",Main!CB38=0),NA(),Main!CB38)","v":" "},{"$f":"IF(OR(Main!CC38=\"\",Main!CC38=0),NA(),Main!CC38)","v":" "},{"$f":"IF(OR(Main!CD38=\"\",Main!CD38=0),NA(),Main!CD38)","v":" "},{"$f":"IF(OR(Main!CE38=\"\",Main!CE38=0),NA(),Main!CE38)","v":" "},{"$f":"IF(OR(Main!CF38=\"\",Main!CF38=0),NA(),Main!CF38)","v":" "},{"$f":"IF(OR(Main!CG38=\"\",Main!CG38=0),NA(),Main!CG38)","v":" "},{"$f":"IF(OR(Main!CH38=\"\",Main!CH38=0),NA(),Main!CH38)","v":" "},{"$f":"IF(OR(Main!CI38=\"\",Main!CI38=0),NA(),Main!CI38)","v":" "},{"$f":"IF(OR(Main!CJ38=\"\",Main!CJ38=0),NA(),Main!CJ38)","v":" "},{"$f":"IF(OR(Main!CK38=\"\",Main!CK38=0),NA(),Main!CK38)","v":" "},{"$f":"IF(OR(Main!CL38=\"\",Main!CL38=0),NA(),Main!CL38)","v":" "},{"$f":"IF(OR(Main!CM38=\"\",Main!CM38=0),NA(),Main!CM38)","v":" "},{"$f":"IF(OR(Main!CN38=\"\",Main!CN38=0),NA(),Main!CN38)","v":" "},{"$f":"IF(OR(Main!CO38=\"\",Main!CO38=0),NA(),Main!CO38)","v":" "},{"$f":"IF(OR(Main!CP38=\"\",Main!CP38=0),NA(),Main!CP38)","v":" "},{"$f":"IF(OR(Main!CQ38=\"\",Main!CQ38=0),NA(),Main!CQ38)","v":" "},{"$f":"IF(OR(Main!CR38=\"\",Main!CR38=0),NA(),Main!CR38)","v":" "},{"$f":"IF(OR(Main!CS38=\"\",Main!CS38=0),NA(),Main!CS38)","v":" "},{"$f":"IF(OR(Main!CT38=\"\",Main!CT38=0),NA(),Main!CT38)","v":" "},{"$f":"IF(OR(Main!CU38=\"\",Main!CU38=0),NA(),Main!CU38)","v":" "},{"$f":"IF(OR(Main!CV38=\"\",Main!CV38=0),NA(),Main!CV38)","v":" "},{"$f":"IF(OR(Main!CW38=\"\",Main!CW38=0),NA(),Main!CW38)","v":" "},{"$f":"IF(OR(Main!CX38=\"\",Main!CX38=0),NA(),Main!CX38)","v":" "},{"$f":"IF(OR(Main!CY38=\"\",Main!CY38=0),NA(),Main!CY38)","v":" "}]
[]
[null,null,"Voids1 Adj",{"$f":"IF(OR(Main!D83=\"\",Main!D83=0),NA(),Main!D83)","v":" "},{"$f":"IF(OR(Main!E83=\"\",Main!E83=0),NA(),Main!E83)","v":" "},{"$f":"IF(OR(Main!F83=\"\",Main!F83=0),NA(),Main!F83)","v":" "},{"$f":"IF(OR(Main!G83=\"\",Main!G83=0),NA(),Main!G83)","v":" "},{"$f":"IF(OR(Main!H83=\"\",Main!H83=0),NA(),Main!H83)","v":" "},{"$f":"IF(OR(Main!I83=\"\",Main!I83=0),NA(),Main!I83)","v":" "},{"$f":"IF(OR(Main!J83=\"\",Main!J83=0),NA(),Main!J83)","v":" "},{"$f":"IF(OR(Main!K83=\"\",Main!K83=0),NA(),Main!K83)","v":" "},{"$f":"IF(OR(Main!L83=\"\",Main!L83=0),NA(),Main!L83)","v":" "},{"$f":"IF(OR(Main!M83=\"\",Main!M83=0),NA(),Main!M83)","v":" "},{"$f":"IF(OR(Main!N83=\"\",Main!N83=0),NA(),Main!N83)","v":" "},{"$f":"IF(OR(Main!O83=\"\",Main!O83=0),NA(),Main!O83)","v":" "},{"$f":"IF(OR(Main!P83=\"\",Main!P83=0),NA(),Main!P83)","v":" "},{"$f":"IF(OR(Main!Q83=\"\",Main!Q83=0),NA(),Main!Q83)","v":" "},{"$f":"IF(OR(Main!R83=\"\",Main!R83=0),NA(),Main!R83)","v":" "},{"$f":"IF(OR(Main!S83=\"\",Main!S83=0),NA(),Main!S83)","v":" "},{"$f":"IF(OR(Main!T83=\"\",Main!T83=0),NA(),Main!T83)","v":" "},{"$f":"IF(OR(Main!U83=\"\",Main!U83=0),NA(),Main!U83)","v":" "},{"$f":"IF(OR(Main!V83=\"\",Main!V83=0),NA(),Main!V83)","v":" "},{"$f":"IF(OR(Main!W83=\"\",Main!W83=0),NA(),Main!W83)","v":" "},{"$f":"IF(OR(Main!X83=\"\",Main!X83=0),NA(),Main!X83)","v":" "},{"$f":"IF(OR(Main!Y83=\"\",Main!Y83=0),NA(),Main!Y83)","v":" "},{"$f":"IF(OR(Main!Z83=\"\",Main!Z83=0),NA(),Main!Z83)","v":" "},{"$f":"IF(OR(Main!AA83=\"\",Main!AA83=0),NA(),Main!AA83)","v":" "},{"$f":"IF(OR(Main!AB83=\"\",Main!AB83=0),NA(),Main!AB83)","v":" "},{"$f":"IF(OR(Main!AC83=\"\",Main!AC83=0),NA(),Main!AC83)","v":" "},{"$f":"IF(OR(Main!AD83=\"\",Main!AD83=0),NA(),Main!AD83)","v":" "},{"$f":"IF(OR(Main!AE83=\"\",Main!AE83=0),NA(),Main!AE83)","v":" "},{"$f":"IF(OR(Main!AF83=\"\",Main!AF83=0),NA(),Main!AF83)","v":" "},{"$f":"IF(OR(Main!AG83=\"\",Main!AG83=0),NA(),Main!AG83)","v":" "},{"$f":"IF(OR(Main!AH83=\"\",Main!AH83=0),NA(),Main!AH83)","v":" "},{"$f":"IF(OR(Main!AI83=\"\",Main!AI83=0),NA(),Main!AI83)","v":" "},{"$f":"IF(OR(Main!AJ83=\"\",Main!AJ83=0),NA(),Main!AJ83)","v":" "},{"$f":"IF(OR(Main!AK83=\"\",Main!AK83=0),NA(),Main!AK83)","v":" "},{"$f":"IF(OR(Main!AL83=\"\",Main!AL83=0),NA(),Main!AL83)","v":" "},{"$f":"IF(OR(Main!AM83=\"\",Main!AM83=0),NA(),Main!AM83)","v":" "},{"$f":"IF(OR(Main!AN83=\"\",Main!AN83=0),NA(),Main!AN83)","v":" "},{"$f":"IF(OR(Main!AO83=\"\",Main!AO83=0),NA(),Main!AO83)","v":" "},{"$f":"IF(OR(Main!AP83=\"\",Main!AP83=0),NA(),Main!AP83)","v":" "},{"$f":"IF(OR(Main!AQ83=\"\",Main!AQ83=0),NA(),Main!AQ83)","v":" "},{"$f":"IF(OR(Main!AR83=\"\",Main!AR83=0),NA(),Main!AR83)","v":" "},{"$f":"IF(OR(Main!AS83=\"\",Main!AS83=0),NA(),Main!AS83)","v":" "},{"$f":"IF(OR(Main!AT83=\"\",Main!AT83=0),NA(),Main!AT83)","v":" "},{"$f":"IF(OR(Main!AU83=\"\",Main!AU83=0),NA(),Main!AU83)","v":" "},{"$f":"IF(OR(Main!AV83=\"\",Main!AV83=0),NA(),Main!AV83)","v":" "},{"$f":"IF(OR(Main!AW83=\"\",Main!AW83=0),NA(),Main!AW83)","v":" "},{"$f":"IF(OR(Main!AX83=\"\",Main!AX83=0),NA(),Main!AX83)","v":" "},{"$f":"IF(OR(Main!AY83=\"\",Main!AY83=0),NA(),Main!AY83)","v":" "},{"$f":"IF(OR(Main!AZ83=\"\",Main!AZ83=0),NA(),Main!AZ83)","v":" "},{"$f":"IF(OR(Main!BA83=\"\",Main!BA83=0),NA(),Main!BA83)","v":" "},{"$f":"IF(OR(Main!BB83=\"\",Main!BB83=0),NA(),Main!BB83)","v":" "},{"$f":"IF(OR(Main!BC83=\"\",Main!BC83=0),NA(),Main!BC83)","v":" "},{"$f":"IF(OR(Main!BD83=\"\",Main!BD83=0),NA(),Main!BD83)","v":" "},{"$f":"IF(OR(Main!BE83=\"\",Main!BE83=0),NA(),Main!BE83)","v":" "},{"$f":"IF(OR(Main!BF83=\"\",Main!BF83=0),NA(),Main!BF83)","v":" "},{"$f":"IF(OR(Main!BG83=\"\",Main!BG83=0),NA(),Main!BG83)","v":" "},{"$f":"IF(OR(Main!BH83=\"\",Main!BH83=0),NA(),Main!BH83)","v":" "},{"$f":"IF(OR(Main!BI83=\"\",Main!BI83=0),NA(),Main!BI83)","v":" "},{"$f":"IF(OR(Main!BJ83=\"\",Main!BJ83=0),NA(),Main!BJ83)","v":" "},{"$f":"IF(OR(Main!BK83=\"\",Main!BK83=0),NA(),Main!BK83)","v":" "},{"$f":"IF(OR(Main!BL83=\"\",Main!BL83=0),NA(),Main!BL83)","v":" "},{"$f":"IF(OR(Main!BM83=\"\",Main!BM83=0),NA(),Main!BM83)","v":" "},{"$f":"IF(OR(Main!BN83=\"\",Main!BN83=0),NA(),Main!BN83)","v":" "},{"$f":"IF(OR(Main!BO83=\"\",Main!BO83=0),NA(),Main!BO83)","v":" "},{"$f":"IF(OR(Main!BP83=\"\",Main!BP83=0),NA(),Main!BP83)","v":" "},{"$f":"IF(OR(Main!BQ83=\"\",Main!BQ83=0),NA(),Main!BQ83)","v":" "},{"$f":"IF(OR(Main!BR83=\"\",Main!BR83=0),NA(),Main!BR83)","v":" "},{"$f":"IF(OR(Main!BS83=\"\",Main!BS83=0),NA(),Main!BS83)","v":" "},{"$f":"IF(OR(Main!BT83=\"\",Main!BT83=0),NA(),Main!BT83)","v":" "},{"$f":"IF(OR(Main!BU83=\"\",Main!BU83=0),NA(),Main!BU83)","v":" "},{"$f":"IF(OR(Main!BV83=\"\",Main!BV83=0),NA(),Main!BV83)","v":" "},{"$f":"IF(OR(Main!BW83=\"\",Main!BW83=0),NA(),Main!BW83)","v":" "},{"$f":"IF(OR(Main!BX83=\"\",Main!BX83=0),NA(),Main!BX83)","v":" "},{"$f":"IF(OR(Main!BY83=\"\",Main!BY83=0),NA(),Main!BY83)","v":" "},{"$f":"IF(OR(Main!BZ83=\"\",Main!BZ83=0),NA(),Main!BZ83)","v":" "},{"$f":"IF(OR(Main!CA83=\"\",Main!CA83=0),NA(),Main!CA83)","v":" "},{"$f":"IF(OR(Main!CB83=\"\",Main!CB83=0),NA(),Main!CB83)","v":" "},{"$f":"IF(OR(Main!CC83=\"\",Main!CC83=0),NA(),Main!CC83)","v":" "},{"$f":"IF(OR(Main!CD83=\"\",Main!CD83=0),NA(),Main!CD83)","v":" "},{"$f":"IF(OR(Main!CE83=\"\",Main!CE83=0),NA(),Main!CE83)","v":" "},{"$f":"IF(OR(Main!CF83=\"\",Main!CF83=0),NA(),Main!CF83)","v":" "},{"$f":"IF(OR(Main!CG83=\"\",Main!CG83=0),NA(),Main!CG83)","v":" "},{"$f":"IF(OR(Main!CH83=\"\",Main!CH83=0),NA(),Main!CH83)","v":" "},{"$f":"IF(OR(Main!CI83=\"\",Main!CI83=0),NA(),Main!CI83)","v":" "},{"$f":"IF(OR(Main!CJ83=\"\",Main!CJ83=0),NA(),Main!CJ83)","v":" "},{"$f":"IF(OR(Main!CK83=\"\",Main!CK83=0),NA(),Main!CK83)","v":" "},{"$f":"IF(OR(Main!CL83=\"\",Main!CL83=0),NA(),Main!CL83)","v":" "},{"$f":"IF(OR(Main!CM83=\"\",Main!CM83=0),NA(),Main!CM83)","v":" "},{"$f":"IF(OR(Main!CN83=\"\",Main!CN83=0),NA(),Main!CN83)","v":" "},{"$f":"IF(OR(Main!CO83=\"\",Main!CO83=0),NA(),Main!CO83)","v":" "},{"$f":"IF(OR(Main!CP83=\"\",Main!CP83=0),NA(),Main!CP83)","v":" "},{"$f":"IF(OR(Main!CQ83=\"\",Main!CQ83=0),NA(),Main!CQ83)","v":" "},{"$f":"IF(OR(Main!CR83=\"\",Main!CR83=0),NA(),Main!CR83)","v":" "},{"$f":"IF(OR(Main!CS83=\"\",Main!CS83=0),NA(),Main!CS83)","v":" "},{"$f":"IF(OR(Main!CT83=\"\",Main!CT83=0),NA(),Main!CT83)","v":" "},{"$f":"IF(OR(Main!CU83=\"\",Main!CU83=0),NA(),Main!CU83)","v":" "},{"$f":"IF(OR(Main!CV83=\"\",Main!CV83=0),NA(),Main!CV83)","v":" "},{"$f":"IF(OR(Main!CW83=\"\",Main!CW83=0),NA(),Main!CW83)","v":" "},{"$f":"IF(OR(Main!CX83=\"\",Main!CX83=0),NA(),Main!CX83)","v":" "},{"$f":"IF(OR(Main!CY83=\"\",Main!CY83=0),NA(),Main!CY83)","v":" "}]
[]
[null,null,"VMA2 (Previous) Orig",{"$f":"IF(OR(Main!D46=\"\",Main!D46=0),NA(),Main!D46)","v":" "},{"$f":"IF(OR(Main!E46=\"\",Main!E46=0),NA(),Main!E46)","v":" "},{"$f":"IF(OR(Main!F46=\"\",Main!F46=0),NA(),Main!F46)","v":" "},{"$f":"IF(OR(Main!G46=\"\",Main!G46=0),NA(),Main!G46)","v":" "},{"$f":"IF(OR(Main!H46=\"\",Main!H46=0),NA(),Main!H46)","v":" "},{"$f":"IF(OR(Main!I46=\"\",Main!I46=0),NA(),Main!I46)","v":" "},{"$f":"IF(OR(Main!J46=\"\",Main!J46=0),NA(),Main!J46)","v":" "},{"$f":"IF(OR(Main!K46=\"\",Main!K46=0),NA(),Main!K46)","v":" "},{"$f":"IF(OR(Main!L46=\"\",Main!L46=0),NA(),Main!L46)","v":" "},{"$f":"IF(OR(Main!M46=\"\",Main!M46=0),NA(),Main!M46)","v":" "},{"$f":"IF(OR(Main!N46=\"\",Main!N46=0),NA(),Main!N46)","v":" "},{"$f":"IF(OR(Main!O46=\"\",Main!O46=0),NA(),Main!O46)","v":" "},{"$f":"IF(OR(Main!P46=\"\",Main!P46=0),NA(),Main!P46)","v":" "},{"$f":"IF(OR(Main!Q46=\"\",Main!Q46=0),NA(),Main!Q46)","v":" "},{"$f":"IF(OR(Main!R46=\"\",Main!R46=0),NA(),Main!R46)","v":" "},{"$f":"IF(OR(Main!S46=\"\",Main!S46=0),NA(),Main!S46)","v":" "},{"$f":"IF(OR(Main!T46=\"\",Main!T46=0),NA(),Main!T46)","v":" "},{"$f":"IF(OR(Main!U46=\"\",Main!U46=0),NA(),Main!U46)","v":" "},{"$f":"IF(OR(Main!V46=\"\",Main!V46=0),NA(),Main!V46)","v":" "},{"$f":"IF(OR(Main!W46=\"\",Main!W46=0),NA(),Main!W46)","v":" "},{"$f":"IF(OR(Main!X46=\"\",Main!X46=0),NA(),Main!X46)","v":" "},{"$f":"IF(OR(Main!Y46=\"\",Main!Y46=0),NA(),Main!Y46)","v":" "},{"$f":"IF(OR(Main!Z46=\"\",Main!Z46=0),NA(),Main!Z46)","v":" "},{"$f":"IF(OR(Main!AA46=\"\",Main!AA46=0),NA(),Main!AA46)","v":" "},{"$f":"IF(OR(Main!AB46=\"\",Main!AB46=0),NA(),Main!AB46)","v":" "},{"$f":"IF(OR(Main!AC46=\"\",Main!AC46=0),NA(),Main!AC46)","v":" "},{"$f":"IF(OR(Main!AD46=\"\",Main!AD46=0),NA(),Main!AD46)","v":" "},{"$f":"IF(OR(Main!AE46=\"\",Main!AE46=0),NA(),Main!AE46)","v":" "},{"$f":"IF(OR(Main!AF46=\"\",Main!AF46=0),NA(),Main!AF46)","v":" "},{"$f":"IF(OR(Main!AG46=\"\",Main!AG46=0),NA(),Main!AG46)","v":" "},{"$f":"IF(OR(Main!AH46=\"\",Main!AH46=0),NA(),Main!AH46)","v":" "},{"$f":"IF(OR(Main!AI46=\"\",Main!AI46=0),NA(),Main!AI46)","v":" "},{"$f":"IF(OR(Main!AJ46=\"\",Main!AJ46=0),NA(),Main!AJ46)","v":" "},{"$f":"IF(OR(Main!AK46=\"\",Main!AK46=0),NA(),Main!AK46)","v":" "},{"$f":"IF(OR(Main!AL46=\"\",Main!AL46=0),NA(),Main!AL46)","v":" "},{"$f":"IF(OR(Main!AM46=\"\",Main!AM46=0),NA(),Main!AM46)","v":" "},{"$f":"IF(OR(Main!AN46=\"\",Main!AN46=0),NA(),Main!AN46)","v":" "},{"$f":"IF(OR(Main!AO46=\"\",Main!AO46=0),NA(),Main!AO46)","v":" "},{"$f":"IF(OR(Main!AP46=\"\",Main!AP46=0),NA(),Main!AP46)","v":" "},{"$f":"IF(OR(Main!AQ46=\"\",Main!AQ46=0),NA(),Main!AQ46)","v":" "},{"$f":"IF(OR(Main!AR46=\"\",Main!AR46=0),NA(),Main!AR46)","v":" "},{"$f":"IF(OR(Main!AS46=\"\",Main!AS46=0),NA(),Main!AS46)","v":" "},{"$f":"IF(OR(Main!AT46=\"\",Main!AT46=0),NA(),Main!AT46)","v":" "},{"$f":"IF(OR(Main!AU46=\"\",Main!AU46=0),NA(),Main!AU46)","v":" "},{"$f":"IF(OR(Main!AV46=\"\",Main!AV46=0),NA(),Main!AV46)","v":" "},{"$f":"IF(OR(Main!AW46=\"\",Main!AW46=0),NA(),Main!AW46)","v":" "},{"$f":"IF(OR(Main!AX46=\"\",Main!AX46=0),NA(),Main!AX46)","v":" "},{"$f":"IF(OR(Main!AY46=\"\",Main!AY46=0),NA(),Main!AY46)","v":" "},{"$f":"IF(OR(Main!AZ46=\"\",Main!AZ46=0),NA(),Main!AZ46)","v":" "},{"$f":"IF(OR(Main!BA46=\"\",Main!BA46=0),NA(),Main!BA46)","v":" "},{"$f":"IF(OR(Main!BB46=\"\",Main!BB46=0),NA(),Main!BB46)","v":" "},{"$f":"IF(OR(Main!BC46=\"\",Main!BC46=0),NA(),Main!BC46)","v":" "},{"$f":"IF(OR(Main!BD46=\"\",Main!BD46=0),NA(),Main!BD46)","v":" "},{"$f":"IF(OR(Main!BE46=\"\",Main!BE46=0),NA(),Main!BE46)","v":" "},{"$f":"IF(OR(Main!BF46=\"\",Main!BF46=0),NA(),Main!BF46)","v":" "},{"$f":"IF(OR(Main!BG46=\"\",Main!BG46=0),NA(),Main!BG46)","v":" "},{"$f":"IF(OR(Main!BH46=\"\",Main!BH46=0),NA(),Main!BH46)","v":" "},{"$f":"IF(OR(Main!BI46=\"\",Main!BI46=0),NA(),Main!BI46)","v":" "},{"$f":"IF(OR(Main!BJ46=\"\",Main!BJ46=0),NA(),Main!BJ46)","v":" "},{"$f":"IF(OR(Main!BK46=\"\",Main!BK46=0),NA(),Main!BK46)","v":" "},{"$f":"IF(OR(Main!BL46=\"\",Main!BL46=0),NA(),Main!BL46)","v":" "},{"$f":"IF(OR(Main!BM46=\"\",Main!BM46=0),NA(),Main!BM46)","v":" "},{"$f":"IF(OR(Main!BN46=\"\",Main!BN46=0),NA(),Main!BN46)","v":" "},{"$f":"IF(OR(Main!BO46=\"\",Main!BO46=0),NA(),Main!BO46)","v":" "},{"$f":"IF(OR(Main!BP46=\"\",Main!BP46=0),NA(),Main!BP46)","v":" "},{"$f":"IF(OR(Main!BQ46=\"\",Main!BQ46=0),NA(),Main!BQ46)","v":" "},{"$f":"IF(OR(Main!BR46=\"\",Main!BR46=0),NA(),Main!BR46)","v":" "},{"$f":"IF(OR(Main!BS46=\"\",Main!BS46=0),NA(),Main!BS46)","v":" "},{"$f":"IF(OR(Main!BT46=\"\",Main!BT46=0),NA(),Main!BT46)","v":" "},{"$f":"IF(OR(Main!BU46=\"\",Main!BU46=0),NA(),Main!BU46)","v":" "},{"$f":"IF(OR(Main!BV46=\"\",Main!BV46=0),NA(),Main!BV46)","v":" "},{"$f":"IF(OR(Main!BW46=\"\",Main!BW46=0),NA(),Main!BW46)","v":" "},{"$f":"IF(OR(Main!BX46=\"\",Main!BX46=0),NA(),Main!BX46)","v":" "},{"$f":"IF(OR(Main!BY46=\"\",Main!BY46=0),NA(),Main!BY46)","v":" "},{"$f":"IF(OR(Main!BZ46=\"\",Main!BZ46=0),NA(),Main!BZ46)","v":" "},{"$f":"IF(OR(Main!CA46=\"\",Main!CA46=0),NA(),Main!CA46)","v":" "},{"$f":"IF(OR(Main!CB46=\"\",Main!CB46=0),NA(),Main!CB46)","v":" "},{"$f":"IF(OR(Main!CC46=\"\",Main!CC46=0),NA(),Main!CC46)","v":" "},{"$f":"IF(OR(Main!CD46=\"\",Main!CD46=0),NA(),Main!CD46)","v":" "},{"$f":"IF(OR(Main!CE46=\"\",Main!CE46=0),NA(),Main!CE46)","v":" "},{"$f":"IF(OR(Main!CF46=\"\",Main!CF46=0),NA(),Main!CF46)","v":" "},{"$f":"IF(OR(Main!CG46=\"\",Main!CG46=0),NA(),Main!CG46)","v":" "},{"$f":"IF(OR(Main!CH46=\"\",Main!CH46=0),NA(),Main!CH46)","v":" "},{"$f":"IF(OR(Main!CI46=\"\",Main!CI46=0),NA(),Main!CI46)","v":" "},{"$f":"IF(OR(Main!CJ46=\"\",Main!CJ46=0),NA(),Main!CJ46)","v":" "},{"$f":"IF(OR(Main!CK46=\"\",Main!CK46=0),NA(),Main!CK46)","v":" "},{"$f":"IF(OR(Main!CL46=\"\",Main!CL46=0),NA(),Main!CL46)","v":" "},{"$f":"IF(OR(Main!CM46=\"\",Main!CM46=0),NA(),Main!CM46)","v":" "},{"$f":"IF(OR(Main!CN46=\"\",Main!CN46=0),NA(),Main!CN46)","v":" "},{"$f":"IF(OR(Main!CO46=\"\",Main!CO46=0),NA(),Main!CO46)","v":" "},{"$f":"IF(OR(Main!CP46=\"\",Main!CP46=0),NA(),Main!CP46)","v":" "},{"$f":"IF(OR(Main!CQ46=\"\",Main!CQ46=0),NA(),Main!CQ46)","v":" "},{"$f":"IF(OR(Main!CR46=\"\",Main!CR46=0),NA(),Main!CR46)","v":" "},{"$f":"IF(OR(Main!CS46=\"\",Main!CS46=0),NA(),Main!CS46)","v":" "},{"$f":"IF(OR(Main!CT46=\"\",Main!CT46=0),NA(),Main!CT46)","v":" "},{"$f":"IF(OR(Main!CU46=\"\",Main!CU46=0),NA(),Main!CU46)","v":" "},{"$f":"IF(OR(Main!CV46=\"\",Main!CV46=0),NA(),Main!CV46)","v":" "},{"$f":"IF(OR(Main!CW46=\"\",Main!CW46=0),NA(),Main!CW46)","v":" "},{"$f":"IF(OR(Main!CX46=\"\",Main!CX46=0),NA(),Main!CX46)","v":" "},{"$f":"IF(OR(Main!CY46=\"\",Main!CY46=0),NA(),Main!CY46)","v":" "}]
[]
[null,null,"VMA2 (Previous) Adj",{"$f":"IF(OR(Main!D91=\"\",Main!D91=0),NA(),Main!D91)","v":" "},{"$f":"IF(OR(Main!E91=\"\",Main!E91=0),NA(),Main!E91)","v":" "},{"$f":"IF(OR(Main!F91=\"\",Main!F91=0),NA(),Main!F91)","v":" "},{"$f":"IF(OR(Main!G91=\"\",Main!G91=0),NA(),Main!G91)","v":" "},{"$f":"IF(OR(Main!H91=\"\",Main!H91=0),NA(),Main!H91)","v":" "},{"$f":"IF(OR(Main!I91=\"\",Main!I91=0),NA(),Main!I91)","v":" "},{"$f":"IF(OR(Main!J91=\"\",Main!J91=0),NA(),Main!J91)","v":" "},{"$f":"IF(OR(Main!K91=\"\",Main!K91=0),NA(),Main!K91)","v":" "},{"$f":"IF(OR(Main!L91=\"\",Main!L91=0),NA(),Main!L91)","v":" "},{"$f":"IF(OR(Main!M91=\"\",Main!M91=0),NA(),Main!M91)","v":" "},{"$f":"IF(OR(Main!N91=\"\",Main!N91=0),NA(),Main!N91)","v":" "},{"$f":"IF(OR(Main!O91=\"\",Main!O91=0),NA(),Main!O91)","v":" "},{"$f":"IF(OR(Main!P91=\"\",Main!P91=0),NA(),Main!P91)","v":" "},{"$f":"IF(OR(Main!Q91=\"\",Main!Q91=0),NA(),Main!Q91)","v":" "},{"$f":"IF(OR(Main!R91=\"\",Main!R91=0),NA(),Main!R91)","v":" "},{"$f":"IF(OR(Main!S91=\"\",Main!S91=0),NA(),Main!S91)","v":" "},{"$f":"IF(OR(Main!T91=\"\",Main!T91=0),NA(),Main!T91)","v":" "},{"$f":"IF(OR(Main!U91=\"\",Main!U91=0),NA(),Main!U91)","v":" "},{"$f":"IF(OR(Main!V91=\"\",Main!V91=0),NA(),Main!V91)","v":" "},{"$f":"IF(OR(Main!W91=\"\",Main!W91=0),NA(),Main!W91)","v":" "},{"$f":"IF(OR(Main!X91=\"\",Main!X91=0),NA(),Main!X91)","v":" "},{"$f":"IF(OR(Main!Y91=\"\",Main!Y91=0),NA(),Main!Y91)","v":" "},{"$f":"IF(OR(Main!Z91=\"\",Main!Z91=0),NA(),Main!Z91)","v":" "},{"$f":"IF(OR(Main!AA91=\"\",Main!AA91=0),NA(),Main!AA91)","v":" "},{"$f":"IF(OR(Main!AB91=\"\",Main!AB91=0),NA(),Main!AB91)","v":" "},{"$f":"IF(OR(Main!AC91=\"\",Main!AC91=0),NA(),Main!AC91)","v":" "},{"$f":"IF(OR(Main!AD91=\"\",Main!AD91=0),NA(),Main!AD91)","v":" "},{"$f":"IF(OR(Main!AE91=\"\",Main!AE91=0),NA(),Main!AE91)","v":" "},{"$f":"IF(OR(Main!AF91=\"\",Main!AF91=0),NA(),Main!AF91)","v":" "},{"$f":"IF(OR(Main!AG91=\"\",Main!AG91=0),NA(),Main!AG91)","v":" "},{"$f":"IF(OR(Main!AH91=\"\",Main!AH91=0),NA(),Main!AH91)","v":" "},{"$f":"IF(OR(Main!AI91=\"\",Main!AI91=0),NA(),Main!AI91)","v":" "},{"$f":"IF(OR(Main!AJ91=\"\",Main!AJ91=0),NA(),Main!AJ91)","v":" "},{"$f":"IF(OR(Main!AK91=\"\",Main!AK91=0),NA(),Main!AK91)","v":" "},{"$f":"IF(OR(Main!AL91=\"\",Main!AL91=0),NA(),Main!AL91)","v":" "},{"$f":"IF(OR(Main!AM91=\"\",Main!AM91=0),NA(),Main!AM91)","v":" "},{"$f":"IF(OR(Main!AN91=\"\",Main!AN91=0),NA(),Main!AN91)","v":" "},{"$f":"IF(OR(Main!AO91=\"\",Main!AO91=0),NA(),Main!AO91)","v":" "},{"$f":"IF(OR(Main!AP91=\"\",Main!AP91=0),NA(),Main!AP91)","v":" "},{"$f":"IF(OR(Main!AQ91=\"\",Main!AQ91=0),NA(),Main!AQ91)","v":" "},{"$f":"IF(OR(Main!AR91=\"\",Main!AR91=0),NA(),Main!AR91)","v":" "},{"$f":"IF(OR(Main!AS91=\"\",Main!AS91=0),NA(),Main!AS91)","v":" "},{"$f":"IF(OR(Main!AT91=\"\",Main!AT91=0),NA(),Main!AT91)","v":" "},{"$f":"IF(OR(Main!AU91=\"\",Main!AU91=0),NA(),Main!AU91)","v":" "},{"$f":"IF(OR(Main!AV91=\"\",Main!AV91=0),NA(),Main!AV91)","v":" "},{"$f":"IF(OR(Main!AW91=\"\",Main!AW91=0),NA(),Main!AW91)","v":" "},{"$f":"IF(OR(Main!AX91=\"\",Main!AX91=0),NA(),Main!AX91)","v":" "},{"$f":"IF(OR(Main!AY91=\"\",Main!AY91=0),NA(),Main!AY91)","v":" "},{"$f":"IF(OR(Main!AZ91=\"\",Main!AZ91=0),NA(),Main!AZ91)","v":" "},{"$f":"IF(OR(Main!BA91=\"\",Main!BA91=0),NA(),Main!BA91)","v":" "},{"$f":"IF(OR(Main!BB91=\"\",Main!BB91=0),NA(),Main!BB91)","v":" "},{"$f":"IF(OR(Main!BC91=\"\",Main!BC91=0),NA(),Main!BC91)","v":" "},{"$f":"IF(OR(Main!BD91=\"\",Main!BD91=0),NA(),Main!BD91)","v":" "},{"$f":"IF(OR(Main!BE91=\"\",Main!BE91=0),NA(),Main!BE91)","v":" "},{"$f":"IF(OR(Main!BF91=\"\",Main!BF91=0),NA(),Main!BF91)","v":" "},{"$f":"IF(OR(Main!BG91=\"\",Main!BG91=0),NA(),Main!BG91)","v":" "},{"$f":"IF(OR(Main!BH91=\"\",Main!BH91=0),NA(),Main!BH91)","v":" "},{"$f":"IF(OR(Main!BI91=\"\",Main!BI91=0),NA(),Main!BI91)","v":" "},{"$f":"IF(OR(Main!BJ91=\"\",Main!BJ91=0),NA(),Main!BJ91)","v":" "},{"$f":"IF(OR(Main!BK91=\"\",Main!BK91=0),NA(),Main!BK91)","v":" "},{"$f":"IF(OR(Main!BL91=\"\",Main!BL91=0),NA(),Main!BL91)","v":" "},{"$f":"IF(OR(Main!BM91=\"\",Main!BM91=0),NA(),Main!BM91)","v":" "},{"$f":"IF(OR(Main!BN91=\"\",Main!BN91=0),NA(),Main!BN91)","v":" "},{"$f":"IF(OR(Main!BO91=\"\",Main!BO91=0),NA(),Main!BO91)","v":" "},{"$f":"IF(OR(Main!BP91=\"\",Main!BP91=0),NA(),Main!BP91)","v":" "},{"$f":"IF(OR(Main!BQ91=\"\",Main!BQ91=0),NA(),Main!BQ91)","v":" "},{"$f":"IF(OR(Main!BR91=\"\",Main!BR91=0),NA(),Main!BR91)","v":" "},{"$f":"IF(OR(Main!BS91=\"\",Main!BS91=0),NA(),Main!BS91)","v":" "},{"$f":"IF(OR(Main!BT91=\"\",Main!BT91=0),NA(),Main!BT91)","v":" "},{"$f":"IF(OR(Main!BU91=\"\",Main!BU91=0),NA(),Main!BU91)","v":" "},{"$f":"IF(OR(Main!BV91=\"\",Main!BV91=0),NA(),Main!BV91)","v":" "},{"$f":"IF(OR(Main!BW91=\"\",Main!BW91=0),NA(),Main!BW91)","v":" "},{"$f":"IF(OR(Main!BX91=\"\",Main!BX91=0),NA(),Main!BX91)","v":" "},{"$f":"IF(OR(Main!BY91=\"\",Main!BY91=0),NA(),Main!BY91)","v":" "},{"$f":"IF(OR(Main!BZ91=\"\",Main!BZ91=0),NA(),Main!BZ91)","v":" "},{"$f":"IF(OR(Main!CA91=\"\",Main!CA91=0),NA(),Main!CA91)","v":" "},{"$f":"IF(OR(Main!CB91=\"\",Main!CB91=0),NA(),Main!CB91)","v":" "},{"$f":"IF(OR(Main!CC91=\"\",Main!CC91=0),NA(),Main!CC91)","v":" "},{"$f":"IF(OR(Main!CD91=\"\",Main!CD91=0),NA(),Main!CD91)","v":" "},{"$f":"IF(OR(Main!CE91=\"\",Main!CE91=0),NA(),Main!CE91)","v":" "},{"$f":"IF(OR(Main!CF91=\"\",Main!CF91=0),NA(),Main!CF91)","v":" "},{"$f":"IF(OR(Main!CG91=\"\",Main!CG91=0),NA(),Main!CG91)","v":" "},{"$f":"IF(OR(Main!CH91=\"\",Main!CH91=0),NA(),Main!CH91)","v":" "},{"$f":"IF(OR(Main!CI91=\"\",Main!CI91=0),NA(),Main!CI91)","v":" "},{"$f":"IF(OR(Main!CJ91=\"\",Main!CJ91=0),NA(),Main!CJ91)","v":" "},{"$f":"IF(OR(Main!CK91=\"\",Main!CK91=0),NA(),Main!CK91)","v":" "},{"$f":"IF(OR(Main!CL91=\"\",Main!CL91=0),NA(),Main!CL91)","v":" "},{"$f":"IF(OR(Main!CM91=\"\",Main!CM91=0),NA(),Main!CM91)","v":" "},{"$f":"IF(OR(Main!CN91=\"\",Main!CN91=0),NA(),Main!CN91)","v":" "},{"$f":"IF(OR(Main!CO91=\"\",Main!CO91=0),NA(),Main!CO91)","v":" "},{"$f":"IF(OR(Main!CP91=\"\",Main!CP91=0),NA(),Main!CP91)","v":" "},{"$f":"IF(OR(Main!CQ91=\"\",Main!CQ91=0),NA(),Main!CQ91)","v":" "},{"$f":"IF(OR(Main!CR91=\"\",Main!CR91=0),NA(),Main!CR91)","v":" "},{"$f":"IF(OR(Main!CS91=\"\",Main!CS91=0),NA(),Main!CS91)","v":" "},{"$f":"IF(OR(Main!CT91=\"\",Main!CT91=0),NA(),Main!CT91)","v":" "},{"$f":"IF(OR(Main!CU91=\"\",Main!CU91=0),NA(),Main!CU91)","v":" "},{"$f":"IF(OR(Main!CV91=\"\",Main!CV91=0),NA(),Main!CV91)","v":" "},{"$f":"IF(OR(Main!CW91=\"\",Main!CW91=0),NA(),Main!CW91)","v":" "},{"$f":"IF(OR(Main!CX91=\"\",Main!CX91=0),NA(),Main!CX91)","v":" "},{"$f":"IF(OR(Main!CY91=\"\",Main!CY91=0),NA(),Main!CY91)","v":" "}]
[]
[null,null,"Voids2 (Previous) Orig",{"$f":"IF(OR(Main!D49=\"\",Main!D49=0),NA(),Main!D49)","v":" "},{"$f":"IF(OR(Main!E49=\"\",Main!E49=0),NA(),Main!E49)","v":" "},{"$f":"IF(OR(Main!F49=\"\",Main!F49=0),NA(),Main!F49)","v":" "},{"$f":"IF(OR(Main!G49=\"\",Main!G49=0),NA(),Main!G49)","v":" "},{"$f":"IF(OR(Main!H49=\"\",Main!H49=0),NA(),Main!H49)","v":" "},{"$f":"IF(OR(Main!I49=\"\",Main!I49=0),NA(),Main!I49)","v":" "},{"$f":"IF(OR(Main!J49=\"\",Main!J49=0),NA(),Main!J49)","v":" "},{"$f":"IF(OR(Main!K49=\"\",Main!K49=0),NA(),Main!K49)","v":" "},{"$f":"IF(OR(Main!L49=\"\",Main!L49=0),NA(),Main!L49)","v":" "},{"$f":"IF(OR(Main!M49=\"\",Main!M49=0),NA(),Main!M49)","v":" "},{"$f":"IF(OR(Main!N49=\"\",Main!N49=0),NA(),Main!N49)","v":" "},{"$f":"IF(OR(Main!O49=\"\",Main!O49=0),NA(),Main!O49)","v":" "},{"$f":"IF(OR(Main!P49=\"\",Main!P49=0),NA(),Main!P49)","v":" "},{"$f":"IF(OR(Main!Q49=\"\",Main!Q49=0),NA(),Main!Q49)","v":" "},{"$f":"IF(OR(Main!R49=\"\",Main!R49=0),NA(),Main!R49)","v":" "},{"$f":"IF(OR(Main!S49=\"\",Main!S49=0),NA(),Main!S49)","v":" "},{"$f":"IF(OR(Main!T49=\"\",Main!T49=0),NA(),Main!T49)","v":" "},{"$f":"IF(OR(Main!U49=\"\",Main!U49=0),NA(),Main!U49)","v":" "},{"$f":"IF(OR(Main!V49=\"\",Main!V49=0),NA(),Main!V49)","v":" "},{"$f":"IF(OR(Main!W49=\"\",Main!W49=0),NA(),Main!W49)","v":" "},{"$f":"IF(OR(Main!X49=\"\",Main!X49=0),NA(),Main!X49)","v":" "},{"$f":"IF(OR(Main!Y49=\"\",Main!Y49=0),NA(),Main!Y49)","v":" "},{"$f":"IF(OR(Main!Z49=\"\",Main!Z49=0),NA(),Main!Z49)","v":" "},{"$f":"IF(OR(Main!AA49=\"\",Main!AA49=0),NA(),Main!AA49)","v":" "},{"$f":"IF(OR(Main!AB49=\"\",Main!AB49=0),NA(),Main!AB49)","v":" "},{"$f":"IF(OR(Main!AC49=\"\",Main!AC49=0),NA(),Main!AC49)","v":" "},{"$f":"IF(OR(Main!AD49=\"\",Main!AD49=0),NA(),Main!AD49)","v":" "},{"$f":"IF(OR(Main!AE49=\"\",Main!AE49=0),NA(),Main!AE49)","v":" "},{"$f":"IF(OR(Main!AF49=\"\",Main!AF49=0),NA(),Main!AF49)","v":" "},{"$f":"IF(OR(Main!AG49=\"\",Main!AG49=0),NA(),Main!AG49)","v":" "},{"$f":"IF(OR(Main!AH49=\"\",Main!AH49=0),NA(),Main!AH49)","v":" "},{"$f":"IF(OR(Main!AI49=\"\",Main!AI49=0),NA(),Main!AI49)","v":" "},{"$f":"IF(OR(Main!AJ49=\"\",Main!AJ49=0),NA(),Main!AJ49)","v":" "},{"$f":"IF(OR(Main!AK49=\"\",Main!AK49=0),NA(),Main!AK49)","v":" "},{"$f":"IF(OR(Main!AL49=\"\",Main!AL49=0),NA(),Main!AL49)","v":" "},{"$f":"IF(OR(Main!AM49=\"\",Main!AM49=0),NA(),Main!AM49)","v":" "},{"$f":"IF(OR(Main!AN49=\"\",Main!AN49=0),NA(),Main!AN49)","v":" "},{"$f":"IF(OR(Main!AO49=\"\",Main!AO49=0),NA(),Main!AO49)","v":" "},{"$f":"IF(OR(Main!AP49=\"\",Main!AP49=0),NA(),Main!AP49)","v":" "},{"$f":"IF(OR(Main!AQ49=\"\",Main!AQ49=0),NA(),Main!AQ49)","v":" "},{"$f":"IF(OR(Main!AR49=\"\",Main!AR49=0),NA(),Main!AR49)","v":" "},{"$f":"IF(OR(Main!AS49=\"\",Main!AS49=0),NA(),Main!AS49)","v":" "},{"$f":"IF(OR(Main!AT49=\"\",Main!AT49=0),NA(),Main!AT49)","v":" "},{"$f":"IF(OR(Main!AU49=\"\",Main!AU49=0),NA(),Main!AU49)","v":" "},{"$f":"IF(OR(Main!AV49=\"\",Main!AV49=0),NA(),Main!AV49)","v":" "},{"$f":"IF(OR(Main!AW49=\"\",Main!AW49=0),NA(),Main!AW49)","v":" "},{"$f":"IF(OR(Main!AX49=\"\",Main!AX49=0),NA(),Main!AX49)","v":" "},{"$f":"IF(OR(Main!AY49=\"\",Main!AY49=0),NA(),Main!AY49)","v":" "},{"$f":"IF(OR(Main!AZ49=\"\",Main!AZ49=0),NA(),Main!AZ49)","v":" "},{"$f":"IF(OR(Main!BA49=\"\",Main!BA49=0),NA(),Main!BA49)","v":" "},{"$f":"IF(OR(Main!BB49=\"\",Main!BB49=0),NA(),Main!BB49)","v":" "},{"$f":"IF(OR(Main!BC49=\"\",Main!BC49=0),NA(),Main!BC49)","v":" "},{"$f":"IF(OR(Main!BD49=\"\",Main!BD49=0),NA(),Main!BD49)","v":" "},{"$f":"IF(OR(Main!BE49=\"\",Main!BE49=0),NA(),Main!BE49)","v":" "},{"$f":"IF(OR(Main!BF49=\"\",Main!BF49=0),NA(),Main!BF49)","v":" "},{"$f":"IF(OR(Main!BG49=\"\",Main!BG49=0),NA(),Main!BG49)","v":" "},{"$f":"IF(OR(Main!BH49=\"\",Main!BH49=0),NA(),Main!BH49)","v":" "},{"$f":"IF(OR(Main!BI49=\"\",Main!BI49=0),NA(),Main!BI49)","v":" "},{"$f":"IF(OR(Main!BJ49=\"\",Main!BJ49=0),NA(),Main!BJ49)","v":" "},{"$f":"IF(OR(Main!BK49=\"\",Main!BK49=0),NA(),Main!BK49)","v":" "},{"$f":"IF(OR(Main!BL49=\"\",Main!BL49=0),NA(),Main!BL49)","v":" "},{"$f":"IF(OR(Main!BM49=\"\",Main!BM49=0),NA(),Main!BM49)","v":" "},{"$f":"IF(OR(Main!BN49=\"\",Main!BN49=0),NA(),Main!BN49)","v":" "},{"$f":"IF(OR(Main!BO49=\"\",Main!BO49=0),NA(),Main!BO49)","v":" "},{"$f":"IF(OR(Main!BP49=\"\",Main!BP49=0),NA(),Main!BP49)","v":" "},{"$f":"IF(OR(Main!BQ49=\"\",Main!BQ49=0),NA(),Main!BQ49)","v":" "},{"$f":"IF(OR(Main!BR49=\"\",Main!BR49=0),NA(),Main!BR49)","v":" "},{"$f":"IF(OR(Main!BS49=\"\",Main!BS49=0),NA(),Main!BS49)","v":" "},{"$f":"IF(OR(Main!BT49=\"\",Main!BT49=0),NA(),Main!BT49)","v":" "},{"$f":"IF(OR(Main!BU49=\"\",Main!BU49=0),NA(),Main!BU49)","v":" "},{"$f":"IF(OR(Main!BV49=\"\",Main!BV49=0),NA(),Main!BV49)","v":" "},{"$f":"IF(OR(Main!BW49=\"\",Main!BW49=0),NA(),Main!BW49)","v":" "},{"$f":"IF(OR(Main!BX49=\"\",Main!BX49=0),NA(),Main!BX49)","v":" "},{"$f":"IF(OR(Main!BY49=\"\",Main!BY49=0),NA(),Main!BY49)","v":" "},{"$f":"IF(OR(Main!BZ49=\"\",Main!BZ49=0),NA(),Main!BZ49)","v":" "},{"$f":"IF(OR(Main!CA49=\"\",Main!CA49=0),NA(),Main!CA49)","v":" "},{"$f":"IF(OR(Main!CB49=\"\",Main!CB49=0),NA(),Main!CB49)","v":" "},{"$f":"IF(OR(Main!CC49=\"\",Main!CC49=0),NA(),Main!CC49)","v":" "},{"$f":"IF(OR(Main!CD49=\"\",Main!CD49=0),NA(),Main!CD49)","v":" "},{"$f":"IF(OR(Main!CE49=\"\",Main!CE49=0),NA(),Main!CE49)","v":" "},{"$f":"IF(OR(Main!CF49=\"\",Main!CF49=0),NA(),Main!CF49)","v":" "},{"$f":"IF(OR(Main!CG49=\"\",Main!CG49=0),NA(),Main!CG49)","v":" "},{"$f":"IF(OR(Main!CH49=\"\",Main!CH49=0),NA(),Main!CH49)","v":" "},{"$f":"IF(OR(Main!CI49=\"\",Main!CI49=0),NA(),Main!CI49)","v":" "},{"$f":"IF(OR(Main!CJ49=\"\",Main!CJ49=0),NA(),Main!CJ49)","v":" "},{"$f":"IF(OR(Main!CK49=\"\",Main!CK49=0),NA(),Main!CK49)","v":" "},{"$f":"IF(OR(Main!CL49=\"\",Main!CL49=0),NA(),Main!CL49)","v":" "},{"$f":"IF(OR(Main!CM49=\"\",Main!CM49=0),NA(),Main!CM49)","v":" "},{"$f":"IF(OR(Main!CN49=\"\",Main!CN49=0),NA(),Main!CN49)","v":" "},{"$f":"IF(OR(Main!CO49=\"\",Main!CO49=0),NA(),Main!CO49)","v":" "},{"$f":"IF(OR(Main!CP49=\"\",Main!CP49=0),NA(),Main!CP49)","v":" "},{"$f":"IF(OR(Main!CQ49=\"\",Main!CQ49=0),NA(),Main!CQ49)","v":" "},{"$f":"IF(OR(Main!CR49=\"\",Main!CR49=0),NA(),Main!CR49)","v":" "},{"$f":"IF(OR(Main!CS49=\"\",Main!CS49=0),NA(),Main!CS49)","v":" "},{"$f":"IF(OR(Main!CT49=\"\",Main!CT49=0),NA(),Main!CT49)","v":" "},{"$f":"IF(OR(Main!CU49=\"\",Main!CU49=0),NA(),Main!CU49)","v":" "},{"$f":"IF(OR(Main!CV49=\"\",Main!CV49=0),NA(),Main!CV49)","v":" "},{"$f":"IF(OR(Main!CW49=\"\",Main!CW49=0),NA(),Main!CW49)","v":" "},{"$f":"IF(OR(Main!CX49=\"\",Main!CX49=0),NA(),Main!CX49)","v":" "},{"$f":"IF(OR(Main!CY49=\"\",Main!CY49=0),NA(),Main!CY49)","v":" "}]
[]
[null,null,"Voids2 (Previous) Adj",{"$f":"IF(OR(Main!D94=\"\",Main!D94=0),NA(),Main!D94)","v":" "},{"$f":"IF(OR(Main!E94=\"\",Main!E94=0),NA(),Main!E94)","v":" "},{"$f":"IF(OR(Main!F94=\"\",Main!F94=0),NA(),Main!F94)","v":" "},{"$f":"IF(OR(Main!G94=\"\",Main!G94=0),NA(),Main!G94)","v":" "},{"$f":"IF(OR(Main!H94=\"\",Main!H94=0),NA(),Main!H94)","v":" "},{"$f":"IF(OR(Main!I94=\"\",Main!I94=0),NA(),Main!I94)","v":" "},{"$f":"IF(OR(Main!J94=\"\",Main!J94=0),NA(),Main!J94)","v":" "},{"$f":"IF(OR(Main!K94=\"\",Main!K94=0),NA(),Main!K94)","v":" "},{"$f":"IF(OR(Main!L94=\"\",Main!L94=0),NA(),Main!L94)","v":" "},{"$f":"IF(OR(Main!M94=\"\",Main!M94=0),NA(),Main!M94)","v":" "},{"$f":"IF(OR(Main!N94=\"\",Main!N94=0),NA(),Main!N94)","v":" "},{"$f":"IF(OR(Main!O94=\"\",Main!O94=0),NA(),Main!O94)","v":" "},{"$f":"IF(OR(Main!P94=\"\",Main!P94=0),NA(),Main!P94)","v":" "},{"$f":"IF(OR(Main!Q94=\"\",Main!Q94=0),NA(),Main!Q94)","v":" "},{"$f":"IF(OR(Main!R94=\"\",Main!R94=0),NA(),Main!R94)","v":" "},{"$f":"IF(OR(Main!S94=\"\",Main!S94=0),NA(),Main!S94)","v":" "},{"$f":"IF(OR(Main!T94=\"\",Main!T94=0),NA(),Main!T94)","v":" "},{"$f":"IF(OR(Main!U94=\"\",Main!U94=0),NA(),Main!U94)","v":" "},{"$f":"IF(OR(Main!V94=\"\",Main!V94=0),NA(),Main!V94)","v":" "},{"$f":"IF(OR(Main!W94=\"\",Main!W94=0),NA(),Main!W94)","v":" "},{"$f":"IF(OR(Main!X94=\"\",Main!X94=0),NA(),Main!X94)","v":" "},{"$f":"IF(OR(Main!Y94=\"\",Main!Y94=0),NA(),Main!Y94)","v":" "},{"$f":"IF(OR(Main!Z94=\"\",Main!Z94=0),NA(),Main!Z94)","v":" "},{"$f":"IF(OR(Main!AA94=\"\",Main!AA94=0),NA(),Main!AA94)","v":" "},{"$f":"IF(OR(Main!AB94=\"\",Main!AB94=0),NA(),Main!AB94)","v":" "},{"$f":"IF(OR(Main!AC94=\"\",Main!AC94=0),NA(),Main!AC94)","v":" "},{"$f":"IF(OR(Main!AD94=\"\",Main!AD94=0),NA(),Main!AD94)","v":" "},{"$f":"IF(OR(Main!AE94=\"\",Main!AE94=0),NA(),Main!AE94)","v":" "},{"$f":"IF(OR(Main!AF94=\"\",Main!AF94=0),NA(),Main!AF94)","v":" "},{"$f":"IF(OR(Main!AG94=\"\",Main!AG94=0),NA(),Main!AG94)","v":" "},{"$f":"IF(OR(Main!AH94=\"\",Main!AH94=0),NA(),Main!AH94)","v":" "},{"$f":"IF(OR(Main!AI94=\"\",Main!AI94=0),NA(),Main!AI94)","v":" "},{"$f":"IF(OR(Main!AJ94=\"\",Main!AJ94=0),NA(),Main!AJ94)","v":" "},{"$f":"IF(OR(Main!AK94=\"\",Main!AK94=0),NA(),Main!AK94)","v":" "},{"$f":"IF(OR(Main!AL94=\"\",Main!AL94=0),NA(),Main!AL94)","v":" "},{"$f":"IF(OR(Main!AM94=\"\",Main!AM94=0),NA(),Main!AM94)","v":" "},{"$f":"IF(OR(Main!AN94=\"\",Main!AN94=0),NA(),Main!AN94)","v":" "},{"$f":"IF(OR(Main!AO94=\"\",Main!AO94=0),NA(),Main!AO94)","v":" "},{"$f":"IF(OR(Main!AP94=\"\",Main!AP94=0),NA(),Main!AP94)","v":" "},{"$f":"IF(OR(Main!AQ94=\"\",Main!AQ94=0),NA(),Main!AQ94)","v":" "},{"$f":"IF(OR(Main!AR94=\"\",Main!AR94=0),NA(),Main!AR94)","v":" "},{"$f":"IF(OR(Main!AS94=\"\",Main!AS94=0),NA(),Main!AS94)","v":" "},{"$f":"IF(OR(Main!AT94=\"\",Main!AT94=0),NA(),Main!AT94)","v":" "},{"$f":"IF(OR(Main!AU94=\"\",Main!AU94=0),NA(),Main!AU94)","v":" "},{"$f":"IF(OR(Main!AV94=\"\",Main!AV94=0),NA(),Main!AV94)","v":" "},{"$f":"IF(OR(Main!AW94=\"\",Main!AW94=0),NA(),Main!AW94)","v":" "},{"$f":"IF(OR(Main!AX94=\"\",Main!AX94=0),NA(),Main!AX94)","v":" "},{"$f":"IF(OR(Main!AY94=\"\",Main!AY94=0),NA(),Main!AY94)","v":" "},{"$f":"IF(OR(Main!AZ94=\"\",Main!AZ94=0),NA(),Main!AZ94)","v":" "},{"$f":"IF(OR(Main!BA94=\"\",Main!BA94=0),NA(),Main!BA94)","v":" "},{"$f":"IF(OR(Main!BB94=\"\",Main!BB94=0),NA(),Main!BB94)","v":" "},{"$f":"IF(OR(Main!BC94=\"\",Main!BC94=0),NA(),Main!BC94)","v":" "},{"$f":"IF(OR(Main!BD94=\"\",Main!BD94=0),NA(),Main!BD94)","v":" "},{"$f":"IF(OR(Main!BE94=\"\",Main!BE94=0),NA(),Main!BE94)","v":" "},{"$f":"IF(OR(Main!BF94=\"\",Main!BF94=0),NA(),Main!BF94)","v":" "},{"$f":"IF(OR(Main!BG94=\"\",Main!BG94=0),NA(),Main!BG94)","v":" "},{"$f":"IF(OR(Main!BH94=\"\",Main!BH94=0),NA(),Main!BH94)","v":" "},{"$f":"IF(OR(Main!BI94=\"\",Main!BI94=0),NA(),Main!BI94)","v":" "},{"$f":"IF(OR(Main!BJ94=\"\",Main!BJ94=0),NA(),Main!BJ94)","v":" "},{"$f":"IF(OR(Main!BK94=\"\",Main!BK94=0),NA(),Main!BK94)","v":" "},{"$f":"IF(OR(Main!BL94=\"\",Main!BL94=0),NA(),Main!BL94)","v":" "},{"$f":"IF(OR(Main!BM94=\"\",Main!BM94=0),NA(),Main!BM94)","v":" "},{"$f":"IF(OR(Main!BN94=\"\",Main!BN94=0),NA(),Main!BN94)","v":" "},{"$f":"IF(OR(Main!BO94=\"\",Main!BO94=0),NA(),Main!BO94)","v":" "},{"$f":"IF(OR(Main!BP94=\"\",Main!BP94=0),NA(),Main!BP94)","v":" "},{"$f":"IF(OR(Main!BQ94=\"\",Main!BQ94=0),NA(),Main!BQ94)","v":" "},{"$f":"IF(OR(Main!BR94=\"\",Main!BR94=0),NA(),Main!BR94)","v":" "},{"$f":"IF(OR(Main!BS94=\"\",Main!BS94=0),NA(),Main!BS94)","v":" "},{"$f":"IF(OR(Main!BT94=\"\",Main!BT94=0),NA(),Main!BT94)","v":" "},{"$f":"IF(OR(Main!BU94=\"\",Main!BU94=0),NA(),Main!BU94)","v":" "},{"$f":"IF(OR(Main!BV94=\"\",Main!BV94=0),NA(),Main!BV94)","v":" "},{"$f":"IF(OR(Main!BW94=\"\",Main!BW94=0),NA(),Main!BW94)","v":" "},{"$f":"IF(OR(Main!BX94=\"\",Main!BX94=0),NA(),Main!BX94)","v":" "},{"$f":"IF(OR(Main!BY94=\"\",Main!BY94=0),NA(),Main!BY94)","v":" "},{"$f":"IF(OR(Main!BZ94=\"\",Main!BZ94=0),NA(),Main!BZ94)","v":" "},{"$f":"IF(OR(Main!CA94=\"\",Main!CA94=0),NA(),Main!CA94)","v":" "},{"$f":"IF(OR(Main!CB94=\"\",Main!CB94=0),NA(),Main!CB94)","v":" "},{"$f":"IF(OR(Main!CC94=\"\",Main!CC94=0),NA(),Main!CC94)","v":" "},{"$f":"IF(OR(Main!CD94=\"\",Main!CD94=0),NA(),Main!CD94)","v":" "},{"$f":"IF(OR(Main!CE94=\"\",Main!CE94=0),NA(),Main!CE94)","v":" "},{"$f":"IF(OR(Main!CF94=\"\",Main!CF94=0),NA(),Main!CF94)","v":" "},{"$f":"IF(OR(Main!CG94=\"\",Main!CG94=0),NA(),Main!CG94)","v":" "},{"$f":"IF(OR(Main!CH94=\"\",Main!CH94=0),NA(),Main!CH94)","v":" "},{"$f":"IF(OR(Main!CI94=\"\",Main!CI94=0),NA(),Main!CI94)","v":" "},{"$f":"IF(OR(Main!CJ94=\"\",Main!CJ94=0),NA(),Main!CJ94)","v":" "},{"$f":"IF(OR(Main!CK94=\"\",Main!CK94=0),NA(),Main!CK94)","v":" "},{"$f":"IF(OR(Main!CL94=\"\",Main!CL94=0),NA(),Main!CL94)","v":" "},{"$f":"IF(OR(Main!CM94=\"\",Main!CM94=0),NA(),Main!CM94)","v":" "},{"$f":"IF(OR(Main!CN94=\"\",Main!CN94=0),NA(),Main!CN94)","v":" "},{"$f":"IF(OR(Main!CO94=\"\",Main!CO94=0),NA(),Main!CO94)","v":" "},{"$f":"IF(OR(Main!CP94=\"\",Main!CP94=0),NA(),Main!CP94)","v":" "},{"$f":"IF(OR(Main!CQ94=\"\",Main!CQ94=0),NA(),Main!CQ94)","v":" "},{"$f":"IF(OR(Main!CR94=\"\",Main!CR94=0),NA(),Main!CR94)","v":" "},{"$f":"IF(OR(Main!CS94=\"\",Main!CS94=0),NA(),Main!CS94)","v":" "},{"$f":"IF(OR(Main!CT94=\"\",Main!CT94=0),NA(),Main!CT94)","v":" "},{"$f":"IF(OR(Main!CU94=\"\",Main!CU94=0),NA(),Main!CU94)","v":" "},{"$f":"IF(OR(Main!CV94=\"\",Main!CV94=0),NA(),Main!CV94)","v":" "},{"$f":"IF(OR(Main!CW94=\"\",Main!CW94=0),NA(),Main!CW94)","v":" "},{"$f":"IF(OR(Main!CX94=\"\",Main!CX94=0),NA(),Main!CX94)","v":" "},{"$f":"IF(OR(Main!CY94=\"\",Main!CY94=0),NA(),Main!CY94)","v":" "}]
[]
[null,null,"Avg Gmb",{"$f":"IF(OR(Main!D55=\"\",Main!D55=0),NA(),Main!D55)","v":" "},{"$f":"IF(OR(Main!E55=\"\",Main!E55=0),NA(),Main!E55)","v":" "},{"$f":"IF(OR(Main!F55=\"\",Main!F55=0),NA(),Main!F55)","v":" "},{"$f":"IF(OR(Main!G55=\"\",Main!G55=0),NA(),Main!G55)","v":" "},{"$f":"IF(OR(Main!H55=\"\",Main!H55=0),NA(),Main!H55)","v":" "},{"$f":"IF(OR(Main!I55=\"\",Main!I55=0),NA(),Main!I55)","v":" "},{"$f":"IF(OR(Main!J55=\"\",Main!J55=0),NA(),Main!J55)","v":" "},{"$f":"IF(OR(Main!K55=\"\",Main!K55=0),NA(),Main!K55)","v":" "},{"$f":"IF(OR(Main!L55=\"\",Main!L55=0),NA(),Main!L55)","v":" "},{"$f":"IF(OR(Main!M55=\"\",Main!M55=0),NA(),Main!M55)","v":" "},{"$f":"IF(OR(Main!N55=\"\",Main!N55=0),NA(),Main!N55)","v":" "},{"$f":"IF(OR(Main!O55=\"\",Main!O55=0),NA(),Main!O55)","v":" "},{"$f":"IF(OR(Main!P55=\"\",Main!P55=0),NA(),Main!P55)","v":" "},{"$f":"IF(OR(Main!Q55=\"\",Main!Q55=0),NA(),Main!Q55)","v":" "},{"$f":"IF(OR(Main!R55=\"\",Main!R55=0),NA(),Main!R55)","v":" "},{"$f":"IF(OR(Main!S55=\"\",Main!S55=0),NA(),Main!S55)","v":" "},{"$f":"IF(OR(Main!T55=\"\",Main!T55=0),NA(),Main!T55)","v":" "},{"$f":"IF(OR(Main!U55=\"\",Main!U55=0),NA(),Main!U55)","v":" "},{"$f":"IF(OR(Main!V55=\"\",Main!V55=0),NA(),Main!V55)","v":" "},{"$f":"IF(OR(Main!W55=\"\",Main!W55=0),NA(),Main!W55)","v":" "},{"$f":"IF(OR(Main!X55=\"\",Main!X55=0),NA(),Main!X55)","v":" "},{"$f":"IF(OR(Main!Y55=\"\",Main!Y55=0),NA(),Main!Y55)","v":" "},{"$f":"IF(OR(Main!Z55=\"\",Main!Z55=0),NA(),Main!Z55)","v":" "},{"$f":"IF(OR(Main!AA55=\"\",Main!AA55=0),NA(),Main!AA55)","v":" "},{"$f":"IF(OR(Main!AB55=\"\",Main!AB55=0),NA(),Main!AB55)","v":" "},{"$f":"IF(OR(Main!AC55=\"\",Main!AC55=0),NA(),Main!AC55)","v":" "},{"$f":"IF(OR(Main!AD55=\"\",Main!AD55=0),NA(),Main!AD55)","v":" "},{"$f":"IF(OR(Main!AE55=\"\",Main!AE55=0),NA(),Main!AE55)","v":" "},{"$f":"IF(OR(Main!AF55=\"\",Main!AF55=0),NA(),Main!AF55)","v":" "},{"$f":"IF(OR(Main!AG55=\"\",Main!AG55=0),NA(),Main!AG55)","v":" "},{"$f":"IF(OR(Main!AH55=\"\",Main!AH55=0),NA(),Main!AH55)","v":" "},{"$f":"IF(OR(Main!AI55=\"\",Main!AI55=0),NA(),Main!AI55)","v":" "},{"$f":"IF(OR(Main!AJ55=\"\",Main!AJ55=0),NA(),Main!AJ55)","v":" "},{"$f":"IF(OR(Main!AK55=\"\",Main!AK55=0),NA(),Main!AK55)","v":" "},{"$f":"IF(OR(Main!AL55=\"\",Main!AL55=0),NA(),Main!AL55)","v":" "},{"$f":"IF(OR(Main!AM55=\"\",Main!AM55=0),NA(),Main!AM55)","v":" "},{"$f":"IF(OR(Main!AN55=\"\",Main!AN55=0),NA(),Main!AN55)","v":" "},{"$f":"IF(OR(Main!AO55=\"\",Main!AO55=0),NA(),Main!AO55)","v":" "},{"$f":"IF(OR(Main!AP55=\"\",Main!AP55=0),NA(),Main!AP55)","v":" "},{"$f":"IF(OR(Main!AQ55=\"\",Main!AQ55=0),NA(),Main!AQ55)","v":" "},{"$f":"IF(OR(Main!AR55=\"\",Main!AR55=0),NA(),Main!AR55)","v":" "},{"$f":"IF(OR(Main!AS55=\"\",Main!AS55=0),NA(),Main!AS55)","v":" "},{"$f":"IF(OR(Main!AT55=\"\",Main!AT55=0),NA(),Main!AT55)","v":" "},{"$f":"IF(OR(Main!AU55=\"\",Main!AU55=0),NA(),Main!AU55)","v":" "},{"$f":"IF(OR(Main!AV55=\"\",Main!AV55=0),NA(),Main!AV55)","v":" "},{"$f":"IF(OR(Main!AW55=\"\",Main!AW55=0),NA(),Main!AW55)","v":" "},{"$f":"IF(OR(Main!AX55=\"\",Main!AX55=0),NA(),Main!AX55)","v":" "},{"$f":"IF(OR(Main!AY55=\"\",Main!AY55=0),NA(),Main!AY55)","v":" "},{"$f":"IF(OR(Main!AZ55=\"\",Main!AZ55=0),NA(),Main!AZ55)","v":" "},{"$f":"IF(OR(Main!BA55=\"\",Main!BA55=0),NA(),Main!BA55)","v":" "},{"$f":"IF(OR(Main!BB55=\"\",Main!BB55=0),NA(),Main!BB55)","v":" "},{"$f":"IF(OR(Main!BC55=\"\",Main!BC55=0),NA(),Main!BC55)","v":" "},{"$f":"IF(OR(Main!BD55=\"\",Main!BD55=0),NA(),Main!BD55)","v":" "},{"$f":"IF(OR(Main!BE55=\"\",Main!BE55=0),NA(),Main!BE55)","v":" "},{"$f":"IF(OR(Main!BF55=\"\",Main!BF55=0),NA(),Main!BF55)","v":" "},{"$f":"IF(OR(Main!BG55=\"\",Main!BG55=0),NA(),Main!BG55)","v":" "},{"$f":"IF(OR(Main!BH55=\"\",Main!BH55=0),NA(),Main!BH55)","v":" "},{"$f":"IF(OR(Main!BI55=\"\",Main!BI55=0),NA(),Main!BI55)","v":" "},{"$f":"IF(OR(Main!BJ55=\"\",Main!BJ55=0),NA(),Main!BJ55)","v":" "},{"$f":"IF(OR(Main!BK55=\"\",Main!BK55=0),NA(),Main!BK55)","v":" "},{"$f":"IF(OR(Main!BL55=\"\",Main!BL55=0),NA(),Main!BL55)","v":" "},{"$f":"IF(OR(Main!BM55=\"\",Main!BM55=0),NA(),Main!BM55)","v":" "},{"$f":"IF(OR(Main!BN55=\"\",Main!BN55=0),NA(),Main!BN55)","v":" "},{"$f":"IF(OR(Main!BO55=\"\",Main!BO55=0),NA(),Main!BO55)","v":" "},{"$f":"IF(OR(Main!BP55=\"\",Main!BP55=0),NA(),Main!BP55)","v":" "},{"$f":"IF(OR(Main!BQ55=\"\",Main!BQ55=0),NA(),Main!BQ55)","v":" "},{"$f":"IF(OR(Main!BR55=\"\",Main!BR55=0),NA(),Main!BR55)","v":" "},{"$f":"IF(OR(Main!BS55=\"\",Main!BS55=0),NA(),Main!BS55)","v":" "},{"$f":"IF(OR(Main!BT55=\"\",Main!BT55=0),NA(),Main!BT55)","v":" "},{"$f":"IF(OR(Main!BU55=\"\",Main!BU55=0),NA(),Main!BU55)","v":" "},{"$f":"IF(OR(Main!BV55=\"\",Main!BV55=0),NA(),Main!BV55)","v":" "},{"$f":"IF(OR(Main!BW55=\"\",Main!BW55=0),NA(),Main!BW55)","v":" "},{"$f":"IF(OR(Main!BX55=\"\",Main!BX55=0),NA(),Main!BX55)","v":" "},{"$f":"IF(OR(Main!BY55=\"\",Main!BY55=0),NA(),Main!BY55)","v":" "},{"$f":"IF(OR(Main!BZ55=\"\",Main!BZ55=0),NA(),Main!BZ55)","v":" "},{"$f":"IF(OR(Main!CA55=\"\",Main!CA55=0),NA(),Main!CA55)","v":" "},{"$f":"IF(OR(Main!CB55=\"\",Main!CB55=0),NA(),Main!CB55)","v":" "},{"$f":"IF(OR(Main!CC55=\"\",Main!CC55=0),NA(),Main!CC55)","v":" "},{"$f":"IF(OR(Main!CD55=\"\",Main!CD55=0),NA(),Main!CD55)","v":" "},{"$f":"IF(OR(Main!CE55=\"\",Main!CE55=0),NA(),Main!CE55)","v":" "},{"$f":"IF(OR(Main!CF55=\"\",Main!CF55=0),NA(),Main!CF55)","v":" "},{"$f":"IF(OR(Main!CG55=\"\",Main!CG55=0),NA(),Main!CG55)","v":" "},{"$f":"IF(OR(Main!CH55=\"\",Main!CH55=0),NA(),Main!CH55)","v":" "},{"$f":"IF(OR(Main!CI55=\"\",Main!CI55=0),NA(),Main!CI55)","v":" "},{"$f":"IF(OR(Main!CJ55=\"\",Main!CJ55=0),NA(),Main!CJ55)","v":" "},{"$f":"IF(OR(Main!CK55=\"\",Main!CK55=0),NA(),Main!CK55)","v":" "},{"$f":"IF(OR(Main!CL55=\"\",Main!CL55=0),NA(),Main!CL55)","v":" "},{"$f":"IF(OR(Main!CM55=\"\",Main!CM55=0),NA(),Main!CM55)","v":" "},{"$f":"IF(OR(Main!CN55=\"\",Main!CN55=0),NA(),Main!CN55)","v":" "},{"$f":"IF(OR(Main!CO55=\"\",Main!CO55=0),NA(),Main!CO55)","v":" "},{"$f":"IF(OR(Main!CP55=\"\",Main!CP55=0),NA(),Main!CP55)","v":" "},{"$f":"IF(OR(Main!CQ55=\"\",Main!CQ55=0),NA(),Main!CQ55)","v":" "},{"$f":"IF(OR(Main!CR55=\"\",Main!CR55=0),NA(),Main!CR55)","v":" "},{"$f":"IF(OR(Main!CS55=\"\",Main!CS55=0),NA(),Main!CS55)","v":" "},{"$f":"IF(OR(Main!CT55=\"\",Main!CT55=0),NA(),Main!CT55)","v":" "},{"$f":"IF(OR(Main!CU55=\"\",Main!CU55=0),NA(),Main!CU55)","v":" "},{"$f":"IF(OR(Main!CV55=\"\",Main!CV55=0),NA(),Main!CV55)","v":" "},{"$f":"IF(OR(Main!CW55=\"\",Main!CW55=0),NA(),Main!CW55)","v":" "},{"$f":"IF(OR(Main!CX55=\"\",Main!CX55=0),NA(),Main!CX55)","v":" "},{"$f":"IF(OR(Main!CY55=\"\",Main!CY55=0),NA(),Main!CY55)","v":" "}]
[]
[null,null,"Avg Gmm",{"$f":"IF(OR(Main!D58=\"\",Main!D58=0),NA(),Main!D58)","v":" "},{"$f":"IF(OR(Main!E58=\"\",Main!E58=0),NA(),Main!E58)","v":" "},{"$f":"IF(OR(Main!F58=\"\",Main!F58=0),NA(),Main!F58)","v":" "},{"$f":"IF(OR(Main!G58=\"\",Main!G58=0),NA(),Main!G58)","v":" "},{"$f":"IF(OR(Main!H58=\"\",Main!H58=0),NA(),Main!H58)","v":" "},{"$f":"IF(OR(Main!I58=\"\",Main!I58=0),NA(),Main!I58)","v":" "},{"$f":"IF(OR(Main!J58=\"\",Main!J58=0),NA(),Main!J58)","v":" "},{"$f":"IF(OR(Main!K58=\"\",Main!K58=0),NA(),Main!K58)","v":" "},{"$f":"IF(OR(Main!L58=\"\",Main!L58=0),NA(),Main!L58)","v":" "},{"$f":"IF(OR(Main!M58=\"\",Main!M58=0),NA(),Main!M58)","v":" "},{"$f":"IF(OR(Main!N58=\"\",Main!N58=0),NA(),Main!N58)","v":" "},{"$f":"IF(OR(Main!O58=\"\",Main!O58=0),NA(),Main!O58)","v":" "},{"$f":"IF(OR(Main!P58=\"\",Main!P58=0),NA(),Main!P58)","v":" "},{"$f":"IF(OR(Main!Q58=\"\",Main!Q58=0),NA(),Main!Q58)","v":" "},{"$f":"IF(OR(Main!R58=\"\",Main!R58=0),NA(),Main!R58)","v":" "},{"$f":"IF(OR(Main!S58=\"\",Main!S58=0),NA(),Main!S58)","v":" "},{"$f":"IF(OR(Main!T58=\"\",Main!T58=0),NA(),Main!T58)","v":" "},{"$f":"IF(OR(Main!U58=\"\",Main!U58=0),NA(),Main!U58)","v":" "},{"$f":"IF(OR(Main!V58=\"\",Main!V58=0),NA(),Main!V58)","v":" "},{"$f":"IF(OR(Main!W58=\"\",Main!W58=0),NA(),Main!W58)","v":" "},{"$f":"IF(OR(Main!X58=\"\",Main!X58=0),NA(),Main!X58)","v":" "},{"$f":"IF(OR(Main!Y58=\"\",Main!Y58=0),NA(),Main!Y58)","v":" "},{"$f":"IF(OR(Main!Z58=\"\",Main!Z58=0),NA(),Main!Z58)","v":" "},{"$f":"IF(OR(Main!AA58=\"\",Main!AA58=0),NA(),Main!AA58)","v":" "},{"$f":"IF(OR(Main!AB58=\"\",Main!AB58=0),NA(),Main!AB58)","v":" "},{"$f":"IF(OR(Main!AC58=\"\",Main!AC58=0),NA(),Main!AC58)","v":" "},{"$f":"IF(OR(Main!AD58=\"\",Main!AD58=0),NA(),Main!AD58)","v":" "},{"$f":"IF(OR(Main!AE58=\"\",Main!AE58=0),NA(),Main!AE58)","v":" "},{"$f":"IF(OR(Main!AF58=\"\",Main!AF58=0),NA(),Main!AF58)","v":" "},{"$f":"IF(OR(Main!AG58=\"\",Main!AG58=0),NA(),Main!AG58)","v":" "},{"$f":"IF(OR(Main!AH58=\"\",Main!AH58=0),NA(),Main!AH58)","v":" "},{"$f":"IF(OR(Main!AI58=\"\",Main!AI58=0),NA(),Main!AI58)","v":" "},{"$f":"IF(OR(Main!AJ58=\"\",Main!AJ58=0),NA(),Main!AJ58)","v":" "},{"$f":"IF(OR(Main!AK58=\"\",Main!AK58=0),NA(),Main!AK58)","v":" "},{"$f":"IF(OR(Main!AL58=\"\",Main!AL58=0),NA(),Main!AL58)","v":" "},{"$f":"IF(OR(Main!AM58=\"\",Main!AM58=0),NA(),Main!AM58)","v":" "},{"$f":"IF(OR(Main!AN58=\"\",Main!AN58=0),NA(),Main!AN58)","v":" "},{"$f":"IF(OR(Main!AO58=\"\",Main!AO58=0),NA(),Main!AO58)","v":" "},{"$f":"IF(OR(Main!AP58=\"\",Main!AP58=0),NA(),Main!AP58)","v":" "},{"$f":"IF(OR(Main!AQ58=\"\",Main!AQ58=0),NA(),Main!AQ58)","v":" "},{"$f":"IF(OR(Main!AR58=\"\",Main!AR58=0),NA(),Main!AR58)","v":" "},{"$f":"IF(OR(Main!AS58=\"\",Main!AS58=0),NA(),Main!AS58)","v":" "},{"$f":"IF(OR(Main!AT58=\"\",Main!AT58=0),NA(),Main!AT58)","v":" "},{"$f":"IF(OR(Main!AU58=\"\",Main!AU58=0),NA(),Main!AU58)","v":" "},{"$f":"IF(OR(Main!AV58=\"\",Main!AV58=0),NA(),Main!AV58)","v":" "},{"$f":"IF(OR(Main!AW58=\"\",Main!AW58=0),NA(),Main!AW58)","v":" "},{"$f":"IF(OR(Main!AX58=\"\",Main!AX58=0),NA(),Main!AX58)","v":" "},{"$f":"IF(OR(Main!AY58=\"\",Main!AY58=0),NA(),Main!AY58)","v":" "},{"$f":"IF(OR(Main!AZ58=\"\",Main!AZ58=0),NA(),Main!AZ58)","v":" "},{"$f":"IF(OR(Main!BA58=\"\",Main!BA58=0),NA(),Main!BA58)","v":" "},{"$f":"IF(OR(Main!BB58=\"\",Main!BB58=0),NA(),Main!BB58)","v":" "},{"$f":"IF(OR(Main!BC58=\"\",Main!BC58=0),NA(),Main!BC58)","v":" "},{"$f":"IF(OR(Main!BD58=\"\",Main!BD58=0),NA(),Main!BD58)","v":" "},{"$f":"IF(OR(Main!BE58=\"\",Main!BE58=0),NA(),Main!BE58)","v":" "},{"$f":"IF(OR(Main!BF58=\"\",Main!BF58=0),NA(),Main!BF58)","v":" "},{"$f":"IF(OR(Main!BG58=\"\",Main!BG58=0),NA(),Main!BG58)","v":" "},{"$f":"IF(OR(Main!BH58=\"\",Main!BH58=0),NA(),Main!BH58)","v":" "},{"$f":"IF(OR(Main!BI58=\"\",Main!BI58=0),NA(),Main!BI58)","v":" "},{"$f":"IF(OR(Main!BJ58=\"\",Main!BJ58=0),NA(),Main!BJ58)","v":" "},{"$f":"IF(OR(Main!BK58=\"\",Main!BK58=0),NA(),Main!BK58)","v":" "},{"$f":"IF(OR(Main!BL58=\"\",Main!BL58=0),NA(),Main!BL58)","v":" "},{"$f":"IF(OR(Main!BM58=\"\",Main!BM58=0),NA(),Main!BM58)","v":" "},{"$f":"IF(OR(Main!BN58=\"\",Main!BN58=0),NA(),Main!BN58)","v":" "},{"$f":"IF(OR(Main!BO58=\"\",Main!BO58=0),NA(),Main!BO58)","v":" "},{"$f":"IF(OR(Main!BP58=\"\",Main!BP58=0),NA(),Main!BP58)","v":" "},{"$f":"IF(OR(Main!BQ58=\"\",Main!BQ58=0),NA(),Main!BQ58)","v":" "},{"$f":"IF(OR(Main!BR58=\"\",Main!BR58=0),NA(),Main!BR58)","v":" "},{"$f":"IF(OR(Main!BS58=\"\",Main!BS58=0),NA(),Main!BS58)","v":" "},{"$f":"IF(OR(Main!BT58=\"\",Main!BT58=0),NA(),Main!BT58)","v":" "},{"$f":"IF(OR(Main!BU58=\"\",Main!BU58=0),NA(),Main!BU58)","v":" "},{"$f":"IF(OR(Main!BV58=\"\",Main!BV58=0),NA(),Main!BV58)","v":" "},{"$f":"IF(OR(Main!BW58=\"\",Main!BW58=0),NA(),Main!BW58)","v":" "},{"$f":"IF(OR(Main!BX58=\"\",Main!BX58=0),NA(),Main!BX58)","v":" "},{"$f":"IF(OR(Main!BY58=\"\",Main!BY58=0),NA(),Main!BY58)","v":" "},{"$f":"IF(OR(Main!BZ58=\"\",Main!BZ58=0),NA(),Main!BZ58)","v":" "},{"$f":"IF(OR(Main!CA58=\"\",Main!CA58=0),NA(),Main!CA58)","v":" "},{"$f":"IF(OR(Main!CB58=\"\",Main!CB58=0),NA(),Main!CB58)","v":" "},{"$f":"IF(OR(Main!CC58=\"\",Main!CC58=0),NA(),Main!CC58)","v":" "},{"$f":"IF(OR(Main!CD58=\"\",Main!CD58=0),NA(),Main!CD58)","v":" "},{"$f":"IF(OR(Main!CE58=\"\",Main!CE58=0),NA(),Main!CE58)","v":" "},{"$f":"IF(OR(Main!CF58=\"\",Main!CF58=0),NA(),Main!CF58)","v":" "},{"$f":"IF(OR(Main!CG58=\"\",Main!CG58=0),NA(),Main!CG58)","v":" "},{"$f":"IF(OR(Main!CH58=\"\",Main!CH58=0),NA(),Main!CH58)","v":" "},{"$f":"IF(OR(Main!CI58=\"\",Main!CI58=0),NA(),Main!CI58)","v":" "},{"$f":"IF(OR(Main!CJ58=\"\",Main!CJ58=0),NA(),Main!CJ58)","v":" "},{"$f":"IF(OR(Main!CK58=\"\",Main!CK58=0),NA(),Main!CK58)","v":" "},{"$f":"IF(OR(Main!CL58=\"\",Main!CL58=0),NA(),Main!CL58)","v":" "},{"$f":"IF(OR(Main!CM58=\"\",Main!CM58=0),NA(),Main!CM58)","v":" "},{"$f":"IF(OR(Main!CN58=\"\",Main!CN58=0),NA(),Main!CN58)","v":" "},{"$f":"IF(OR(Main!CO58=\"\",Main!CO58=0),NA(),Main!CO58)","v":" "},{"$f":"IF(OR(Main!CP58=\"\",Main!CP58=0),NA(),Main!CP58)","v":" "},{"$f":"IF(OR(Main!CQ58=\"\",Main!CQ58=0),NA(),Main!CQ58)","v":" "},{"$f":"IF(OR(Main!CR58=\"\",Main!CR58=0),NA(),Main!CR58)","v":" "},{"$f":"IF(OR(Main!CS58=\"\",Main!CS58=0),NA(),Main!CS58)","v":" "},{"$f":"IF(OR(Main!CT58=\"\",Main!CT58=0),NA(),Main!CT58)","v":" "},{"$f":"IF(OR(Main!CU58=\"\",Main!CU58=0),NA(),Main!CU58)","v":" "},{"$f":"IF(OR(Main!CV58=\"\",Main!CV58=0),NA(),Main!CV58)","v":" "},{"$f":"IF(OR(Main!CW58=\"\",Main!CW58=0),NA(),Main!CW58)","v":" "},{"$f":"IF(OR(Main!CX58=\"\",Main!CX58=0),NA(),Main!CX58)","v":" "},{"$f":"IF(OR(Main!CY58=\"\",Main!CY58=0),NA(),Main!CY58)","v":" "}]
[]
[null,null,"Gse",{"$f":"IF(OR(Main!D61=\"\",Main!D61=0),NA(),Main!D61)","v":{"$error":"#N/A"}},{"$f":"IF(OR(Main!E61=\"\",Main!E61=0),NA(),Main!E61)","v":{"$error":"#N/A"}},{"$f":"IF(OR(Main!F61=\"\",Main!F61=0),NA(),Main!F61)","v":{"$error":"#N/A"}},{"$f":"IF(OR(Main!G61=\"\",Main!G61=0),NA(),Main!G61)","v":{"$error":"#N/A"}},{"$f":"IF(OR(Main!H61=\"\",Main!H61=0),NA(),Main!H61)","v":{"$error":"#N/A"}},{"$f":"IF(OR(Main!I61=\"\",Main!I61=0),NA(),Main!I61)","v":{"$error":"#N/A"}},{"$f":"IF(OR(Main!J61=\"\",Main!J61=0),NA(),Main!J61)","v":{"$error":"#N/A"}},{"$f":"IF(OR(Main!K61=\"\",Main!K61=0),NA(),Main!K61)","v":{"$error":"#N/A"}},{"$f":"IF(OR(Main!L61=\"\",Main!L61=0),NA(),Main!L61)","v":{"$error":"#N/A"}},{"$f":"IF(OR(Main!M61=\"\",Main!M61=0),NA(),Main!M61)","v":{"$error":"#N/A"}},{"$f":"IF(OR(Main!N61=\"\",Main!N61=0),NA(),Main!N61)","v":{"$error":"#N/A"}},{"$f":"IF(OR(Main!O61=\"\",Main!O61=0),NA(),Main!O61)","v":{"$error":"#N/A"}},{"$f":"IF(OR(Main!P61=\"\",Main!P61=0),NA(),Main!P61)","v":{"$error":"#N/A"}},{"$f":"IF(OR(Main!Q61=\"\",Main!Q61=0),NA(),Main!Q61)","v":{"$error":"#N/A"}},{"$f":"IF(OR(Main!R61=\"\",Main!R61=0),NA(),Main!R61)","v":{"$error":"#N/A"}},{"$f":"IF(OR(Main!S61=\"\",Main!S61=0),NA(),Main!S61)","v":{"$error":"#N/A"}},{"$f":"IF(OR(Main!T61=\"\",Main!T61=0),NA(),Main!T61)","v":{"$error":"#N/A"}},{"$f":"IF(OR(Main!U61=\"\",Main!U61=0),NA(),Main!U61)","v":{"$error":"#N/A"}},{"$f":"IF(OR(Main!V61=\"\",Main!V61=0),NA(),Main!V61)","v":{"$error":"#N/A"}},{"$f":"IF(OR(Main!W61=\"\",Main!W61=0),NA(),Main!W61)","v":{"$error":"#N/A"}},{"$f":"IF(OR(Main!X61=\"\",Main!X61=0),NA(),Main!X61)","v":{"$error":"#N/A"}},{"$f":"IF(OR(Main!Y61=\"\",Main!Y61=0),NA(),Main!Y61)","v":{"$error":"#N/A"}},{"$f":"IF(OR(Main!Z61=\"\",Main!Z61=0),NA(),Main!Z61)","v":{"$error":"#N/A"}},{"$f":"IF(OR(Main!AA61=\"\",Main!AA61=0),NA(),Main!AA61)","v":{"$error":"#N/A"}},{"$f":"IF(OR(Main!AB61=\"\",Main!AB61=0),NA(),Main!AB61)","v":{"$error":"#N/A"}},{"$f":"IF(OR(Main!AC61=\"\",Main!AC61=0),NA(),Main!AC61)","v":{"$error":"#N/A"}},{"$f":"IF(OR(Main!AD61=\"\",Main!AD61=0),NA(),Main!AD61)","v":{"$error":"#N/A"}},{"$f":"IF(OR(Main!AE61=\"\",Main!AE61=0),NA(),Main!AE61)","v":{"$error":"#N/A"}},{"$f":"IF(OR(Main!AF61=\"\",Main!AF61=0),NA(),Main!AF61)","v":{"$error":"#N/A"}},{"$f":"IF(OR(Main!AG61=\"\",Main!AG61=0),NA(),Main!AG61)","v":{"$error":"#N/A"}},{"$f":"IF(OR(Main!AH61=\"\",Main!AH61=0),NA(),Main!AH61)","v":{"$error":"#N/A"}},{"$f":"IF(OR(Main!AI61=\"\",Main!AI61=0),NA(),Main!AI61)","v":{"$error":"#N/A"}},{"$f":"IF(OR(Main!AJ61=\"\",Main!AJ61=0),NA(),Main!AJ61)","v":{"$error":"#N/A"}},{"$f":"IF(OR(Main!AK61=\"\",Main!AK61=0),NA(),Main!AK61)","v":{"$error":"#N/A"}},{"$f":"IF(OR(Main!AL61=\"\",Main!AL61=0),NA(),Main!AL61)","v":{"$error":"#N/A"}},{"$f":"IF(OR(Main!AM61=\"\",Main!AM61=0),NA(),Main!AM61)","v":{"$error":"#N/A"}},{"$f":"IF(OR(Main!AN61=\"\",Main!AN61=0),NA(),Main!AN61)","v":{"$error":"#N/A"}},{"$f":"IF(OR(Main!AO61=\"\",Main!AO61=0),NA(),Main!AO61)","v":{"$error":"#N/A"}},{"$f":"IF(OR(Main!AP61=\"\",Main!AP61=0),NA(),Main!AP61)","v":{"$error":"#N/A"}},{"$f":"IF(OR(Main!AQ61=\"\",Main!AQ61=0),NA(),Main!AQ61)","v":{"$error":"#N/A"}},{"$f":"IF(OR(Main!AR61=\"\",Main!AR61=0),NA(),Main!AR61)","v":{"$error":"#N/A"}},{"$f":"IF(OR(Main!AS61=\"\",Main!AS61=0),NA(),Main!AS61)","v":{"$error":"#N/A"}},{"$f":"IF(OR(Main!AT61=\"\",Main!AT61=0),NA(),Main!AT61)","v":{"$error":"#N/A"}},{"$f":"IF(OR(Main!AU61=\"\",Main!AU61=0),NA(),Main!AU61)","v":{"$error":"#N/A"}},{"$f":"IF(OR(Main!AV61=\"\",Main!AV61=0),NA(),Main!AV61)","v":{"$error":"#N/A"}},{"$f":"IF(OR(Main!AW61=\"\",Main!AW61=0),NA(),Main!AW61)","v":{"$error":"#N/A"}},{"$f":"IF(OR(Main!AX61=\"\",Main!AX61=0),NA(),Main!AX61)","v":{"$error":"#N/A"}},{"$f":"IF(OR(Main!AY61=\"\",Main!AY61=0),NA(),Main!AY61)","v":{"$error":"#N/A"}},{"$f":"IF(OR(Main!AZ61=\"\",Main!AZ61=0),NA(),Main!AZ61)","v":{"$error":"#N/A"}},{"$f":"IF(OR(Main!BA61=\"\",Main!BA61=0),NA(),Main!BA61)","v":{"$error":"#N/A"}},{"$f":"IF(OR(Main!BB61=\"\",Main!BB61=0),NA(),Main!BB61)","v":{"$error":"#N/A"}},{"$f":"IF(OR(Main!BC61=\"\",Main!BC61=0),NA(),Main!BC61)","v":{"$error":"#N/A"}},{"$f":"IF(OR(Main!BD61=\"\",Main!BD61=0),NA(),Main!BD61)","v":{"$error":"#N/A"}},{"$f":"IF(OR(Main!BE61=\"\",Main!BE61=0),NA(),Main!BE61)","v":{"$error":"#N/A"}},{"$f":"IF(OR(Main!BF61=\"\",Main!BF61=0),NA(),Main!BF61)","v":{"$error":"#N/A"}},{"$f":"IF(OR(Main!BG61=\"\",Main!BG61=0),NA(),Main!BG61)","v":{"$error":"#N/A"}},{"$f":"IF(OR(Main!BH61=\"\",Main!BH61=0),NA(),Main!BH61)","v":{"$error":"#N/A"}},{"$f":"IF(OR(Main!BI61=\"\",Main!BI61=0),NA(),Main!BI61)","v":{"$error":"#N/A"}},{"$f":"IF(OR(Main!BJ61=\"\",Main!BJ61=0),NA(),Main!BJ61)","v":{"$error":"#N/A"}},{"$f":"IF(OR(Main!BK61=\"\",Main!BK61=0),NA(),Main!BK61)","v":{"$error":"#N/A"}},{"$f":"IF(OR(Main!BL61=\"\",Main!BL61=0),NA(),Main!BL61)","v":{"$error":"#N/A"}},{"$f":"IF(OR(Main!BM61=\"\",Main!BM61=0),NA(),Main!BM61)","v":{"$error":"#N/A"}},{"$f":"IF(OR(Main!BN61=\"\",Main!BN61=0),NA(),Main!BN61)","v":{"$error":"#N/A"}},{"$f":"IF(OR(Main!BO61=\"\",Main!BO61=0),NA(),Main!BO61)","v":{"$error":"#N/A"}},{"$f":"IF(OR(Main!BP61=\"\",Main!BP61=0),NA(),Main!BP61)","v":{"$error":"#N/A"}},{"$f":"IF(OR(Main!BQ61=\"\",Main!BQ61=0),NA(),Main!BQ61)","v":{"$error":"#N/A"}},{"$f":"IF(OR(Main!BR61=\"\",Main!BR61=0),NA(),Main!BR61)","v":{"$error":"#N/A"}},{"$f":"IF(OR(Main!BS61=\"\",Main!BS61=0),NA(),Main!BS61)","v":{"$error":"#N/A"}},{"$f":"IF(OR(Main!BT61=\"\",Main!BT61=0),NA(),Main!BT61)","v":{"$error":"#N/A"}},{"$f":"IF(OR(Main!BU61=\"\",Main!BU61=0),NA(),Main!BU61)","v":{"$error":"#N/A"}},{"$f":"IF(OR(Main!BV61=\"\",Main!BV61=0),NA(),Main!BV61)","v":{"$error":"#N/A"}},{"$f":"IF(OR(Main!BW61=\"\",Main!BW61=0),NA(),Main!BW61)","v":{"$error":"#N/A"}},{"$f":"IF(OR(Main!BX61=\"\",Main!BX61=0),NA(),Main!BX61)","v":{"$error":"#N/A"}},{"$f":"IF(OR(Main!BY61=\"\",Main!BY61=0),NA(),Main!BY61)","v":{"$error":"#N/A"}},{"$f":"IF(OR(Main!BZ61=\"\",Main!BZ61=0),NA(),Main!BZ61)","v":{"$error":"#N/A"}},{"$f":"IF(OR(Main!CA61=\"\",Main!CA61=0),NA(),Main!CA61)","v":{"$error":"#N/A"}},{"$f":"IF(OR(Main!CB61=\"\",Main!CB61=0),NA(),Main!CB61)","v":{"$error":"#N/A"}},{"$f":"IF(OR(Main!CC61=\"\",Main!CC61=0),NA(),Main!CC61)","v":{"$error":"#N/A"}},{"$f":"IF(OR(Main!CD61=\"\",Main!CD61=0),NA(),Main!CD61)","v":{"$error":"#N/A"}},{"$f":"IF(OR(Main!CE61=\"\",Main!CE61=0),NA(),Main!CE61)","v":{"$error":"#N/A"}},{"$f":"IF(OR(Main!CF61=\"\",Main!CF61=0),NA(),Main!CF61)","v":{"$error":"#N/A"}},{"$f":"IF(OR(Main!CG61=\"\",Main!CG61=0),NA(),Main!CG61)","v":{"$error":"#N/A"}},{"$f":"IF(OR(Main!CH61=\"\",Main!CH61=0),NA(),Main!CH61)","v":{"$error":"#N/A"}},{"$f":"IF(OR(Main!CI61=\"\",Main!CI61=0),NA(),Main!CI61)","v":{"$error":"#N/A"}},{"$f":"IF(OR(Main!CJ61=\"\",Main!CJ61=0),NA(),Main!CJ61)","v":{"$error":"#N/A"}},{"$f":"IF(OR(Main!CK61=\"\",Main!CK61=0),NA(),Main!CK61)","v":{"$error":"#N/A"}},{"$f":"IF(OR(Main!CL61=\"\",Main!CL61=0),NA(),Main!CL61)","v":{"$error":"#N/A"}},{"$f":"IF(OR(Main!CM61=\"\",Main!CM61=0),NA(),Main!CM61)","v":{"$error":"#N/A"}},{"$f":"IF(OR(Main!CN61=\"\",Main!CN61=0),NA(),Main!CN61)","v":{"$error":"#N/A"}},{"$f":"IF(OR(Main!CO61=\"\",Main!CO61=0),NA(),Main!CO61)","v":{"$error":"#N/A"}},{"$f":"IF(OR(Main!CP61=\"\",Main!CP61=0),NA(),Main!CP61)","v":{"$error":"#N/A"}},{"$f":"IF(OR(Main!CQ61=\"\",Main!CQ61=0),NA(),Main!CQ61)","v":{"$error":"#N/A"}},{"$f":"IF(OR(Main!CR61=\"\",Main!CR61=0),NA(),Main!CR61)","v":{"$error":"#N/A"}},{"$f":"IF(OR(Main!CS61=\"\",Main!CS61=0),NA(),Main!CS61)","v":{"$error":"#N/A"}},{"$f":"IF(OR(Main!CT61=\"\",Main!CT61=0),NA(),Main!CT61)","v":{"$error":"#N/A"}},{"$f":"IF(OR(Main!CU61=\"\",Main!CU61=0),NA(),Main!CU61)","v":{"$error":"#N/A"}},{"$f":"IF(OR(Main!CV61=\"\",Main!CV61=0),NA(),Main!CV61)","v":{"$error":"#N/A"}},{"$f":"IF(OR(Main!CW61=\"\",Main!CW61=0),NA(),Main!CW61)","v":{"$error":"#N/A"}},{"$f":"IF(OR(Main!CX61=\"\",Main!CX61=0),NA(),Main!CX61)","v":{"$error":"#N/A"}},{"$f":"IF(OR(Main!CY61=\"\",Main!CY61=0),NA(),Main!CY61)","v":{"$error":"#N/A"}}]