{"text_format":"1","workbook":"xlsx","n_sheets":2,"sheets":["DataEntry","Summary"],"not_rendered":{"charts":0,"images":1,"macros":1,"external_links":0,"defined_names":2,"comments":0,"pivot_tables":0},"unopened":[],"bounds":{"document_bytes":16777216,"sheet_cells":100000,"rows_first":2000,"rows_last":500,"rows_between":2000,"halvings":0,"cell_chars":16384,"cell_head_chars":4096},"cells_cut":0,"cells_raw":0,"read":"whole","date_system":"1900"}

{"sheet":"DataEntry","index":0,"n_rows":19,"n_cols":11,"rows_kept":19,"cut":false,"hidden":false,"merged":[]}
["Positive/Close Contact","Name","Platoon","Symptoms onset Date","Last Exposure to Positive","Test Date","Test Results","48 hour dates of Close Contacts","Close Department Contact Names","Date start isolation","14 day return to work "]
[null,"Marcelle Velve","Alpha","2020-10-26",null,"2020-10-28","Positive",null,"Michelle Graham Smith","2020-09-28",{"$f":"J2+14","v":"2020-10-12"}]
[null,"Marcelle Velve","Alpha","2020-10-27",null,"2020-10-29","Positive",null,"Michelle Graham Smith","2020-09-29",{"$f":"J3+14","v":"2020-10-13"}]
[null,"Marcelle Velve","Alpha","2020-10-28",null,"2020-10-30","Positive",null,"Michelle Graham Smith","2020-09-30","2020-10-14"]
[null,"Marcelle Velve","Alpha","2020-10-29",null,"2020-10-31","Positive",null,"Michelle Graham Smith","2020-10-01","2020-10-15"]
[null,"Marcelle Velve","Alpha","2020-10-30",null,"2020-11-01","Positive",null,"Michelle Graham Smith","2020-10-02","2020-10-16"]
[null,"Marcelle Velve","Alpha","2020-10-31",null,"2020-11-02","Positive",null,"Michelle Graham Smith","2020-11-02","2020-11-16"]
[null,"Marcelle Velve","Alpha","2020-11-01",null,"2020-11-03","Positive",null,"Michelle Graham Smith","2020-11-03","2020-11-17"]
[null,"Marcelle Velve","Alpha","2020-11-02",null,"2020-11-04","Positive",null,"Michelle Graham Smith","2020-11-04","2020-11-18"]
[null,"Marcelle Velve","Alpha","2020-11-03",null,"2020-11-05",null,null,"Michelle Graham Smith","2020-11-05","2020-11-19"]
[null,null,null,"2020-11-04",null,"2020-11-06",null,null,"Michelle Graham Smith","2020-11-06","2020-11-20"]
[null,null,null,"2020-11-05",null,"2020-11-07",null,null,"Michelle Graham Smith","2020-11-07","2020-11-21"]
[null,null,null,"2020-11-06",null,"2020-11-08",null,null,"Michelle Graham Smith","2020-11-08","2020-11-22"]
[null,null,null,"2020-11-07",null,"2020-11-09",null,null,"Michelle Graham Smith","2020-11-09","2020-11-23"]
[null,null,null,"2020-11-08",null,"2020-11-10",null,null,"Michelle Graham Smith","2020-11-10","2020-11-24"]
[null,null,null,"2020-11-09",null,"2020-11-11",null,null,null,"2020-11-11","2020-11-25"]
[null,null,null,"2020-11-10",null,"2020-11-12",null,null,null,"2020-11-12","2020-11-26"]
[null,null,null,"2020-11-11",null,"2020-11-13",null,null,null,"2020-11-13","2020-11-27"]
["Karen Smith","Karen Smith","Delta","2020-11-12",null,"2020-11-14",null,null,null,"2020-11-14","2020-11-28"]

{"sheet":"Summary","index":1,"n_rows":49,"n_cols":6,"rows_kept":49,"cut":false,"hidden":false,"merged":[[0,7,0,8]]}
[{"$f":"DataEntry!B1","v":"Name"},{"$f":"DataEntry!C1","v":"Platoon"},{"$f":"DataEntry!D1","v":"Symptoms onset Date"},{"$f":"DataEntry!F1","v":"Test Date"},{"$f":"DataEntry!G1","v":"Test Results"},{"$f":"DataEntry!K1","v":"14 day return to work "}]
[{"$f":"DataEntry!B2","v":"Marcelle Velve"},{"$f":"DataEntry!C2","v":"Alpha"},{"$f":"DataEntry!D2","v":"2020-10-26"},{"$f":"DataEntry!F2","v":"2020-10-28"},{"$f":"DataEntry!G2","v":"Positive"},{"$f":"DataEntry!K2","v":"2020-10-12"}]
[{"$f":"DataEntry!B3","v":"Marcelle Velve"},{"$f":"DataEntry!C3","v":"Alpha"},{"$f":"DataEntry!D3","v":"2020-10-27"},{"$f":"DataEntry!F3","v":"2020-10-29"},{"$f":"DataEntry!G3","v":"Positive"},{"$f":"DataEntry!K3","v":"2020-10-13"}]
[{"$f":"DataEntry!B4","v":"Marcelle Velve"},{"$f":"DataEntry!C4","v":"Alpha"},{"$f":"DataEntry!D4","v":"2020-10-28"},{"$f":"DataEntry!F4","v":"2020-10-30"},{"$f":"DataEntry!G4","v":"Positive"},{"$f":"DataEntry!K4","v":"2020-10-14"}]
[{"$f":"DataEntry!B5","v":"Marcelle Velve"},{"$f":"DataEntry!C5","v":"Alpha"},{"$f":"DataEntry!D5","v":"2020-10-29"},{"$f":"DataEntry!F5","v":"2020-10-31"},{"$f":"DataEntry!G5","v":"Positive"},{"$f":"DataEntry!K5","v":"2020-10-15"}]
[{"$f":"DataEntry!B6","v":"Marcelle Velve"},{"$f":"DataEntry!C6","v":"Alpha"},{"$f":"DataEntry!D6","v":"2020-10-30"},{"$f":"DataEntry!F6","v":"2020-11-01"},{"$f":"DataEntry!G6","v":"Positive"},{"$f":"DataEntry!K6","v":"2020-10-16"}]
[{"$f":"DataEntry!B7","v":"Marcelle Velve"},{"$f":"DataEntry!C7","v":"Alpha"},{"$f":"DataEntry!D7","v":"2020-10-31"},{"$f":"DataEntry!F7","v":"2020-11-02"},{"$f":"DataEntry!G7","v":"Positive"},{"$f":"DataEntry!K7","v":"2020-11-16"}]
[{"$f":"DataEntry!B8","v":"Marcelle Velve"},{"$f":"DataEntry!C8","v":"Alpha"},{"$f":"DataEntry!D8","v":"2020-11-01"},{"$f":"DataEntry!F8","v":"2020-11-03"},{"$f":"DataEntry!G8","v":"Positive"},{"$f":"DataEntry!K8","v":"2020-11-17"}]
[{"$f":"DataEntry!B9","v":"Marcelle Velve"},{"$f":"DataEntry!C9","v":"Alpha"},{"$f":"DataEntry!D9","v":"2020-11-02"},{"$f":"DataEntry!F9","v":"2020-11-04"},{"$f":"DataEntry!G9","v":"Positive"},{"$f":"DataEntry!K9","v":"2020-11-18"}]
[{"$f":"DataEntry!B10","v":"Marcelle Velve"},{"$f":"DataEntry!C10","v":"Alpha"},{"$f":"DataEntry!D10","v":"2020-11-03"},{"$f":"DataEntry!F10","v":"2020-11-05"},{"$f":"DataEntry!G10","v":0},{"$f":"DataEntry!K10","v":"2020-11-19"}]
[{"$f":"DataEntry!B11","v":0},{"$f":"DataEntry!C11","v":0},{"$f":"DataEntry!D11","v":"2020-11-04"},{"$f":"DataEntry!F11","v":"2020-11-06"},{"$f":"DataEntry!G11","v":0},{"$f":"DataEntry!K11","v":"2020-11-20"}]
[{"$f":"DataEntry!B12","v":0},{"$f":"DataEntry!C12","v":0},{"$f":"DataEntry!D12","v":"2020-11-05"},{"$f":"DataEntry!F12","v":"2020-11-07"},{"$f":"DataEntry!G12","v":0},{"$f":"DataEntry!K12","v":"2020-11-21"}]
[{"$f":"DataEntry!B13","v":0},{"$f":"DataEntry!C13","v":0},{"$f":"DataEntry!D13","v":"2020-11-06"},{"$f":"DataEntry!F13","v":"2020-11-08"},{"$f":"DataEntry!G13","v":0},{"$f":"DataEntry!K13","v":"2020-11-22"}]
[{"$f":"DataEntry!B14","v":0},{"$f":"DataEntry!C14","v":0},{"$f":"DataEntry!D14","v":"2020-11-07"},{"$f":"DataEntry!F14","v":"2020-11-09"},{"$f":"DataEntry!G14","v":0},{"$f":"DataEntry!K14","v":"2020-11-23"}]
[{"$f":"DataEntry!B15","v":0},{"$f":"DataEntry!C15","v":0},{"$f":"DataEntry!D15","v":"2020-11-08"},{"$f":"DataEntry!F15","v":"2020-11-10"},{"$f":"DataEntry!G15","v":0},{"$f":"DataEntry!K15","v":"2020-11-24"}]
[{"$f":"DataEntry!B16","v":0},{"$f":"DataEntry!C16","v":0},{"$f":"DataEntry!D16","v":"2020-11-09"},{"$f":"DataEntry!F16","v":"2020-11-11"},{"$f":"DataEntry!G16","v":0},{"$f":"DataEntry!K16","v":"2020-11-25"}]
[{"$f":"DataEntry!B17","v":0},{"$f":"DataEntry!C17","v":0},{"$f":"DataEntry!D17","v":"2020-11-10"},{"$f":"DataEntry!F17","v":"2020-11-12"},{"$f":"DataEntry!G17","v":0},{"$f":"DataEntry!K17","v":"2020-11-26"}]
[{"$f":"DataEntry!B18","v":0},{"$f":"DataEntry!C18","v":0},{"$f":"DataEntry!D18","v":"2020-11-11"},{"$f":"DataEntry!F18","v":"2020-11-13"},{"$f":"DataEntry!G18","v":0},{"$f":"DataEntry!K18","v":"2020-11-27"}]
[{"$f":"DataEntry!B19","v":"Karen Smith"},{"$f":"DataEntry!C19","v":"Delta"},{"$f":"DataEntry!D19","v":"2020-11-12"},{"$f":"DataEntry!F19","v":"2020-11-14"},{"$f":"DataEntry!G19","v":0},{"$f":"DataEntry!K19","v":"2020-11-28"}]
[{"$f":"DataEntry!B20","v":0},{"$f":"DataEntry!C20","v":0},{"$f":"DataEntry!D20","v":"00:00:00"},{"$f":"DataEntry!F20","v":"00:00:00"},{"$f":"DataEntry!G20","v":0},{"$f":"DataEntry!K20","v":"00:00:00"}]
[{"$f":"DataEntry!B21","v":0},{"$f":"DataEntry!C21","v":0},{"$f":"DataEntry!D21","v":"00:00:00"},{"$f":"DataEntry!F21","v":"00:00:00"},{"$f":"DataEntry!G21","v":0},{"$f":"DataEntry!K21","v":"00:00:00"}]
[{"$f":"DataEntry!B22","v":0},{"$f":"DataEntry!C22","v":0},{"$f":"DataEntry!D22","v":"00:00:00"},{"$f":"DataEntry!F22","v":"00:00:00"},{"$f":"DataEntry!G22","v":0},{"$f":"DataEntry!K22","v":"00:00:00"}]
[{"$f":"DataEntry!B23","v":0},{"$f":"DataEntry!C23","v":0},{"$f":"DataEntry!D23","v":"00:00:00"},{"$f":"DataEntry!F23","v":"00:00:00"},{"$f":"DataEntry!G23","v":0},{"$f":"DataEntry!K23","v":"00:00:00"}]
[{"$f":"DataEntry!B24","v":0},{"$f":"DataEntry!C24","v":0},{"$f":"DataEntry!D24","v":"00:00:00"},{"$f":"DataEntry!F24","v":"00:00:00"},{"$f":"DataEntry!G24","v":0},{"$f":"DataEntry!K24","v":"00:00:00"}]
[{"$f":"DataEntry!B25","v":0},{"$f":"DataEntry!C25","v":0},{"$f":"DataEntry!D25","v":"00:00:00"},{"$f":"DataEntry!F25","v":"00:00:00"},{"$f":"DataEntry!G25","v":0},{"$f":"DataEntry!K25","v":"00:00:00"}]
[{"$f":"DataEntry!B26","v":0},{"$f":"DataEntry!C26","v":0},{"$f":"DataEntry!D26","v":"00:00:00"},{"$f":"DataEntry!F26","v":"00:00:00"},{"$f":"DataEntry!G26","v":0},{"$f":"DataEntry!K26","v":"00:00:00"}]
[{"$f":"DataEntry!B27","v":0},{"$f":"DataEntry!C27","v":0},{"$f":"DataEntry!D27","v":"00:00:00"},{"$f":"DataEntry!F27","v":"00:00:00"},{"$f":"DataEntry!G27","v":0},{"$f":"DataEntry!K27","v":"00:00:00"}]
[{"$f":"DataEntry!B28","v":0},{"$f":"DataEntry!C28","v":0},{"$f":"DataEntry!D28","v":"00:00:00"},{"$f":"DataEntry!F28","v":"00:00:00"},{"$f":"DataEntry!G28","v":0},{"$f":"DataEntry!K28","v":"00:00:00"}]
[{"$f":"DataEntry!B29","v":0},{"$f":"DataEntry!C29","v":0},{"$f":"DataEntry!D29","v":"00:00:00"},{"$f":"DataEntry!F29","v":"00:00:00"},{"$f":"DataEntry!G29","v":0},{"$f":"DataEntry!K29","v":"00:00:00"}]
[{"$f":"DataEntry!B30","v":0},{"$f":"DataEntry!C30","v":0},{"$f":"DataEntry!D30","v":"00:00:00"},{"$f":"DataEntry!F30","v":"00:00:00"},{"$f":"DataEntry!G30","v":0},{"$f":"DataEntry!K30","v":"00:00:00"}]
[{"$f":"DataEntry!B31","v":0},{"$f":"DataEntry!C31","v":0},{"$f":"DataEntry!D31","v":"00:00:00"},{"$f":"DataEntry!F31","v":"00:00:00"},{"$f":"DataEntry!G31","v":0},{"$f":"DataEntry!K31","v":"00:00:00"}]
[{"$f":"DataEntry!B32","v":0},{"$f":"DataEntry!C32","v":0},{"$f":"DataEntry!D32","v":"00:00:00"},{"$f":"DataEntry!F32","v":"00:00:00"},{"$f":"DataEntry!G32","v":0},{"$f":"DataEntry!K32","v":"00:00:00"}]
[{"$f":"DataEntry!B33","v":0},{"$f":"DataEntry!C33","v":0},{"$f":"DataEntry!D33","v":"00:00:00"},{"$f":"DataEntry!F33","v":"00:00:00"},{"$f":"DataEntry!G33","v":0},{"$f":"DataEntry!K33","v":"00:00:00"}]
[{"$f":"DataEntry!B34","v":0},{"$f":"DataEntry!C34","v":0},{"$f":"DataEntry!D34","v":"00:00:00"},{"$f":"DataEntry!F34","v":"00:00:00"},{"$f":"DataEntry!G34","v":0},{"$f":"DataEntry!K34","v":"00:00:00"}]
[{"$f":"DataEntry!B35","v":0},{"$f":"DataEntry!C35","v":0},{"$f":"DataEntry!D35","v":"00:00:00"},{"$f":"DataEntry!F35","v":"00:00:00"},{"$f":"DataEntry!G35","v":0},{"$f":"DataEntry!K35","v":"00:00:00"}]
[{"$f":"DataEntry!B36","v":0},{"$f":"DataEntry!C36","v":0},{"$f":"DataEntry!D36","v":"00:00:00"},{"$f":"DataEntry!F36","v":"00:00:00"},{"$f":"DataEntry!G36","v":0},{"$f":"DataEntry!K36","v":"00:00:00"}]
[{"$f":"DataEntry!B37","v":0},{"$f":"DataEntry!C37","v":0},{"$f":"DataEntry!D37","v":"00:00:00"},{"$f":"DataEntry!F37","v":"00:00:00"},{"$f":"DataEntry!G37","v":0},{"$f":"DataEntry!K37","v":"00:00:00"}]
[{"$f":"DataEntry!B38","v":0},{"$f":"DataEntry!C38","v":0},{"$f":"DataEntry!D38","v":"00:00:00"},{"$f":"DataEntry!F38","v":"00:00:00"},{"$f":"DataEntry!G38","v":0},{"$f":"DataEntry!K38","v":"00:00:00"}]
[{"$f":"DataEntry!B39","v":0},{"$f":"DataEntry!C39","v":0},{"$f":"DataEntry!D39","v":"00:00:00"},{"$f":"DataEntry!F39","v":"00:00:00"},{"$f":"DataEntry!G39","v":0},{"$f":"DataEntry!K39","v":"00:00:00"}]
[{"$f":"DataEntry!B40","v":0},{"$f":"DataEntry!C40","v":0},{"$f":"DataEntry!D40","v":"00:00:00"},{"$f":"DataEntry!F40","v":"00:00:00"},{"$f":"DataEntry!G40","v":0},{"$f":"DataEntry!K40","v":"00:00:00"}]
[{"$f":"DataEntry!B41","v":0},{"$f":"DataEntry!C41","v":0},{"$f":"DataEntry!D41","v":"00:00:00"},{"$f":"DataEntry!F41","v":"00:00:00"},{"$f":"DataEntry!G41","v":0},{"$f":"DataEntry!K41","v":"00:00:00"}]
[{"$f":"DataEntry!B42","v":0},{"$f":"DataEntry!C42","v":0},{"$f":"DataEntry!D42","v":"00:00:00"},{"$f":"DataEntry!F42","v":"00:00:00"},{"$f":"DataEntry!G42","v":0},{"$f":"DataEntry!K42","v":"00:00:00"}]
[{"$f":"DataEntry!B43","v":0},{"$f":"DataEntry!C43","v":0},{"$f":"DataEntry!D43","v":"00:00:00"},{"$f":"DataEntry!F43","v":"00:00:00"},{"$f":"DataEntry!G43","v":0},{"$f":"DataEntry!K43","v":"00:00:00"}]
[{"$f":"DataEntry!B44","v":0},{"$f":"DataEntry!C44","v":0},{"$f":"DataEntry!D44","v":"00:00:00"},{"$f":"DataEntry!F44","v":"00:00:00"},{"$f":"DataEntry!G44","v":0},{"$f":"DataEntry!K44","v":"00:00:00"}]
[{"$f":"DataEntry!B45","v":0},{"$f":"DataEntry!C45","v":0},{"$f":"DataEntry!D45","v":"00:00:00"},{"$f":"DataEntry!F45","v":"00:00:00"},{"$f":"DataEntry!G45","v":0},{"$f":"DataEntry!K45","v":"00:00:00"}]
[{"$f":"DataEntry!B46","v":0},{"$f":"DataEntry!C46","v":0},{"$f":"DataEntry!D46","v":"00:00:00"},{"$f":"DataEntry!F46","v":"00:00:00"},{"$f":"DataEntry!G46","v":0},{"$f":"DataEntry!K46","v":"00:00:00"}]
[{"$f":"DataEntry!B47","v":0},{"$f":"DataEntry!C47","v":0},{"$f":"DataEntry!D47","v":"00:00:00"},{"$f":"DataEntry!F47","v":"00:00:00"},{"$f":"DataEntry!G47","v":0},{"$f":"DataEntry!K47","v":"00:00:00"}]
[{"$f":"DataEntry!B48","v":0},{"$f":"DataEntry!C48","v":0},{"$f":"DataEntry!D48","v":"00:00:00"},{"$f":"DataEntry!F48","v":"00:00:00"},{"$f":"DataEntry!G48","v":0},{"$f":"DataEntry!K48","v":"00:00:00"}]
[{"$f":"DataEntry!B49","v":0},{"$f":"DataEntry!C49","v":0},{"$f":"DataEntry!D49","v":"00:00:00"},{"$f":"DataEntry!F49","v":"00:00:00"},{"$f":"DataEntry!G49","v":0},{"$f":"DataEntry!K49","v":"00:00:00"}]