{"text_format":"1","workbook":"xlsx","n_sheets":3,"sheets":["Schedule","Consultants","Holiday"],"not_rendered":{"charts":0,"images":0,"macros":1,"external_links":1,"defined_names":9,"comments":0,"pivot_tables":0},"unopened":[],"bounds":{"document_bytes":16777216,"sheet_cells":100000,"rows_first":2000,"rows_last":500,"rows_between":2000,"halvings":0,"cell_chars":16384,"cell_head_chars":4096},"cells_cut":0,"cells_raw":0,"read":"whole","date_system":"1900"}

{"sheet":"Schedule","index":0,"n_rows":35,"n_cols":436,"rows_kept":35,"cut":false,"hidden":false,"merged":[[6,9,6,13],[6,14,6,19],[6,20,6,24],[6,1,8,6],[0,1,0,3],[9,422,9,428],[9,352,9,358],[9,359,9,365],[9,366,9,372],[9,373,9,379],[9,380,9,386],[9,317,9,323],[9,324,9,330],[9,331,9,337],[9,338,9,344],[9,345,9,351],[9,282,9,288],[9,240,9,246],[9,107,9,113],[9,114,9,120],[9,121,9,127],[9,429,9,435],[9,387,9,393],[9,394,9,400],[9,401,9,407],[9,408,9,414],[9,415,9,421],[9,289,9,295],[9,296,9,302],[9,303,9,309],[9,310,9,316],[9,247,9,253],[9,254,9,260],[9,261,9,267],[9,268,9,274],[9,275,9,281],[9,79,9,85],[9,86,9,92],[9,93,9,99],[9,219,9,225],[9,226,9,232],[9,233,9,239],[9,37,9,43],[9,44,9,50],[9,51,9,57],[9,58,9,64],[9,9,9,15],[9,16,9,22],[9,23,9,29],[9,30,9,36],[9,1,10,6],[3,3,3,4],[3,5,3,6],[9,205,9,211],[9,212,9,218],[9,170,9,176],[9,177,9,183],[9,184,9,190],[9,191,9,197],[9,198,9,204],[9,135,9,141],[9,142,9,148],[9,149,9,155],[9,156,9,162],[9,163,9,169],[9,100,9,106],[9,128,9,134],[9,65,9,71],[9,72,9,78]]}
[]
[]
[]
[null,null,"Project Period:","2020-10-05",null,"2021-03-31"]
[null,null,"Display Week:",1,"Mandays",{"$f":"NETWORKDAYS(D4,F4,Holiday!$A$2:$A$21)","v":125}]
[null,null,"[D]ate/ [W]eek:",null,"D"]
[null,"When D6 value is \"W\", I want row 9 & 10 hidden and row 7 - 9 display in week detail",null,null,null,null,null,null,null,"2020-10-01",null,null,null,null,"2020-11-01",null,null,null,null,null,"2020-12-01"]
[null,null,null,null,null,null,null,null,null,"1900-01-01","1900-01-05","1900-01-12","1900-01-19","1900-01-26","1900-01-01","1900-01-02","1900-01-09","1900-01-16","1900-01-23","1900-01-30","1900-01-01","1900-01-07","1900-01-14","1900-01-21","1900-01-28"]
[null,null,null,null,null,null,null,null,null,"W1","W2","W3","W4","W5","W1","W2","W3","W4","W5","W6","W1","W2","W3","W4","W5"]
[null,"This row already done and no issue",null,null,null,null,null,null,null,{"$f":"IF(J11<>\"\",J11,\"\")","v":"2020-10-05"},null,null,null,null,null,null,{"$f":"IF(Q11<>\"\",Q11,\"\")","v":"2020-10-12"},null,null,null,null,null,null,{"$f":"IF(X11<>\"\",X11,\"\")","v":"2020-10-19"},null,null,null,null,null,null,{"$f":"IF(AE11<>\"\",AE11,\"\")","v":"2020-10-26"},null,null,null,null,null,null,{"$f":"IF(AL11<>\"\",AL11,\"\")","v":"2020-11-02"},null,null,null,null,null,null,{"$f":"IF(AS11<>\"\",AS11,\"\")","v":"2020-11-09"},null,null,null,null,null,null,{"$f":"IF(AZ11<>\"\",AZ11,\"\")","v":"2020-11-16"},null,null,null,null,null,null,{"$f":"IF(BG11<>\"\",BG11,\"\")","v":"2020-11-23"},null,null,null,null,null,null,{"$f":"IF(BN11<>\"\",BN11,\"\")","v":"2020-11-30"},null,null,null,null,null,null,{"$f":"IF(BU11<>\"\",BU11,\"\")","v":"2020-12-07"},null,null,null,null,null,null,{"$f":"IF(CB11<>\"\",CB11,\"\")","v":"2020-12-14"},null,null,null,null,null,null,{"$f":"IF(CI11<>\"\",CI11,\"\")","v":"2020-12-21"},null,null,null,null,null,null,{"$f":"IF(CP11<>\"\",CP11,\"\")","v":"2020-12-28"},null,null,null,null,null,null,{"$f":"IF(CW11<>\"\",CW11,\"\")","v":"2021-01-04"},null,null,null,null,null,null,{"$f":"IF(DD11<>\"\",DD11,\"\")","v":"2021-01-11"},null,null,null,null,null,null,{"$f":"IF(DK11<>\"\",DK11,\"\")","v":"2021-01-18"},null,null,null,null,null,null,{"$f":"IF(DR11<>\"\",DR11,\"\")","v":"2021-01-25"},null,null,null,null,null,null,{"$f":"IF(DY11<>\"\",DY11,\"\")","v":"2021-02-01"},null,null,null,null,null,null,{"$f":"IF(EF11<>\"\",EF11,\"\")","v":"2021-02-08"},null,null,null,null,null,null,{"$f":"IF(EM11<>\"\",EM11,\"\")","v":"2021-02-15"},null,null,null,null,null,null,{"$f":"IF(ET11<>\"\",ET11,\"\")","v":"2021-02-22"},null,null,null,null,null,null,{"$f":"IF(FA11<>\"\",FA11,\"\")","v":"2021-03-01"},null,null,null,null,null,null,{"$f":"IF(FH11<>\"\",FH11,\"\")","v":"2021-03-08"},null,null,null,null,null,null,{"$f":"IF(FO11<>\"\",FO11,\"\")","v":"2021-03-15"},null,null,null,null,null,null,{"$f":"IF(FV11<>\"\",FV11,\"\")","v":"2021-03-22"},null,null,null,null,null,null,{"$f":"IF(GC11<>\"\",GC11,\"\")","v":"2021-03-29"},null,null,null,null,null,null,{"$f":"IF(GJ11<>\"\",GJ11,\"\")","v":"2021-04-05"},null,null,null,null,null,null,{"$f":"IF(GQ11<>\"\",GQ11,\"\")","v":""},null,null,null,null,null,null,{"$f":"IF(GX11<>\"\",GX11,\"\")","v":""},null,null,null,null,null,null,{"$f":"IF(HE11<>\"\",HE11,\"\")","v":""},null,null,null,null,null,null,{"$f":"IF(HL11<>\"\",HL11,\"\")","v":""},null,null,null,null,null,null,{"$f":"IF(HS11<>\"\",HS11,\"\")","v":""},null,null,null,null,null,null,{"$f":"IF(HZ11<>\"\",HZ11,\"\")","v":""},null,null,null,null,null,null,{"$f":"IF(IG11<>\"\",IG11,\"\")","v":""},null,null,null,null,null,null,{"$f":"IF(IN11<>\"\",IN11,\"\")","v":""},null,null,null,null,null,null,{"$f":"IF(IU11<>\"\",IU11,\"\")","v":""},null,null,null,null,null,null,{"$f":"IF(JB11<>\"\",JB11,\"\")","v":""},null,null,null,null,null,null,{"$f":"IF(JI11<>\"\",JI11,\"\")","v":""},null,null,null,null,null,null,{"$f":"IF(JP11<>\"\",JP11,\"\")","v":""},null,null,null,null,null,null,{"$f":"IF(JW11<>\"\",JW11,\"\")","v":""},null,null,null,null,null,null,{"$f":"IF(KD11<>\"\",KD11,\"\")","v":""},null,null,null,null,null,null,{"$f":"IF(KK11<>\"\",KK11,\"\")","v":""},null,null,null,null,null,null,{"$f":"IF(KR11<>\"\",KR11,\"\")","v":""},null,null,null,null,null,null,{"$f":"IF(KY11<>\"\",KY11,\"\")","v":""},null,null,null,null,null,null,{"$f":"IF(LF11<>\"\",LF11,\"\")","v":""},null,null,null,null,null,null,{"$f":"IF(LM11<>\"\",LM11,\"\")","v":""},null,null,null,null,null,null,{"$f":"IF(LT11<>\"\",LT11,\"\")","v":""},null,null,null,null,null,null,{"$f":"IF(MA11<>\"\",MA11,\"\")","v":""},null,null,null,null,null,null,{"$f":"IF(MH11<>\"\",MH11,\"\")","v":""},null,null,null,null,null,null,{"$f":"IF(MO11<>\"\",MO11,\"\")","v":""},null,null,null,null,null,null,{"$f":"IF(MV11<>\"\",MV11,\"\")","v":""},null,null,null,null,null,null,{"$f":"IF(NC11<>\"\",NC11,\"\")","v":""},null,null,null,null,null,null,{"$f":"IF(NJ11<>\"\",NJ11,\"\")","v":""},null,null,null,null,null,null,{"$f":"IF(NQ11<>\"\",NQ11,\"\")","v":""},null,null,null,null,null,null,{"$f":"IF(NX11<>\"\",NX11,\"\")","v":""},null,null,null,null,null,null,{"$f":"IF(OE11<>\"\",OE11,\"\")","v":""},null,null,null,null,null,null,{"$f":"IF(OL11<>\"\",OL11,\"\")","v":""},null,null,null,null,null,null,{"$f":"IF(OS11<>\"\",OS11,\"\")","v":""},null,null,null,null,null,null,{"$f":"IF(OZ11<>\"\",OZ11,\"\")","v":""},null,null,null,null,null,null,{"$f":"IF(PG11<>\"\",PG11,\"\")","v":""},null,null,null,null,null,null,{"$f":"IF(PN11<>\"\",PN11,\"\")","v":""}]
[null,null,null,null,null,null,null,null,null,{"$f":"Project_Start-WEEKDAY(Project_Start,1)+2+7*(Display_Week-1)","v":"2020-10-05"},{"$f":"IF(J11<>\"\",IF(J11+(IF($D$6=\"W\",7,1))<=IF(WEEKDAY($F$4+7,2)<>7,$F$4+7+7-WEEKDAY($F$4+7,2)),J11+(IF($D$6=\"W\",7,1)),\"\"),\"\")","v":"2020-10-06"},{"$f":"IF(K11<>\"\",IF(K11+(IF($D$6=\"W\",7,1))<=IF(WEEKDAY($F$4+7,2)<>7,$F$4+7+7-WEEKDAY($F$4+7,2)),K11+(IF($D$6=\"W\",7,1)),\"\"),\"\")","v":"2020-10-07"},"2020-10-08","2020-10-09","2020-10-10","2020-10-11","2020-10-12","2020-10-13","2020-10-14","2020-10-15","2020-10-16","2020-10-17","2020-10-18","2020-10-19","2020-10-20","2020-10-21","2020-10-22","2020-10-23","2020-10-24","2020-10-25","2020-10-26","2020-10-27","2020-10-28","2020-10-29","2020-10-30","2020-10-31","2020-11-01","2020-11-02","2020-11-03","2020-11-04","2020-11-05","2020-11-06","2020-11-07","2020-11-08","2020-11-09","2020-11-10","2020-11-11","2020-11-12","2020-11-13","2020-11-14","2020-11-15","2020-11-16","2020-11-17","2020-11-18","2020-11-19","2020-11-20","2020-11-21","2020-11-22","2020-11-23","2020-11-24","2020-11-25","2020-11-26","2020-11-27","2020-11-28","2020-11-29","2020-11-30","2020-12-01","2020-12-02","2020-12-03","2020-12-04","2020-12-05","2020-12-06","2020-12-07","2020-12-08","2020-12-09",{"$f":"IF(BW11<>\"\",IF(BW11+(IF($D$6=\"W\",7,1))<=IF(WEEKDAY($F$4+7,2)<>7,$F$4+7+7-WEEKDAY($F$4+7,2)),BW11+(IF($D$6=\"W\",7,1)),\"\"),\"\")","v":"2020-12-10"},"2020-12-11","2020-12-12","2020-12-13","2020-12-14","2020-12-15","2020-12-16","2020-12-17","2020-12-18","2020-12-19","2020-12-20","2020-12-21","2020-12-22","2020-12-23","2020-12-24","2020-12-25","2020-12-26","2020-12-27","2020-12-28","2020-12-29","2020-12-30","2020-12-31","2021-01-01","2021-01-02","2021-01-03","2021-01-04","2021-01-05","2021-01-06","2021-01-07","2021-01-08","2021-01-09","2021-01-10","2021-01-11","2021-01-12","2021-01-13","2021-01-14","2021-01-15","2021-01-16","2021-01-17","2021-01-18","2021-01-19","2021-01-20","2021-01-21","2021-01-22","2021-01-23","2021-01-24","2021-01-25","2021-01-26","2021-01-27","2021-01-28","2021-01-29","2021-01-30","2021-01-31","2021-02-01","2021-02-02","2021-02-03","2021-02-04","2021-02-05","2021-02-06","2021-02-07","2021-02-08","2021-02-09","2021-02-10","2021-02-11",{"$f":"IF(EI11<>\"\",IF(EI11+(IF($D$6=\"W\",7,1))<=IF(WEEKDAY($F$4+7,2)<>7,$F$4+7+7-WEEKDAY($F$4+7,2)),EI11+(IF($D$6=\"W\",7,1)),\"\"),\"\")","v":"2021-02-12"},"2021-02-13","2021-02-14","2021-02-15","2021-02-16","2021-02-17","2021-02-18","2021-02-19","2021-02-20","2021-02-21","2021-02-22","2021-02-23","2021-02-24","2021-02-25","2021-02-26","2021-02-27","2021-02-28","2021-03-01","2021-03-02","2021-03-03","2021-03-04","2021-03-05","2021-03-06","2021-03-07","2021-03-08","2021-03-09","2021-03-10","2021-03-11","2021-03-12","2021-03-13","2021-03-14","2021-03-15","2021-03-16","2021-03-17","2021-03-18","2021-03-19","2021-03-20","2021-03-21","2021-03-22","2021-03-23","2021-03-24","2021-03-25","2021-03-26","2021-03-27","2021-03-28","2021-03-29","2021-03-30","2021-03-31","2021-04-01","2021-04-02","2021-04-03","2021-04-04","2021-04-05","2021-04-06","2021-04-07","2021-04-08","2021-04-09","2021-04-10","2021-04-11","","","","","",{"$f":"IF(GU11<>\"\",IF(GU11+(IF($D$6=\"W\",7,1))<=IF(WEEKDAY($F$4+7,2)<>7,$F$4+7+7-WEEKDAY($F$4+7,2)),GU11+(IF($D$6=\"W\",7,1)),\"\"),\"\")","v":""},"","","","","","","","","","","","","","","","","","","","","","","","","","","","","","","","","","","","","","","","","","","","","","","","","","","","","","","","","","","","","","","",{"$f":"IF(JG11<>\"\",IF(JG11+(IF($D$6=\"W\",7,1))<=IF(WEEKDAY($F$4+7,2)<>7,$F$4+7+7-WEEKDAY($F$4+7,2)),JG11+(IF($D$6=\"W\",7,1)),\"\"),\"\")","v":""},"","","","","","","","","","","","","","","","","","","","","","","","","","","","","","","","","","","","","","","","","","","","","","","","","","","","","","","","","","","","","","","",{"$f":"IF(LS11<>\"\",IF(LS11+(IF($D$6=\"W\",7,1))<=IF(WEEKDAY($F$4+7,2)<>7,$F$4+7+7-WEEKDAY($F$4+7,2)),LS11+(IF($D$6=\"W\",7,1)),\"\"),\"\")","v":""},"","","","","","","","","","","","","","","","","","","","","","","","","","","","","","","","","","","","","","","","","","","","","","","","","","","","","","","","","","","","","","","",{"$f":"IF(OE11<>\"\",IF(OE11+(IF($D$6=\"W\",7,1))<=IF(WEEKDAY($F$4+7,2)<>7,$F$4+7+7-WEEKDAY($F$4+7,2)),OE11+(IF($D$6=\"W\",7,1)),\"\"),\"\")","v":""},"","","","","","","","","","","","","","","","","","","","","","","","","","","","","","","","","","","","","","","",""]
[null,"TASK","ASSIGNED TO","PROGRESS","START","END","Mandays",null,"DAYS",{"$f":"IF(J11<>\"\",IF($D$6=\"W\",WEEKNUM(J11,2),LEFT(TEXT(J11,\"ddd\"),1)),\"\")","v":"M"},{"$f":"IF(K11<>\"\",IF($D$6=\"W\",WEEKNUM(K11,2),LEFT(TEXT(K11,\"ddd\"),1)),\"\")","v":"T"},"W","T","F","S","S","M","T","W","T","F","S","S","M","T","W","T","F","S","S","M","T","W","T","F","S","S","M","T","W","T","F","S","S","M","T","W","T","F","S","S","M","T","W","T","F","S","S","M","T","W","T","F","S","S","M","T","W","T","F","S","S","M","T",{"$f":"IF(BW11<>\"\",IF($D$6=\"W\",WEEKNUM(BW11,2),LEFT(TEXT(BW11,\"ddd\"),1)),\"\")","v":"W"},"T","F","S","S","M","T","W","T","F","S","S","M","T","W","T","F","S","S","M","T","W","T","F","S","S","M","T","W","T","F","S","S","M","T","W","T","F","S","S","M","T","W","T","F","S","S","M","T","W","T","F","S","S","M","T","W","T","F","S","S","M","T","W",{"$f":"IF(EI11<>\"\",IF($D$6=\"W\",WEEKNUM(EI11,2),LEFT(TEXT(EI11,\"ddd\"),1)),\"\")","v":"T"},"F","S","S","M","T","W","T","F","S","S","M","T","W","T","F","S","S","M","T","W","T","F","S","S","M","T","W","T","F","S","S","M","T","W","T","F","S","S","M","T","W","T","F","S","S","M","T","W","T","F","S","S","M","T","W","T","F","S","S","","","","",{"$f":"IF(GU11<>\"\",IF($D$6=\"W\",WEEKNUM(GU11,2),LEFT(TEXT(GU11,\"ddd\"),1)),\"\")","v":""},"","","","","","","","","","","","","","","","","","","","","","","","","","","","","","","","","","","","","","","","","","","","","","","","","","","","","","","","","","","","","","","",{"$f":"IF(JG11<>\"\",IF($D$6=\"W\",WEEKNUM(JG11,2),LEFT(TEXT(JG11,\"ddd\"),1)),\"\")","v":""},"","","","","","","","","","","","","","","","","","","","","","","","","","","","","","","","","","","","","","","","","","","","","","","","","","","","","","","","","","","","","","","",{"$f":"IF(LS11<>\"\",IF($D$6=\"W\",WEEKNUM(LS11,2),LEFT(TEXT(LS11,\"ddd\"),1)),\"\")","v":""},"","","","","","","","","","","","","","","","","","","","","","","","","","","","","","","","","","","","","","","","","","","","","","","","","","","","","","","","","","","","","","","",{"$f":"IF(OE11<>\"\",IF($D$6=\"W\",WEEKNUM(OE11,2),LEFT(TEXT(OE11,\"ddd\"),1)),\"\")","v":""},"","","","","","","","","","","","","","","","","","","","","","","","","","","","","","","","","","","","","","","","",""]
[null,"B. Phase 2",null,null,null,null,124,null,{"$f":"IF(OR(ISBLANK(task_start),ISBLANK(task_end)),\"\",task_end-task_start+1)","v":""}]
[null,"1. Task 2",null,{"$f":"SUM(D15)/COUNTA(D15)","v":0},{"$f":"#REF!","v":{"$error":"#REF!"}},{"$f":"F15","v":"2020-10-05"},1,null,{"$error":"#REF!"}]
[null,"Sub Task 1.1","Consultant 1, Consultant 2, Consultant 3",0,"2020-10-05","2020-10-05",1,null,1]
[null,"2. Task 2",null,{"$f":"SUM(D17:D20)/COUNTA(D17:D20)","v":0},{"$f":"E17","v":"2020-10-06"},{"$f":"F20","v":"2020-12-12"},47,null,68]
[null,"Sub Task 2.1","Consultant 1, Consultant 2, Consultant 4",0,"2020-10-06","2020-10-23",14,null,18]
[null,"Sub Task 2.2","Consultant 5, Consultant 7",0,"2020-10-26","2020-11-27",23,null,33]
[null,"Sub Task 2.3","Consultant 6, Consultant 9",0,"2020-11-09","2020-11-14",5,null,6]
[null,"Sub Task 2.4","Consultant 1, Consultant 2",0,"2020-11-23","2020-12-12",15,null,20]
[null,"3. Task 3",null,{"$f":"SUM(D22:D30)/COUNTA(D22:D30)","v":0},{"$f":"E22","v":"2020-12-07"},{"$f":"F30","v":"2021-01-22"},33,null,47]
[null,"Sub Task 3.1","Consultant 1",0,"2020-12-07","2021-01-08",23,null,33]
[null,"Sub Task 3.2","Consultant 2",0,"2021-01-11","2021-01-22",10,null,12]
[null,"Sub Task 3.3","Consultant 3",0,"2020-12-07","2020-12-25",13,null,19]
[null,"Sub Task 3.4","Consultant 4",0,"2020-12-28","2021-01-05",7,null,9]
[null,"Sub Task 3.5","Consultant 5",0,"2021-01-06","2021-01-07",2,null,2]
[null,"Sub Task 3.6","Consultant 6",0,"2021-01-08","2021-01-08",1,null,1]
[null,"Sub Task 3.7","Consultant 7",0,"2021-01-11","2021-01-20",8,null,10]
[null,"Sub Task 3.8","Consultant 8",0,"2021-01-18","2021-01-20",3,null,3]
[null,"Sub Task 3.9","Consultant 9",0,"2021-01-21","2021-01-22",2,null,2]
[null,"4. Task 4",null,0,{"$f":"E32","v":"2020-11-02"},{"$f":"F35","v":"2021-02-10"},71,null,101]
[null,"Sub Task 4.1",null,0,"2020-11-02","2020-12-31",42,null,60]
[null,"Sub Task 4.2",null,0,"2021-01-01","2021-01-22",16,null,22]
[null,"Sub Task 4.3",null,0,"2021-01-25","2021-02-05",10,null,12]
[null,"Sub Task 4.4",null,0,"2021-02-08","2021-02-10",3,null,3]

{"sheet":"Consultants","index":1,"n_rows":10,"n_cols":3,"rows_kept":10,"cut":false,"hidden":false,"merged":[]}
["Status","Name","Mandays"]
["Consultant 1","Consultant 1",{"$f":"SUMIFS(Schedule!$G$13:$G$35,Schedule!$C$13:$C$35,\"*\"&B2&\"*\")","v":53}]
["Consultant 2","Consultant 2",{"$f":"SUMIFS(Schedule!$G$13:$G$35,Schedule!$C$13:$C$35,\"*\"&B3&\"*\")","v":40}]
["Consultant 3","Consultant 3",{"$f":"SUMIFS(Schedule!$G$13:$G$35,Schedule!$C$13:$C$35,\"*\"&B4&\"*\")","v":14}]
["Consultant 4","Consultant 4",{"$f":"SUMIFS(Schedule!$G$13:$G$35,Schedule!$C$13:$C$35,\"*\"&B5&\"*\")","v":21}]
["Consultant 5","Consultant 5",{"$f":"SUMIFS(Schedule!$G$13:$G$35,Schedule!$C$13:$C$35,\"*\"&B6&\"*\")","v":25}]
["Consultant 6","Consultant 6",{"$f":"SUMIFS(Schedule!$G$13:$G$35,Schedule!$C$13:$C$35,\"*\"&B7&\"*\")","v":6}]
["Consultant 7","Consultant 7",{"$f":"SUMIFS(Schedule!$G$13:$G$35,Schedule!$C$13:$C$35,\"*\"&B8&\"*\")","v":31}]
["Consultant 8","Consultant 8",{"$f":"SUMIFS(Schedule!$G$13:$G$35,Schedule!$C$13:$C$35,\"*\"&B9&\"*\")","v":3}]
["Consultant 9","Consultant 9",{"$f":"SUMIFS(Schedule!$G$13:$G$35,Schedule!$C$13:$C$35,\"*\"&B10&\"*\")","v":7}]

{"sheet":"Holiday","index":2,"n_rows":21,"n_cols":2,"rows_kept":21,"cut":false,"hidden":false,"merged":[]}
[null,"Public Holidays (2020)"]
["2020-01-01","Public Holiday 1"]
["2020-01-25","Public Holiday 2"]
["2020-03-22","Public Holiday 3"]
["2020-03-25","Public Holiday 4"]
["2020-04-10","Public Holiday 5"]
["2020-05-01","Public Holiday 6"]
["2020-05-07","Public Holiday 7"]
["2020-05-21","Public Holiday 8"]
["2020-05-22","Public Holiday 9"]
["2020-05-24","Public Holiday 10"]
["2020-05-25","Public Holiday 11"]
["2020-05-26","Public Holiday 12"]
["2020-05-27","Public Holiday 13"]
["2020-06-01","Public Holiday 14"]
["2020-07-31","Public Holiday 15"]
["2020-08-17","Public Holiday 16"]
["2020-08-20","Public Holiday 17"]
["2020-10-29","Public Holiday 18"]
["2020-12-24","Public Holiday 19"]
["2020-12-25","Public Holiday 20"]