Workbook

Sheet COGS Breakdown
A1: Name | B1: SI Passportal | C1: MS Passportal
A2: Company 1 | B2: 0.09847337 | C2: 11.824682
A3: Company 2 | B3: 0.09847337 | C3: 2.8483422
A4: Company 3 | B4: 1.6863565 | C4: 22.474085
A5: Company 4 | B5: 0 | C5: 3.1014188
A6: Company 5 | B6: 0 | C6: 1.6449976
A7: Company 6 | B7: 0 | C7: 0.10487414
A8: Company 7 | B8: 1.4032455 | C8: 10.63217
A9: Company 8 | B9: 0 | C9: 0.09847337
A10: Company 9 | B10: 0 | C10: 0.87198169
A11: Company 10 | B11: 0 | C11: 0.12752301
A12: Company 11 | B12: 0 | C12: 0.075824495
A13: Company 12 | B13: 0 | C13: 8.8891911
... A22: Company 21 | B22: 2.0063949 | C22: 2.4052121

Sheet Import Passportal SI
A1: Transaction Date | B1: RefNumber | C1: Account | D1: Debit | E1: Credit | F1: Memo | G1: Name | H1: Class | I1: Billable | K1: Ctl | M1: Summary | N1: Import
A2: =[1]Summary!K4 -> 44043 | B2: JobCost | C2: Cost of Goods | E2: =SUM(D:D) -> 3.29 | H2: Systems Integration
A3: =$A$2 -> 44043 | B3: JobCost | C3: Cost of Goods | D3: =IF(ROUND(IF(K3>0,K3,0),2)=0,"",ROUND(IF(K3>0,K3,0),2)) -> 0.1 | E3: =IF(ROUND(IF(K3<0,K3,0),2)=0,"",ROUND(IF(K3<0,K3*-1,0),2)) | G3: Company 1 | H3: Systems Integration | I3: N | K3: =SUMIF('COGS Breakdown'!$A:$A,'Import Passportal SI'!G3,'COGS Breakdown'!$B:$B) -> 0.09847337
A4: =$A$2 -> 44043 | B4: JobCost | C4: Cost of Goods | D4: =IF(ROUND(IF(K4>0,K4,0),2)=0,"",ROUND(IF(K4>0,K4,0),2)) -> 0.1 | E4: =IF(ROUND(IF(K4<0,K4,0),2)=0,"",ROUND(IF(K4<0,K4*-1,0),2)) | G4: Company 2 | H4: Systems Integration | I4: N | K4: =SUMIF('COGS Breakdown'!$A:$A,'Import Passportal SI'!G4,'COGS Breakdown'!$B:$B) -> 0.09847337
A5: =$A$2 -> 44043 | B5: JobCost | C5: Cost of Goods | D5: =IF(ROUND(IF(K5>0,K5,0),2)=0,"",ROUND(IF(K5>0,K5,0),2)) -> 1.69 | E5: =IF(ROUND(IF(K5<0,K5,0),2)=0,"",ROUND(IF(K5<0,K5*-1,0),2)) | G5: Company 3 | H5: Systems Integration | I5: N | K5: =SUMIF('COGS Breakdown'!$A:$A,'Import Passportal SI'!G5,'COGS Breakdown'!$B:$B) -> 1.6863565
A6: =$A$2 -> 44043 | B6: JobCost | C6: Cost of Goods | D6: =IF(ROUND(IF(K6>0,K6,0),2)=0,"",ROUND(IF(K6>0,K6,0),2)) | E6: =IF(ROUND(IF(K6<0,K6,0),2)=0,"",ROUND(IF(K6<0,K6*-1,0),2)) | G6: Company 4 | H6: Systems Integration | I6: N | K6: =SUMIF('COGS Breakdown'!$A:$A,'Import Passportal SI'!G6,'COGS Breakdown'!$B:$B) -> 0
A7: =$A$2 -> 44043 | B7: JobCost | C7: Cost of Goods | D7: =IF(ROUND(IF(K7>0,K7,0),2)=0,"",ROUND(IF(K7>0,K7,0),2)) | E7: =IF(ROUND(IF(K7<0,K7,0),2)=0,"",ROUND(IF(K7<0,K7*-1,0),2)) | G7: Company 5 | H7: Systems Integration | I7: N | K7: =SUMIF('COGS Breakdown'!$A:$A,'Import Passportal SI'!G7,'COGS Breakdown'!$B:$B) -> 0
A8: =$A$2 -> 44043 | B8: JobCost | C8: Cost of Goods | D8: =IF(ROUND(IF(K8>0,K8,0),2)=0,"",ROUND(IF(K8>0,K8,0),2)) | E8: =IF(ROUND(IF(K8<0,K8,0),2)=0,"",ROUND(IF(K8<0,K8*-1,0),2)) | G8: Company 6 | H8: Systems Integration | I8: N | K8: =SUMIF('COGS Breakdown'!$A:$A,'Import Passportal SI'!G8,'COGS Breakdown'!$B:$B) -> 0
A9: =$A$2 -> 44043 | B9: JobCost | C9: Cost of Goods | D9: =IF(ROUND(IF(K9>0,K9,0),2)=0,"",ROUND(IF(K9>0,K9,0),2)) -> 1.4 | E9: =IF(ROUND(IF(K9<0,K9,0),2)=0,"",ROUND(IF(K9<0,K9*-1,0),2)) | G9: Company 7 | H9: Systems Integration | I9: N | K9: =SUMIF('COGS Breakdown'!$A:$A,'Import Passportal SI'!G9,'COGS Breakdown'!$B:$B) -> 1.4032455
A10: =$A$2 -> 44043 | B10: JobCost | C10: Cost of Goods | D10: =IF(ROUND(IF(K10>0,K10,0),2)=0,"",ROUND(IF(K10>0,K10,0),2)) | E10: =IF(ROUND(IF(K10<0,K10,0),2)=0,"",ROUND(IF(K10<0,K10*-1,0),2)) | G10: Company 8 | H10: Systems Integration | I10: N | K10: =SUMIF('COGS Breakdown'!$A:$A,'Import Passportal SI'!G10,'COGS Breakdown'!$B:$B) -> 0
