{"text_format":"1","workbook":"xlsx","n_sheets":2,"sheets":["Januar","IND1"],"not_rendered":{"charts":0,"images":0,"macros":1,"external_links":1,"defined_names":1,"comments":0,"pivot_tables":0},"unopened":[],"bounds":{"document_bytes":16777216,"sheet_cells":100000,"rows_first":2000,"rows_last":500,"rows_between":2000,"halvings":0,"cell_chars":16384,"cell_head_chars":4096},"cells_cut":0,"cells_raw":0,"read":"whole","date_system":"1900"}

{"sheet":"Januar","index":0,"n_rows":59,"n_cols":156,"rows_kept":59,"cut":false,"hidden":false,"merged":[[4,141,5,155],[2,0,2,5],[3,0,3,1],[4,6,5,20],[4,21,5,35],[4,36,5,50],[4,51,5,65],[4,66,5,80],[4,81,5,95],[4,96,5,110],[4,111,5,125],[4,126,5,140],[16,3,16,4],[7,1,8,1],[7,2,8,2],[7,3,8,4],[7,5,8,5],[9,3,9,4],[10,3,10,4],[11,3,11,4],[12,3,12,4],[13,3,13,4],[14,3,14,4],[15,3,15,4],[28,3,28,4],[17,3,17,4],[18,3,18,4],[19,3,19,4],[20,3,20,4],[21,3,21,4],[22,3,22,4],[23,3,23,4],[24,3,24,4],[25,3,25,4],[26,3,26,4],[27,3,27,4],[40,3,40,4],[29,3,29,4],[30,3,30,4],[31,3,31,4],[32,3,32,4],[33,3,33,4],[34,3,34,4],[35,3,35,4],[36,3,36,4],[37,3,37,4],[38,3,38,4],[39,3,39,4],[40,65,41,65],[40,16,41,16],[40,17,41,17],[40,20,41,20],[40,31,41,31],[40,32,41,32],[40,35,41,35],[40,152,41,152],[40,155,41,155],[40,106,41,106],[40,107,41,107],[40,110,41,110],[40,121,41,121],[40,122,41,122],[40,125,41,125],[7,8,7,10],[40,136,41,136],[40,137,41,137],[40,140,41,140],[40,151,41,151],[40,76,41,76],[40,77,41,77],[40,80,41,80],[40,91,41,91],[40,92,41,92],[40,95,41,95],[40,46,41,46],[40,47,41,47],[40,50,41,50],[40,61,41,61],[40,62,41,62]]}
[]
[null,null,"IND1"]
["Month"]
[null,null,22,"Monat:","2020-01-01","Alaska"]
[null,null,null,null,null,null,{"$f":"[1]Feiertage!G12 & \"   (MA 1)\"","v":"MA 1   (MA 1)"},null,null,null,null,null,null,null,null,null,null,null,null,null,null,{"$f":"[1]Feiertage!H12 & \"   (MA 2)\"","v":"MA 2   (MA 2)"},null,null,null,null,null,null,null,null,null,null,null,null,null,null,{"$f":"[1]Feiertage!I12 & \"   (MA 3)\"","v":"MA 3   (MA 3)"},null,null,null,null,null,null,null,null,null,null,null,null,null,null,{"$f":"[1]Feiertage!J12 & \"   (MA 4)\"","v":"MA 4   (MA 4)"},null,null,null,null,null,null,null,null,null,null,null,null,null,null,{"$f":"[1]Feiertage!K12 & \"   (MA 5)\"","v":"MA 5   (MA 5)"},null,null,null,null,null,null,null,null,null,null,null,null,null,null,{"$f":"[1]Feiertage!L12 & \"   (MA 6)\"","v":"MA 6   (MA 6)"},null,null,null,null,null,null,null,null,null,null,null,null,null,null,{"$f":"[1]Feiertage!M12 & \"   (MA 7)\"","v":"MA 7   (MA 7)"},null,null,null,null,null,null,null,null,null,null,null,null,null,null,{"$f":"[1]Feiertage!N12 & \"   (MA 8)\"","v":"MA 8   (MA 8)"},null,null,null,null,null,null,null,null,null,null,null,null,null,null,{"$f":"[1]Feiertage!O12 & \"   (MA 9)\"","v":"MA 9   (MA 9)"},null,null,null,null,null,null,null,null,null,null,null,null,null,null,{"$f":"[1]Feiertage!S12 & \"   (GL/TL)\"","v":"GL TL   (GL/TL)"}]
[]
[null,null,null,null,null,null,"  ",null,null,null,null,null,null,null,null,null,null,null,"  ",null,null,"  ",null,null,null,null,null,null,null,null,null,null,null,"  ",null,null,"  ",null,null,null,null,null,null,null,null,null,null,null,"  ",null,null,"  ",null,null,null,null,null,null,null,null,null,null,null,"  ",null,null,"  ",null,null,null,null,null,null,null,null,null,null,null,"  ",null,null,"  ",null,null,null,null,null,null,null,null,null,null,null,"  ",null,null,"  ",null,null,null,null,null,null,null,null,null,null,null,"  ",null,null,"  ",null,null,null,null,null,null,null,null,null,null,null,"  ",null,null,"  ",null,null,null,null,null,null,null,null,null,null,null,"  ",null,null,"  ",null,null,null,null,null,null,null,null,null,null,null,"  "]
[null,"DAT",{"$f":"E4","v":"2020-01-01"},"Allgemeindienste:",null,"Gruppendienste:","DAT",null,"Duty 1",null,null,"Duty 2",null,null,"Duty 3",null,null,null,"Abweichung",null,null,"DAT",null,"Dienst  1       ",null,null,"Dienst  2          ",null,null,"Bereitschaft       ",null,null,null,"Abweichung",null,null,"DAT",null,"Dienst  1       ",null,null,"Dienst  2          ",null,null,"Bereitschaft       ",null,null,null,"Abweichung",null,null,"DAT",null,"Dienst  1       ",null,null,"Dienst  2          ",null,null,"Bereitschaft       ",null,null,null,"Abweichung",null,null,"DAT",null,"Dienst  1       ",null,null,"Dienst  2          ",null,null,"Bereitschaft       ",null,null,null,"Abweichung",null,null,"DAT",null,"Dienst  1       ",null,null,"Dienst  2          ",null,null,"Bereitschaft       ",null,null,null,"Abweichung",null,null,"DAT",null,"Dienst  1       ",null,null,"Dienst  2          ",null,null,"Bereitschaft       ",null,null,null,"Abweichung",null,null,"DAT",null,"Dienst  1       ",null,null,"Dienst  2          ",null,null,"Bereitschaft       ",null,null,null,"Abweichung",null,null,"DAT",null,"Dienst  1       ",null,null,"Dienst  2          ",null,null,"Bereitschaft       ",null,null,null,"Abweichung",null,null,"DAT",null,"Dienst  1       ",null,null,"Dienst  2          ",null,null,"Bereitschaft       ",null,null,null,"Abweichung"]
[null,null,null,null,null,null,null,null,"from","to","ttl h","from","to","ttl h","from","to","ttl h","SUM TTL","von","bis"," +/-",null,null,"von","bis","Std","von","bis","Std","von","bis","Std","SUM TTL","von","bis"," +/-",null,null,"von","bis","Std","von","bis","Std","von","bis","Std","SUM TTL","von","bis"," +/-",null,null,"von","bis","Std","von","bis","Std","von","bis","Std","SUM TTL","von","bis"," +/-",null,null,"von","bis","Std","von","bis","Std","von","bis","Std","SUM TTL","von","bis"," +/-",null,null,"von","bis","Std","von","bis","Std","von","bis","Std","SUM TTL","von","bis"," +/-",null,null,"von","bis","Std","von","bis","Std","von","bis","Std","SUM TTL","von","bis"," +/-",null,null,"von","bis","Std","von","bis","Std","von","bis","Std","SUM TTL","von","bis"," +/-",null,null,"von","bis","Std","von","bis","Std","von","bis","Std","SUM TTL","von","bis"," +/-",null,null,"von","bis","Std","von","bis","Std","von","bis","Std","SUM TTL","von","bis"," +/-"]
[null,{"$f":"C8","v":"2020-01-01"},{"$f":"C8","v":"2020-01-01"},null,null,null,{"$f":"B10","v":"2020-01-01"},{"$f":"C10","v":"2020-01-01"},null,null,{"$f":"IF(OR(I10=\"U\",I10=\"K\",I10=\"FB\"),$J$2,IF(J10<I10,((J10+1)-I10)*24,(J10-I10)*24))","v":0},null,null,{"$f":"IF(OR(I10=\"U\",I10=\"K\",I10=\"FB\"),$J$2,IF(M10<L10,((M10+1)-L10)*24,(M10-L10)*24))","v":0},null,null,{"$f":"IF(OR($F$4=\"Wetzlar\"),[1]Feiertage!$D$25,IF(P10<O10,((((P10+1)-O10)*24)),(P10-O10)*24))*0.25","v":0},{"$f":"Q10+N10+K10","v":0},null,null,{"$f":"IF(T10<S10,((T10+1)-S10)*24,(T10-S10)*24)","v":0},{"$f":"G10","v":"2020-01-01"},{"$f":"H10","v":"2020-01-01"},"06:00:00","18:00:00",{"$f":"IF(OR(X10=\"U\",X10=\"K\",X10=\"FB\"),$J$2,IF(Y10<X10,((Y10+1)-X10)*24,(Y10-X10)*24))","v":12},null,null,{"$f":"IF(OR(X10=\"U\",X10=\"K\",X10=\"FB\"),$J$2,IF(AB10<AA10,((AB10+1)-AA10)*24,(AB10-AA10)*24))","v":0},null,null,{"$f":"IF(OR($F$4=\"Wetzlar\"),[1]Feiertage!$D$25,IF(AE10<AD10,((((AE10+1)-AD10)*24)),(AE10-AD10)*24))*0.25","v":0},{"$f":"AF10+AC10+Z10","v":12},null,null,{"$f":"IF(AI10<AH10,((AI10+1)-AH10)*24,(AI10-AH10)*24)","v":0},{"$f":"V10","v":"2020-01-01"},{"$f":"W10","v":"2020-01-01"},null,null,{"$f":"IF(OR(AM10=\"U\",AM10=\"K\",AM10=\"FB\"),$J$2,IF(AN10<AM10,((AN10+1)-AM10)*24,(AN10-AM10)*24))","v":0},null,null,{"$f":"IF(OR(AM10=\"U\",AM10=\"K\",AM10=\"FB\"),$J$2,IF(AQ10<AP10,((AQ10+1)-AP10)*24,(AQ10-AP10)*24))","v":0},null,null,{"$f":"IF(OR($F$4=\"Wetzlar\"),[1]Feiertage!$D$25,IF(AT10<AS10,((((AT10+1)-AS10)*24)),(AT10-AS10)*24))*0.25","v":0},{"$f":"AU10+AR10+AO10","v":0},null,null,{"$f":"IF(AX10<AW10,((AX10+1)-AW10)*24,(AX10-AW10)*24)","v":0},{"$f":"AK10","v":"2020-01-01"},{"$f":"AL10","v":"2020-01-01"},null,null,{"$f":"IF(OR(BB10=\"U\",BB10=\"K\",BB10=\"FB\"),$J$2,IF(BC10<BB10,((BC10+1)-BB10)*24,(BC10-BB10)*24))","v":0},null,null,{"$f":"IF(OR(BB10=\"U\",BB10=\"K\",BB10=\"FB\"),$J$2,IF(BF10<BE10,((BF10+1)-BE10)*24,(BF10-BE10)*24))","v":0},null,null,{"$f":"IF(OR($F$4=\"Wetzlar\"),[1]Feiertage!$D$25,IF(BI10<BH10,((((BI10+1)-BH10)*24)),(BI10-BH10)*24))*0.25","v":0},{"$f":"BJ10+BG10+BD10","v":0},null,null,{"$f":"IF(BM10<BL10,((BM10+1)-BL10)*24,(BM10-BL10)*24)","v":0},{"$f":"AZ10","v":"2020-01-01"},{"$f":"BA10","v":"2020-01-01"},null,null,{"$f":"IF(OR(BQ10=\"U\",BQ10=\"K\",BQ10=\"FB\"),$J$2,IF(BR10<BQ10,((BR10+1)-BQ10)*24,(BR10-BQ10)*24))","v":0},null,null,{"$f":"IF(OR(BQ10=\"U\",BQ10=\"K\",BQ10=\"FB\"),$J$2,IF(BU10<BT10,((BU10+1)-BT10)*24,(BU10-BT10)*24))","v":0},null,null,{"$f":"IF(OR($F$4=\"Wetzlar\"),[1]Feiertage!$D$25,IF(BX10<BW10,((((BX10+1)-BW10)*24)),(BX10-BW10)*24))*0.25","v":0},{"$f":"BY10+BV10+BS10","v":0},null,null,{"$f":"IF(CB10<CA10,((CB10+1)-CA10)*24,(CB10-CA10)*24)","v":0},{"$f":"BO10","v":"2020-01-01"},{"$f":"BP10","v":"2020-01-01"},null,null,{"$f":"IF(OR(CF10=\"U\",CF10=\"K\",CF10=\"FB\"),$J$2,IF(CG10<CF10,((CG10+1)-CF10)*24,(CG10-CF10)*24))","v":0},null,null,{"$f":"IF(OR(CF10=\"U\",CF10=\"K\",CF10=\"FB\"),$J$2,IF(CJ10<CI10,((CJ10+1)-CI10)*24,(CJ10-CI10)*24))","v":0},null,null,{"$f":"IF(OR($F$4=\"Wetzlar\"),[1]Feiertage!$D$25,IF(CM10<CL10,((((CM10+1)-CL10)*24)),(CM10-CL10)*24))*0.25","v":0},{"$f":"CN10+CK10+CH10","v":0},null,null,{"$f":"IF(CQ10<CP10,((CQ10+1)-CP10)*24,(CQ10-CP10)*24)","v":0},{"$f":"CD10","v":"2020-01-01"},{"$f":"CE10","v":"2020-01-01"},null,null,{"$f":"IF(OR(CU10=\"U\",CU10=\"K\",CU10=\"FB\"),$J$2,IF(CV10<CU10,((CV10+1)-CU10)*24,(CV10-CU10)*24))","v":0},null,null,{"$f":"IF(OR(CU10=\"U\",CU10=\"K\",CU10=\"FB\"),$J$2,IF(CY10<CX10,((CY10+1)-CX10)*24,(CY10-CX10)*24))","v":0},null,null,{"$f":"IF(OR($F$4=\"Wetzlar\"),[1]Feiertage!$D$25,IF(DB10<DA10,((((DB10+1)-DA10)*24)),(DB10-DA10)*24))*0.25","v":0},{"$f":"DC10+CZ10+CW10","v":0},null,null,{"$f":"IF(DF10<DE10,((DF10+1)-DE10)*24,(DF10-DE10)*24)","v":0},{"$f":"CS10","v":"2020-01-01"},{"$f":"CT10","v":"2020-01-01"},null,null,{"$f":"IF(OR(DJ10=\"U\",DJ10=\"K\",DJ10=\"FB\"),$J$2,IF(DK10<DJ10,((DK10+1)-DJ10)*24,(DK10-DJ10)*24))","v":0},null,null,{"$f":"IF(OR(DJ10=\"U\",DJ10=\"K\",DJ10=\"FB\"),$J$2,IF(DN10<DM10,((DN10+1)-DM10)*24,(DN10-DM10)*24))","v":0},null,null,{"$f":"IF(OR($F$4=\"Wetzlar\"),[1]Feiertage!$D$25,IF(DQ10<DP10,((((DQ10+1)-DP10)*24)),(DQ10-DP10)*24))*0.25","v":0},{"$f":"DR10+DO10+DL10","v":0},null,null,{"$f":"IF(DU10<DT10,((DU10+1)-DT10)*24,(DU10-DT10)*24)","v":0},{"$f":"DH10","v":"2020-01-01"},{"$f":"DI10","v":"2020-01-01"},null,null,{"$f":"IF(OR(DY10=\"U\",DY10=\"K\",DY10=\"FB\"),$J$2,IF(DZ10<DY10,((DZ10+1)-DY10)*24,(DZ10-DY10)*24))","v":0},null,null,{"$f":"IF(OR(DY10=\"U\",DY10=\"K\",DY10=\"FB\"),$J$2,IF(EC10<EB10,((EC10+1)-EB10)*24,(EC10-EB10)*24))","v":0},null,null,{"$f":"IF(OR($F$4=\"Wetzlar\"),[1]Feiertage!$D$25,IF(EF10<EE10,((((EF10+1)-EE10)*24)),(EF10-EE10)*24))*0.25","v":0},{"$f":"EG10+ED10+EA10","v":0},null,null,{"$f":"IF(EJ10<EI10,((EJ10+1)-EI10)*24,(EJ10-EI10)*24)","v":0},{"$f":"DW10","v":"2020-01-01"},{"$f":"DX10","v":"2020-01-01"},null,null,{"$f":"IF(OR(EN10=\"U\",EN10=\"K\",EN10=\"FB\"),$J$2,IF(EO10<EN10,((EO10+1)-EN10)*24,(EO10-EN10)*24))","v":0},null,null,{"$f":"IF(OR(EN10=\"U\",EN10=\"K\",EN10=\"FB\"),$J$2,IF(ER10<EQ10,((ER10+1)-EQ10)*24,(ER10-EQ10)*24))","v":0},null,null,{"$f":"IF(OR($F$4=\"Wetzlar\"),[1]Feiertage!$D$25,IF(EU10<ET10,((((EU10+1)-ET10)*24)),(EU10-ET10)*24))*0.25","v":0},{"$f":"EV10+ES10+EP10","v":0},null,null,{"$f":"IF(EY10<EX10,((EY10+1)-EX10)*24,(EY10-EX10)*24)","v":0}]
[null,{"$f":"B10+1","v":"2020-01-02"},{"$f":"C10+1","v":"2020-01-02"},null,null,null,{"$f":"B11","v":"2020-01-02"},"2020-01-02",null,null,{"$f":"IF(OR(I11=\"U\",I11=\"K\",I11=\"FB\"),$J$2,IF(J11<I11,((J11+1)-I11)*24,(J11-I11)*24))","v":0},null,null,{"$f":"IF(OR(I11=\"U\",I11=\"K\",I11=\"FB\"),$J$2,IF(M11<L11,((M11+1)-L11)*24,(M11-L11)*24))","v":0},null,null,{"$f":"IF(OR($F$4=\"Wetzlar\"),[1]Feiertage!$D$25,IF(P11<O11,((((P11+1)-O11)*24)),(P11-O11)*24))*0.25","v":0},{"$f":"Q11+N11+K11","v":0},null,null,{"$f":"IF(T11<S11,((T11+1)-S11)*24,(T11-S11)*24)","v":0},{"$f":"G11","v":"2020-01-02"},"2020-01-02",null,null,{"$f":"IF(OR(X11=\"U\",X11=\"K\",X11=\"FB\"),$J$2,IF(Y11<X11,((Y11+1)-X11)*24,(Y11-X11)*24))","v":0},null,null,{"$f":"IF(OR(X11=\"U\",X11=\"K\",X11=\"FB\"),$J$2,IF(AB11<AA11,((AB11+1)-AA11)*24,(AB11-AA11)*24))","v":0},null,null,{"$f":"IF(OR($F$4=\"Wetzlar\"),[1]Feiertage!$D$25,IF(AE11<AD11,((((AE11+1)-AD11)*24)),(AE11-AD11)*24))*0.25","v":0},{"$f":"AF11+AC11+Z11","v":0},null,null,{"$f":"IF(AI11<AH11,((AI11+1)-AH11)*24,(AI11-AH11)*24)","v":0},{"$f":"V11","v":"2020-01-02"},"2020-01-02",null,null,{"$f":"IF(OR(AM11=\"U\",AM11=\"K\",AM11=\"FB\"),$J$2,IF(AN11<AM11,((AN11+1)-AM11)*24,(AN11-AM11)*24))","v":0},null,null,{"$f":"IF(OR(AM11=\"U\",AM11=\"K\",AM11=\"FB\"),$J$2,IF(AQ11<AP11,((AQ11+1)-AP11)*24,(AQ11-AP11)*24))","v":0},null,null,{"$f":"IF(OR($F$4=\"Wetzlar\"),[1]Feiertage!$D$25,IF(AT11<AS11,((((AT11+1)-AS11)*24)),(AT11-AS11)*24))*0.25","v":0},{"$f":"AU11+AR11+AO11","v":0},null,null,{"$f":"IF(AX11<AW11,((AX11+1)-AW11)*24,(AX11-AW11)*24)","v":0},{"$f":"AK11","v":"2020-01-02"},"2020-01-02",null,null,{"$f":"IF(OR(BB11=\"U\",BB11=\"K\",BB11=\"FB\"),$J$2,IF(BC11<BB11,((BC11+1)-BB11)*24,(BC11-BB11)*24))","v":0},null,null,{"$f":"IF(OR(BB11=\"U\",BB11=\"K\",BB11=\"FB\"),$J$2,IF(BF11<BE11,((BF11+1)-BE11)*24,(BF11-BE11)*24))","v":0},null,null,{"$f":"IF(OR($F$4=\"Wetzlar\"),[1]Feiertage!$D$25,IF(BI11<BH11,((((BI11+1)-BH11)*24)),(BI11-BH11)*24))*0.25","v":0},{"$f":"BJ11+BG11+BD11","v":0},null,null,{"$f":"IF(BM11<BL11,((BM11+1)-BL11)*24,(BM11-BL11)*24)","v":0},{"$f":"AZ11","v":"2020-01-02"},"2020-01-02",null,null,{"$f":"IF(OR(BQ11=\"U\",BQ11=\"K\",BQ11=\"FB\"),$J$2,IF(BR11<BQ11,((BR11+1)-BQ11)*24,(BR11-BQ11)*24))","v":0},null,null,{"$f":"IF(OR(BQ11=\"U\",BQ11=\"K\",BQ11=\"FB\"),$J$2,IF(BU11<BT11,((BU11+1)-BT11)*24,(BU11-BT11)*24))","v":0},null,null,{"$f":"IF(OR($F$4=\"Wetzlar\"),[1]Feiertage!$D$25,IF(BX11<BW11,((((BX11+1)-BW11)*24)),(BX11-BW11)*24))*0.25","v":0},{"$f":"BY11+BV11+BS11","v":0},null,null,{"$f":"IF(CB11<CA11,((CB11+1)-CA11)*24,(CB11-CA11)*24)","v":0},{"$f":"BO11","v":"2020-01-02"},"2020-01-02",null,null,{"$f":"IF(OR(CF11=\"U\",CF11=\"K\",CF11=\"FB\"),$J$2,IF(CG11<CF11,((CG11+1)-CF11)*24,(CG11-CF11)*24))","v":0},null,null,{"$f":"IF(OR(CF11=\"U\",CF11=\"K\",CF11=\"FB\"),$J$2,IF(CJ11<CI11,((CJ11+1)-CI11)*24,(CJ11-CI11)*24))","v":0},null,null,{"$f":"IF(OR($F$4=\"Wetzlar\"),[1]Feiertage!$D$25,IF(CM11<CL11,((((CM11+1)-CL11)*24)),(CM11-CL11)*24))*0.25","v":0},{"$f":"CN11+CK11+CH11","v":0},null,null,{"$f":"IF(CQ11<CP11,((CQ11+1)-CP11)*24,(CQ11-CP11)*24)","v":0},{"$f":"CD11","v":"2020-01-02"},"2020-01-02",null,null,{"$f":"IF(OR(CU11=\"U\",CU11=\"K\",CU11=\"FB\"),$J$2,IF(CV11<CU11,((CV11+1)-CU11)*24,(CV11-CU11)*24))","v":0},null,null,{"$f":"IF(OR(CU11=\"U\",CU11=\"K\",CU11=\"FB\"),$J$2,IF(CY11<CX11,((CY11+1)-CX11)*24,(CY11-CX11)*24))","v":0},null,null,{"$f":"IF(OR($F$4=\"Wetzlar\"),[1]Feiertage!$D$25,IF(DB11<DA11,((((DB11+1)-DA11)*24)),(DB11-DA11)*24))*0.25","v":0},{"$f":"DC11+CZ11+CW11","v":0},null,null,{"$f":"IF(DF11<DE11,((DF11+1)-DE11)*24,(DF11-DE11)*24)","v":0},{"$f":"CS11","v":"2020-01-02"},"2020-01-02",null,null,{"$f":"IF(OR(DJ11=\"U\",DJ11=\"K\",DJ11=\"FB\"),$J$2,IF(DK11<DJ11,((DK11+1)-DJ11)*24,(DK11-DJ11)*24))","v":0},null,null,{"$f":"IF(OR(DJ11=\"U\",DJ11=\"K\",DJ11=\"FB\"),$J$2,IF(DN11<DM11,((DN11+1)-DM11)*24,(DN11-DM11)*24))","v":0},null,null,{"$f":"IF(OR($F$4=\"Wetzlar\"),[1]Feiertage!$D$25,IF(DQ11<DP11,((((DQ11+1)-DP11)*24)),(DQ11-DP11)*24))*0.25","v":0},{"$f":"DR11+DO11+DL11","v":0},null,null,{"$f":"IF(DU11<DT11,((DU11+1)-DT11)*24,(DU11-DT11)*24)","v":0},{"$f":"DH11","v":"2020-01-02"},"2020-01-02",null,null,{"$f":"IF(OR(DY11=\"U\",DY11=\"K\",DY11=\"FB\"),$J$2,IF(DZ11<DY11,((DZ11+1)-DY11)*24,(DZ11-DY11)*24))","v":0},null,null,{"$f":"IF(OR(DY11=\"U\",DY11=\"K\",DY11=\"FB\"),$J$2,IF(EC11<EB11,((EC11+1)-EB11)*24,(EC11-EB11)*24))","v":0},null,null,{"$f":"IF(OR($F$4=\"Wetzlar\"),[1]Feiertage!$D$25,IF(EF11<EE11,((((EF11+1)-EE11)*24)),(EF11-EE11)*24))*0.25","v":0},{"$f":"EG11+ED11+EA11","v":0},null,null,{"$f":"IF(EJ11<EI11,((EJ11+1)-EI11)*24,(EJ11-EI11)*24)","v":0},{"$f":"DW11","v":"2020-01-02"},"2020-01-02",null,null,{"$f":"IF(OR(EN11=\"U\",EN11=\"K\",EN11=\"FB\"),$J$2,IF(EO11<EN11,((EO11+1)-EN11)*24,(EO11-EN11)*24))","v":0},null,null,{"$f":"IF(OR(EN11=\"U\",EN11=\"K\",EN11=\"FB\"),$J$2,IF(ER11<EQ11,((ER11+1)-EQ11)*24,(ER11-EQ11)*24))","v":0},null,null,{"$f":"IF(OR($F$4=\"Wetzlar\"),[1]Feiertage!$D$25,IF(EU11<ET11,((((EU11+1)-ET11)*24)),(EU11-ET11)*24))*0.25","v":0},{"$f":"EV11+ES11+EP11","v":0},null,null,{"$f":"IF(EY11<EX11,((EY11+1)-EX11)*24,(EY11-EX11)*24)","v":0}]
[null,{"$f":"B11+1","v":"2020-01-03"},"2020-01-03",null,null,null,"2020-01-03","2020-01-03",null,null,{"$f":"IF(OR(I12=\"U\",I12=\"K\",I12=\"FB\"),$J$2,IF(J12<I12,((J12+1)-I12)*24,(J12-I12)*24))","v":0},null,null,0,null,null,{"$f":"IF(OR($F$4=\"Wetzlar\"),[1]Feiertage!$D$25,IF(P12<O12,((((P12+1)-O12)*24)*0.25),(P12-O12)*24)*0.25)","v":0},0,null,null,0,"2020-01-03","2020-01-03",null,null,{"$f":"IF(OR(X12=\"U\",X12=\"K\",X12=\"FB\"),$J$2,IF(Y12<X12,((Y12+1)-X12)*24,(Y12-X12)*24))","v":0},null,null,0,null,null,{"$f":"IF(OR($F$4=\"Wetzlar\"),[1]Feiertage!$D$25,IF(AE12<AD12,((((AE12+1)-AD12)*24)*0.25),(AE12-AD12)*24)*0.25)","v":0},0,null,null,0,"2020-01-03","2020-01-03",null,null,{"$f":"IF(OR(AM12=\"U\",AM12=\"K\",AM12=\"FB\"),$J$2,IF(AN12<AM12,((AN12+1)-AM12)*24,(AN12-AM12)*24))","v":0},null,null,0,null,null,{"$f":"IF(OR($F$4=\"Wetzlar\"),[1]Feiertage!$D$25,IF(AT12<AS12,((((AT12+1)-AS12)*24)*0.25),(AT12-AS12)*24)*0.25)","v":0},0,null,null,0,"2020-01-03","2020-01-03",null,null,{"$f":"IF(OR(BB12=\"U\",BB12=\"K\",BB12=\"FB\"),$J$2,IF(BC12<BB12,((BC12+1)-BB12)*24,(BC12-BB12)*24))","v":0},null,null,0,null,null,{"$f":"IF(OR($F$4=\"Wetzlar\"),[1]Feiertage!$D$25,IF(BI12<BH12,((((BI12+1)-BH12)*24)*0.25),(BI12-BH12)*24)*0.25)","v":0},0,null,null,0,"2020-01-03","2020-01-03",null,null,{"$f":"IF(OR(BQ12=\"U\",BQ12=\"K\",BQ12=\"FB\"),$J$2,IF(BR12<BQ12,((BR12+1)-BQ12)*24,(BR12-BQ12)*24))","v":0},null,null,0,null,null,{"$f":"IF(OR($F$4=\"Wetzlar\"),[1]Feiertage!$D$25,IF(BX12<BW12,((((BX12+1)-BW12)*24)*0.25),(BX12-BW12)*24)*0.25)","v":0},0,null,null,0,"2020-01-03","2020-01-03",null,null,{"$f":"IF(OR(CF12=\"U\",CF12=\"K\",CF12=\"FB\"),$J$2,IF(CG12<CF12,((CG12+1)-CF12)*24,(CG12-CF12)*24))","v":0},null,null,0,null,null,{"$f":"IF(OR($F$4=\"Wetzlar\"),[1]Feiertage!$D$25,IF(CM12<CL12,((((CM12+1)-CL12)*24)*0.25),(CM12-CL12)*24)*0.25)","v":0},0,null,null,0,"2020-01-03","2020-01-03",null,null,{"$f":"IF(OR(CU12=\"U\",CU12=\"K\",CU12=\"FB\"),$J$2,IF(CV12<CU12,((CV12+1)-CU12)*24,(CV12-CU12)*24))","v":0},null,null,0,null,null,{"$f":"IF(OR($F$4=\"Wetzlar\"),[1]Feiertage!$D$25,IF(DB12<DA12,((((DB12+1)-DA12)*24)*0.25),(DB12-DA12)*24)*0.25)","v":0},0,null,null,0,"2020-01-03","2020-01-03",null,null,{"$f":"IF(OR(DJ12=\"U\",DJ12=\"K\",DJ12=\"FB\"),$J$2,IF(DK12<DJ12,((DK12+1)-DJ12)*24,(DK12-DJ12)*24))","v":0},null,null,0,null,null,{"$f":"IF(OR($F$4=\"Wetzlar\"),[1]Feiertage!$D$25,IF(DQ12<DP12,((((DQ12+1)-DP12)*24)*0.25),(DQ12-DP12)*24)*0.25)","v":0},0,null,null,0,"2020-01-03","2020-01-03",null,null,{"$f":"IF(OR(DY12=\"U\",DY12=\"K\",DY12=\"FB\"),$J$2,IF(DZ12<DY12,((DZ12+1)-DY12)*24,(DZ12-DY12)*24))","v":0},null,null,0,null,null,{"$f":"IF(OR($F$4=\"Wetzlar\"),[1]Feiertage!$D$25,IF(EF12<EE12,((((EF12+1)-EE12)*24)*0.25),(EF12-EE12)*24)*0.25)","v":0},0,null,null,0,"2020-01-03","2020-01-03",null,null,{"$f":"IF(OR(EN12=\"U\",EN12=\"K\",EN12=\"FB\"),$J$2,IF(EO12<EN12,((EO12+1)-EN12)*24,(EO12-EN12)*24))","v":0},null,null,0,null,null,{"$f":"IF(OR($F$4=\"Wetzlar\"),[1]Feiertage!$D$25,IF(EU12<ET12,((((EU12+1)-ET12)*24)*0.25),(EU12-ET12)*24)*0.25)","v":0},0,null,null,0]
[null,"2020-01-04","2020-01-04",null,null,null,"2020-01-04","2020-01-04",null,null,0,null,null,0,null,null,{"$f":"IF(OR($F$4=\"Wetzlar\"),[1]Feiertage!$D$25,IF(P13<O13,((((P13+1)-O13)*24)*0.25),(P13-O13)*24)*0.25)","v":0},0,null,null,0,"2020-01-04","2020-01-04",null,null,0,null,null,0,null,null,{"$f":"IF(OR($F$4=\"Wetzlar\"),[1]Feiertage!$D$25,IF(AE13<AD13,((((AE13+1)-AD13)*24)*0.25),(AE13-AD13)*24)*0.25)","v":0},0,null,null,0,"2020-01-04","2020-01-04",null,null,0,null,null,0,null,null,{"$f":"IF(OR($F$4=\"Wetzlar\"),[1]Feiertage!$D$25,IF(AT13<AS13,((((AT13+1)-AS13)*24)*0.25),(AT13-AS13)*24)*0.25)","v":0},0,null,null,0,"2020-01-04","2020-01-04",null,null,0,null,null,0,null,null,{"$f":"IF(OR($F$4=\"Wetzlar\"),[1]Feiertage!$D$25,IF(BI13<BH13,((((BI13+1)-BH13)*24)*0.25),(BI13-BH13)*24)*0.25)","v":0},0,null,null,0,"2020-01-04","2020-01-04",null,null,0,null,null,0,null,null,{"$f":"IF(OR($F$4=\"Wetzlar\"),[1]Feiertage!$D$25,IF(BX13<BW13,((((BX13+1)-BW13)*24)*0.25),(BX13-BW13)*24)*0.25)","v":0},0,null,null,0,"2020-01-04","2020-01-04",null,null,0,null,null,0,null,null,{"$f":"IF(OR($F$4=\"Wetzlar\"),[1]Feiertage!$D$25,IF(CM13<CL13,((((CM13+1)-CL13)*24)*0.25),(CM13-CL13)*24)*0.25)","v":0},0,null,null,0,"2020-01-04","2020-01-04",null,null,0,null,null,0,null,null,{"$f":"IF(OR($F$4=\"Wetzlar\"),[1]Feiertage!$D$25,IF(DB13<DA13,((((DB13+1)-DA13)*24)*0.25),(DB13-DA13)*24)*0.25)","v":0},0,null,null,0,"2020-01-04","2020-01-04",null,null,0,null,null,0,null,null,{"$f":"IF(OR($F$4=\"Wetzlar\"),[1]Feiertage!$D$25,IF(DQ13<DP13,((((DQ13+1)-DP13)*24)*0.25),(DQ13-DP13)*24)*0.25)","v":0},0,null,null,0,"2020-01-04","2020-01-04",null,null,0,null,null,0,null,null,{"$f":"IF(OR($F$4=\"Wetzlar\"),[1]Feiertage!$D$25,IF(EF13<EE13,((((EF13+1)-EE13)*24)*0.25),(EF13-EE13)*24)*0.25)","v":0},0,null,null,0,"2020-01-04","2020-01-04",null,null,0,null,null,0,null,null,{"$f":"IF(OR($F$4=\"Wetzlar\"),[1]Feiertage!$D$25,IF(EU13<ET13,((((EU13+1)-ET13)*24)*0.25),(EU13-ET13)*24)*0.25)","v":0},0,null,null,0]
[null,"2020-01-05","2020-01-05",null,null,null,"2020-01-05","2020-01-05",null,null,{"$f":"IF(OR(I14=\"U\",I14=\"K\",I14=\"FB\"),$J$2,IF(J14<I14,((J14+1)-I14)*24,(J14-I14)*24))","v":0},null,null,0,null,null,{"$f":"IF(OR($F$4=\"Wetzlar\"),[1]Feiertage!$D$25,IF(P14<O14,((((P14+1)-O14)*24)*0.25),(P14-O14)*24)*0.25)","v":0},0,null,null,0,"2020-01-05","2020-01-05",null,null,{"$f":"IF(OR(X14=\"U\",X14=\"K\",X14=\"FB\"),$J$2,IF(Y14<X14,((Y14+1)-X14)*24,(Y14-X14)*24))","v":0},null,null,0,null,null,{"$f":"IF(OR($F$4=\"Wetzlar\"),[1]Feiertage!$D$25,IF(AE14<AD14,((((AE14+1)-AD14)*24)*0.25),(AE14-AD14)*24)*0.25)","v":0},0,null,null,0,"2020-01-05","2020-01-05",null,null,{"$f":"IF(OR(AM14=\"U\",AM14=\"K\",AM14=\"FB\"),$J$2,IF(AN14<AM14,((AN14+1)-AM14)*24,(AN14-AM14)*24))","v":0},null,null,0,null,null,{"$f":"IF(OR($F$4=\"Wetzlar\"),[1]Feiertage!$D$25,IF(AT14<AS14,((((AT14+1)-AS14)*24)*0.25),(AT14-AS14)*24)*0.25)","v":0},0,null,null,0,"2020-01-05","2020-01-05",null,null,{"$f":"IF(OR(BB14=\"U\",BB14=\"K\",BB14=\"FB\"),$J$2,IF(BC14<BB14,((BC14+1)-BB14)*24,(BC14-BB14)*24))","v":0},null,null,0,null,null,{"$f":"IF(OR($F$4=\"Wetzlar\"),[1]Feiertage!$D$25,IF(BI14<BH14,((((BI14+1)-BH14)*24)*0.25),(BI14-BH14)*24)*0.25)","v":0},0,null,null,0,"2020-01-05","2020-01-05",null,null,{"$f":"IF(OR(BQ14=\"U\",BQ14=\"K\",BQ14=\"FB\"),$J$2,IF(BR14<BQ14,((BR14+1)-BQ14)*24,(BR14-BQ14)*24))","v":0},null,null,0,null,null,{"$f":"IF(OR($F$4=\"Wetzlar\"),[1]Feiertage!$D$25,IF(BX14<BW14,((((BX14+1)-BW14)*24)*0.25),(BX14-BW14)*24)*0.25)","v":0},0,null,null,0,"2020-01-05","2020-01-05",null,null,{"$f":"IF(OR(CF14=\"U\",CF14=\"K\",CF14=\"FB\"),$J$2,IF(CG14<CF14,((CG14+1)-CF14)*24,(CG14-CF14)*24))","v":0},null,null,0,null,null,{"$f":"IF(OR($F$4=\"Wetzlar\"),[1]Feiertage!$D$25,IF(CM14<CL14,((((CM14+1)-CL14)*24)*0.25),(CM14-CL14)*24)*0.25)","v":0},0,null,null,0,"2020-01-05","2020-01-05",null,null,{"$f":"IF(OR(CU14=\"U\",CU14=\"K\",CU14=\"FB\"),$J$2,IF(CV14<CU14,((CV14+1)-CU14)*24,(CV14-CU14)*24))","v":0},null,null,0,null,null,{"$f":"IF(OR($F$4=\"Wetzlar\"),[1]Feiertage!$D$25,IF(DB14<DA14,((((DB14+1)-DA14)*24)*0.25),(DB14-DA14)*24)*0.25)","v":0},0,null,null,0,"2020-01-05","2020-01-05",null,null,{"$f":"IF(OR(DJ14=\"U\",DJ14=\"K\",DJ14=\"FB\"),$J$2,IF(DK14<DJ14,((DK14+1)-DJ14)*24,(DK14-DJ14)*24))","v":0},null,null,0,null,null,{"$f":"IF(OR($F$4=\"Wetzlar\"),[1]Feiertage!$D$25,IF(DQ14<DP14,((((DQ14+1)-DP14)*24)*0.25),(DQ14-DP14)*24)*0.25)","v":0},0,null,null,0,"2020-01-05","2020-01-05",null,null,{"$f":"IF(OR(DY14=\"U\",DY14=\"K\",DY14=\"FB\"),$J$2,IF(DZ14<DY14,((DZ14+1)-DY14)*24,(DZ14-DY14)*24))","v":0},null,null,0,null,null,{"$f":"IF(OR($F$4=\"Wetzlar\"),[1]Feiertage!$D$25,IF(EF14<EE14,((((EF14+1)-EE14)*24)*0.25),(EF14-EE14)*24)*0.25)","v":0},0,null,null,0,"2020-01-05","2020-01-05",null,null,{"$f":"IF(OR(EN14=\"U\",EN14=\"K\",EN14=\"FB\"),$J$2,IF(EO14<EN14,((EO14+1)-EN14)*24,(EO14-EN14)*24))","v":0},null,null,0,null,null,{"$f":"IF(OR($F$4=\"Wetzlar\"),[1]Feiertage!$D$25,IF(EU14<ET14,((((EU14+1)-ET14)*24)*0.25),(EU14-ET14)*24)*0.25)","v":0},0,null,null,0]
[null,"2020-01-06","2020-01-06",null,null,null,"2020-01-06","2020-01-06",null,null,0,null,null,0,null,null,{"$f":"IF(OR($F$4=\"Wetzlar\"),[1]Feiertage!$D$25,IF(P15<O15,((((P15+1)-O15)*24)*0.25),(P15-O15)*24)*0.25)","v":0},0,null,null,0,"2020-01-06","2020-01-06",null,null,{"$f":"IF(OR(X15=\"U\",X15=\"K\",X15=\"FB\"),$J$2,IF(Y15<X15,((Y15+1)-X15)*24,(Y15-X15)*24))","v":0},null,null,0,null,null,{"$f":"IF(OR($F$4=\"Wetzlar\"),[1]Feiertage!$D$25,IF(AE15<AD15,((((AE15+1)-AD15)*24)*0.25),(AE15-AD15)*24)*0.25)","v":0},0,null,null,0,"2020-01-06","2020-01-06",null,null,{"$f":"IF(OR(AM15=\"U\",AM15=\"K\",AM15=\"FB\"),$J$2,IF(AN15<AM15,((AN15+1)-AM15)*24,(AN15-AM15)*24))","v":0},null,null,0,null,null,{"$f":"IF(OR($F$4=\"Wetzlar\"),[1]Feiertage!$D$25,IF(AT15<AS15,((((AT15+1)-AS15)*24)*0.25),(AT15-AS15)*24)*0.25)","v":0},0,null,null,0,"2020-01-06","2020-01-06",null,null,{"$f":"IF(OR(BB15=\"U\",BB15=\"K\",BB15=\"FB\"),$J$2,IF(BC15<BB15,((BC15+1)-BB15)*24,(BC15-BB15)*24))","v":0},null,null,0,null,null,{"$f":"IF(OR($F$4=\"Wetzlar\"),[1]Feiertage!$D$25,IF(BI15<BH15,((((BI15+1)-BH15)*24)*0.25),(BI15-BH15)*24)*0.25)","v":0},0,null,null,0,"2020-01-06","2020-01-06",null,null,{"$f":"IF(OR(BQ15=\"U\",BQ15=\"K\",BQ15=\"FB\"),$J$2,IF(BR15<BQ15,((BR15+1)-BQ15)*24,(BR15-BQ15)*24))","v":0},null,null,0,null,null,{"$f":"IF(OR($F$4=\"Wetzlar\"),[1]Feiertage!$D$25,IF(BX15<BW15,((((BX15+1)-BW15)*24)*0.25),(BX15-BW15)*24)*0.25)","v":0},0,null,null,0,"2020-01-06","2020-01-06",null,null,{"$f":"IF(OR(CF15=\"U\",CF15=\"K\",CF15=\"FB\"),$J$2,IF(CG15<CF15,((CG15+1)-CF15)*24,(CG15-CF15)*24))","v":0},null,null,0,null,null,{"$f":"IF(OR($F$4=\"Wetzlar\"),[1]Feiertage!$D$25,IF(CM15<CL15,((((CM15+1)-CL15)*24)*0.25),(CM15-CL15)*24)*0.25)","v":0},0,null,null,0,"2020-01-06","2020-01-06",null,null,{"$f":"IF(OR(CU15=\"U\",CU15=\"K\",CU15=\"FB\"),$J$2,IF(CV15<CU15,((CV15+1)-CU15)*24,(CV15-CU15)*24))","v":0},null,null,0,null,null,{"$f":"IF(OR($F$4=\"Wetzlar\"),[1]Feiertage!$D$25,IF(DB15<DA15,((((DB15+1)-DA15)*24)*0.25),(DB15-DA15)*24)*0.25)","v":0},0,null,null,0,"2020-01-06","2020-01-06",null,null,{"$f":"IF(OR(DJ15=\"U\",DJ15=\"K\",DJ15=\"FB\"),$J$2,IF(DK15<DJ15,((DK15+1)-DJ15)*24,(DK15-DJ15)*24))","v":0},null,null,0,null,null,{"$f":"IF(OR($F$4=\"Wetzlar\"),[1]Feiertage!$D$25,IF(DQ15<DP15,((((DQ15+1)-DP15)*24)*0.25),(DQ15-DP15)*24)*0.25)","v":0},0,null,null,0,"2020-01-06","2020-01-06",null,null,{"$f":"IF(OR(DY15=\"U\",DY15=\"K\",DY15=\"FB\"),$J$2,IF(DZ15<DY15,((DZ15+1)-DY15)*24,(DZ15-DY15)*24))","v":0},null,null,0,null,null,{"$f":"IF(OR($F$4=\"Wetzlar\"),[1]Feiertage!$D$25,IF(EF15<EE15,((((EF15+1)-EE15)*24)*0.25),(EF15-EE15)*24)*0.25)","v":0},0,null,null,0,"2020-01-06","2020-01-06",null,null,{"$f":"IF(OR(EN15=\"U\",EN15=\"K\",EN15=\"FB\"),$J$2,IF(EO15<EN15,((EO15+1)-EN15)*24,(EO15-EN15)*24))","v":0},null,null,0,null,null,{"$f":"IF(OR($F$4=\"Wetzlar\"),[1]Feiertage!$D$25,IF(EU15<ET15,((((EU15+1)-ET15)*24)*0.25),(EU15-ET15)*24)*0.25)","v":0},0,null,null,0]
[null,"2020-01-07","2020-01-07",null,null,null,"2020-01-07","2020-01-07",null,null,0,null,null,0,null,null,{"$f":"IF(OR($F$4=\"Wetzlar\"),[1]Feiertage!$D$25,IF(P16<O16,((((P16+1)-O16)*24)*0.25),(P16-O16)*24)*0.25)","v":0},0,null,null,0,"2020-01-07","2020-01-07",null,null,0,null,null,0,null,null,{"$f":"IF(OR($F$4=\"Wetzlar\"),[1]Feiertage!$D$25,IF(AE16<AD16,((((AE16+1)-AD16)*24)*0.25),(AE16-AD16)*24)*0.25)","v":0},0,null,null,0,"2020-01-07","2020-01-07",null,null,0,null,null,0,null,null,{"$f":"IF(OR($F$4=\"Wetzlar\"),[1]Feiertage!$D$25,IF(AT16<AS16,((((AT16+1)-AS16)*24)*0.25),(AT16-AS16)*24)*0.25)","v":0},0,null,null,0,"2020-01-07","2020-01-07",null,null,0,null,null,0,null,null,{"$f":"IF(OR($F$4=\"Wetzlar\"),[1]Feiertage!$D$25,IF(BI16<BH16,((((BI16+1)-BH16)*24)*0.25),(BI16-BH16)*24)*0.25)","v":0},0,null,null,0,"2020-01-07","2020-01-07",null,null,0,null,null,0,null,null,{"$f":"IF(OR($F$4=\"Wetzlar\"),[1]Feiertage!$D$25,IF(BX16<BW16,((((BX16+1)-BW16)*24)*0.25),(BX16-BW16)*24)*0.25)","v":0},0,null,null,0,"2020-01-07","2020-01-07",null,null,0,null,null,0,null,null,{"$f":"IF(OR($F$4=\"Wetzlar\"),[1]Feiertage!$D$25,IF(CM16<CL16,((((CM16+1)-CL16)*24)*0.25),(CM16-CL16)*24)*0.25)","v":0},0,null,null,0,"2020-01-07","2020-01-07",null,null,0,null,null,0,null,null,{"$f":"IF(OR($F$4=\"Wetzlar\"),[1]Feiertage!$D$25,IF(DB16<DA16,((((DB16+1)-DA16)*24)*0.25),(DB16-DA16)*24)*0.25)","v":0},0,null,null,0,"2020-01-07","2020-01-07",null,null,0,null,null,0,null,null,{"$f":"IF(OR($F$4=\"Wetzlar\"),[1]Feiertage!$D$25,IF(DQ16<DP16,((((DQ16+1)-DP16)*24)*0.25),(DQ16-DP16)*24)*0.25)","v":0},0,null,null,0,"2020-01-07","2020-01-07",null,null,0,null,null,0,null,null,{"$f":"IF(OR($F$4=\"Wetzlar\"),[1]Feiertage!$D$25,IF(EF16<EE16,((((EF16+1)-EE16)*24)*0.25),(EF16-EE16)*24)*0.25)","v":0},0,null,null,0,"2020-01-07","2020-01-07",null,null,0,null,null,0,null,null,{"$f":"IF(OR($F$4=\"Wetzlar\"),[1]Feiertage!$D$25,IF(EU16<ET16,((((EU16+1)-ET16)*24)*0.25),(EU16-ET16)*24)*0.25)","v":0},0,null,null,0]
[null,"2020-01-08","2020-01-08",null,null,null,"2020-01-08","2020-01-08",null,null,0,null,null,0,null,null,{"$f":"IF(OR($F$4=\"Wetzlar\"),[1]Feiertage!$D$25,IF(P17<O17,((((P17+1)-O17)*24)*0.25),(P17-O17)*24)*0.25)","v":0},0,null,null,0,"2020-01-08","2020-01-08",null,null,0,null,null,0,null,null,{"$f":"IF(OR($F$4=\"Wetzlar\"),[1]Feiertage!$D$25,IF(AE17<AD17,((((AE17+1)-AD17)*24)*0.25),(AE17-AD17)*24)*0.25)","v":0},0,null,null,0,"2020-01-08","2020-01-08",null,null,0,null,null,0,null,null,{"$f":"IF(OR($F$4=\"Wetzlar\"),[1]Feiertage!$D$25,IF(AT17<AS17,((((AT17+1)-AS17)*24)*0.25),(AT17-AS17)*24)*0.25)","v":0},0,null,null,0,"2020-01-08","2020-01-08",null,null,0,null,null,0,null,null,{"$f":"IF(OR($F$4=\"Wetzlar\"),[1]Feiertage!$D$25,IF(BI17<BH17,((((BI17+1)-BH17)*24)*0.25),(BI17-BH17)*24)*0.25)","v":0},0,null,null,0,"2020-01-08","2020-01-08",null,null,0,null,null,0,null,null,{"$f":"IF(OR($F$4=\"Wetzlar\"),[1]Feiertage!$D$25,IF(BX17<BW17,((((BX17+1)-BW17)*24)*0.25),(BX17-BW17)*24)*0.25)","v":0},0,null,null,0,"2020-01-08","2020-01-08",null,null,0,null,null,0,null,null,{"$f":"IF(OR($F$4=\"Wetzlar\"),[1]Feiertage!$D$25,IF(CM17<CL17,((((CM17+1)-CL17)*24)*0.25),(CM17-CL17)*24)*0.25)","v":0},0,null,null,0,"2020-01-08","2020-01-08",null,null,0,null,null,0,null,null,{"$f":"IF(OR($F$4=\"Wetzlar\"),[1]Feiertage!$D$25,IF(DB17<DA17,((((DB17+1)-DA17)*24)*0.25),(DB17-DA17)*24)*0.25)","v":0},0,null,null,0,"2020-01-08","2020-01-08",null,null,0,null,null,0,null,null,{"$f":"IF(OR($F$4=\"Wetzlar\"),[1]Feiertage!$D$25,IF(DQ17<DP17,((((DQ17+1)-DP17)*24)*0.25),(DQ17-DP17)*24)*0.25)","v":0},0,null,null,0,"2020-01-08","2020-01-08",null,null,0,null,null,0,null,null,{"$f":"IF(OR($F$4=\"Wetzlar\"),[1]Feiertage!$D$25,IF(EF17<EE17,((((EF17+1)-EE17)*24)*0.25),(EF17-EE17)*24)*0.25)","v":0},0,null,null,0,"2020-01-08","2020-01-08",null,null,0,null,null,0,null,null,{"$f":"IF(OR($F$4=\"Wetzlar\"),[1]Feiertage!$D$25,IF(EU17<ET17,((((EU17+1)-ET17)*24)*0.25),(EU17-ET17)*24)*0.25)","v":0},0,null,null,0]
[null,"2020-01-09","2020-01-09",null,null,null,"2020-01-09","2020-01-09",null,null,0,null,null,0,null,null,{"$f":"IF(OR($F$4=\"Wetzlar\"),[1]Feiertage!$D$25,IF(P18<O18,((((P18+1)-O18)*24)*0.25),(P18-O18)*24)*0.25)","v":0},0,null,null,0,"2020-01-09","2020-01-09",null,null,0,null,null,0,null,null,{"$f":"IF(OR($F$4=\"Wetzlar\"),[1]Feiertage!$D$25,IF(AE18<AD18,((((AE18+1)-AD18)*24)*0.25),(AE18-AD18)*24)*0.25)","v":0},0,null,null,0,"2020-01-09","2020-01-09",null,null,0,null,null,0,null,null,{"$f":"IF(OR($F$4=\"Wetzlar\"),[1]Feiertage!$D$25,IF(AT18<AS18,((((AT18+1)-AS18)*24)*0.25),(AT18-AS18)*24)*0.25)","v":0},0,null,null,0,"2020-01-09","2020-01-09",null,null,0,null,null,0,null,null,{"$f":"IF(OR($F$4=\"Wetzlar\"),[1]Feiertage!$D$25,IF(BI18<BH18,((((BI18+1)-BH18)*24)*0.25),(BI18-BH18)*24)*0.25)","v":0},0,null,null,0,"2020-01-09","2020-01-09",null,null,0,null,null,0,null,null,{"$f":"IF(OR($F$4=\"Wetzlar\"),[1]Feiertage!$D$25,IF(BX18<BW18,((((BX18+1)-BW18)*24)*0.25),(BX18-BW18)*24)*0.25)","v":0},0,null,null,0,"2020-01-09","2020-01-09",null,null,0,null,null,0,null,null,{"$f":"IF(OR($F$4=\"Wetzlar\"),[1]Feiertage!$D$25,IF(CM18<CL18,((((CM18+1)-CL18)*24)*0.25),(CM18-CL18)*24)*0.25)","v":0},0,null,null,0,"2020-01-09","2020-01-09",null,null,0,null,null,0,null,null,{"$f":"IF(OR($F$4=\"Wetzlar\"),[1]Feiertage!$D$25,IF(DB18<DA18,((((DB18+1)-DA18)*24)*0.25),(DB18-DA18)*24)*0.25)","v":0},0,null,null,0,"2020-01-09","2020-01-09",null,null,0,null,null,0,null,null,{"$f":"IF(OR($F$4=\"Wetzlar\"),[1]Feiertage!$D$25,IF(DQ18<DP18,((((DQ18+1)-DP18)*24)*0.25),(DQ18-DP18)*24)*0.25)","v":0},0,null,null,0,"2020-01-09","2020-01-09",null,null,0,null,null,0,null,null,{"$f":"IF(OR($F$4=\"Wetzlar\"),[1]Feiertage!$D$25,IF(EF18<EE18,((((EF18+1)-EE18)*24)*0.25),(EF18-EE18)*24)*0.25)","v":0},0,null,null,0,"2020-01-09","2020-01-09",null,null,0,null,null,0,null,null,{"$f":"IF(OR($F$4=\"Wetzlar\"),[1]Feiertage!$D$25,IF(EU18<ET18,((((EU18+1)-ET18)*24)*0.25),(EU18-ET18)*24)*0.25)","v":0},0,null,null,0]
[null,"2020-01-10","2020-01-10",null,null,null,"2020-01-10","2020-01-10",null,null,0,null,null,0,null,null,{"$f":"IF(OR($F$4=\"Wetzlar\"),[1]Feiertage!$D$25,IF(P19<O19,((((P19+1)-O19)*24)*0.25),(P19-O19)*24)*0.25)","v":0},0,null,null,0,"2020-01-10","2020-01-10",null,null,0,null,null,0,null,null,{"$f":"IF(OR($F$4=\"Wetzlar\"),[1]Feiertage!$D$25,IF(AE19<AD19,((((AE19+1)-AD19)*24)*0.25),(AE19-AD19)*24)*0.25)","v":0},0,null,null,0,"2020-01-10","2020-01-10",null,null,0,null,null,0,null,null,{"$f":"IF(OR($F$4=\"Wetzlar\"),[1]Feiertage!$D$25,IF(AT19<AS19,((((AT19+1)-AS19)*24)*0.25),(AT19-AS19)*24)*0.25)","v":0},0,null,null,0,"2020-01-10","2020-01-10",null,null,0,null,null,0,null,null,{"$f":"IF(OR($F$4=\"Wetzlar\"),[1]Feiertage!$D$25,IF(BI19<BH19,((((BI19+1)-BH19)*24)*0.25),(BI19-BH19)*24)*0.25)","v":0},0,null,null,0,"2020-01-10","2020-01-10",null,null,0,null,null,0,null,null,{"$f":"IF(OR($F$4=\"Wetzlar\"),[1]Feiertage!$D$25,IF(BX19<BW19,((((BX19+1)-BW19)*24)*0.25),(BX19-BW19)*24)*0.25)","v":0},0,null,null,0,"2020-01-10","2020-01-10",null,null,0,null,null,0,null,null,{"$f":"IF(OR($F$4=\"Wetzlar\"),[1]Feiertage!$D$25,IF(CM19<CL19,((((CM19+1)-CL19)*24)*0.25),(CM19-CL19)*24)*0.25)","v":0},0,null,null,0,"2020-01-10","2020-01-10",null,null,0,null,null,0,null,null,{"$f":"IF(OR($F$4=\"Wetzlar\"),[1]Feiertage!$D$25,IF(DB19<DA19,((((DB19+1)-DA19)*24)*0.25),(DB19-DA19)*24)*0.25)","v":0},0,null,null,0,"2020-01-10","2020-01-10",null,null,0,null,null,0,null,null,{"$f":"IF(OR($F$4=\"Wetzlar\"),[1]Feiertage!$D$25,IF(DQ19<DP19,((((DQ19+1)-DP19)*24)*0.25),(DQ19-DP19)*24)*0.25)","v":0},0,null,null,0,"2020-01-10","2020-01-10",null,null,0,null,null,0,null,null,{"$f":"IF(OR($F$4=\"Wetzlar\"),[1]Feiertage!$D$25,IF(EF19<EE19,((((EF19+1)-EE19)*24)*0.25),(EF19-EE19)*24)*0.25)","v":0},0,null,null,0,"2020-01-10","2020-01-10",null,null,0,null,null,0,null,null,{"$f":"IF(OR($F$4=\"Wetzlar\"),[1]Feiertage!$D$25,IF(EU19<ET19,((((EU19+1)-ET19)*24)*0.25),(EU19-ET19)*24)*0.25)","v":0},0,null,null,0]
[null,"2020-01-11","2020-01-11",null,null,null,"2020-01-11","2020-01-11",null,null,0,null,null,0,null,null,{"$f":"IF(OR($F$4=\"Wetzlar\"),[1]Feiertage!$D$25,IF(P20<O20,((((P20+1)-O20)*24)*0.25),(P20-O20)*24)*0.25)","v":0},0,null,null,0,"2020-01-11","2020-01-11",null,null,0,null,null,0,null,null,{"$f":"IF(OR($F$4=\"Wetzlar\"),[1]Feiertage!$D$25,IF(AE20<AD20,((((AE20+1)-AD20)*24)*0.25),(AE20-AD20)*24)*0.25)","v":0},0,null,null,0,"2020-01-11","2020-01-11",null,null,0,null,null,0,null,null,{"$f":"IF(OR($F$4=\"Wetzlar\"),[1]Feiertage!$D$25,IF(AT20<AS20,((((AT20+1)-AS20)*24)*0.25),(AT20-AS20)*24)*0.25)","v":0},0,null,null,0,"2020-01-11","2020-01-11",null,null,0,null,null,0,null,null,{"$f":"IF(OR($F$4=\"Wetzlar\"),[1]Feiertage!$D$25,IF(BI20<BH20,((((BI20+1)-BH20)*24)*0.25),(BI20-BH20)*24)*0.25)","v":0},0,null,null,0,"2020-01-11","2020-01-11",null,null,0,null,null,0,null,null,{"$f":"IF(OR($F$4=\"Wetzlar\"),[1]Feiertage!$D$25,IF(BX20<BW20,((((BX20+1)-BW20)*24)*0.25),(BX20-BW20)*24)*0.25)","v":0},0,null,null,0,"2020-01-11","2020-01-11",null,null,0,null,null,0,null,null,{"$f":"IF(OR($F$4=\"Wetzlar\"),[1]Feiertage!$D$25,IF(CM20<CL20,((((CM20+1)-CL20)*24)*0.25),(CM20-CL20)*24)*0.25)","v":0},0,null,null,0,"2020-01-11","2020-01-11",null,null,0,null,null,0,null,null,{"$f":"IF(OR($F$4=\"Wetzlar\"),[1]Feiertage!$D$25,IF(DB20<DA20,((((DB20+1)-DA20)*24)*0.25),(DB20-DA20)*24)*0.25)","v":0},0,null,null,0,"2020-01-11","2020-01-11",null,null,0,null,null,0,null,null,{"$f":"IF(OR($F$4=\"Wetzlar\"),[1]Feiertage!$D$25,IF(DQ20<DP20,((((DQ20+1)-DP20)*24)*0.25),(DQ20-DP20)*24)*0.25)","v":0},0,null,null,0,"2020-01-11","2020-01-11",null,null,0,null,null,0,null,null,{"$f":"IF(OR($F$4=\"Wetzlar\"),[1]Feiertage!$D$25,IF(EF20<EE20,((((EF20+1)-EE20)*24)*0.25),(EF20-EE20)*24)*0.25)","v":0},0,null,null,0,"2020-01-11","2020-01-11",null,null,0,null,null,0,null,null,{"$f":"IF(OR($F$4=\"Wetzlar\"),[1]Feiertage!$D$25,IF(EU20<ET20,((((EU20+1)-ET20)*24)*0.25),(EU20-ET20)*24)*0.25)","v":0},0,null,null,0]
[null,"2020-01-12","2020-01-12",null,null,null,"2020-01-12","2020-01-12",null,null,0,null,null,0,null,null,{"$f":"IF(OR($F$4=\"Wetzlar\"),[1]Feiertage!$D$25,IF(P21<O21,((((P21+1)-O21)*24)*0.25),(P21-O21)*24)*0.25)","v":0},0,null,null,0,"2020-01-12","2020-01-12",null,null,0,null,null,0,null,null,{"$f":"IF(OR($F$4=\"Wetzlar\"),[1]Feiertage!$D$25,IF(AE21<AD21,((((AE21+1)-AD21)*24)*0.25),(AE21-AD21)*24)*0.25)","v":0},0,null,null,0,"2020-01-12","2020-01-12",null,null,0,null,null,0,null,null,{"$f":"IF(OR($F$4=\"Wetzlar\"),[1]Feiertage!$D$25,IF(AT21<AS21,((((AT21+1)-AS21)*24)*0.25),(AT21-AS21)*24)*0.25)","v":0},0,null,null,0,"2020-01-12","2020-01-12",null,null,0,null,null,0,null,null,{"$f":"IF(OR($F$4=\"Wetzlar\"),[1]Feiertage!$D$25,IF(BI21<BH21,((((BI21+1)-BH21)*24)*0.25),(BI21-BH21)*24)*0.25)","v":0},0,null,null,0,"2020-01-12","2020-01-12",null,null,0,null,null,0,null,null,{"$f":"IF(OR($F$4=\"Wetzlar\"),[1]Feiertage!$D$25,IF(BX21<BW21,((((BX21+1)-BW21)*24)*0.25),(BX21-BW21)*24)*0.25)","v":0},0,null,null,0,"2020-01-12","2020-01-12",null,null,0,null,null,0,null,null,{"$f":"IF(OR($F$4=\"Wetzlar\"),[1]Feiertage!$D$25,IF(CM21<CL21,((((CM21+1)-CL21)*24)*0.25),(CM21-CL21)*24)*0.25)","v":0},0,null,null,0,"2020-01-12","2020-01-12",null,null,0,null,null,0,null,null,{"$f":"IF(OR($F$4=\"Wetzlar\"),[1]Feiertage!$D$25,IF(DB21<DA21,((((DB21+1)-DA21)*24)*0.25),(DB21-DA21)*24)*0.25)","v":0},0,null,null,0,"2020-01-12","2020-01-12",null,null,0,null,null,0,null,null,{"$f":"IF(OR($F$4=\"Wetzlar\"),[1]Feiertage!$D$25,IF(DQ21<DP21,((((DQ21+1)-DP21)*24)*0.25),(DQ21-DP21)*24)*0.25)","v":0},0,null,null,0,"2020-01-12","2020-01-12",null,null,0,null,null,0,null,null,{"$f":"IF(OR($F$4=\"Wetzlar\"),[1]Feiertage!$D$25,IF(EF21<EE21,((((EF21+1)-EE21)*24)*0.25),(EF21-EE21)*24)*0.25)","v":0},0,null,null,0,"2020-01-12","2020-01-12",null,null,0,null,null,0,null,null,{"$f":"IF(OR($F$4=\"Wetzlar\"),[1]Feiertage!$D$25,IF(EU21<ET21,((((EU21+1)-ET21)*24)*0.25),(EU21-ET21)*24)*0.25)","v":0},0,null,null,0]
[null,"2020-01-13","2020-01-13",null,null,null,"2020-01-13","2020-01-13",null,null,0,null,null,0,null,null,{"$f":"IF(OR($F$4=\"Wetzlar\"),[1]Feiertage!$D$25,IF(P22<O22,((((P22+1)-O22)*24)*0.25),(P22-O22)*24)*0.25)","v":0},0,null,null,0,"2020-01-13","2020-01-13",null,null,0,null,null,0,null,null,{"$f":"IF(OR($F$4=\"Wetzlar\"),[1]Feiertage!$D$25,IF(AE22<AD22,((((AE22+1)-AD22)*24)*0.25),(AE22-AD22)*24)*0.25)","v":0},0,null,null,0,"2020-01-13","2020-01-13",null,null,0,null,null,0,null,null,{"$f":"IF(OR($F$4=\"Wetzlar\"),[1]Feiertage!$D$25,IF(AT22<AS22,((((AT22+1)-AS22)*24)*0.25),(AT22-AS22)*24)*0.25)","v":0},0,null,null,0,"2020-01-13","2020-01-13",null,null,0,null,null,0,null,null,{"$f":"IF(OR($F$4=\"Wetzlar\"),[1]Feiertage!$D$25,IF(BI22<BH22,((((BI22+1)-BH22)*24)*0.25),(BI22-BH22)*24)*0.25)","v":0},0,null,null,0,"2020-01-13","2020-01-13",null,null,0,null,null,0,null,null,{"$f":"IF(OR($F$4=\"Wetzlar\"),[1]Feiertage!$D$25,IF(BX22<BW22,((((BX22+1)-BW22)*24)*0.25),(BX22-BW22)*24)*0.25)","v":0},0,null,null,0,"2020-01-13","2020-01-13",null,null,0,null,null,0,null,null,{"$f":"IF(OR($F$4=\"Wetzlar\"),[1]Feiertage!$D$25,IF(CM22<CL22,((((CM22+1)-CL22)*24)*0.25),(CM22-CL22)*24)*0.25)","v":0},0,null,null,0,"2020-01-13","2020-01-13",null,null,0,null,null,0,null,null,{"$f":"IF(OR($F$4=\"Wetzlar\"),[1]Feiertage!$D$25,IF(DB22<DA22,((((DB22+1)-DA22)*24)*0.25),(DB22-DA22)*24)*0.25)","v":0},0,null,null,0,"2020-01-13","2020-01-13",null,null,0,null,null,0,null,null,{"$f":"IF(OR($F$4=\"Wetzlar\"),[1]Feiertage!$D$25,IF(DQ22<DP22,((((DQ22+1)-DP22)*24)*0.25),(DQ22-DP22)*24)*0.25)","v":0},0,null,null,0,"2020-01-13","2020-01-13",null,null,0,null,null,0,null,null,{"$f":"IF(OR($F$4=\"Wetzlar\"),[1]Feiertage!$D$25,IF(EF22<EE22,((((EF22+1)-EE22)*24)*0.25),(EF22-EE22)*24)*0.25)","v":0},0,null,null,0,"2020-01-13","2020-01-13",null,null,0,null,null,0,null,null,{"$f":"IF(OR($F$4=\"Wetzlar\"),[1]Feiertage!$D$25,IF(EU22<ET22,((((EU22+1)-ET22)*24)*0.25),(EU22-ET22)*24)*0.25)","v":0},0,null,null,0]
[null,"2020-01-14","2020-01-14",null,null,null,"2020-01-14","2020-01-14",null,null,0,null,null,0,null,null,{"$f":"IF(OR($F$4=\"Wetzlar\"),[1]Feiertage!$D$25,IF(P23<O23,((((P23+1)-O23)*24)*0.25),(P23-O23)*24)*0.25)","v":0},0,null,null,0,"2020-01-14","2020-01-14",null,null,0,null,null,0,null,null,{"$f":"IF(OR($F$4=\"Wetzlar\"),[1]Feiertage!$D$25,IF(AE23<AD23,((((AE23+1)-AD23)*24)*0.25),(AE23-AD23)*24)*0.25)","v":0},0,null,null,0,"2020-01-14","2020-01-14",null,null,0,null,null,0,null,null,{"$f":"IF(OR($F$4=\"Wetzlar\"),[1]Feiertage!$D$25,IF(AT23<AS23,((((AT23+1)-AS23)*24)*0.25),(AT23-AS23)*24)*0.25)","v":0},0,null,null,0,"2020-01-14","2020-01-14",null,null,0,null,null,0,null,null,{"$f":"IF(OR($F$4=\"Wetzlar\"),[1]Feiertage!$D$25,IF(BI23<BH23,((((BI23+1)-BH23)*24)*0.25),(BI23-BH23)*24)*0.25)","v":0},0,null,null,0,"2020-01-14","2020-01-14",null,null,0,null,null,0,null,null,{"$f":"IF(OR($F$4=\"Wetzlar\"),[1]Feiertage!$D$25,IF(BX23<BW23,((((BX23+1)-BW23)*24)*0.25),(BX23-BW23)*24)*0.25)","v":0},0,null,null,0,"2020-01-14","2020-01-14",null,null,0,null,null,0,null,null,{"$f":"IF(OR($F$4=\"Wetzlar\"),[1]Feiertage!$D$25,IF(CM23<CL23,((((CM23+1)-CL23)*24)*0.25),(CM23-CL23)*24)*0.25)","v":0},0,null,null,0,"2020-01-14","2020-01-14",null,null,0,null,null,0,null,null,{"$f":"IF(OR($F$4=\"Wetzlar\"),[1]Feiertage!$D$25,IF(DB23<DA23,((((DB23+1)-DA23)*24)*0.25),(DB23-DA23)*24)*0.25)","v":0},0,null,null,0,"2020-01-14","2020-01-14",null,null,0,null,null,0,null,null,{"$f":"IF(OR($F$4=\"Wetzlar\"),[1]Feiertage!$D$25,IF(DQ23<DP23,((((DQ23+1)-DP23)*24)*0.25),(DQ23-DP23)*24)*0.25)","v":0},0,null,null,0,"2020-01-14","2020-01-14",null,null,0,null,null,0,null,null,{"$f":"IF(OR($F$4=\"Wetzlar\"),[1]Feiertage!$D$25,IF(EF23<EE23,((((EF23+1)-EE23)*24)*0.25),(EF23-EE23)*24)*0.25)","v":0},0,null,null,0,"2020-01-14","2020-01-14",null,null,0,null,null,0,null,null,{"$f":"IF(OR($F$4=\"Wetzlar\"),[1]Feiertage!$D$25,IF(EU23<ET23,((((EU23+1)-ET23)*24)*0.25),(EU23-ET23)*24)*0.25)","v":0},0,null,null,0]
[null,"2020-01-15","2020-01-15",null,null,null,"2020-01-15","2020-01-15",null,null,0,null,null,0,null,null,{"$f":"IF(OR($F$4=\"Wetzlar\"),[1]Feiertage!$D$25,IF(P24<O24,((((P24+1)-O24)*24)*0.25),(P24-O24)*24)*0.25)","v":0},0,null,null,0,"2020-01-15","2020-01-15",null,null,0,null,null,0,null,null,{"$f":"IF(OR($F$4=\"Wetzlar\"),[1]Feiertage!$D$25,IF(AE24<AD24,((((AE24+1)-AD24)*24)*0.25),(AE24-AD24)*24)*0.25)","v":0},0,null,null,0,"2020-01-15","2020-01-15",null,null,0,null,null,0,null,null,{"$f":"IF(OR($F$4=\"Wetzlar\"),[1]Feiertage!$D$25,IF(AT24<AS24,((((AT24+1)-AS24)*24)*0.25),(AT24-AS24)*24)*0.25)","v":0},0,null,null,0,"2020-01-15","2020-01-15",null,null,0,null,null,0,null,null,{"$f":"IF(OR($F$4=\"Wetzlar\"),[1]Feiertage!$D$25,IF(BI24<BH24,((((BI24+1)-BH24)*24)*0.25),(BI24-BH24)*24)*0.25)","v":0},0,null,null,0,"2020-01-15","2020-01-15",null,null,0,null,null,0,null,null,{"$f":"IF(OR($F$4=\"Wetzlar\"),[1]Feiertage!$D$25,IF(BX24<BW24,((((BX24+1)-BW24)*24)*0.25),(BX24-BW24)*24)*0.25)","v":0},0,null,null,0,"2020-01-15","2020-01-15",null,null,0,null,null,0,null,null,{"$f":"IF(OR($F$4=\"Wetzlar\"),[1]Feiertage!$D$25,IF(CM24<CL24,((((CM24+1)-CL24)*24)*0.25),(CM24-CL24)*24)*0.25)","v":0},0,null,null,0,"2020-01-15","2020-01-15",null,null,0,null,null,0,null,null,{"$f":"IF(OR($F$4=\"Wetzlar\"),[1]Feiertage!$D$25,IF(DB24<DA24,((((DB24+1)-DA24)*24)*0.25),(DB24-DA24)*24)*0.25)","v":0},0,null,null,0,"2020-01-15","2020-01-15",null,null,0,null,null,0,null,null,{"$f":"IF(OR($F$4=\"Wetzlar\"),[1]Feiertage!$D$25,IF(DQ24<DP24,((((DQ24+1)-DP24)*24)*0.25),(DQ24-DP24)*24)*0.25)","v":0},0,null,null,0,"2020-01-15","2020-01-15",null,null,0,null,null,0,null,null,{"$f":"IF(OR($F$4=\"Wetzlar\"),[1]Feiertage!$D$25,IF(EF24<EE24,((((EF24+1)-EE24)*24)*0.25),(EF24-EE24)*24)*0.25)","v":0},0,null,null,0,"2020-01-15","2020-01-15",null,null,0,null,null,0,null,null,{"$f":"IF(OR($F$4=\"Wetzlar\"),[1]Feiertage!$D$25,IF(EU24<ET24,((((EU24+1)-ET24)*24)*0.25),(EU24-ET24)*24)*0.25)","v":0},0,null,null,0]
[null,"2020-01-16","2020-01-16",null,null,null,"2020-01-16","2020-01-16",null,null,0,null,null,0,null,null,{"$f":"IF(OR($F$4=\"Wetzlar\"),[1]Feiertage!$D$25,IF(P25<O25,((((P25+1)-O25)*24)*0.25),(P25-O25)*24)*0.25)","v":0},0,null,null,0,"2020-01-16","2020-01-16",null,null,0,null,null,0,null,null,{"$f":"IF(OR($F$4=\"Wetzlar\"),[1]Feiertage!$D$25,IF(AE25<AD25,((((AE25+1)-AD25)*24)*0.25),(AE25-AD25)*24)*0.25)","v":0},0,null,null,0,"2020-01-16","2020-01-16",null,null,0,null,null,0,null,null,{"$f":"IF(OR($F$4=\"Wetzlar\"),[1]Feiertage!$D$25,IF(AT25<AS25,((((AT25+1)-AS25)*24)*0.25),(AT25-AS25)*24)*0.25)","v":0},0,null,null,0,"2020-01-16","2020-01-16",null,null,0,null,null,0,null,null,{"$f":"IF(OR($F$4=\"Wetzlar\"),[1]Feiertage!$D$25,IF(BI25<BH25,((((BI25+1)-BH25)*24)*0.25),(BI25-BH25)*24)*0.25)","v":0},0,null,null,0,"2020-01-16","2020-01-16",null,null,0,null,null,0,null,null,{"$f":"IF(OR($F$4=\"Wetzlar\"),[1]Feiertage!$D$25,IF(BX25<BW25,((((BX25+1)-BW25)*24)*0.25),(BX25-BW25)*24)*0.25)","v":0},0,null,null,0,"2020-01-16","2020-01-16",null,null,0,null,null,0,null,null,{"$f":"IF(OR($F$4=\"Wetzlar\"),[1]Feiertage!$D$25,IF(CM25<CL25,((((CM25+1)-CL25)*24)*0.25),(CM25-CL25)*24)*0.25)","v":0},0,null,null,0,"2020-01-16","2020-01-16",null,null,0,null,null,0,null,null,{"$f":"IF(OR($F$4=\"Wetzlar\"),[1]Feiertage!$D$25,IF(DB25<DA25,((((DB25+1)-DA25)*24)*0.25),(DB25-DA25)*24)*0.25)","v":0},0,null,null,0,"2020-01-16","2020-01-16",null,null,0,null,null,0,null,null,{"$f":"IF(OR($F$4=\"Wetzlar\"),[1]Feiertage!$D$25,IF(DQ25<DP25,((((DQ25+1)-DP25)*24)*0.25),(DQ25-DP25)*24)*0.25)","v":0},0,null,null,0,"2020-01-16","2020-01-16",null,null,0,null,null,0,null,null,{"$f":"IF(OR($F$4=\"Wetzlar\"),[1]Feiertage!$D$25,IF(EF25<EE25,((((EF25+1)-EE25)*24)*0.25),(EF25-EE25)*24)*0.25)","v":0},0,null,null,0,"2020-01-16","2020-01-16",null,null,0,null,null,0,null,null,{"$f":"IF(OR($F$4=\"Wetzlar\"),[1]Feiertage!$D$25,IF(EU25<ET25,((((EU25+1)-ET25)*24)*0.25),(EU25-ET25)*24)*0.25)","v":0},0,null,null,0]
[null,"2020-01-17","2020-01-17",null,null,null,"2020-01-17","2020-01-17",null,null,0,null,null,0,null,null,{"$f":"IF(OR($F$4=\"Wetzlar\"),[1]Feiertage!$D$25,IF(P26<O26,((((P26+1)-O26)*24)*0.25),(P26-O26)*24)*0.25)","v":0},0,null,null,0,"2020-01-17","2020-01-17",null,null,0,null,null,0,null,null,{"$f":"IF(OR($F$4=\"Wetzlar\"),[1]Feiertage!$D$25,IF(AE26<AD26,((((AE26+1)-AD26)*24)*0.25),(AE26-AD26)*24)*0.25)","v":0},0,null,null,0,"2020-01-17","2020-01-17",null,null,0,null,null,0,null,null,{"$f":"IF(OR($F$4=\"Wetzlar\"),[1]Feiertage!$D$25,IF(AT26<AS26,((((AT26+1)-AS26)*24)*0.25),(AT26-AS26)*24)*0.25)","v":0},0,null,null,0,"2020-01-17","2020-01-17",null,null,0,null,null,0,null,null,{"$f":"IF(OR($F$4=\"Wetzlar\"),[1]Feiertage!$D$25,IF(BI26<BH26,((((BI26+1)-BH26)*24)*0.25),(BI26-BH26)*24)*0.25)","v":0},0,null,null,0,"2020-01-17","2020-01-17",null,null,0,null,null,0,null,null,{"$f":"IF(OR($F$4=\"Wetzlar\"),[1]Feiertage!$D$25,IF(BX26<BW26,((((BX26+1)-BW26)*24)*0.25),(BX26-BW26)*24)*0.25)","v":0},0,null,null,0,"2020-01-17","2020-01-17",null,null,0,null,null,0,null,null,{"$f":"IF(OR($F$4=\"Wetzlar\"),[1]Feiertage!$D$25,IF(CM26<CL26,((((CM26+1)-CL26)*24)*0.25),(CM26-CL26)*24)*0.25)","v":0},0,null,null,0,"2020-01-17","2020-01-17",null,null,0,null,null,0,null,null,{"$f":"IF(OR($F$4=\"Wetzlar\"),[1]Feiertage!$D$25,IF(DB26<DA26,((((DB26+1)-DA26)*24)*0.25),(DB26-DA26)*24)*0.25)","v":0},0,null,null,0,"2020-01-17","2020-01-17",null,null,0,null,null,0,null,null,{"$f":"IF(OR($F$4=\"Wetzlar\"),[1]Feiertage!$D$25,IF(DQ26<DP26,((((DQ26+1)-DP26)*24)*0.25),(DQ26-DP26)*24)*0.25)","v":0},0,null,null,0,"2020-01-17","2020-01-17",null,null,0,null,null,0,null,null,{"$f":"IF(OR($F$4=\"Wetzlar\"),[1]Feiertage!$D$25,IF(EF26<EE26,((((EF26+1)-EE26)*24)*0.25),(EF26-EE26)*24)*0.25)","v":0},0,null,null,0,"2020-01-17","2020-01-17",null,null,0,null,null,0,null,null,{"$f":"IF(OR($F$4=\"Wetzlar\"),[1]Feiertage!$D$25,IF(EU26<ET26,((((EU26+1)-ET26)*24)*0.25),(EU26-ET26)*24)*0.25)","v":0},0,null,null,0]
[null,"2020-01-18","2020-01-18",null,null,null,"2020-01-18","2020-01-18",null,null,0,null,null,0,null,null,{"$f":"IF(OR($F$4=\"Wetzlar\"),[1]Feiertage!$D$25,IF(P27<O27,((((P27+1)-O27)*24)*0.25),(P27-O27)*24)*0.25)","v":0},0,null,null,0,"2020-01-18","2020-01-18",null,null,0,null,null,0,null,null,{"$f":"IF(OR($F$4=\"Wetzlar\"),[1]Feiertage!$D$25,IF(AE27<AD27,((((AE27+1)-AD27)*24)*0.25),(AE27-AD27)*24)*0.25)","v":0},0,null,null,0,"2020-01-18","2020-01-18",null,null,0,null,null,0,null,null,{"$f":"IF(OR($F$4=\"Wetzlar\"),[1]Feiertage!$D$25,IF(AT27<AS27,((((AT27+1)-AS27)*24)*0.25),(AT27-AS27)*24)*0.25)","v":0},0,null,null,0,"2020-01-18","2020-01-18",null,null,0,null,null,0,null,null,{"$f":"IF(OR($F$4=\"Wetzlar\"),[1]Feiertage!$D$25,IF(BI27<BH27,((((BI27+1)-BH27)*24)*0.25),(BI27-BH27)*24)*0.25)","v":0},0,null,null,0,"2020-01-18","2020-01-18",null,null,0,null,null,0,null,null,{"$f":"IF(OR($F$4=\"Wetzlar\"),[1]Feiertage!$D$25,IF(BX27<BW27,((((BX27+1)-BW27)*24)*0.25),(BX27-BW27)*24)*0.25)","v":0},0,null,null,0,"2020-01-18","2020-01-18",null,null,0,null,null,0,null,null,{"$f":"IF(OR($F$4=\"Wetzlar\"),[1]Feiertage!$D$25,IF(CM27<CL27,((((CM27+1)-CL27)*24)*0.25),(CM27-CL27)*24)*0.25)","v":0},0,null,null,0,"2020-01-18","2020-01-18",null,null,0,null,null,0,null,null,{"$f":"IF(OR($F$4=\"Wetzlar\"),[1]Feiertage!$D$25,IF(DB27<DA27,((((DB27+1)-DA27)*24)*0.25),(DB27-DA27)*24)*0.25)","v":0},0,null,null,0,"2020-01-18","2020-01-18",null,null,0,null,null,0,null,null,{"$f":"IF(OR($F$4=\"Wetzlar\"),[1]Feiertage!$D$25,IF(DQ27<DP27,((((DQ27+1)-DP27)*24)*0.25),(DQ27-DP27)*24)*0.25)","v":0},0,null,null,0,"2020-01-18","2020-01-18",null,null,0,null,null,0,null,null,{"$f":"IF(OR($F$4=\"Wetzlar\"),[1]Feiertage!$D$25,IF(EF27<EE27,((((EF27+1)-EE27)*24)*0.25),(EF27-EE27)*24)*0.25)","v":0},0,null,null,0,"2020-01-18","2020-01-18",null,null,0,null,null,0,null,null,{"$f":"IF(OR($F$4=\"Wetzlar\"),[1]Feiertage!$D$25,IF(EU27<ET27,((((EU27+1)-ET27)*24)*0.25),(EU27-ET27)*24)*0.25)","v":0},0,null,null,0]
[null,{"$f":"B27+1","v":"2020-01-19"},"2020-01-19",null,null,null,"2020-01-19","2020-01-19",null,null,0,null,null,0,null,null,{"$f":"IF(OR($F$4=\"Wetzlar\"),[1]Feiertage!$D$25,IF(P28<O28,((((P28+1)-O28)*24)*0.25),(P28-O28)*24)*0.25)","v":0},0,null,null,0,"2020-01-19","2020-01-19",null,null,0,null,null,0,null,null,{"$f":"IF(OR($F$4=\"Wetzlar\"),[1]Feiertage!$D$25,IF(AE28<AD28,((((AE28+1)-AD28)*24)*0.25),(AE28-AD28)*24)*0.25)","v":0},0,null,null,0,"2020-01-19","2020-01-19",null,null,0,null,null,0,null,null,{"$f":"IF(OR($F$4=\"Wetzlar\"),[1]Feiertage!$D$25,IF(AT28<AS28,((((AT28+1)-AS28)*24)*0.25),(AT28-AS28)*24)*0.25)","v":0},0,null,null,0,"2020-01-19","2020-01-19",null,null,0,null,null,0,null,null,{"$f":"IF(OR($F$4=\"Wetzlar\"),[1]Feiertage!$D$25,IF(BI28<BH28,((((BI28+1)-BH28)*24)*0.25),(BI28-BH28)*24)*0.25)","v":0},0,null,null,0,"2020-01-19","2020-01-19",null,null,0,null,null,0,null,null,{"$f":"IF(OR($F$4=\"Wetzlar\"),[1]Feiertage!$D$25,IF(BX28<BW28,((((BX28+1)-BW28)*24)*0.25),(BX28-BW28)*24)*0.25)","v":0},0,null,null,0,"2020-01-19","2020-01-19",null,null,0,null,null,0,null,null,{"$f":"IF(OR($F$4=\"Wetzlar\"),[1]Feiertage!$D$25,IF(CM28<CL28,((((CM28+1)-CL28)*24)*0.25),(CM28-CL28)*24)*0.25)","v":0},0,null,null,0,"2020-01-19","2020-01-19",null,null,0,null,null,0,null,null,{"$f":"IF(OR($F$4=\"Wetzlar\"),[1]Feiertage!$D$25,IF(DB28<DA28,((((DB28+1)-DA28)*24)*0.25),(DB28-DA28)*24)*0.25)","v":0},0,null,null,0,"2020-01-19","2020-01-19",null,null,0,null,null,0,null,null,{"$f":"IF(OR($F$4=\"Wetzlar\"),[1]Feiertage!$D$25,IF(DQ28<DP28,((((DQ28+1)-DP28)*24)*0.25),(DQ28-DP28)*24)*0.25)","v":0},0,null,null,0,"2020-01-19","2020-01-19",null,null,0,null,null,0,null,null,{"$f":"IF(OR($F$4=\"Wetzlar\"),[1]Feiertage!$D$25,IF(EF28<EE28,((((EF28+1)-EE28)*24)*0.25),(EF28-EE28)*24)*0.25)","v":0},0,null,null,0,"2020-01-19","2020-01-19",null,null,0,null,null,0,null,null,{"$f":"IF(OR($F$4=\"Wetzlar\"),[1]Feiertage!$D$25,IF(EU28<ET28,((((EU28+1)-ET28)*24)*0.25),(EU28-ET28)*24)*0.25)","v":0},0,null,null,0]
[null,"2020-01-20","2020-01-20",null,null,null,"2020-01-20","2020-01-20",null,null,0,null,null,0,null,null,{"$f":"IF(OR($F$4=\"Wetzlar\"),[1]Feiertage!$D$25,IF(P29<O29,((((P29+1)-O29)*24)*0.25),(P29-O29)*24)*0.25)","v":0},0,null,null,0,"2020-01-20","2020-01-20",null,null,0,null,null,0,null,null,{"$f":"IF(OR($F$4=\"Wetzlar\"),[1]Feiertage!$D$25,IF(AE29<AD29,((((AE29+1)-AD29)*24)*0.25),(AE29-AD29)*24)*0.25)","v":0},0,null,null,0,"2020-01-20","2020-01-20",null,null,0,null,null,0,null,null,{"$f":"IF(OR($F$4=\"Wetzlar\"),[1]Feiertage!$D$25,IF(AT29<AS29,((((AT29+1)-AS29)*24)*0.25),(AT29-AS29)*24)*0.25)","v":0},0,null,null,0,"2020-01-20","2020-01-20",null,null,0,null,null,0,null,null,{"$f":"IF(OR($F$4=\"Wetzlar\"),[1]Feiertage!$D$25,IF(BI29<BH29,((((BI29+1)-BH29)*24)*0.25),(BI29-BH29)*24)*0.25)","v":0},0,null,null,0,"2020-01-20","2020-01-20",null,null,0,null,null,0,null,null,{"$f":"IF(OR($F$4=\"Wetzlar\"),[1]Feiertage!$D$25,IF(BX29<BW29,((((BX29+1)-BW29)*24)*0.25),(BX29-BW29)*24)*0.25)","v":0},0,null,null,0,"2020-01-20","2020-01-20",null,null,0,null,null,0,null,null,{"$f":"IF(OR($F$4=\"Wetzlar\"),[1]Feiertage!$D$25,IF(CM29<CL29,((((CM29+1)-CL29)*24)*0.25),(CM29-CL29)*24)*0.25)","v":0},0,null,null,0,"2020-01-20","2020-01-20",null,null,0,null,null,0,null,null,{"$f":"IF(OR($F$4=\"Wetzlar\"),[1]Feiertage!$D$25,IF(DB29<DA29,((((DB29+1)-DA29)*24)*0.25),(DB29-DA29)*24)*0.25)","v":0},0,null,null,0,"2020-01-20","2020-01-20",null,null,0,null,null,0,null,null,{"$f":"IF(OR($F$4=\"Wetzlar\"),[1]Feiertage!$D$25,IF(DQ29<DP29,((((DQ29+1)-DP29)*24)*0.25),(DQ29-DP29)*24)*0.25)","v":0},0,null,null,0,"2020-01-20","2020-01-20",null,null,0,null,null,0,null,null,{"$f":"IF(OR($F$4=\"Wetzlar\"),[1]Feiertage!$D$25,IF(EF29<EE29,((((EF29+1)-EE29)*24)*0.25),(EF29-EE29)*24)*0.25)","v":0},0,null,null,0,"2020-01-20","2020-01-20",null,null,0,null,null,0,null,null,{"$f":"IF(OR($F$4=\"Wetzlar\"),[1]Feiertage!$D$25,IF(EU29<ET29,((((EU29+1)-ET29)*24)*0.25),(EU29-ET29)*24)*0.25)","v":0},0,null,null,0]
[null,"2020-01-21","2020-01-21",null,null,null,"2020-01-21","2020-01-21",null,null,0,null,null,0,null,null,{"$f":"IF(OR($F$4=\"Wetzlar\"),[1]Feiertage!$D$25,IF(P30<O30,((((P30+1)-O30)*24)*0.25),(P30-O30)*24)*0.25)","v":0},0,null,null,0,"2020-01-21","2020-01-21",null,null,0,null,null,0,null,null,{"$f":"IF(OR($F$4=\"Wetzlar\"),[1]Feiertage!$D$25,IF(AE30<AD30,((((AE30+1)-AD30)*24)*0.25),(AE30-AD30)*24)*0.25)","v":0},0,null,null,0,"2020-01-21","2020-01-21",null,null,0,null,null,0,null,null,{"$f":"IF(OR($F$4=\"Wetzlar\"),[1]Feiertage!$D$25,IF(AT30<AS30,((((AT30+1)-AS30)*24)*0.25),(AT30-AS30)*24)*0.25)","v":0},0,null,null,0,"2020-01-21","2020-01-21",null,null,0,null,null,0,null,null,{"$f":"IF(OR($F$4=\"Wetzlar\"),[1]Feiertage!$D$25,IF(BI30<BH30,((((BI30+1)-BH30)*24)*0.25),(BI30-BH30)*24)*0.25)","v":0},0,null,null,0,"2020-01-21","2020-01-21",null,null,0,null,null,0,null,null,{"$f":"IF(OR($F$4=\"Wetzlar\"),[1]Feiertage!$D$25,IF(BX30<BW30,((((BX30+1)-BW30)*24)*0.25),(BX30-BW30)*24)*0.25)","v":0},0,null,null,0,"2020-01-21","2020-01-21",null,null,0,null,null,0,null,null,{"$f":"IF(OR($F$4=\"Wetzlar\"),[1]Feiertage!$D$25,IF(CM30<CL30,((((CM30+1)-CL30)*24)*0.25),(CM30-CL30)*24)*0.25)","v":0},0,null,null,0,"2020-01-21","2020-01-21",null,null,0,null,null,0,null,null,{"$f":"IF(OR($F$4=\"Wetzlar\"),[1]Feiertage!$D$25,IF(DB30<DA30,((((DB30+1)-DA30)*24)*0.25),(DB30-DA30)*24)*0.25)","v":0},0,null,null,0,"2020-01-21","2020-01-21",null,null,0,null,null,0,null,null,{"$f":"IF(OR($F$4=\"Wetzlar\"),[1]Feiertage!$D$25,IF(DQ30<DP30,((((DQ30+1)-DP30)*24)*0.25),(DQ30-DP30)*24)*0.25)","v":0},0,null,null,0,"2020-01-21","2020-01-21",null,null,0,null,null,0,null,null,{"$f":"IF(OR($F$4=\"Wetzlar\"),[1]Feiertage!$D$25,IF(EF30<EE30,((((EF30+1)-EE30)*24)*0.25),(EF30-EE30)*24)*0.25)","v":0},0,null,null,0,"2020-01-21","2020-01-21",null,null,0,null,null,0,null,null,{"$f":"IF(OR($F$4=\"Wetzlar\"),[1]Feiertage!$D$25,IF(EU30<ET30,((((EU30+1)-ET30)*24)*0.25),(EU30-ET30)*24)*0.25)","v":0},0,null,null,0]
[null,"2020-01-22","2020-01-22",null,null,null,"2020-01-22","2020-01-22",null,null,0,null,null,0,null,null,{"$f":"IF(OR($F$4=\"Wetzlar\"),[1]Feiertage!$D$25,IF(P31<O31,((((P31+1)-O31)*24)*0.25),(P31-O31)*24)*0.25)","v":0},0,null,null,0,"2020-01-22","2020-01-22",null,null,0,null,null,0,null,null,{"$f":"IF(OR($F$4=\"Wetzlar\"),[1]Feiertage!$D$25,IF(AE31<AD31,((((AE31+1)-AD31)*24)*0.25),(AE31-AD31)*24)*0.25)","v":0},0,null,null,0,"2020-01-22","2020-01-22",null,null,0,null,null,0,null,null,{"$f":"IF(OR($F$4=\"Wetzlar\"),[1]Feiertage!$D$25,IF(AT31<AS31,((((AT31+1)-AS31)*24)*0.25),(AT31-AS31)*24)*0.25)","v":0},0,null,null,0,"2020-01-22","2020-01-22",null,null,0,null,null,0,null,null,{"$f":"IF(OR($F$4=\"Wetzlar\"),[1]Feiertage!$D$25,IF(BI31<BH31,((((BI31+1)-BH31)*24)*0.25),(BI31-BH31)*24)*0.25)","v":0},0,null,null,0,"2020-01-22","2020-01-22",null,null,0,null,null,0,null,null,{"$f":"IF(OR($F$4=\"Wetzlar\"),[1]Feiertage!$D$25,IF(BX31<BW31,((((BX31+1)-BW31)*24)*0.25),(BX31-BW31)*24)*0.25)","v":0},0,null,null,0,"2020-01-22","2020-01-22",null,null,0,null,null,0,null,null,{"$f":"IF(OR($F$4=\"Wetzlar\"),[1]Feiertage!$D$25,IF(CM31<CL31,((((CM31+1)-CL31)*24)*0.25),(CM31-CL31)*24)*0.25)","v":0},0,null,null,0,"2020-01-22","2020-01-22",null,null,0,null,null,0,null,null,{"$f":"IF(OR($F$4=\"Wetzlar\"),[1]Feiertage!$D$25,IF(DB31<DA31,((((DB31+1)-DA31)*24)*0.25),(DB31-DA31)*24)*0.25)","v":0},0,null,null,0,"2020-01-22","2020-01-22",null,null,0,null,null,0,null,null,{"$f":"IF(OR($F$4=\"Wetzlar\"),[1]Feiertage!$D$25,IF(DQ31<DP31,((((DQ31+1)-DP31)*24)*0.25),(DQ31-DP31)*24)*0.25)","v":0},0,null,null,0,"2020-01-22","2020-01-22",null,null,0,null,null,0,null,null,{"$f":"IF(OR($F$4=\"Wetzlar\"),[1]Feiertage!$D$25,IF(EF31<EE31,((((EF31+1)-EE31)*24)*0.25),(EF31-EE31)*24)*0.25)","v":0},0,null,null,0,"2020-01-22","2020-01-22",null,null,0,null,null,0,null,null,{"$f":"IF(OR($F$4=\"Wetzlar\"),[1]Feiertage!$D$25,IF(EU31<ET31,((((EU31+1)-ET31)*24)*0.25),(EU31-ET31)*24)*0.25)","v":0},0,null,null,0]
[null,"2020-01-23","2020-01-23",null,null,null,"2020-01-23","2020-01-23",null,null,0,null,null,0,null,null,{"$f":"IF(OR($F$4=\"Wetzlar\"),[1]Feiertage!$D$25,IF(P32<O32,((((P32+1)-O32)*24)*0.25),(P32-O32)*24)*0.25)","v":0},0,null,null,0,"2020-01-23","2020-01-23",null,null,0,null,null,0,null,null,{"$f":"IF(OR($F$4=\"Wetzlar\"),[1]Feiertage!$D$25,IF(AE32<AD32,((((AE32+1)-AD32)*24)*0.25),(AE32-AD32)*24)*0.25)","v":0},0,null,null,0,"2020-01-23","2020-01-23",null,null,0,null,null,0,null,null,{"$f":"IF(OR($F$4=\"Wetzlar\"),[1]Feiertage!$D$25,IF(AT32<AS32,((((AT32+1)-AS32)*24)*0.25),(AT32-AS32)*24)*0.25)","v":0},0,null,null,0,"2020-01-23","2020-01-23",null,null,0,null,null,0,null,null,{"$f":"IF(OR($F$4=\"Wetzlar\"),[1]Feiertage!$D$25,IF(BI32<BH32,((((BI32+1)-BH32)*24)*0.25),(BI32-BH32)*24)*0.25)","v":0},0,null,null,0,"2020-01-23","2020-01-23",null,null,0,null,null,0,null,null,{"$f":"IF(OR($F$4=\"Wetzlar\"),[1]Feiertage!$D$25,IF(BX32<BW32,((((BX32+1)-BW32)*24)*0.25),(BX32-BW32)*24)*0.25)","v":0},0,null,null,0,"2020-01-23","2020-01-23",null,null,0,null,null,0,null,null,{"$f":"IF(OR($F$4=\"Wetzlar\"),[1]Feiertage!$D$25,IF(CM32<CL32,((((CM32+1)-CL32)*24)*0.25),(CM32-CL32)*24)*0.25)","v":0},0,null,null,0,"2020-01-23","2020-01-23",null,null,0,null,null,0,null,null,{"$f":"IF(OR($F$4=\"Wetzlar\"),[1]Feiertage!$D$25,IF(DB32<DA32,((((DB32+1)-DA32)*24)*0.25),(DB32-DA32)*24)*0.25)","v":0},0,null,null,0,"2020-01-23","2020-01-23",null,null,0,null,null,0,null,null,{"$f":"IF(OR($F$4=\"Wetzlar\"),[1]Feiertage!$D$25,IF(DQ32<DP32,((((DQ32+1)-DP32)*24)*0.25),(DQ32-DP32)*24)*0.25)","v":0},0,null,null,0,"2020-01-23","2020-01-23",null,null,0,null,null,0,null,null,{"$f":"IF(OR($F$4=\"Wetzlar\"),[1]Feiertage!$D$25,IF(EF32<EE32,((((EF32+1)-EE32)*24)*0.25),(EF32-EE32)*24)*0.25)","v":0},0,null,null,0,"2020-01-23","2020-01-23",null,null,0,null,null,0,null,null,{"$f":"IF(OR($F$4=\"Wetzlar\"),[1]Feiertage!$D$25,IF(EU32<ET32,((((EU32+1)-ET32)*24)*0.25),(EU32-ET32)*24)*0.25)","v":0},0,null,null,0]
[null,"2020-01-24","2020-01-24",null,null,null,"2020-01-24","2020-01-24",null,null,0,null,null,0,null,null,{"$f":"IF(OR($F$4=\"Wetzlar\"),[1]Feiertage!$D$25,IF(P33<O33,((((P33+1)-O33)*24)*0.25),(P33-O33)*24)*0.25)","v":0},0,null,null,0,"2020-01-24","2020-01-24",null,null,0,null,null,0,null,null,{"$f":"IF(OR($F$4=\"Wetzlar\"),[1]Feiertage!$D$25,IF(AE33<AD33,((((AE33+1)-AD33)*24)*0.25),(AE33-AD33)*24)*0.25)","v":0},0,null,null,0,"2020-01-24","2020-01-24",null,null,0,null,null,0,null,null,{"$f":"IF(OR($F$4=\"Wetzlar\"),[1]Feiertage!$D$25,IF(AT33<AS33,((((AT33+1)-AS33)*24)*0.25),(AT33-AS33)*24)*0.25)","v":0},0,null,null,0,"2020-01-24","2020-01-24",null,null,0,null,null,0,null,null,{"$f":"IF(OR($F$4=\"Wetzlar\"),[1]Feiertage!$D$25,IF(BI33<BH33,((((BI33+1)-BH33)*24)*0.25),(BI33-BH33)*24)*0.25)","v":0},0,null,null,0,"2020-01-24","2020-01-24",null,null,0,null,null,0,null,null,{"$f":"IF(OR($F$4=\"Wetzlar\"),[1]Feiertage!$D$25,IF(BX33<BW33,((((BX33+1)-BW33)*24)*0.25),(BX33-BW33)*24)*0.25)","v":0},0,null,null,0,"2020-01-24","2020-01-24",null,null,0,null,null,0,null,null,{"$f":"IF(OR($F$4=\"Wetzlar\"),[1]Feiertage!$D$25,IF(CM33<CL33,((((CM33+1)-CL33)*24)*0.25),(CM33-CL33)*24)*0.25)","v":0},0,null,null,0,"2020-01-24","2020-01-24",null,null,0,null,null,0,null,null,{"$f":"IF(OR($F$4=\"Wetzlar\"),[1]Feiertage!$D$25,IF(DB33<DA33,((((DB33+1)-DA33)*24)*0.25),(DB33-DA33)*24)*0.25)","v":0},0,null,null,0,"2020-01-24","2020-01-24",null,null,0,null,null,0,null,null,{"$f":"IF(OR($F$4=\"Wetzlar\"),[1]Feiertage!$D$25,IF(DQ33<DP33,((((DQ33+1)-DP33)*24)*0.25),(DQ33-DP33)*24)*0.25)","v":0},0,null,null,0,"2020-01-24","2020-01-24",null,null,0,null,null,0,null,null,{"$f":"IF(OR($F$4=\"Wetzlar\"),[1]Feiertage!$D$25,IF(EF33<EE33,((((EF33+1)-EE33)*24)*0.25),(EF33-EE33)*24)*0.25)","v":0},0,null,null,0,"2020-01-24","2020-01-24",null,null,0,null,null,0,null,null,{"$f":"IF(OR($F$4=\"Wetzlar\"),[1]Feiertage!$D$25,IF(EU33<ET33,((((EU33+1)-ET33)*24)*0.25),(EU33-ET33)*24)*0.25)","v":0},0,null,null,0]
[null,"2020-01-25","2020-01-25",null,null,null,"2020-01-25","2020-01-25",null,null,0,null,null,0,null,null,{"$f":"IF(OR($F$4=\"Wetzlar\"),[1]Feiertage!$D$25,IF(P34<O34,((((P34+1)-O34)*24)*0.25),(P34-O34)*24)*0.25)","v":0},0,null,null,0,"2020-01-25","2020-01-25",null,null,0,null,null,0,null,null,{"$f":"IF(OR($F$4=\"Wetzlar\"),[1]Feiertage!$D$25,IF(AE34<AD34,((((AE34+1)-AD34)*24)*0.25),(AE34-AD34)*24)*0.25)","v":0},0,null,null,0,"2020-01-25","2020-01-25",null,null,0,null,null,0,null,null,{"$f":"IF(OR($F$4=\"Wetzlar\"),[1]Feiertage!$D$25,IF(AT34<AS34,((((AT34+1)-AS34)*24)*0.25),(AT34-AS34)*24)*0.25)","v":0},0,null,null,0,"2020-01-25","2020-01-25",null,null,0,null,null,0,null,null,{"$f":"IF(OR($F$4=\"Wetzlar\"),[1]Feiertage!$D$25,IF(BI34<BH34,((((BI34+1)-BH34)*24)*0.25),(BI34-BH34)*24)*0.25)","v":0},0,null,null,0,"2020-01-25","2020-01-25",null,null,0,null,null,0,null,null,{"$f":"IF(OR($F$4=\"Wetzlar\"),[1]Feiertage!$D$25,IF(BX34<BW34,((((BX34+1)-BW34)*24)*0.25),(BX34-BW34)*24)*0.25)","v":0},0,null,null,0,"2020-01-25","2020-01-25",null,null,0,null,null,0,null,null,{"$f":"IF(OR($F$4=\"Wetzlar\"),[1]Feiertage!$D$25,IF(CM34<CL34,((((CM34+1)-CL34)*24)*0.25),(CM34-CL34)*24)*0.25)","v":0},0,null,null,0,"2020-01-25","2020-01-25",null,null,0,null,null,0,null,null,{"$f":"IF(OR($F$4=\"Wetzlar\"),[1]Feiertage!$D$25,IF(DB34<DA34,((((DB34+1)-DA34)*24)*0.25),(DB34-DA34)*24)*0.25)","v":0},0,null,null,0,"2020-01-25","2020-01-25",null,null,0,null,null,0,null,null,{"$f":"IF(OR($F$4=\"Wetzlar\"),[1]Feiertage!$D$25,IF(DQ34<DP34,((((DQ34+1)-DP34)*24)*0.25),(DQ34-DP34)*24)*0.25)","v":0},0,null,null,0,"2020-01-25","2020-01-25",null,null,0,null,null,0,null,null,{"$f":"IF(OR($F$4=\"Wetzlar\"),[1]Feiertage!$D$25,IF(EF34<EE34,((((EF34+1)-EE34)*24)*0.25),(EF34-EE34)*24)*0.25)","v":0},0,null,null,0,"2020-01-25","2020-01-25",null,null,0,null,null,0,null,null,{"$f":"IF(OR($F$4=\"Wetzlar\"),[1]Feiertage!$D$25,IF(EU34<ET34,((((EU34+1)-ET34)*24)*0.25),(EU34-ET34)*24)*0.25)","v":0},0,null,null,0]
[null,"2020-01-26","2020-01-26",null,null,null,"2020-01-26","2020-01-26",null,null,0,null,null,0,null,null,{"$f":"IF(OR($F$4=\"Wetzlar\"),[1]Feiertage!$D$25,IF(P35<O35,((((P35+1)-O35)*24)*0.25),(P35-O35)*24)*0.25)","v":0},0,null,null,0,"2020-01-26","2020-01-26",null,null,0,null,null,0,null,null,{"$f":"IF(OR($F$4=\"Wetzlar\"),[1]Feiertage!$D$25,IF(AE35<AD35,((((AE35+1)-AD35)*24)*0.25),(AE35-AD35)*24)*0.25)","v":0},0,null,null,0,"2020-01-26","2020-01-26",null,null,0,null,null,0,null,null,{"$f":"IF(OR($F$4=\"Wetzlar\"),[1]Feiertage!$D$25,IF(AT35<AS35,((((AT35+1)-AS35)*24)*0.25),(AT35-AS35)*24)*0.25)","v":0},0,null,null,0,"2020-01-26","2020-01-26",null,null,0,null,null,0,null,null,{"$f":"IF(OR($F$4=\"Wetzlar\"),[1]Feiertage!$D$25,IF(BI35<BH35,((((BI35+1)-BH35)*24)*0.25),(BI35-BH35)*24)*0.25)","v":0},0,null,null,0,"2020-01-26","2020-01-26",null,null,0,null,null,0,null,null,{"$f":"IF(OR($F$4=\"Wetzlar\"),[1]Feiertage!$D$25,IF(BX35<BW35,((((BX35+1)-BW35)*24)*0.25),(BX35-BW35)*24)*0.25)","v":0},0,null,null,0,"2020-01-26","2020-01-26",null,null,0,null,null,0,null,null,{"$f":"IF(OR($F$4=\"Wetzlar\"),[1]Feiertage!$D$25,IF(CM35<CL35,((((CM35+1)-CL35)*24)*0.25),(CM35-CL35)*24)*0.25)","v":0},0,null,null,0,"2020-01-26","2020-01-26",null,null,0,null,null,0,null,null,{"$f":"IF(OR($F$4=\"Wetzlar\"),[1]Feiertage!$D$25,IF(DB35<DA35,((((DB35+1)-DA35)*24)*0.25),(DB35-DA35)*24)*0.25)","v":0},0,null,null,0,"2020-01-26","2020-01-26",null,null,0,null,null,0,null,null,{"$f":"IF(OR($F$4=\"Wetzlar\"),[1]Feiertage!$D$25,IF(DQ35<DP35,((((DQ35+1)-DP35)*24)*0.25),(DQ35-DP35)*24)*0.25)","v":0},0,null,null,0,"2020-01-26","2020-01-26",null,null,0,null,null,0,null,null,{"$f":"IF(OR($F$4=\"Wetzlar\"),[1]Feiertage!$D$25,IF(EF35<EE35,((((EF35+1)-EE35)*24)*0.25),(EF35-EE35)*24)*0.25)","v":0},0,null,null,0,"2020-01-26","2020-01-26",null,null,0,null,null,0,null,null,{"$f":"IF(OR($F$4=\"Wetzlar\"),[1]Feiertage!$D$25,IF(EU35<ET35,((((EU35+1)-ET35)*24)*0.25),(EU35-ET35)*24)*0.25)","v":0},0,null,null,0]
[null,"2020-01-27","2020-01-27",null,null,null,"2020-01-27","2020-01-27",null,null,0,null,null,0,null,null,{"$f":"IF(OR($F$4=\"Wetzlar\"),[1]Feiertage!$D$25,IF(P36<O36,((((P36+1)-O36)*24)*0.25),(P36-O36)*24)*0.25)","v":0},0,null,null,0,"2020-01-27","2020-01-27",null,null,0,null,null,0,null,null,{"$f":"IF(OR($F$4=\"Wetzlar\"),[1]Feiertage!$D$25,IF(AE36<AD36,((((AE36+1)-AD36)*24)*0.25),(AE36-AD36)*24)*0.25)","v":0},0,null,null,0,"2020-01-27","2020-01-27",null,null,0,null,null,0,null,null,{"$f":"IF(OR($F$4=\"Wetzlar\"),[1]Feiertage!$D$25,IF(AT36<AS36,((((AT36+1)-AS36)*24)*0.25),(AT36-AS36)*24)*0.25)","v":0},0,null,null,0,"2020-01-27","2020-01-27",null,null,0,null,null,0,null,null,{"$f":"IF(OR($F$4=\"Wetzlar\"),[1]Feiertage!$D$25,IF(BI36<BH36,((((BI36+1)-BH36)*24)*0.25),(BI36-BH36)*24)*0.25)","v":0},0,null,null,0,"2020-01-27","2020-01-27",null,null,0,null,null,0,null,null,{"$f":"IF(OR($F$4=\"Wetzlar\"),[1]Feiertage!$D$25,IF(BX36<BW36,((((BX36+1)-BW36)*24)*0.25),(BX36-BW36)*24)*0.25)","v":0},0,null,null,0,"2020-01-27","2020-01-27",null,null,0,null,null,0,null,null,{"$f":"IF(OR($F$4=\"Wetzlar\"),[1]Feiertage!$D$25,IF(CM36<CL36,((((CM36+1)-CL36)*24)*0.25),(CM36-CL36)*24)*0.25)","v":0},0,null,null,0,"2020-01-27","2020-01-27",null,null,0,null,null,0,null,null,{"$f":"IF(OR($F$4=\"Wetzlar\"),[1]Feiertage!$D$25,IF(DB36<DA36,((((DB36+1)-DA36)*24)*0.25),(DB36-DA36)*24)*0.25)","v":0},0,null,null,0,"2020-01-27","2020-01-27",null,null,0,null,null,0,null,null,{"$f":"IF(OR($F$4=\"Wetzlar\"),[1]Feiertage!$D$25,IF(DQ36<DP36,((((DQ36+1)-DP36)*24)*0.25),(DQ36-DP36)*24)*0.25)","v":0},0,null,null,0,"2020-01-27","2020-01-27",null,null,0,null,null,0,null,null,{"$f":"IF(OR($F$4=\"Wetzlar\"),[1]Feiertage!$D$25,IF(EF36<EE36,((((EF36+1)-EE36)*24)*0.25),(EF36-EE36)*24)*0.25)","v":0},0,null,null,0,"2020-01-27","2020-01-27",null,null,0,null,null,0,null,null,{"$f":"IF(OR($F$4=\"Wetzlar\"),[1]Feiertage!$D$25,IF(EU36<ET36,((((EU36+1)-ET36)*24)*0.25),(EU36-ET36)*24)*0.25)","v":0},0,null,null,0]
[null,"2020-01-28","2020-01-28",null,null,null,"2020-01-28","2020-01-28",null,null,0,null,null,0,null,null,{"$f":"IF(OR($F$4=\"Wetzlar\"),[1]Feiertage!$D$25,IF(P37<O37,((((P37+1)-O37)*24)*0.25),(P37-O37)*24)*0.25)","v":0},0,null,null,0,"2020-01-28","2020-01-28",null,null,0,null,null,0,null,null,{"$f":"IF(OR($F$4=\"Wetzlar\"),[1]Feiertage!$D$25,IF(AE37<AD37,((((AE37+1)-AD37)*24)*0.25),(AE37-AD37)*24)*0.25)","v":0},0,null,null,0,"2020-01-28","2020-01-28",null,null,0,null,null,0,null,null,{"$f":"IF(OR($F$4=\"Wetzlar\"),[1]Feiertage!$D$25,IF(AT37<AS37,((((AT37+1)-AS37)*24)*0.25),(AT37-AS37)*24)*0.25)","v":0},0,null,null,0,"2020-01-28","2020-01-28",null,null,0,null,null,0,null,null,{"$f":"IF(OR($F$4=\"Wetzlar\"),[1]Feiertage!$D$25,IF(BI37<BH37,((((BI37+1)-BH37)*24)*0.25),(BI37-BH37)*24)*0.25)","v":0},0,null,null,0,"2020-01-28","2020-01-28",null,null,0,null,null,0,null,null,{"$f":"IF(OR($F$4=\"Wetzlar\"),[1]Feiertage!$D$25,IF(BX37<BW37,((((BX37+1)-BW37)*24)*0.25),(BX37-BW37)*24)*0.25)","v":0},0,null,null,0,"2020-01-28","2020-01-28",null,null,0,null,null,0,null,null,{"$f":"IF(OR($F$4=\"Wetzlar\"),[1]Feiertage!$D$25,IF(CM37<CL37,((((CM37+1)-CL37)*24)*0.25),(CM37-CL37)*24)*0.25)","v":0},0,null,null,0,"2020-01-28","2020-01-28",null,null,0,null,null,0,null,null,{"$f":"IF(OR($F$4=\"Wetzlar\"),[1]Feiertage!$D$25,IF(DB37<DA37,((((DB37+1)-DA37)*24)*0.25),(DB37-DA37)*24)*0.25)","v":0},0,null,null,0,"2020-01-28","2020-01-28",null,null,0,null,null,0,null,null,{"$f":"IF(OR($F$4=\"Wetzlar\"),[1]Feiertage!$D$25,IF(DQ37<DP37,((((DQ37+1)-DP37)*24)*0.25),(DQ37-DP37)*24)*0.25)","v":0},0,null,null,0,"2020-01-28","2020-01-28",null,null,0,null,null,0,null,null,{"$f":"IF(OR($F$4=\"Wetzlar\"),[1]Feiertage!$D$25,IF(EF37<EE37,((((EF37+1)-EE37)*24)*0.25),(EF37-EE37)*24)*0.25)","v":0},0,null,null,0,"2020-01-28","2020-01-28",null,null,0,null,null,0,null,null,{"$f":"IF(OR($F$4=\"Wetzlar\"),[1]Feiertage!$D$25,IF(EU37<ET37,((((EU37+1)-ET37)*24)*0.25),(EU37-ET37)*24)*0.25)","v":0},0,null,null,0]
[null,"2020-01-29","2020-01-29",null,null,null,"2020-01-29","2020-01-29",null,null,0,null,null,0,null,null,{"$f":"IF(OR($F$4=\"Wetzlar\"),[1]Feiertage!$D$25,IF(P38<O38,((((P38+1)-O38)*24)*0.25),(P38-O38)*24)*0.25)","v":0},0,null,null,0,"2020-01-29","2020-01-29",null,null,0,null,null,0,null,null,{"$f":"IF(OR($F$4=\"Wetzlar\"),[1]Feiertage!$D$25,IF(AE38<AD38,((((AE38+1)-AD38)*24)*0.25),(AE38-AD38)*24)*0.25)","v":0},0,null,null,0,"2020-01-29","2020-01-29",null,null,0,null,null,0,null,null,{"$f":"IF(OR($F$4=\"Wetzlar\"),[1]Feiertage!$D$25,IF(AT38<AS38,((((AT38+1)-AS38)*24)*0.25),(AT38-AS38)*24)*0.25)","v":0},0,null,null,0,"2020-01-29","2020-01-29",null,null,0,null,null,0,null,null,{"$f":"IF(OR($F$4=\"Wetzlar\"),[1]Feiertage!$D$25,IF(BI38<BH38,((((BI38+1)-BH38)*24)*0.25),(BI38-BH38)*24)*0.25)","v":0},0,null,null,0,"2020-01-29","2020-01-29",null,null,0,null,null,0,null,null,{"$f":"IF(OR($F$4=\"Wetzlar\"),[1]Feiertage!$D$25,IF(BX38<BW38,((((BX38+1)-BW38)*24)*0.25),(BX38-BW38)*24)*0.25)","v":0},0,null,null,0,"2020-01-29","2020-01-29",null,null,0,null,null,0,null,null,{"$f":"IF(OR($F$4=\"Wetzlar\"),[1]Feiertage!$D$25,IF(CM38<CL38,((((CM38+1)-CL38)*24)*0.25),(CM38-CL38)*24)*0.25)","v":0},0,null,null,0,"2020-01-29","2020-01-29",null,null,0,null,null,0,null,null,{"$f":"IF(OR($F$4=\"Wetzlar\"),[1]Feiertage!$D$25,IF(DB38<DA38,((((DB38+1)-DA38)*24)*0.25),(DB38-DA38)*24)*0.25)","v":0},0,null,null,0,"2020-01-29","2020-01-29",null,null,0,null,null,0,null,null,{"$f":"IF(OR($F$4=\"Wetzlar\"),[1]Feiertage!$D$25,IF(DQ38<DP38,((((DQ38+1)-DP38)*24)*0.25),(DQ38-DP38)*24)*0.25)","v":0},0,null,null,0,"2020-01-29","2020-01-29",null,null,0,null,null,0,null,null,{"$f":"IF(OR($F$4=\"Wetzlar\"),[1]Feiertage!$D$25,IF(EF38<EE38,((((EF38+1)-EE38)*24)*0.25),(EF38-EE38)*24)*0.25)","v":0},0,null,null,0,"2020-01-29","2020-01-29",null,null,0,null,null,0,null,null,{"$f":"IF(OR($F$4=\"Wetzlar\"),[1]Feiertage!$D$25,IF(EU38<ET38,((((EU38+1)-ET38)*24)*0.25),(EU38-ET38)*24)*0.25)","v":0},0,null,null,0]
[null,"2020-01-30","2020-01-30",null,null,null,"2020-01-30","2020-01-30",null,null,0,null,null,0,null,null,{"$f":"IF(OR($F$4=\"Wetzlar\"),[1]Feiertage!$D$25,IF(P39<O39,((((P39+1)-O39)*24)*0.25),(P39-O39)*24)*0.25)","v":0},0,null,null,0,"2020-01-30","2020-01-30",null,null,0,null,null,0,null,null,{"$f":"IF(OR($F$4=\"Wetzlar\"),[1]Feiertage!$D$25,IF(AE39<AD39,((((AE39+1)-AD39)*24)*0.25),(AE39-AD39)*24)*0.25)","v":0},0,null,null,0,"2020-01-30","2020-01-30",null,null,0,null,null,0,null,null,{"$f":"IF(OR($F$4=\"Wetzlar\"),[1]Feiertage!$D$25,IF(AT39<AS39,((((AT39+1)-AS39)*24)*0.25),(AT39-AS39)*24)*0.25)","v":0},0,null,null,0,"2020-01-30","2020-01-30",null,null,0,null,null,0,null,null,{"$f":"IF(OR($F$4=\"Wetzlar\"),[1]Feiertage!$D$25,IF(BI39<BH39,((((BI39+1)-BH39)*24)*0.25),(BI39-BH39)*24)*0.25)","v":0},0,null,null,0,"2020-01-30","2020-01-30",null,null,0,null,null,0,null,null,{"$f":"IF(OR($F$4=\"Wetzlar\"),[1]Feiertage!$D$25,IF(BX39<BW39,((((BX39+1)-BW39)*24)*0.25),(BX39-BW39)*24)*0.25)","v":0},0,null,null,0,"2020-01-30","2020-01-30",null,null,0,null,null,0,null,null,{"$f":"IF(OR($F$4=\"Wetzlar\"),[1]Feiertage!$D$25,IF(CM39<CL39,((((CM39+1)-CL39)*24)*0.25),(CM39-CL39)*24)*0.25)","v":0},0,null,null,0,"2020-01-30","2020-01-30",null,null,0,null,null,0,null,null,{"$f":"IF(OR($F$4=\"Wetzlar\"),[1]Feiertage!$D$25,IF(DB39<DA39,((((DB39+1)-DA39)*24)*0.25),(DB39-DA39)*24)*0.25)","v":0},0,null,null,0,"2020-01-30","2020-01-30",null,null,0,null,null,0,null,null,{"$f":"IF(OR($F$4=\"Wetzlar\"),[1]Feiertage!$D$25,IF(DQ39<DP39,((((DQ39+1)-DP39)*24)*0.25),(DQ39-DP39)*24)*0.25)","v":0},0,null,null,0,"2020-01-30","2020-01-30",null,null,0,null,null,0,null,null,{"$f":"IF(OR($F$4=\"Wetzlar\"),[1]Feiertage!$D$25,IF(EF39<EE39,((((EF39+1)-EE39)*24)*0.25),(EF39-EE39)*24)*0.25)","v":0},0,null,null,0,"2020-01-30","2020-01-30",null,null,0,null,null,0,null,null,{"$f":"IF(OR($F$4=\"Wetzlar\"),[1]Feiertage!$D$25,IF(EU39<ET39,((((EU39+1)-ET39)*24)*0.25),(EU39-ET39)*24)*0.25)","v":0},0,null,null,0]
[null,"2020-01-31","2020-01-31",null,null,null,"2020-01-31","2020-01-31",null,null,0,null,null,0,null,null,{"$f":"IF(OR($F$4=\"Wetzlar\"),[1]Feiertage!$D$25,IF(P40<O40,((((P40+1)-O40)*24)*0.25),(P40-O40)*24)*0.25)","v":0},0,null,null,0,"2020-01-31","2020-01-31",null,null,0,null,null,0,null,null,{"$f":"IF(OR($F$4=\"Wetzlar\"),[1]Feiertage!$D$25,IF(AE40<AD40,((((AE40+1)-AD40)*24)*0.25),(AE40-AD40)*24)*0.25)","v":0},0,null,null,0,"2020-01-31","2020-01-31",null,null,0,null,null,0,null,null,{"$f":"IF(OR($F$4=\"Wetzlar\"),[1]Feiertage!$D$25,IF(AT40<AS40,((((AT40+1)-AS40)*24)*0.25),(AT40-AS40)*24)*0.25)","v":0},0,null,null,0,"2020-01-31","2020-01-31",null,null,0,null,null,0,null,null,{"$f":"IF(OR($F$4=\"Wetzlar\"),[1]Feiertage!$D$25,IF(BI40<BH40,((((BI40+1)-BH40)*24)*0.25),(BI40-BH40)*24)*0.25)","v":0},0,null,null,0,"2020-01-31","2020-01-31",null,null,0,null,null,0,null,null,{"$f":"IF(OR($F$4=\"Wetzlar\"),[1]Feiertage!$D$25,IF(BX40<BW40,((((BX40+1)-BW40)*24)*0.25),(BX40-BW40)*24)*0.25)","v":0},0,null,null,0,"2020-01-31","2020-01-31",null,null,0,null,null,0,null,null,{"$f":"IF(OR($F$4=\"Wetzlar\"),[1]Feiertage!$D$25,IF(CM40<CL40,((((CM40+1)-CL40)*24)*0.25),(CM40-CL40)*24)*0.25)","v":0},0,null,null,0,"2020-01-31","2020-01-31",null,null,0,null,null,0,null,null,{"$f":"IF(OR($F$4=\"Wetzlar\"),[1]Feiertage!$D$25,IF(DB40<DA40,((((DB40+1)-DA40)*24)*0.25),(DB40-DA40)*24)*0.25)","v":0},0,null,null,0,"2020-01-31","2020-01-31",null,null,0,null,null,0,null,null,{"$f":"IF(OR($F$4=\"Wetzlar\"),[1]Feiertage!$D$25,IF(DQ40<DP40,((((DQ40+1)-DP40)*24)*0.25),(DQ40-DP40)*24)*0.25)","v":0},0,null,null,0,"2020-01-31","2020-01-31",null,null,0,null,null,0,null,null,{"$f":"IF(OR($F$4=\"Wetzlar\"),[1]Feiertage!$D$25,IF(EF40<EE40,((((EF40+1)-EE40)*24)*0.25),(EF40-EE40)*24)*0.25)","v":0},0,null,null,0,"2020-01-31","2020-01-31",null,null,0,null,null,0,null,null,{"$f":"IF(OR($F$4=\"Wetzlar\"),[1]Feiertage!$D$25,IF(EU40<ET40,((((EU40+1)-ET40)*24)*0.25),(EU40-ET40)*24)*0.25)","v":0},0,null,null,0]
[null,null,null,null,null,null,null,null,null,null,null,null,null,null,null,null,"ò","ò",null,null,"ò",null,null,null,null,null,null,null,null,null,null,"ò","ò",null,null,"ò",null,null,null,null,null,null,null,null,null,null,"ò","ò",null,null,"ò",null,null,null,null,null,null,null,null,null,null,"ò","ò",null,null,"ò",null,null,null,null,null,null,null,null,null,null,"ò","ò",null,null,"ò",null,null,null,null,null,null,null,null,null,null,"ò","ò",null,null,"ò",null,null,null,null,null,null,null,null,null,null,"ò","ò",null,null,"ò",null,null,null,null,null,null,null,null,null,null,"ò","ò",null,null,"ò",null,null,null,null,null,null,null,null,null,null,"ò","ò",null,null,"ò",null,null,null,null,null,null,null,null,null,null,"ò","ò",null,null,"ò"]
[]
[null,null,null,null,null,null,"                                                                                                        ",null,null,null,null,null,null,"SUMME      ",null,null,{"$f":"SUM(Q10:Q40)","v":0},{"$f":"SUMIF(R10:R40,\"<1E+307\")","v":0},"SUMME",null,{"$f":"SUM(U10:U42)","v":0},"                                                                                                        ",null,null,null,null,null,null,"SUMME           ",null,null,{"$f":"SUM(AF10:AF40)","v":0},{"$f":"SUMIF(AG10:AG40,\"<1E+307\")","v":12},"SUMME",null,{"$f":"SUM(AJ10:AJ42)","v":0},"                                                                                                        ",null,null,null,null,null,null,"SUMME           ",null,null,{"$f":"SUM(AU10:AU40)","v":0},{"$f":"SUMIF(AV10:AV40,\"<1E+307\")","v":0},"SUMME",null,{"$f":"SUM(AY10:AY42)","v":0},"                                                                                                        ",null,null,null,null,null,null,"SUMME           ",null,null,{"$f":"SUM(BJ10:BJ40)","v":0},{"$f":"SUMIF(BK10:BK40,\"<1E+307\")","v":0},"SUMME",null,{"$f":"SUM(BN10:BN42)","v":0},"                                                                                                        ",null,null,null,null,null,null,"SUMME           ",null,null,{"$f":"SUM(BY10:BY40)","v":0},{"$f":"SUMIF(BZ10:BZ40,\"<1E+307\")","v":0},"SUMME",null,{"$f":"SUM(CC10:CC42)","v":0},"                                                                                                        ",null,null,null,null,null,null,"SUMME           ",null,null,{"$f":"SUM(CN10:CN40)","v":0},{"$f":"SUMIF(CO10:CO40,\"<1E+307\")","v":0},"SUMME",null,{"$f":"SUM(CR10:CR42)","v":0},"                                                                                                        ",null,null,null,null,null,null,"SUMME           ",null,null,{"$f":"SUM(DC10:DC40)","v":0},{"$f":"SUMIF(DD10:DD40,\"<1E+307\")","v":0},"SUMME",null,{"$f":"SUM(DG10:DG42)","v":0},"                                                                                                        ",null,null,null,null,null,null,"SUMME           ",null,null,{"$f":"SUM(DR10:DR40)","v":0},{"$f":"SUMIF(DS10:DS40,\"<1E+307\")","v":0},"SUMME",null,{"$f":"SUM(DV10:DV42)","v":0},"                                                                                                        ",null,null,null,null,null,null,"SUMME           ",null,null,{"$f":"SUM(EG10:EG40)","v":0},{"$f":"SUMIF(EH10:EH40,\"<1E+307\")","v":0},"SUMME",null,{"$f":"SUM(EK10:EK42)","v":0},"                                                                                                        ",null,null,null,null,null,null,"SUMME           ",null,null,{"$f":"SUM(EV10:EV40)","v":0},{"$f":"SUMIF(EW10:EW40,\"<1E+307\")","v":0},"SUMME",null,{"$f":"SUM(EZ10:EZ42)","v":0}]
[null,null,null,null,null,null,null,null,null,null,null,null,null,"abzgl. Planstunden",null,null,null,null,"                             ",null,null,null,null,null,null,null,null,null,"abzgl. Planstunden",null,null,null,null,"                             ",null,null,null,null,null,null,null,null,null,"abzgl. Planstunden",null,null,null,null,"                             ",null,null,null,null,null,null,null,null,null,"abzgl. Planstunden",null,null,null,null,"                             ",null,null,null,null,null,null,null,null,null,"abzgl. Planstunden",null,null,null,null,"                             ",null,null,null,null,null,null,null,null,null,"abzgl. Planstunden",null,null,null,null,"                             ",null,null,null,null,null,null,null,null,null,"abzgl. Planstunden",null,null,null,null,"                             ",null,null,null,null,null,null,null,null,null,"abzgl. Planstunden",null,null,null,null,"                             ",null,null,null,null,null,null,null,null,null,"abzgl. Planstunden",null,null,null,null,"                             ",null,null,null,null,null,null,null,null,null,"abzgl. Planstunden",null,null,null,null,"                             "]
[null,null,null,null,null,null,null,null,null,null,null,null,null,"geplante +/- Std",null,null,null,null,"Überstunden   ",null,null,null,null,null,null,null,null,null,"geplante +/- Std",null,null,null,null,"Überstunden   ",null,null,null,null,null,null,null,null,null,"geplante +/- Std",null,null,null,null,"Überstunden   ",null,null,null,null,null,null,null,null,null,"geplante +/- Std",null,null,null,null,"Überstunden   ",null,null,null,null,null,null,null,null,null,"geplante +/- Std",null,null,null,null,"Überstunden   ",null,null,null,null,null,null,null,null,null,"geplante +/- Std",null,null,null,null,"Überstunden   ",null,null,null,null,null,null,null,null,null,"geplante +/- Std",null,null,null,null,"Überstunden   ",null,null,null,null,null,null,null,null,null,"geplante +/- Std",null,null,null,null,"Überstunden   ",null,null,null,null,null,null,null,null,null,"geplante +/- Std",null,null,null,null,"Überstunden   ",null,null,null,null,null,null,null,null,null,"geplante +/- Std",null,null,null,null,"Überstunden   "]
[null,null,null,null,null,null,null,null,null,null,null,null,null,null,null,"SUMME  Planung                  ",null,null,null,null,{"$f":"R43","v":0},null,null,null,null,null,null,null,null,null,"SUMME  Planung                  ",null,null,null,null,{"$f":"AG43","v":12},null,null,null,null,null,null,null,null,null,"SUMME  Planung                  ",null,null,null,null,{"$f":"AV43","v":0},null,null,null,null,null,null,null,null,null,"SUMME  Planung                  ",null,null,null,null,{"$f":"BK43","v":0},null,null,null,null,null,null,null,null,null,"SUMME  Planung                  ",null,null,null,null,{"$f":"BZ43","v":0},null,null,null,null,null,null,null,null,null,"SUMME  Planung                  ",null,null,null,null,{"$f":"CO43","v":0},null,null,null,null,null,null,null,null,null,"SUMME  Planung                  ",null,null,null,null,{"$f":"DD43","v":0},null,null,null,null,null,null,null,null,null,"SUMME  Planung                  ",null,null,null,null,{"$f":"DS43","v":0},null,null,null,null,null,null,null,null,null,"SUMME  Planung                  ",null,null,null,null,{"$f":"EH43","v":0},null,null,null,null,null,null,null,null,null,"SUMME  Planung                  ",null,null,null,null,{"$f":"EW43","v":0}]
[null,null,null,null,null,null,null,null,null,null,null,null,null,null," +","SUMME Abweichung           ",null,null,null,null,{"$f":"SUM(U43)","v":0},null,null,null,null,null,null,null,null," +","SUMME Abweichung           ",null,null,null,null,{"$f":"SUM(AJ43)","v":0},null,null,null,null,null,null,null,null," +","SUMME Abweichung           ",null,null,null,null,{"$f":"SUM(AY43)","v":0},null,null,null,null,null,null,null,null," +","SUMME Abweichung           ",null,null,null,null,{"$f":"SUM(BN43)","v":0},null,null,null,null,null,null,null,null," +","SUMME Abweichung           ",null,null,null,null,{"$f":"SUM(CC43)","v":0},null,null,null,null,null,null,null,null," +","SUMME Abweichung           ",null,null,null,null,{"$f":"SUM(CR43)","v":0},null,null,null,null,null,null,null,null," +","SUMME Abweichung           ",null,null,null,null,{"$f":"SUM(DG43)","v":0},null,null,null,null,null,null,null,null," +","SUMME Abweichung           ",null,null,null,null,{"$f":"SUM(DV43)","v":0},null,null,null,null,null,null,null,null," +","SUMME Abweichung           ",null,null,null,null,{"$f":"SUM(EK43)","v":0},null,null,null,null,null,null,null,null," +","SUMME Abweichung           ",null,null,null,null,{"$f":"SUM(EZ43)","v":0}]
[null,null,null,null,null,null,null,null,null,null,null,null,null,null,null,"Zwischensumme                      ",null,null,null,null,{"$f":"SUM(U46:U47)","v":0},null,null,null,null,null,null,null,null,null,"Zwischensumme                      ",null,null,null,null,{"$f":"SUM(AJ46:AJ47)","v":12},null,null,null,null,null,null,null,null,null,"Zwischensumme                      ",null,null,null,null,{"$f":"SUM(AY46:AY47)","v":0},null,null,null,null,null,null,null,null,null,"Zwischensumme                      ",null,null,null,null,{"$f":"SUM(BN46:BN47)","v":0},null,null,null,null,null,null,null,null,null,"Zwischensumme                      ",null,null,null,null,{"$f":"SUM(CC46:CC47)","v":0},null,null,null,null,null,null,null,null,null,"Zwischensumme                      ",null,null,null,null,{"$f":"SUM(CR46:CR47)","v":0},null,null,null,null,null,null,null,null,null,"Zwischensumme                      ",null,null,null,null,{"$f":"SUM(DG46:DG47)","v":0},null,null,null,null,null,null,null,null,null,"Zwischensumme                      ",null,null,null,null,{"$f":"SUM(DV46:DV47)","v":0},null,null,null,null,null,null,null,null,null,"Zwischensumme                      ",null,null,null,null,{"$f":"SUM(EK46:EK47)","v":0},null,null,null,null,null,null,null,null,null,"Zwischensumme                      ",null,null,null,null,{"$f":"SUM(EZ46:EZ47)","v":0}]
[null,null,null,null,null,null,null,null,null,null,null,null,null,null," -","abzgl. auszuzahlende ÜStd.",null,null,null,null,{"$f":"U45","v":0},null,null,null,null,null,null,null,null," -","abzgl. auszuzahlende ÜStd.",null,null,null,null,{"$f":"AJ45","v":0},null,null,null,null,null,null,null,null," -","abzgl. auszuzahlende ÜStd.",null,null,null,null,{"$f":"AY45","v":0},null,null,null,null,null,null,null,null," -","abzgl. auszuzahlende ÜStd.",null,null,null,null,{"$f":"BN45","v":0},null,null,null,null,null,null,null,null," -","abzgl. auszuzahlende ÜStd.",null,null,null,null,{"$f":"CC45","v":0},null,null,null,null,null,null,null,null," -","abzgl. auszuzahlende ÜStd.",null,null,null,null,{"$f":"CR45","v":0},null,null,null,null,null,null,null,null," -","abzgl. auszuzahlende ÜStd.",null,null,null,null,{"$f":"DG45","v":0},null,null,null,null,null,null,null,null," -","abzgl. auszuzahlende ÜStd.",null,null,null,null,{"$f":"DV45","v":0},null,null,null,null,null,null,null,null," -","abzgl. auszuzahlende ÜStd.",null,null,null,null,{"$f":"EK45","v":0},null,null,null,null,null,null,null,null," -","abzgl. auszuzahlende ÜStd.",null,null,null,null,{"$f":"EZ45","v":0}]
[null,null,null,null,null,null,null,null,null,null,null,null,null,null," +","Zeitübertrag Vormonat  ",null,null,null,null,{"$f":"[1]Feiertage!G13","v":0},null,null,null,null,null,null,null,null," +","Zeitübertrag Vormonat    ",null,null,null,null,{"$f":"[1]Feiertage!V13","v":0},null,null,null,null,null,null,null,null," +","Zeitübertrag Vormonat    ",null,null,null,null,{"$f":"[1]Feiertage!AK13","v":0},null,null,null,null,null,null,null,null," +","Zeitübertrag Vormonat    ",null,null,null,null,{"$f":"[1]Feiertage!AZ13","v":0},null,null,null,null,null,null,null,null," +","Zeitübertrag Vormonat    ",null,null,null,null,{"$f":"[1]Feiertage!BO13","v":0},null,null,null,null,null,null,null,null," +","Zeitübertrag Vormonat    ",null,null,null,null,{"$f":"[1]Feiertage!CD13","v":0},null,null,null,null,null,null,null,null," +","Zeitübertrag Vormonat    ",null,null,null,null,{"$f":"[1]Feiertage!CS13","v":0},null,null,null,null,null,null,null,null," +","Zeitübertrag Vormonat    ",null,null,null,null,{"$f":"[1]Feiertage!DH13","v":0},null,null,null,null,null,null,null,null," +","Zeitübertrag Vormonat    ",null,null,null,null,{"$f":"[1]Feiertage!DW13","v":0},null,null,null,null,null,null,null,null," +","Zeitübertrag Vormonat    ",null,null,null,null,{"$f":"[1]Feiertage!EL13","v":0}]
[null,null,null,null,null,null,null,null,null,null,null,null,null,null,null,"Monats IST                             ",null,null,null,null,{"$f":"R43","v":0},null,null,null,null,null,null,null,null,null,"Monats IST                             ",null,null,null,null,{"$f":"AG43","v":12},null,null,null,null,null,null,null,null,null,"Monats IST                             ",null,null,null,null,{"$f":"AV43","v":0},null,null,null,null,null,null,null,null,null,"Monats IST                             ",null,null,null,null,{"$f":"BK43","v":0},null,null,null,null,null,null,null,null,null,"Monats IST                             ",null,null,null,null,{"$f":"BZ43","v":0},null,null,null,null,null,null,null,null,null,"Monats IST                             ",null,null,null,null,{"$f":"CO43","v":0},null,null,null,null,null,null,null,null,null,"Monats IST                             ",null,null,null,null,{"$f":"DD43","v":0},null,null,null,null,null,null,null,null,null,"Monats IST                             ",null,null,null,null,{"$f":"DS43","v":0},null,null,null,null,null,null,null,null,null,"Monats IST                             ",null,null,null,null,{"$f":"EH43","v":0},null,null,null,null,null,null,null,null,null,"Monats IST                             ",null,null,null,null,{"$f":"EW43","v":0}]
[null,null,null,null,null,null,null,null,null,null,null,null,null,null," -","abzgl. Sollstd.                         ",null,null,null,null,171.6,null,null,null,null,null,null,null,null," -","abzgl. Sollstd.                         ",null,null,null,null,0,null,null,null,null,null,null,null,null," -","abzgl. Sollstd.                         ",null,null,null,null,{"$f":"IF(AM$2=\"\",[1]Feiertage!I$16,AO$2)","v":85.8},null,null,null,null,null,null,null,null," -","abzgl. Sollstd.                         ",null,null,null,null,{"$f":"IF(BB$2=\"\",[1]Feiertage!J$16,BD$2)","v":111.54},null,null,null,null,null,null,null,null," -","abzgl. Sollstd.                         ",null,null,null,null,{"$f":"IF(BQ$2=\"\",[1]Feiertage!K$16,BS$2)","v":0},null,null,null,null,null,null,null,null," -","abzgl. Sollstd.                         ",null,null,null,null,{"$f":"IF(CF$2=\"\",[1]Feiertage!L$16,CH$2)","v":51.48},null,null,null,null,null,null,null,null," -","abzgl. Sollstd.                         ",null,null,null,null,{"$f":"IF(CU$2=\"\",[1]Feiertage!M$16,CW$2)","v":12.012},null,null,null,null,null,null,null,null," -","abzgl. Sollstd.                         ",null,null,null,null,{"$f":"IF(DJ$2=\"\",[1]Feiertage!N$16,DL$2)","v":0},null,null,null,null,null,null,null,null," -","abzgl. Sollstd.                         ",null,null,null,null,{"$f":"IF(DY$2=\"\",[1]Feiertage!O$16,EA$2)","v":0},null,null,null,null,null,null,null,null," -","abzgl. Sollstd.                         ",null,null,null,null,{"$f":"IF(EN$2=\"\",[1]Feiertage!S$16,EP$2)","v":171.6}]
[null,null,null,null,null,null,null,null,null,null,null,null,null,null,null," +/- Std                                     ",null,null,null,null,{"$f":"(U51+U50)-U52","v":-171.6},null,null,null,null,null,null,null,null,null," +/- Std                                     ",null,null,null,null,{"$f":"(AJ51+AJ50)-AJ52","v":12},null,null,null,null,null,null,null,null,null," +/- Std                                     ",null,null,null,null,{"$f":"(AY51+AY50)-AY52","v":-85.8},null,null,null,null,null,null,null,null,null," +/- Std                                     ",null,null,null,null,{"$f":"(BN51+BN50)-BN52","v":-111.54},null,null,null,null,null,null,null,null,null," +/- Std                                     ",null,null,null,null,{"$f":"(CC51+CC50)-CC52","v":0},null,null,null,null,null,null,null,null,null," +/- Std                                     ",null,null,null,null,{"$f":"(CR51+CR50)-CR52","v":-51.48},null,null,null,null,null,null,null,null,null," +/- Std                                     ",null,null,null,null,{"$f":"(DG51+DG50)-DG52","v":-12.012},null,null,null,null,null,null,null,null,null," +/- Std                                     ",null,null,null,null,{"$f":"(DV51+DV50)-DV52","v":0},null,null,null,null,null,null,null,null,null," +/- Std                                     ",null,null,null,null,{"$f":"(EK51+EK50)-EK52","v":0},null,null,null,null,null,null,null,null,null," +/- Std                                     ",null,null,null,null,{"$f":"(EZ51+EZ50)-EZ52","v":-171.6}]
[null,null,null,null,null,null,null,null,null,null,null,null,null,null,null,"Halbjahresabrechnung",null,null,null,null,null,null,null,null,null,null,null,null,null,null,"Halbjahresabrechnung",null,null,null,null,null,null,null,null,null,null,null,null,null,null,"Halbjahresabrechnung",null,null,null,null,null,null,null,null,null,null,null,null,null,null,"Halbjahresabrechnung",null,null,null,null,null,null,null,null,null,null,null,null,null,null,"Halbjahresabrechnung",null,null,null,null,null,null,null,null,null,null,null,null,null,null,"Halbjahresabrechnung",null,null,null,null,null,null,null,null,null,null,null,null,null,null,"Halbjahresabrechnung",null,null,null,null,null,null,null,null,null,null,null,null,null,null,"Halbjahresabrechnung",null,null,null,null,null,null,null,null,null,null,null,null,null,null,"Halbjahresabrechnung",null,null,null,null,null,null,null,null,null,null,null,null,null,null,"Halbjahresabrechnung"]
[null,null,null,null,null,null,"                                                                                                                                                                      ",null,null,null,null,null,null,null,null," +/- Std 6. Monat                     ",null,null,null,null,null,"                                                                                                                                                                      ",null,null,null,null,null,null,null,null," +/- Std 6. Monat                     ",null,null,null,null,null,"                                                                                                                                                                      ",null,null,null,null,null,null,null,null," +/- Std 6. Monat                     ",null,null,null,null,null,"                                                                                                                                                                      ",null,null,null,null,null,null,null,null," +/- Std 6. Monat                     ",null,null,null,null,null,"                                                                                                                                                                      ",null,null,null,null,null,null,null,null," +/- Std 6. Monat                     ",null,null,null,null,null,"                                                                                                                                                                      ",null,null,null,null,null,null,null,null," +/- Std 6. Monat                     ",null,null,null,null,null,"                                                                                                                                                                      ",null,null,null,null,null,null,null,null," +/- Std 6. Monat                     ",null,null,null,null,null,"                                                                                                                                                                      ",null,null,null,null,null,null,null,null," +/- Std 6. Monat                     ",null,null,null,null,null,"                                                                                                                                                                      ",null,null,null,null,null,null,null,null," +/- Std 6. Monat                     ",null,null,null,null,null,"                                                                                                                                                                      ",null,null,null,null,null,null,null,null," +/- Std 6. Monat                     "]
[null,null,null,null,null,null,null,null,null,null,null,null,null,null,null,"abzgl.  Summe +/- Std. Vormon.",null,null,null,null,null,null,null,null,null,null,null,null,null,null,"abzgl.  Summe +/- Std. Vormon.",null,null,null,null,null,null,null,null,null,null,null,null,null,null,"abzgl.  Summe +/- Std. Vormon.",null,null,null,null,null,null,null,null,null,null,null,null,null,null,"abzgl.  Summe +/- Std. Vormon.",null,null,null,null,null,null,null,null,null,null,null,null,null,null,"abzgl.  Summe +/- Std. Vormon.",null,null,null,null,null,null,null,null,null,null,null,null,null,null,"abzgl.  Summe +/- Std. Vormon.",null,null,null,null,null,null,null,null,null,null,null,null,null,null,"abzgl.  Summe +/- Std. Vormon.",null,null,null,null,null,null,null,null,null,null,null,null,null,null,"abzgl.  Summe +/- Std. Vormon.",null,null,null,null,null,null,null,null,null,null,null,null,null,null,"abzgl.  Summe +/- Std. Vormon.",null,null,null,null,null,null,null,null,null,null,null,null,null,null,"abzgl.  Summe +/- Std. Vormon."]
[null,null,null,null,null,null,null,null,null,null,null,null,null,null,null,"Überstunden/Minusstunden",null,null,null,null,null,null,null,null,null,null,null,null,null,null,"Überstunden/Minusstunden",null,null,null,null,null,null,null,null,null,null,null,null,null,null,"Überstunden/Minusstunden",null,null,null,null,null,null,null,null,null,null,null,null,null,null,"Überstunden/Minusstunden",null,null,null,null,null,null,null,null,null,null,null,null,null,null,"Überstunden/Minusstunden",null,null,null,null,null,null,null,null,null,null,null,null,null,null,"Überstunden/Minusstunden",null,null,null,null,null,null,null,null,null,null,null,null,null,null,"Überstunden/Minusstunden",null,null,null,null,null,null,null,null,null,null,null,null,null,null,"Überstunden/Minusstunden",null,null,null,null,null,null,null,null,null,null,null,null,null,null,"Überstunden/Minusstunden",null,null,null,null,null,null,null,null,null,null,null,null,null,null,"Überstunden/Minusstunden"]
[null,null,null,null,null,null,null,null,null,null,null,null,null,null," +","Zeitzuschlag Überstunden    ",null,null,null,null,null,null,null,null,null,null,null,null,null," +","Zeitzuschlag Überstunden    ",null,null,null,null,null,null,null,null,null,null,null,null,null," +","Zeitzuschlag Überstunden    ",null,null,null,null,null,null,null,null,null,null,null,null,null," +","Zeitzuschlag Überstunden    ",null,null,null,null,null,null,null,null,null,null,null,null,null," +","Zeitzuschlag Überstunden    ",null,null,null,null,null,null,null,null,null,null,null,null,null," +","Zeitzuschlag Überstunden    ",null,null,null,null,null,null,null,null,null,null,null,null,null," +","Zeitzuschlag Überstunden    ",null,null,null,null,null,null,null,null,null,null,null,null,null," +","Zeitzuschlag Überstunden    ",null,null,null,null,null,null,null,null,null,null,null,null,null," +","Zeitzuschlag Überstunden    ",null,null,null,null,null,null,null,null,null,null,null,null,null," +","Zeitzuschlag Überstunden    "]
[null,null,null,null,null,null,null,null,null,null,null,null,null,null,null,"Übertrag                                     ",null,null,null,null,null,null,null,null,null,null,null,null,null,null,"Übertrag                                     ",null,null,null,null,null,null,null,null,null,null,null,null,null,null,"Übertrag                                     ",null,null,null,null,null,null,null,null,null,null,null,null,null,null,"Übertrag                                     ",null,null,null,null,null,null,null,null,null,null,null,null,null,null,"Übertrag                                     ",null,null,null,null,null,null,null,null,null,null,null,null,null,null,"Übertrag                                     ",null,null,null,null,null,null,null,null,null,null,null,null,null,null,"Übertrag                                     ",null,null,null,null,null,null,null,null,null,null,null,null,null,null,"Übertrag                                     ",null,null,null,null,null,null,null,null,null,null,null,null,null,null,"Übertrag                                     ",null,null,null,null,null,null,null,null,null,null,null,null,null,null,"Übertrag                                     "]

{"sheet":"IND1","index":1,"n_rows":441,"n_cols":53,"rows_kept":441,"cut":false,"hidden":false,"merged":[[5,0,5,4],[5,19,5,23],[5,26,5,28],[6,19,6,23],[0,1,2,4],[0,18,0,20],[0,21,0,24],[0,26,0,28],[3,26,3,28],[148,0,150,1],[8,0,10,1],[22,0,24,1],[36,0,38,1],[50,0,52,1],[64,0,66,1],[78,0,80,1],[92,0,94,1],[106,0,108,1],[120,0,122,1],[134,0,136,1],[316,0,318,1],[162,0,164,1],[176,0,178,1],[190,0,192,1],[204,0,206,1],[218,0,220,1],[232,0,234,1],[246,0,248,1],[260,0,262,1],[274,0,276,1],[288,0,290,1],[302,0,304,1],[414,0,416,1],[428,0,430,1],[330,0,332,1],[344,0,346,1],[358,0,360,1],[372,0,374,1],[386,0,388,1],[400,0,402,1]]}
[null,"Police Dpt.",null,null,null,"TEAM","Dpt. TL","MA 1","MA 2","MA 3","MA 4","MA 5","MA 6","MA 7","MA 8","MA 9","Chief",1,{"$f":"C8","v":"2020-01-01"},null,null,{"$f":"B1","v":"Police Dpt."}]
[null,null,null,null,null,"IST"]
[null,null,null,null,null,"SOLL"]
[null,null,null,null,null,"SOLL - IST",null,null,null,null,null,null,null,null,null,null,null,null,null,null,null,null,null,null,null,null,{"$f":"HYPERLINK(\"#C\"&LOOKUP(9,1/(C:C=TODAY()),ROW(C:C)),\"Gehe zu heute\")","v":{"$error":"#N/A"}}]
[null,null,null,null,null,"Vormonat +/-"]
["Gehe zum Dienstplan Januar",null,null,null,null,"Saldo",{"$f":"G4+G5","v":0},{"$f":"H4+H5","v":0},0,0,0,0,0,0,0,0,{"$f":"H6+I6+K6+L6+J6+M6+N6+O6","v":0},null,null,"DP Januar",null,null,null,null,null,null,"Laufender Überblick"]
["Ganztags Arb.eintrag","Arbeits wunsch",null,null,null,"St. Anteil"]
[null,null,{"$f":"[1]Januar!E4","v":"2020-01-01"},{"$f":"C8","v":"2020-01-01"},"MA",1.24999999999997,"06:30:00","07:00:00","07:30:00","08:00:00","08:30:00","09:00:00","09:30:00","10:00:00","10:30:00","11:00:00","11:30:00","12:00:00","12:30:00","13:00:00","13:30:00","14:00:00","14:30:00","15:00:00","15:30:00","16:00:00","16:30:00","17:00:00","17:30:00","18:00:00","18:30:00","19:00:00","19:30:00","20:00:00","20:30:00","21:00:00","21:30:00","22:00:00","22:30:00","23:00:00","23:30:00",1,1.0208333333333299,1.0416666666666701,1.0625,1.0833333333333299,1.1041666666666701,1.12499999999999,1.1458333333333199,1.1666666666666501,1.18749999999998,1.2083333333333099,1.2291666666666401]
["Termine / Notizen ->"]
[]
[]
[null,null,null,0,{"$f":"$Q$1","v":"Chief"}]
[null,null,null,0,{"$f":"$H$1","v":"MA 1"}]
[null,null,null,0,{"$f":"$I$1","v":"MA 2"}]
[null,null,null,0,{"$f":"$J$1","v":"MA 3"}]
[null,null,null,0,{"$f":"$K$1","v":"MA 4"}]
[null,null,null,0,{"$f":"$L$1","v":"MA 5"}]
[null,null,null,0,{"$f":"$M$1","v":"MA 6"}]
[null,null,null,0,{"$f":"$N$1","v":"MA 7"}]
[null,null,null,0,{"$f":"$O$1","v":"MA 8"}]
[null,null,null,0,{"$f":"$P$1","v":"MA 9"}]
[null,null,{"$f":"C8+1","v":"2020-01-02"},{"$f":"C22","v":"2020-01-02"},"MA",1.24999999999997,"06:30:00","07:00:00","07:30:00","08:00:00","08:30:00","09:00:00","09:30:00","10:00:00","10:30:00","11:00:00","11:30:00","12:00:00","12:30:00","13:00:00","13:30:00","14:00:00","14:30:00","15:00:00","15:30:00","16:00:00","16:30:00","17:00:00","17:30:00","18:00:00","18:30:00","19:00:00","19:30:00","20:00:00","20:30:00","21:00:00","21:30:00","22:00:00","22:30:00","23:00:00","23:30:00",1,1.0208333333333299,1.0416666666666701,1.0625,1.0833333333333299,1.1041666666666701,1.12499999999999,1.1458333333333199,1.1666666666666501,1.18749999999998,1.2083333333333099,1.2291666666666401]
["Termine / Notizen ->"]
[]
[]
[null,null,null,0,{"$f":"$Q$1","v":"Chief"}]
[null,null,null,0,{"$f":"$H$1","v":"MA 1"}]
[null,null,null,0,{"$f":"$I$1","v":"MA 2"}]
[null,null,null,0,{"$f":"$J$1","v":"MA 3"}]
[null,null,null,0,{"$f":"$K$1","v":"MA 4"}]
[null,null,null,0,{"$f":"$L$1","v":"MA 5"}]
[null,null,null,0,{"$f":"$M$1","v":"MA 6"}]
[null,null,null,0,{"$f":"$N$1","v":"MA 7"}]
[null,null,null,0,{"$f":"$O$1","v":"MA 8"}]
[null,null,null,0,{"$f":"$P$1","v":"MA 9"}]
[null,null,{"$f":"C22+1","v":"2020-01-03"},{"$f":"C36","v":"2020-01-03"},"MA",1.24999999999997,"06:30:00","07:00:00","07:30:00","08:00:00","08:30:00","09:00:00","09:30:00","10:00:00","10:30:00","11:00:00","11:30:00","12:00:00","12:30:00","13:00:00","13:30:00","14:00:00","14:30:00","15:00:00","15:30:00","16:00:00","16:30:00","17:00:00","17:30:00","18:00:00","18:30:00","19:00:00","19:30:00","20:00:00","20:30:00","21:00:00","21:30:00","22:00:00","22:30:00","23:00:00","23:30:00",1,1.0208333333333299,1.0416666666666701,1.0625,1.0833333333333299,1.1041666666666701,1.12499999999999,1.1458333333333199,1.1666666666666501,1.18749999999998,1.2083333333333099,1.2291666666666401]
["Termine / Notizen ->"]
[]
[]
[null,null,null,0,{"$f":"$Q$1","v":"Chief"}]
[null,null,null,0,{"$f":"$H$1","v":"MA 1"}]
[null,null,null,0,{"$f":"$I$1","v":"MA 2"}]
[null,null,null,0,{"$f":"$J$1","v":"MA 3"}]
[null,null,null,0,{"$f":"$K$1","v":"MA 4"}]
[null,null,null,0,{"$f":"$L$1","v":"MA 5"}]
[null,null,null,0,{"$f":"$M$1","v":"MA 6"}]
[null,null,null,0,{"$f":"$N$1","v":"MA 7"}]
[null,null,null,0,{"$f":"$O$1","v":"MA 8"}]
[null,null,null,0,{"$f":"$P$1","v":"MA 9"}]
[null,null,{"$f":"C36+1","v":"2020-01-04"},{"$f":"C50","v":"2020-01-04"},"MA",1.24999999999997,"06:30:00","07:00:00","07:30:00","08:00:00","08:30:00","09:00:00","09:30:00","10:00:00","10:30:00","11:00:00","11:30:00","12:00:00","12:30:00","13:00:00","13:30:00","14:00:00","14:30:00","15:00:00","15:30:00","16:00:00","16:30:00","17:00:00","17:30:00","18:00:00","18:30:00","19:00:00","19:30:00","20:00:00","20:30:00","21:00:00","21:30:00","22:00:00","22:30:00","23:00:00","23:30:00",1,1.0208333333333299,1.0416666666666701,1.0625,1.0833333333333299,1.1041666666666701,1.12499999999999,1.1458333333333199,1.1666666666666501,1.18749999999998,1.2083333333333099,1.2291666666666401]
["Termine / Notizen ->"]
[]
[]
[null,null,null,0,{"$f":"$Q$1","v":"Chief"}]
[null,null,null,0,{"$f":"$H$1","v":"MA 1"}]
[null,null,null,0,{"$f":"$I$1","v":"MA 2"}]
[null,null,null,0,{"$f":"$J$1","v":"MA 3"}]
[null,null,null,0,{"$f":"$K$1","v":"MA 4"}]
[null,null,null,0,{"$f":"$L$1","v":"MA 5"}]
[null,null,null,0,{"$f":"$M$1","v":"MA 6"}]
[null,null,null,0,{"$f":"$N$1","v":"MA 7"}]
[null,null,null,0,{"$f":"$O$1","v":"MA 8"}]
[null,null,null,0,{"$f":"$P$1","v":"MA 9"}]
[null,null,{"$f":"C50+1","v":"2020-01-05"},{"$f":"C64","v":"2020-01-05"},"MA",1.24999999999997,"06:30:00","07:00:00","07:30:00","08:00:00","08:30:00","09:00:00","09:30:00","10:00:00","10:30:00","11:00:00","11:30:00","12:00:00","12:30:00","13:00:00","13:30:00","14:00:00","14:30:00","15:00:00","15:30:00","16:00:00","16:30:00","17:00:00","17:30:00","18:00:00","18:30:00","19:00:00","19:30:00","20:00:00","20:30:00","21:00:00","21:30:00","22:00:00","22:30:00","23:00:00","23:30:00",1,1.0208333333333299,1.0416666666666701,1.0625,1.0833333333333299,1.1041666666666701,1.12499999999999,1.1458333333333199,1.1666666666666501,1.18749999999998,1.2083333333333099,1.2291666666666401]
["Termine / Notizen ->"]
[]
[]
[null,null,null,0,{"$f":"$Q$1","v":"Chief"}]
[null,null,null,0,{"$f":"$H$1","v":"MA 1"}]
[null,null,null,0,{"$f":"$I$1","v":"MA 2"}]
[null,null,null,0,{"$f":"$J$1","v":"MA 3"}]
[null,null,null,0,{"$f":"$K$1","v":"MA 4"}]
[null,null,null,0,{"$f":"$L$1","v":"MA 5"}]
[null,null,null,0,{"$f":"$M$1","v":"MA 6"}]
[null,null,null,0,{"$f":"$N$1","v":"MA 7"}]
[null,null,null,0,{"$f":"$O$1","v":"MA 8"}]
[null,null,null,0,{"$f":"$P$1","v":"MA 9"}]
[null,null,{"$f":"C64+1","v":"2020-01-06"},{"$f":"C78","v":"2020-01-06"},"MA",1.24999999999997,"06:30:00","07:00:00","07:30:00","08:00:00","08:30:00","09:00:00","09:30:00","10:00:00","10:30:00","11:00:00","11:30:00","12:00:00","12:30:00","13:00:00","13:30:00","14:00:00","14:30:00","15:00:00","15:30:00","16:00:00","16:30:00","17:00:00","17:30:00","18:00:00","18:30:00","19:00:00","19:30:00","20:00:00","20:30:00","21:00:00","21:30:00","22:00:00","22:30:00","23:00:00","23:30:00",1,1.0208333333333299,1.0416666666666701,1.0625,1.0833333333333299,1.1041666666666701,1.12499999999999,1.1458333333333199,1.1666666666666501,1.18749999999998,1.2083333333333099,1.2291666666666401]
["Termine / Notizen ->"]
[]
[]
[null,null,null,0,{"$f":"$Q$1","v":"Chief"}]
[null,null,null,0,{"$f":"$H$1","v":"MA 1"}]
[null,null,null,0,{"$f":"$I$1","v":"MA 2"}]
[null,null,null,0,{"$f":"$J$1","v":"MA 3"}]
[null,null,null,0,{"$f":"$K$1","v":"MA 4"}]
[null,null,null,0,{"$f":"$L$1","v":"MA 5"}]
[null,null,null,0,{"$f":"$M$1","v":"MA 6"}]
[null,null,null,0,{"$f":"$N$1","v":"MA 7"}]
[null,null,null,0,{"$f":"$O$1","v":"MA 8"}]
[null,null,null,0,{"$f":"$P$1","v":"MA 9"}]
[null,null,{"$f":"C78+1","v":"2020-01-07"},{"$f":"C92","v":"2020-01-07"},"MA",1.24999999999997,"06:30:00","07:00:00","07:30:00","08:00:00","08:30:00","09:00:00","09:30:00","10:00:00","10:30:00","11:00:00","11:30:00","12:00:00","12:30:00","13:00:00","13:30:00","14:00:00","14:30:00","15:00:00","15:30:00","16:00:00","16:30:00","17:00:00","17:30:00","18:00:00","18:30:00","19:00:00","19:30:00","20:00:00","20:30:00","21:00:00","21:30:00","22:00:00","22:30:00","23:00:00","23:30:00",1,1.0208333333333299,1.0416666666666701,1.0625,1.0833333333333299,1.1041666666666701,1.12499999999999,1.1458333333333199,1.1666666666666501,1.18749999999998,1.2083333333333099,1.2291666666666401]
["Termine / Notizen ->"]
[]
[]
[null,null,null,0,{"$f":"$Q$1","v":"Chief"}]
[null,null,null,0,{"$f":"$H$1","v":"MA 1"}]
[null,null,null,0,{"$f":"$I$1","v":"MA 2"}]
[null,null,null,0,{"$f":"$J$1","v":"MA 3"}]
[null,null,null,0,{"$f":"$K$1","v":"MA 4"}]
[null,null,null,0,{"$f":"$L$1","v":"MA 5"}]
[null,null,null,0,{"$f":"$M$1","v":"MA 6"}]
[null,null,null,0,{"$f":"$N$1","v":"MA 7"}]
[null,null,null,0,{"$f":"$O$1","v":"MA 8"}]
[null,null,null,0,{"$f":"$P$1","v":"MA 9"}]
[null,null,{"$f":"C92+1","v":"2020-01-08"},{"$f":"C106","v":"2020-01-08"},"MA",1.24999999999997,"06:30:00","07:00:00","07:30:00","08:00:00","08:30:00","09:00:00","09:30:00","10:00:00","10:30:00","11:00:00","11:30:00","12:00:00","12:30:00","13:00:00","13:30:00","14:00:00","14:30:00","15:00:00","15:30:00","16:00:00","16:30:00","17:00:00","17:30:00","18:00:00","18:30:00","19:00:00","19:30:00","20:00:00","20:30:00","21:00:00","21:30:00","22:00:00","22:30:00","23:00:00","23:30:00",1,1.0208333333333299,1.0416666666666701,1.0625,1.0833333333333299,1.1041666666666701,1.12499999999999,1.1458333333333199,1.1666666666666501,1.18749999999998,1.2083333333333099,1.2291666666666401]
["Termine / Notizen ->"]
[]
[]
[null,null,null,0,{"$f":"$Q$1","v":"Chief"}]
[null,null,null,0,{"$f":"$H$1","v":"MA 1"}]
[null,null,null,0,{"$f":"$I$1","v":"MA 2"}]
[null,null,null,0,{"$f":"$J$1","v":"MA 3"}]
[null,null,null,0,{"$f":"$K$1","v":"MA 4"}]
[null,null,null,0,{"$f":"$L$1","v":"MA 5"}]
[null,null,null,0,{"$f":"$M$1","v":"MA 6"}]
[null,null,null,0,{"$f":"$N$1","v":"MA 7"}]
[null,null,null,0,{"$f":"$O$1","v":"MA 8"}]
[null,null,null,0,{"$f":"$P$1","v":"MA 9"}]
[null,null,{"$f":"C106+1","v":"2020-01-09"},{"$f":"C120","v":"2020-01-09"},"MA",1.24999999999997,"06:30:00","07:00:00","07:30:00","08:00:00","08:30:00","09:00:00","09:30:00","10:00:00","10:30:00","11:00:00","11:30:00","12:00:00","12:30:00","13:00:00","13:30:00","14:00:00","14:30:00","15:00:00","15:30:00","16:00:00","16:30:00","17:00:00","17:30:00","18:00:00","18:30:00","19:00:00","19:30:00","20:00:00","20:30:00","21:00:00","21:30:00","22:00:00","22:30:00","23:00:00","23:30:00",1,1.0208333333333299,1.0416666666666701,1.0625,1.0833333333333299,1.1041666666666701,1.12499999999999,1.1458333333333199,1.1666666666666501,1.18749999999998,1.2083333333333099,1.2291666666666401]
["Termine / Notizen ->"]
[]
[]
[null,null,null,0,{"$f":"$Q$1","v":"Chief"}]
[null,null,null,0,{"$f":"$H$1","v":"MA 1"}]
[null,null,null,0,{"$f":"$I$1","v":"MA 2"}]
[null,null,null,0,{"$f":"$J$1","v":"MA 3"}]
[null,null,null,0,{"$f":"$K$1","v":"MA 4"}]
[null,null,null,0,{"$f":"$L$1","v":"MA 5"}]
[null,null,null,0,{"$f":"$M$1","v":"MA 6"}]
[null,null,null,0,{"$f":"$N$1","v":"MA 7"}]
[null,null,null,0,{"$f":"$O$1","v":"MA 8"}]
[null,null,null,0,{"$f":"$P$1","v":"MA 9"}]
[null,null,{"$f":"C120+1","v":"2020-01-10"},{"$f":"C134","v":"2020-01-10"},"MA",1.24999999999997,"06:30:00","07:00:00","07:30:00","08:00:00","08:30:00","09:00:00","09:30:00","10:00:00","10:30:00","11:00:00","11:30:00","12:00:00","12:30:00","13:00:00","13:30:00","14:00:00","14:30:00","15:00:00","15:30:00","16:00:00","16:30:00","17:00:00","17:30:00","18:00:00","18:30:00","19:00:00","19:30:00","20:00:00","20:30:00","21:00:00","21:30:00","22:00:00","22:30:00","23:00:00","23:30:00",1,1.0208333333333299,1.0416666666666701,1.0625,1.0833333333333299,1.1041666666666701,1.12499999999999,1.1458333333333199,1.1666666666666501,1.18749999999998,1.2083333333333099,1.2291666666666401]
["Termine / Notizen ->"]
[]
[]
[null,null,null,0,{"$f":"$Q$1","v":"Chief"}]
[null,null,null,0,{"$f":"$H$1","v":"MA 1"}]
[null,null,null,0,{"$f":"$I$1","v":"MA 2"}]
[null,null,null,0,{"$f":"$J$1","v":"MA 3"}]
[null,null,null,0,{"$f":"$K$1","v":"MA 4"}]
[null,null,null,0,{"$f":"$L$1","v":"MA 5"}]
[null,null,null,0,{"$f":"$M$1","v":"MA 6"}]
[null,null,null,0,{"$f":"$N$1","v":"MA 7"}]
[null,null,null,0,{"$f":"$O$1","v":"MA 8"}]
[null,null,null,0,{"$f":"$P$1","v":"MA 9"}]
[null,null,{"$f":"C134+1","v":"2020-01-11"},{"$f":"C148","v":"2020-01-11"},"MA",1.24999999999997,"06:30:00","07:00:00","07:30:00","08:00:00","08:30:00","09:00:00","09:30:00","10:00:00","10:30:00","11:00:00","11:30:00","12:00:00","12:30:00","13:00:00","13:30:00","14:00:00","14:30:00","15:00:00","15:30:00","16:00:00","16:30:00","17:00:00","17:30:00","18:00:00","18:30:00","19:00:00","19:30:00","20:00:00","20:30:00","21:00:00","21:30:00","22:00:00","22:30:00","23:00:00","23:30:00",1,1.0208333333333299,1.0416666666666701,1.0625,1.0833333333333299,1.1041666666666701,1.12499999999999,1.1458333333333199,1.1666666666666501,1.18749999999998,1.2083333333333099,1.2291666666666401]
["Termine / Notizen ->"]
[]
[]
[null,null,null,0,{"$f":"$Q$1","v":"Chief"}]
[null,null,null,0,{"$f":"$H$1","v":"MA 1"}]
[null,null,null,0,{"$f":"$I$1","v":"MA 2"}]
[null,null,null,0,{"$f":"$J$1","v":"MA 3"}]
[null,null,null,0,{"$f":"$K$1","v":"MA 4"}]
[null,null,null,0,{"$f":"$L$1","v":"MA 5"}]
[null,null,null,0,{"$f":"$M$1","v":"MA 6"}]
[null,null,null,0,{"$f":"$N$1","v":"MA 7"}]
[null,null,null,0,{"$f":"$O$1","v":"MA 8"}]
[null,null,null,0,{"$f":"$P$1","v":"MA 9"}]
[null,null,{"$f":"C148+1","v":"2020-01-12"},{"$f":"C162","v":"2020-01-12"},"MA",1.24999999999997,"06:30:00","07:00:00","07:30:00","08:00:00","08:30:00","09:00:00","09:30:00","10:00:00","10:30:00","11:00:00","11:30:00","12:00:00","12:30:00","13:00:00","13:30:00","14:00:00","14:30:00","15:00:00","15:30:00","16:00:00","16:30:00","17:00:00","17:30:00","18:00:00","18:30:00","19:00:00","19:30:00","20:00:00","20:30:00","21:00:00","21:30:00","22:00:00","22:30:00","23:00:00","23:30:00",1,1.0208333333333299,1.0416666666666701,1.0625,1.0833333333333299,1.1041666666666701,1.12499999999999,1.1458333333333199,1.1666666666666501,1.18749999999998,1.2083333333333099,1.2291666666666401]
["Termine / Notizen ->"]
[]
[]
[null,null,null,0,{"$f":"$Q$1","v":"Chief"}]
[null,null,null,0,{"$f":"$H$1","v":"MA 1"}]
[null,null,null,0,{"$f":"$I$1","v":"MA 2"}]
[null,null,null,0,{"$f":"$J$1","v":"MA 3"}]
[null,null,null,0,{"$f":"$K$1","v":"MA 4"}]
[null,null,null,0,{"$f":"$L$1","v":"MA 5"}]
[null,null,null,0,{"$f":"$M$1","v":"MA 6"}]
[null,null,null,0,{"$f":"$N$1","v":"MA 7"}]
[null,null,null,0,{"$f":"$O$1","v":"MA 8"}]
[null,null,null,0,{"$f":"$P$1","v":"MA 9"}]
[null,null,{"$f":"C162+1","v":"2020-01-13"},{"$f":"C176","v":"2020-01-13"},"MA",1.24999999999997,"06:30:00","07:00:00","07:30:00","08:00:00","08:30:00","09:00:00","09:30:00","10:00:00","10:30:00","11:00:00","11:30:00","12:00:00","12:30:00","13:00:00","13:30:00","14:00:00","14:30:00","15:00:00","15:30:00","16:00:00","16:30:00","17:00:00","17:30:00","18:00:00","18:30:00","19:00:00","19:30:00","20:00:00","20:30:00","21:00:00","21:30:00","22:00:00","22:30:00","23:00:00","23:30:00",1,1.0208333333333299,1.0416666666666701,1.0625,1.0833333333333299,1.1041666666666701,1.12499999999999,1.1458333333333199,1.1666666666666501,1.18749999999998,1.2083333333333099,1.2291666666666401]
["Termine / Notizen ->"]
[]
[]
[null,null,null,0,{"$f":"$Q$1","v":"Chief"}]
[null,null,null,0,{"$f":"$H$1","v":"MA 1"}]
[null,null,null,0,{"$f":"$I$1","v":"MA 2"}]
[null,null,null,0,{"$f":"$J$1","v":"MA 3"}]
[null,null,null,0,{"$f":"$K$1","v":"MA 4"}]
[null,null,null,0,{"$f":"$L$1","v":"MA 5"}]
[null,null,null,0,{"$f":"$M$1","v":"MA 6"}]
[null,null,null,0,{"$f":"$N$1","v":"MA 7"}]
[null,null,null,0,{"$f":"$O$1","v":"MA 8"}]
[null,null,null,0,{"$f":"$P$1","v":"MA 9"}]
[null,null,{"$f":"C176+1","v":"2020-01-14"},{"$f":"C190","v":"2020-01-14"},"MA",1.24999999999997,"06:30:00","07:00:00","07:30:00","08:00:00","08:30:00","09:00:00","09:30:00","10:00:00","10:30:00","11:00:00","11:30:00","12:00:00","12:30:00","13:00:00","13:30:00","14:00:00","14:30:00","15:00:00","15:30:00","16:00:00","16:30:00","17:00:00","17:30:00","18:00:00","18:30:00","19:00:00","19:30:00","20:00:00","20:30:00","21:00:00","21:30:00","22:00:00","22:30:00","23:00:00","23:30:00",1,1.0208333333333299,1.0416666666666701,1.0625,1.0833333333333299,1.1041666666666701,1.12499999999999,1.1458333333333199,1.1666666666666501,1.18749999999998,1.2083333333333099,1.2291666666666401]
["Termine / Notizen ->"]
[]
[]
[null,null,null,0,{"$f":"$Q$1","v":"Chief"}]
[null,null,null,0,{"$f":"$H$1","v":"MA 1"}]
[null,null,null,0,{"$f":"$I$1","v":"MA 2"}]
[null,null,null,0,{"$f":"$J$1","v":"MA 3"}]
[null,null,null,0,{"$f":"$K$1","v":"MA 4"}]
[null,null,null,0,{"$f":"$L$1","v":"MA 5"}]
[null,null,null,0,{"$f":"$M$1","v":"MA 6"}]
[null,null,null,0,{"$f":"$N$1","v":"MA 7"}]
[null,null,null,0,{"$f":"$O$1","v":"MA 8"}]
[null,null,null,0,{"$f":"$P$1","v":"MA 9"}]
[null,null,{"$f":"C190+1","v":"2020-01-15"},{"$f":"C204","v":"2020-01-15"},"MA",1.24999999999997,"06:30:00","07:00:00","07:30:00","08:00:00","08:30:00","09:00:00","09:30:00","10:00:00","10:30:00","11:00:00","11:30:00","12:00:00","12:30:00","13:00:00","13:30:00","14:00:00","14:30:00","15:00:00","15:30:00","16:00:00","16:30:00","17:00:00","17:30:00","18:00:00","18:30:00","19:00:00","19:30:00","20:00:00","20:30:00","21:00:00","21:30:00","22:00:00","22:30:00","23:00:00","23:30:00",1,1.0208333333333299,1.0416666666666701,1.0625,1.0833333333333299,1.1041666666666701,1.12499999999999,1.1458333333333199,1.1666666666666501,1.18749999999998,1.2083333333333099,1.2291666666666401]
["Termine / Notizen ->"]
[]
[]
[null,null,null,0,{"$f":"$Q$1","v":"Chief"}]
[null,null,null,0,{"$f":"$H$1","v":"MA 1"}]
[null,null,null,0,{"$f":"$I$1","v":"MA 2"}]
[null,null,null,0,{"$f":"$J$1","v":"MA 3"}]
[null,null,null,0,{"$f":"$K$1","v":"MA 4"}]
[null,null,null,0,{"$f":"$L$1","v":"MA 5"}]
[null,null,null,0,{"$f":"$M$1","v":"MA 6"}]
[null,null,null,0,{"$f":"$N$1","v":"MA 7"}]
[null,null,null,0,{"$f":"$O$1","v":"MA 8"}]
[null,null,null,0,{"$f":"$P$1","v":"MA 9"}]
[null,null,{"$f":"C204+1","v":"2020-01-16"},{"$f":"C218","v":"2020-01-16"},"MA",1.24999999999997,"06:30:00","07:00:00","07:30:00","08:00:00","08:30:00","09:00:00","09:30:00","10:00:00","10:30:00","11:00:00","11:30:00","12:00:00","12:30:00","13:00:00","13:30:00","14:00:00","14:30:00","15:00:00","15:30:00","16:00:00","16:30:00","17:00:00","17:30:00","18:00:00","18:30:00","19:00:00","19:30:00","20:00:00","20:30:00","21:00:00","21:30:00","22:00:00","22:30:00","23:00:00","23:30:00",1,1.0208333333333299,1.0416666666666701,1.0625,1.0833333333333299,1.1041666666666701,1.12499999999999,1.1458333333333199,1.1666666666666501,1.18749999999998,1.2083333333333099,1.2291666666666401]
["Termine / Notizen ->"]
[]
[]
[null,null,null,0,{"$f":"$Q$1","v":"Chief"}]
[null,null,null,0,{"$f":"$H$1","v":"MA 1"}]
[null,null,null,0,{"$f":"$I$1","v":"MA 2"}]
[null,null,null,0,{"$f":"$J$1","v":"MA 3"}]
[null,null,null,0,{"$f":"$K$1","v":"MA 4"}]
[null,null,null,0,{"$f":"$L$1","v":"MA 5"}]
[null,null,null,0,{"$f":"$M$1","v":"MA 6"}]
[null,null,null,0,{"$f":"$N$1","v":"MA 7"}]
[null,null,null,0,{"$f":"$O$1","v":"MA 8"}]
[null,null,null,0,{"$f":"$P$1","v":"MA 9"}]
[null,null,{"$f":"C218+1","v":"2020-01-17"},{"$f":"C232","v":"2020-01-17"},"MA",1.24999999999997,"06:30:00","07:00:00","07:30:00","08:00:00","08:30:00","09:00:00","09:30:00","10:00:00","10:30:00","11:00:00","11:30:00","12:00:00","12:30:00","13:00:00","13:30:00","14:00:00","14:30:00","15:00:00","15:30:00","16:00:00","16:30:00","17:00:00","17:30:00","18:00:00","18:30:00","19:00:00","19:30:00","20:00:00","20:30:00","21:00:00","21:30:00","22:00:00","22:30:00","23:00:00","23:30:00",1,1.0208333333333299,1.0416666666666701,1.0625,1.0833333333333299,1.1041666666666701,1.12499999999999,1.1458333333333199,1.1666666666666501,1.18749999999998,1.2083333333333099,1.2291666666666401]
["Termine / Notizen ->"]
[]
[]
[null,null,null,0,{"$f":"$Q$1","v":"Chief"},{"$f":"IFERROR(INDEX($S$21:$AE$51,SMALL(IF($S$21:$AE$51=C$3,ROW($S$21:$AE$51)-ROW($S$21)+1),1),SMALL(IF($S$21:$AE$51=C$3,COLUMN($S$21:$AE$51)-COLUMN($S$20)+1),1)),\"\")","v":""}]
[null,null,null,0,{"$f":"$H$1","v":"MA 1"}]
[null,null,null,0,{"$f":"$I$1","v":"MA 2"}]
[null,null,null,0,{"$f":"$J$1","v":"MA 3"}]
[null,null,null,0,{"$f":"$K$1","v":"MA 4"}]
[null,null,null,0,{"$f":"$L$1","v":"MA 5"}]
[null,null,null,0,{"$f":"$M$1","v":"MA 6"}]
[null,null,null,0,{"$f":"$N$1","v":"MA 7"}]
[null,null,null,0,{"$f":"$O$1","v":"MA 8"}]
[null,null,null,0,{"$f":"$P$1","v":"MA 9"}]
[null,null,{"$f":"C232+1","v":"2020-01-18"},{"$f":"C246","v":"2020-01-18"},"MA",1.24999999999997,"06:30:00","07:00:00","07:30:00","08:00:00","08:30:00","09:00:00","09:30:00","10:00:00","10:30:00","11:00:00","11:30:00","12:00:00","12:30:00","13:00:00","13:30:00","14:00:00","14:30:00","15:00:00","15:30:00","16:00:00","16:30:00","17:00:00","17:30:00","18:00:00","18:30:00","19:00:00","19:30:00","20:00:00","20:30:00","21:00:00","21:30:00","22:00:00","22:30:00","23:00:00","23:30:00",1,1.0208333333333299,1.0416666666666701,1.0625,1.0833333333333299,1.1041666666666701,1.12499999999999,1.1458333333333199,1.1666666666666501,1.18749999999998,1.2083333333333099,1.2291666666666401]
["Termine / Notizen ->"]
[]
[]
[null,null,null,0,{"$f":"$Q$1","v":"Chief"}]
[null,null,null,0,{"$f":"$H$1","v":"MA 1"}]
[null,null,null,0,{"$f":"$I$1","v":"MA 2"}]
[null,null,null,0,{"$f":"$J$1","v":"MA 3"}]
[null,null,null,0,{"$f":"$K$1","v":"MA 4"}]
[null,null,null,0,{"$f":"$L$1","v":"MA 5"}]
[null,null,null,0,{"$f":"$M$1","v":"MA 6"}]
[null,null,null,0,{"$f":"$N$1","v":"MA 7"}]
[null,null,null,0,{"$f":"$O$1","v":"MA 8"}]
[null,null,null,0,{"$f":"$P$1","v":"MA 9"}]
[null,null,{"$f":"C246+1","v":"2020-01-19"},{"$f":"C260","v":"2020-01-19"},"MA",1.24999999999997,"06:30:00","07:00:00","07:30:00","08:00:00","08:30:00","09:00:00","09:30:00","10:00:00","10:30:00","11:00:00","11:30:00","12:00:00","12:30:00","13:00:00","13:30:00","14:00:00","14:30:00","15:00:00","15:30:00","16:00:00","16:30:00","17:00:00","17:30:00","18:00:00","18:30:00","19:00:00","19:30:00","20:00:00","20:30:00","21:00:00","21:30:00","22:00:00","22:30:00","23:00:00","23:30:00",1,1.0208333333333299,1.0416666666666701,1.0625,1.0833333333333299,1.1041666666666701,1.12499999999999,1.1458333333333199,1.1666666666666501,1.18749999999998,1.2083333333333099,1.2291666666666401]
["Termine / Notizen ->"]
[]
[]
[null,null,null,0,{"$f":"$Q$1","v":"Chief"}]
[null,null,null,0,{"$f":"$H$1","v":"MA 1"}]
[null,null,null,0,{"$f":"$I$1","v":"MA 2"}]
[null,null,null,0,{"$f":"$J$1","v":"MA 3"}]
[null,null,null,0,{"$f":"$K$1","v":"MA 4"}]
[null,null,null,0,{"$f":"$L$1","v":"MA 5"}]
[null,null,null,0,{"$f":"$M$1","v":"MA 6"}]
[null,null,null,0,{"$f":"$N$1","v":"MA 7"}]
[null,null,null,0,{"$f":"$O$1","v":"MA 8"}]
[null,null,null,0,{"$f":"$P$1","v":"MA 9"}]
[null,null,{"$f":"C260+1","v":"2020-01-20"},{"$f":"C274","v":"2020-01-20"},"MA",1.24999999999997,"06:30:00","07:00:00","07:30:00","08:00:00","08:30:00","09:00:00","09:30:00","10:00:00","10:30:00","11:00:00","11:30:00","12:00:00","12:30:00","13:00:00","13:30:00","14:00:00","14:30:00","15:00:00","15:30:00","16:00:00","16:30:00","17:00:00","17:30:00","18:00:00","18:30:00","19:00:00","19:30:00","20:00:00","20:30:00","21:00:00","21:30:00","22:00:00","22:30:00","23:00:00","23:30:00",1,1.0208333333333299,1.0416666666666701,1.0625,1.0833333333333299,1.1041666666666701,1.12499999999999,1.1458333333333199,1.1666666666666501,1.18749999999998,1.2083333333333099,1.2291666666666401]
["Termine / Notizen ->"]
[]
[]
[null,null,null,0,{"$f":"$Q$1","v":"Chief"}]
[null,null,null,0,{"$f":"$H$1","v":"MA 1"}]
[null,null,null,0,{"$f":"$I$1","v":"MA 2"}]
[null,null,null,0,{"$f":"$J$1","v":"MA 3"}]
[null,null,null,0,{"$f":"$K$1","v":"MA 4"}]
[null,null,null,0,{"$f":"$L$1","v":"MA 5"}]
[null,null,null,0,{"$f":"$M$1","v":"MA 6"}]
[null,null,null,0,{"$f":"$N$1","v":"MA 7"}]
[null,null,null,0,{"$f":"$O$1","v":"MA 8"}]
[null,null,null,0,{"$f":"$P$1","v":"MA 9"}]
[null,null,{"$f":"C274+1","v":"2020-01-21"},{"$f":"C288","v":"2020-01-21"},"MA",1.24999999999997,"06:30:00","07:00:00","07:30:00","08:00:00","08:30:00","09:00:00","09:30:00","10:00:00","10:30:00","11:00:00","11:30:00","12:00:00","12:30:00","13:00:00","13:30:00","14:00:00","14:30:00","15:00:00","15:30:00","16:00:00","16:30:00","17:00:00","17:30:00","18:00:00","18:30:00","19:00:00","19:30:00","20:00:00","20:30:00","21:00:00","21:30:00","22:00:00","22:30:00","23:00:00","23:30:00",1,1.0208333333333299,1.0416666666666701,1.0625,1.0833333333333299,1.1041666666666701,1.12499999999999,1.1458333333333199,1.1666666666666501,1.18749999999998,1.2083333333333099,1.2291666666666401]
["Termine / Notizen ->"]
[]
[]
[null,null,null,0,{"$f":"$Q$1","v":"Chief"}]
[null,null,null,0,{"$f":"$H$1","v":"MA 1"}]
[null,null,null,0,{"$f":"$I$1","v":"MA 2"}]
[null,null,null,0,{"$f":"$J$1","v":"MA 3"}]
[null,null,null,0,{"$f":"$K$1","v":"MA 4"}]
[null,null,null,0,{"$f":"$L$1","v":"MA 5"}]
[null,null,null,0,{"$f":"$M$1","v":"MA 6"}]
[null,null,null,0,{"$f":"$N$1","v":"MA 7"}]
[null,null,null,0,{"$f":"$O$1","v":"MA 8"}]
[null,null,null,0,{"$f":"$P$1","v":"MA 9"}]
[null,null,{"$f":"C288+1","v":"2020-01-22"},{"$f":"C302","v":"2020-01-22"},"MA",1.24999999999997,"06:30:00","07:00:00","07:30:00","08:00:00","08:30:00","09:00:00","09:30:00","10:00:00","10:30:00","11:00:00","11:30:00","12:00:00","12:30:00","13:00:00","13:30:00","14:00:00","14:30:00","15:00:00","15:30:00","16:00:00","16:30:00","17:00:00","17:30:00","18:00:00","18:30:00","19:00:00","19:30:00","20:00:00","20:30:00","21:00:00","21:30:00","22:00:00","22:30:00","23:00:00","23:30:00",1,1.0208333333333299,1.0416666666666701,1.0625,1.0833333333333299,1.1041666666666701,1.12499999999999,1.1458333333333199,1.1666666666666501,1.18749999999998,1.2083333333333099,1.2291666666666401]
["Termine / Notizen ->"]
[]
[]
[null,null,null,0,{"$f":"$Q$1","v":"Chief"}]
[null,null,null,0,{"$f":"$H$1","v":"MA 1"}]
[null,null,null,0,{"$f":"$I$1","v":"MA 2"}]
[null,null,null,0,{"$f":"$J$1","v":"MA 3"}]
[null,null,null,0,{"$f":"$K$1","v":"MA 4"}]
[null,null,null,0,{"$f":"$L$1","v":"MA 5"}]
[null,null,null,0,{"$f":"$M$1","v":"MA 6"}]
[null,null,null,0,{"$f":"$N$1","v":"MA 7"}]
[null,null,null,0,{"$f":"$O$1","v":"MA 8"}]
[null,null,null,0,{"$f":"$P$1","v":"MA 9"}]
[null,null,{"$f":"C302+1","v":"2020-01-23"},{"$f":"C316","v":"2020-01-23"},"MA",1.24999999999997,"06:30:00","07:00:00","07:30:00","08:00:00","08:30:00","09:00:00","09:30:00","10:00:00","10:30:00","11:00:00","11:30:00","12:00:00","12:30:00","13:00:00","13:30:00","14:00:00","14:30:00","15:00:00","15:30:00","16:00:00","16:30:00","17:00:00","17:30:00","18:00:00","18:30:00","19:00:00","19:30:00","20:00:00","20:30:00","21:00:00","21:30:00","22:00:00","22:30:00","23:00:00","23:30:00",1,1.0208333333333299,1.0416666666666701,1.0625,1.0833333333333299,1.1041666666666701,1.12499999999999,1.1458333333333199,1.1666666666666501,1.18749999999998,1.2083333333333099,1.2291666666666401]
["Termine / Notizen ->"]
[]
[]
[null,null,null,0,{"$f":"$Q$1","v":"Chief"}]
[null,null,null,0,{"$f":"$H$1","v":"MA 1"}]
[null,null,null,0,{"$f":"$I$1","v":"MA 2"}]
[null,null,null,0,{"$f":"$J$1","v":"MA 3"}]
[null,null,null,0,{"$f":"$K$1","v":"MA 4"}]
[null,null,null,0,{"$f":"$L$1","v":"MA 5"}]
[null,null,null,0,{"$f":"$M$1","v":"MA 6"}]
[null,null,null,0,{"$f":"$N$1","v":"MA 7"}]
[null,null,null,0,{"$f":"$O$1","v":"MA 8"}]
[null,null,null,0,{"$f":"$P$1","v":"MA 9"}]
[null,null,{"$f":"C316+1","v":"2020-01-24"},{"$f":"C330","v":"2020-01-24"},"MA",1.24999999999997,"06:30:00","07:00:00","07:30:00","08:00:00","08:30:00","09:00:00","09:30:00","10:00:00","10:30:00","11:00:00","11:30:00","12:00:00","12:30:00","13:00:00","13:30:00","14:00:00","14:30:00","15:00:00","15:30:00","16:00:00","16:30:00","17:00:00","17:30:00","18:00:00","18:30:00","19:00:00","19:30:00","20:00:00","20:30:00","21:00:00","21:30:00","22:00:00","22:30:00","23:00:00","23:30:00",1,1.0208333333333299,1.0416666666666701,1.0625,1.0833333333333299,1.1041666666666701,1.12499999999999,1.1458333333333199,1.1666666666666501,1.18749999999998,1.2083333333333099,1.2291666666666401]
["Termine / Notizen ->"]
[]
[]
[null,null,null,0,{"$f":"$Q$1","v":"Chief"}]
[null,null,null,0,{"$f":"$H$1","v":"MA 1"}]
[null,null,null,0,{"$f":"$I$1","v":"MA 2"}]
[null,null,null,0,{"$f":"$J$1","v":"MA 3"}]
[null,null,null,0,{"$f":"$K$1","v":"MA 4"}]
[null,null,null,0,{"$f":"$L$1","v":"MA 5"}]
[null,null,null,0,{"$f":"$M$1","v":"MA 6"}]
[null,null,null,0,{"$f":"$N$1","v":"MA 7"}]
[null,null,null,0,{"$f":"$O$1","v":"MA 8"}]
[null,null,null,0,{"$f":"$P$1","v":"MA 9"}]
[null,null,{"$f":"C330+1","v":"2020-01-25"},{"$f":"C344","v":"2020-01-25"},"MA",1.24999999999997,"06:30:00","07:00:00","07:30:00","08:00:00","08:30:00","09:00:00","09:30:00","10:00:00","10:30:00","11:00:00","11:30:00","12:00:00","12:30:00","13:00:00","13:30:00","14:00:00","14:30:00","15:00:00","15:30:00","16:00:00","16:30:00","17:00:00","17:30:00","18:00:00","18:30:00","19:00:00","19:30:00","20:00:00","20:30:00","21:00:00","21:30:00","22:00:00","22:30:00","23:00:00","23:30:00",1,1.0208333333333299,1.0416666666666701,1.0625,1.0833333333333299,1.1041666666666701,1.12499999999999,1.1458333333333199,1.1666666666666501,1.18749999999998,1.2083333333333099,1.2291666666666401]
["Termine / Notizen ->"]
[]
[]
[null,null,null,0,{"$f":"$Q$1","v":"Chief"}]
[null,null,null,0,{"$f":"$H$1","v":"MA 1"}]
[null,null,null,0,{"$f":"$I$1","v":"MA 2"}]
[null,null,null,0,{"$f":"$J$1","v":"MA 3"}]
[null,null,null,0,{"$f":"$K$1","v":"MA 4"}]
[null,null,null,0,{"$f":"$L$1","v":"MA 5"}]
[null,null,null,0,{"$f":"$M$1","v":"MA 6"}]
[null,null,null,0,{"$f":"$N$1","v":"MA 7"}]
[null,null,null,0,{"$f":"$O$1","v":"MA 8"}]
[null,null,null,0,{"$f":"$P$1","v":"MA 9"}]
[null,null,{"$f":"C344+1","v":"2020-01-26"},{"$f":"C358","v":"2020-01-26"},"MA",1.24999999999997,"06:30:00","07:00:00","07:30:00","08:00:00","08:30:00","09:00:00","09:30:00","10:00:00","10:30:00","11:00:00","11:30:00","12:00:00","12:30:00","13:00:00","13:30:00","14:00:00","14:30:00","15:00:00","15:30:00","16:00:00","16:30:00","17:00:00","17:30:00","18:00:00","18:30:00","19:00:00","19:30:00","20:00:00","20:30:00","21:00:00","21:30:00","22:00:00","22:30:00","23:00:00","23:30:00",1,1.0208333333333299,1.0416666666666701,1.0625,1.0833333333333299,1.1041666666666701,1.12499999999999,1.1458333333333199,1.1666666666666501,1.18749999999998,1.2083333333333099,1.2291666666666401]
["Termine / Notizen ->"]
[]
[]
[null,null,null,0,{"$f":"$Q$1","v":"Chief"}]
[null,null,null,0,{"$f":"$H$1","v":"MA 1"}]
[null,null,null,0,{"$f":"$I$1","v":"MA 2"}]
[null,null,null,0,{"$f":"$J$1","v":"MA 3"}]
[null,null,null,0,{"$f":"$K$1","v":"MA 4"}]
[null,null,null,0,{"$f":"$L$1","v":"MA 5"}]
[null,null,null,0,{"$f":"$M$1","v":"MA 6"}]
[null,null,null,0,{"$f":"$N$1","v":"MA 7"}]
[null,null,null,0,{"$f":"$O$1","v":"MA 8"}]
[null,null,null,0,{"$f":"$P$1","v":"MA 9"}]
[null,null,{"$f":"C358+1","v":"2020-01-27"},{"$f":"C372","v":"2020-01-27"},"MA",1.24999999999997,"06:30:00","07:00:00","07:30:00","08:00:00","08:30:00","09:00:00","09:30:00","10:00:00","10:30:00","11:00:00","11:30:00","12:00:00","12:30:00","13:00:00","13:30:00","14:00:00","14:30:00","15:00:00","15:30:00","16:00:00","16:30:00","17:00:00","17:30:00","18:00:00","18:30:00","19:00:00","19:30:00","20:00:00","20:30:00","21:00:00","21:30:00","22:00:00","22:30:00","23:00:00","23:30:00",1,1.0208333333333299,1.0416666666666701,1.0625,1.0833333333333299,1.1041666666666701,1.12499999999999,1.1458333333333199,1.1666666666666501,1.18749999999998,1.2083333333333099,1.2291666666666401]
["Termine / Notizen ->"]
[]
[]
[null,null,null,0,{"$f":"$Q$1","v":"Chief"}]
[null,null,null,0,{"$f":"$H$1","v":"MA 1"}]
[null,null,null,0,{"$f":"$I$1","v":"MA 2"}]
[null,null,null,0,{"$f":"$J$1","v":"MA 3"}]
[null,null,null,0,{"$f":"$K$1","v":"MA 4"}]
[null,null,null,0,{"$f":"$L$1","v":"MA 5"}]
[null,null,null,0,{"$f":"$M$1","v":"MA 6"}]
[null,null,null,0,{"$f":"$N$1","v":"MA 7"}]
[null,null,null,0,{"$f":"$O$1","v":"MA 8"}]
[null,null,null,0,{"$f":"$P$1","v":"MA 9"}]
[null,null,{"$f":"C372+1","v":"2020-01-28"},{"$f":"C386","v":"2020-01-28"},"MA",1.24999999999997,"06:30:00","07:00:00","07:30:00","08:00:00","08:30:00","09:00:00","09:30:00","10:00:00","10:30:00","11:00:00","11:30:00","12:00:00","12:30:00","13:00:00","13:30:00","14:00:00","14:30:00","15:00:00","15:30:00","16:00:00","16:30:00","17:00:00","17:30:00","18:00:00","18:30:00","19:00:00","19:30:00","20:00:00","20:30:00","21:00:00","21:30:00","22:00:00","22:30:00","23:00:00","23:30:00",1,1.0208333333333299,1.0416666666666701,1.0625,1.0833333333333299,1.1041666666666701,1.12499999999999,1.1458333333333199,1.1666666666666501,1.18749999999998,1.2083333333333099,1.2291666666666401]
["Termine / Notizen ->"]
[]
[]
[null,null,null,0,{"$f":"$Q$1","v":"Chief"}]
[null,null,null,0,{"$f":"$H$1","v":"MA 1"}]
[null,null,null,0,{"$f":"$I$1","v":"MA 2"}]
[null,null,null,0,{"$f":"$J$1","v":"MA 3"}]
[null,null,null,0,{"$f":"$K$1","v":"MA 4"}]
[null,null,null,0,{"$f":"$L$1","v":"MA 5"}]
[null,null,null,0,{"$f":"$M$1","v":"MA 6"}]
[null,null,null,0,{"$f":"$N$1","v":"MA 7"}]
[null,null,null,0,{"$f":"$O$1","v":"MA 8"}]
[null,null,null,0,{"$f":"$P$1","v":"MA 9"}]
[null,null,{"$f":"C386+1","v":"2020-01-29"},{"$f":"C400","v":"2020-01-29"},"MA",1.24999999999997,"06:30:00","07:00:00","07:30:00","08:00:00","08:30:00","09:00:00","09:30:00","10:00:00","10:30:00","11:00:00","11:30:00","12:00:00","12:30:00","13:00:00","13:30:00","14:00:00","14:30:00","15:00:00","15:30:00","16:00:00","16:30:00","17:00:00","17:30:00","18:00:00","18:30:00","19:00:00","19:30:00","20:00:00","20:30:00","21:00:00","21:30:00","22:00:00","22:30:00","23:00:00","23:30:00",1,1.0208333333333299,1.0416666666666701,1.0625,1.0833333333333299,1.1041666666666701,1.12499999999999,1.1458333333333199,1.1666666666666501,1.18749999999998,1.2083333333333099,1.2291666666666401]
["Termine / Notizen ->"]
[]
[]
[null,null,null,0,{"$f":"$Q$1","v":"Chief"}]
[null,null,null,0,{"$f":"$H$1","v":"MA 1"}]
[null,null,null,0,{"$f":"$I$1","v":"MA 2"}]
[null,null,null,0,{"$f":"$J$1","v":"MA 3"}]
[null,null,null,0,{"$f":"$K$1","v":"MA 4"}]
[null,null,null,0,{"$f":"$L$1","v":"MA 5"}]
[null,null,null,0,{"$f":"$M$1","v":"MA 6"}]
[null,null,null,0,{"$f":"$N$1","v":"MA 7"}]
[null,null,null,0,{"$f":"$O$1","v":"MA 8"}]
[null,null,null,0,{"$f":"$P$1","v":"MA 9"}]
[null,null,{"$f":"C400+1","v":"2020-01-30"},{"$f":"C414","v":"2020-01-30"},"MA",1.24999999999997,"06:30:00","07:00:00","07:30:00","08:00:00","08:30:00","09:00:00","09:30:00","10:00:00","10:30:00","11:00:00","11:30:00","12:00:00","12:30:00","13:00:00","13:30:00","14:00:00","14:30:00","15:00:00","15:30:00","16:00:00","16:30:00","17:00:00","17:30:00","18:00:00","18:30:00","19:00:00","19:30:00","20:00:00","20:30:00","21:00:00","21:30:00","22:00:00","22:30:00","23:00:00","23:30:00",1,1.0208333333333299,1.0416666666666701,1.0625,1.0833333333333299,1.1041666666666701,1.12499999999999,1.1458333333333199,1.1666666666666501,1.18749999999998,1.2083333333333099,1.2291666666666401]
["Termine / Notizen ->"]
[]
[]
[null,null,null,0,{"$f":"$Q$1","v":"Chief"}]
[null,null,null,0,{"$f":"$H$1","v":"MA 1"}]
[null,null,null,0,{"$f":"$I$1","v":"MA 2"}]
[null,null,null,0,{"$f":"$J$1","v":"MA 3"}]
[null,null,null,0,{"$f":"$K$1","v":"MA 4"}]
[null,null,null,0,{"$f":"$L$1","v":"MA 5"}]
[null,null,null,0,{"$f":"$M$1","v":"MA 6"}]
[null,null,null,0,{"$f":"$N$1","v":"MA 7"}]
[null,null,null,0,{"$f":"$O$1","v":"MA 8"}]
[null,null,null,0,{"$f":"$P$1","v":"MA 9"}]
[null,null,{"$f":"C414+1","v":"2020-01-31"},{"$f":"C428","v":"2020-01-31"},"MA",1.24999999999997,"06:30:00","07:00:00","07:30:00","08:00:00","08:30:00","09:00:00","09:30:00","10:00:00","10:30:00","11:00:00","11:30:00","12:00:00","12:30:00","13:00:00","13:30:00","14:00:00","14:30:00","15:00:00","15:30:00","16:00:00","16:30:00","17:00:00","17:30:00","18:00:00","18:30:00","19:00:00","19:30:00","20:00:00","20:30:00","21:00:00","21:30:00","22:00:00","22:30:00","23:00:00","23:30:00",1,1.0208333333333299,1.0416666666666701,1.0625,1.0833333333333299,1.1041666666666701,1.12499999999999,1.1458333333333199,1.1666666666666501,1.18749999999998,1.2083333333333099,1.2291666666666401]
["Termine / Notizen ->"]
[]
[]
[null,null,null,0,{"$f":"$Q$1","v":"Chief"}]
[null,null,null,0,{"$f":"$H$1","v":"MA 1"}]
[null,null,null,0,{"$f":"$I$1","v":"MA 2"}]
[null,null,null,0,{"$f":"$J$1","v":"MA 3"}]
[null,null,null,0,{"$f":"$K$1","v":"MA 4"}]
[null,null,null,0,{"$f":"$L$1","v":"MA 5"}]
[null,null,null,0,{"$f":"$M$1","v":"MA 6"}]
[null,null,null,0,{"$f":"$N$1","v":"MA 7"}]
[null,null,null,0,{"$f":"$O$1","v":"MA 8"}]
[null,null,null,0,{"$f":"$P$1","v":"MA 9"}]