Workbook

Sheet YTD Summary
B1: 44196
B3: Year to Date
B4: =+B1 -> 44196
C5: Actual | D5: Budget | E5: Forecast | G5: Variance to Budget | H5: Variancer to Forecast | I5: % to Budget | J5: % to Forecast
A6: Total Exchange Revenue | B6: Exchange Revenue | C6: =SUMIF(IS!$P$7:$AA$7,"YTD",(INDEX(IS!$P$11:$AA$77,MATCH('YTD Summary'!A6,IS!$A$11:$A$77,0)*MATCH('YTD Summary'!$C$5,IS!$P$8:$AA$8,0),MATCH('YTD Summary'!$B$1,IS!$P$9:$AA$9)))) -> 6462761.8 | D6: #N/A | E6: #N/A | G6: =+C6-D6 -> #N/A | H6: =+C6-E6 -> #N/A | I6: =IFERROR(+G6/D6,0) -> 0 | J6: =IFERROR(+H6/E6,0) -> 0
A7: Total Licensing | B7: Licensing | C7: =SUMIF(IS!$P$7:$AA$7,"YTD",(INDEX(IS!$P$11:$AA$77,MATCH('YTD Summary'!A7,IS!$A$11:$A$77,0)*MATCH('YTD Summary'!$C$5,IS!$P$8:$AA$8,0),MATCH('YTD Summary'!$B$1,IS!$P$9:$AA$9)))) -> 15862500 | D7: #N/A | E7: #N/A | G7: =+C7-D7 -> #N/A | H7: =+C7-E7 -> #N/A | I7: =IFERROR(+G7/D7,0) -> 0 | J7: =IFERROR(+H7/E7,0) -> 0
A8: Total Commissions | B8: Commissions | C8: =SUMIF(IS!$P$7:$AA$7,"YTD",(INDEX(IS!$P$11:$AA$77,MATCH('YTD Summary'!A8,IS!$A$11:$A$77,0)*MATCH('YTD Summary'!$C$5,IS!$P$8:$AA$8,0),MATCH('YTD Summary'!$B$1,IS!$P$9:$AA$9)))) -> 1540597.5 | D8: #N/A | E8: #N/A | G8: =+C7-D7 -> #N/A | H8: =+C8-E8 -> #N/A | I8: =IFERROR(+G8/D8,0) -> 0 | J8: =IFERROR(+H8/E8,0) -> 0
A9: Total Override | B9: Override | C9: =SUMIF(IS!$P$7:$AA$7,"YTD",(INDEX(IS!$P$11:$AA$77,MATCH('YTD Summary'!A9,IS!$A$11:$A$77,0)*MATCH('YTD Summary'!$C$5,IS!$P$8:$AA$8,0),MATCH('YTD Summary'!$B$1,IS!$P$9:$AA$9)))) -> 1262874.7 | D9: #N/A | E9: #N/A | G9: =+C8-D8 -> #N/A | H9: =+C9-E9 -> #N/A | I9: =IFERROR(+G9/D9,0) -> 0 | J9: =IFERROR(+H9/E9,0) -> 0
A10: Implementation & Configuration | B10: Implementation & Configuration | C10: =SUMIF(IS!$P$7:$AA$7,"YTD",(INDEX(IS!$P$11:$AA$77,MATCH('YTD Summary'!A10,IS!$A$11:$A$77,0)*MATCH('YTD Summary'!$C$5,IS!$P$8:$AA$8,0),MATCH('YTD Summary'!$B$1,IS!$P$9:$AA$9)))) -> 15250000 | D10: #N/A | E10: #N/A | G10: =+C9-D9 -> #N/A | H10: =+C10-E10 -> #N/A | I10: =IFERROR(+G10/D10,0) -> 0 | J10: =IFERROR(+H10/E10,0) -> 0
A11: Total Revenue | B11: Revenue | C11: =SUMIF(IS!$P$7:$AA$7,"YTD",(INDEX(IS!$P$11:$AA$77,MATCH('YTD Summary'!A11,IS!$A$11:$A$77,0)*MATCH('YTD Summary'!$C$5,IS!$P$8:$AA$8,0),MATCH('YTD Summary'!$B$1,IS!$P$9:$AA$9)))) -> 40378734 | D11: #N/A | E11: #N/A | G11: =+C10-D10 -> #N/A | H11: =+C11-E11 -> #N/A | I11: =IFERROR(+G11/D11,0) -> 0 | J11: =IFERROR(+H11/E11,0) -> 0
A13: Total Cost of Goods Sold | B13: Cost of Goods Sold | C13: =INDEX(IS!$BN$11:$BN$77,MATCH('YTD Summary'!A13,IS!$A$11:$A$77,0)*MATCH('YTD Summary'!$C$5,IS!$BN$8:$BN$8,0),MATCH('YTD Summary'!$B$1,IS!$BN$9:$BN$9)) -> #N/A | D13: #N/A | E13: #N/A | G13: =+D13-C13 -> #N/A | H13: =+E13-C13 -> #N/A | I13: =IFERROR(+G13/D13,0) -> 0 | J13: =IFERROR(+H13/E13,0) -> 0
A15: Gross Margin | B15: Gross Margin | C15: =INDEX(IS!$BN$11:$BN$77,MATCH('YTD Summary'!A15,IS!$A$11:$A$77,0)*MATCH('YTD Summary'!$C$5,IS!$BN$8:$BN$8,0),MATCH('YTD Summary'!$B$1,IS!$BN$9:$BN$9)) -> #N/A | D15: #N/A | E15: #N/A | G15: =IF(AND(D15<0,$C15<0),$C15-D15,IF(D15<0,-D15+$C15,$C15-D15)) -> #N/A | H15: =+C15-E15 -> #N/A | I15: =IFERROR(+G15/D15,0) -> 0 | J15: =IFERROR(+H15/E15,0) -> 0
A17: Salary | B17: Salary | C17: =INDEX(IS!$BN$11:$BN$77,MATCH('YTD Summary'!A17,IS!$A$11:$A$77,0)*MATCH('YTD Summary'!$C$5,IS!$BN$8:$BN$8,0),MATCH('YTD Summary'!$B$1,IS!$BN$9:$BN$9)) -> #N/A | D17: #N/A | E17: #N/A | G17: =+D17-C17 -> #N/A | H17: =+E17-C17 -> #N/A | I17: =IFERROR(+G17/D17,0) -> 0 | J17: =IFERROR(+H17/E17,0) -> 0
A18: Bonus | B18: Bonus | C18: =INDEX(IS!$BN$11:$BN$77,MATCH('YTD Summary'!A18,IS!$A$11:$A$77,0)*MATCH('YTD Summary'!$C$5,IS!$BN$8:$BN$8,0),MATCH('YTD Summary'!$B$1,IS!$BN$9:$BN$9)) -> #N/A | D18: #N/A | E18: #N/A | G18: =+D18-C18 -> #N/A | H18: =+E18-C18 -> #N/A | I18: =IFERROR(+G18/D18,0) -> 0 | J18: =IFERROR(+H18/E18,0) -> 0
A19: Subtotal - EE Benefits | B19: EE Total | C19: =INDEX(IS!$BN$11:$BN$77,MATCH('YTD Summary'!A19,IS!$A$11:$A$77,0)*MATCH('YTD Summary'!$C$5,IS!$BN$8:$BN$8,0),MATCH('YTD Summary'!$B$1,IS!$BN$9:$BN$9)) -> #N/A | D19: #N/A | E19: #N/A | G19: =+D19-C19 -> #N/A | H19: =+E19-C19 -> #N/A | I19: =IFERROR(+G19/D19,0) -> 0 | J19: =IFERROR(+H19/E19,0) -> 0
A20: Recruiting & Relocation | B20: Recruiting & Relocation | C20: =INDEX(IS!$BN$11:$BN$77,MATCH('YTD Summary'!A20,IS!$A$11:$A$77,0)*MATCH('YTD Summary'!$C$5,IS!$BN$8:$BN$8,0),MATCH('YTD Summary'!$B$1,IS!$BN$9:$BN$9)) -> #N/A | D20: #N/A | E20: #N/A | G20: =+D20-C20 -> #N/A | H20: =+E20-C20 -> #N/A | I20: =IFERROR(+G20/D20,0) -> 0 | J20: =IFERROR(+H20/E20,0) -> 0
A21: Consulting and Subs | B21: Consulting and Subs | C21: =INDEX(IS!$BN$11:$BN$77,MATCH('YTD Summary'!A21,IS!$A$11:$A$77,0)*MATCH('YTD Summary'!$C$5,IS!$BN$8:$BN$8,0),MATCH('YTD Summary'!$B$1,IS!$BN$9:$BN$9)) -> #N/A | D21: #N/A | E21: #N/A | G21: =+D21-C21 -> #N/A | H21: =+E21-C21 -> #N/A | I21: =IFERROR(+G21/D21,0) -> 0 | J21: =IFERROR(+H21/E21,0) -> 0
A22: Rent | B22: Rent | C22: =INDEX(IS!$BN$11:$BN$77,MATCH('YTD Summary'!A22,IS!$A$11:$A$77,0)*MATCH('YTD Summary'!$C$5,IS!$BN$8:$BN$8,0),MATCH('YTD Summary'!$B$1,IS!$BN$9:$BN$9)) -> #N/A | D22: #N/A | E22: #N/A | G22: =+D22-C22 -> #N/A | H22: =+E22-C22 -> #N/A | I22: =IFERROR(+G22/D22,0) -> 0 | J22: =IFERROR(+H22/E22,0) -> 0
A23: Office Expense | B23: Office Expense | C23: =INDEX(IS!$BN$11:$BN$77,MATCH('YTD Summary'!A23,IS!$A$11:$A$77,0)*MATCH('YTD Summary'!$C$5,IS!$BN$8:$BN$8,0),MATCH('YTD Summary'!$B$1,IS!$BN$9:$BN$9)) -> #N/A | D23: #N/A | E23: #N/A | G23: =+D23-C23 -> #N/A | H23: =+E23-C23 -> #N/A | I23: =IFERROR(+G23/D23,0) -> 0 | J23: =IFERROR(+H23/E23,0) -> 0
A24: Travel & Entertainment | B24: Travel & Entertainment | C24: =INDEX(IS!$BN$11:$BN$77,MATCH('YTD Summary'!A24,IS!$A$11:$A$77,0)*MATCH('YTD Summary'!$C$5,IS!$BN$8:$BN$8,0),MATCH('YTD Summary'!$B$1,IS!$BN$9:$BN$9)) -> #N/A | D24: #N/A | E24: #N/A | G24: =+D24-C24 -> #N/A | H24: =+E24-C24 -> #N/A | I24: =IFERROR(+G24/D24,0) -> 0 | J24: =IFERROR(+H24/E24,0) -> 0
A25: Marketing | B25: Marketing | C25: =INDEX(IS!$BN$11:$BN$77,MATCH('YTD Summary'!A25,IS!$A$11:$A$77,0)*MATCH('YTD Summary'!$C$5,IS!$BN$8:$BN$8,0),MATCH('YTD Summary'!$B$1,IS!$BN$9:$BN$9)) -> #N/A | D25: #N/A | E25: #N/A | G25: =+D25-C25 -> #N/A | H25: =+E25-C25 -> #N/A | I25: =IFERROR(+G25/D25,0) -> 0 | J25: =IFERROR(+H25/E25,0) -> 0
A26: G&A | B26: G&A | C26: =INDEX(IS!$BN$11:$BN$77,MATCH('YTD Summary'!A26,IS!$A$11:$A$77,0)*MATCH('YTD Summary'!$C$5,IS!$BN$8:$BN$8,0),MATCH('YTD Summary'!$B$1,IS!$BN$9:$BN$9)) -> #N/A | D26: #N/A | E26: #N/A | G26: =+D26-C26 -> #N/A | H26: =+E26-C26 -> #N/A | I26: =IFERROR(+G26/D26,0) -> 0 | J26: =IFERROR(+H26/E26,0) -> 0
A27: Total Operating Expenses | B27: Total Operating Expenses | C27: =INDEX(IS!$BN$11:$BN$77,MATCH('YTD Summary'!A27,IS!$A$11:$A$77,0)*MATCH('YTD Summary'!$C$5,IS!$BN$8:$BN$8,0),MATCH('YTD Summary'!$B$1,IS!$BN$9:$BN$9)) -> #N/A | D27: #N/A | E27: #N/A | G27: =+D27-C27 -> #N/A | H27: =+E27-C27 -> #N/A | I27: =IFERROR(+G27/D27,0) -> 0 | J27: =IFERROR(+H27/E27,0) -> 0
A29: Net Operating Income | B29: Net Operating Income | C29: =INDEX(IS!$BN$11:$BN$77,MATCH('YTD Summary'!A29,IS!$A$11:$A$77,0)*MATCH('YTD Summary'!$C$5,IS!$BN$8:$BN$8,0),MATCH('YTD Summary'!$B$1,IS!$BN$9:$BN$9)) -> #N/A | D29: #N/A | E29: #N/A | G29: =+C29-D29 -> #N/A | H29: =+C29-E29 -> #N/A | I29: =IFERROR(+G29/D29,0) -> 0 | J29: =IFERROR(+H29/E29,0) -> 0
A31: Net Non-Operating Income | B31: Net Non-Operating Income | C31: =INDEX(IS!$BN$11:$BN$77,MATCH('YTD Summary'!A31,IS!$A$11:$A$77,0)*MATCH('YTD Summary'!$C$5,IS!$BN$8:$BN$8,0),MATCH('YTD Summary'!$B$1,IS!$BN$9:$BN$9)) -> #N/A | D31: #N/A | E31: #N/A | G31: =+C31-D31 -> #N/A | H31: =+C31-E31 -> #N/A | I31: =IFERROR(+G31/D31,0) -> 0 | J31: =IFERROR(+H31/E31,0) -> 0
A33: Pre-Tax Income | B33: Pre-Tax Income | C33: =INDEX(IS!$BN$11:$BN$77,MATCH('YTD Summary'!A33,IS!$A$11:$A$77,0)*MATCH('YTD Summary'!$C$5,IS!$BN$8:$BN$8,0),MATCH('YTD Summary'!$B$1,IS!$BN$9:$BN$9)) -> #N/A | D33: #N/A | E33: #N/A | G33: =+C33-D33 -> #N/A | H33: =+C33-E33 -> #N/A | I33: =IFERROR(+G33/D33,0) -> 0 | J33: =IFERROR(+H33/E33,0) -> 0
A35: Income Tax | B35: Income Tax | C35: =INDEX(IS!$BN$11:$BN$77,MATCH('YTD Summary'!A35,IS!$A$11:$A$77,0)*MATCH('YTD Summary'!$C$5,IS!$BN$8:$BN$8,0),MATCH('YTD Summary'!$B$1,IS!$BN$9:$BN$9)) -> #N/A | D35: #N/A | E35: #N/A | G35: =+C35-D35 -> #N/A | H35: =+C35-E35 -> #N/A | I35: =IFERROR(+G35/D35,0) -> 0 | J35: =IFERROR(+H35/E35,0) -> 0
A37: Net Income | B37: Net Income | C37: =INDEX(IS!$BN$11:$BN$77,MATCH('YTD Summary'!A37,IS!$A$11:$A$77,0)*MATCH('YTD Summary'!$C$5,IS!$BN$8:$BN$8,0),MATCH('YTD Summary'!$B$1,IS!$BN$9:$BN$9)) -> #N/A | D37: #N/A | E37: #N/A | G37: =+C37-D37 -> #N/A | H37: =+C37-E37 -> #N/A | I37: =IFERROR(+G37/D37,0) -> 0 | J37: =IFERROR(+H37/E37,0) -> 0

Sheet Balance Sheet
C1: 44196
B3: Balance Sheet Month to Date
B4: Month To Date
A5: Cash | B5: Cash | C5: =INDEX(BS!$A$8:$AX$70,MATCH('Balance Sheet'!A5,BS!$A$8:$A$70),MATCH('Balance Sheet'!$C$1,BS!$A$7:$AX$7)) -> 1064005
A6: Unbilled Accounts Receivable | B6: Unbilled Accounts Receivable | C6: =INDEX(BS!$A$8:$AX$70,MATCH('Balance Sheet'!A6,BS!$A$8:$A$70),MATCH('Balance Sheet'!$C$1,BS!$A$7:$AX$7)) -> 27087589
A7: Accounts Receivable | B7: Accounts Receivable | C7: =INDEX(BS!$A$8:$AX$70,MATCH('Balance Sheet'!A7,BS!$A$8:$A$70),MATCH('Balance Sheet'!$C$1,BS!$A$7:$AX$7)) -> 1065749.1
A8: Reserve on Accounts Receivable | B8: Reserve on Accounts Receivable | C8: =INDEX(BS!$A$8:$AX$70,MATCH('Balance Sheet'!A8,BS!$A$8:$A$70),MATCH('Balance Sheet'!$C$1,BS!$A$7:$AX$7)) -> -1253269
A9: Net Accounts Receivable | B9: Net Accounts Receivable | C9: =INDEX(BS!$A$8:$AX$70,MATCH('Balance Sheet'!A9,BS!$A$8:$A$70),MATCH('Balance Sheet'!$C$1,BS!$A$7:$AX$7)) -> -1253269
A10: Current Assets - Other | B10: Current Assets - Other | C10: =INDEX(BS!$A$8:$AX$70,MATCH('Balance Sheet'!A10,BS!$A$8:$A$70),MATCH('Balance Sheet'!$C$1,BS!$A$7:$AX$7)) -> 338198.58
A11: Prepaids | B11: Prepaids | C11: =INDEX(BS!$A$8:$AX$70,MATCH('Balance Sheet'!A11,BS!$A$8:$A$70),MATCH('Balance Sheet'!$C$1,BS!$A$7:$AX$7)) -> -1253269
A12: Total Current Assets | B12: Total Current Assets | C12: =INDEX(BS!$A$8:$AX$70,MATCH('Balance Sheet'!A12,BS!$A$8:$A$70),MATCH('Balance Sheet'!$C$1,BS!$A$7:$AX$7)) -> -16657882
A14: Property, Plant, Equip. | B14: Property, Plant, Equip. | C14: =INDEX(BS!$AM$9:$AX$70,MATCH('Balance Sheet'!A14,BS!$A:$A,0),MATCH('Balance Sheet'!$C$1,BS!$AM$7:$AX$7,0)) -> -576852.04
A15: Office Equipment | B15: Office Equipment | C15: =INDEX(BS!$AM$9:$AX$70,MATCH('Balance Sheet'!A15,BS!$A:$A,0),MATCH('Balance Sheet'!$C$1,BS!$AM$7:$AX$7,0)) -> 1140462.3
A16: Software Purchased | B16: Software Purchased | C16: =INDEX(BS!$AM$9:$AX$70,MATCH('Balance Sheet'!A16,BS!$A:$A,0),MATCH('Balance Sheet'!$C$1,BS!$AM$7:$AX$7,0)) -> 0
A17: Computer Hardware | B17: Computer Hardware | C17: =INDEX(BS!$AM$9:$AX$70,MATCH('Balance Sheet'!A17,BS!$A:$A,0),MATCH('Balance Sheet'!$C$1,BS!$AM$7:$AX$7,0)) -> 0
A18: Furniture and Fixtures | B18: Furniture and Fixtures | C18: =INDEX(BS!$AM$9:$AX$70,MATCH('Balance Sheet'!A18,BS!$A:$A,0),MATCH('Balance Sheet'!$C$1,BS!$AM$7:$AX$7,0)) -> 321267.5
A19: Leasehold Improvements | B19: Leasehold Improvements | C19: =INDEX(BS!$AM$9:$AX$70,MATCH('Balance Sheet'!A19,BS!$A:$A,0),MATCH('Balance Sheet'!$C$1,BS!$AM$7:$AX$7,0)) -> 668461.12
A20: Vehicles | B20: Vehicles | C20: =INDEX(BS!$AM$9:$AX$70,MATCH('Balance Sheet'!A20,BS!$A:$A,0),MATCH('Balance Sheet'!$C$1,BS!$AM$7:$AX$7,0)) -> 0
A21: Construction in Progress | B21: Construction in Progress | C21: =INDEX(BS!$AM$9:$AX$70,MATCH('Balance Sheet'!A21,BS!$A:$A,0),MATCH('Balance Sheet'!$C$1,BS!$AM$7:$AX$7,0)) -> 0
A22: Less Accumulated Depreciation | B22: Less Accumulated Depreciation | C22: =INDEX(BS!$AM$9:$AX$70,MATCH('Balance Sheet'!A22,BS!$A:$A,0),MATCH('Balance Sheet'!$C$1,BS!$AM$7:$AX$7,0)) -> #N/A
A23: Total Plant, Property, & Equipment - Net | B23: Total Plant, Property, & Equipment - Net | C23: =INDEX(BS!$AM$9:$AX$70,MATCH('Balance Sheet'!A23,BS!$A:$A,0),MATCH('Balance Sheet'!$C$1,BS!$AM$7:$AX$7,0)) -> 1253269
A25: Long Term Assets | B25: Long Term Assets | C25: =INDEX(BS!$AM$9:$AX$70,MATCH('Balance Sheet'!A25,BS!$A:$A,0),MATCH('Balance Sheet'!$C$1,BS!$AM$7:$AX$7,0)) -> 546678.58
A26: Security Deposits | B26: Security Deposits | C26: =INDEX(BS!$AM$9:$AX$70,MATCH('Balance Sheet'!A26,BS!$A:$A,0),MATCH('Balance Sheet'!$C$1,BS!$AM$7:$AX$7,0)) -> 0
... A65: Total Liabilities & Shareholder's Equity | B65: Total Liabilities & Shareholder's Equity | C65: =INDEX(BS!$AM$9:$AX$70,MATCH('Balance Sheet'!A65,BS!$A:$A,0),MATCH('Balance Sheet'!$C$1,BS!$AM$7:$AX$7,0)) -> #REF!

Sheet IS
P7: YTD | Q7: YTD | R7: YTD | S7: YTD | T7: YTD | U7: YTD | V7: YTD | W7: YTD | X7: YTD | Y7: YTD | Z7: YTD | AA7: YTD
P8: Actual | Q8: Actual | R8: Actual | S8: Actual | T8: Actual | U8: Actual | V8: Actual | W8: Actual | X8: Actual | Y8: Actual | Z8: Actual | AA8: Actual | BM8: Actual | BN8: Actual | BO8: Actual | BP8: Actual | BQ8: Actual | BS8: Fiscal 2019 | BW8: Fiscal 2020 | CA8: Fiscal 2021 | CE8: Fiscal 2022 | CI8: Fiscal 2023
D9: 43496 | E9: 43524 | F9: 43555 | G9: 43585 | H9: 43616 | I9: 43646 | J9: 43677 | K9: 43708 | L9: 43738 | M9: 43769 | N9: 43799 | O9: 43830 | P9: 43861 | Q9: 43890 | R9: 43921 | S9: 43951 | T9: 43982 | U9: 44012 | V9: 44043 | W9: 44074 | X9: 44104 | Y9: 44135 | Z9: 44165 | AA9: 44196 | AB9: 44227 | AC9: 44255 | AD9: 44286 | AE9: 44316 | AF9: 44347 | AG9: 44377 | AH9: 44408 | AI9: 44439 | AJ9: 44469 | AK9: 44500 | AL9: 44530 | AM9: 44561 | AN9: 44592 | AO9: 44620 | AP9: 44651 | AQ9: 44681 | AR9: 44712 | AS9: 44742 | AT9: 44773 | AU9: 44804 | AV9: 44834 | AW9: 44865 | AX9: 44895 | AY9: 44926 | AZ9: 44957 | BA9: 44985 | BB9: 45016 | BC9: 45046 | BD9: 45077 | BE9: 45107 | BF9: 45138 | BG9: 45169 | BH9: 45199 | BI9: 45230 | BJ9: 45260 | BK9: 45291 | BM9: Fiscal 2019 | BN9: Fiscal 2020 | BO9: Fiscal 2021 | BP9: Fiscal 2022 | BQ9: Fiscal 2023 | BS9: Quarter 1 | BT9: Quarter 2 | BU9: Quarter 3 | BV9: Quarter 4 | BW9: Quarter 1 | BX9: Quarter 2 | BY9: Quarter 3 | BZ9: Quarter 4 | CA9: Quarter 1 | CB9: Quarter 2 | CC9: Quarter 3 | CD9: Quarter 4 | CE9: Quarter 1 | CF9: Quarter 2 | CG9: Quarter 3 | CH9: Quarter 4 | CI9: Quarter 1 | CJ9: Quarter 2 | CK9: Quarter 3 | CL9: Quarter 4
A11: Revenue:
A12: Exchange Revenue
A13: Exchange Revenue | D13: 340000 | E13: 340000 | F13: 340000 | G13: 340000 | H13: 340000 | I13: 340000 | J13: 340000 | K13: 340000 | L13: 340000 | M13: 340000 | N13: 340000 | O13: 400782 | P13: 396060 | Q13: 396060 | R13: 396060 | S13: 396060 | T13: 396060 | U13: 396060 | V13: 396060 | W13: 396060 | X13: 396060 | Y13: 396060 | Z13: 396060 | AA13: 396060 | AB13: 555660 | AC13: 555660 | AD13: 555660 | AE13: 555660 | AF13: 555660 | AG13: 555660 | AH13: 555660 | AI13: 555660 | AJ13: 555660 | AK13: 555660 | AL13: 555660 | AM13: 555660 | AN13: 750122.1 | AO13: 750122.1 | AP13: 750122.1 | AQ13: 750122.1 | AR13: 750122.1 | AS13: 750122.1 | AT13: 750122.1 | AU13: 750122.1 | AV13: 750122.1 | AW13: 750122.1 | AX13: 750122.1 | AY13: 750122.1 | AZ13: 895134.24 | BA13: 895134.24 | BB13: 895134.24 | BC13: 895134.24 | BD13: 895134.24 | BE13: 895134.24 | BF13: 895134.24 | BG13: 895134.24 | BH13: 895134.24 | BI13: 895134.24 | BJ13: 895134.24 | BK13: 895134.24 | BM13: =SUM(D13:O13) -> 4140782 | BN13: =SUM(P13:AA13) -> 4752720 | BO13: =SUM(AB13:AM13) -> 6667920 | BP13: =SUM(AN13:AY13) -> 9001465.2 | BQ13: =SUM(AZ13:BK13) -> 10741611 | BS13: =SUM(D13:F13) -> 1020000 | BT13: =SUM(G13:I13) -> 1020000 | BU13: =SUM(J13:L13) -> 1020000 | BV13: =SUM(M13:O13) -> 1080782 | BW13: =SUM(P13:R13) -> 1188180 | BX13: =SUM(S13:U13) -> 1188180 | BY13: =SUM(V13:X13) -> 1188180 | BZ13: =SUM(Y13:AA13) -> 1188180 | CA13: =SUM(AB13:AD13) -> 1666980 | CB13: =SUM(AE13:AG13) -> 1666980 | CC13: =SUM(AH13:AJ13) -> 1666980 | CD13: =SUM(AK13:AM13) -> 1666980 | CE13: =SUM(AN13:AP13) -> 2250366.3 | CF13: =SUM(AQ13:AS13) -> 2250366.3 | CG13: =SUM(AT13:AV13) -> 2250366.3 | CH13: =SUM(AW13:AY13) -> 2250366.3 | CI13: =SUM(AZ13:BB13) -> 2685402.7 | CJ13: =SUM(BC13:BE13) -> 2685402.7 | CK13: =SUM(BF13:BH13) -> 2685402.7 | CL13: =SUM(BI13:BK13) -> 2685402.7
A14: Refunds / Allowances | D14: -2380 | E14: -2380 | F14: -2380 | G14: -2380 | H14: -2380 | I14: -2380 | J14: -2380 | K14: -2380 | L14: -2380 | M14: -2380 | N14: -2380 | O14: -2794.5276 | P14: -2772.42 | Q14: -2772.42 | R14: -2772.42 | S14: -2772.42 | T14: -2772.42 | U14: -2772.42 | V14: -2772.42 | W14: -2772.42 | X14: -2772.42 | Y14: -2772.42 | Z14: -2772.42 | AA14: -2772.42 | AB14: -3889.62 | AC14: -3889.62 | AD14: -3889.62 | AE14: -3889.62 | AF14: -3889.62 | AG14: -3889.62 | AH14: -3889.62 | AI14: -3889.62 | AJ14: -3889.62 | AK14: -3889.62 | AL14: -3889.62 | AM14: -3889.62 | AN14: -5250.8547 | AO14: -5250.8547 | AP14: -5250.8547 | AQ14: -5250.8547 | AR14: -5250.8547 | AS14: -5250.8547 | AT14: -5250.8547 | AU14: -5250.8547 | AV14: -5250.8547 | AW14: -5250.8547 | AX14: -5250.8547 | AY14: -5250.8547 | AZ14: -6265.9397 | BA14: -6265.9397 | BB14: -6265.9397 | BC14: -6265.9397 | BD14: -6265.9397 | BE14: -6265.9397 | BF14: -6265.9397 | BG14: -6265.9397 | BH14: -6265.9397 | BI14: -6265.9397 | BJ14: -6265.9397 | BK14: -6265.9397 | BM14: =SUM(D14:O14) -> -28974.528 | BN14: =SUM(P14:AA14) -> -33269.04 | BO14: =SUM(AB14:AM14) -> -46675.44 | BP14: =SUM(AN14:AY14) -> -63010.256 | BQ14: =SUM(AZ14:BK14) -> -75191.276 | BS14: =SUM(D14:F14) -> -7140 | BT14: =SUM(G14:I14) -> -7140 | BU14: =SUM(J14:L14) -> -7140 | BV14: =SUM(M14:O14) -> -7554.5276 | BW14: =SUM(P14:R14) -> -8317.26 | BX14: =SUM(S14:U14) -> -8317.26 | BY14: =SUM(V14:X14) -> -8317.26 | BZ14: =SUM(Y14:AA14) -> -8317.26 | CA14: =SUM(AB14:AD14) -> -11668.86 | CB14: =SUM(AE14:AG14) -> -11668.86 | CC14: =SUM(AH14:AJ14) -> -11668.86 | CD14: =SUM(AK14:AM14) -> -11668.86 | CE14: =SUM(AN14:AP14) -> -15752.564 | CF14: =SUM(AQ14:AS14) -> -15752.564 | CG14: =SUM(AT14:AV14) -> -15752.564 | CH14: =SUM(AW14:AY14) -> -15752.564 | CI14: =SUM(AZ14:BB14) -> -18797.819 | CJ14: =SUM(BC14:BE14) -> -18797.819 | CK14: =SUM(BF14:BH14) -> -18797.819 | CL14: =SUM(BI14:BK14) -> -18797.819
A15: Total Exchange Revenue | D15: =SUM(D13:D14) -> 337620 | E15: =SUM(E13:E14) -> 337620 | F15: =SUM(F13:F14) -> 337620 | G15: =SUM(G13:G14) -> 337620 | H15: =SUM(H13:H14) -> 337620 | I15: =SUM(I13:I14) -> 337620 | J15: =SUM(J13:J14) -> 337620 | K15: =SUM(K13:K14) -> 337620 | ... BK15: =SUM(BK13:BK14) -> 888868.3 | BM15: =SUM(BM13:BM14) -> 4111807.5 | BN15: =SUM(BN13:BN14) -> 4719451 | BO15: =SUM(BO13:BO14) -> 6621244.6 | BP15: =SUM(BP13:BP14) -> 8938454.9 | BQ15: =SUM(BQ13:BQ14) -> 10666420 | BS15: =SUM(BS13:BS14) -> 1012860 | BT15: =SUM(BT13:BT14) -> 1012860 | BU15: =SUM(BU13:BU14) -> 1012860 | BV15: =SUM(BV13:BV14) -> 1073227.5 | BW15: =SUM(BW13:BW14) -> 1179862.7 | BX15: =SUM(BX13:BX14) -> 1179862.7 | BY15: =SUM(BY13:BY14) -> 1179862.7 | BZ15: =SUM(BZ13:BZ14) -> 1179862.7 | ... CL15: =SUM(CL13:CL14) -> 2666604.9
A16: Licensing & Maintenance
A17: New | D17: 0 | E17: 0 | F17: 0 | G17: 0 | H17: 0 | I17: 0 | J17: 0 | K17: 0 | L17: 0 | M17: 0 | N17: 0 | O17: 0 | P17: 393750 | Q17: 393750 | R17: 393750 | S17: 393750 | T17: 393750 | U17: 393750 | V17: 425000 | W17: 425000 | X17: 425000 | Y17: 425000 | Z17: 425000 | AA17: 425000 | AB17: 1000000 | AC17: 1000000 | AD17: 1000000 | AE17: 1000000 | AF17: 1000000 | AG17: 1000000 | AH17: 1000000 | AI17: 1000000 | AJ17: 1000000 | AK17: 1000000 | AL17: 1000000 | AM17: 1000000 | AN17: 1312500 | AO17: 1312500 | AP17: 1312500 | AQ17: 1312500 | AR17: 1312500 | AS17: 1312500 | AT17: 1312500 | AU17: 1312500 | AV17: 1312500 | AW17: 1312500 | AX17: 1312500 | AY17: 1312500 | AZ17: 1325000 | BA17: 1325000 | BB17: 1325000 | BC17: 1325000 | BD17: 1325000 | BE17: 1325000 | BF17: 1325000 | BG17: 1325000 | BH17: 1325000 | BI17: 1325000 | BJ17: 1325000 | BK17: 1325000 | BM17: =SUM(D17:O17) -> 0 | BN17: =SUM(P17:AA17) -> 4912500 | BO17: =SUM(AB17:AM17) -> 12000000 | BP17: =SUM(AN17:AY17) -> 15750000 | BQ17: =SUM(AZ17:BK17) -> 15900000 | BS17: =SUM(D17:F17) -> 0 | BT17: =SUM(G17:I17) -> 0 | BU17: =SUM(J17:L17) -> 0 | BV17: =SUM(M17:O17) -> 0 | BW17: =SUM(P17:R17) -> 1181250 | BX17: =SUM(S17:U17) -> 1181250 | BY17: =SUM(V17:X17) -> 1275000 | BZ17: =SUM(Y17:AA17) -> 1275000 | CA17: =SUM(AB17:AD17) -> 3000000 | CB17: =SUM(AE17:AG17) -> 3000000 | CC17: =SUM(AH17:AJ17) -> 3000000 | CD17: =SUM(AK17:AM17) -> 3000000 | CE17: =SUM(AN17:AP17) -> 3937500 | CF17: =SUM(AQ17:AS17) -> 3937500 | CG17: =SUM(AT17:AV17) -> 3937500 | CH17: =SUM(AW17:AY17) -> 3937500 | CI17: =SUM(AZ17:BB17) -> 3975000 | CJ17: =SUM(BC17:BE17) -> 3975000 | CK17: =SUM(BF17:BH17) -> 3975000 | CL17: =SUM(BI17:BK17) -> 3975000
A18: Renewal | D18: 0 | E18: 0 | F18: 0 | G18: 0 | H18: 0 | I18: 0 | J18: 0 | K18: 0 | L18: 0 | M18: 0 | N18: 0 | O18: 186046 | P18: 0 | Q18: 0 | R18: 0 | S18: 0 | T18: 0 | U18: 0 | V18: 0 | W18: 0 | X18: 0 | Y18: 0 | Z18: 0 | AA18: 0 | AB18: 390625 | AC18: 390625 | AD18: 390625 | AE18: 390625 | AF18: 390625 | AG18: 390625 | AH18: 418750 | AI18: 418750 | AJ18: 418750 | AK18: 418750 | AL18: 418750 | AM18: 418750 | AN18: 1384375 | AO18: 1384375 | AP18: 1384375 | AQ18: 1384375 | AR18: 1384375 | AS18: 1384375 | AT18: 1412500 | AU18: 1412500 | AV18: 1412500 | AW18: 1412500 | AX18: 1412500 | AY18: 1412500 | AZ18: 2690625 | BA18: 2690625 | BB18: 2690625 | BC18: 2690625 | BD18: 2690625 | BE18: 2690625 | BF18: 2718750 | BG18: 2718750 | BH18: 2718750 | BI18: 2718750 | BJ18: 2718750 | BK18: 2718750 | BM18: =SUM(D18:O18) -> 186046 | BN18: =SUM(P18:AA18) -> 0 | BO18: =SUM(AB18:AM18) -> 4856250 | BP18: =SUM(AN18:AY18) -> 16781250 | BQ18: =SUM(AZ18:BK18) -> 32456250 | BS18: =SUM(D18:F18) -> 0 | BT18: =SUM(G18:I18) -> 0 | BU18: =SUM(J18:L18) -> 0 | BV18: =SUM(M18:O18) -> 186046 | BW18: =SUM(P18:R18) -> 0 | BX18: =SUM(S18:U18) -> 0 | BY18: =SUM(V18:X18) -> 0 | BZ18: =SUM(Y18:AA18) -> 0 | CA18: =SUM(AB18:AD18) -> 1171875 | CB18: =SUM(AE18:AG18) -> 1171875 | CC18: =SUM(AH18:AJ18) -> 1256250 | CD18: =SUM(AK18:AM18) -> 1256250 | CE18: =SUM(AN18:AP18) -> 4153125 | CF18: =SUM(AQ18:AS18) -> 4153125 | CG18: =SUM(AT18:AV18) -> 4237500 | CH18: =SUM(AW18:AY18) -> 4237500 | CI18: =SUM(AZ18:BB18) -> 8071875 | CJ18: =SUM(BC18:BE18) -> 8071875 | CK18: =SUM(BF18:BH18) -> 8156250 | CL18: =SUM(BI18:BK18) -> 8156250
A19: Total Licensing | D19: =SUM(D17:D18) -> 0 | E19: =SUM(E17:E18) -> 0 | F19: =SUM(F17:F18) -> 0 | G19: =SUM(G17:G18) -> 0 | H19: =SUM(H17:H18) -> 0 | I19: =SUM(I17:I18) -> 0 | J19: =SUM(J17:J18) -> 0 | K19: =SUM(K17:K18) -> 0 | ... BK19: =SUM(BK17:BK18) -> 4043750 | BM19: =SUM(BM17:BM18) -> 186046 | BN19: =SUM(BN17:BN18) -> 4912500 | BO19: =SUM(BO17:BO18) -> 16856250 | BP19: =SUM(BP17:BP18) -> 32531250 | BQ19: =SUM(BQ17:BQ18) -> 48356250 | BS19: =SUM(BS17:BS18) -> 0 | BT19: =SUM(BT17:BT18) -> 0 | BU19: =SUM(BU17:BU18) -> 0 | BV19: =SUM(BV17:BV18) -> 186046 | BW19: =SUM(BW17:BW18) -> 1181250 | BX19: =SUM(BX17:BX18) -> 1181250 | BY19: =SUM(BY17:BY18) -> 1275000 | BZ19: =SUM(BZ17:BZ18) -> 1275000 | ... CL19: =SUM(CL17:CL18) -> 12131250
A20: Wholesale Commissions:
A21: New | D21: 0 | E21: 0 | F21: 0 | G21: 0 | H21: 0 | I21: 0 | J21: 0 | K21: 0 | L21: 0 | M21: 0 | N21: 0 | O21: 3000 | P21: 1875 | Q21: 3750 | R21: 5625 | S21: 7500 | T21: 9375 | U21: 11250 | V21: 15000 | W21: 18750 | X21: 22500 | Y21: 26250 | Z21: 30000 | AA21: 33750 | AB21: 50047.5 | AC21: 66345 | AD21: 75780 | AE21: 92077.5 | AF21: 108375 | AG21: 124672.5 | AH21: 142605 | AI21: 160537.5 | AJ21: 178470 | AK21: 196402.5 | AL21: 207472.5 | AM21: 225405 | AN21: 268292 | AO21: 318041.5 | AP21: 360928.5 | AQ21: 403815.5 | AR21: 446702.5 | AS21: 489589.5 | AT21: 535050.5 | AU21: 580511.5 | AV21: 625972.5 | AW21: 678296 | AX21: 723757 | AY21: 769218 | AZ21: 821918 | BA21: 874618 | BB21: 927318 | BC21: 980018 | BD21: 1032718 | BE21: 1085418 | BF21: 1139943.2 | BG21: 1194468.4 | BH21: 1248993.6 | BI21: 1303518.8 | BJ21: 1358044 | BK21: 1412569.2 | BM21: =SUM(D21:O21) -> 3000 | BN21: =SUM(P21:AA21) -> 185625 | BO21: =SUM(AB21:AM21) -> 1628190 | BP21: =SUM(AN21:AY21) -> 6200175 | BQ21: =SUM(AZ21:BK21) -> 13379545 | BS21: =SUM(D21:F21) -> 0 | BT21: =SUM(G21:I21) -> 0 | BU21: =SUM(J21:L21) -> 0 | BV21: =SUM(M21:O21) -> 3000 | BW21: =SUM(P21:R21) -> 11250 | BX21: =SUM(S21:U21) -> 28125 | BY21: =SUM(V21:X21) -> 56250 | BZ21: =SUM(Y21:AA21) -> 90000 | CA21: =SUM(AB21:AD21) -> 192172.5 | CB21: =SUM(AE21:AG21) -> 325125 | CC21: =SUM(AH21:AJ21) -> 481612.5 | CD21: =SUM(AK21:AM21) -> 629280 | CE21: =SUM(AN21:AP21) -> 947262 | CF21: =SUM(AQ21:AS21) -> 1340107.5 | CG21: =SUM(AT21:AV21) -> 1741534.5 | CH21: =SUM(AW21:AY21) -> 2171271 | CI21: =SUM(AZ21:BB21) -> 2623854 | CJ21: =SUM(BC21:BE21) -> 3098154 | CK21: =SUM(BF21:BH21) -> 3583405.2 | CL21: =SUM(BI21:BK21) -> 4074132
A22: Renewal | D22: 0 | E22: 0 | F22: 0 | G22: 0 | H22: 0 | I22: 0 | J22: 0 | K22: 0 | L22: 0 | M22: 0 | N22: 0 | O22: 0 | P22: 0 | Q22: 0 | R22: 0 | S22: 0 | T22: 0 | U22: 0 | V22: 0 | W22: 0 | X22: 0 | Y22: 0 | Z22: 0 | AA22: 0 | AB22: 1406.25 | AC22: 2812.5 | AD22: 2812.5 | AE22: 4218.75 | AF22: 5625 | AG22: 7031.25 | AH22: 9843.75 | AI22: 12656.25 | AJ22: 15468.75 | AK22: 18281.25 | AL22: 23906.25 | AM22: 26718.75 | AN22: 39653.438 | AO22: 51181.875 | AP22: 64116.562 | AQ22: 77051.25 | AR22: 89985.938 | AS22: 102920.62 | AT22: 118136.25 | AU22: 128548.12 | AV22: 143763.75 | AW22: 163783.12 | AX22: 178998.75 | AY22: 194214.38 | AZ22: 234719.2 | BA22: 275224.03 | BB22: 315728.86 | BC22: 356233.69 | BD22: 396738.52 | BE22: 437243.34 | BF22: 481389.38 | BG22: 525535.41 | BH22: 569681.44 | BI22: 613827.47 | BJ22: 657973.5 | BK22: 702119.53 | BM22: =SUM(D22:O22) -> 0 | BN22: =SUM(P22:AA22) -> 0 | BO22: =SUM(AB22:AM22) -> 130781.25 | BP22: =SUM(AN22:AY22) -> 1352354.1 | BQ22: =SUM(AZ22:BK22) -> 5566414.4 | BS22: =SUM(D22:F22) -> 0 | BT22: =SUM(G22:I22) -> 0 | BU22: =SUM(J22:L22) -> 0 | BV22: =SUM(M22:O22) -> 0 | BW22: =SUM(P22:R22) -> 0 | BX22: =SUM(S22:U22) -> 0 | BY22: =SUM(V22:X22) -> 0 | BZ22: =SUM(Y22:AA22) -> 0 | CA22: =SUM(AB22:AD22) -> 7031.25 | CB22: =SUM(AE22:AG22) -> 16875 | CC22: =SUM(AH22:AJ22) -> 37968.75 | CD22: =SUM(AK22:AM22) -> 68906.25 | CE22: =SUM(AN22:AP22) -> 154951.88 | CF22: =SUM(AQ22:AS22) -> 269957.81 | CG22: =SUM(AT22:AV22) -> 390448.12 | CH22: =SUM(AW22:AY22) -> 536996.25 | CI22: =SUM(AZ22:BB22) -> 825672.09 | CJ22: =SUM(BC22:BE22) -> 1190215.5 | CK22: =SUM(BF22:BH22) -> 1576606.2 | CL22: =SUM(BI22:BK22) -> 1973920.5
A23: Total Commissions | D23: =SUM(D21:D22) -> 0 | E23: =SUM(E21:E22) -> 0 | F23: =SUM(F21:F22) -> 0 | G23: =SUM(G21:G22) -> 0 | H23: =SUM(H21:H22) -> 0 | I23: =SUM(I21:I22) -> 0 | J23: =SUM(J21:J22) -> 0 | K23: =SUM(K21:K22) -> 0 | ... BK23: =SUM(BK21:BK22) -> 2114688.7 | BM23: =SUM(BM21:BM22) -> 3000 | BN23: =SUM(BN21:BN22) -> 185625 | BO23: =SUM(BO21:BO22) -> 1758971.2 | BP23: =SUM(BP21:BP22) -> 7552529.1 | BQ23: =SUM(BQ21:BQ22) -> 18945960 | BS23: =SUM(BS21:BS22) -> 0 | BT23: =SUM(BT21:BT22) -> 0 | BU23: =SUM(BU21:BU22) -> 0 | BV23: =SUM(BV21:BV22) -> 3000 | BW23: =SUM(BW21:BW22) -> 11250 | BX23: =SUM(BX21:BX22) -> 28125 | BY23: =SUM(BY21:BY22) -> 56250 | BZ23: =SUM(BZ21:BZ22) -> 90000 | ... CL23: =SUM(CL21:CL22) -> 6048052.5
A24: Override Commissions:
A25: New | D25: 0 | E25: 0 | F25: 0 | G25: 0 | H25: 0 | I25: 0 | J25: 0 | K25: 0 | L25: 0 | M25: 0 | N25: 0 | O25: 0 | P25: 13737.5 | Q25: 13737.5 | R25: 13737.5 | S25: 13737.5 | T25: 13737.5 | U25: 13737.5 | V25: 14487.5 | W25: 14487.5 | X25: 14487.5 | Y25: 14487.5 | Z25: 14487.5 | AA25: 14487.5 | AB25: 102264 | AC25: 102264 | AD25: 102264 | AE25: 102264 | AF25: 102264 | AG25: 102264 | AH25: 103668 | AI25: 103668 | AJ25: 103668 | AK25: 103668 | AL25: 103668 | AM25: 103668 | AN25: 368156.64 | AO25: 368156.64 | AP25: 368156.64 | AQ25: 368156.64 | AR25: 368156.64 | AS25: 368156.64 | AT25: 370590.24 | AU25: 370590.24 | AV25: 370590.24 | AW25: 370590.24 | AX25: 370590.24 | AY25: 370590.24 | AZ25: 770480.99 | BA25: 770480.99 | BB25: 770480.99 | BC25: 770480.99 | BD25: 770480.99 | BE25: 770480.99 | BF25: 773646.36 | BG25: 773646.36 | BH25: 773646.36 | BI25: 773646.36 | BJ25: 773646.36 | BK25: 773646.36 | BM25: =SUM(D25:O25) -> 0 | BN25: =SUM(P25:AA25) -> 169350 | BO25: =SUM(AB25:AM25) -> 1235592 | BP25: =SUM(AN25:AY25) -> 4432481.2 | BQ25: =SUM(AZ25:BK25) -> 9264764.1 | BS25: =SUM(D25:F25) -> 0 | BT25: =SUM(G25:I25) -> 0 | BU25: =SUM(J25:L25) -> 0 | BV25: =SUM(M25:O25) -> 0 | BW25: =SUM(P25:R25) -> 41212.5 | BX25: =SUM(S25:U25) -> 41212.5 | BY25: =SUM(V25:X25) -> 43462.5 | BZ25: =SUM(Y25:AA25) -> 43462.5 | CA25: =SUM(AB25:AD25) -> 306792 | CB25: =SUM(AE25:AG25) -> 306792 | CC25: =SUM(AH25:AJ25) -> 311004 | CD25: =SUM(AK25:AM25) -> 311004 | CE25: =SUM(AN25:AP25) -> 1104469.9 | CF25: =SUM(AQ25:AS25) -> 1104469.9 | CG25: =SUM(AT25:AV25) -> 1111770.7 | CH25: =SUM(AW25:AY25) -> 1111770.7 | CI25: =SUM(AZ25:BB25) -> 2311443 | CJ25: =SUM(BC25:BE25) -> 2311443 | CK25: =SUM(BF25:BH25) -> 2320939.1 | CL25: =SUM(BI25:BK25) -> 2320939.1
A26: Renewal | D26: 0 | E26: 0 | F26: 0 | G26: 0 | H26: 0 | I26: 0 | J26: 0 | K26: 0 | L26: 0 | M26: 0 | N26: 0 | O26: 0 | P26: 0 | Q26: 0 | R26: 0 | S26: 0 | T26: 0 | U26: 0 | V26: 0 | W26: 0 | X26: 0 | Y26: 0 | Z26: 0 | AA26: 0 | AB26: 10320.945 | AC26: 10320.945 | AD26: 10320.945 | AE26: 10320.945 | AF26: 10320.945 | AG26: 10320.945 | AH26: 10907.505 | AI26: 10907.505 | AJ26: 10907.505 | AK26: 10907.505 | AL26: 10907.505 | AM26: 10907.505 | AN26: 84451.344 | AO26: 84451.344 | AP26: 84451.344 | AQ26: 84451.344 | AR26: 84451.344 | AS26: 84451.344 | AT26: 86002.358 | AU26: 86002.358 | AV26: 86002.358 | AW26: 86002.358 | AX26: 86002.358 | AY26: 86002.358 | AZ26: 339273.02 | BA26: 339273.02 | BB26: 339273.02 | BC26: 339273.02 | BD26: 339273.02 | BE26: 339273.02 | BF26: 342377.64 | BG26: 342377.64 | BH26: 342377.64 | BI26: 342377.64 | BJ26: 342377.64 | BK26: 342377.64 | BM26: =SUM(D26:O26) -> 0 | BN26: =SUM(P26:AA26) -> 0 | BO26: =SUM(AB26:AM26) -> 127370.7 | BP26: =SUM(AN26:AY26) -> 1022722.2 | BQ26: =SUM(AZ26:BK26) -> 4089903.9 | BS26: =SUM(D26:F26) -> 0 | BT26: =SUM(G26:I26) -> 0 | BU26: =SUM(J26:L26) -> 0 | BV26: =SUM(M26:O26) -> 0 | BW26: =SUM(P26:R26) -> 0 | BX26: =SUM(S26:U26) -> 0 | BY26: =SUM(V26:X26) -> 0 | BZ26: =SUM(Y26:AA26) -> 0 | CA26: =SUM(AB26:AD26) -> 30962.835 | CB26: =SUM(AE26:AG26) -> 30962.835 | CC26: =SUM(AH26:AJ26) -> 32722.515 | CD26: =SUM(AK26:AM26) -> 32722.515 | CE26: =SUM(AN26:AP26) -> 253354.03 | CF26: =SUM(AQ26:AS26) -> 253354.03 | CG26: =SUM(AT26:AV26) -> 258007.07 | CH26: =SUM(AW26:AY26) -> 258007.07 | CI26: =SUM(AZ26:BB26) -> 1017819 | CJ26: =SUM(BC26:BE26) -> 1017819 | CK26: =SUM(BF26:BH26) -> 1027132.9 | CL26: =SUM(BI26:BK26) -> 1027132.9
A27: Total Override | D27: =SUM(D25:D26) -> 0 | E27: =SUM(E25:E26) -> 0 | F27: =SUM(F25:F26) -> 0 | G27: =SUM(G25:G26) -> 0 | H27: =SUM(H25:H26) -> 0 | I27: =SUM(I25:I26) -> 0 | J27: =SUM(J25:J26) -> 0 | K27: =SUM(K25:K26) -> 0 | ... BK27: =SUM(BK25:BK26) -> 1116024 | BM27: =SUM(BM25:BM26) -> 0 | BN27: =SUM(BN25:BN26) -> 169350 | BO27: =SUM(BO25:BO26) -> 1362962.7 | BP27: =SUM(BP25:BP26) -> 5455203.5 | BQ27: =SUM(BQ25:BQ26) -> 13354668 | BS27: =SUM(BS25:BS26) -> 0 | BT27: =SUM(BT25:BT26) -> 0 | BU27: =SUM(BU25:BU26) -> 0 | BV27: =SUM(BV25:BV26) -> 0 | BW27: =SUM(BW25:BW26) -> 41212.5 | BX27: =SUM(BX25:BX26) -> 41212.5 | BY27: =SUM(BY25:BY26) -> 43462.5 | BZ27: =SUM(BZ25:BZ26) -> 43462.5 | ... CL27: =SUM(CL25:CL26) -> 3348072
A28: Implementation & Configuration | D28: 479166.67 | E28: 479166.67 | F28: 479166.67 | G28: 479166.67 | H28: 479166.67 | I28: 479166.67 | J28: 479166.67 | K28: 479166.67 | L28: 479166.67 | M28: 479166.67 | N28: 479166.67 | O28: 415000 | P28: 1010416.7 | Q28: 979166.67 | R28: 979166.67 | S28: 979166.67 | T28: 979166.67 | U28: 979166.67 | V28: 1010416.7 | W28: 979166.67 | X28: 979166.67 | Y28: 979166.67 | Z28: 979166.67 | AA28: 979166.67 | AB28: 1322916.7 | AC28: 1291666.7 | AD28: 1291666.7 | AE28: 1291666.7 | AF28: 1291666.7 | AG28: 1291666.7 | AH28: 1322916.7 | AI28: 1291666.7 | AJ28: 1291666.7 | AK28: 1291666.7 | AL28: 1291666.7 | AM28: 1291666.7 | AN28: 1343750 | AO28: 1312500 | AP28: 1312500 | AQ28: 1312500 | AR28: 1312500 | AS28: 1312500 | AT28: 1343750 | AU28: 1312500 | AV28: 1312500 | AW28: 1312500 | AX28: 1312500 | AY28: 1312500 | AZ28: 1364583.3 | BA28: 1333333.3 | BB28: 1333333.3 | BC28: 1333333.3 | BD28: 1333333.3 | BE28: 1333333.3 | BF28: 1364583.3 | BG28: 1333333.3 | BH28: 1333333.3 | BI28: 1333333.3 | BJ28: 1333333.3 | BK28: 1333333.3 | BM28: =SUM(D28:O28) -> 5685833.3 | BN28: =SUM(P28:AA28) -> 11812500 | BO28: =SUM(AB28:AM28) -> 15562500 | BP28: =SUM(AN28:AY28) -> 15812500 | BQ28: =SUM(AZ28:BK28) -> 16062500 | BS28: =SUM(D28:F28) -> 1437500 | BT28: =SUM(G28:I28) -> 1437500 | BU28: =SUM(J28:L28) -> 1437500 | BV28: =SUM(M28:O28) -> 1373333.3 | BW28: =SUM(P28:R28) -> 2968750 | BX28: =SUM(S28:U28) -> 2937500 | BY28: =SUM(V28:X28) -> 2968750 | BZ28: =SUM(Y28:AA28) -> 2937500 | CA28: =SUM(AB28:AD28) -> 3906250 | CB28: =SUM(AE28:AG28) -> 3875000 | CC28: =SUM(AH28:AJ28) -> 3906250 | CD28: =SUM(AK28:AM28) -> 3875000 | CE28: =SUM(AN28:AP28) -> 3968750 | CF28: =SUM(AQ28:AS28) -> 3937500 | CG28: =SUM(AT28:AV28) -> 3968750 | CH28: =SUM(AW28:AY28) -> 3937500 | CI28: =SUM(AZ28:BB28) -> 4031250 | CJ28: =SUM(BC28:BE28) -> 4000000 | CK28: =SUM(BF28:BH28) -> 4031250 | CL28: =SUM(BI28:BK28) -> 4000000
A29: Total Revenue | D29: =+D19+D23+D27+D28+D15 -> 816786.67 | E29: =+E19+E23+E27+E28+E15 -> 816786.67 | F29: =+F19+F23+F27+F28+F15 -> 816786.67 | G29: =+G19+G23+G27+G28+G15 -> 816786.67 | H29: =+H19+H23+H27+H28+H15 -> 816786.67 | I29: =+I19+I23+I27+I28+I15 -> 816786.67 | J29: =+J19+J23+J27+J28+J15 -> 816786.67 | K29: =+K19+K23+K27+K28+K15 -> 816786.67 | ... BK29: =+BK19+BK23+BK27+BK28+BK15 -> 9496664.4 | BM29: =+BM19+BM23+BM27+BM28+BM15 -> 9986686.8 | BN29: =+BN19+BN23+BN27+BN28+BN15 -> 21799426 | BO29: =+BO19+BO23+BO27+BO28+BO15 -> 42161929 | BP29: =+BP19+BP23+BP27+BP28+BP15 -> 70289937 | BQ29: =+BQ19+BQ23+BQ27+BQ28+BQ15 -> 1.073858e+08 | BS29: =+BS19+BS23+BS27+BS28+BS15 -> 2450360 | BT29: =+BT19+BT23+BT27+BT28+BT15 -> 2450360 | BU29: =+BU19+BU23+BU27+BU28+BU15 -> 2450360 | BV29: =+BV19+BV23+BV27+BV28+BV15 -> 2635606.8 | BW29: =+BW19+BW23+BW27+BW28+BW15 -> 5382325.2 | BX29: =+BX19+BX23+BX27+BX28+BX15 -> 5367950.2 | BY29: =+BY19+BY23+BY27+BY28+BY15 -> 5523325.2 | BZ29: =+BZ19+BZ23+BZ27+BZ28+BZ15 -> 5525825.2 | ... CL29: =+CL19+CL23+CL27+CL28+CL15 -> 28193979
A31: Cost of Goods Sold:
A32: Fixed Fee Prospects Expense | D32: 170625 | E32: 170625 | F32: 170625 | G32: 170625 | H32: 170625 | I32: 170625 | J32: 170625 | K32: 170625 | L32: 170625 | M32: 170625 | N32: 170625 | O32: 263194.98 | P32: 193200 | Q32: 193200 | R32: 193200 | S32: 193200 | T32: 193200 | U32: 193200 | V32: 193200 | W32: 193200 | X32: 193200 | Y32: 193200 | Z32: 193200 | AA32: 193200 | AB32: 263655 | AC32: 263655 | AD32: 263655 | AE32: 263655 | AF32: 263655 | AG32: 263655 | AH32: 263655 | AI32: 263655 | AJ32: 263655 | AK32: 263655 | AL32: 263655 | AM32: 263655 | AN32: 346437 | AO32: 346437 | AP32: 346437 | AQ32: 346437 | AR32: 346437 | AS32: 346437 | AT32: 346437 | AU32: 346437 | AV32: 346437 | AW32: 346437 | AX32: 346437 | AY32: 346437 | AZ32: 402640.88 | BA32: 402640.88 | BB32: 402640.88 | BC32: 402640.88 | BD32: 402640.88 | BE32: 402640.88 | BF32: 402640.88 | BG32: 402640.88 | BH32: 402640.88 | BI32: 402640.88 | BJ32: 402640.88 | BK32: 402640.88 | BM32: =SUM(D32:O32) -> 2140070 | BN32: =SUM(P32:AA32) -> 2318400 | BO32: =SUM(AB32:AM32) -> 3163860 | BP32: =SUM(AN32:AY32) -> 4157244 | BQ32: =SUM(AZ32:BK32) -> 4831690.5 | BS32: =SUM(D32:F32) -> 511875 | BT32: =SUM(G32:I32) -> 511875 | BU32: =SUM(J32:L32) -> 511875 | BV32: =SUM(M32:O32) -> 604444.98 | BW32: =SUM(P32:R32) -> 579600 | BX32: =SUM(S32:U32) -> 579600 | BY32: =SUM(V32:X32) -> 579600 | BZ32: =SUM(Y32:AA32) -> 579600 | CA32: =SUM(AB32:AD32) -> 790965 | CB32: =SUM(AE32:AG32) -> 790965 | CC32: =SUM(AH32:AJ32) -> 790965 | CD32: =SUM(AK32:AM32) -> 790965 | CE32: =SUM(AN32:AP32) -> 1039311 | CF32: =SUM(AQ32:AS32) -> 1039311 | CG32: =SUM(AT32:AV32) -> 1039311 | CH32: =SUM(AW32:AY32) -> 1039311 | CI32: =SUM(AZ32:BB32) -> 1207922.6 | CJ32: =SUM(BC32:BE32) -> 1207922.6 | CK32: =SUM(BF32:BH32) -> 1207922.6 | CL32: =SUM(BI32:BK32) -> 1207922.6
A33: Revenue Share Cost | D33: 85000 | E33: 85000 | F33: 85000 | G33: 85000 | H33: 85000 | I33: 85000 | J33: 85000 | K33: 85000 | L33: 85000 | M33: 85000 | N33: 85000 | O33: 63874.916 | P33: 99015 | Q33: 99015 | R33: 99015 | S33: 99015 | T33: 99015 | U33: 99015 | V33: 99015 | W33: 99015 | X33: 99015 | Y33: 99015 | Z33: 99015 | AA33: 99015 | AB33: 138915 | AC33: 138915 | AD33: 138915 | AE33: 138915 | AF33: 138915 | AG33: 138915 | AH33: 138915 | AI33: 138915 | AJ33: 138915 | AK33: 138915 | AL33: 138915 | AM33: 138915 | AN33: 187530.52 | AO33: 187530.52 | AP33: 187530.52 | AQ33: 187530.52 | AR33: 187530.52 | AS33: 187530.52 | AT33: 187530.52 | AU33: 187530.52 | AV33: 187530.52 | AW33: 187530.52 | AX33: 187530.52 | AY33: 187530.52 | AZ33: 223783.56 | BA33: 223783.56 | BB33: 223783.56 | BC33: 223783.56 | BD33: 223783.56 | BE33: 223783.56 | BF33: 223783.56 | BG33: 223783.56 | BH33: 223783.56 | BI33: 223783.56 | BJ33: 223783.56 | BK33: 223783.56 | BM33: =SUM(D33:O33) -> 998874.92 | BN33: =SUM(P33:AA33) -> 1188180 | BO33: =SUM(AB33:AM33) -> 1666980 | BP33: =SUM(AN33:AY33) -> 2250366.3 | BQ33: =SUM(AZ33:BK33) -> 2685402.7 | BS33: =SUM(D33:F33) -> 255000 | BT33: =SUM(G33:I33) -> 255000 | BU33: =SUM(J33:L33) -> 255000 | BV33: =SUM(M33:O33) -> 233874.92 | BW33: =SUM(P33:R33) -> 297045 | BX33: =SUM(S33:U33) -> 297045 | BY33: =SUM(V33:X33) -> 297045 | BZ33: =SUM(Y33:AA33) -> 297045 | CA33: =SUM(AB33:AD33) -> 416745 | CB33: =SUM(AE33:AG33) -> 416745 | CC33: =SUM(AH33:AJ33) -> 416745 | CD33: =SUM(AK33:AM33) -> 416745 | CE33: =SUM(AN33:AP33) -> 562591.57 | CF33: =SUM(AQ33:AS33) -> 562591.57 | CG33: =SUM(AT33:AV33) -> 562591.57 | CH33: =SUM(AW33:AY33) -> 562591.57 | CI33: =SUM(AZ33:BB33) -> 671350.68 | CJ33: =SUM(BC33:BE33) -> 671350.68 | CK33: =SUM(BF33:BH33) -> 671350.68 | CL33: =SUM(BI33:BK33) -> 671350.68
A34: Per per click ads | D34: 0 | E34: 0 | F34: 0 | G34: 0 | H34: 0 | I34: 0 | J34: 0 | K34: 0 | L34: 0 | M34: 0 | N34: 0 | O34: 0 | P34: 0 | Q34: 0 | R34: 0 | S34: 0 | T34: 0 | U34: 0 | V34: 0 | W34: 0 | X34: 0 | Y34: 0 | Z34: 0 | AA34: 0 | AB34: 0 | AC34: 0 | AD34: 0 | AE34: 0 | AF34: 0 | AG34: 0 | AH34: 0 | AI34: 0 | AJ34: 0 | AK34: 0 | AL34: 0 | AM34: 0 | AN34: 0 | AO34: 0 | AP34: 0 | AQ34: 0 | AR34: 0 | AS34: 0 | AT34: 0 | AU34: 0 | AV34: 0 | AW34: 0 | AX34: 0 | AY34: 0 | AZ34: 0 | BA34: 0 | BB34: 0 | BC34: 0 | BD34: 0 | BE34: 0 | BF34: 0 | BG34: 0 | BH34: 0 | BI34: 0 | BJ34: 0 | BK34: 0 | BM34: =SUM(D34:O34) -> 0 | BN34: =SUM(P34:AA34) -> 0 | BO34: =SUM(AB34:AM34) -> 0 | BP34: =SUM(AN34:AY34) -> 0 | BQ34: =SUM(AZ34:BK34) -> 0 | BS34: =SUM(D34:F34) -> 0 | BT34: =SUM(G34:I34) -> 0 | BU34: =SUM(J34:L34) -> 0 | BV34: =SUM(M34:O34) -> 0 | BW34: =SUM(P34:R34) -> 0 | BX34: =SUM(S34:U34) -> 0 | BY34: =SUM(V34:X34) -> 0 | BZ34: =SUM(Y34:AA34) -> 0 | CA34: =SUM(AB34:AD34) -> 0 | CB34: =SUM(AE34:AG34) -> 0 | CC34: =SUM(AH34:AJ34) -> 0 | CD34: =SUM(AK34:AM34) -> 0 | CE34: =SUM(AN34:AP34) -> 0 | CF34: =SUM(AQ34:AS34) -> 0 | CG34: =SUM(AT34:AV34) -> 0 | CH34: =SUM(AW34:AY34) -> 0 | CI34: =SUM(AZ34:BB34) -> 0 | CJ34: =SUM(BC34:BE34) -> 0 | CK34: =SUM(BF34:BH34) -> 0 | CL34: =SUM(BI34:BK34) -> 0
A35: Wholesale Commission Expense | D35: 0 | E35: 0 | F35: 0 | G35: 0 | H35: 0 | I35: 0 | J35: 0 | K35: 0 | L35: 0 | M35: 0 | N35: 0 | O35: 40000 | P35: 1406.25 | Q35: 2812.5 | R35: 4218.75 | S35: 5625 | T35: 7031.25 | U35: 8437.5 | V35: 11250 | W35: 14062.5 | X35: 16875 | Y35: 19687.5 | Z35: 22500 | AA35: 25312.5 | AB35: 38590.312 | AC35: 51868.125 | AD35: 58944.375 | AE35: 72222.188 | AF35: 85500 | AG35: 98777.812 | AH35: 114336.56 | AI35: 129895.31 | AJ35: 145454.06 | AK35: 161012.81 | AL35: 173534.06 | AM35: 189092.81 | AN35: 230959.08 | AO35: 276917.53 | AP35: 318783.8 | AQ35: 360650.06 | AR35: 402516.33 | AS35: 444382.59 | AT35: 489890.06 | AU35: 531794.72 | AV35: 577302.19 | AW35: 631559.34 | AX35: 677066.81 | AY35: 722574.28 | AZ35: 792477.9 | BA35: 862381.52 | BB35: 932285.14 | BC35: 1002188.8 | BD35: 1072092.4 | BE35: 1141996 | BF35: 1215999.4 | BG35: 1290002.9 | BH35: 1364006.3 | BI35: 1438009.7 | BJ35: 1512013.1 | BK35: 1586016.5 | BM35: =SUM(D35:O35) -> 40000 | BN35: =SUM(P35:AA35) -> 139218.75 | BO35: =SUM(AB35:AM35) -> 1319228.4 | BP35: =SUM(AN35:AY35) -> 5664396.8 | BQ35: =SUM(AZ35:BK35) -> 14209470 | BS35: =SUM(D35:F35) -> 0 | BT35: =SUM(G35:I35) -> 0 | BU35: =SUM(J35:L35) -> 0 | BV35: =SUM(M35:O35) -> 40000 | BW35: =SUM(P35:R35) -> 8437.5 | BX35: =SUM(S35:U35) -> 21093.75 | BY35: =SUM(V35:X35) -> 42187.5 | BZ35: =SUM(Y35:AA35) -> 67500 | CA35: =SUM(AB35:AD35) -> 149402.81 | CB35: =SUM(AE35:AG35) -> 256500 | CC35: =SUM(AH35:AJ35) -> 389685.94 | CD35: =SUM(AK35:AM35) -> 523639.69 | CE35: =SUM(AN35:AP35) -> 826660.41 | CF35: =SUM(AQ35:AS35) -> 1207549 | CG35: =SUM(AT35:AV35) -> 1598987 | CH35: =SUM(AW35:AY35) -> 2031200.4 | CI35: =SUM(AZ35:BB35) -> 2587144.6 | CJ35: =SUM(BC35:BE35) -> 3216277.2 | CK35: =SUM(BF35:BH35) -> 3870008.6 | CL35: =SUM(BI35:BK35) -> 4536039.4
A36: Sales Commission | D36: 9583.3333 | E36: 9583.3333 | F36: 9583.3333 | G36: 9583.3333 | H36: 9583.3333 | I36: 9583.3333 | J36: 9583.3333 | K36: 9583.3333 | L36: 9583.3333 | M36: 9583.3333 | N36: 9583.3333 | P36: 28395.583 | Q36: 27808.083 | R36: 27845.583 | S36: 27883.083 | T36: 27920.583 | U36: 27958.083 | V36: 29298.083 | W36: 28748.083 | X36: 28823.083 | Y36: 28898.083 | Z36: 28973.083 | AA36: 29048.083 | AB36: 57551.607 | AC36: 57280.682 | AD36: 57469.382 | AE36: 57823.457 | AF36: 58177.532 | AG36: 58531.607 | AH36: 60173.818 | AI36: 59963.718 | AJ36: 60378.618 | AK36: 60793.518 | AL36: 61127.418 | AM36: 61542.318 | AN36: 96023.568 | AO36: 96624.127 | AP36: 97740.561 | AQ36: 98856.995 | AR36: 99973.428 | AS36: 101089.86 | AT36: 103570.59 | AU36: 104063.04 | AV36: 105276.58 | AW36: 106723.43 | AX36: 107936.97 | AY36: 109150.5 | AZ36: 150931.99 | BA36: 152171.09 | BB36: 154035.18 | BC36: 155899.28 | BD36: 157763.38 | BE36: 159627.47 | BF36: 162913.8 | BG36: 164262.22 | BH36: 166235.65 | BI36: 168209.07 | BJ36: 170182.5 | BK36: 172155.92 | BM36: =SUM(D36:O36) -> 105416.67 | BN36: =SUM(P36:AA36) -> 341599.5 | BO36: =SUM(AB36:AM36) -> 710813.68 | BP36: =SUM(AN36:AY36) -> 1227029.7 | BQ36: =SUM(AZ36:BK36) -> 1934387.6 | BS36: =SUM(D36:F36) -> 28750 | BT36: =SUM(G36:I36) -> 28750 | BU36: =SUM(J36:L36) -> 28750 | BV36: =SUM(M36:O36) -> 19166.667 | BW36: =SUM(P36:R36) -> 84049.25 | BX36: =SUM(S36:U36) -> 83761.75 | BY36: =SUM(V36:X36) -> 86869.25 | BZ36: =SUM(Y36:AA36) -> 86919.25 | CA36: =SUM(AB36:AD36) -> 172301.67 | CB36: =SUM(AE36:AG36) -> 174532.6 | CC36: =SUM(AH36:AJ36) -> 180516.16 | CD36: =SUM(AK36:AM36) -> 183463.26 | CE36: =SUM(AN36:AP36) -> 290388.26 | CF36: =SUM(AQ36:AS36) -> 299920.29 | CG36: =SUM(AT36:AV36) -> 312910.21 | CH36: =SUM(AW36:AY36) -> 323810.9 | CI36: =SUM(AZ36:BB36) -> 457138.26 | CJ36: =SUM(BC36:BE36) -> 473290.13 | CK36: =SUM(BF36:BH36) -> 493411.67 | CL36: =SUM(BI36:BK36) -> 510547.49
A37: Customer Support | D37: 0 | E37: 0 | F37: 0 | G37: 0 | H37: 0 | I37: 0 | J37: 0 | K37: 0 | L37: 0 | M37: 0 | N37: 0 | O37: 0 | P37: 0 | Q37: 0 | R37: 0 | S37: 0 | T37: 0 | U37: 0 | V37: 0 | W37: 0 | X37: 0 | Y37: 0 | Z37: 0 | AA37: 0 | AB37: 0 | AC37: 0 | AD37: 0 | AE37: 0 | AF37: 0 | AG37: 0 | AH37: 0 | AI37: 0 | AJ37: 0 | AK37: 0 | AL37: 0 | AM37: 0 | AN37: 0 | AO37: 0 | AP37: 0 | AQ37: 0 | AR37: 0 | AS37: 0 | AT37: 0 | AU37: 0 | AV37: 0 | AW37: 0 | AX37: 0 | AY37: 0 | AZ37: 0 | BA37: 0 | BB37: 0 | BC37: 0 | BD37: 0 | BE37: 0 | BF37: 0 | BG37: 0 | BH37: 0 | BI37: 0 | BJ37: 0 | BK37: 0 | BM37: =SUM(D37:O37) -> 0 | BN37: =SUM(P37:AA37) -> 0 | BO37: =SUM(AB37:AM37) -> 0 | BP37: =SUM(AN37:AY37) -> 0 | BQ37: =SUM(AZ37:BK37) -> 0 | BS37: =SUM(D37:F37) -> 0 | BT37: =SUM(G37:I37) -> 0 | BU37: =SUM(J37:L37) -> 0 | BV37: =SUM(M37:O37) -> 0 | BW37: =SUM(P37:R37) -> 0 | BX37: =SUM(S37:U37) -> 0 | BY37: =SUM(V37:X37) -> 0 | BZ37: =SUM(Y37:AA37) -> 0 | CA37: =SUM(AB37:AD37) -> 0 | CB37: =SUM(AE37:AG37) -> 0 | CC37: =SUM(AH37:AJ37) -> 0 | CD37: =SUM(AK37:AM37) -> 0 | CE37: =SUM(AN37:AP37) -> 0 | CF37: =SUM(AQ37:AS37) -> 0 | CG37: =SUM(AT37:AV37) -> 0 | CH37: =SUM(AW37:AY37) -> 0 | CI37: =SUM(AZ37:BB37) -> 0 | CJ37: =SUM(BC37:BE37) -> 0 | CK37: =SUM(BF37:BH37) -> 0 | CL37: =SUM(BI37:BK37) -> 0
A38: Implementations | D38: 0 | E38: 0 | F38: 0 | G38: 0 | H38: 0 | I38: 0 | J38: 0 | K38: 0 | L38: 0 | M38: 0 | N38: 0 | O38: 0 | P38: 0 | Q38: 0 | R38: 0 | S38: 0 | T38: 0 | U38: 0 | V38: 0 | W38: 0 | X38: 0 | Y38: 0 | Z38: 0 | AA38: 0 | AB38: 0 | AC38: 0 | AD38: 0 | AE38: 0 | AF38: 0 | AG38: 0 | AH38: 0 | AI38: 0 | AJ38: 0 | AK38: 0 | AL38: 0 | AM38: 0 | AN38: 0 | AO38: 0 | AP38: 0 | AQ38: 0 | AR38: 0 | AS38: 0 | AT38: 0 | AU38: 0 | AV38: 0 | AW38: 0 | AX38: 0 | AY38: 0 | AZ38: 0 | BA38: 0 | BB38: 0 | BC38: 0 | BD38: 0 | BE38: 0 | BF38: 0 | BG38: 0 | BH38: 0 | BI38: 0 | BJ38: 0 | BK38: 0 | BM38: =SUM(D38:O38) -> 0 | BN38: =SUM(P38:AA38) -> 0 | BO38: =SUM(AB38:AM38) -> 0 | BP38: =SUM(AN38:AY38) -> 0 | BQ38: =SUM(AZ38:BK38) -> 0 | BS38: =SUM(D38:F38) -> 0 | BT38: =SUM(G38:I38) -> 0 | BU38: =SUM(J38:L38) -> 0 | BV38: =SUM(M38:O38) -> 0 | BW38: =SUM(P38:R38) -> 0 | BX38: =SUM(S38:U38) -> 0 | BY38: =SUM(V38:X38) -> 0 | BZ38: =SUM(Y38:AA38) -> 0 | CA38: =SUM(AB38:AD38) -> 0 | CB38: =SUM(AE38:AG38) -> 0 | CC38: =SUM(AH38:AJ38) -> 0 | CD38: =SUM(AK38:AM38) -> 0 | CE38: =SUM(AN38:AP38) -> 0 | CF38: =SUM(AQ38:AS38) -> 0 | CG38: =SUM(AT38:AV38) -> 0 | CH38: =SUM(AW38:AY38) -> 0 | CI38: =SUM(AZ38:BB38) -> 0 | CJ38: =SUM(BC38:BE38) -> 0 | CK38: =SUM(BF38:BH38) -> 0 | CL38: =SUM(BI38:BK38) -> 0
A39: Hosting | D39: 0 | E39: 0 | F39: 0 | G39: 0 | H39: 0 | I39: 0 | J39: 0 | K39: 0 | L39: 0 | M39: 0 | N39: 0 | O39: 0 | P39: 0 | Q39: 0 | R39: 0 | S39: 0 | T39: 0 | U39: 0 | V39: 0 | W39: 0 | X39: 0 | Y39: 0 | Z39: 0 | AA39: 0 | AB39: 0 | AC39: 0 | AD39: 0 | AE39: 0 | AF39: 0 | AG39: 0 | AH39: 0 | AI39: 0 | AJ39: 0 | AK39: 0 | AL39: 0 | AM39: 0 | AN39: 0 | AO39: 0 | AP39: 0 | AQ39: 0 | AR39: 0 | AS39: 0 | AT39: 0 | AU39: 0 | AV39: 0 | AW39: 0 | AX39: 0 | AY39: 0 | AZ39: 0 | BA39: 0 | BB39: 0 | BC39: 0 | BD39: 0 | BE39: 0 | BF39: 0 | BG39: 0 | BH39: 0 | BI39: 0 | BJ39: 0 | BK39: 0 | BM39: =SUM(D39:O39) -> 0 | BN39: =SUM(P39:AA39) -> 0 | BO39: =SUM(AB39:AM39) -> 0 | BP39: =SUM(AN39:AY39) -> 0 | BQ39: =SUM(AZ39:BK39) -> 0 | BS39: =SUM(D39:F39) -> 0 | BT39: =SUM(G39:I39) -> 0 | BU39: =SUM(J39:L39) -> 0 | BV39: =SUM(M39:O39) -> 0 | BW39: =SUM(P39:R39) -> 0 | BX39: =SUM(S39:U39) -> 0 | BY39: =SUM(V39:X39) -> 0 | BZ39: =SUM(Y39:AA39) -> 0 | CA39: =SUM(AB39:AD39) -> 0 | CB39: =SUM(AE39:AG39) -> 0 | CC39: =SUM(AH39:AJ39) -> 0 | CD39: =SUM(AK39:AM39) -> 0 | CE39: =SUM(AN39:AP39) -> 0 | CF39: =SUM(AQ39:AS39) -> 0 | CG39: =SUM(AT39:AV39) -> 0 | CH39: =SUM(AW39:AY39) -> 0 | CI39: =SUM(AZ39:BB39) -> 0 | CJ39: =SUM(BC39:BE39) -> 0 | CK39: =SUM(BF39:BH39) -> 0 | CL39: =SUM(BI39:BK39) -> 0
A40: Telephany | D40: 0 | E40: 0 | F40: 0 | G40: 0 | H40: 0 | I40: 0 | J40: 0 | K40: 0 | L40: 0 | M40: 0 | N40: 0 | O40: 0 | P40: 0 | Q40: 0 | R40: 0 | S40: 0 | T40: 0 | U40: 0 | V40: 0 | W40: 0 | X40: 0 | Y40: 0 | Z40: 0 | AA40: 0 | AB40: 0 | AC40: 0 | AD40: 0 | AE40: 0 | AF40: 0 | AG40: 0 | AH40: 0 | AI40: 0 | AJ40: 0 | AK40: 0 | AL40: 0 | AM40: 0 | AN40: 0 | AO40: 0 | AP40: 0 | AQ40: 0 | AR40: 0 | AS40: 0 | AT40: 0 | AU40: 0 | AV40: 0 | AW40: 0 | AX40: 0 | AY40: 0 | AZ40: 0 | BA40: 0 | BB40: 0 | BC40: 0 | BD40: 0 | BE40: 0 | BF40: 0 | BG40: 0 | BH40: 0 | BI40: 0 | BJ40: 0 | BK40: 0 | BM40: =SUM(D40:O40) -> 0 | BN40: =SUM(P40:AA40) -> 0 | BO40: =SUM(AB40:AM40) -> 0 | BP40: =SUM(AN40:AY40) -> 0 | BQ40: =SUM(AZ40:BK40) -> 0 | BS40: =SUM(D40:F40) -> 0 | BT40: =SUM(G40:I40) -> 0 | BU40: =SUM(J40:L40) -> 0 | BV40: =SUM(M40:O40) -> 0 | BW40: =SUM(P40:R40) -> 0 | BX40: =SUM(S40:U40) -> 0 | BY40: =SUM(V40:X40) -> 0 | BZ40: =SUM(Y40:AA40) -> 0 | CA40: =SUM(AB40:AD40) -> 0 | CB40: =SUM(AE40:AG40) -> 0 | CC40: =SUM(AH40:AJ40) -> 0 | CD40: =SUM(AK40:AM40) -> 0 | CE40: =SUM(AN40:AP40) -> 0 | CF40: =SUM(AQ40:AS40) -> 0 | CG40: =SUM(AT40:AV40) -> 0 | CH40: =SUM(AW40:AY40) -> 0 | CI40: =SUM(AZ40:BB40) -> 0 | CJ40: =SUM(BC40:BE40) -> 0 | CK40: =SUM(BF40:BH40) -> 0 | CL40: =SUM(BI40:BK40) -> 0
A41: Other | D41: 0 | E41: 0 | F41: 0 | G41: 0 | H41: 0 | I41: 0 | J41: 0 | K41: 0 | L41: 0 | M41: 0 | N41: 0 | O41: 0 | P41: 0 | Q41: 0 | R41: 0 | S41: 0 | T41: 0 | U41: 0 | V41: 0 | W41: 0 | X41: 0 | Y41: 0 | Z41: 0 | AA41: 0 | AB41: 0 | AC41: 0 | AD41: 0 | AE41: 0 | AF41: 0 | AG41: 0 | AH41: 0 | AI41: 0 | AJ41: 0 | AK41: 0 | AL41: 0 | AM41: 0 | AN41: 0 | AO41: 0 | AP41: 0 | AQ41: 0 | AR41: 0 | AS41: 0 | AT41: 0 | AU41: 0 | AV41: 0 | AW41: 0 | AX41: 0 | AY41: 0 | AZ41: 0 | BA41: 0 | BB41: 0 | BC41: 0 | BD41: 0 | BE41: 0 | BF41: 0 | BG41: 0 | BH41: 0 | BI41: 0 | BJ41: 0 | BK41: 0 | BM41: =SUM(D41:O41) -> 0 | BN41: =SUM(P41:AA41) -> 0 | BO41: =SUM(AB41:AM41) -> 0 | BP41: =SUM(AN41:AY41) -> 0 | BQ41: =SUM(AZ41:BK41) -> 0 | BS41: =SUM(D41:F41) -> 0 | BT41: =SUM(G41:I41) -> 0 | BU41: =SUM(J41:L41) -> 0 | BV41: =SUM(M41:O41) -> 0 | BW41: =SUM(P41:R41) -> 0 | BX41: =SUM(S41:U41) -> 0 | BY41: =SUM(V41:X41) -> 0 | BZ41: =SUM(Y41:AA41) -> 0 | CA41: =SUM(AB41:AD41) -> 0 | CB41: =SUM(AE41:AG41) -> 0 | CC41: =SUM(AH41:AJ41) -> 0 | CD41: =SUM(AK41:AM41) -> 0 | CE41: =SUM(AN41:AP41) -> 0 | CF41: =SUM(AQ41:AS41) -> 0 | CG41: =SUM(AT41:AV41) -> 0 | CH41: =SUM(AW41:AY41) -> 0 | CI41: =SUM(AZ41:BB41) -> 0 | CJ41: =SUM(BC41:BE41) -> 0 | CK41: =SUM(BF41:BH41) -> 0 | CL41: =SUM(BI41:BK41) -> 0
A42: Total Cost of Goods Sold | D42: =SUM(D32:D41) -> 265208.33 | E42: =SUM(E32:E41) -> 265208.33 | F42: =SUM(F32:F41) -> 265208.33 | G42: =SUM(G32:G41) -> 265208.33 | H42: =SUM(H32:H41) -> 265208.33 | I42: =SUM(I32:I41) -> 265208.33 | J42: =SUM(J32:J41) -> 265208.33 | K42: =SUM(K32:K41) -> 265208.33 | ... BK42: =SUM(BK32:BK41) -> 2384596.9 | BM42: =SUM(BM32:BM41) -> 3284361.6 | BN42: =SUM(BN32:BN41) -> 3987398.2 | BO42: =SUM(BO32:BO41) -> 6860882.1 | BP42: =SUM(BP32:BP41) -> 13299037 | BQ42: =SUM(BQ32:BQ41) -> 23660950 | BS42: =SUM(BS32:BS41) -> 795625 | BT42: =SUM(BT32:BT41) -> 795625 | BU42: =SUM(BU32:BU41) -> 795625 | BV42: =SUM(BV32:BV41) -> 897486.56 | BW42: =SUM(BW32:BW41) -> 969131.75 | BX42: =SUM(BX32:BX41) -> 981500.5 | BY42: =SUM(BY32:BY41) -> 1005701.8 | BZ42: =SUM(BZ32:BZ41) -> 1031064.2 | ... CL42: =SUM(CL32:CL41) -> 6925860.2
A44: Gross Margin | D44: =+D29-D42 -> 551578.33 | E44: =+E29-E42 -> 551578.33 | F44: =+F29-F42 -> 551578.33 | G44: =+G29-G42 -> 551578.33 | H44: =+H29-H42 -> 551578.33 | I44: =+I29-I42 -> 551578.33 | J44: =+J29-J42 -> 551578.33 | K44: =+K29-K42 -> 551578.33 | ... BK44: =+BK29-BK42 -> 7112067.5 | BM44: =+BM29-BM42 -> 6702325.2 | BN44: =+BN29-BN42 -> 17812028 | BO44: =+BO29-BO42 -> 35301046 | BP44: =+BP29-BP42 -> 56990901 | BQ44: =+BQ29-BQ42 -> 83724847 | BS44: =+BS29-BS42 -> 1654735 | BT44: =+BT29-BT42 -> 1654735 | BU44: =+BU29-BU42 -> 1654735 | BV44: =+BV29-BV42 -> 1738120.2 | BW44: =+BW29-BW42 -> 4413193.5 | BX44: =+BX29-BX42 -> 4386449.7 | BY44: =+BY29-BY42 -> 4517623.5 | BZ44: =+BZ29-BZ42 -> 4494761 | ... CL44: =+CL29-CL42 -> 21268119
A46: Operating Expense:
A47: Salary | D47: 383136.81 | E47: 426962.81 | F47: 451758.42 | G47: 501944.54 | H47: 570308.19 | I47: 615074.99 | J47: 668015.84 | K47: 745491.75 | L47: 821534.3 | M47: 896353.76 | N47: 996199.77 | O47: 1123134 | P47: 1166530.4 | Q47: 1412916.6 | R47: 1621258.8 | S47: 1745054.8 | T47: 1849296.4 | U47: 1888808.5 | V47: 1892516.5 | W47: 1892516.5 | X47: 1892516.5 | Y47: 1892516.5 | Z47: 1892516.5 | AA47: 1892516.5 | AB47: 1949292 | AC47: 1949292 | AD47: 1949292 | AE47: 1949292 | AF47: 1949292 | AG47: 1949292 | AH47: 1949292 | AI47: 1949292 | AJ47: 1949292 | AK47: 1949292 | AL47: 1949292 | AM47: 1949292 | AN47: 2007770.8 | AO47: 2007770.8 | AP47: 2007770.8 | AQ47: 2007770.8 | AR47: 2007770.8 | AS47: 2007770.8 | AT47: 2007770.8 | AU47: 2007770.8 | AV47: 2007770.8 | AW47: 2007770.8 | AX47: 2007770.8 | AY47: 2007770.8 | AZ47: 2068003.9 | BA47: 2068003.9 | BB47: 2068003.9 | BC47: 2068003.9 | BD47: 2068003.9 | BE47: 2068003.9 | BF47: 2068003.9 | BG47: 2068003.9 | BH47: 2068003.9 | BI47: 2068003.9 | BJ47: 2068003.9 | BK47: 2068003.9 | BM47: =SUM(D47:O47) -> 8199915.2 | BN47: =SUM(P47:AA47) -> 21038964 | BO47: =SUM(AB47:AM47) -> 23391504 | BP47: =SUM(AN47:AY47) -> 24093249 | BQ47: =SUM(AZ47:BK47) -> 24816046 | BS47: =SUM(D47:F47) -> 1261858 | BT47: =SUM(G47:I47) -> 1687327.7 | BU47: =SUM(J47:L47) -> 2235041.9 | BV47: =SUM(M47:O47) -> 3015687.5 | BW47: =SUM(P47:R47) -> 4200705.8 | BX47: =SUM(S47:U47) -> 5483159.7 | BY47: =SUM(V47:X47) -> 5677549.5 | BZ47: =SUM(Y47:AA47) -> 5677549.5 | CA47: =SUM(AB47:AD47) -> 5847876 | CB47: =SUM(AE47:AG47) -> 5847876 | CC47: =SUM(AH47:AJ47) -> 5847876 | CD47: =SUM(AK47:AM47) -> 5847876 | CE47: =SUM(AN47:AP47) -> 6023312.3 | CF47: =SUM(AQ47:AS47) -> 6023312.3 | CG47: =SUM(AT47:AV47) -> 6023312.3 | CH47: =SUM(AW47:AY47) -> 6023312.3 | CI47: =SUM(AZ47:BB47) -> 6204011.6 | CJ47: =SUM(BC47:BE47) -> 6204011.6 | CK47: =SUM(BF47:BH47) -> 6204011.6 | CL47: =SUM(BI47:BK47) -> 6204011.6
A48: Bonus | D48: 38313.681 | E48: 42696.281 | F48: 45175.842 | G48: 50194.454 | H48: 57030.819 | I48: 61507.499 | J48: 66801.584 | K48: 74549.175 | L48: 82153.43 | M48: 89635.376 | N48: 99619.977 | O48: 511313.4 | P48: 116653.04 | Q48: 141291.66 | R48: 162125.88 | S48: 174505.48 | T48: 184929.64 | U48: 188880.85 | V48: 189251.65 | W48: 189251.65 | X48: 189251.65 | Y48: 189251.65 | Z48: 189251.65 | AA48: 189251.65 | AB48: 194929.2 | AC48: 194929.2 | AD48: 194929.2 | AE48: 194929.2 | AF48: 194929.2 | AG48: 194929.2 | AH48: 194929.2 | AI48: 194929.2 | AJ48: 194929.2 | AK48: 194929.2 | AL48: 194929.2 | AM48: 194929.2 | AN48: 200777.08 | AO48: 200777.08 | AP48: 200777.08 | AQ48: 200777.08 | AR48: 200777.08 | AS48: 200777.08 | AT48: 200777.08 | AU48: 200777.08 | AV48: 200777.08 | AW48: 200777.08 | AX48: 200777.08 | AY48: 200777.08 | AZ48: 206800.39 | BA48: 206800.39 | BB48: 206800.39 | BC48: 206800.39 | BD48: 206800.39 | BE48: 206800.39 | BF48: 206800.39 | BG48: 206800.39 | BH48: 206800.39 | BI48: 206800.39 | BJ48: 206800.39 | BK48: 206800.39 | BM48: =SUM(D48:O48) -> 1218991.5 | BN48: =SUM(P48:AA48) -> 2103896.4 | BO48: =SUM(AB48:AM48) -> 2339150.4 | BP48: =SUM(AN48:AY48) -> 2409324.9 | BQ48: =SUM(AZ48:BK48) -> 2481604.6 | BS48: =SUM(D48:F48) -> 126185.8 | BT48: =SUM(G48:I48) -> 168732.77 | BU48: =SUM(J48:L48) -> 223504.19 | BV48: =SUM(M48:O48) -> 700568.75 | BW48: =SUM(P48:R48) -> 420070.58 | BX48: =SUM(S48:U48) -> 548315.97 | BY48: =SUM(V48:X48) -> 567754.95 | BZ48: =SUM(Y48:AA48) -> 567754.95 | CA48: =SUM(AB48:AD48) -> 584787.6 | CB48: =SUM(AE48:AG48) -> 584787.6 | CC48: =SUM(AH48:AJ48) -> 584787.6 | CD48: =SUM(AK48:AM48) -> 584787.6 | CE48: =SUM(AN48:AP48) -> 602331.23 | CF48: =SUM(AQ48:AS48) -> 602331.23 | CG48: =SUM(AT48:AV48) -> 602331.23 | CH48: =SUM(AW48:AY48) -> 602331.23 | CI48: =SUM(AZ48:BB48) -> 620401.16 | CJ48: =SUM(BC48:BE48) -> 620401.16 | CK48: =SUM(BF48:BH48) -> 620401.16 | CL48: =SUM(BI48:BK48) -> 620401.16
A49: ER Tax | D49: 42076.266 | E49: 39060.093 | F49: 39388.515 | G49: 44140.619 | H49: 50111.702 | I49: 53310.618 | J49: 56814.612 | K49: 58711.789 | L49: 62649.639 | M49: 66966.147 | N49: 71307.37 | P49: 161737.74 | Q49: 136855.15 | R49: 147307.75 | S49: 149852.1 | T49: 155633.89 | U49: 156240.32 | V49: 152982.84 | W49: 145726.69 | X49: 138438.67 | Y49: 130422.75 | Z49: 119256.35 | AA49: 107790.73 | AB49: 278543.5 | AC49: 170514.02 | AD49: 164824.08 | AE49: 161869 | AF49: 159662.76 | AG49: 159513.36 | AH49: 156984.83 | AI49: 151437.83 | AJ49: 143076.92 | AK49: 136520.79 | AL49: 124518.25 | AM49: 111564.26 | AN49: 285692.33 | AO49: 175528.3 | AP49: 169631.63 | AQ49: 166292.91 | AR49: 164452.64 | AS49: 164452.64 | AT49: 161915.14 | AU49: 157698.95 | AV49: 147976.39 | AW49: 142322.19 | AX49: 131228.39 | AY49: 117113.97 | AZ49: 293032.66 | BA49: 180725.05 | BB49: 174488.98 | BC49: 170943.95 | BD49: 169386.22 | BE49: 169386.22 | BF49: 167165.96 | BG49: 164146.86 | BH49: 152988 | BI49: 148232.86 | BJ49: 137397.06 | BK49: 123984.64 | BM49: =SUM(D49:O49) -> 584537.37 | BN49: =SUM(P49:AA49) -> 1702245 | BO49: =SUM(AB49:AM49) -> 1919029.6 | BP49: =SUM(AN49:AY49) -> 1984305.5 | BQ49: =SUM(AZ49:BK49) -> 2051878.5 | BS49: =SUM(D49:F49) -> 120524.87 | BT49: =SUM(G49:I49) -> 147562.94 | BU49: =SUM(J49:L49) -> 178176.04 | BV49: =SUM(M49:O49) -> 138273.52 | BW49: =SUM(P49:R49) -> 445900.64 | BX49: =SUM(S49:U49) -> 461726.32 | BY49: =SUM(V49:X49) -> 437148.2 | BZ49: =SUM(Y49:AA49) -> 357469.83 | CA49: =SUM(AB49:AD49) -> 613881.6 | CB49: =SUM(AE49:AG49) -> 481045.13 | CC49: =SUM(AH49:AJ49) -> 451499.58 | CD49: =SUM(AK49:AM49) -> 372603.3 | CE49: =SUM(AN49:AP49) -> 630852.26 | CF49: =SUM(AQ49:AS49) -> 495198.19 | CG49: =SUM(AT49:AV49) -> 467590.48 | CH49: =SUM(AW49:AY49) -> 390664.54 | CI49: =SUM(AZ49:BB49) -> 648246.69 | CJ49: =SUM(BC49:BE49) -> 509716.4 | CK49: =SUM(BF49:BH49) -> 484300.83 | CL49: =SUM(BI49:BK49) -> 409614.57
A50: 401K Match | D50: 48329.555 | E50: 52098.859 | F50: 54439.399 | G50: 59336.116 | H50: 66939.469 | I50: 71941.249 | J50: 78989.501 | K50: 90401.603 | L50: 102081.58 | M50: 113180.59 | N50: 122812.76 | P50: 150493.52 | Q50: 181585.72 | R50: 204703.23 | S50: 218932.07 | T50: 231834.95 | U50: 236898.59 | V50: 237939.99 | W50: 237939.99 | X50: 237939.99 | Y50: 237939.99 | Z50: 237939.99 | AA50: 237939.99 | AB50: 258360.69 | AC50: 258360.69 | AD50: 258360.69 | AE50: 258360.69 | AF50: 258360.69 | AG50: 258360.69 | AH50: 258360.69 | AI50: 258360.69 | AJ50: 258360.69 | AK50: 258360.69 | AL50: 258360.69 | AM50: 258360.69 | AN50: 280722.26 | AO50: 280722.26 | AP50: 280722.26 | AQ50: 280722.26 | AR50: 280722.26 | AS50: 280722.26 | AT50: 280722.26 | AU50: 280722.26 | AV50: 280722.26 | AW50: 280722.26 | AX50: 280722.26 | AY50: 280722.26 | AZ50: 305215.75 | BA50: 305215.75 | BB50: 305215.75 | BC50: 305215.75 | BD50: 305215.75 | BE50: 305215.75 | BF50: 305215.75 | BG50: 305215.75 | BH50: 305215.75 | BI50: 305215.75 | BJ50: 305215.75 | BK50: 305215.75 | BM50: =SUM(D50:O50) -> 860550.68 | BN50: =SUM(P50:AA50) -> 2652088 | BO50: =SUM(AB50:AM50) -> 3100328.3 | BP50: =SUM(AN50:AY50) -> 3368667.1 | BQ50: =SUM(AZ50:BK50) -> 3662589 | BS50: =SUM(D50:F50) -> 154867.81 | BT50: =SUM(G50:I50) -> 198216.83 | BU50: =SUM(J50:L50) -> 271472.68 | BV50: =SUM(M50:O50) -> 235993.36 | BW50: =SUM(P50:R50) -> 536782.48 | BX50: =SUM(S50:U50) -> 687665.61 | BY50: =SUM(V50:X50) -> 713819.97 | BZ50: =SUM(Y50:AA50) -> 713819.97 | CA50: =SUM(AB50:AD50) -> 775082.07 | CB50: =SUM(AE50:AG50) -> 775082.07 | CC50: =SUM(AH50:AJ50) -> 775082.07 | CD50: =SUM(AK50:AM50) -> 775082.07 | CE50: =SUM(AN50:AP50) -> 842166.78 | CF50: =SUM(AQ50:AS50) -> 842166.78 | CG50: =SUM(AT50:AV50) -> 842166.78 | CH50: =SUM(AW50:AY50) -> 842166.78 | CI50: =SUM(AZ50:BB50) -> 915647.26 | CJ50: =SUM(BC50:BE50) -> 915647.26 | CK50: =SUM(BF50:BH50) -> 915647.26 | CL50: =SUM(BI50:BK50) -> 915647.26
...

Sheet BS
O1: Bold Penguin, Inc. | AA1: Bold Penguin, Inc.
O2: Consolidated Balance Sheet by Month | AA2: Consolidated Balance Sheet by Month
O3: 43465 | AA3: For the Period Ending November 30, 2019
N6: 2017 | Z6: 2018
