Workbook

Sheet Smry
A1: Item | B1: Item Description | C1: 50 2019 | D1: 51 2019 | E1: 52 2019 | F1: 53 2019 | G1: 1 2020
A2: 1521388 | B2: SNOWY GATHERINGS FESTIVE TREE SML TLH_1521388 | C2: =MAX(IFERROR(VLOOKUP($A2,FC!$A$2:$G$9,MATCH(Smry!C$1,FC!$A$1:$G$1,0),0),""),IFERROR(VLOOKUP(Smry!$A2,AC!$A$2:$G$9,MATCH(Smry!C$1,AC!$A$1:$G$1,0),0),"")) -> 31716 | D2: =MAX(IFERROR(VLOOKUP($A2,FC!$A$2:$G$9,MATCH(Smry!D$1,FC!$A$1:$G$1,0),0),""),IFERROR(VLOOKUP(Smry!$A2,AC!$A$2:$G$9,MATCH(Smry!D$1,AC!$A$1:$G$1,0),0),"")) -> 21568 | E2: =MAX(IFERROR(VLOOKUP($A2,FC!$A$2:$G$9,MATCH(Smry!E$1,FC!$A$1:$G$1,0),0),""),IFERROR(VLOOKUP(Smry!$A2,AC!$A$2:$G$9,MATCH(Smry!E$1,AC!$A$1:$G$1,0),0),"")) -> 0 | F2: =MAX(IFERROR(VLOOKUP($A2,FC!$A$2:$G$9,MATCH(Smry!F$1,FC!$A$1:$G$1,0),0),""),IFERROR(VLOOKUP(Smry!$A2,AC!$A$2:$G$9,MATCH(Smry!F$1,AC!$A$1:$G$1,0),0),"")) -> 0 | G2: =MAX(IFERROR(VLOOKUP($A2,FC!$A$2:$G$9,MATCH(Smry!G$1,FC!$A$1:$G$1,0),0),""),IFERROR(VLOOKUP(Smry!$A2,AC!$A$2:$G$9,MATCH(Smry!G$1,AC!$A$1:$G$1,0),0),"")) -> 0
A3: 1521526 | B3: PASTEL HUE WHITE MW_1521526 | C3: =MAX(IFERROR(VLOOKUP($A3,FC!$A$2:$G$9,MATCH(Smry!C$1,FC!$A$1:$G$1,0),0),""),IFERROR(VLOOKUP(Smry!$A3,AC!$A$2:$G$9,MATCH(Smry!C$1,AC!$A$1:$G$1,0),0),"")) -> 3520 | D3: =MAX(IFERROR(VLOOKUP($A3,FC!$A$2:$G$9,MATCH(Smry!D$1,FC!$A$1:$G$1,0),0),""),IFERROR(VLOOKUP(Smry!$A3,AC!$A$2:$G$9,MATCH(Smry!D$1,AC!$A$1:$G$1,0),0),"")) -> 2500 | E3: =MAX(IFERROR(VLOOKUP($A3,FC!$A$2:$G$9,MATCH(Smry!E$1,FC!$A$1:$G$1,0),0),""),IFERROR(VLOOKUP(Smry!$A3,AC!$A$2:$G$9,MATCH(Smry!E$1,AC!$A$1:$G$1,0),0),"")) -> 0 | F3: =MAX(IFERROR(VLOOKUP($A3,FC!$A$2:$G$9,MATCH(Smry!F$1,FC!$A$1:$G$1,0),0),""),IFERROR(VLOOKUP(Smry!$A3,AC!$A$2:$G$9,MATCH(Smry!F$1,AC!$A$1:$G$1,0),0),"")) -> 0 | G3: =MAX(IFERROR(VLOOKUP($A3,FC!$A$2:$G$9,MATCH(Smry!G$1,FC!$A$1:$G$1,0),0),""),IFERROR(VLOOKUP(Smry!$A3,AC!$A$2:$G$9,MATCH(Smry!G$1,AC!$A$1:$G$1,0),0),"")) -> 0
A4: 1521530 | B4: PASTEL HUE FLORAL1 MW_1521530 | C4: =MAX(IFERROR(VLOOKUP($A4,FC!$A$2:$G$9,MATCH(Smry!C$1,FC!$A$1:$G$1,0),0),""),IFERROR(VLOOKUP(Smry!$A4,AC!$A$2:$G$9,MATCH(Smry!C$1,AC!$A$1:$G$1,0),0),"")) -> 5000 | D4: =MAX(IFERROR(VLOOKUP($A4,FC!$A$2:$G$9,MATCH(Smry!D$1,FC!$A$1:$G$1,0),0),""),IFERROR(VLOOKUP(Smry!$A4,AC!$A$2:$G$9,MATCH(Smry!D$1,AC!$A$1:$G$1,0),0),"")) -> 547 | E4: =MAX(IFERROR(VLOOKUP($A4,FC!$A$2:$G$9,MATCH(Smry!E$1,FC!$A$1:$G$1,0),0),""),IFERROR(VLOOKUP(Smry!$A4,AC!$A$2:$G$9,MATCH(Smry!E$1,AC!$A$1:$G$1,0),0),"")) -> 0 | F4: =MAX(IFERROR(VLOOKUP($A4,FC!$A$2:$G$9,MATCH(Smry!F$1,FC!$A$1:$G$1,0),0),""),IFERROR(VLOOKUP(Smry!$A4,AC!$A$2:$G$9,MATCH(Smry!F$1,AC!$A$1:$G$1,0),0),"")) -> 4589 | G4: =MAX(IFERROR(VLOOKUP($A4,FC!$A$2:$G$9,MATCH(Smry!G$1,FC!$A$1:$G$1,0),0),""),IFERROR(VLOOKUP(Smry!$A4,AC!$A$2:$G$9,MATCH(Smry!G$1,AC!$A$1:$G$1,0),0),"")) -> 0
A5: 1521531 | B5: PASTEL HUE FLORAL2 MW_1521531 | C5: =MAX(IFERROR(VLOOKUP($A5,FC!$A$2:$G$9,MATCH(Smry!C$1,FC!$A$1:$G$1,0),0),""),IFERROR(VLOOKUP(Smry!$A5,AC!$A$2:$G$9,MATCH(Smry!C$1,AC!$A$1:$G$1,0),0),"")) -> 1700 | D5: =MAX(IFERROR(VLOOKUP($A5,FC!$A$2:$G$9,MATCH(Smry!D$1,FC!$A$1:$G$1,0),0),""),IFERROR(VLOOKUP(Smry!$A5,AC!$A$2:$G$9,MATCH(Smry!D$1,AC!$A$1:$G$1,0),0),"")) -> 2500 | E5: =MAX(IFERROR(VLOOKUP($A5,FC!$A$2:$G$9,MATCH(Smry!E$1,FC!$A$1:$G$1,0),0),""),IFERROR(VLOOKUP(Smry!$A5,AC!$A$2:$G$9,MATCH(Smry!E$1,AC!$A$1:$G$1,0),0),"")) -> 0 | F5: =MAX(IFERROR(VLOOKUP($A5,FC!$A$2:$G$9,MATCH(Smry!F$1,FC!$A$1:$G$1,0),0),""),IFERROR(VLOOKUP(Smry!$A5,AC!$A$2:$G$9,MATCH(Smry!F$1,AC!$A$1:$G$1,0),0),"")) -> 0 | G5: =MAX(IFERROR(VLOOKUP($A5,FC!$A$2:$G$9,MATCH(Smry!G$1,FC!$A$1:$G$1,0),0),""),IFERROR(VLOOKUP(Smry!$A5,AC!$A$2:$G$9,MATCH(Smry!G$1,AC!$A$1:$G$1,0),0),"")) -> 0
A6: 1521532 | B6: PETAL BOWL PINK MW_1521532 | C6: =MAX(IFERROR(VLOOKUP($A6,FC!$A$2:$G$9,MATCH(Smry!C$1,FC!$A$1:$G$1,0),0),""),IFERROR(VLOOKUP(Smry!$A6,AC!$A$2:$G$9,MATCH(Smry!C$1,AC!$A$1:$G$1,0),0),"")) -> 4346 | D6: =MAX(IFERROR(VLOOKUP($A6,FC!$A$2:$G$9,MATCH(Smry!D$1,FC!$A$1:$G$1,0),0),""),IFERROR(VLOOKUP(Smry!$A6,AC!$A$2:$G$9,MATCH(Smry!D$1,AC!$A$1:$G$1,0),0),"")) -> 3000 | E6: =MAX(IFERROR(VLOOKUP($A6,FC!$A$2:$G$9,MATCH(Smry!E$1,FC!$A$1:$G$1,0),0),""),IFERROR(VLOOKUP(Smry!$A6,AC!$A$2:$G$9,MATCH(Smry!E$1,AC!$A$1:$G$1,0),0),"")) -> 0 | F6: =MAX(IFERROR(VLOOKUP($A6,FC!$A$2:$G$9,MATCH(Smry!F$1,FC!$A$1:$G$1,0),0),""),IFERROR(VLOOKUP(Smry!$A6,AC!$A$2:$G$9,MATCH(Smry!F$1,AC!$A$1:$G$1,0),0),"")) -> 0 | G6: =MAX(IFERROR(VLOOKUP($A6,FC!$A$2:$G$9,MATCH(Smry!G$1,FC!$A$1:$G$1,0),0),""),IFERROR(VLOOKUP(Smry!$A6,AC!$A$2:$G$9,MATCH(Smry!G$1,AC!$A$1:$G$1,0),0),"")) -> 58996
A7: 1533240 | B7: EU - ELIZABETH SPW TIMER | C7: =MAX(IFERROR(VLOOKUP($A7,FC!$A$2:$G$9,MATCH(Smry!C$1,FC!$A$1:$G$1,0),0),""),IFERROR(VLOOKUP(Smry!$A7,AC!$A$2:$G$9,MATCH(Smry!C$1,AC!$A$1:$G$1,0),0),"")) -> 8001 | D7: =MAX(IFERROR(VLOOKUP($A7,FC!$A$2:$G$9,MATCH(Smry!D$1,FC!$A$1:$G$1,0),0),""),IFERROR(VLOOKUP(Smry!$A7,AC!$A$2:$G$9,MATCH(Smry!D$1,AC!$A$1:$G$1,0),0),"")) -> 2000 | E7: =MAX(IFERROR(VLOOKUP($A7,FC!$A$2:$G$9,MATCH(Smry!E$1,FC!$A$1:$G$1,0),0),""),IFERROR(VLOOKUP(Smry!$A7,AC!$A$2:$G$9,MATCH(Smry!E$1,AC!$A$1:$G$1,0),0),"")) -> 0 | F7: =MAX(IFERROR(VLOOKUP($A7,FC!$A$2:$G$9,MATCH(Smry!F$1,FC!$A$1:$G$1,0),0),""),IFERROR(VLOOKUP(Smry!$A7,AC!$A$2:$G$9,MATCH(Smry!F$1,AC!$A$1:$G$1,0),0),"")) -> 0 | G7: =MAX(IFERROR(VLOOKUP($A7,FC!$A$2:$G$9,MATCH(Smry!G$1,FC!$A$1:$G$1,0),0),""),IFERROR(VLOOKUP(Smry!$A7,AC!$A$2:$G$9,MATCH(Smry!G$1,AC!$A$1:$G$1,0),0),"")) -> 0
A8: 1533245 | B8: EU - NOAH BLACK SPW TIMER | C8: =MAX(IFERROR(VLOOKUP($A8,FC!$A$2:$G$9,MATCH(Smry!C$1,FC!$A$1:$G$1,0),0),""),IFERROR(VLOOKUP(Smry!$A8,AC!$A$2:$G$9,MATCH(Smry!C$1,AC!$A$1:$G$1,0),0),"")) -> 4001 | D8: =MAX(IFERROR(VLOOKUP($A8,FC!$A$2:$G$9,MATCH(Smry!D$1,FC!$A$1:$G$1,0),0),""),IFERROR(VLOOKUP(Smry!$A8,AC!$A$2:$G$9,MATCH(Smry!D$1,AC!$A$1:$G$1,0),0),"")) -> 0 | E8: =MAX(IFERROR(VLOOKUP($A8,FC!$A$2:$G$9,MATCH(Smry!E$1,FC!$A$1:$G$1,0),0),""),IFERROR(VLOOKUP(Smry!$A8,AC!$A$2:$G$9,MATCH(Smry!E$1,AC!$A$1:$G$1,0),0),"")) -> 0 | F8: =MAX(IFERROR(VLOOKUP($A8,FC!$A$2:$G$9,MATCH(Smry!F$1,FC!$A$1:$G$1,0),0),""),IFERROR(VLOOKUP(Smry!$A8,AC!$A$2:$G$9,MATCH(Smry!F$1,AC!$A$1:$G$1,0),0),"")) -> 356 | G8: =MAX(IFERROR(VLOOKUP($A8,FC!$A$2:$G$9,MATCH(Smry!G$1,FC!$A$1:$G$1,0),0),""),IFERROR(VLOOKUP(Smry!$A8,AC!$A$2:$G$9,MATCH(Smry!G$1,AC!$A$1:$G$1,0),0),"")) -> 145
A9: 1533246 | B9: EU - NOAH GREY SPW TIMER | C9: =MAX(IFERROR(VLOOKUP($A9,FC!$A$2:$G$9,MATCH(Smry!C$1,FC!$A$1:$G$1,0),0),""),IFERROR(VLOOKUP(Smry!$A9,AC!$A$2:$G$9,MATCH(Smry!C$1,AC!$A$1:$G$1,0),0),"")) -> 6580 | D9: =MAX(IFERROR(VLOOKUP($A9,FC!$A$2:$G$9,MATCH(Smry!D$1,FC!$A$1:$G$1,0),0),""),IFERROR(VLOOKUP(Smry!$A9,AC!$A$2:$G$9,MATCH(Smry!D$1,AC!$A$1:$G$1,0),0),"")) -> 0 | E9: =MAX(IFERROR(VLOOKUP($A9,FC!$A$2:$G$9,MATCH(Smry!E$1,FC!$A$1:$G$1,0),0),""),IFERROR(VLOOKUP(Smry!$A9,AC!$A$2:$G$9,MATCH(Smry!E$1,AC!$A$1:$G$1,0),0),"")) -> 8954 | F9: =MAX(IFERROR(VLOOKUP($A9,FC!$A$2:$G$9,MATCH(Smry!F$1,FC!$A$1:$G$1,0),0),""),IFERROR(VLOOKUP(Smry!$A9,AC!$A$2:$G$9,MATCH(Smry!F$1,AC!$A$1:$G$1,0),0),"")) -> 0 | G9: =MAX(IFERROR(VLOOKUP($A9,FC!$A$2:$G$9,MATCH(Smry!G$1,FC!$A$1:$G$1,0),0),""),IFERROR(VLOOKUP(Smry!$A9,AC!$A$2:$G$9,MATCH(Smry!G$1,AC!$A$1:$G$1,0),0),"")) -> 0

Sheet FC
A1: Item | B1: Item Description | C1: 50 2019 | D1: 51 2019 | E1: 52 2019 | F1: 53 2019 | G1: 1 2020
A2: 1521388 | B2: SNOWY GATHERINGS FESTIVE TREE SML TLH_1521388 | C2: 31716 | D2: 21568 | E2: 0 | F2: 0 | G2: 0
A3: 1521526 | B3: PASTEL HUE WHITE MW_1521526 | C3: 48 | D3: 596 | E3: 0 | F3: 0 | G3: 0
A4: 1521530 | B4: PASTEL HUE FLORAL1 MW_1521530 | C4: 48 | D4: 547 | E4: 0 | F4: 0 | G4: 0
A5: 1521531 | B5: PASTEL HUE FLORAL2 MW_1521531 | C5: 1700 | D5: 2360 | E5: 0 | F5: 0 | G5: 0
A6: 1521532 | B6: PETAL BOWL PINK MW_1521532 | C6: 4346 | D6: 2258 | E6: 0 | F6: 0 | G6: 0
A7: 1533240 | B7: EU - ELIZABETH SPW TIMER | C7: 46 | D7: 198 | E7: 0 | F7: 0 | G7: 0
A8: 1533245 | B8: EU - NOAH BLACK SPW TIMER | C8: 2500 | D8: 0 | E8: 0 | F8: 356 | G8: 0
A9: 1533246 | B9: EU - NOAH GREY SPW TIMER | C9: 1500 | D9: 0 | E9: 8954 | F9: 0 | G9: 0

Sheet AC
A1: Item | B1: Item Description | C1: 50 2019 | D1: 51 2019 | E1: 52 2019 | F1: 53 2019 | G1: 1 2020
A2: 1521388 | B2: SNOWY GATHERINGS FESTIVE TREE SML TLH_1521388 | C2: 7800 | D2: 7800 | E2: 0 | F2: 0 | G2: 0 | H2: 31716 | I2: Red
A3: 1521526 | B3: PASTEL HUE WHITE MW_1521526 | C3: 3520 | D3: 2500 | E3: 0 | F3: 0 | G3: 0 | H3: 48 | I3: Green
A4: 1521530 | B4: PASTEL HUE FLORAL1 MW_1521530 | C4: 5000 | D4: 0 | E4: 0 | F4: 4589 | G4: 0 | H4: 48 | I4: Green
A5: 1521531 | B5: PASTEL HUE FLORAL2 MW_1521531 | C5: 1500 | D5: 2500 | E5: 0 | F5: 0 | G5: 0 | H5: 1700 | I5: Red
A6: 1521532 | B6: PETAL BOWL PINK MW_1521532 | C6: 3000 | D6: 3000 | E6: 0 | F6: 0 | G6: 58996 | H6: 4346 | I6: Red
A7: 1533240 | B7: EU - ELIZABETH SPW TIMER | C7: 8001 | D7: 2000 | E7: 0 | F7: 0 | G7: 0 | H7: 46 | I7: Green
A8: 1533245 | B8: EU - NOAH BLACK SPW TIMER | C8: 4001 | D8: 0 | E8: 0 | F8: 0 | G8: 145 | H8: 2500 | I8: Green
A9: 1533246 | B9: EU - NOAH GREY SPW TIMER | C9: 6580 | D9: 0 | E9: 0 | F9: 0 | G9: 0 | H9: 1500 | I9: Green
