Workbook

Sheet First Tab
A1: Item | B1: Value 1 | C1: Value 2
A2: Apple | B2: 5 | C2: 3
A3: Orange | B3: 4 | C3: 3
A4: Pineapple | B4: 9 | C4: 2
A5: Kiwi | B5: 3 | C5: 1
A6: Grapefruit | B6: 4 | C6: 6
A7: Strawberry | B7: 1 | C7: 3
A8: Banana | B8: 2 | C8: 7
A9: Cherries | B9: 6 | C9: 3
A10: Raspberries | B10: 3 | C10: 2
A11: Blackberries | B11: 2 | C11: 7
A12: Grapefruit | B12: 3 | C12: 4
A13: Tomatoes | B13: 3 | C13: 3
... A21: Cabbage | B21: 1 | C21: 3

Sheet Second Tab
A1: Item A | B1: Item B | C1: Calculation 1 | D1: Calculation 2 | E1: Matrix Value 1 | F1: Matrix Value 2 | G1: Matrix Value 3 | H1: Matrix Value 4
A2: Apple | B2: Orange | C2: =VLOOKUP(A2,'First Tab'!$A$2:$C$21,2,FALSE)+VLOOKUP(B2,'First Tab'!$A$2:$C$21,3,FALSE) -> 8 | D2: =VLOOKUP(A2,'First Tab'!$A$2:$C$21,2,FALSE)-VLOOKUP(B2,'First Tab'!$A$2:$C$21,3,FALSE) -> 2 | E2: ='Fifth Tab'!C4 -> 128 | F2: ='Fifth Tab'!D4 -> 160 | G2: ='Fifth Tab'!C5 -> 192 | H2: ='Fifth Tab'!D5 -> 240 | I2: <<< | J2: Those matrix values are calculated in the fifth tab. The fifth tab has data that is an output result of calculations did in the second, third and fourth tab.
A3: Apple | B3: Pineapple | C3: =VLOOKUP(A3,'First Tab'!$A$2:$C$21,2,FALSE)+VLOOKUP(B3,'First Tab'!$A$2:$C$21,3,FALSE) -> 7 | D3: =VLOOKUP(A3,'First Tab'!$A$2:$C$21,2,FALSE)-VLOOKUP(B3,'First Tab'!$A$2:$C$21,3,FALSE) -> 3 | E3: ? | F3: ? | G3: ? | H3: ? | J3: How do I get the matrix values for each of those pair of items ( I have just listed 58 pairs but those could be even thousands) without doing the calculation for each pair?
A4: Apple | B4: Kiwi | C4: =VLOOKUP(A4,'First Tab'!$A$2:$C$21,2,FALSE)+VLOOKUP(B4,'First Tab'!$A$2:$C$21,3,FALSE) -> 6 | D4: =VLOOKUP(A4,'First Tab'!$A$2:$C$21,2,FALSE)-VLOOKUP(B4,'First Tab'!$A$2:$C$21,3,FALSE) -> 4 | E4: ? | F4: ? | G4: ? | H4: ? | J4: In other words is there a way to tell excel to use the sequence of calculations I did for the first pair Apple / Orange for all the other pairs starting from Apple/Pineapple?
A5: Apple | B5: Grapefruit | C5: =VLOOKUP(A5,'First Tab'!$A$2:$C$21,2,FALSE)+VLOOKUP(B5,'First Tab'!$A$2:$C$21,3,FALSE) -> 11 | D5: =VLOOKUP(A5,'First Tab'!$A$2:$C$21,2,FALSE)-VLOOKUP(B5,'First Tab'!$A$2:$C$21,3,FALSE) -> -1 | E5: ? | F5: ? | G5: ? | H5: ?
A6: Apple | B6: Strawberry | C6: =VLOOKUP(A6,'First Tab'!$A$2:$C$21,2,FALSE)+VLOOKUP(B6,'First Tab'!$A$2:$C$21,3,FALSE) -> 8 | D6: =VLOOKUP(A6,'First Tab'!$A$2:$C$21,2,FALSE)-VLOOKUP(B6,'First Tab'!$A$2:$C$21,3,FALSE) -> 2 | E6: ? | F6: ? | G6: ? | H6: ?
A7: Apple | B7: Banana | C7: =VLOOKUP(A7,'First Tab'!$A$2:$C$21,2,FALSE)+VLOOKUP(B7,'First Tab'!$A$2:$C$21,3,FALSE) -> 12 | D7: =VLOOKUP(A7,'First Tab'!$A$2:$C$21,2,FALSE)-VLOOKUP(B7,'First Tab'!$A$2:$C$21,3,FALSE) -> -2 | E7: ? | F7: ? | G7: ? | H7: ?
A8: Apple | B8: Cherries | C8: =VLOOKUP(A8,'First Tab'!$A$2:$C$21,2,FALSE)+VLOOKUP(B8,'First Tab'!$A$2:$C$21,3,FALSE) -> 8 | D8: =VLOOKUP(A8,'First Tab'!$A$2:$C$21,2,FALSE)-VLOOKUP(B8,'First Tab'!$A$2:$C$21,3,FALSE) -> 2 | E8: ? | F8: ? | G8: ? | H8: ?
A9: Apple | B9: Raspberries | C9: =VLOOKUP(A9,'First Tab'!$A$2:$C$21,2,FALSE)+VLOOKUP(B9,'First Tab'!$A$2:$C$21,3,FALSE) -> 7 | D9: =VLOOKUP(A9,'First Tab'!$A$2:$C$21,2,FALSE)-VLOOKUP(B9,'First Tab'!$A$2:$C$21,3,FALSE) -> 3 | E9: ? | F9: ? | G9: ? | H9: ?
A10: Apple | B10: Blackberries | C10: =VLOOKUP(A10,'First Tab'!$A$2:$C$21,2,FALSE)+VLOOKUP(B10,'First Tab'!$A$2:$C$21,3,FALSE) -> 12 | D10: =VLOOKUP(A10,'First Tab'!$A$2:$C$21,2,FALSE)-VLOOKUP(B10,'First Tab'!$A$2:$C$21,3,FALSE) -> -2 | E10: ? | F10: ? | G10: ? | H10: ?
A11: Apple | B11: Grapefruit | C11: =VLOOKUP(A11,'First Tab'!$A$2:$C$21,2,FALSE)+VLOOKUP(B11,'First Tab'!$A$2:$C$21,3,FALSE) -> 11 | D11: =VLOOKUP(A11,'First Tab'!$A$2:$C$21,2,FALSE)-VLOOKUP(B11,'First Tab'!$A$2:$C$21,3,FALSE) -> -1 | E11: ? | F11: ? | G11: ? | H11: ?
A12: Apple | B12: Tomatoes | C12: =VLOOKUP(A12,'First Tab'!$A$2:$C$21,2,FALSE)+VLOOKUP(B12,'First Tab'!$A$2:$C$21,3,FALSE) -> 8 | D12: =VLOOKUP(A12,'First Tab'!$A$2:$C$21,2,FALSE)-VLOOKUP(B12,'First Tab'!$A$2:$C$21,3,FALSE) -> 2 | E12: ? | F12: ? | G12: ? | H12: ?
A13: Apple | B13: Celery | C13: =VLOOKUP(A13,'First Tab'!$A$2:$C$21,2,FALSE)+VLOOKUP(B13,'First Tab'!$A$2:$C$21,3,FALSE) -> 6 | D13: =VLOOKUP(A13,'First Tab'!$A$2:$C$21,2,FALSE)-VLOOKUP(B13,'First Tab'!$A$2:$C$21,3,FALSE) -> 4 | E13: ? | F13: ? | G13: ? | H13: ?
A14: Apple | B14: Courgettes | C14: =VLOOKUP(A14,'First Tab'!$A$2:$C$21,2,FALSE)+VLOOKUP(B14,'First Tab'!$A$2:$C$21,3,FALSE) -> 11 | D14: =VLOOKUP(A14,'First Tab'!$A$2:$C$21,2,FALSE)-VLOOKUP(B14,'First Tab'!$A$2:$C$21,3,FALSE) -> -1 | E14: ? | F14: ? | G14: ? | H14: ?
A15: Apple | B15: Aubergines | C15: =VLOOKUP(A15,'First Tab'!$A$2:$C$21,2,FALSE)+VLOOKUP(B15,'First Tab'!$A$2:$C$21,3,FALSE) -> 7 | D15: =VLOOKUP(A15,'First Tab'!$A$2:$C$21,2,FALSE)-VLOOKUP(B15,'First Tab'!$A$2:$C$21,3,FALSE) -> 3 | E15: ? | F15: ? | G15: ? | H15: ?
A16: Apple | B16: Potatoes | C16: =VLOOKUP(A16,'First Tab'!$A$2:$C$21,2,FALSE)+VLOOKUP(B16,'First Tab'!$A$2:$C$21,3,FALSE) -> 8 | D16: =VLOOKUP(A16,'First Tab'!$A$2:$C$21,2,FALSE)-VLOOKUP(B16,'First Tab'!$A$2:$C$21,3,FALSE) -> 2 | E16: ? | F16: ? | G16: ? | H16: ?
... A58: Pineapple | B58: Cabbage | C58: =VLOOKUP(A58,'First Tab'!$A$2:$C$21,2,FALSE)+VLOOKUP(B58,'First Tab'!$A$2:$C$21,3,FALSE) -> 12 | D58: =VLOOKUP(A58,'First Tab'!$A$2:$C$21,2,FALSE)-VLOOKUP(B58,'First Tab'!$A$2:$C$21,3,FALSE) -> 6 | E58: ? | F58: ? | G58: ? | H58: ?

Sheet Third Tab
A1: Calculation 1 | B1: Calculation 3 | C1: Calculation 4 | D1: Costant A | E1: Costant B
A2: ='Second Tab'!C2 -> 8 | B2: =A2*D2 -> 16 | C2: =A2*E2 -> 24 | D2: 2 | E2: 3

Sheet Fourth Tab
A1: Calculation 2 | B1: Calculation 5 | C1: Calculation 6 | D1: Costant C | E1: Costant D
A2: ='Second Tab'!D2 -> 2 | B2: =A2*D2 -> 8 | C2: =A2*E2 -> 10 | D2: 4 | E2: 5

Sheet Fifth Tab
A1: Matrix - Calculation 3 and 4 on Y Axis and Calculation 5 and 6 in X Axis
C3: ='Fourth Tab'!B2 -> 8 | D3: ='Fourth Tab'!C2 -> 10
B4: ='Third Tab'!B2 -> 16 | C4: =B4*C3 -> 128 | D4: =B4*D3 -> 160
B5: ='Third Tab'!C2 -> 24 | C5: =B5*C3 -> 192 | D5: =B5*D3 -> 240
