{"text_format":"1","workbook":"xlsx","n_sheets":90,"sheets":["TRAINING MATRIX","Adcock Paul","Atkins Lara","Baker Simon","Bartlam Jason","Bayliss Darryl","Beckett Rosemarie","Rosemarie Beckett","Stuart Berry","Darrell Bettoney","Alan Bilton","Peter Bramble","Martin Brazier","Peter Camper","Mark Chaloner","Stephen Clark","Martin Curley","Andrew Currie","Derrick Dingley","John Dixon","Terry Dixon","Kenneth Dunkley","Paul Eliott","John Fahy","Paul Faulkner","Nigel Filcek","James Foster","David Gates","Adam Gawel","Garry Giles","Roger Green","Michal Gurzynski","David Hall","Stephen Hall","Wayne Hartley","Neil Hayes","Frazer Healey","Alexander Horobin","Robert Hunt","Jason Ilsley","Alan Irwin","Graham King","Adrian Kingsnorth","Anthony Kinning","Daniel Kulak","Edward Lewis","Stewart Lockett","Jason Lowe","Marius Marinescu","Michail Michalakis","Glen Miller","Paul Mitchell","Michael Newton","Wayne Obizi","Pawel Okroj","Jason Oliver","Nicusor Oncescu","Jonathan Pails","Scott Park","Tomasz Platosz","Bruce Plummer","Sarah Poole","Tamasz Porczio","Wojciech Poszwa","Andrew Purves","Andrew Randall","Kishor Rathod","Jonathan Reynolds","Lewis Robinson","Martyn Shaw","Parminder Singh","Johnathan Smith","Joshua Smith","Malcolm Smith","Robert Smith","Wayne Smith","Ifor Thomas","Jason Thresher","Jonathan Townsend","Michael Trow","Steven Tutt","Daniel Underwood","Robert Underwood","Gary Veron","Alan Whitlam","Daniel Whitmore","Thomas Wilson","Nicholas Wragg","Kaspars Zarans","Inga Ziemele"],"not_rendered":{"charts":0,"images":0,"macros":1,"external_links":0,"defined_names":4,"comments":0,"pivot_tables":0},"unopened":[],"bounds":{"document_bytes":16777216,"sheet_cells":100000,"rows_first":2000,"rows_last":500,"rows_between":2000,"halvings":0,"cell_chars":16384,"cell_head_chars":4096},"cells_cut":0,"cells_raw":0,"read":"whole","date_system":"1900"}

{"sheet":"TRAINING MATRIX","index":0,"n_rows":90,"n_cols":44,"rows_kept":90,"cut":false,"hidden":false,"merged":[[117,0,117,1],[112,0,112,1],[113,0,113,1],[114,0,114,1],[115,0,115,1],[116,0,116,1],[118,0,118,1],[119,0,119,1],[120,0,120,1],[126,0,126,1],[121,0,121,1],[122,0,122,1],[123,0,123,1],[124,0,124,1],[125,0,125,1],[107,0,107,1],[108,0,108,1],[109,0,109,1],[110,0,110,1],[111,0,111,1],[0,5,0,20],[0,35,0,41],[0,43,0,51],[0,0,0,2],[0,21,0,33]]}
["DRIVER DETAILS",null,null,null,null,null,null,null,null,null,null,null,null,null,null,null,null,null,null,null,null,"TRAINING",null,null,null,null,null,null,null,null,null,null,null,null,null,"TOOL BOX TALKS",null,null,null,null,null,null,null,"SSOW and SWP issued"]
["DRIVER NAME","Day/Night/General/Palletforce","DRIVER CLASS",null,null,null,"Assessed","Driver induction","Highway Code via KT","Drivers Code of Conduct","Smoking Policy","Mobile Communication Policy","Using Sat Nav","Transport Charges & Fines Policy","Goods Vehicle and Safety Policy","Safe Loading Policy","Eye Sight Check","Use of Tail lifts","CPC Periodic Training Module","CPC Periodic Training Module","CPC Periodic Training Module","CPC Periodic Training Module","CPC Periodic Training Module","FORS Security and Counter-Terrorism","FORS BridgeSmart","FORS CycleSafety","FORS LoCity","FORS SmartDeliveries","First Aid Training","ADR Awareness","ADR (Core, Packages and All Classes ex 7 & 9)",null,"TTB Climbing On & Off Vehicles","TTB Climbing On & Off Trailers & Load Decks","TTB Jumping To a Lifetime of Pain","TTB Dealing With Cyclists","TTB Fitness to Drive","TTB Loading & Unloading","TTB Protecting Vulnerable Road Users",null,"SSOW Coupling and Uncoupling","SSOW Scanning Shed","SWP Drivers Walkaround Checks"]
["Adcock Paul",null,"C",null,null,null,null,"24.10.17",null,null,null,"6.9.19",null,"22.8.19","25.8.19","25.8.19","21.8.19","5.9.19",null,null,null,null,null,"21.8.19","5.9.19",null,null,null,null,null,null,null,"22.8.19","25.8.19","25.8.19","25.8.19","25.8.19","25.8.19","25.8.19"]
["Atkins Lara",null,"CE",null,null,null,"26.04.19","26.04.19",null,null,null,"6.9.19",null,"22.8.19","25.8.19","25.8.19","21.8.19","5.9.19",null,null,null,null,null,"21.8.19","5.9.19",null,null,null,null,null,null,null,"22.8.19","25.8.19","25.8.19","25.8.19","25.8.19","25.8.19","25.8.19"]
["Baker Simon",null,"CE",null,null,null,null,"06.11.17",null,null,null,"6.9.19",null,"22.8.19","25.8.19","25.8.19","21.8.19","5.9.19",null,null,null,null,null,"21.8.19","5.9.19",null,null,null,null,null,null,null,"22.8.19","25.8.19","25.8.19","25.8.19","25.8.19","25.8.19","25.8.19"]
["Bartlam Jason",null,"C",null,null,null,null,"08.07.19",null,null,null,"6.9.19",null,"22.8.19","25.8.19","25.8.19","22.8.19","5.9.19",null,null,null,null,null,"21.8.19","5.9.19",null,null,null,null,null,null,null,"22.8.19","25.8.19","25.8.19","25.8.19","25.8.19","25.8.19","25.8.19"]
["Bayliss Darryl",null,"C",null,null,null,null,"15.11.04",null,null,null,"6.9.19",null,"22.8.19","25.8.19","25.8.19","21.8.19","5.9.19",null,null,null,null,null,"21.8.19","5.9.19",null,null,null,null,null,null,null,"22.8.19","25.8.19","25.8.19","25.8.19","25.8.19","25.8.19","25.8.19"]
["Beckett Rosemarie",null,"C1",null,null,null,null,"23.01.09",null,null,null,"6.9.19",null,"22.8.19","25.8.19","25.8.19","22.8.19","5.9.19",null,null,null,null,null,"21.8.19","5.9.19",null,null,null,null,null,null,null,"22.8.19","25.8.19","25.8.19","25.8.19","25.8.19","25.8.19","25.8.19"]
["Berry Stuart",null,"C",null,null,null,null,"29.10.18",null,null,null,"6.9.19",null,"22.8.19","25.8.19","25.8.19","22.8.19","5.9.19",null,null,null,null,null,"21.8.19","5.9.19",null,null,null,null,null,null,null,"22.8.19","25.8.19","25.8.19","25.8.19","25.8.19","25.8.19","25.8.19"]
["Bettoney Darrell",null,"C",null,null,null,"25.02.19","24.04.19",null,null,null,"6.9.19",null,"22.8.19","25.8.19","25.8.19","21.8.19","5.9.19",null,null,null,null,null,"21.8.19","5.9.19",null,null,null,null,null,null,null,"22.8.19","25.8.19","25.8.19","25.8.19","25.8.19","25.8.19","25.8.19"]
["Bilton Alan",null,"C",null,null,null,"18.02.19","18.02.19",null,null,null,"6.9.19",null,"22.8.19","25.8.19","25.8.19","3.9.19","5.9.19",null,null,null,null,null,"21.8.19","5.9.19",null,null,null,null,null,null,null,"22.8.19","25.8.19","25.8.19","25.8.19","25.8.19","25.8.19","25.8.19"]
["Bramble Peter",null,"CE",null,null,null,null,"03.01.19",null,null,null,"6.9.19",null,"22.8.19","25.8.19","25.8.19","21.8.19","5.9.19",null,null,null,null,null,"21.8.19","5.9.19",null,null,null,null,null,null,null,"22.8.19","25.8.19","25.8.19","25.8.19","25.8.19","25.8.19","25.8.19"]
["Brazier Martin",null,"CE",null,null,null,null,"02.02.15",null,null,null,"6.9.19",null,"22.8.19","25.8.19","25.8.19","12.9.19","5.9.19",null,null,null,null,null,"21.8.19","5.9.19",null,null,null,null,null,null,null,"22.8.19","25.8.19","25.8.19","25.8.19","25.8.19","25.8.19","25.8.19"]
["Camper Pete",null,"CE",null,null,null,null,"03.09.19",null,null,null,"6.9.19",null,"22.8.19","25.8.19","25.8.19","12.9.19","5.9.19",null,null,null,null,null,"21.8.19","5.9.19",null,null,null,null,null,null,null,"22.8.19","25.8.19","25.8.19","25.8.19","25.8.19","25.8.19","25.8.19"]
["Chaloner Mark",null,"CE",null,null,null,"16.01.19","16.01.19",null,null,null,"6.9.19",null,"22.8.19","25.8.19","25.8.19","21.8.19","5.9.19",null,null,null,null,null,"21.8.19","5.9.19",null,null,null,null,null,null,null,"22.8.19","25.8.19","25.8.19","25.8.19","25.8.19","25.8.19","25.8.19"]
["Clark Stephen","Long term sick","C",null,null,null,null,"31.07.17"]
["Curley Martin",null,"C",null,null,null,null,"19.09.16",null,null,null,"6.9.19",null,"22.8.19","25.8.19","25.8.19","16.9.19","5.9.19",null,null,null,null,null,"21.8.19","5.9.19",null,null,null,null,null,null,null,"22.8.19","25.8.19","25.8.19","25.8.19","25.8.19","25.8.19","25.8.19"]
["Currie Andy",null,"CE",null,null,null,null,"19.01.17",null,null,null,"6.9.19",null,"22.8.19","25.8.19","25.8.19",null,"5.9.19",null,null,null,null,null,"21.8.19","5.9.19",null,null,null,null,null,null,null,"22.8.19","25.8.19","25.8.19","25.8.19","25.8.19","25.8.19","25.8.19"]
["Dingley Derrick",null,"C",null,null,null,null,"06.11.17",null,null,null,null,null,"22.8.19","25.8.19","25.8.19","11.9.19",null,null,null,null,null,null,"21.8.19",null,null,null,null,null,null,null,null,"22.8.19","25.8.19","25.8.19","25.8.19","25.8.19","25.8.19","25.8.19"]
["Dixon John",null,"C",null,null,null,null,"28.05.13",null,null,null,"6.9.19",null,"22.8.19","25.8.19","25.8.19","21.8.19","5.9.19",null,null,null,null,null,"21.8.19","5.9.19",null,null,null,null,null,null,null,"22.8.19","25.8.19","25.8.19","25.8.19","25.8.19","25.8.19","25.8.19"]
["Dixon Terry ",null,"CE",null,null,null,"24.01.19","24.01.19",null,null,null,"6.9.19",null,"22.8.19","25.8.19","25.8.19","12.9.19","5.9.19",null,null,null,null,null,"21.8.19","5.9.19",null,null,null,null,null,null,null,"22.8.19","25.8.19","25.8.19","25.8.19","25.8.19","25.8.19","25.8.19"]
["Dunkley Ken",null,"C",null,null,null,null,"04.08.14",null,null,null,"6.9.19",null,"22.8.19","25.8.19","25.8.19","21.8.19","5.9.19",null,null,null,null,null,"21.8.19","5.9.19",null,null,null,null,null,null,null,"22.8.19","25.8.19","25.8.19","25.8.19","25.8.19","25.8.19","25.8.19"]
["Elliott Paul","Left 09.09.19","CE",null,null,null,null,null,null,null,null,"6.9.19",null,"22.8.19","25.8.19","25.8.19",null,"5.9.19",null,null,null,null,null,"21.8.19","5.9.19",null,null,null,null,null,null,null,"22.8.19","25.8.19","25.8.19","25.8.19","25.8.19","25.8.19","25.8.19"]
["Fahy John",null,"C1",null,null,null,null,"24.09.18",null,null,null,"6.9.19",null,null,null,null,"5.9.19","5.9.19",null,null,null,null,null,null,"5.9.19"]
["Faulkner Paul",null,"C",null,null,null,"08.02.19","08.02.19",null,null,null,"6.9.19",null,"22.8.19","25.8.19","25.8.19","12.9.19","5.9.19",null,null,null,null,null,"21.8.19","5.9.19",null,null,null,null,null,null,null,"22.8.19","25.8.19","25.8.19","25.8.19","25.8.19","25.8.19","25.8.19"]
["Filcek Nigel",null,"C",null,null,null,"14.02.19","14.02.19",null,null,null,"6.9.19",null,"22.8.19","25.8.19","25.8.19","21.8.19","5.9.19",null,null,null,null,null,"21.8.19","5.9.19",null,null,null,null,null,null,null,"22.8.19","25.8.19","25.8.19","25.8.19","25.8.19","25.8.19","25.8.19"]
["Foster James",null,"C",null,null,null,null,null,null,null,null,null,null,null,null,null,"18.9.19"]
["Gates Dave",null,"C",null,null,null,"30.01.19","30.01.19",null,null,null,"6.9.19",null,"22.8.19","25.8.19","25.8.19","22.8.19","5.9.19",null,null,null,null,null,"21.8.19","5.9.19",null,null,null,null,null,null,null,"22.8.19","25.8.19","25.8.19","25.8.19","25.8.19","25.8.19","25.8.19"]
["Gawel Adam",null,"C",null,null,null,null,null,null,null,null,null,null,null,null,null,"18.9.19"]
["Giles Garry",null,"CE",null,null,null,"31.01.19","31.01.19",null,null,null,null,null,null,null,null,"12.9.19"]
["Green Roger",null,"C",null,null,null,null,null,null,null,null,"6.9.19",null,"22.8.19","25.8.19","25.8.19","21.8.19","5.9.19",null,null,null,null,null,"21.8.19","5.9.19",null,null,null,null,null,null,null,"22.8.19","25.8.19","25.8.19","25.8.19","25.8.19","25.8.19","25.8.19"]
["Gurzynski Michal",null,"C",null,null,null,null,null,null,null,null,"6.9.19",null,"22.8.19","25.8.19","25.8.19","16.9.19","5.9.19",null,null,null,null,null,"21.8.19","5.9.19",null,null,null,null,null,null,null,"22.8.19","25.8.19","25.8.19","25.8.19","25.8.19","25.8.19","25.8.19"]
["Hall David",null,"C",null,null,null,null,"04.02.19",null,null,null,"6.9.19",null,null,null,null,"5.9.19","5.9.19",null,null,null,null,null,null,"5.9.19"]
["Hall Stephen",null,"C",null,null,null,null,null,null,null,null,"6.9.19",null,"22.8.19","25.8.19","25.8.19",null,"5.9.19",null,null,null,null,null,"21.8.19","5.9.19",null,null,null,null,null,null,null,"22.8.19","25.8.19","25.8.19","25.8.19","25.8.19","25.8.19","25.8.19"]
["Hartley Wayne",null,"CE",null,null,null,"10.04.19","10.04.19",null,null,null,"6.9.19",null,"22.8.19","25.8.19","25.8.19","21.8.19","5.9.19",null,null,null,null,null,"21.8.19","5.9.19",null,null,null,null,null,null,null,"22.8.19","25.8.19","25.8.19","25.8.19","25.8.19","25.8.19","25.8.19"]
["Hayes Neil",null,"CE",null,null,null,null,null,null,null,null,"6.9.19",null,"22.8.19","25.8.19","25.8.19",null,"5.9.19",null,null,null,null,null,"21.8.19","5.9.19",null,null,null,null,null,null,null,"22.8.19","25.8.19","25.8.19","25.8.19","25.8.19","25.8.19","25.8.19"]
["Healey Frazer",null,"CE",null,null,null,"16.09.19",null,null,null,null,"6.9.19",null,"22.8.19","25.8.19","25.8.19","16.9.19","5.9.19",null,null,null,null,null,"21.8.19","5.9.19",null,null,null,null,null,null,null,"22.8.19","25.8.19","25.8.19","25.8.19","25.8.19","25.8.19","25.8.19"]
["Horobin Alexander","Long term sick","C",null,null,null,null,"12.11.18"]
["Hunt Robert",null,"CE",null,null,null,null,"17.10.16",null,null,null,"6.9.19",null,"22.8.19","25.8.19","25.8.19",null,"5.9.19",null,null,null,null,null,"21.8.19","5.9.19",null,null,null,null,null,null,null,"22.8.19","25.8.19","25.8.19","25.8.19","25.8.19","25.8.19","25.8.19"]
["Ilsley Jason",null,"CE",null,null,null,"16.01.19","16.01.19",null,null,null,"6.9.19",null,"22.8.19","25.8.19","25.8.19","16.9.19","5.9.19",null,null,null,null,null,"21.8.19","5.9.19",null,null,null,null,null,null,null,"22.8.19","25.8.19","25.8.19","25.8.19","25.8.19","25.8.19","25.8.19"]
["Irwin Alan",null,"C",null,null,null,"31.01.19","31.01.19",null,null,null,"6.9.19",null,null,null,null,"16.9.19","5.9.19",null,null,null,null,null,null,"5.9.19"]
["King Graham",null,"CE",null,null,null,null,null,null,null,null,"6.9.19",null,"22.8.19","25.8.19","25.8.19",null,"5.9.19",null,null,null,null,null,"21.8.19","5.9.19",null,null,null,null,null,null,null,"22.8.19","25.8.19","25.8.19","25.8.19","25.8.19","25.8.19","25.8.19"]
["Kingsnorth Adrian",null,"C",null,null,null,"11.04.19","11.04.19",null,null,null,"6.9.19",null,"22.8.19","25.8.19","25.8.19","5.9.19","5.9.19",null,null,null,null,null,"21.8.19","5.9.19",null,null,null,null,null,null,null,"22.8.19","25.8.19","25.8.19","25.8.19","25.8.19","25.8.19","25.8.19"]
["Kinning Anthony",null,"C",null,null,null,"01.03.19","01.03.19",null,null,null,"6.9.19",null,"22.8.19","25.8.19","25.8.19","21.8.19","5.9.19",null,null,null,null,null,"21.8.19","5.9.19",null,null,null,null,null,null,null,"22.8.19","25.8.19","25.8.19","25.8.19","25.8.19","25.8.19","25.8.19"]
["Kulak Daniel",null,"CE",null,null,null,null,"20.02.17",null,null,null,"6.9.19",null,"22.8.19","25.8.19","25.8.19","21.8.19","5.9.19",null,null,null,null,null,"21.8.19","5.9.19",null,null,null,null,null,null,null,"22.8.19","25.8.19","25.8.19","25.8.19","25.8.19","25.8.19","25.8.19"]
["Lewis Edward",null,null,null,null,null,"12.02.19","12.02.19",null,null,null,"6.9.19",null,"22.8.19","25.8.19","25.8.19","5.9.19","5.9.19",null,null,null,null,null,"21.8.19","5.9.19",null,null,null,null,null,null,null,"22.8.19","25.8.19","25.8.19","25.8.19","25.8.19","25.8.19","25.8.19"]
["Lockett Stewart",null,"C",null,null,null,"13.02.19","13.02.19",null,null,null,"6.9.19",null,"22.8.19","25.8.19","25.8.19","22.8.19","5.9.19",null,null,null,null,null,"21.8.19","5.9.19",null,null,null,null,null,null,null,"22.8.19","25.8.19","25.8.19","25.8.19","25.8.19","25.8.19","25.8.19"]
["Lowe Jason",null,"C",null,null,null,null,null,null,null,null,null,null,null,null,null,"18.9.19"]
["Marinescu Marius",null,"C",null,null,null,null,"01.10.18",null,null,null,"6.9.19",null,"22.8.19","25.8.19","25.8.19","16.9.19","5.9.19",null,null,null,null,null,"21.8.19","5.9.19",null,null,null,null,null,null,null,"22.8.19","25.8.19","25.8.19","25.8.19","25.8.19","25.8.19","25.8.19"]
["Michalakis Michail",null,"C",null,null,null,null,"20.06.17",null,null,null,"6.9.19",null,"22.8.19","25.8.19","25.8.19","21.8.19","5.9.19",null,null,null,null,null,"21.8.19","5.9.19",null,null,null,null,null,null,null,"22.8.19","25.8.19","25.8.19","25.8.19","25.8.19","25.8.19","25.8.19"]
["Miller Glenn",null,"C1",null,null,null,"06.02.19","06.02.19",null,null,null,"6.9.19",null,"22.8.19","25.8.19","25.8.19","16.9.19","5.9.19",null,null,null,null,null,"21.8.19","5.9.19",null,null,null,null,null,null,null,"22.8.19","25.8.19","25.8.19","25.8.19","25.8.19","25.8.19","25.8.19"]
["Mitchell Paul",null,"C",null,null,null,"09.01.19","09.01.19",null,null,null,"6.9.19",null,null,null,null,"5.9.19","5.9.19",null,null,null,null,null,null,"5.9.19"]
["Newton Michael",null,"C",null,null,null,null,null,null,null,null,"6.9.19",null,"22.8.19","25.8.19","25.8.19","11.9.19","5.9.19",null,null,null,null,null,"21.8.19","5.9.19",null,null,null,null,null,null,null,"22.8.19","25.8.19","25.8.19","25.8.19","25.8.19","25.8.19","25.8.19"]
["Obizi Wayne",null,"C1",null,null,null,null,null,null,null,null,"6.9.19",null,"22.8.19","25.8.19","25.8.19","16.9.19","5.9.19",null,null,null,null,null,"21.8.19","5.9.19",null,null,null,null,null,null,null,"22.8.19","25.8.19","25.8.19","25.8.19","25.8.19","25.8.19","25.8.19"]
["Okroj Pawel",null,"C",null,null,null,null,null,null,null,null,null,null,null,null,null,"18.9.19"]
["Oliver Jason",null,"CE",null,null,null,null,"03.01.19",null,null,null,null,null,"22.8.19","25.8.19","25.8.19","22.8.19",null,null,null,null,null,null,"21.8.19",null,null,null,null,null,null,null,null,"22.8.19","25.8.19","25.8.19","25.8.19","25.8.19","25.8.19","25.8.19"]
["Oncescu Nicusor",null,"C",null,null,null,null,"03.09.18",null,null,null,"6.9.19",null,"22.8.19","25.8.19","25.8.19","21.8.19","5.9.19",null,null,null,null,null,"21.8.19","5.9.19",null,null,null,null,null,null,null,"22.8.19","25.8.19","25.8.19","25.8.19","25.8.19","25.8.19","25.8.19"]
["Pails Jonathan",null,"CE",null,null,null,"21.01.19","21.01.19",null,null,null,"6.9.19",null,"22.8.19","25.8.19","25.8.19","22.8.19","5.9.19",null,null,null,null,null,"21.8.19","5.9.19",null,null,null,null,null,null,null,"22.8.19","25.8.19","25.8.19","25.8.19","25.8.19","25.8.19","25.8.19"]
["Park Scott",null,"C",null,null,null,null,"05.11.18",null,null,null,"6.9.19",null,"22.8.19","25.8.19","25.8.19","21.8.19","5.9.19",null,null,null,null,null,"21.8.19","5.9.19",null,null,null,null,null,null,null,"22.8.19","25.8.19","25.8.19","25.8.19","25.8.19","25.8.19","25.8.19"]
["Platosz Tomasz",null,"C",null,null,null,null,"03.06.19",null,null,null,"6.9.19",null,"22.8.19","25.8.19","25.8.19","22.8.19","5.9.19",null,null,null,null,null,"21.8.19","5.9.19",null,null,null,null,null,null,null,"22.8.19","25.8.19","25.8.19","25.8.19","25.8.19","25.8.19","25.8.19"]
["Plummer Bruce",null,"C",null,null,null,"05.03.19","05.03.19",null,null,null,"6.9.19",null,"22.8.19","25.8.19","25.8.19","11.9.19","5.9.19",null,null,null,null,null,"21.8.19","5.9.19",null,null,null,null,null,null,null,"22.8.19","25.8.19","25.8.19","25.8.19","25.8.19","25.8.19","25.8.19"]
["Poole Sarah",null,"C",null,null,null,null,"10.06.19",null,null,null,"6.9.19",null,"22.8.19","25.8.19","25.8.19","22.8.19","5.9.19",null,null,null,null,null,"21.8.19","5.9.19",null,null,null,null,null,null,null,"22.8.19","25.8.19","25.8.19","25.8.19","25.8.19","25.8.19","25.8.19"]
["Porczio Tamas",null,"CE",null,null,null,null,null,null,null,null,"6.9.19",null,"22.8.19","25.8.19","25.8.19","11.9.19","5.9.19",null,null,null,null,null,"21.8.19","5.9.19",null,null,null,null,null,null,null,"22.8.19","25.8.19","25.8.19","25.8.19","25.8.19","25.8.19","25.8.19"]
["Poszwa Wojciech",null,"C",null,null,null,null,null,null,null,null,null,null,null,null,null,"18.9.19"]
["Purves Andrew",null,"CE",null,null,null,null,"03.01.19",null,null,null,"6.9.19",null,"22.8.19","25.8.19","25.8.19",null,"5.9.19",null,null,null,null,null,"21.8.19","5.9.19",null,null,null,null,null,null,null,"22.8.19","25.8.19","25.8.19","25.8.19","25.8.19","25.8.19","25.8.19"]
["Randall Andy",null,"C",null,null,null,null,null,null,null,null,"6.9.19",null,"22.8.19","25.8.19","25.8.19","21.8.19","5.9.19",null,null,null,null,null,"21.8.19","5.9.19",null,null,null,null,null,null,null,"22.8.19","25.8.19","25.8.19","25.8.19","25.8.19","25.8.19","25.8.19"]
["Rathod Kishor",null,"C1",null,null,null,"15.01.19","15.01.19",null,null,null,"6.9.19",null,"22.8.19","25.8.19","25.8.19","21.8.19","5.9.19",null,null,null,null,null,"21.8.19","5.9.19",null,null,null,null,null,null,null,"22.8.19","25.8.19","25.8.19","25.8.19","25.8.19","25.8.19","25.8.19"]
["Reynolds Jonathan",null,"C",null,null,null,null,null,null,null,null,"6.9.19",null,"22.8.19","25.8.19","25.8.19","18.9.19","5.9.19",null,null,null,null,null,"21.8.19","5.9.19",null,null,null,null,null,null,null,"22.8.19","25.8.19","25.8.19","25.8.19","25.8.19","25.8.19","25.8.19"]
["Robinson Lewis",null,"CE",null,null,null,null,"28.02.18",null,null,null,"6.9.19",null,"22.8.19","25.8.19","25.8.19",null,"5.9.19",null,null,null,null,null,"21.8.19","5.9.19",null,null,null,null,null,null,null,"22.8.19","25.8.19","25.8.19","25.8.19","25.8.19","25.8.19","25.8.19"]
["Shaw Martyn",null,"CE",null,null,null,"25.04.19","25.04.19",null,null,null,"6.9.19",null,"22.8.19","25.8.19","25.8.19",null,"5.9.19",null,null,null,null,null,"21.8.19","5.9.19",null,null,null,null,null,null,null,"22.8.19","25.8.19","25.8.19","25.8.19","25.8.19","25.8.19","25.8.19"]
["Singh Parminder",null,"CE",null,null,null,null,"14.05.19",null,null,null,"6.9.19",null,"22.8.19","25.8.19","25.8.19","22.8.19","5.9.19",null,null,null,null,null,"21.8.19","5.9.19",null,null,null,null,null,null,null,"22.8.19","25.8.19","25.8.19","25.8.19","25.8.19","25.8.19","25.8.19"]
["Smith Jon",null,"CE"]
["Smith Josh","Left 13.09.19","CE",null,null,null,null,"04.12.18",null,null,null,"6.9.19",null,"22.8.19","25.8.19","25.8.19","22.8.19","5.9.19",null,null,null,null,null,"21.8.19","5.9.19",null,null,null,null,null,null,null,"22.8.19","25.8.19","25.8.19","25.8.19","25.8.19","25.8.19","25.8.19"]
["Smith Malc",null,"C",null,null,null,null,null,null,null,null,"6.9.19",null,"22.8.19","25.8.19","25.8.19","21.8.19","5.9.19",null,null,null,null,null,"21.8.19","5.9.19",null,null,null,null,null,null,null,"22.8.19","25.8.19","25.8.19","25.8.19","25.8.19","25.8.19","25.8.19"]
["Smith Robert",null,"C",null,null,null,null,"19.11.18",null,null,null,"6.9.19",null,"22.8.19","25.8.19","25.8.19","21.8.19","5.9.19",null,null,null,null,null,"21.8.19","5.9.19",null,null,null,null,null,null,null,"22.8.19","25.8.19","25.8.19","25.8.19","25.8.19","25.8.19","25.8.19"]
["Smith Wayne",null,"CE",null,null,null,"25.01.19","25.01.19",null,null,null,"6.9.19",null,"22.8.19","25.8.19","25.8.19","11.9.19","5.9.19",null,null,null,null,null,"21.8.19","5.9.19",null,null,null,null,null,null,null,"22.8.19","25.8.19","25.8.19","25.8.19","25.8.19","25.8.19","25.8.19"]
["Thomas Ifor",null,"CE",null,null,null,null,null,null,null,null,"6.9.19",null,"22.8.19","25.8.19","25.8.19","4.9.19","5.9.19",null,null,null,null,null,"21.8.19","5.9.19",null,null,null,null,null,null,null,"22.8.19","25.8.19","25.8.19","25.8.19","25.8.19","25.8.19","25.8.19"]
["Thresher Jason",null,"C",null,null,null,null,null,null,null,null,"6.9.19",null,"22.8.19","25.8.19","25.8.19","3.9.19","5.9.19",null,null,null,null,null,"21.8.19","5.9.19",null,null,null,null,null,null,null,"22.8.19","25.8.19","25.8.19","25.8.19","25.8.19","25.8.19","25.8.19"]
["Townsend Jonathan",null,"CE",null,null,null,"06.03.19","06.03.19",null,null,null,"6.9.19",null,"22.8.19","25.8.19","25.8.19","22.8.19","5.9.19",null,null,null,null,null,"21.8.19","5.9.19",null,null,null,null,null,null,null,"22.8.19","25.8.19","25.8.19","25.8.19","25.8.19","25.8.19","25.8.19"]
["Trow Mike",null,"CE",null,null,null,null,null,null,null,null,"6.9.19",null,"22.8.19","25.8.19","25.8.19",null,"5.9.19",null,null,null,null,null,"21.8.19","5.9.19",null,null,null,null,null,null,null,"22.8.19","25.8.19","25.8.19","25.8.19","25.8.19","25.8.19","25.8.19"]
["Tutt Steven",null,"CE",null,null,null,null,null,null,null,null,"6.9.19",null,"25.08.19","25.8.19","25.8.19","21.8.19","5.9.19",null,null,null,null,null,"21.8.19","5.9.19",null,null,null,null,null,null,null,"25.08.19","25.8.19","25.8.19","25.8.19","25.8.19","25.8.19","25.8.19"]
["Underwood Danny",null,"C",null,null,null,null,null,null,null,null,"6.9.19",null,"22.8.19","25.8.19","25.8.19","3.9.19","5.9.19",null,null,null,null,null,"21.8.19","5.9.19",null,null,null,null,null,null,null,"22.8.19","25.8.19","25.8.19","25.8.19","25.8.19","25.8.19","25.8.19"]
["Underwood Robert",null,"C",null,null,null,null,"11.04.17",null,null,null,"6.9.19",null,"22.8.19","25.8.19","25.8.19","5.9.19","5.9.19",null,null,null,null,null,"21.8.19","5.9.19",null,null,null,null,null,null,null,"22.8.19","25.8.19","25.8.19","25.8.19","25.8.19","25.8.19","25.8.19"]
["Veron Gary",null,"C",null,null,null,null,null,null,null,null,"6.9.19",null,"22.8.19","25.8.19","25.8.19",null,"5.9.19",null,null,null,null,null,"21.8.19","5.9.19",null,null,null,null,null,null,null,"22.8.19","25.8.19","25.8.19","25.8.19","25.8.19","25.8.19","25.8.19"]
["Whitlam Alan",null,"C",null,null,null,null,null,null,null,null,"6.9.19",null,"22.8.19","25.8.19","25.8.19",null,"5.9.19",null,null,null,null,null,"21.8.19","5.9.19",null,null,null,null,null,null,null,"22.8.19","25.8.19","25.8.19","25.8.19","25.8.19","25.8.19","25.8.19"]
["Whitmore Daniel",null,"C",null,null,null,"02.04.19","02.04.19",null,null,null,"6.9.19",null,"22.8.19","25.8.19","25.8.19","21.8.19","5.9.19",null,null,null,null,null,"21.8.19","5.9.19",null,null,null,null,null,null,null,"22.8.19","25.8.19","25.8.19","25.8.19","25.8.19","25.8.19","25.8.19"]
["Wilson Tom",null,"CE",null,null,null,null,"18.01.19",null,null,null,"6.9.19",null,"22.8.19","25.8.19","25.8.19","21.8.19","5.9.19",null,null,null,null,null,"21.8.19","5.9.19",null,null,null,null,null,null,null,"22.8.19","25.8.19","25.8.19","25.8.19","25.8.19","25.8.19","25.8.19"]
["Wragg Nick",null,"C",null,null,null,"13.03.19","13.03.19",null,null,null,null,null,"22.8.19","25.8.19","25.8.19","22.8.19",null,null,null,null,null,null,"21.8.19",null,null,null,null,null,null,null,null,"22.8.19","25.8.19","25.8.19","25.8.19","25.8.19","25.8.19","25.8.19"]
["Zarans Kaspars",null,"C",null,null,null,null,null,null,null,null,"6.9.19",null,"22.8.19","25.8.19","25.8.19","22.8.19","5.9.19",null,null,null,null,null,"21.8.19","5.9.19",null,null,null,null,null,null,null,"22.8.19","25.8.19","25.8.19","25.8.19","25.8.19","25.8.19","25.8.19"]
["Ziemele Inga",null,"CE",null,null,null,null,"26.11.18",null,null,null,"6.9.19",null,"22.8.19","25.8.19","25.8.19","22.8.19","5.9.19",null,null,null,null,null,"21.8.19","5.9.19",null,null,null,null,null,null,null,"22.8.19","25.8.19","25.8.19","25.8.19","25.8.19","25.8.19","25.8.19"]

{"sheet":"Adcock Paul","index":1,"n_rows":52,"n_cols":2,"rows_kept":52,"cut":false,"hidden":false,"merged":[]}
["Driver Name","Completed / Issued"]
[{"$f":"'TRAINING MATRIX'!A3","v":"Adcock Paul"},{"$f":"'TRAINING MATRIX'!C3","v":"C"}]
[{"$f":"'TRAINING MATRIX'!B$3","v":0}]
[{"$f":"'TRAINING MATRIX'!D2","v":0},{"$f":"'TRAINING MATRIX'!D$3","v":0}]
[{"$f":"'TRAINING MATRIX'!E2","v":0},{"$f":"'TRAINING MATRIX'!E$3","v":0}]
[{"$f":"'TRAINING MATRIX'!F2","v":0},{"$f":"'TRAINING MATRIX'!F$3","v":0}]
[{"$f":"'TRAINING MATRIX'!G2","v":"Assessed"},{"$f":"'TRAINING MATRIX'!G$3","v":0}]
[{"$f":"'TRAINING MATRIX'!H2","v":"Driver induction"},{"$f":"'TRAINING MATRIX'!H$3","v":"24.10.17"}]
[{"$f":"'TRAINING MATRIX'!I2","v":"Highway Code via KT"},{"$f":"'TRAINING MATRIX'!I$3","v":0}]
[{"$f":"'TRAINING MATRIX'!J2","v":"Drivers Code of Conduct"},{"$f":"'TRAINING MATRIX'!J$3","v":0}]
[{"$f":"'TRAINING MATRIX'!K2","v":"Smoking Policy"},{"$f":"'TRAINING MATRIX'!K$3","v":0}]
[{"$f":"'TRAINING MATRIX'!L2","v":"Mobile Communication Policy"},{"$f":"'TRAINING MATRIX'!L$3","v":"6.9.19"}]
[{"$f":"'TRAINING MATRIX'!N2","v":"Transport Charges & Fines Policy"},{"$f":"'TRAINING MATRIX'!N$3","v":"22.8.19"}]
[{"$f":"'TRAINING MATRIX'!M2","v":"Using Sat Nav"},{"$f":"'TRAINING MATRIX'!M$3","v":0}]
[{"$f":"'TRAINING MATRIX'!O2","v":"Goods Vehicle and Safety Policy"},{"$f":"'TRAINING MATRIX'!O$3","v":"25.8.19"}]
[{"$f":"'TRAINING MATRIX'!P2","v":"Safe Loading Policy"},{"$f":"'TRAINING MATRIX'!P$3","v":"25.8.19"}]
[{"$f":"'TRAINING MATRIX'!Q2","v":"Eye Sight Check"},{"$f":"'TRAINING MATRIX'!Q$3","v":"21.8.19"}]
[{"$f":"'TRAINING MATRIX'!R2","v":"Use of Tail lifts"},{"$f":"'TRAINING MATRIX'!R$3","v":"5.9.19"}]
[{"$f":"'TRAINING MATRIX'!S2","v":"CPC Periodic Training Module"},{"$f":"'TRAINING MATRIX'!S$3","v":0}]
[{"$f":"'TRAINING MATRIX'!T2","v":"CPC Periodic Training Module"},{"$f":"'TRAINING MATRIX'!T$3","v":0}]
[{"$f":"'TRAINING MATRIX'!U2","v":"CPC Periodic Training Module"},{"$f":"'TRAINING MATRIX'!U$3","v":0}]
[{"$f":"'TRAINING MATRIX'!V2","v":"CPC Periodic Training Module"},{"$f":"'TRAINING MATRIX'!V$3","v":0}]
[{"$f":"'TRAINING MATRIX'!W2","v":"CPC Periodic Training Module"},{"$f":"'TRAINING MATRIX'!W$3","v":0}]
[{"$f":"'TRAINING MATRIX'!X2","v":"FORS Security and Counter-Terrorism"},{"$f":"'TRAINING MATRIX'!X$3","v":"21.8.19"}]
[{"$f":"'TRAINING MATRIX'!Y2","v":"FORS BridgeSmart"},{"$f":"'TRAINING MATRIX'!Y$3","v":"5.9.19"}]
[{"$f":"'TRAINING MATRIX'!D2","v":0},{"$f":"'TRAINING MATRIX'!Z$3","v":0}]
[{"$f":"'TRAINING MATRIX'!AA2","v":"FORS LoCity"},{"$f":"'TRAINING MATRIX'!AA$3","v":0}]
[{"$f":"'TRAINING MATRIX'!AB2","v":"FORS SmartDeliveries"},{"$f":"'TRAINING MATRIX'!AB$3","v":0}]
[{"$f":"'TRAINING MATRIX'!AD2","v":"ADR Awareness"},{"$f":"'TRAINING MATRIX'!AC$3","v":0}]
[{"$f":"'TRAINING MATRIX'!AE2","v":"ADR (Core, Packages and All Classes ex 7 & 9)"},{"$f":"'TRAINING MATRIX'!AD$3","v":0}]
[{"$f":"'TRAINING MATRIX'!AF2","v":0},{"$f":"'TRAINING MATRIX'!AE$3","v":0}]
[{"$f":"'TRAINING MATRIX'!AF2","v":0},{"$f":"'TRAINING MATRIX'!AF$3","v":0}]
[{"$f":"'TRAINING MATRIX'!AG2","v":"TTB Climbing On & Off Vehicles"},{"$f":"'TRAINING MATRIX'!AG$3","v":"22.8.19"}]
[{"$f":"'TRAINING MATRIX'!AH2","v":"TTB Climbing On & Off Trailers & Load Decks"},{"$f":"'TRAINING MATRIX'!AH$3","v":"25.8.19"}]
[{"$f":"'TRAINING MATRIX'!AI2","v":"TTB Jumping To a Lifetime of Pain"},{"$f":"'TRAINING MATRIX'!AI$3","v":"25.8.19"}]
[{"$f":"'TRAINING MATRIX'!AJ2","v":"TTB Dealing With Cyclists"},{"$f":"'TRAINING MATRIX'!AJ$3","v":"25.8.19"}]
[{"$f":"'TRAINING MATRIX'!AK2","v":"TTB Fitness to Drive"},{"$f":"'TRAINING MATRIX'!AK$3","v":"25.8.19"}]
[{"$f":"'TRAINING MATRIX'!AL2","v":"TTB Loading & Unloading"},{"$f":"'TRAINING MATRIX'!AL$3","v":"25.8.19"}]
[{"$f":"'TRAINING MATRIX'!AM2","v":"TTB Protecting Vulnerable Road Users"},{"$f":"'TRAINING MATRIX'!AM$3","v":"25.8.19"}]
[{"$f":"'TRAINING MATRIX'!AN2","v":0},{"$f":"'TRAINING MATRIX'!AN$3","v":0}]
[{"$f":"'TRAINING MATRIX'!AO2","v":"SSOW Coupling and Uncoupling"},{"$f":"'TRAINING MATRIX'!AO$3","v":0}]
[{"$f":"'TRAINING MATRIX'!AP2","v":"SSOW Scanning Shed"},{"$f":"'TRAINING MATRIX'!AP$3","v":0}]
[{"$f":"'TRAINING MATRIX'!AQ2","v":"SWP Drivers Walkaround Checks"},{"$f":"'TRAINING MATRIX'!AQ$3","v":0}]
[{"$f":"'TRAINING MATRIX'!AR2","v":0},{"$f":"'TRAINING MATRIX'!AR$3","v":0}]
[{"$f":"'TRAINING MATRIX'!AS2","v":0},{"$f":"'TRAINING MATRIX'!AS$3","v":0}]
[{"$f":"'TRAINING MATRIX'!AT2","v":0},{"$f":"'TRAINING MATRIX'!AT$3","v":0}]
[{"$f":"'TRAINING MATRIX'!AU2","v":0},{"$f":"'TRAINING MATRIX'!AU$3","v":0}]
[{"$f":"'TRAINING MATRIX'!AV2","v":0},{"$f":"'TRAINING MATRIX'!AV$3","v":0}]
[{"$f":"'TRAINING MATRIX'!AW2","v":0},{"$f":"'TRAINING MATRIX'!AW$3","v":0}]
[{"$f":"'TRAINING MATRIX'!AX2","v":0},{"$f":"'TRAINING MATRIX'!AX$3","v":0}]
[{"$f":"'TRAINING MATRIX'!AY2","v":0},{"$f":"'TRAINING MATRIX'!AY$3","v":0}]
[{"$f":"'TRAINING MATRIX'!AZ2","v":0},{"$f":"'TRAINING MATRIX'!AZ$3","v":0}]

{"sheet":"Atkins Lara","index":2,"n_rows":52,"n_cols":2,"rows_kept":52,"cut":false,"hidden":false,"merged":[]}
["Driver Name","Completed / Issued"]
[{"$f":"'TRAINING MATRIX'!A4","v":"Atkins Lara"},{"$f":"'TRAINING MATRIX'!C4","v":"CE"}]
[{"$f":"'TRAINING MATRIX'!B$4","v":0}]
[{"$f":"'TRAINING MATRIX'!D2","v":0},{"$f":"'TRAINING MATRIX'!D$4","v":0}]
[{"$f":"'TRAINING MATRIX'!E2","v":0},{"$f":"'TRAINING MATRIX'!E$4","v":0}]
[{"$f":"'TRAINING MATRIX'!F2","v":0},{"$f":"'TRAINING MATRIX'!F$4","v":0}]
[{"$f":"'TRAINING MATRIX'!G2","v":"Assessed"},{"$f":"'TRAINING MATRIX'!G$4","v":"26.04.19"}]
[{"$f":"'TRAINING MATRIX'!H2","v":"Driver induction"},{"$f":"'TRAINING MATRIX'!H$4","v":"26.04.19"}]
[{"$f":"'TRAINING MATRIX'!I2","v":"Highway Code via KT"},{"$f":"'TRAINING MATRIX'!I$4","v":0}]
[{"$f":"'TRAINING MATRIX'!J2","v":"Drivers Code of Conduct"},{"$f":"'TRAINING MATRIX'!J$4","v":0}]
[{"$f":"'TRAINING MATRIX'!K2","v":"Smoking Policy"},{"$f":"'TRAINING MATRIX'!K$4","v":0}]
[{"$f":"'TRAINING MATRIX'!L2","v":"Mobile Communication Policy"},{"$f":"'TRAINING MATRIX'!L$4","v":"6.9.19"}]
[{"$f":"'TRAINING MATRIX'!N2","v":"Transport Charges & Fines Policy"},{"$f":"'TRAINING MATRIX'!N$4","v":"22.8.19"}]
[{"$f":"'TRAINING MATRIX'!M2","v":"Using Sat Nav"},{"$f":"'TRAINING MATRIX'!M$4","v":0}]
[{"$f":"'TRAINING MATRIX'!O2","v":"Goods Vehicle and Safety Policy"},{"$f":"'TRAINING MATRIX'!O$4","v":"25.8.19"}]
[{"$f":"'TRAINING MATRIX'!P2","v":"Safe Loading Policy"},{"$f":"'TRAINING MATRIX'!P$4","v":"25.8.19"}]
[{"$f":"'TRAINING MATRIX'!Q2","v":"Eye Sight Check"},{"$f":"'TRAINING MATRIX'!Q$4","v":"21.8.19"}]
[{"$f":"'TRAINING MATRIX'!R2","v":"Use of Tail lifts"},{"$f":"'TRAINING MATRIX'!R$4","v":"5.9.19"}]
[{"$f":"'TRAINING MATRIX'!S2","v":"CPC Periodic Training Module"},{"$f":"'TRAINING MATRIX'!S$4","v":0}]
[{"$f":"'TRAINING MATRIX'!T2","v":"CPC Periodic Training Module"},{"$f":"'TRAINING MATRIX'!T$4","v":0}]
[{"$f":"'TRAINING MATRIX'!U2","v":"CPC Periodic Training Module"},{"$f":"'TRAINING MATRIX'!U$4","v":0}]
[{"$f":"'TRAINING MATRIX'!V2","v":"CPC Periodic Training Module"},{"$f":"'TRAINING MATRIX'!V$4","v":0}]
[{"$f":"'TRAINING MATRIX'!W2","v":"CPC Periodic Training Module"},{"$f":"'TRAINING MATRIX'!W$4","v":0}]
[{"$f":"'TRAINING MATRIX'!X2","v":"FORS Security and Counter-Terrorism"},{"$f":"'TRAINING MATRIX'!X$4","v":"21.8.19"}]
[{"$f":"'TRAINING MATRIX'!Y2","v":"FORS BridgeSmart"},{"$f":"'TRAINING MATRIX'!Y$4","v":"5.9.19"}]
[{"$f":"'TRAINING MATRIX'!D2","v":0},{"$f":"'TRAINING MATRIX'!Z$4","v":0}]
[{"$f":"'TRAINING MATRIX'!AA2","v":"FORS LoCity"},{"$f":"'TRAINING MATRIX'!AA$4","v":0}]
[{"$f":"'TRAINING MATRIX'!AB2","v":"FORS SmartDeliveries"},{"$f":"'TRAINING MATRIX'!AB$4","v":0}]
[{"$f":"'TRAINING MATRIX'!AD2","v":"ADR Awareness"},{"$f":"'TRAINING MATRIX'!AC$4","v":0}]
[{"$f":"'TRAINING MATRIX'!AE2","v":"ADR (Core, Packages and All Classes ex 7 & 9)"},{"$f":"'TRAINING MATRIX'!AD$4","v":0}]
[{"$f":"'TRAINING MATRIX'!AF2","v":0},{"$f":"'TRAINING MATRIX'!AE$4","v":0}]
[{"$f":"'TRAINING MATRIX'!AF2","v":0},{"$f":"'TRAINING MATRIX'!AF$4","v":0}]
[{"$f":"'TRAINING MATRIX'!AG2","v":"TTB Climbing On & Off Vehicles"},{"$f":"'TRAINING MATRIX'!AG$4","v":"22.8.19"}]
[{"$f":"'TRAINING MATRIX'!AH2","v":"TTB Climbing On & Off Trailers & Load Decks"},{"$f":"'TRAINING MATRIX'!AH$4","v":"25.8.19"}]
[{"$f":"'TRAINING MATRIX'!AI2","v":"TTB Jumping To a Lifetime of Pain"},{"$f":"'TRAINING MATRIX'!AI$4","v":"25.8.19"}]
[{"$f":"'TRAINING MATRIX'!AJ2","v":"TTB Dealing With Cyclists"},{"$f":"'TRAINING MATRIX'!AJ$4","v":"25.8.19"}]
[{"$f":"'TRAINING MATRIX'!AK2","v":"TTB Fitness to Drive"},{"$f":"'TRAINING MATRIX'!AK$4","v":"25.8.19"}]
[{"$f":"'TRAINING MATRIX'!AL2","v":"TTB Loading & Unloading"},{"$f":"'TRAINING MATRIX'!AL$4","v":"25.8.19"}]
[{"$f":"'TRAINING MATRIX'!AM2","v":"TTB Protecting Vulnerable Road Users"},{"$f":"'TRAINING MATRIX'!AM$4","v":"25.8.19"}]
[{"$f":"'TRAINING MATRIX'!AN2","v":0},{"$f":"'TRAINING MATRIX'!AN$4","v":0}]
[{"$f":"'TRAINING MATRIX'!AO2","v":"SSOW Coupling and Uncoupling"},{"$f":"'TRAINING MATRIX'!AO$4","v":0}]
[{"$f":"'TRAINING MATRIX'!AP2","v":"SSOW Scanning Shed"},{"$f":"'TRAINING MATRIX'!AP$4","v":0}]
[{"$f":"'TRAINING MATRIX'!AQ2","v":"SWP Drivers Walkaround Checks"},{"$f":"'TRAINING MATRIX'!AQ$4","v":0}]
[{"$f":"'TRAINING MATRIX'!AR2","v":0},{"$f":"'TRAINING MATRIX'!AR$4","v":0}]
[{"$f":"'TRAINING MATRIX'!AS2","v":0},{"$f":"'TRAINING MATRIX'!AS$4","v":0}]
[{"$f":"'TRAINING MATRIX'!AT2","v":0},{"$f":"'TRAINING MATRIX'!AT$4","v":0}]
[{"$f":"'TRAINING MATRIX'!AU2","v":0},{"$f":"'TRAINING MATRIX'!AU$4","v":0}]
[{"$f":"'TRAINING MATRIX'!AV2","v":0},{"$f":"'TRAINING MATRIX'!AV$4","v":0}]
[{"$f":"'TRAINING MATRIX'!AW2","v":0},{"$f":"'TRAINING MATRIX'!AW$4","v":0}]
[{"$f":"'TRAINING MATRIX'!AX2","v":0},{"$f":"'TRAINING MATRIX'!AX$4","v":0}]
[{"$f":"'TRAINING MATRIX'!AY2","v":0},{"$f":"'TRAINING MATRIX'!AY$4","v":0}]
[{"$f":"'TRAINING MATRIX'!AZ2","v":0},{"$f":"'TRAINING MATRIX'!AZ$4","v":0}]

{"sheet":"Baker Simon","index":3,"n_rows":52,"n_cols":2,"rows_kept":52,"cut":false,"hidden":false,"merged":[]}
["Driver Name","Completed / Issued"]
[{"$f":"'TRAINING MATRIX'!A5","v":"Baker Simon"},{"$f":"'TRAINING MATRIX'!C5","v":"CE"}]
[{"$f":"'TRAINING MATRIX'!B$5","v":0}]
[{"$f":"'TRAINING MATRIX'!D2","v":0},{"$f":"'TRAINING MATRIX'!D$5","v":0}]
[{"$f":"'TRAINING MATRIX'!E2","v":0},{"$f":"'TRAINING MATRIX'!E$5","v":0}]
[{"$f":"'TRAINING MATRIX'!F2","v":0},{"$f":"'TRAINING MATRIX'!F$5","v":0}]
[{"$f":"'TRAINING MATRIX'!G2","v":"Assessed"},{"$f":"'TRAINING MATRIX'!G$5","v":0}]
[{"$f":"'TRAINING MATRIX'!H2","v":"Driver induction"},{"$f":"'TRAINING MATRIX'!H$5","v":"06.11.17"}]
[{"$f":"'TRAINING MATRIX'!I2","v":"Highway Code via KT"},{"$f":"'TRAINING MATRIX'!I$5","v":0}]
[{"$f":"'TRAINING MATRIX'!J2","v":"Drivers Code of Conduct"},{"$f":"'TRAINING MATRIX'!J$5","v":0}]
[{"$f":"'TRAINING MATRIX'!K2","v":"Smoking Policy"},{"$f":"'TRAINING MATRIX'!K$5","v":0}]
[{"$f":"'TRAINING MATRIX'!L2","v":"Mobile Communication Policy"},{"$f":"'TRAINING MATRIX'!L$5","v":"6.9.19"}]
[{"$f":"'TRAINING MATRIX'!N2","v":"Transport Charges & Fines Policy"},{"$f":"'TRAINING MATRIX'!N$5","v":"22.8.19"}]
[{"$f":"'TRAINING MATRIX'!M2","v":"Using Sat Nav"},{"$f":"'TRAINING MATRIX'!M$5","v":0}]
[{"$f":"'TRAINING MATRIX'!O2","v":"Goods Vehicle and Safety Policy"},{"$f":"'TRAINING MATRIX'!O$5","v":"25.8.19"}]
[{"$f":"'TRAINING MATRIX'!P2","v":"Safe Loading Policy"},{"$f":"'TRAINING MATRIX'!P$5","v":"25.8.19"}]
[{"$f":"'TRAINING MATRIX'!Q2","v":"Eye Sight Check"},{"$f":"'TRAINING MATRIX'!Q$5","v":"21.8.19"}]
[{"$f":"'TRAINING MATRIX'!R2","v":"Use of Tail lifts"},{"$f":"'TRAINING MATRIX'!X$5","v":"21.8.19"}]
[{"$f":"'TRAINING MATRIX'!S2","v":"CPC Periodic Training Module"},{"$f":"'TRAINING MATRIX'!Y$5","v":"5.9.19"}]
[{"$f":"'TRAINING MATRIX'!T2","v":"CPC Periodic Training Module"},{"$f":"'TRAINING MATRIX'!Z$5","v":0}]
[{"$f":"'TRAINING MATRIX'!U2","v":"CPC Periodic Training Module"},{"$f":"'TRAINING MATRIX'!AA$5","v":0}]
[{"$f":"'TRAINING MATRIX'!V2","v":"CPC Periodic Training Module"},{"$f":"'TRAINING MATRIX'!AB$5","v":0}]
[{"$f":"'TRAINING MATRIX'!W2","v":"CPC Periodic Training Module"},{"$f":"'TRAINING MATRIX'!AC$5","v":0}]
[{"$f":"'TRAINING MATRIX'!X2","v":"FORS Security and Counter-Terrorism"},{"$f":"'TRAINING MATRIX'!X$5","v":"21.8.19"}]
[{"$f":"'TRAINING MATRIX'!Y2","v":"FORS BridgeSmart"},{"$f":"'TRAINING MATRIX'!Y$5","v":"5.9.19"}]
[{"$f":"'TRAINING MATRIX'!D2","v":0},{"$f":"'TRAINING MATRIX'!Z$5","v":0}]
[{"$f":"'TRAINING MATRIX'!AA2","v":"FORS LoCity"},{"$f":"'TRAINING MATRIX'!AA$5","v":0}]
[{"$f":"'TRAINING MATRIX'!AB2","v":"FORS SmartDeliveries"},{"$f":"'TRAINING MATRIX'!AB$5","v":0}]
[{"$f":"'TRAINING MATRIX'!AD2","v":"ADR Awareness"},{"$f":"'TRAINING MATRIX'!AC$5","v":0}]
[{"$f":"'TRAINING MATRIX'!AE2","v":"ADR (Core, Packages and All Classes ex 7 & 9)"},{"$f":"'TRAINING MATRIX'!AD$5","v":0}]
[{"$f":"'TRAINING MATRIX'!AF2","v":0},{"$f":"'TRAINING MATRIX'!AE$5","v":0}]
[{"$f":"'TRAINING MATRIX'!AF2","v":0},{"$f":"'TRAINING MATRIX'!AF$5","v":0}]
[{"$f":"'TRAINING MATRIX'!AG2","v":"TTB Climbing On & Off Vehicles"},{"$f":"'TRAINING MATRIX'!AG$5","v":"22.8.19"}]
[{"$f":"'TRAINING MATRIX'!AH2","v":"TTB Climbing On & Off Trailers & Load Decks"},{"$f":"'TRAINING MATRIX'!AH$5","v":"25.8.19"}]
[{"$f":"'TRAINING MATRIX'!AI2","v":"TTB Jumping To a Lifetime of Pain"},{"$f":"'TRAINING MATRIX'!AI$5","v":"25.8.19"}]
[{"$f":"'TRAINING MATRIX'!AJ2","v":"TTB Dealing With Cyclists"},{"$f":"'TRAINING MATRIX'!AJ$5","v":"25.8.19"}]
[{"$f":"'TRAINING MATRIX'!AK2","v":"TTB Fitness to Drive"},{"$f":"'TRAINING MATRIX'!AK$5","v":"25.8.19"}]
[{"$f":"'TRAINING MATRIX'!AL2","v":"TTB Loading & Unloading"},{"$f":"'TRAINING MATRIX'!AL$5","v":"25.8.19"}]
[{"$f":"'TRAINING MATRIX'!AM2","v":"TTB Protecting Vulnerable Road Users"},{"$f":"'TRAINING MATRIX'!AM$5","v":"25.8.19"}]
[{"$f":"'TRAINING MATRIX'!AN2","v":0},{"$f":"'TRAINING MATRIX'!AN$5","v":0}]
[{"$f":"'TRAINING MATRIX'!AO2","v":"SSOW Coupling and Uncoupling"},{"$f":"'TRAINING MATRIX'!AO$5","v":0}]
[{"$f":"'TRAINING MATRIX'!AP2","v":"SSOW Scanning Shed"},{"$f":"'TRAINING MATRIX'!AP$5","v":0}]
[{"$f":"'TRAINING MATRIX'!AQ2","v":"SWP Drivers Walkaround Checks"},{"$f":"'TRAINING MATRIX'!AQ$5","v":0}]
[{"$f":"'TRAINING MATRIX'!AR2","v":0},{"$f":"'TRAINING MATRIX'!AR$5","v":0}]
[{"$f":"'TRAINING MATRIX'!AS2","v":0},{"$f":"'TRAINING MATRIX'!AS$5","v":0}]
[{"$f":"'TRAINING MATRIX'!AT2","v":0},{"$f":"'TRAINING MATRIX'!AT$5","v":0}]
[{"$f":"'TRAINING MATRIX'!AU2","v":0},{"$f":"'TRAINING MATRIX'!AU$5","v":0}]
[{"$f":"'TRAINING MATRIX'!AV2","v":0},{"$f":"'TRAINING MATRIX'!AV$5","v":0}]
[{"$f":"'TRAINING MATRIX'!AW2","v":0},{"$f":"'TRAINING MATRIX'!AW$5","v":0}]
[{"$f":"'TRAINING MATRIX'!AX2","v":0},{"$f":"'TRAINING MATRIX'!AX$5","v":0}]
[{"$f":"'TRAINING MATRIX'!AY2","v":0},{"$f":"'TRAINING MATRIX'!AY$5","v":0}]
[{"$f":"'TRAINING MATRIX'!AZ2","v":0},{"$f":"'TRAINING MATRIX'!AZ$5","v":0}]

{"sheet":"Bartlam Jason","index":4,"n_rows":31,"n_cols":4,"rows_kept":31,"cut":false,"hidden":true,"merged":[]}
[" TRAINING","DRIVER NAME","TRAINING COMPLETED","EMP No"]
[]
["NOTIFICATION OF PROSECUTION"]
["REVERSING ONTO LOADING BAYS"]
["TRAILER COUPLING"]
["DEFECT REPORTING"]
["HEIGHT CHANGE OVER PROCEDURE"]
["PRE USE TRAINING ON DAILY CHECKS"]
["SUPERVISORY ON DAILY CHECKS"]
["ENVIRONMENTAL DRIVING"]
["VULNERABLE ROAD USERS"]
["MANOEUVRING"]
["SPEED AWARENESS"]
["DEALING WITH OTHER ROAD USERS"]
["TRAINING FOR BANKSMAN"]
["SAFE LOADING POLICY ISSUE RECORD"]
["MAKING TIGHT RIGHT TURNS"]
["MAKING LEFT TURNS"]
["DEALING WITH CYCLIST"]
["LOADING AND UNLOADING VEHICLES"]
["CLIMBING ON AND OFF TRAILERS AND LOAD DECKS"]
["SAFE LOADING SECURING YOUR LOAD "]
["FITNESS EYESIGHT CHECKS"]
["OVERWEIGHT PROCEDURE"]
["INFRINGEMENT TRAINING"]
["CLIMBING ON AND OFF VEHICLES"]
["USING MOBILE PHONES"]
["REVERSING INTO DOORWAYS"]
["REVERSING"]
["REVERSING INTO NARROW SPACES"]
["USING SATNAV"]

{"sheet":"Bayliss Darryl","index":5,"n_rows":52,"n_cols":2,"rows_kept":52,"cut":false,"hidden":false,"merged":[]}
["Driver Name","Completed / Issued"]
[{"$f":"'TRAINING MATRIX'!A6","v":"Bartlam Jason"},{"$f":"'TRAINING MATRIX'!C6","v":"C"}]
[{"$f":"'TRAINING MATRIX'!B$6","v":0}]
[{"$f":"'TRAINING MATRIX'!D2","v":0},{"$f":"'TRAINING MATRIX'!D$6","v":0}]
[{"$f":"'TRAINING MATRIX'!E2","v":0},{"$f":"'TRAINING MATRIX'!E$6","v":0}]
[{"$f":"'TRAINING MATRIX'!F2","v":0},{"$f":"'TRAINING MATRIX'!F$6","v":0}]
[{"$f":"'TRAINING MATRIX'!G2","v":"Assessed"},{"$f":"'TRAINING MATRIX'!G$6","v":0}]
[{"$f":"'TRAINING MATRIX'!H2","v":"Driver induction"},{"$f":"'TRAINING MATRIX'!H$6","v":"08.07.19"}]
[{"$f":"'TRAINING MATRIX'!I2","v":"Highway Code via KT"},{"$f":"'TRAINING MATRIX'!I$6","v":0}]
[{"$f":"'TRAINING MATRIX'!J2","v":"Drivers Code of Conduct"},{"$f":"'TRAINING MATRIX'!J$6","v":0}]
[{"$f":"'TRAINING MATRIX'!K2","v":"Smoking Policy"},{"$f":"'TRAINING MATRIX'!K$6","v":0}]
[{"$f":"'TRAINING MATRIX'!L2","v":"Mobile Communication Policy"},{"$f":"'TRAINING MATRIX'!L$6","v":"6.9.19"}]
[{"$f":"'TRAINING MATRIX'!N2","v":"Transport Charges & Fines Policy"},{"$f":"'TRAINING MATRIX'!N$6","v":"22.8.19"}]
[{"$f":"'TRAINING MATRIX'!M2","v":"Using Sat Nav"},{"$f":"'TRAINING MATRIX'!M$6","v":0}]
[{"$f":"'TRAINING MATRIX'!O2","v":"Goods Vehicle and Safety Policy"},{"$f":"'TRAINING MATRIX'!O$6","v":"25.8.19"}]
[{"$f":"'TRAINING MATRIX'!P2","v":"Safe Loading Policy"},{"$f":"'TRAINING MATRIX'!P$6","v":"25.8.19"}]
[{"$f":"'TRAINING MATRIX'!Q2","v":"Eye Sight Check"},{"$f":"'TRAINING MATRIX'!Q$6","v":"22.8.19"}]
[{"$f":"'TRAINING MATRIX'!R2","v":"Use of Tail lifts"},{"$f":"'TRAINING MATRIX'!X$6","v":"21.8.19"}]
[{"$f":"'TRAINING MATRIX'!S2","v":"CPC Periodic Training Module"},{"$f":"'TRAINING MATRIX'!Y$6","v":"5.9.19"}]
[{"$f":"'TRAINING MATRIX'!T2","v":"CPC Periodic Training Module"},{"$f":"'TRAINING MATRIX'!Z$6","v":0}]
[{"$f":"'TRAINING MATRIX'!U2","v":"CPC Periodic Training Module"},{"$f":"'TRAINING MATRIX'!AA$6","v":0}]
[{"$f":"'TRAINING MATRIX'!V2","v":"CPC Periodic Training Module"},{"$f":"'TRAINING MATRIX'!AB$6","v":0}]
[{"$f":"'TRAINING MATRIX'!W2","v":"CPC Periodic Training Module"},{"$f":"'TRAINING MATRIX'!AC$6","v":0}]
[{"$f":"'TRAINING MATRIX'!X2","v":"FORS Security and Counter-Terrorism"},{"$f":"'TRAINING MATRIX'!X$6","v":"21.8.19"}]
[{"$f":"'TRAINING MATRIX'!Y2","v":"FORS BridgeSmart"},{"$f":"'TRAINING MATRIX'!Y$6","v":"5.9.19"}]
[{"$f":"'TRAINING MATRIX'!D2","v":0},{"$f":"'TRAINING MATRIX'!Z$6","v":0}]
[{"$f":"'TRAINING MATRIX'!AA2","v":"FORS LoCity"},{"$f":"'TRAINING MATRIX'!AA$6","v":0}]
[{"$f":"'TRAINING MATRIX'!AB2","v":"FORS SmartDeliveries"},{"$f":"'TRAINING MATRIX'!AB$6","v":0}]
[{"$f":"'TRAINING MATRIX'!AD2","v":"ADR Awareness"},{"$f":"'TRAINING MATRIX'!AC$6","v":0}]
[{"$f":"'TRAINING MATRIX'!AE2","v":"ADR (Core, Packages and All Classes ex 7 & 9)"},{"$f":"'TRAINING MATRIX'!AD$6","v":0}]
[{"$f":"'TRAINING MATRIX'!AF2","v":0},{"$f":"'TRAINING MATRIX'!AE$6","v":0}]
[{"$f":"'TRAINING MATRIX'!AF2","v":0},{"$f":"'TRAINING MATRIX'!AF$6","v":0}]
[{"$f":"'TRAINING MATRIX'!AG2","v":"TTB Climbing On & Off Vehicles"},{"$f":"'TRAINING MATRIX'!AG$6","v":"22.8.19"}]
[{"$f":"'TRAINING MATRIX'!AH2","v":"TTB Climbing On & Off Trailers & Load Decks"},{"$f":"'TRAINING MATRIX'!AH$6","v":"25.8.19"}]
[{"$f":"'TRAINING MATRIX'!AI2","v":"TTB Jumping To a Lifetime of Pain"},{"$f":"'TRAINING MATRIX'!AI$6","v":"25.8.19"}]
[{"$f":"'TRAINING MATRIX'!AJ2","v":"TTB Dealing With Cyclists"},{"$f":"'TRAINING MATRIX'!AJ$6","v":"25.8.19"}]
[{"$f":"'TRAINING MATRIX'!AK2","v":"TTB Fitness to Drive"},{"$f":"'TRAINING MATRIX'!AK$6","v":"25.8.19"}]
[{"$f":"'TRAINING MATRIX'!AL2","v":"TTB Loading & Unloading"},{"$f":"'TRAINING MATRIX'!AL$6","v":"25.8.19"}]
[{"$f":"'TRAINING MATRIX'!AM2","v":"TTB Protecting Vulnerable Road Users"},{"$f":"'TRAINING MATRIX'!AM$6","v":"25.8.19"}]
[{"$f":"'TRAINING MATRIX'!AN2","v":0},{"$f":"'TRAINING MATRIX'!AN$6","v":0}]
[{"$f":"'TRAINING MATRIX'!AO2","v":"SSOW Coupling and Uncoupling"},{"$f":"'TRAINING MATRIX'!AO$6","v":0}]
[{"$f":"'TRAINING MATRIX'!AP2","v":"SSOW Scanning Shed"},{"$f":"'TRAINING MATRIX'!AP$6","v":0}]
[{"$f":"'TRAINING MATRIX'!AQ2","v":"SWP Drivers Walkaround Checks"},{"$f":"'TRAINING MATRIX'!AQ$6","v":0}]
[{"$f":"'TRAINING MATRIX'!AR2","v":0},{"$f":"'TRAINING MATRIX'!AR$6","v":0}]
[{"$f":"'TRAINING MATRIX'!AS2","v":0},{"$f":"'TRAINING MATRIX'!AS$6","v":0}]
[{"$f":"'TRAINING MATRIX'!AT2","v":0},{"$f":"'TRAINING MATRIX'!AT$6","v":0}]
[{"$f":"'TRAINING MATRIX'!AU2","v":0},{"$f":"'TRAINING MATRIX'!AU$6","v":0}]
[{"$f":"'TRAINING MATRIX'!AV2","v":0},{"$f":"'TRAINING MATRIX'!AV$6","v":0}]
[{"$f":"'TRAINING MATRIX'!AW2","v":0},{"$f":"'TRAINING MATRIX'!AW$6","v":0}]
[{"$f":"'TRAINING MATRIX'!AX2","v":0},{"$f":"'TRAINING MATRIX'!AX$6","v":0}]
[{"$f":"'TRAINING MATRIX'!AY2","v":0},{"$f":"'TRAINING MATRIX'!AY$6","v":0}]
[{"$f":"'TRAINING MATRIX'!AZ2","v":0},{"$f":"'TRAINING MATRIX'!AZ$6","v":0}]

{"sheet":"Beckett Rosemarie","index":6,"n_rows":52,"n_cols":2,"rows_kept":52,"cut":false,"hidden":false,"merged":[]}
["Driver Name","Completed / Issued"]
[{"$f":"'TRAINING MATRIX'!A7","v":"Bayliss Darryl"},{"$f":"'TRAINING MATRIX'!C7","v":"C"}]
[{"$f":"'TRAINING MATRIX'!B$7","v":0}]
[{"$f":"'TRAINING MATRIX'!D2","v":0},{"$f":"'TRAINING MATRIX'!D$7","v":0}]
[{"$f":"'TRAINING MATRIX'!E2","v":0},{"$f":"'TRAINING MATRIX'!E$7","v":0}]
[{"$f":"'TRAINING MATRIX'!F2","v":0},{"$f":"'TRAINING MATRIX'!F$7","v":0}]
[{"$f":"'TRAINING MATRIX'!G2","v":"Assessed"},{"$f":"'TRAINING MATRIX'!G$7","v":0}]
[{"$f":"'TRAINING MATRIX'!H2","v":"Driver induction"},{"$f":"'TRAINING MATRIX'!H$7","v":"15.11.04"}]
[{"$f":"'TRAINING MATRIX'!I2","v":"Highway Code via KT"},{"$f":"'TRAINING MATRIX'!I$7","v":0}]
[{"$f":"'TRAINING MATRIX'!J2","v":"Drivers Code of Conduct"},{"$f":"'TRAINING MATRIX'!J$7","v":0}]
[{"$f":"'TRAINING MATRIX'!K2","v":"Smoking Policy"},{"$f":"'TRAINING MATRIX'!K$7","v":0}]
[{"$f":"'TRAINING MATRIX'!L2","v":"Mobile Communication Policy"},{"$f":"'TRAINING MATRIX'!L$7","v":"6.9.19"}]
[{"$f":"'TRAINING MATRIX'!N2","v":"Transport Charges & Fines Policy"},{"$f":"'TRAINING MATRIX'!N$7","v":"22.8.19"}]
[{"$f":"'TRAINING MATRIX'!M2","v":"Using Sat Nav"},{"$f":"'TRAINING MATRIX'!M$7","v":0}]
[{"$f":"'TRAINING MATRIX'!O2","v":"Goods Vehicle and Safety Policy"},{"$f":"'TRAINING MATRIX'!O$7","v":"25.8.19"}]
[{"$f":"'TRAINING MATRIX'!P2","v":"Safe Loading Policy"},{"$f":"'TRAINING MATRIX'!P$7","v":"25.8.19"}]
[{"$f":"'TRAINING MATRIX'!Q2","v":"Eye Sight Check"},{"$f":"'TRAINING MATRIX'!Q$7","v":"21.8.19"}]
[{"$f":"'TRAINING MATRIX'!R2","v":"Use of Tail lifts"},{"$f":"'TRAINING MATRIX'!X$7","v":"21.8.19"}]
[{"$f":"'TRAINING MATRIX'!S2","v":"CPC Periodic Training Module"},{"$f":"'TRAINING MATRIX'!Y$7","v":"5.9.19"}]
[{"$f":"'TRAINING MATRIX'!T2","v":"CPC Periodic Training Module"},{"$f":"'TRAINING MATRIX'!Z$7","v":0}]
[{"$f":"'TRAINING MATRIX'!U2","v":"CPC Periodic Training Module"},{"$f":"'TRAINING MATRIX'!AA$7","v":0}]
[{"$f":"'TRAINING MATRIX'!V2","v":"CPC Periodic Training Module"},{"$f":"'TRAINING MATRIX'!AB$7","v":0}]
[{"$f":"'TRAINING MATRIX'!W2","v":"CPC Periodic Training Module"},{"$f":"'TRAINING MATRIX'!AC$7","v":0}]
[{"$f":"'TRAINING MATRIX'!X2","v":"FORS Security and Counter-Terrorism"},{"$f":"'TRAINING MATRIX'!X$7","v":"21.8.19"}]
[{"$f":"'TRAINING MATRIX'!Y2","v":"FORS BridgeSmart"},{"$f":"'TRAINING MATRIX'!Y$7","v":"5.9.19"}]
[{"$f":"'TRAINING MATRIX'!D2","v":0},{"$f":"'TRAINING MATRIX'!Z$7","v":0}]
[{"$f":"'TRAINING MATRIX'!AA2","v":"FORS LoCity"},{"$f":"'TRAINING MATRIX'!AA$7","v":0}]
[{"$f":"'TRAINING MATRIX'!AB2","v":"FORS SmartDeliveries"},{"$f":"'TRAINING MATRIX'!AB$7","v":0}]
[{"$f":"'TRAINING MATRIX'!AD2","v":"ADR Awareness"},{"$f":"'TRAINING MATRIX'!AC$7","v":0}]
[{"$f":"'TRAINING MATRIX'!AE2","v":"ADR (Core, Packages and All Classes ex 7 & 9)"},{"$f":"'TRAINING MATRIX'!AD$7","v":0}]
[{"$f":"'TRAINING MATRIX'!AF2","v":0},{"$f":"'TRAINING MATRIX'!AE$7","v":0}]
[{"$f":"'TRAINING MATRIX'!AF2","v":0},{"$f":"'TRAINING MATRIX'!AF$7","v":0}]
[{"$f":"'TRAINING MATRIX'!AG2","v":"TTB Climbing On & Off Vehicles"},{"$f":"'TRAINING MATRIX'!AG$7","v":"22.8.19"}]
[{"$f":"'TRAINING MATRIX'!AH2","v":"TTB Climbing On & Off Trailers & Load Decks"},{"$f":"'TRAINING MATRIX'!AH$7","v":"25.8.19"}]
[{"$f":"'TRAINING MATRIX'!AI2","v":"TTB Jumping To a Lifetime of Pain"},{"$f":"'TRAINING MATRIX'!AI$7","v":"25.8.19"}]
[{"$f":"'TRAINING MATRIX'!AJ2","v":"TTB Dealing With Cyclists"},{"$f":"'TRAINING MATRIX'!AJ$7","v":"25.8.19"}]
[{"$f":"'TRAINING MATRIX'!AK2","v":"TTB Fitness to Drive"},{"$f":"'TRAINING MATRIX'!AK$7","v":"25.8.19"}]
[{"$f":"'TRAINING MATRIX'!AL2","v":"TTB Loading & Unloading"},{"$f":"'TRAINING MATRIX'!AL$7","v":"25.8.19"}]
[{"$f":"'TRAINING MATRIX'!AM2","v":"TTB Protecting Vulnerable Road Users"},{"$f":"'TRAINING MATRIX'!AM$7","v":"25.8.19"}]
[{"$f":"'TRAINING MATRIX'!AN2","v":0},{"$f":"'TRAINING MATRIX'!AN$7","v":0}]
[{"$f":"'TRAINING MATRIX'!AO2","v":"SSOW Coupling and Uncoupling"},{"$f":"'TRAINING MATRIX'!AO$7","v":0}]
[{"$f":"'TRAINING MATRIX'!AP2","v":"SSOW Scanning Shed"},{"$f":"'TRAINING MATRIX'!AP$7","v":0}]
[{"$f":"'TRAINING MATRIX'!AQ2","v":"SWP Drivers Walkaround Checks"},{"$f":"'TRAINING MATRIX'!AQ$7","v":0}]
[{"$f":"'TRAINING MATRIX'!AR2","v":0},{"$f":"'TRAINING MATRIX'!AR$7","v":0}]
[{"$f":"'TRAINING MATRIX'!AS2","v":0},{"$f":"'TRAINING MATRIX'!AS$7","v":0}]
[{"$f":"'TRAINING MATRIX'!AT2","v":0},{"$f":"'TRAINING MATRIX'!AT$7","v":0}]
[{"$f":"'TRAINING MATRIX'!AU2","v":0},{"$f":"'TRAINING MATRIX'!AU$7","v":0}]
[{"$f":"'TRAINING MATRIX'!AV2","v":0},{"$f":"'TRAINING MATRIX'!AV$7","v":0}]
[{"$f":"'TRAINING MATRIX'!AW2","v":0},{"$f":"'TRAINING MATRIX'!AW$7","v":0}]
[{"$f":"'TRAINING MATRIX'!AX2","v":0},{"$f":"'TRAINING MATRIX'!AX$7","v":0}]
[{"$f":"'TRAINING MATRIX'!AY2","v":0},{"$f":"'TRAINING MATRIX'!AY$7","v":0}]
[{"$f":"'TRAINING MATRIX'!AZ2","v":0},{"$f":"'TRAINING MATRIX'!AZ$7","v":0}]

{"sheet":"Rosemarie Beckett","index":7,"n_rows":52,"n_cols":2,"rows_kept":52,"cut":false,"hidden":false,"merged":[]}
["Driver Name","Completed / Issued"]
[{"$f":"'TRAINING MATRIX'!A8","v":"Beckett Rosemarie"},{"$f":"'TRAINING MATRIX'!C8","v":"C1"}]
[{"$f":"'TRAINING MATRIX'!B$8","v":0}]
[{"$f":"'TRAINING MATRIX'!D2","v":0},{"$f":"'TRAINING MATRIX'!D$8","v":0}]
[{"$f":"'TRAINING MATRIX'!E2","v":0},{"$f":"'TRAINING MATRIX'!E$8","v":0}]
[{"$f":"'TRAINING MATRIX'!F2","v":0},{"$f":"'TRAINING MATRIX'!F$8","v":0}]
[{"$f":"'TRAINING MATRIX'!G2","v":"Assessed"},{"$f":"'TRAINING MATRIX'!G$8","v":0}]
[{"$f":"'TRAINING MATRIX'!H2","v":"Driver induction"},{"$f":"'TRAINING MATRIX'!H$8","v":"23.01.09"}]
[{"$f":"'TRAINING MATRIX'!I2","v":"Highway Code via KT"},{"$f":"'TRAINING MATRIX'!I$8","v":0}]
[{"$f":"'TRAINING MATRIX'!J2","v":"Drivers Code of Conduct"},{"$f":"'TRAINING MATRIX'!J$8","v":0}]
[{"$f":"'TRAINING MATRIX'!K2","v":"Smoking Policy"},{"$f":"'TRAINING MATRIX'!K$8","v":0}]
[{"$f":"'TRAINING MATRIX'!L2","v":"Mobile Communication Policy"},{"$f":"'TRAINING MATRIX'!L$8","v":"6.9.19"}]
[{"$f":"'TRAINING MATRIX'!N2","v":"Transport Charges & Fines Policy"},{"$f":"'TRAINING MATRIX'!N$8","v":"22.8.19"}]
[{"$f":"'TRAINING MATRIX'!M2","v":"Using Sat Nav"},{"$f":"'TRAINING MATRIX'!M$8","v":0}]
[{"$f":"'TRAINING MATRIX'!O2","v":"Goods Vehicle and Safety Policy"},{"$f":"'TRAINING MATRIX'!O$8","v":"25.8.19"}]
[{"$f":"'TRAINING MATRIX'!P2","v":"Safe Loading Policy"},{"$f":"'TRAINING MATRIX'!P$8","v":"25.8.19"}]
[{"$f":"'TRAINING MATRIX'!Q2","v":"Eye Sight Check"},{"$f":"'TRAINING MATRIX'!Q$8","v":"22.8.19"}]
[{"$f":"'TRAINING MATRIX'!R2","v":"Use of Tail lifts"},{"$f":"'TRAINING MATRIX'!X$8","v":"21.8.19"}]
[{"$f":"'TRAINING MATRIX'!S2","v":"CPC Periodic Training Module"},{"$f":"'TRAINING MATRIX'!Y$8","v":"5.9.19"}]
[{"$f":"'TRAINING MATRIX'!T2","v":"CPC Periodic Training Module"},{"$f":"'TRAINING MATRIX'!Z$8","v":0}]
[{"$f":"'TRAINING MATRIX'!U2","v":"CPC Periodic Training Module"},{"$f":"'TRAINING MATRIX'!AA$8","v":0}]
[{"$f":"'TRAINING MATRIX'!V2","v":"CPC Periodic Training Module"},{"$f":"'TRAINING MATRIX'!AB$8","v":0}]
[{"$f":"'TRAINING MATRIX'!W2","v":"CPC Periodic Training Module"},{"$f":"'TRAINING MATRIX'!AC$8","v":0}]
[{"$f":"'TRAINING MATRIX'!X2","v":"FORS Security and Counter-Terrorism"},{"$f":"'TRAINING MATRIX'!X$8","v":"21.8.19"}]
[{"$f":"'TRAINING MATRIX'!Y2","v":"FORS BridgeSmart"},{"$f":"'TRAINING MATRIX'!Y$8","v":"5.9.19"}]
[{"$f":"'TRAINING MATRIX'!D2","v":0},{"$f":"'TRAINING MATRIX'!Z$8","v":0}]
[{"$f":"'TRAINING MATRIX'!AA2","v":"FORS LoCity"},{"$f":"'TRAINING MATRIX'!AA$8","v":0}]
[{"$f":"'TRAINING MATRIX'!AB2","v":"FORS SmartDeliveries"},{"$f":"'TRAINING MATRIX'!AB$8","v":0}]
[{"$f":"'TRAINING MATRIX'!AD2","v":"ADR Awareness"},{"$f":"'TRAINING MATRIX'!AC$8","v":0}]
[{"$f":"'TRAINING MATRIX'!AE2","v":"ADR (Core, Packages and All Classes ex 7 & 9)"},{"$f":"'TRAINING MATRIX'!AD$8","v":0}]
[{"$f":"'TRAINING MATRIX'!AF2","v":0},{"$f":"'TRAINING MATRIX'!AE$8","v":0}]
[{"$f":"'TRAINING MATRIX'!AF2","v":0},{"$f":"'TRAINING MATRIX'!AF$8","v":0}]
[{"$f":"'TRAINING MATRIX'!AG2","v":"TTB Climbing On & Off Vehicles"},{"$f":"'TRAINING MATRIX'!AG$8","v":"22.8.19"}]
[{"$f":"'TRAINING MATRIX'!AH2","v":"TTB Climbing On & Off Trailers & Load Decks"},{"$f":"'TRAINING MATRIX'!AH$8","v":"25.8.19"}]
[{"$f":"'TRAINING MATRIX'!AI2","v":"TTB Jumping To a Lifetime of Pain"},{"$f":"'TRAINING MATRIX'!AI$8","v":"25.8.19"}]
[{"$f":"'TRAINING MATRIX'!AJ2","v":"TTB Dealing With Cyclists"},{"$f":"'TRAINING MATRIX'!AJ$8","v":"25.8.19"}]
[{"$f":"'TRAINING MATRIX'!AK2","v":"TTB Fitness to Drive"},{"$f":"'TRAINING MATRIX'!AK$8","v":"25.8.19"}]
[{"$f":"'TRAINING MATRIX'!AL2","v":"TTB Loading & Unloading"},{"$f":"'TRAINING MATRIX'!AL$8","v":"25.8.19"}]
[{"$f":"'TRAINING MATRIX'!AM2","v":"TTB Protecting Vulnerable Road Users"},{"$f":"'TRAINING MATRIX'!AM$8","v":"25.8.19"}]
[{"$f":"'TRAINING MATRIX'!AN2","v":0},{"$f":"'TRAINING MATRIX'!AN$8","v":0}]
[{"$f":"'TRAINING MATRIX'!AO2","v":"SSOW Coupling and Uncoupling"},{"$f":"'TRAINING MATRIX'!AO$8","v":0}]
[{"$f":"'TRAINING MATRIX'!AP2","v":"SSOW Scanning Shed"},{"$f":"'TRAINING MATRIX'!AP$8","v":0}]
[{"$f":"'TRAINING MATRIX'!AQ2","v":"SWP Drivers Walkaround Checks"},{"$f":"'TRAINING MATRIX'!AQ$8","v":0}]
[{"$f":"'TRAINING MATRIX'!AR2","v":0},{"$f":"'TRAINING MATRIX'!AR$8","v":0}]
[{"$f":"'TRAINING MATRIX'!AS2","v":0},{"$f":"'TRAINING MATRIX'!AS$8","v":0}]
[{"$f":"'TRAINING MATRIX'!AT2","v":0},{"$f":"'TRAINING MATRIX'!AT$8","v":0}]
[{"$f":"'TRAINING MATRIX'!AU2","v":0},{"$f":"'TRAINING MATRIX'!AU$8","v":0}]
[{"$f":"'TRAINING MATRIX'!AV2","v":0},{"$f":"'TRAINING MATRIX'!AV$8","v":0}]
[{"$f":"'TRAINING MATRIX'!AW2","v":0},{"$f":"'TRAINING MATRIX'!AW$8","v":0}]
[{"$f":"'TRAINING MATRIX'!AX2","v":0},{"$f":"'TRAINING MATRIX'!AX$8","v":0}]
[{"$f":"'TRAINING MATRIX'!AY2","v":0},{"$f":"'TRAINING MATRIX'!AY$8","v":0}]
[{"$f":"'TRAINING MATRIX'!AZ2","v":0},{"$f":"'TRAINING MATRIX'!AZ$8","v":0}]

{"sheet":"Stuart Berry","index":8,"n_rows":52,"n_cols":2,"rows_kept":52,"cut":false,"hidden":false,"merged":[]}
["Driver Name","Completed / Issued"]
[{"$f":"'TRAINING MATRIX'!A9","v":"Berry Stuart"},{"$f":"'TRAINING MATRIX'!C9","v":"C"}]
[{"$f":"'TRAINING MATRIX'!B$9","v":0}]
[{"$f":"'TRAINING MATRIX'!D2","v":0},{"$f":"'TRAINING MATRIX'!D$9","v":0}]
[{"$f":"'TRAINING MATRIX'!E2","v":0},{"$f":"'TRAINING MATRIX'!E$9","v":0}]
[{"$f":"'TRAINING MATRIX'!F2","v":0},{"$f":"'TRAINING MATRIX'!F$9","v":0}]
[{"$f":"'TRAINING MATRIX'!G2","v":"Assessed"},{"$f":"'TRAINING MATRIX'!G$9","v":0}]
[{"$f":"'TRAINING MATRIX'!H2","v":"Driver induction"},{"$f":"'TRAINING MATRIX'!H$9","v":"29.10.18"}]
[{"$f":"'TRAINING MATRIX'!I2","v":"Highway Code via KT"},{"$f":"'TRAINING MATRIX'!I$9","v":0}]
[{"$f":"'TRAINING MATRIX'!J2","v":"Drivers Code of Conduct"},{"$f":"'TRAINING MATRIX'!J$9","v":0}]
[{"$f":"'TRAINING MATRIX'!K2","v":"Smoking Policy"},{"$f":"'TRAINING MATRIX'!K$9","v":0}]
[{"$f":"'TRAINING MATRIX'!L2","v":"Mobile Communication Policy"},{"$f":"'TRAINING MATRIX'!L$9","v":"6.9.19"}]
[{"$f":"'TRAINING MATRIX'!N2","v":"Transport Charges & Fines Policy"},{"$f":"'TRAINING MATRIX'!N$9","v":"22.8.19"}]
[{"$f":"'TRAINING MATRIX'!M2","v":"Using Sat Nav"},{"$f":"'TRAINING MATRIX'!M$9","v":0}]
[{"$f":"'TRAINING MATRIX'!O2","v":"Goods Vehicle and Safety Policy"},{"$f":"'TRAINING MATRIX'!O$9","v":"25.8.19"}]
[{"$f":"'TRAINING MATRIX'!P2","v":"Safe Loading Policy"},{"$f":"'TRAINING MATRIX'!P$9","v":"25.8.19"}]
[{"$f":"'TRAINING MATRIX'!Q2","v":"Eye Sight Check"},{"$f":"'TRAINING MATRIX'!Q$9","v":"22.8.19"}]
[{"$f":"'TRAINING MATRIX'!R2","v":"Use of Tail lifts"},{"$f":"'TRAINING MATRIX'!X$9","v":"21.8.19"}]
[{"$f":"'TRAINING MATRIX'!S2","v":"CPC Periodic Training Module"},{"$f":"'TRAINING MATRIX'!Y$9","v":"5.9.19"}]
[{"$f":"'TRAINING MATRIX'!T2","v":"CPC Periodic Training Module"},{"$f":"'TRAINING MATRIX'!Z$9","v":0}]
[{"$f":"'TRAINING MATRIX'!U2","v":"CPC Periodic Training Module"},{"$f":"'TRAINING MATRIX'!AA$9","v":0}]
[{"$f":"'TRAINING MATRIX'!V2","v":"CPC Periodic Training Module"},{"$f":"'TRAINING MATRIX'!AB$9","v":0}]
[{"$f":"'TRAINING MATRIX'!W2","v":"CPC Periodic Training Module"},{"$f":"'TRAINING MATRIX'!AC$9","v":0}]
[{"$f":"'TRAINING MATRIX'!X2","v":"FORS Security and Counter-Terrorism"},{"$f":"'TRAINING MATRIX'!X$9","v":"21.8.19"}]
[{"$f":"'TRAINING MATRIX'!Y2","v":"FORS BridgeSmart"},{"$f":"'TRAINING MATRIX'!Y$9","v":"5.9.19"}]
[{"$f":"'TRAINING MATRIX'!D2","v":0},{"$f":"'TRAINING MATRIX'!Z$9","v":0}]
[{"$f":"'TRAINING MATRIX'!AA2","v":"FORS LoCity"},{"$f":"'TRAINING MATRIX'!AA$9","v":0}]
[{"$f":"'TRAINING MATRIX'!AB2","v":"FORS SmartDeliveries"},{"$f":"'TRAINING MATRIX'!AB$9","v":0}]
[{"$f":"'TRAINING MATRIX'!AD2","v":"ADR Awareness"},{"$f":"'TRAINING MATRIX'!AC$9","v":0}]
[{"$f":"'TRAINING MATRIX'!AE2","v":"ADR (Core, Packages and All Classes ex 7 & 9)"},{"$f":"'TRAINING MATRIX'!AD$9","v":0}]
[{"$f":"'TRAINING MATRIX'!AF2","v":0},{"$f":"'TRAINING MATRIX'!AE$9","v":0}]
[{"$f":"'TRAINING MATRIX'!AF2","v":0},{"$f":"'TRAINING MATRIX'!AF$9","v":0}]
[{"$f":"'TRAINING MATRIX'!AG2","v":"TTB Climbing On & Off Vehicles"},{"$f":"'TRAINING MATRIX'!AG$9","v":"22.8.19"}]
[{"$f":"'TRAINING MATRIX'!AH2","v":"TTB Climbing On & Off Trailers & Load Decks"},{"$f":"'TRAINING MATRIX'!AH$9","v":"25.8.19"}]
[{"$f":"'TRAINING MATRIX'!AI2","v":"TTB Jumping To a Lifetime of Pain"},{"$f":"'TRAINING MATRIX'!AI$9","v":"25.8.19"}]
[{"$f":"'TRAINING MATRIX'!AJ2","v":"TTB Dealing With Cyclists"},{"$f":"'TRAINING MATRIX'!AJ$9","v":"25.8.19"}]
[{"$f":"'TRAINING MATRIX'!AK2","v":"TTB Fitness to Drive"},{"$f":"'TRAINING MATRIX'!AK$9","v":"25.8.19"}]
[{"$f":"'TRAINING MATRIX'!AL2","v":"TTB Loading & Unloading"},{"$f":"'TRAINING MATRIX'!AL$9","v":"25.8.19"}]
[{"$f":"'TRAINING MATRIX'!AM2","v":"TTB Protecting Vulnerable Road Users"},{"$f":"'TRAINING MATRIX'!AM$9","v":"25.8.19"}]
[{"$f":"'TRAINING MATRIX'!AN2","v":0},{"$f":"'TRAINING MATRIX'!AN$9","v":0}]
[{"$f":"'TRAINING MATRIX'!AO2","v":"SSOW Coupling and Uncoupling"},{"$f":"'TRAINING MATRIX'!AO$9","v":0}]
[{"$f":"'TRAINING MATRIX'!AP2","v":"SSOW Scanning Shed"},{"$f":"'TRAINING MATRIX'!AP$9","v":0}]
[{"$f":"'TRAINING MATRIX'!AQ2","v":"SWP Drivers Walkaround Checks"},{"$f":"'TRAINING MATRIX'!AQ$9","v":0}]
[{"$f":"'TRAINING MATRIX'!AR2","v":0},{"$f":"'TRAINING MATRIX'!AR$9","v":0}]
[{"$f":"'TRAINING MATRIX'!AS2","v":0},{"$f":"'TRAINING MATRIX'!AS$9","v":0}]
[{"$f":"'TRAINING MATRIX'!AT2","v":0},{"$f":"'TRAINING MATRIX'!AT$9","v":0}]
[{"$f":"'TRAINING MATRIX'!AU2","v":0},{"$f":"'TRAINING MATRIX'!AU$9","v":0}]
[{"$f":"'TRAINING MATRIX'!AV2","v":0},{"$f":"'TRAINING MATRIX'!AV$9","v":0}]
[{"$f":"'TRAINING MATRIX'!AW2","v":0},{"$f":"'TRAINING MATRIX'!AW$9","v":0}]
[{"$f":"'TRAINING MATRIX'!AX2","v":0},{"$f":"'TRAINING MATRIX'!AX$9","v":0}]
[{"$f":"'TRAINING MATRIX'!AY2","v":0},{"$f":"'TRAINING MATRIX'!AY$9","v":0}]
[{"$f":"'TRAINING MATRIX'!AZ2","v":0},{"$f":"'TRAINING MATRIX'!AZ$9","v":0}]

{"sheet":"Darrell Bettoney","index":9,"n_rows":52,"n_cols":2,"rows_kept":52,"cut":false,"hidden":false,"merged":[]}
["Driver Name","Completed / Issued"]
[{"$f":"'TRAINING MATRIX'!A10","v":"Bettoney Darrell"},{"$f":"'TRAINING MATRIX'!C10","v":"C"}]
[{"$f":"'TRAINING MATRIX'!B$10","v":0}]
[{"$f":"'TRAINING MATRIX'!D2","v":0},{"$f":"'TRAINING MATRIX'!D$10","v":0}]
[{"$f":"'TRAINING MATRIX'!E2","v":0},{"$f":"'TRAINING MATRIX'!E$10","v":0}]
[{"$f":"'TRAINING MATRIX'!F2","v":0},{"$f":"'TRAINING MATRIX'!F$10","v":0}]
[{"$f":"'TRAINING MATRIX'!G2","v":"Assessed"},{"$f":"'TRAINING MATRIX'!G$10","v":"25.02.19"}]
[{"$f":"'TRAINING MATRIX'!H2","v":"Driver induction"},{"$f":"'TRAINING MATRIX'!H$10","v":"24.04.19"}]
[{"$f":"'TRAINING MATRIX'!I2","v":"Highway Code via KT"},{"$f":"'TRAINING MATRIX'!I$10","v":0}]
[{"$f":"'TRAINING MATRIX'!J2","v":"Drivers Code of Conduct"},{"$f":"'TRAINING MATRIX'!J$10","v":0}]
[{"$f":"'TRAINING MATRIX'!K2","v":"Smoking Policy"},{"$f":"'TRAINING MATRIX'!K$10","v":0}]
[{"$f":"'TRAINING MATRIX'!L2","v":"Mobile Communication Policy"},{"$f":"'TRAINING MATRIX'!L$10","v":"6.9.19"}]
[{"$f":"'TRAINING MATRIX'!N2","v":"Transport Charges & Fines Policy"},{"$f":"'TRAINING MATRIX'!N$10","v":"22.8.19"}]
[{"$f":"'TRAINING MATRIX'!M2","v":"Using Sat Nav"},{"$f":"'TRAINING MATRIX'!M$10","v":0}]
[{"$f":"'TRAINING MATRIX'!O2","v":"Goods Vehicle and Safety Policy"},{"$f":"'TRAINING MATRIX'!O$10","v":"25.8.19"}]
[{"$f":"'TRAINING MATRIX'!P2","v":"Safe Loading Policy"},{"$f":"'TRAINING MATRIX'!P$10","v":"25.8.19"}]
[{"$f":"'TRAINING MATRIX'!Q2","v":"Eye Sight Check"},{"$f":"'TRAINING MATRIX'!Q$10","v":"21.8.19"}]
[{"$f":"'TRAINING MATRIX'!R2","v":"Use of Tail lifts"},{"$f":"'TRAINING MATRIX'!X$10","v":"21.8.19"}]
[{"$f":"'TRAINING MATRIX'!S2","v":"CPC Periodic Training Module"},{"$f":"'TRAINING MATRIX'!Y$10","v":"5.9.19"}]
[{"$f":"'TRAINING MATRIX'!T2","v":"CPC Periodic Training Module"},{"$f":"'TRAINING MATRIX'!Z$10","v":0}]
[{"$f":"'TRAINING MATRIX'!U2","v":"CPC Periodic Training Module"},{"$f":"'TRAINING MATRIX'!AA$10","v":0}]
[{"$f":"'TRAINING MATRIX'!V2","v":"CPC Periodic Training Module"},{"$f":"'TRAINING MATRIX'!AB$10","v":0}]
[{"$f":"'TRAINING MATRIX'!W2","v":"CPC Periodic Training Module"},{"$f":"'TRAINING MATRIX'!AC$10","v":0}]
[{"$f":"'TRAINING MATRIX'!X2","v":"FORS Security and Counter-Terrorism"},{"$f":"'TRAINING MATRIX'!X$10","v":"21.8.19"}]
[{"$f":"'TRAINING MATRIX'!Y2","v":"FORS BridgeSmart"},{"$f":"'TRAINING MATRIX'!Y$10","v":"5.9.19"}]
[{"$f":"'TRAINING MATRIX'!D2","v":0},{"$f":"'TRAINING MATRIX'!Z$10","v":0}]
[{"$f":"'TRAINING MATRIX'!AA2","v":"FORS LoCity"},{"$f":"'TRAINING MATRIX'!AA$10","v":0}]
[{"$f":"'TRAINING MATRIX'!AB2","v":"FORS SmartDeliveries"},{"$f":"'TRAINING MATRIX'!AB$10","v":0}]
[{"$f":"'TRAINING MATRIX'!AD2","v":"ADR Awareness"},{"$f":"'TRAINING MATRIX'!AC$10","v":0}]
[{"$f":"'TRAINING MATRIX'!AE2","v":"ADR (Core, Packages and All Classes ex 7 & 9)"},{"$f":"'TRAINING MATRIX'!AD$10","v":0}]
[{"$f":"'TRAINING MATRIX'!AF2","v":0},{"$f":"'TRAINING MATRIX'!AE$10","v":0}]
[{"$f":"'TRAINING MATRIX'!AF2","v":0},{"$f":"'TRAINING MATRIX'!AF$10","v":0}]
[{"$f":"'TRAINING MATRIX'!AG2","v":"TTB Climbing On & Off Vehicles"},{"$f":"'TRAINING MATRIX'!AG$10","v":"22.8.19"}]
[{"$f":"'TRAINING MATRIX'!AH2","v":"TTB Climbing On & Off Trailers & Load Decks"},{"$f":"'TRAINING MATRIX'!AH$10","v":"25.8.19"}]
[{"$f":"'TRAINING MATRIX'!AI2","v":"TTB Jumping To a Lifetime of Pain"},{"$f":"'TRAINING MATRIX'!AI$10","v":"25.8.19"}]
[{"$f":"'TRAINING MATRIX'!AJ2","v":"TTB Dealing With Cyclists"},{"$f":"'TRAINING MATRIX'!AJ$10","v":"25.8.19"}]
[{"$f":"'TRAINING MATRIX'!AK2","v":"TTB Fitness to Drive"},{"$f":"'TRAINING MATRIX'!AK$10","v":"25.8.19"}]
[{"$f":"'TRAINING MATRIX'!AL2","v":"TTB Loading & Unloading"},{"$f":"'TRAINING MATRIX'!AL$10","v":"25.8.19"}]
[{"$f":"'TRAINING MATRIX'!AM2","v":"TTB Protecting Vulnerable Road Users"},{"$f":"'TRAINING MATRIX'!AM$10","v":"25.8.19"}]
[{"$f":"'TRAINING MATRIX'!AN2","v":0},{"$f":"'TRAINING MATRIX'!AN$10","v":0}]
[{"$f":"'TRAINING MATRIX'!AO2","v":"SSOW Coupling and Uncoupling"},{"$f":"'TRAINING MATRIX'!AO$10","v":0}]
[{"$f":"'TRAINING MATRIX'!AP2","v":"SSOW Scanning Shed"},{"$f":"'TRAINING MATRIX'!AP$10","v":0}]
[{"$f":"'TRAINING MATRIX'!AQ2","v":"SWP Drivers Walkaround Checks"},{"$f":"'TRAINING MATRIX'!AQ$10","v":0}]
[{"$f":"'TRAINING MATRIX'!AR2","v":0},{"$f":"'TRAINING MATRIX'!AR$10","v":0}]
[{"$f":"'TRAINING MATRIX'!AS2","v":0},{"$f":"'TRAINING MATRIX'!AS$10","v":0}]
[{"$f":"'TRAINING MATRIX'!AT2","v":0},{"$f":"'TRAINING MATRIX'!AT$10","v":0}]
[{"$f":"'TRAINING MATRIX'!AU2","v":0},{"$f":"'TRAINING MATRIX'!AU$10","v":0}]
[{"$f":"'TRAINING MATRIX'!AV2","v":0},{"$f":"'TRAINING MATRIX'!AV$10","v":0}]
[{"$f":"'TRAINING MATRIX'!AW2","v":0},{"$f":"'TRAINING MATRIX'!AW$10","v":0}]
[{"$f":"'TRAINING MATRIX'!AX2","v":0},{"$f":"'TRAINING MATRIX'!AX$10","v":0}]
[{"$f":"'TRAINING MATRIX'!AY2","v":0},{"$f":"'TRAINING MATRIX'!AY$10","v":0}]
[{"$f":"'TRAINING MATRIX'!AZ2","v":0},{"$f":"'TRAINING MATRIX'!AZ$10","v":0}]

{"sheet":"Alan Bilton","index":10,"n_rows":52,"n_cols":2,"rows_kept":52,"cut":false,"hidden":false,"merged":[]}
["Driver Name","Completed / Issued"]
[{"$f":"'TRAINING MATRIX'!A11","v":"Bilton Alan"},{"$f":"'TRAINING MATRIX'!C11","v":"C"}]
[{"$f":"'TRAINING MATRIX'!B$11","v":0}]
[{"$f":"'TRAINING MATRIX'!D2","v":0},{"$f":"'TRAINING MATRIX'!D$11","v":0}]
[{"$f":"'TRAINING MATRIX'!E2","v":0},{"$f":"'TRAINING MATRIX'!E$11","v":0}]
[{"$f":"'TRAINING MATRIX'!F2","v":0},{"$f":"'TRAINING MATRIX'!F$11","v":0}]
[{"$f":"'TRAINING MATRIX'!G2","v":"Assessed"},{"$f":"'TRAINING MATRIX'!G$11","v":"18.02.19"}]
[{"$f":"'TRAINING MATRIX'!H2","v":"Driver induction"},{"$f":"'TRAINING MATRIX'!H$11","v":"18.02.19"}]
[{"$f":"'TRAINING MATRIX'!I2","v":"Highway Code via KT"},{"$f":"'TRAINING MATRIX'!I$11","v":0}]
[{"$f":"'TRAINING MATRIX'!J2","v":"Drivers Code of Conduct"},{"$f":"'TRAINING MATRIX'!J$11","v":0}]
[{"$f":"'TRAINING MATRIX'!K2","v":"Smoking Policy"},{"$f":"'TRAINING MATRIX'!K$11","v":0}]
[{"$f":"'TRAINING MATRIX'!L2","v":"Mobile Communication Policy"},{"$f":"'TRAINING MATRIX'!L$11","v":"6.9.19"}]
[{"$f":"'TRAINING MATRIX'!N2","v":"Transport Charges & Fines Policy"},{"$f":"'TRAINING MATRIX'!N$11","v":"22.8.19"}]
[{"$f":"'TRAINING MATRIX'!M2","v":"Using Sat Nav"},{"$f":"'TRAINING MATRIX'!M$11","v":0}]
[{"$f":"'TRAINING MATRIX'!O2","v":"Goods Vehicle and Safety Policy"},{"$f":"'TRAINING MATRIX'!O$11","v":"25.8.19"}]
[{"$f":"'TRAINING MATRIX'!P2","v":"Safe Loading Policy"},{"$f":"'TRAINING MATRIX'!P$11","v":"25.8.19"}]
[{"$f":"'TRAINING MATRIX'!Q2","v":"Eye Sight Check"},{"$f":"'TRAINING MATRIX'!Q$11","v":"3.9.19"}]
[{"$f":"'TRAINING MATRIX'!R2","v":"Use of Tail lifts"},{"$f":"'TRAINING MATRIX'!X$11","v":"21.8.19"}]
[{"$f":"'TRAINING MATRIX'!S2","v":"CPC Periodic Training Module"},{"$f":"'TRAINING MATRIX'!Y$11","v":"5.9.19"}]
[{"$f":"'TRAINING MATRIX'!T2","v":"CPC Periodic Training Module"},{"$f":"'TRAINING MATRIX'!Z$11","v":0}]
[{"$f":"'TRAINING MATRIX'!U2","v":"CPC Periodic Training Module"},{"$f":"'TRAINING MATRIX'!AA$11","v":0}]
[{"$f":"'TRAINING MATRIX'!V2","v":"CPC Periodic Training Module"},{"$f":"'TRAINING MATRIX'!AB$11","v":0}]
[{"$f":"'TRAINING MATRIX'!W2","v":"CPC Periodic Training Module"},{"$f":"'TRAINING MATRIX'!AC$11","v":0}]
[{"$f":"'TRAINING MATRIX'!X2","v":"FORS Security and Counter-Terrorism"},{"$f":"'TRAINING MATRIX'!X$11","v":"21.8.19"}]
[{"$f":"'TRAINING MATRIX'!Y2","v":"FORS BridgeSmart"},{"$f":"'TRAINING MATRIX'!Y$11","v":"5.9.19"}]
[{"$f":"'TRAINING MATRIX'!D2","v":0},{"$f":"'TRAINING MATRIX'!Z$11","v":0}]
[{"$f":"'TRAINING MATRIX'!AA2","v":"FORS LoCity"},{"$f":"'TRAINING MATRIX'!AA$11","v":0}]
[{"$f":"'TRAINING MATRIX'!AB2","v":"FORS SmartDeliveries"},{"$f":"'TRAINING MATRIX'!AB$11","v":0}]
[{"$f":"'TRAINING MATRIX'!AD2","v":"ADR Awareness"},{"$f":"'TRAINING MATRIX'!AC$11","v":0}]
[{"$f":"'TRAINING MATRIX'!AE2","v":"ADR (Core, Packages and All Classes ex 7 & 9)"},{"$f":"'TRAINING MATRIX'!AD$11","v":0}]
[{"$f":"'TRAINING MATRIX'!AF2","v":0},{"$f":"'TRAINING MATRIX'!AE$11","v":0}]
[{"$f":"'TRAINING MATRIX'!AF2","v":0},{"$f":"'TRAINING MATRIX'!AF$11","v":0}]
[{"$f":"'TRAINING MATRIX'!AG2","v":"TTB Climbing On & Off Vehicles"},{"$f":"'TRAINING MATRIX'!AG$11","v":"22.8.19"}]
[{"$f":"'TRAINING MATRIX'!AH2","v":"TTB Climbing On & Off Trailers & Load Decks"},{"$f":"'TRAINING MATRIX'!AH$11","v":"25.8.19"}]
[{"$f":"'TRAINING MATRIX'!AI2","v":"TTB Jumping To a Lifetime of Pain"},{"$f":"'TRAINING MATRIX'!AI$11","v":"25.8.19"}]
[{"$f":"'TRAINING MATRIX'!AJ2","v":"TTB Dealing With Cyclists"},{"$f":"'TRAINING MATRIX'!AJ$11","v":"25.8.19"}]
[{"$f":"'TRAINING MATRIX'!AK2","v":"TTB Fitness to Drive"},{"$f":"'TRAINING MATRIX'!AK$11","v":"25.8.19"}]
[{"$f":"'TRAINING MATRIX'!AL2","v":"TTB Loading & Unloading"},{"$f":"'TRAINING MATRIX'!AL$11","v":"25.8.19"}]
[{"$f":"'TRAINING MATRIX'!AM2","v":"TTB Protecting Vulnerable Road Users"},{"$f":"'TRAINING MATRIX'!AM$11","v":"25.8.19"}]
[{"$f":"'TRAINING MATRIX'!AN2","v":0},{"$f":"'TRAINING MATRIX'!AN$11","v":0}]
[{"$f":"'TRAINING MATRIX'!AO2","v":"SSOW Coupling and Uncoupling"},{"$f":"'TRAINING MATRIX'!AO$11","v":0}]
[{"$f":"'TRAINING MATRIX'!AP2","v":"SSOW Scanning Shed"},{"$f":"'TRAINING MATRIX'!AP$11","v":0}]
[{"$f":"'TRAINING MATRIX'!AQ2","v":"SWP Drivers Walkaround Checks"},{"$f":"'TRAINING MATRIX'!AQ$11","v":0}]
[{"$f":"'TRAINING MATRIX'!AR2","v":0},{"$f":"'TRAINING MATRIX'!AR$11","v":0}]
[{"$f":"'TRAINING MATRIX'!AS2","v":0},{"$f":"'TRAINING MATRIX'!AS$11","v":0}]
[{"$f":"'TRAINING MATRIX'!AT2","v":0},{"$f":"'TRAINING MATRIX'!AT$11","v":0}]
[{"$f":"'TRAINING MATRIX'!AU2","v":0},{"$f":"'TRAINING MATRIX'!AU$11","v":0}]
[{"$f":"'TRAINING MATRIX'!AV2","v":0},{"$f":"'TRAINING MATRIX'!AV$11","v":0}]
[{"$f":"'TRAINING MATRIX'!AW2","v":0},{"$f":"'TRAINING MATRIX'!AW$11","v":0}]
[{"$f":"'TRAINING MATRIX'!AX2","v":0},{"$f":"'TRAINING MATRIX'!AX$11","v":0}]
[{"$f":"'TRAINING MATRIX'!AY2","v":0},{"$f":"'TRAINING MATRIX'!AY$11","v":0}]
[{"$f":"'TRAINING MATRIX'!AZ2","v":0},{"$f":"'TRAINING MATRIX'!AZ$11","v":0}]

{"sheet":"Peter Bramble","index":11,"n_rows":52,"n_cols":2,"rows_kept":52,"cut":false,"hidden":false,"merged":[]}
["Driver Name","Completed / Issued"]
[{"$f":"'TRAINING MATRIX'!A12","v":"Bramble Peter"},{"$f":"'TRAINING MATRIX'!C12","v":"CE"}]
[{"$f":"'TRAINING MATRIX'!B$12","v":0}]
[{"$f":"'TRAINING MATRIX'!D2","v":0},{"$f":"'TRAINING MATRIX'!D$12","v":0}]
[{"$f":"'TRAINING MATRIX'!E2","v":0},{"$f":"'TRAINING MATRIX'!E$12","v":0}]
[{"$f":"'TRAINING MATRIX'!F2","v":0},{"$f":"'TRAINING MATRIX'!F$12","v":0}]
[{"$f":"'TRAINING MATRIX'!G2","v":"Assessed"},{"$f":"'TRAINING MATRIX'!G$12","v":0}]
[{"$f":"'TRAINING MATRIX'!H2","v":"Driver induction"},{"$f":"'TRAINING MATRIX'!H$12","v":"03.01.19"}]
[{"$f":"'TRAINING MATRIX'!I2","v":"Highway Code via KT"},{"$f":"'TRAINING MATRIX'!I$12","v":0}]
[{"$f":"'TRAINING MATRIX'!J2","v":"Drivers Code of Conduct"},{"$f":"'TRAINING MATRIX'!J$12","v":0}]
[{"$f":"'TRAINING MATRIX'!K2","v":"Smoking Policy"},{"$f":"'TRAINING MATRIX'!K$12","v":0}]
[{"$f":"'TRAINING MATRIX'!L2","v":"Mobile Communication Policy"},{"$f":"'TRAINING MATRIX'!L$12","v":"6.9.19"}]
[{"$f":"'TRAINING MATRIX'!N2","v":"Transport Charges & Fines Policy"},{"$f":"'TRAINING MATRIX'!N$12","v":"22.8.19"}]
[{"$f":"'TRAINING MATRIX'!M2","v":"Using Sat Nav"},{"$f":"'TRAINING MATRIX'!M$12","v":0}]
[{"$f":"'TRAINING MATRIX'!O2","v":"Goods Vehicle and Safety Policy"},{"$f":"'TRAINING MATRIX'!O$12","v":"25.8.19"}]
[{"$f":"'TRAINING MATRIX'!P2","v":"Safe Loading Policy"},{"$f":"'TRAINING MATRIX'!P$12","v":"25.8.19"}]
[{"$f":"'TRAINING MATRIX'!Q2","v":"Eye Sight Check"},{"$f":"'TRAINING MATRIX'!Q$12","v":"21.8.19"}]
[{"$f":"'TRAINING MATRIX'!R2","v":"Use of Tail lifts"},{"$f":"'TRAINING MATRIX'!X$12","v":"21.8.19"}]
[{"$f":"'TRAINING MATRIX'!S2","v":"CPC Periodic Training Module"},{"$f":"'TRAINING MATRIX'!Y$12","v":"5.9.19"}]
[{"$f":"'TRAINING MATRIX'!T2","v":"CPC Periodic Training Module"},{"$f":"'TRAINING MATRIX'!Z$12","v":0}]
[{"$f":"'TRAINING MATRIX'!U2","v":"CPC Periodic Training Module"},{"$f":"'TRAINING MATRIX'!AA$12","v":0}]
[{"$f":"'TRAINING MATRIX'!V2","v":"CPC Periodic Training Module"},{"$f":"'TRAINING MATRIX'!AB$12","v":0}]
[{"$f":"'TRAINING MATRIX'!W2","v":"CPC Periodic Training Module"},{"$f":"'TRAINING MATRIX'!AC$12","v":0}]
[{"$f":"'TRAINING MATRIX'!X2","v":"FORS Security and Counter-Terrorism"},{"$f":"'TRAINING MATRIX'!X$12","v":"21.8.19"}]
[{"$f":"'TRAINING MATRIX'!Y2","v":"FORS BridgeSmart"},{"$f":"'TRAINING MATRIX'!Y$12","v":"5.9.19"}]
[{"$f":"'TRAINING MATRIX'!D2","v":0},{"$f":"'TRAINING MATRIX'!Z$12","v":0}]
[{"$f":"'TRAINING MATRIX'!AA2","v":"FORS LoCity"},{"$f":"'TRAINING MATRIX'!AA$12","v":0}]
[{"$f":"'TRAINING MATRIX'!AB2","v":"FORS SmartDeliveries"},{"$f":"'TRAINING MATRIX'!AB$12","v":0}]
[{"$f":"'TRAINING MATRIX'!AD2","v":"ADR Awareness"},{"$f":"'TRAINING MATRIX'!AC$12","v":0}]
[{"$f":"'TRAINING MATRIX'!AE2","v":"ADR (Core, Packages and All Classes ex 7 & 9)"},{"$f":"'TRAINING MATRIX'!AD$12","v":0}]
[{"$f":"'TRAINING MATRIX'!AF2","v":0},{"$f":"'TRAINING MATRIX'!AE$12","v":0}]
[{"$f":"'TRAINING MATRIX'!AF2","v":0},{"$f":"'TRAINING MATRIX'!AF$12","v":0}]
[{"$f":"'TRAINING MATRIX'!AG2","v":"TTB Climbing On & Off Vehicles"},{"$f":"'TRAINING MATRIX'!AG$12","v":"22.8.19"}]
[{"$f":"'TRAINING MATRIX'!AH2","v":"TTB Climbing On & Off Trailers & Load Decks"},{"$f":"'TRAINING MATRIX'!AH$12","v":"25.8.19"}]
[{"$f":"'TRAINING MATRIX'!AI2","v":"TTB Jumping To a Lifetime of Pain"},{"$f":"'TRAINING MATRIX'!AI$12","v":"25.8.19"}]
[{"$f":"'TRAINING MATRIX'!AJ2","v":"TTB Dealing With Cyclists"},{"$f":"'TRAINING MATRIX'!AJ$12","v":"25.8.19"}]
[{"$f":"'TRAINING MATRIX'!AK2","v":"TTB Fitness to Drive"},{"$f":"'TRAINING MATRIX'!AK$12","v":"25.8.19"}]
[{"$f":"'TRAINING MATRIX'!AL2","v":"TTB Loading & Unloading"},{"$f":"'TRAINING MATRIX'!AL$12","v":"25.8.19"}]
[{"$f":"'TRAINING MATRIX'!AM2","v":"TTB Protecting Vulnerable Road Users"},{"$f":"'TRAINING MATRIX'!AM$12","v":"25.8.19"}]
[{"$f":"'TRAINING MATRIX'!AN2","v":0},{"$f":"'TRAINING MATRIX'!AN$12","v":0}]
[{"$f":"'TRAINING MATRIX'!AO2","v":"SSOW Coupling and Uncoupling"},{"$f":"'TRAINING MATRIX'!AO$12","v":0}]
[{"$f":"'TRAINING MATRIX'!AP2","v":"SSOW Scanning Shed"},{"$f":"'TRAINING MATRIX'!AP$12","v":0}]
[{"$f":"'TRAINING MATRIX'!AQ2","v":"SWP Drivers Walkaround Checks"},{"$f":"'TRAINING MATRIX'!AQ$12","v":0}]
[{"$f":"'TRAINING MATRIX'!AR2","v":0},{"$f":"'TRAINING MATRIX'!AR$12","v":0}]
[{"$f":"'TRAINING MATRIX'!AS2","v":0},{"$f":"'TRAINING MATRIX'!AS$12","v":0}]
[{"$f":"'TRAINING MATRIX'!AT2","v":0},{"$f":"'TRAINING MATRIX'!AT$12","v":0}]
[{"$f":"'TRAINING MATRIX'!AU2","v":0},{"$f":"'TRAINING MATRIX'!AU$12","v":0}]
[{"$f":"'TRAINING MATRIX'!AV2","v":0},{"$f":"'TRAINING MATRIX'!AV$12","v":0}]
[{"$f":"'TRAINING MATRIX'!AW2","v":0},{"$f":"'TRAINING MATRIX'!AW$12","v":0}]
[{"$f":"'TRAINING MATRIX'!AX2","v":0},{"$f":"'TRAINING MATRIX'!AX$12","v":0}]
[{"$f":"'TRAINING MATRIX'!AY2","v":0},{"$f":"'TRAINING MATRIX'!AY$12","v":0}]
[{"$f":"'TRAINING MATRIX'!AZ2","v":0},{"$f":"'TRAINING MATRIX'!AZ$12","v":0}]

{"sheet":"Martin Brazier","index":12,"n_rows":52,"n_cols":2,"rows_kept":52,"cut":false,"hidden":false,"merged":[]}
["Driver Name","Completed / Issued"]
[{"$f":"'TRAINING MATRIX'!A13","v":"Brazier Martin"},{"$f":"'TRAINING MATRIX'!C13","v":"CE"}]
[{"$f":"'TRAINING MATRIX'!B$13","v":0}]
[{"$f":"'TRAINING MATRIX'!D2","v":0},{"$f":"'TRAINING MATRIX'!D$13","v":0}]
[{"$f":"'TRAINING MATRIX'!E2","v":0},{"$f":"'TRAINING MATRIX'!E$13","v":0}]
[{"$f":"'TRAINING MATRIX'!F2","v":0},{"$f":"'TRAINING MATRIX'!F$13","v":0}]
[{"$f":"'TRAINING MATRIX'!G2","v":"Assessed"},{"$f":"'TRAINING MATRIX'!G$13","v":0}]
[{"$f":"'TRAINING MATRIX'!H2","v":"Driver induction"},{"$f":"'TRAINING MATRIX'!H$13","v":"02.02.15"}]
[{"$f":"'TRAINING MATRIX'!I2","v":"Highway Code via KT"},{"$f":"'TRAINING MATRIX'!I$13","v":0}]
[{"$f":"'TRAINING MATRIX'!J2","v":"Drivers Code of Conduct"},{"$f":"'TRAINING MATRIX'!J$13","v":0}]
[{"$f":"'TRAINING MATRIX'!K2","v":"Smoking Policy"},{"$f":"'TRAINING MATRIX'!K$13","v":0}]
[{"$f":"'TRAINING MATRIX'!L2","v":"Mobile Communication Policy"},{"$f":"'TRAINING MATRIX'!L$13","v":"6.9.19"}]
[{"$f":"'TRAINING MATRIX'!N2","v":"Transport Charges & Fines Policy"},{"$f":"'TRAINING MATRIX'!N$13","v":"22.8.19"}]
[{"$f":"'TRAINING MATRIX'!M2","v":"Using Sat Nav"},{"$f":"'TRAINING MATRIX'!M$13","v":0}]
[{"$f":"'TRAINING MATRIX'!O2","v":"Goods Vehicle and Safety Policy"},{"$f":"'TRAINING MATRIX'!O$13","v":"25.8.19"}]
[{"$f":"'TRAINING MATRIX'!P2","v":"Safe Loading Policy"},{"$f":"'TRAINING MATRIX'!P$13","v":"25.8.19"}]
[{"$f":"'TRAINING MATRIX'!Q2","v":"Eye Sight Check"},{"$f":"'TRAINING MATRIX'!Q$13","v":"12.9.19"}]
[{"$f":"'TRAINING MATRIX'!R2","v":"Use of Tail lifts"},{"$f":"'TRAINING MATRIX'!X$13","v":"21.8.19"}]
[{"$f":"'TRAINING MATRIX'!S2","v":"CPC Periodic Training Module"},{"$f":"'TRAINING MATRIX'!Y$13","v":"5.9.19"}]
[{"$f":"'TRAINING MATRIX'!T2","v":"CPC Periodic Training Module"},{"$f":"'TRAINING MATRIX'!Z$13","v":0}]
[{"$f":"'TRAINING MATRIX'!U2","v":"CPC Periodic Training Module"},{"$f":"'TRAINING MATRIX'!AA$13","v":0}]
[{"$f":"'TRAINING MATRIX'!V2","v":"CPC Periodic Training Module"},{"$f":"'TRAINING MATRIX'!AB$13","v":0}]
[{"$f":"'TRAINING MATRIX'!W2","v":"CPC Periodic Training Module"},{"$f":"'TRAINING MATRIX'!AC$13","v":0}]
[{"$f":"'TRAINING MATRIX'!X2","v":"FORS Security and Counter-Terrorism"},{"$f":"'TRAINING MATRIX'!X$13","v":"21.8.19"}]
[{"$f":"'TRAINING MATRIX'!Y2","v":"FORS BridgeSmart"},{"$f":"'TRAINING MATRIX'!Y$13","v":"5.9.19"}]
[{"$f":"'TRAINING MATRIX'!D2","v":0},{"$f":"'TRAINING MATRIX'!Z$13","v":0}]
[{"$f":"'TRAINING MATRIX'!AA2","v":"FORS LoCity"},{"$f":"'TRAINING MATRIX'!AA$13","v":0}]
[{"$f":"'TRAINING MATRIX'!AB2","v":"FORS SmartDeliveries"},{"$f":"'TRAINING MATRIX'!AB$13","v":0}]
[{"$f":"'TRAINING MATRIX'!AD2","v":"ADR Awareness"},{"$f":"'TRAINING MATRIX'!AC$13","v":0}]
[{"$f":"'TRAINING MATRIX'!AE2","v":"ADR (Core, Packages and All Classes ex 7 & 9)"},{"$f":"'TRAINING MATRIX'!AD$13","v":0}]
[{"$f":"'TRAINING MATRIX'!AF2","v":0},{"$f":"'TRAINING MATRIX'!AE$13","v":0}]
[{"$f":"'TRAINING MATRIX'!AF2","v":0},{"$f":"'TRAINING MATRIX'!AF$13","v":0}]
[{"$f":"'TRAINING MATRIX'!AG2","v":"TTB Climbing On & Off Vehicles"},{"$f":"'TRAINING MATRIX'!AG$13","v":"22.8.19"}]
[{"$f":"'TRAINING MATRIX'!AH2","v":"TTB Climbing On & Off Trailers & Load Decks"},{"$f":"'TRAINING MATRIX'!AH$13","v":"25.8.19"}]
[{"$f":"'TRAINING MATRIX'!AI2","v":"TTB Jumping To a Lifetime of Pain"},{"$f":"'TRAINING MATRIX'!AI$13","v":"25.8.19"}]
[{"$f":"'TRAINING MATRIX'!AJ2","v":"TTB Dealing With Cyclists"},{"$f":"'TRAINING MATRIX'!AJ$13","v":"25.8.19"}]
[{"$f":"'TRAINING MATRIX'!AK2","v":"TTB Fitness to Drive"},{"$f":"'TRAINING MATRIX'!AK$13","v":"25.8.19"}]
[{"$f":"'TRAINING MATRIX'!AL2","v":"TTB Loading & Unloading"},{"$f":"'TRAINING MATRIX'!AL$13","v":"25.8.19"}]
[{"$f":"'TRAINING MATRIX'!AM2","v":"TTB Protecting Vulnerable Road Users"},{"$f":"'TRAINING MATRIX'!AM$13","v":"25.8.19"}]
[{"$f":"'TRAINING MATRIX'!AN2","v":0},{"$f":"'TRAINING MATRIX'!AN$13","v":0}]
[{"$f":"'TRAINING MATRIX'!AO2","v":"SSOW Coupling and Uncoupling"},{"$f":"'TRAINING MATRIX'!AO$13","v":0}]
[{"$f":"'TRAINING MATRIX'!AP2","v":"SSOW Scanning Shed"},{"$f":"'TRAINING MATRIX'!AP$13","v":0}]
[{"$f":"'TRAINING MATRIX'!AQ2","v":"SWP Drivers Walkaround Checks"},{"$f":"'TRAINING MATRIX'!AQ$13","v":0}]
[{"$f":"'TRAINING MATRIX'!AR2","v":0},{"$f":"'TRAINING MATRIX'!AR$13","v":0}]
[{"$f":"'TRAINING MATRIX'!AS2","v":0},{"$f":"'TRAINING MATRIX'!AS$13","v":0}]
[{"$f":"'TRAINING MATRIX'!AT2","v":0},{"$f":"'TRAINING MATRIX'!AT$13","v":0}]
[{"$f":"'TRAINING MATRIX'!AU2","v":0},{"$f":"'TRAINING MATRIX'!AU$13","v":0}]
[{"$f":"'TRAINING MATRIX'!AV2","v":0},{"$f":"'TRAINING MATRIX'!AV$13","v":0}]
[{"$f":"'TRAINING MATRIX'!AW2","v":0},{"$f":"'TRAINING MATRIX'!AW$13","v":0}]
[{"$f":"'TRAINING MATRIX'!AX2","v":0},{"$f":"'TRAINING MATRIX'!AX$13","v":0}]
[{"$f":"'TRAINING MATRIX'!AY2","v":0},{"$f":"'TRAINING MATRIX'!AY$13","v":0}]
[{"$f":"'TRAINING MATRIX'!AZ2","v":0},{"$f":"'TRAINING MATRIX'!AZ$13","v":0}]

{"sheet":"Peter Camper","index":13,"n_rows":52,"n_cols":2,"rows_kept":52,"cut":false,"hidden":false,"merged":[]}
["Driver Name","Completed / Issued"]
[{"$f":"'TRAINING MATRIX'!A14","v":"Camper Pete"},{"$f":"'TRAINING MATRIX'!C14","v":"CE"}]
[{"$f":"'TRAINING MATRIX'!B$14","v":0}]
[{"$f":"'TRAINING MATRIX'!D2","v":0},{"$f":"'TRAINING MATRIX'!D$14","v":0}]
[{"$f":"'TRAINING MATRIX'!E2","v":0},{"$f":"'TRAINING MATRIX'!E$14","v":0}]
[{"$f":"'TRAINING MATRIX'!F2","v":0},{"$f":"'TRAINING MATRIX'!F$14","v":0}]
[{"$f":"'TRAINING MATRIX'!G2","v":"Assessed"},{"$f":"'TRAINING MATRIX'!G$14","v":0}]
[{"$f":"'TRAINING MATRIX'!H2","v":"Driver induction"},{"$f":"'TRAINING MATRIX'!H$14","v":"03.09.19"}]
[{"$f":"'TRAINING MATRIX'!I2","v":"Highway Code via KT"},{"$f":"'TRAINING MATRIX'!I$14","v":0}]
[{"$f":"'TRAINING MATRIX'!J2","v":"Drivers Code of Conduct"},{"$f":"'TRAINING MATRIX'!J$14","v":0}]
[{"$f":"'TRAINING MATRIX'!K2","v":"Smoking Policy"},{"$f":"'TRAINING MATRIX'!K$14","v":0}]
[{"$f":"'TRAINING MATRIX'!L2","v":"Mobile Communication Policy"},{"$f":"'TRAINING MATRIX'!L$14","v":"6.9.19"}]
[{"$f":"'TRAINING MATRIX'!N2","v":"Transport Charges & Fines Policy"},{"$f":"'TRAINING MATRIX'!N$14","v":"22.8.19"}]
[{"$f":"'TRAINING MATRIX'!M2","v":"Using Sat Nav"},{"$f":"'TRAINING MATRIX'!M$14","v":0}]
[{"$f":"'TRAINING MATRIX'!O2","v":"Goods Vehicle and Safety Policy"},{"$f":"'TRAINING MATRIX'!O$14","v":"25.8.19"}]
[{"$f":"'TRAINING MATRIX'!P2","v":"Safe Loading Policy"},{"$f":"'TRAINING MATRIX'!P$14","v":"25.8.19"}]
[{"$f":"'TRAINING MATRIX'!Q2","v":"Eye Sight Check"},{"$f":"'TRAINING MATRIX'!Q$14","v":"12.9.19"}]
[{"$f":"'TRAINING MATRIX'!R2","v":"Use of Tail lifts"},{"$f":"'TRAINING MATRIX'!X$14","v":"21.8.19"}]
[{"$f":"'TRAINING MATRIX'!S2","v":"CPC Periodic Training Module"},{"$f":"'TRAINING MATRIX'!Y$14","v":"5.9.19"}]
[{"$f":"'TRAINING MATRIX'!T2","v":"CPC Periodic Training Module"},{"$f":"'TRAINING MATRIX'!Z$14","v":0}]
[{"$f":"'TRAINING MATRIX'!U2","v":"CPC Periodic Training Module"},{"$f":"'TRAINING MATRIX'!AA$14","v":0}]
[{"$f":"'TRAINING MATRIX'!V2","v":"CPC Periodic Training Module"},{"$f":"'TRAINING MATRIX'!AB$14","v":0}]
[{"$f":"'TRAINING MATRIX'!W2","v":"CPC Periodic Training Module"},{"$f":"'TRAINING MATRIX'!AC$14","v":0}]
[{"$f":"'TRAINING MATRIX'!X2","v":"FORS Security and Counter-Terrorism"},{"$f":"'TRAINING MATRIX'!X$14","v":"21.8.19"}]
[{"$f":"'TRAINING MATRIX'!Y2","v":"FORS BridgeSmart"},{"$f":"'TRAINING MATRIX'!Y$14","v":"5.9.19"}]
[{"$f":"'TRAINING MATRIX'!D2","v":0},{"$f":"'TRAINING MATRIX'!Z$14","v":0}]
[{"$f":"'TRAINING MATRIX'!AA2","v":"FORS LoCity"},{"$f":"'TRAINING MATRIX'!AA$14","v":0}]
[{"$f":"'TRAINING MATRIX'!AB2","v":"FORS SmartDeliveries"},{"$f":"'TRAINING MATRIX'!AB$14","v":0}]
[{"$f":"'TRAINING MATRIX'!AD2","v":"ADR Awareness"},{"$f":"'TRAINING MATRIX'!AC$14","v":0}]
[{"$f":"'TRAINING MATRIX'!AE2","v":"ADR (Core, Packages and All Classes ex 7 & 9)"},{"$f":"'TRAINING MATRIX'!AD$14","v":0}]
[{"$f":"'TRAINING MATRIX'!AF2","v":0},{"$f":"'TRAINING MATRIX'!AE$14","v":0}]
[{"$f":"'TRAINING MATRIX'!AF2","v":0},{"$f":"'TRAINING MATRIX'!AF$14","v":0}]
[{"$f":"'TRAINING MATRIX'!AG2","v":"TTB Climbing On & Off Vehicles"},{"$f":"'TRAINING MATRIX'!AG$14","v":"22.8.19"}]
[{"$f":"'TRAINING MATRIX'!AH2","v":"TTB Climbing On & Off Trailers & Load Decks"},{"$f":"'TRAINING MATRIX'!AH$14","v":"25.8.19"}]
[{"$f":"'TRAINING MATRIX'!AI2","v":"TTB Jumping To a Lifetime of Pain"},{"$f":"'TRAINING MATRIX'!AI$14","v":"25.8.19"}]
[{"$f":"'TRAINING MATRIX'!AJ2","v":"TTB Dealing With Cyclists"},{"$f":"'TRAINING MATRIX'!AJ$14","v":"25.8.19"}]
[{"$f":"'TRAINING MATRIX'!AK2","v":"TTB Fitness to Drive"},{"$f":"'TRAINING MATRIX'!AK$14","v":"25.8.19"}]
[{"$f":"'TRAINING MATRIX'!AL2","v":"TTB Loading & Unloading"},{"$f":"'TRAINING MATRIX'!AL$14","v":"25.8.19"}]
[{"$f":"'TRAINING MATRIX'!AM2","v":"TTB Protecting Vulnerable Road Users"},{"$f":"'TRAINING MATRIX'!AM$14","v":"25.8.19"}]
[{"$f":"'TRAINING MATRIX'!AN2","v":0},{"$f":"'TRAINING MATRIX'!AN$14","v":0}]
[{"$f":"'TRAINING MATRIX'!AO2","v":"SSOW Coupling and Uncoupling"},{"$f":"'TRAINING MATRIX'!AO$14","v":0}]
[{"$f":"'TRAINING MATRIX'!AP2","v":"SSOW Scanning Shed"},{"$f":"'TRAINING MATRIX'!AP$14","v":0}]
[{"$f":"'TRAINING MATRIX'!AQ2","v":"SWP Drivers Walkaround Checks"},{"$f":"'TRAINING MATRIX'!AQ$14","v":0}]
[{"$f":"'TRAINING MATRIX'!AR2","v":0},{"$f":"'TRAINING MATRIX'!AR$14","v":0}]
[{"$f":"'TRAINING MATRIX'!AS2","v":0},{"$f":"'TRAINING MATRIX'!AS$14","v":0}]
[{"$f":"'TRAINING MATRIX'!AT2","v":0},{"$f":"'TRAINING MATRIX'!AT$14","v":0}]
[{"$f":"'TRAINING MATRIX'!AU2","v":0},{"$f":"'TRAINING MATRIX'!AU$14","v":0}]
[{"$f":"'TRAINING MATRIX'!AV2","v":0},{"$f":"'TRAINING MATRIX'!AV$14","v":0}]
[{"$f":"'TRAINING MATRIX'!AW2","v":0},{"$f":"'TRAINING MATRIX'!AW$14","v":0}]
[{"$f":"'TRAINING MATRIX'!AX2","v":0},{"$f":"'TRAINING MATRIX'!AX$14","v":0}]
[{"$f":"'TRAINING MATRIX'!AY2","v":0},{"$f":"'TRAINING MATRIX'!AY$14","v":0}]
[{"$f":"'TRAINING MATRIX'!AZ2","v":0},{"$f":"'TRAINING MATRIX'!AZ$14","v":0}]

{"sheet":"Mark Chaloner","index":14,"n_rows":52,"n_cols":2,"rows_kept":52,"cut":false,"hidden":false,"merged":[]}
["Driver Name","Completed / Issued"]
[{"$f":"'TRAINING MATRIX'!A15","v":"Chaloner Mark"},{"$f":"'TRAINING MATRIX'!C15","v":"CE"}]
[{"$f":"'TRAINING MATRIX'!B$15","v":0}]
[{"$f":"'TRAINING MATRIX'!D2","v":0},{"$f":"'TRAINING MATRIX'!D$15","v":0}]
[{"$f":"'TRAINING MATRIX'!E2","v":0},{"$f":"'TRAINING MATRIX'!E$15","v":0}]
[{"$f":"'TRAINING MATRIX'!F2","v":0},{"$f":"'TRAINING MATRIX'!F$15","v":0}]
[{"$f":"'TRAINING MATRIX'!G2","v":"Assessed"},{"$f":"'TRAINING MATRIX'!G$15","v":"16.01.19"}]
[{"$f":"'TRAINING MATRIX'!H2","v":"Driver induction"},{"$f":"'TRAINING MATRIX'!H$15","v":"16.01.19"}]
[{"$f":"'TRAINING MATRIX'!I2","v":"Highway Code via KT"},{"$f":"'TRAINING MATRIX'!I$15","v":0}]
[{"$f":"'TRAINING MATRIX'!J2","v":"Drivers Code of Conduct"},{"$f":"'TRAINING MATRIX'!J$15","v":0}]
[{"$f":"'TRAINING MATRIX'!K2","v":"Smoking Policy"},{"$f":"'TRAINING MATRIX'!K$15","v":0}]
[{"$f":"'TRAINING MATRIX'!L2","v":"Mobile Communication Policy"},{"$f":"'TRAINING MATRIX'!L$15","v":"6.9.19"}]
[{"$f":"'TRAINING MATRIX'!N2","v":"Transport Charges & Fines Policy"},{"$f":"'TRAINING MATRIX'!N$15","v":"22.8.19"}]
[{"$f":"'TRAINING MATRIX'!M2","v":"Using Sat Nav"},{"$f":"'TRAINING MATRIX'!M$15","v":0}]
[{"$f":"'TRAINING MATRIX'!O2","v":"Goods Vehicle and Safety Policy"},{"$f":"'TRAINING MATRIX'!O$15","v":"25.8.19"}]
[{"$f":"'TRAINING MATRIX'!P2","v":"Safe Loading Policy"},{"$f":"'TRAINING MATRIX'!P$15","v":"25.8.19"}]
[{"$f":"'TRAINING MATRIX'!Q2","v":"Eye Sight Check"},{"$f":"'TRAINING MATRIX'!Q$15","v":"21.8.19"}]
[{"$f":"'TRAINING MATRIX'!R2","v":"Use of Tail lifts"},{"$f":"'TRAINING MATRIX'!X$15","v":"21.8.19"}]
[{"$f":"'TRAINING MATRIX'!S2","v":"CPC Periodic Training Module"},{"$f":"'TRAINING MATRIX'!Y$15","v":"5.9.19"}]
[{"$f":"'TRAINING MATRIX'!T2","v":"CPC Periodic Training Module"},{"$f":"'TRAINING MATRIX'!Z$15","v":0}]
[{"$f":"'TRAINING MATRIX'!U2","v":"CPC Periodic Training Module"},{"$f":"'TRAINING MATRIX'!AA$15","v":0}]
[{"$f":"'TRAINING MATRIX'!V2","v":"CPC Periodic Training Module"},{"$f":"'TRAINING MATRIX'!AB$15","v":0}]
[{"$f":"'TRAINING MATRIX'!W2","v":"CPC Periodic Training Module"},{"$f":"'TRAINING MATRIX'!AC$15","v":0}]
[{"$f":"'TRAINING MATRIX'!X2","v":"FORS Security and Counter-Terrorism"},{"$f":"'TRAINING MATRIX'!X$15","v":"21.8.19"}]
[{"$f":"'TRAINING MATRIX'!Y2","v":"FORS BridgeSmart"},{"$f":"'TRAINING MATRIX'!Y$15","v":"5.9.19"}]
[{"$f":"'TRAINING MATRIX'!D2","v":0},{"$f":"'TRAINING MATRIX'!Z$15","v":0}]
[{"$f":"'TRAINING MATRIX'!AA2","v":"FORS LoCity"},{"$f":"'TRAINING MATRIX'!AA$15","v":0}]
[{"$f":"'TRAINING MATRIX'!AB2","v":"FORS SmartDeliveries"},{"$f":"'TRAINING MATRIX'!AB$15","v":0}]
[{"$f":"'TRAINING MATRIX'!AD2","v":"ADR Awareness"},{"$f":"'TRAINING MATRIX'!AC$15","v":0}]
[{"$f":"'TRAINING MATRIX'!AE2","v":"ADR (Core, Packages and All Classes ex 7 & 9)"},{"$f":"'TRAINING MATRIX'!AD$15","v":0}]
[{"$f":"'TRAINING MATRIX'!AF2","v":0},{"$f":"'TRAINING MATRIX'!AE$15","v":0}]
[{"$f":"'TRAINING MATRIX'!AF2","v":0},{"$f":"'TRAINING MATRIX'!AF$15","v":0}]
[{"$f":"'TRAINING MATRIX'!AG2","v":"TTB Climbing On & Off Vehicles"},{"$f":"'TRAINING MATRIX'!AG$15","v":"22.8.19"}]
[{"$f":"'TRAINING MATRIX'!AH2","v":"TTB Climbing On & Off Trailers & Load Decks"},{"$f":"'TRAINING MATRIX'!AH$15","v":"25.8.19"}]
[{"$f":"'TRAINING MATRIX'!AI2","v":"TTB Jumping To a Lifetime of Pain"},{"$f":"'TRAINING MATRIX'!AI$15","v":"25.8.19"}]
[{"$f":"'TRAINING MATRIX'!AJ2","v":"TTB Dealing With Cyclists"},{"$f":"'TRAINING MATRIX'!AJ$15","v":"25.8.19"}]
[{"$f":"'TRAINING MATRIX'!AK2","v":"TTB Fitness to Drive"},{"$f":"'TRAINING MATRIX'!AK$15","v":"25.8.19"}]
[{"$f":"'TRAINING MATRIX'!AL2","v":"TTB Loading & Unloading"},{"$f":"'TRAINING MATRIX'!AL$15","v":"25.8.19"}]
[{"$f":"'TRAINING MATRIX'!AM2","v":"TTB Protecting Vulnerable Road Users"},{"$f":"'TRAINING MATRIX'!AM$15","v":"25.8.19"}]
[{"$f":"'TRAINING MATRIX'!AN2","v":0},{"$f":"'TRAINING MATRIX'!AN$15","v":0}]
[{"$f":"'TRAINING MATRIX'!AO2","v":"SSOW Coupling and Uncoupling"},{"$f":"'TRAINING MATRIX'!AO$15","v":0}]
[{"$f":"'TRAINING MATRIX'!AP2","v":"SSOW Scanning Shed"},{"$f":"'TRAINING MATRIX'!AP$15","v":0}]
[{"$f":"'TRAINING MATRIX'!AQ2","v":"SWP Drivers Walkaround Checks"},{"$f":"'TRAINING MATRIX'!AQ$15","v":0}]
[{"$f":"'TRAINING MATRIX'!AR2","v":0},{"$f":"'TRAINING MATRIX'!AR$15","v":0}]
[{"$f":"'TRAINING MATRIX'!AS2","v":0},{"$f":"'TRAINING MATRIX'!AS$15","v":0}]
[{"$f":"'TRAINING MATRIX'!AT2","v":0},{"$f":"'TRAINING MATRIX'!AT$15","v":0}]
[{"$f":"'TRAINING MATRIX'!AU2","v":0},{"$f":"'TRAINING MATRIX'!AU$15","v":0}]
[{"$f":"'TRAINING MATRIX'!AV2","v":0},{"$f":"'TRAINING MATRIX'!AV$15","v":0}]
[{"$f":"'TRAINING MATRIX'!AW2","v":0},{"$f":"'TRAINING MATRIX'!AW$15","v":0}]
[{"$f":"'TRAINING MATRIX'!AX2","v":0},{"$f":"'TRAINING MATRIX'!AW$15","v":0}]
[{"$f":"'TRAINING MATRIX'!AY2","v":0},{"$f":"'TRAINING MATRIX'!AY$15","v":0}]
[{"$f":"'TRAINING MATRIX'!AZ2","v":0},{"$f":"'TRAINING MATRIX'!AZ$15","v":0}]

{"sheet":"Stephen Clark","index":15,"n_rows":52,"n_cols":2,"rows_kept":52,"cut":false,"hidden":false,"merged":[]}
["Driver Name","Completed / Issued"]
[{"$f":"'TRAINING MATRIX'!A16","v":"Clark Stephen"},{"$f":"'TRAINING MATRIX'!C16","v":"C"}]
[{"$f":"'TRAINING MATRIX'!B$16","v":"Long term sick"}]
[{"$f":"'TRAINING MATRIX'!D2","v":0},{"$f":"'TRAINING MATRIX'!D$16","v":0}]
[{"$f":"'TRAINING MATRIX'!E2","v":0},{"$f":"'TRAINING MATRIX'!E$16","v":0}]
[{"$f":"'TRAINING MATRIX'!F2","v":0},{"$f":"'TRAINING MATRIX'!F$16","v":0}]
[{"$f":"'TRAINING MATRIX'!G2","v":"Assessed"},{"$f":"'TRAINING MATRIX'!G$16","v":0}]
[{"$f":"'TRAINING MATRIX'!H2","v":"Driver induction"},{"$f":"'TRAINING MATRIX'!H$16","v":"31.07.17"}]
[{"$f":"'TRAINING MATRIX'!I2","v":"Highway Code via KT"},{"$f":"'TRAINING MATRIX'!I$16","v":0}]
[{"$f":"'TRAINING MATRIX'!J2","v":"Drivers Code of Conduct"},{"$f":"'TRAINING MATRIX'!J$16","v":0}]
[{"$f":"'TRAINING MATRIX'!K2","v":"Smoking Policy"},{"$f":"'TRAINING MATRIX'!K$16","v":0}]
[{"$f":"'TRAINING MATRIX'!L2","v":"Mobile Communication Policy"},{"$f":"'TRAINING MATRIX'!L$16","v":0}]
[{"$f":"'TRAINING MATRIX'!N2","v":"Transport Charges & Fines Policy"},{"$f":"'TRAINING MATRIX'!N$16","v":0}]
[{"$f":"'TRAINING MATRIX'!M2","v":"Using Sat Nav"},{"$f":"'TRAINING MATRIX'!M$16","v":0}]
[{"$f":"'TRAINING MATRIX'!O2","v":"Goods Vehicle and Safety Policy"},{"$f":"'TRAINING MATRIX'!O$16","v":0}]
[{"$f":"'TRAINING MATRIX'!P2","v":"Safe Loading Policy"},{"$f":"'TRAINING MATRIX'!P$16","v":0}]
[{"$f":"'TRAINING MATRIX'!Q2","v":"Eye Sight Check"},{"$f":"'TRAINING MATRIX'!Q$16","v":0}]
[{"$f":"'TRAINING MATRIX'!R2","v":"Use of Tail lifts"},{"$f":"'TRAINING MATRIX'!X$16","v":0}]
[{"$f":"'TRAINING MATRIX'!S2","v":"CPC Periodic Training Module"},{"$f":"'TRAINING MATRIX'!Y$16","v":0}]
[{"$f":"'TRAINING MATRIX'!T2","v":"CPC Periodic Training Module"},{"$f":"'TRAINING MATRIX'!Z$16","v":0}]
[{"$f":"'TRAINING MATRIX'!U2","v":"CPC Periodic Training Module"},{"$f":"'TRAINING MATRIX'!AA$16","v":0}]
[{"$f":"'TRAINING MATRIX'!V2","v":"CPC Periodic Training Module"},{"$f":"'TRAINING MATRIX'!AB$16","v":0}]
[{"$f":"'TRAINING MATRIX'!W2","v":"CPC Periodic Training Module"},{"$f":"'TRAINING MATRIX'!AC$16","v":0}]
[{"$f":"'TRAINING MATRIX'!X2","v":"FORS Security and Counter-Terrorism"},{"$f":"'TRAINING MATRIX'!X$16","v":0}]
[{"$f":"'TRAINING MATRIX'!Y2","v":"FORS BridgeSmart"},{"$f":"'TRAINING MATRIX'!Y$16","v":0}]
[{"$f":"'TRAINING MATRIX'!D2","v":0},{"$f":"'TRAINING MATRIX'!Z$16","v":0}]
[{"$f":"'TRAINING MATRIX'!AA2","v":"FORS LoCity"},{"$f":"'TRAINING MATRIX'!AA$16","v":0}]
[{"$f":"'TRAINING MATRIX'!AB2","v":"FORS SmartDeliveries"},{"$f":"'TRAINING MATRIX'!AB$16","v":0}]
[{"$f":"'TRAINING MATRIX'!AD2","v":"ADR Awareness"},{"$f":"'TRAINING MATRIX'!AC$16","v":0}]
[{"$f":"'TRAINING MATRIX'!AE2","v":"ADR (Core, Packages and All Classes ex 7 & 9)"},{"$f":"'TRAINING MATRIX'!AD$16","v":0}]
[{"$f":"'TRAINING MATRIX'!AF2","v":0},{"$f":"'TRAINING MATRIX'!AE$16","v":0}]
[{"$f":"'TRAINING MATRIX'!AF2","v":0},{"$f":"'TRAINING MATRIX'!AF$16","v":0}]
[{"$f":"'TRAINING MATRIX'!AG2","v":"TTB Climbing On & Off Vehicles"},{"$f":"'TRAINING MATRIX'!AG$16","v":0}]
[{"$f":"'TRAINING MATRIX'!AH2","v":"TTB Climbing On & Off Trailers & Load Decks"},{"$f":"'TRAINING MATRIX'!AH$16","v":0}]
[{"$f":"'TRAINING MATRIX'!AI2","v":"TTB Jumping To a Lifetime of Pain"},{"$f":"'TRAINING MATRIX'!AI$16","v":0}]
[{"$f":"'TRAINING MATRIX'!AJ2","v":"TTB Dealing With Cyclists"},{"$f":"'TRAINING MATRIX'!AJ$16","v":0}]
[{"$f":"'TRAINING MATRIX'!AK2","v":"TTB Fitness to Drive"},{"$f":"'TRAINING MATRIX'!AK$16","v":0}]
[{"$f":"'TRAINING MATRIX'!AL2","v":"TTB Loading & Unloading"},{"$f":"'TRAINING MATRIX'!AL$16","v":0}]
[{"$f":"'TRAINING MATRIX'!AM2","v":"TTB Protecting Vulnerable Road Users"},{"$f":"'TRAINING MATRIX'!AM$16","v":0}]
[{"$f":"'TRAINING MATRIX'!AN2","v":0},{"$f":"'TRAINING MATRIX'!AN$16","v":0}]
[{"$f":"'TRAINING MATRIX'!AO2","v":"SSOW Coupling and Uncoupling"},{"$f":"'TRAINING MATRIX'!AO$16","v":0}]
[{"$f":"'TRAINING MATRIX'!AP2","v":"SSOW Scanning Shed"},{"$f":"'TRAINING MATRIX'!AP$16","v":0}]
[{"$f":"'TRAINING MATRIX'!AQ2","v":"SWP Drivers Walkaround Checks"},{"$f":"'TRAINING MATRIX'!AQ$16","v":0}]
[{"$f":"'TRAINING MATRIX'!AR2","v":0},{"$f":"'TRAINING MATRIX'!AR$16","v":0}]
[{"$f":"'TRAINING MATRIX'!AS2","v":0},{"$f":"'TRAINING MATRIX'!AS$16","v":0}]
[{"$f":"'TRAINING MATRIX'!AT2","v":0},{"$f":"'TRAINING MATRIX'!AT$16","v":0}]
[{"$f":"'TRAINING MATRIX'!AU2","v":0},{"$f":"'TRAINING MATRIX'!AU$16","v":0}]
[{"$f":"'TRAINING MATRIX'!AV2","v":0},{"$f":"'TRAINING MATRIX'!AV$16","v":0}]
[{"$f":"'TRAINING MATRIX'!AW2","v":0},{"$f":"'TRAINING MATRIX'!AW$16","v":0}]
[{"$f":"'TRAINING MATRIX'!AX2","v":0},{"$f":"'TRAINING MATRIX'!AX$16","v":0}]
[{"$f":"'TRAINING MATRIX'!AY2","v":0},{"$f":"'TRAINING MATRIX'!AY$16","v":0}]
[{"$f":"'TRAINING MATRIX'!AZ2","v":0}]

{"sheet":"Martin Curley","index":16,"n_rows":52,"n_cols":2,"rows_kept":52,"cut":false,"hidden":false,"merged":[]}
["Driver Name","Completed / Issued"]
[{"$f":"'TRAINING MATRIX'!A17","v":"Curley Martin"},{"$f":"'TRAINING MATRIX'!C17","v":"C"}]
[{"$f":"'TRAINING MATRIX'!B$17","v":0}]
[{"$f":"'TRAINING MATRIX'!D2","v":0},{"$f":"'TRAINING MATRIX'!D$17","v":0}]
[{"$f":"'TRAINING MATRIX'!E2","v":0},{"$f":"'TRAINING MATRIX'!E$17","v":0}]
[{"$f":"'TRAINING MATRIX'!F2","v":0},{"$f":"'TRAINING MATRIX'!F$17","v":0}]
[{"$f":"'TRAINING MATRIX'!G2","v":"Assessed"},{"$f":"'TRAINING MATRIX'!G$17","v":0}]
[{"$f":"'TRAINING MATRIX'!H2","v":"Driver induction"},{"$f":"'TRAINING MATRIX'!H$17","v":"19.09.16"}]
[{"$f":"'TRAINING MATRIX'!I2","v":"Highway Code via KT"},{"$f":"'TRAINING MATRIX'!I$17","v":0}]
[{"$f":"'TRAINING MATRIX'!J2","v":"Drivers Code of Conduct"},{"$f":"'TRAINING MATRIX'!J$17","v":0}]
[{"$f":"'TRAINING MATRIX'!K2","v":"Smoking Policy"},{"$f":"'TRAINING MATRIX'!K$17","v":0}]
[{"$f":"'TRAINING MATRIX'!L2","v":"Mobile Communication Policy"},{"$f":"'TRAINING MATRIX'!L$17","v":"6.9.19"}]
[{"$f":"'TRAINING MATRIX'!N2","v":"Transport Charges & Fines Policy"},{"$f":"'TRAINING MATRIX'!N$17","v":"22.8.19"}]
[{"$f":"'TRAINING MATRIX'!M2","v":"Using Sat Nav"},{"$f":"'TRAINING MATRIX'!M$17","v":0}]
[{"$f":"'TRAINING MATRIX'!O2","v":"Goods Vehicle and Safety Policy"},{"$f":"'TRAINING MATRIX'!O$17","v":"25.8.19"}]
[{"$f":"'TRAINING MATRIX'!P2","v":"Safe Loading Policy"},{"$f":"'TRAINING MATRIX'!P$17","v":"25.8.19"}]
[{"$f":"'TRAINING MATRIX'!Q2","v":"Eye Sight Check"},{"$f":"'TRAINING MATRIX'!Q$17","v":"16.9.19"}]
[{"$f":"'TRAINING MATRIX'!R2","v":"Use of Tail lifts"},{"$f":"'TRAINING MATRIX'!X$17","v":"21.8.19"}]
[{"$f":"'TRAINING MATRIX'!S2","v":"CPC Periodic Training Module"},{"$f":"'TRAINING MATRIX'!Y$17","v":"5.9.19"}]
[{"$f":"'TRAINING MATRIX'!T2","v":"CPC Periodic Training Module"},{"$f":"'TRAINING MATRIX'!Z$17","v":0}]
[{"$f":"'TRAINING MATRIX'!U2","v":"CPC Periodic Training Module"},{"$f":"'TRAINING MATRIX'!AA$17","v":0}]
[{"$f":"'TRAINING MATRIX'!V2","v":"CPC Periodic Training Module"},{"$f":"'TRAINING MATRIX'!AB$17","v":0}]
[{"$f":"'TRAINING MATRIX'!W2","v":"CPC Periodic Training Module"},{"$f":"'TRAINING MATRIX'!AC$17","v":0}]
[{"$f":"'TRAINING MATRIX'!X2","v":"FORS Security and Counter-Terrorism"},{"$f":"'TRAINING MATRIX'!X$17","v":"21.8.19"}]
[{"$f":"'TRAINING MATRIX'!Y2","v":"FORS BridgeSmart"},{"$f":"'TRAINING MATRIX'!Y$17","v":"5.9.19"}]
[{"$f":"'TRAINING MATRIX'!D2","v":0},{"$f":"'TRAINING MATRIX'!Z$17","v":0}]
[{"$f":"'TRAINING MATRIX'!AA2","v":"FORS LoCity"},{"$f":"'TRAINING MATRIX'!AA$17","v":0}]
[{"$f":"'TRAINING MATRIX'!AB2","v":"FORS SmartDeliveries"},{"$f":"'TRAINING MATRIX'!AB$17","v":0}]
[{"$f":"'TRAINING MATRIX'!AD2","v":"ADR Awareness"},{"$f":"'TRAINING MATRIX'!AC$17","v":0}]
[{"$f":"'TRAINING MATRIX'!AE2","v":"ADR (Core, Packages and All Classes ex 7 & 9)"},{"$f":"'TRAINING MATRIX'!AD$17","v":0}]
[{"$f":"'TRAINING MATRIX'!AF2","v":0},{"$f":"'TRAINING MATRIX'!AE$17","v":0}]
[{"$f":"'TRAINING MATRIX'!AF2","v":0},{"$f":"'TRAINING MATRIX'!AF$17","v":0}]
[{"$f":"'TRAINING MATRIX'!AG2","v":"TTB Climbing On & Off Vehicles"},{"$f":"'TRAINING MATRIX'!AG$17","v":"22.8.19"}]
[{"$f":"'TRAINING MATRIX'!AH2","v":"TTB Climbing On & Off Trailers & Load Decks"},{"$f":"'TRAINING MATRIX'!AH$17","v":"25.8.19"}]
[{"$f":"'TRAINING MATRIX'!AI2","v":"TTB Jumping To a Lifetime of Pain"},{"$f":"'TRAINING MATRIX'!AI$17","v":"25.8.19"}]
[{"$f":"'TRAINING MATRIX'!AJ2","v":"TTB Dealing With Cyclists"},{"$f":"'TRAINING MATRIX'!AJ$17","v":"25.8.19"}]
[{"$f":"'TRAINING MATRIX'!AK2","v":"TTB Fitness to Drive"},{"$f":"'TRAINING MATRIX'!AK$17","v":"25.8.19"}]
[{"$f":"'TRAINING MATRIX'!AL2","v":"TTB Loading & Unloading"},{"$f":"'TRAINING MATRIX'!AL$17","v":"25.8.19"}]
[{"$f":"'TRAINING MATRIX'!AM2","v":"TTB Protecting Vulnerable Road Users"},{"$f":"'TRAINING MATRIX'!AM$17","v":"25.8.19"}]
[{"$f":"'TRAINING MATRIX'!AN2","v":0},{"$f":"'TRAINING MATRIX'!AN$17","v":0}]
[{"$f":"'TRAINING MATRIX'!AO2","v":"SSOW Coupling and Uncoupling"},{"$f":"'TRAINING MATRIX'!AO$17","v":0}]
[{"$f":"'TRAINING MATRIX'!AP2","v":"SSOW Scanning Shed"},{"$f":"'TRAINING MATRIX'!AP$17","v":0}]
[{"$f":"'TRAINING MATRIX'!AQ2","v":"SWP Drivers Walkaround Checks"},{"$f":"'TRAINING MATRIX'!AQ$17","v":0}]
[{"$f":"'TRAINING MATRIX'!AR2","v":0},{"$f":"'TRAINING MATRIX'!AR$17","v":0}]
[{"$f":"'TRAINING MATRIX'!AS2","v":0},{"$f":"'TRAINING MATRIX'!AS$17","v":0}]
[{"$f":"'TRAINING MATRIX'!AT2","v":0},{"$f":"'TRAINING MATRIX'!AT$17","v":0}]
[{"$f":"'TRAINING MATRIX'!AU2","v":0},{"$f":"'TRAINING MATRIX'!AU$17","v":0}]
[{"$f":"'TRAINING MATRIX'!AV2","v":0},{"$f":"'TRAINING MATRIX'!AV$17","v":0}]
[{"$f":"'TRAINING MATRIX'!AW2","v":0},{"$f":"'TRAINING MATRIX'!AW$17","v":0}]
[{"$f":"'TRAINING MATRIX'!AX2","v":0},{"$f":"'TRAINING MATRIX'!AX$17","v":0}]
[{"$f":"'TRAINING MATRIX'!AY2","v":0},{"$f":"'TRAINING MATRIX'!AY$17","v":0}]
[{"$f":"'TRAINING MATRIX'!AZ2","v":0},{"$f":"'TRAINING MATRIX'!AZ$17","v":0}]

{"sheet":"Andrew Currie","index":17,"n_rows":52,"n_cols":2,"rows_kept":52,"cut":false,"hidden":false,"merged":[]}
["Driver Name","Completed / Issued"]
[{"$f":"'TRAINING MATRIX'!A18","v":"Currie Andy"},{"$f":"'TRAINING MATRIX'!C18","v":"CE"}]
[{"$f":"'TRAINING MATRIX'!B$18","v":0}]
[{"$f":"'TRAINING MATRIX'!D2","v":0},{"$f":"'TRAINING MATRIX'!D$18","v":0}]
[{"$f":"'TRAINING MATRIX'!E2","v":0},{"$f":"'TRAINING MATRIX'!E$18","v":0}]
[{"$f":"'TRAINING MATRIX'!F2","v":0},{"$f":"'TRAINING MATRIX'!F$18","v":0}]
[{"$f":"'TRAINING MATRIX'!G2","v":"Assessed"},{"$f":"'TRAINING MATRIX'!G$18","v":0}]
[{"$f":"'TRAINING MATRIX'!H2","v":"Driver induction"},{"$f":"'TRAINING MATRIX'!H$18","v":"19.01.17"}]
[{"$f":"'TRAINING MATRIX'!I2","v":"Highway Code via KT"},{"$f":"'TRAINING MATRIX'!I$18","v":0}]
[{"$f":"'TRAINING MATRIX'!J2","v":"Drivers Code of Conduct"},{"$f":"'TRAINING MATRIX'!J$18","v":0}]
[{"$f":"'TRAINING MATRIX'!K2","v":"Smoking Policy"},{"$f":"'TRAINING MATRIX'!K$18","v":0}]
[{"$f":"'TRAINING MATRIX'!L2","v":"Mobile Communication Policy"},{"$f":"'TRAINING MATRIX'!L$18","v":"6.9.19"}]
[{"$f":"'TRAINING MATRIX'!N2","v":"Transport Charges & Fines Policy"},{"$f":"'TRAINING MATRIX'!N$18","v":"22.8.19"}]
[{"$f":"'TRAINING MATRIX'!M2","v":"Using Sat Nav"},{"$f":"'TRAINING MATRIX'!M$18","v":0}]
[{"$f":"'TRAINING MATRIX'!O2","v":"Goods Vehicle and Safety Policy"},{"$f":"'TRAINING MATRIX'!O$18","v":"25.8.19"}]
[{"$f":"'TRAINING MATRIX'!P2","v":"Safe Loading Policy"},{"$f":"'TRAINING MATRIX'!P$18","v":"25.8.19"}]
[{"$f":"'TRAINING MATRIX'!Q2","v":"Eye Sight Check"},{"$f":"'TRAINING MATRIX'!Q$18","v":0}]
[{"$f":"'TRAINING MATRIX'!R2","v":"Use of Tail lifts"},{"$f":"'TRAINING MATRIX'!X$18","v":"21.8.19"}]
[{"$f":"'TRAINING MATRIX'!S2","v":"CPC Periodic Training Module"},{"$f":"'TRAINING MATRIX'!Y$18","v":"5.9.19"}]
[{"$f":"'TRAINING MATRIX'!T2","v":"CPC Periodic Training Module"},{"$f":"'TRAINING MATRIX'!Z$18","v":0}]
[{"$f":"'TRAINING MATRIX'!U2","v":"CPC Periodic Training Module"},{"$f":"'TRAINING MATRIX'!AA$18","v":0}]
[{"$f":"'TRAINING MATRIX'!V2","v":"CPC Periodic Training Module"},{"$f":"'TRAINING MATRIX'!AB$18","v":0}]
[{"$f":"'TRAINING MATRIX'!W2","v":"CPC Periodic Training Module"},{"$f":"'TRAINING MATRIX'!AC$18","v":0}]
[{"$f":"'TRAINING MATRIX'!X2","v":"FORS Security and Counter-Terrorism"},{"$f":"'TRAINING MATRIX'!X$18","v":"21.8.19"}]
[{"$f":"'TRAINING MATRIX'!Y2","v":"FORS BridgeSmart"},{"$f":"'TRAINING MATRIX'!Y$18","v":"5.9.19"}]
[{"$f":"'TRAINING MATRIX'!D2","v":0},{"$f":"'TRAINING MATRIX'!Z$18","v":0}]
[{"$f":"'TRAINING MATRIX'!AA2","v":"FORS LoCity"},{"$f":"'TRAINING MATRIX'!AA$18","v":0}]
[{"$f":"'TRAINING MATRIX'!AB2","v":"FORS SmartDeliveries"},{"$f":"'TRAINING MATRIX'!AB$18","v":0}]
[{"$f":"'TRAINING MATRIX'!AD2","v":"ADR Awareness"},{"$f":"'TRAINING MATRIX'!AC$18","v":0}]
[{"$f":"'TRAINING MATRIX'!AE2","v":"ADR (Core, Packages and All Classes ex 7 & 9)"},{"$f":"'TRAINING MATRIX'!AD$18","v":0}]
[{"$f":"'TRAINING MATRIX'!AF2","v":0},{"$f":"'TRAINING MATRIX'!AE$18","v":0}]
[{"$f":"'TRAINING MATRIX'!AF2","v":0},{"$f":"'TRAINING MATRIX'!AF$18","v":0}]
[{"$f":"'TRAINING MATRIX'!AG2","v":"TTB Climbing On & Off Vehicles"},{"$f":"'TRAINING MATRIX'!AG$18","v":"22.8.19"}]
[{"$f":"'TRAINING MATRIX'!AH2","v":"TTB Climbing On & Off Trailers & Load Decks"},{"$f":"'TRAINING MATRIX'!AH$18","v":"25.8.19"}]
[{"$f":"'TRAINING MATRIX'!AI2","v":"TTB Jumping To a Lifetime of Pain"},{"$f":"'TRAINING MATRIX'!AI$18","v":"25.8.19"}]
[{"$f":"'TRAINING MATRIX'!AJ2","v":"TTB Dealing With Cyclists"},{"$f":"'TRAINING MATRIX'!AJ$18","v":"25.8.19"}]
[{"$f":"'TRAINING MATRIX'!AK2","v":"TTB Fitness to Drive"},{"$f":"'TRAINING MATRIX'!AK$18","v":"25.8.19"}]
[{"$f":"'TRAINING MATRIX'!AL2","v":"TTB Loading & Unloading"},{"$f":"'TRAINING MATRIX'!AL$18","v":"25.8.19"}]
[{"$f":"'TRAINING MATRIX'!AM2","v":"TTB Protecting Vulnerable Road Users"},{"$f":"'TRAINING MATRIX'!AM$18","v":"25.8.19"}]
[{"$f":"'TRAINING MATRIX'!AN2","v":0},{"$f":"'TRAINING MATRIX'!AN$18","v":0}]
[{"$f":"'TRAINING MATRIX'!AO2","v":"SSOW Coupling and Uncoupling"},{"$f":"'TRAINING MATRIX'!AO$18","v":0}]
[{"$f":"'TRAINING MATRIX'!AP2","v":"SSOW Scanning Shed"},{"$f":"'TRAINING MATRIX'!AP$18","v":0}]
[{"$f":"'TRAINING MATRIX'!AQ2","v":"SWP Drivers Walkaround Checks"},{"$f":"'TRAINING MATRIX'!AQ$18","v":0}]
[{"$f":"'TRAINING MATRIX'!AR2","v":0},{"$f":"'TRAINING MATRIX'!AR$18","v":0}]
[{"$f":"'TRAINING MATRIX'!AS2","v":0},{"$f":"'TRAINING MATRIX'!AS$18","v":0}]
[{"$f":"'TRAINING MATRIX'!AT2","v":0},{"$f":"'TRAINING MATRIX'!AT$18","v":0}]
[{"$f":"'TRAINING MATRIX'!AU2","v":0},{"$f":"'TRAINING MATRIX'!AU$18","v":0}]
[{"$f":"'TRAINING MATRIX'!AV2","v":0},{"$f":"'TRAINING MATRIX'!AV$18","v":0}]
[{"$f":"'TRAINING MATRIX'!AW2","v":0},{"$f":"'TRAINING MATRIX'!AW$18","v":0}]
[{"$f":"'TRAINING MATRIX'!AX2","v":0},{"$f":"'TRAINING MATRIX'!AX$18","v":0}]
[{"$f":"'TRAINING MATRIX'!AY2","v":0},{"$f":"'TRAINING MATRIX'!AY$18","v":0}]
[{"$f":"'TRAINING MATRIX'!AZ2","v":0}]

{"sheet":"Derrick Dingley","index":18,"n_rows":52,"n_cols":2,"rows_kept":52,"cut":false,"hidden":false,"merged":[]}
["Driver Name","Completed / Issued"]
[{"$f":"'TRAINING MATRIX'!A19","v":"Dingley Derrick"},{"$f":"'TRAINING MATRIX'!C19","v":"C"}]
[{"$f":"'TRAINING MATRIX'!B$19","v":0}]
[{"$f":"'TRAINING MATRIX'!D2","v":0},{"$f":"'TRAINING MATRIX'!D$19","v":0}]
[{"$f":"'TRAINING MATRIX'!E2","v":0},{"$f":"'TRAINING MATRIX'!E$19","v":0}]
[{"$f":"'TRAINING MATRIX'!F2","v":0},{"$f":"'TRAINING MATRIX'!F$19","v":0}]
[{"$f":"'TRAINING MATRIX'!G2","v":"Assessed"},{"$f":"'TRAINING MATRIX'!G$19","v":0}]
[{"$f":"'TRAINING MATRIX'!H2","v":"Driver induction"},{"$f":"'TRAINING MATRIX'!H$19","v":"06.11.17"}]
[{"$f":"'TRAINING MATRIX'!I2","v":"Highway Code via KT"},{"$f":"'TRAINING MATRIX'!I$19","v":0}]
[{"$f":"'TRAINING MATRIX'!J2","v":"Drivers Code of Conduct"},{"$f":"'TRAINING MATRIX'!J$19","v":0}]
[{"$f":"'TRAINING MATRIX'!K2","v":"Smoking Policy"},{"$f":"'TRAINING MATRIX'!K$19","v":0}]
[{"$f":"'TRAINING MATRIX'!L2","v":"Mobile Communication Policy"},{"$f":"'TRAINING MATRIX'!L$19","v":0}]
[{"$f":"'TRAINING MATRIX'!N2","v":"Transport Charges & Fines Policy"},{"$f":"'TRAINING MATRIX'!N$19","v":"22.8.19"}]
[{"$f":"'TRAINING MATRIX'!M2","v":"Using Sat Nav"},{"$f":"'TRAINING MATRIX'!M$19","v":0}]
[{"$f":"'TRAINING MATRIX'!O2","v":"Goods Vehicle and Safety Policy"},{"$f":"'TRAINING MATRIX'!O$19","v":"25.8.19"}]
[{"$f":"'TRAINING MATRIX'!P2","v":"Safe Loading Policy"},{"$f":"'TRAINING MATRIX'!P$19","v":"25.8.19"}]
[{"$f":"'TRAINING MATRIX'!Q2","v":"Eye Sight Check"},{"$f":"'TRAINING MATRIX'!Q$19","v":"11.9.19"}]
[{"$f":"'TRAINING MATRIX'!R2","v":"Use of Tail lifts"},{"$f":"'TRAINING MATRIX'!X$19","v":"21.8.19"}]
[{"$f":"'TRAINING MATRIX'!S2","v":"CPC Periodic Training Module"},{"$f":"'TRAINING MATRIX'!Y$19","v":0}]
[{"$f":"'TRAINING MATRIX'!T2","v":"CPC Periodic Training Module"},{"$f":"'TRAINING MATRIX'!Z$19","v":0}]
[{"$f":"'TRAINING MATRIX'!U2","v":"CPC Periodic Training Module"},{"$f":"'TRAINING MATRIX'!AA$19","v":0}]
[{"$f":"'TRAINING MATRIX'!V2","v":"CPC Periodic Training Module"},{"$f":"'TRAINING MATRIX'!AB$19","v":0}]
[{"$f":"'TRAINING MATRIX'!W2","v":"CPC Periodic Training Module"},{"$f":"'TRAINING MATRIX'!AC$19","v":0}]
[{"$f":"'TRAINING MATRIX'!X2","v":"FORS Security and Counter-Terrorism"},{"$f":"'TRAINING MATRIX'!X$19","v":"21.8.19"}]
[{"$f":"'TRAINING MATRIX'!Y2","v":"FORS BridgeSmart"},{"$f":"'TRAINING MATRIX'!Y$19","v":0}]
[{"$f":"'TRAINING MATRIX'!D2","v":0},{"$f":"'TRAINING MATRIX'!Z$19","v":0}]
[{"$f":"'TRAINING MATRIX'!AA2","v":"FORS LoCity"},{"$f":"'TRAINING MATRIX'!AA$19","v":0}]
[{"$f":"'TRAINING MATRIX'!AB2","v":"FORS SmartDeliveries"},{"$f":"'TRAINING MATRIX'!AB$19","v":0}]
[{"$f":"'TRAINING MATRIX'!AD2","v":"ADR Awareness"},{"$f":"'TRAINING MATRIX'!AC$19","v":0}]
[{"$f":"'TRAINING MATRIX'!AE2","v":"ADR (Core, Packages and All Classes ex 7 & 9)"},{"$f":"'TRAINING MATRIX'!AD$19","v":0}]
[{"$f":"'TRAINING MATRIX'!AF2","v":0},{"$f":"'TRAINING MATRIX'!AE$19","v":0}]
[{"$f":"'TRAINING MATRIX'!AF2","v":0},{"$f":"'TRAINING MATRIX'!AF$19","v":0}]
[{"$f":"'TRAINING MATRIX'!AG2","v":"TTB Climbing On & Off Vehicles"},{"$f":"'TRAINING MATRIX'!AG$19","v":"22.8.19"}]
[{"$f":"'TRAINING MATRIX'!AH2","v":"TTB Climbing On & Off Trailers & Load Decks"},{"$f":"'TRAINING MATRIX'!AH$19","v":"25.8.19"}]
[{"$f":"'TRAINING MATRIX'!AI2","v":"TTB Jumping To a Lifetime of Pain"},{"$f":"'TRAINING MATRIX'!AI$19","v":"25.8.19"}]
[{"$f":"'TRAINING MATRIX'!AJ2","v":"TTB Dealing With Cyclists"},{"$f":"'TRAINING MATRIX'!AJ$19","v":"25.8.19"}]
[{"$f":"'TRAINING MATRIX'!AK2","v":"TTB Fitness to Drive"},{"$f":"'TRAINING MATRIX'!AK$19","v":"25.8.19"}]
[{"$f":"'TRAINING MATRIX'!AL2","v":"TTB Loading & Unloading"},{"$f":"'TRAINING MATRIX'!AL$19","v":"25.8.19"}]
[{"$f":"'TRAINING MATRIX'!AM2","v":"TTB Protecting Vulnerable Road Users"},{"$f":"'TRAINING MATRIX'!AM$19","v":"25.8.19"}]
[{"$f":"'TRAINING MATRIX'!AN2","v":0},{"$f":"'TRAINING MATRIX'!AN$19","v":0}]
[{"$f":"'TRAINING MATRIX'!AO2","v":"SSOW Coupling and Uncoupling"},{"$f":"'TRAINING MATRIX'!AO$19","v":0}]
[{"$f":"'TRAINING MATRIX'!AP2","v":"SSOW Scanning Shed"},{"$f":"'TRAINING MATRIX'!AP$19","v":0}]
[{"$f":"'TRAINING MATRIX'!AQ2","v":"SWP Drivers Walkaround Checks"},{"$f":"'TRAINING MATRIX'!AQ$19","v":0}]
[{"$f":"'TRAINING MATRIX'!AR2","v":0},{"$f":"'TRAINING MATRIX'!AR$19","v":0}]
[{"$f":"'TRAINING MATRIX'!AS2","v":0},{"$f":"'TRAINING MATRIX'!AS$19","v":0}]
[{"$f":"'TRAINING MATRIX'!AT2","v":0},{"$f":"'TRAINING MATRIX'!AT$19","v":0}]
[{"$f":"'TRAINING MATRIX'!AU2","v":0},{"$f":"'TRAINING MATRIX'!AU$19","v":0}]
[{"$f":"'TRAINING MATRIX'!AV2","v":0},{"$f":"'TRAINING MATRIX'!AV$19","v":0}]
[{"$f":"'TRAINING MATRIX'!AW2","v":0},{"$f":"'TRAINING MATRIX'!AW$19","v":0}]
[{"$f":"'TRAINING MATRIX'!AX2","v":0},{"$f":"'TRAINING MATRIX'!AX$19","v":0}]
[{"$f":"'TRAINING MATRIX'!AY2","v":0},{"$f":"'TRAINING MATRIX'!AY$19","v":0}]
[{"$f":"'TRAINING MATRIX'!AZ2","v":0},{"$f":"'TRAINING MATRIX'!AZ$19","v":0}]

{"sheet":"John Dixon","index":19,"n_rows":52,"n_cols":2,"rows_kept":52,"cut":false,"hidden":false,"merged":[]}
["Driver Name","Completed / Issued"]
[{"$f":"'TRAINING MATRIX'!A20","v":"Dixon John"},{"$f":"'TRAINING MATRIX'!C20","v":"C"}]
[{"$f":"'TRAINING MATRIX'!B$20","v":0}]
[{"$f":"'TRAINING MATRIX'!D2","v":0},{"$f":"'TRAINING MATRIX'!D$20","v":0}]
[{"$f":"'TRAINING MATRIX'!E2","v":0},{"$f":"'TRAINING MATRIX'!E$20","v":0}]
[{"$f":"'TRAINING MATRIX'!F2","v":0},{"$f":"'TRAINING MATRIX'!F$20","v":0}]
[{"$f":"'TRAINING MATRIX'!G2","v":"Assessed"},{"$f":"'TRAINING MATRIX'!G$20","v":0}]
[{"$f":"'TRAINING MATRIX'!H2","v":"Driver induction"},{"$f":"'TRAINING MATRIX'!H$20","v":"28.05.13"}]
[{"$f":"'TRAINING MATRIX'!I2","v":"Highway Code via KT"},{"$f":"'TRAINING MATRIX'!I$20","v":0}]
[{"$f":"'TRAINING MATRIX'!J2","v":"Drivers Code of Conduct"},{"$f":"'TRAINING MATRIX'!J$20","v":0}]
[{"$f":"'TRAINING MATRIX'!K2","v":"Smoking Policy"},{"$f":"'TRAINING MATRIX'!K$20","v":0}]
[{"$f":"'TRAINING MATRIX'!L2","v":"Mobile Communication Policy"},{"$f":"'TRAINING MATRIX'!L$20","v":"6.9.19"}]
[{"$f":"'TRAINING MATRIX'!N2","v":"Transport Charges & Fines Policy"},{"$f":"'TRAINING MATRIX'!N$20","v":"22.8.19"}]
[{"$f":"'TRAINING MATRIX'!M2","v":"Using Sat Nav"},{"$f":"'TRAINING MATRIX'!M$20","v":0}]
[{"$f":"'TRAINING MATRIX'!O2","v":"Goods Vehicle and Safety Policy"},{"$f":"'TRAINING MATRIX'!O$20","v":"25.8.19"}]
[{"$f":"'TRAINING MATRIX'!P2","v":"Safe Loading Policy"},{"$f":"'TRAINING MATRIX'!P$20","v":"25.8.19"}]
[{"$f":"'TRAINING MATRIX'!Q2","v":"Eye Sight Check"},{"$f":"'TRAINING MATRIX'!Q$20","v":"21.8.19"}]
[{"$f":"'TRAINING MATRIX'!R2","v":"Use of Tail lifts"},{"$f":"'TRAINING MATRIX'!X$20","v":"21.8.19"}]
[{"$f":"'TRAINING MATRIX'!S2","v":"CPC Periodic Training Module"},{"$f":"'TRAINING MATRIX'!Y$20","v":"5.9.19"}]
[{"$f":"'TRAINING MATRIX'!T2","v":"CPC Periodic Training Module"},{"$f":"'TRAINING MATRIX'!Z$20","v":0}]
[{"$f":"'TRAINING MATRIX'!U2","v":"CPC Periodic Training Module"},{"$f":"'TRAINING MATRIX'!AA$20","v":0}]
[{"$f":"'TRAINING MATRIX'!V2","v":"CPC Periodic Training Module"},{"$f":"'TRAINING MATRIX'!AB$20","v":0}]
[{"$f":"'TRAINING MATRIX'!W2","v":"CPC Periodic Training Module"},{"$f":"'TRAINING MATRIX'!AC$20","v":0}]
[{"$f":"'TRAINING MATRIX'!X2","v":"FORS Security and Counter-Terrorism"},{"$f":"'TRAINING MATRIX'!X$20","v":"21.8.19"}]
[{"$f":"'TRAINING MATRIX'!Y2","v":"FORS BridgeSmart"},{"$f":"'TRAINING MATRIX'!Y$20","v":"5.9.19"}]
[{"$f":"'TRAINING MATRIX'!D2","v":0},{"$f":"'TRAINING MATRIX'!Z$20","v":0}]
[{"$f":"'TRAINING MATRIX'!AA2","v":"FORS LoCity"},{"$f":"'TRAINING MATRIX'!AA$20","v":0}]
[{"$f":"'TRAINING MATRIX'!AB2","v":"FORS SmartDeliveries"},{"$f":"'TRAINING MATRIX'!AB$20","v":0}]
[{"$f":"'TRAINING MATRIX'!AD2","v":"ADR Awareness"},{"$f":"'TRAINING MATRIX'!AC$20","v":0}]
[{"$f":"'TRAINING MATRIX'!AE2","v":"ADR (Core, Packages and All Classes ex 7 & 9)"},{"$f":"'TRAINING MATRIX'!AD$20","v":0}]
[{"$f":"'TRAINING MATRIX'!AF2","v":0},{"$f":"'TRAINING MATRIX'!AE$20","v":0}]
[{"$f":"'TRAINING MATRIX'!AF2","v":0},{"$f":"'TRAINING MATRIX'!AF$20","v":0}]
[{"$f":"'TRAINING MATRIX'!AG2","v":"TTB Climbing On & Off Vehicles"},{"$f":"'TRAINING MATRIX'!AG$20","v":"22.8.19"}]
[{"$f":"'TRAINING MATRIX'!AH2","v":"TTB Climbing On & Off Trailers & Load Decks"},{"$f":"'TRAINING MATRIX'!AH$20","v":"25.8.19"}]
[{"$f":"'TRAINING MATRIX'!AI2","v":"TTB Jumping To a Lifetime of Pain"},{"$f":"'TRAINING MATRIX'!AI$20","v":"25.8.19"}]
[{"$f":"'TRAINING MATRIX'!AJ2","v":"TTB Dealing With Cyclists"},{"$f":"'TRAINING MATRIX'!AJ$20","v":"25.8.19"}]
[{"$f":"'TRAINING MATRIX'!AK2","v":"TTB Fitness to Drive"},{"$f":"'TRAINING MATRIX'!AK$20","v":"25.8.19"}]
[{"$f":"'TRAINING MATRIX'!AL2","v":"TTB Loading & Unloading"},{"$f":"'TRAINING MATRIX'!AL$20","v":"25.8.19"}]
[{"$f":"'TRAINING MATRIX'!AM2","v":"TTB Protecting Vulnerable Road Users"},{"$f":"'TRAINING MATRIX'!AM$20","v":"25.8.19"}]
[{"$f":"'TRAINING MATRIX'!AN2","v":0},{"$f":"'TRAINING MATRIX'!AN$20","v":0}]
[{"$f":"'TRAINING MATRIX'!AO2","v":"SSOW Coupling and Uncoupling"},{"$f":"'TRAINING MATRIX'!AO$20","v":0}]
[{"$f":"'TRAINING MATRIX'!AP2","v":"SSOW Scanning Shed"},{"$f":"'TRAINING MATRIX'!AP$20","v":0}]
[{"$f":"'TRAINING MATRIX'!AQ2","v":"SWP Drivers Walkaround Checks"},{"$f":"'TRAINING MATRIX'!AQ$20","v":0}]
[{"$f":"'TRAINING MATRIX'!AR2","v":0},{"$f":"'TRAINING MATRIX'!AR$20","v":0}]
[{"$f":"'TRAINING MATRIX'!AS2","v":0},{"$f":"'TRAINING MATRIX'!AS$20","v":0}]
[{"$f":"'TRAINING MATRIX'!AT2","v":0},{"$f":"'TRAINING MATRIX'!AT$20","v":0}]
[{"$f":"'TRAINING MATRIX'!AU2","v":0},{"$f":"'TRAINING MATRIX'!AU$20","v":0}]
[{"$f":"'TRAINING MATRIX'!AV2","v":0},{"$f":"'TRAINING MATRIX'!AV$20","v":0}]
[{"$f":"'TRAINING MATRIX'!AW2","v":0},{"$f":"'TRAINING MATRIX'!AW$20","v":0}]
[{"$f":"'TRAINING MATRIX'!AX2","v":0},{"$f":"'TRAINING MATRIX'!AX$20","v":0}]
[{"$f":"'TRAINING MATRIX'!AY2","v":0},{"$f":"'TRAINING MATRIX'!AY$20","v":0}]
[{"$f":"'TRAINING MATRIX'!AZ2","v":0},{"$f":"'TRAINING MATRIX'!AZ$20","v":0}]

{"sheet":"Terry Dixon","index":20,"n_rows":52,"n_cols":2,"rows_kept":52,"cut":false,"hidden":false,"merged":[]}
["Driver Name","Completed / Issued"]
[{"$f":"'TRAINING MATRIX'!A21","v":"Dixon Terry "},{"$f":"'TRAINING MATRIX'!C21","v":"CE"}]
[{"$f":"'TRAINING MATRIX'!B$21","v":0}]
[{"$f":"'TRAINING MATRIX'!D2","v":0},{"$f":"'TRAINING MATRIX'!D$21","v":0}]
[{"$f":"'TRAINING MATRIX'!E2","v":0},{"$f":"'TRAINING MATRIX'!E$21","v":0}]
[{"$f":"'TRAINING MATRIX'!F2","v":0},{"$f":"'TRAINING MATRIX'!F$21","v":0}]
[{"$f":"'TRAINING MATRIX'!G2","v":"Assessed"},{"$f":"'TRAINING MATRIX'!G$21","v":"24.01.19"}]
[{"$f":"'TRAINING MATRIX'!H2","v":"Driver induction"},{"$f":"'TRAINING MATRIX'!H$21","v":"24.01.19"}]
[{"$f":"'TRAINING MATRIX'!I2","v":"Highway Code via KT"},{"$f":"'TRAINING MATRIX'!I$21","v":0}]
[{"$f":"'TRAINING MATRIX'!J2","v":"Drivers Code of Conduct"},{"$f":"'TRAINING MATRIX'!J$21","v":0}]
[{"$f":"'TRAINING MATRIX'!K2","v":"Smoking Policy"},{"$f":"'TRAINING MATRIX'!K$21","v":0}]
[{"$f":"'TRAINING MATRIX'!L2","v":"Mobile Communication Policy"},{"$f":"'TRAINING MATRIX'!L$21","v":"6.9.19"}]
[{"$f":"'TRAINING MATRIX'!N2","v":"Transport Charges & Fines Policy"},{"$f":"'TRAINING MATRIX'!N$21","v":"22.8.19"}]
[{"$f":"'TRAINING MATRIX'!M2","v":"Using Sat Nav"},{"$f":"'TRAINING MATRIX'!M$21","v":0}]
[{"$f":"'TRAINING MATRIX'!O2","v":"Goods Vehicle and Safety Policy"},{"$f":"'TRAINING MATRIX'!O$21","v":"25.8.19"}]
[{"$f":"'TRAINING MATRIX'!P2","v":"Safe Loading Policy"},{"$f":"'TRAINING MATRIX'!P$21","v":"25.8.19"}]
[{"$f":"'TRAINING MATRIX'!Q2","v":"Eye Sight Check"},{"$f":"'TRAINING MATRIX'!Q$21","v":"12.9.19"}]
[{"$f":"'TRAINING MATRIX'!R2","v":"Use of Tail lifts"},{"$f":"'TRAINING MATRIX'!X$21","v":"21.8.19"}]
[{"$f":"'TRAINING MATRIX'!S2","v":"CPC Periodic Training Module"},{"$f":"'TRAINING MATRIX'!Y$21","v":"5.9.19"}]
[{"$f":"'TRAINING MATRIX'!T2","v":"CPC Periodic Training Module"},{"$f":"'TRAINING MATRIX'!Z$21","v":0}]
[{"$f":"'TRAINING MATRIX'!U2","v":"CPC Periodic Training Module"},{"$f":"'TRAINING MATRIX'!AA$21","v":0}]
[{"$f":"'TRAINING MATRIX'!V2","v":"CPC Periodic Training Module"},{"$f":"'TRAINING MATRIX'!AB$21","v":0}]
[{"$f":"'TRAINING MATRIX'!W2","v":"CPC Periodic Training Module"},{"$f":"'TRAINING MATRIX'!AC$21","v":0}]
[{"$f":"'TRAINING MATRIX'!X2","v":"FORS Security and Counter-Terrorism"},{"$f":"'TRAINING MATRIX'!X$21","v":"21.8.19"}]
[{"$f":"'TRAINING MATRIX'!Y2","v":"FORS BridgeSmart"},{"$f":"'TRAINING MATRIX'!Y$21","v":"5.9.19"}]
[{"$f":"'TRAINING MATRIX'!D2","v":0},{"$f":"'TRAINING MATRIX'!Z$21","v":0}]
[{"$f":"'TRAINING MATRIX'!AA2","v":"FORS LoCity"},{"$f":"'TRAINING MATRIX'!AA$21","v":0}]
[{"$f":"'TRAINING MATRIX'!AB2","v":"FORS SmartDeliveries"},{"$f":"'TRAINING MATRIX'!AB$21","v":0}]
[{"$f":"'TRAINING MATRIX'!AD2","v":"ADR Awareness"},{"$f":"'TRAINING MATRIX'!AC$21","v":0}]
[{"$f":"'TRAINING MATRIX'!AE2","v":"ADR (Core, Packages and All Classes ex 7 & 9)"},{"$f":"'TRAINING MATRIX'!AD$21","v":0}]
[{"$f":"'TRAINING MATRIX'!AF2","v":0},{"$f":"'TRAINING MATRIX'!AE$21","v":0}]
[{"$f":"'TRAINING MATRIX'!AF2","v":0},{"$f":"'TRAINING MATRIX'!AF$21","v":0}]
[{"$f":"'TRAINING MATRIX'!AG2","v":"TTB Climbing On & Off Vehicles"},{"$f":"'TRAINING MATRIX'!AG$21","v":"22.8.19"}]
[{"$f":"'TRAINING MATRIX'!AH2","v":"TTB Climbing On & Off Trailers & Load Decks"},{"$f":"'TRAINING MATRIX'!AH$21","v":"25.8.19"}]
[{"$f":"'TRAINING MATRIX'!AI2","v":"TTB Jumping To a Lifetime of Pain"},{"$f":"'TRAINING MATRIX'!AI$21","v":"25.8.19"}]
[{"$f":"'TRAINING MATRIX'!AJ2","v":"TTB Dealing With Cyclists"},{"$f":"'TRAINING MATRIX'!AJ$21","v":"25.8.19"}]
[{"$f":"'TRAINING MATRIX'!AK2","v":"TTB Fitness to Drive"},{"$f":"'TRAINING MATRIX'!AK$21","v":"25.8.19"}]
[{"$f":"'TRAINING MATRIX'!AL2","v":"TTB Loading & Unloading"},{"$f":"'TRAINING MATRIX'!AL$21","v":"25.8.19"}]
[{"$f":"'TRAINING MATRIX'!AM2","v":"TTB Protecting Vulnerable Road Users"},{"$f":"'TRAINING MATRIX'!AM$21","v":"25.8.19"}]
[{"$f":"'TRAINING MATRIX'!AN2","v":0},{"$f":"'TRAINING MATRIX'!AN$21","v":0}]
[{"$f":"'TRAINING MATRIX'!AO2","v":"SSOW Coupling and Uncoupling"},{"$f":"'TRAINING MATRIX'!AO$21","v":0}]
[{"$f":"'TRAINING MATRIX'!AP2","v":"SSOW Scanning Shed"},{"$f":"'TRAINING MATRIX'!AP$21","v":0}]
[{"$f":"'TRAINING MATRIX'!AQ2","v":"SWP Drivers Walkaround Checks"},{"$f":"'TRAINING MATRIX'!AQ$21","v":0}]
[{"$f":"'TRAINING MATRIX'!AR2","v":0},{"$f":"'TRAINING MATRIX'!AR$21","v":0}]
[{"$f":"'TRAINING MATRIX'!AS2","v":0},{"$f":"'TRAINING MATRIX'!AS$21","v":0}]
[{"$f":"'TRAINING MATRIX'!AT2","v":0},{"$f":"'TRAINING MATRIX'!AT$21","v":0}]
[{"$f":"'TRAINING MATRIX'!AU2","v":0},{"$f":"'TRAINING MATRIX'!AU$21","v":0}]
[{"$f":"'TRAINING MATRIX'!AV2","v":0},{"$f":"'TRAINING MATRIX'!AV$21","v":0}]
[{"$f":"'TRAINING MATRIX'!AW2","v":0},{"$f":"'TRAINING MATRIX'!AW$21","v":0}]
[{"$f":"'TRAINING MATRIX'!AX2","v":0},{"$f":"'TRAINING MATRIX'!AX$21","v":0}]
[{"$f":"'TRAINING MATRIX'!AY2","v":0},{"$f":"'TRAINING MATRIX'!AY$21","v":0}]
[{"$f":"'TRAINING MATRIX'!AZ2","v":0},{"$f":"'TRAINING MATRIX'!AZ$21","v":0}]

{"sheet":"Kenneth Dunkley","index":21,"n_rows":52,"n_cols":2,"rows_kept":52,"cut":false,"hidden":false,"merged":[]}
["Driver Name","Completed / Issued"]
[{"$f":"'TRAINING MATRIX'!A22","v":"Dunkley Ken"},{"$f":"'TRAINING MATRIX'!C22","v":"C"}]
[{"$f":"'TRAINING MATRIX'!B$22","v":0}]
[{"$f":"'TRAINING MATRIX'!D2","v":0},{"$f":"'TRAINING MATRIX'!D$22","v":0}]
[{"$f":"'TRAINING MATRIX'!E2","v":0},{"$f":"'TRAINING MATRIX'!E$22","v":0}]
[{"$f":"'TRAINING MATRIX'!F2","v":0},{"$f":"'TRAINING MATRIX'!F$22","v":0}]
[{"$f":"'TRAINING MATRIX'!G2","v":"Assessed"},{"$f":"'TRAINING MATRIX'!G$22","v":0}]
[{"$f":"'TRAINING MATRIX'!H2","v":"Driver induction"},{"$f":"'TRAINING MATRIX'!H$22","v":"04.08.14"}]
[{"$f":"'TRAINING MATRIX'!I2","v":"Highway Code via KT"},{"$f":"'TRAINING MATRIX'!I$22","v":0}]
[{"$f":"'TRAINING MATRIX'!J2","v":"Drivers Code of Conduct"},{"$f":"'TRAINING MATRIX'!J$22","v":0}]
[{"$f":"'TRAINING MATRIX'!K2","v":"Smoking Policy"},{"$f":"'TRAINING MATRIX'!K$22","v":0}]
[{"$f":"'TRAINING MATRIX'!L2","v":"Mobile Communication Policy"},{"$f":"'TRAINING MATRIX'!L$22","v":"6.9.19"}]
[{"$f":"'TRAINING MATRIX'!N2","v":"Transport Charges & Fines Policy"},{"$f":"'TRAINING MATRIX'!N$22","v":"22.8.19"}]
[{"$f":"'TRAINING MATRIX'!M2","v":"Using Sat Nav"},{"$f":"'TRAINING MATRIX'!M$22","v":0}]
[{"$f":"'TRAINING MATRIX'!O2","v":"Goods Vehicle and Safety Policy"},{"$f":"'TRAINING MATRIX'!O$22","v":"25.8.19"}]
[{"$f":"'TRAINING MATRIX'!P2","v":"Safe Loading Policy"},{"$f":"'TRAINING MATRIX'!P$22","v":"25.8.19"}]
[{"$f":"'TRAINING MATRIX'!Q2","v":"Eye Sight Check"},{"$f":"'TRAINING MATRIX'!Q$22","v":"21.8.19"}]
[{"$f":"'TRAINING MATRIX'!R2","v":"Use of Tail lifts"},{"$f":"'TRAINING MATRIX'!X$22","v":"21.8.19"}]
[{"$f":"'TRAINING MATRIX'!S2","v":"CPC Periodic Training Module"},{"$f":"'TRAINING MATRIX'!Y$22","v":"5.9.19"}]
[{"$f":"'TRAINING MATRIX'!T2","v":"CPC Periodic Training Module"},{"$f":"'TRAINING MATRIX'!Z$22","v":0}]
[{"$f":"'TRAINING MATRIX'!U2","v":"CPC Periodic Training Module"},{"$f":"'TRAINING MATRIX'!AA$22","v":0}]
[{"$f":"'TRAINING MATRIX'!V2","v":"CPC Periodic Training Module"},{"$f":"'TRAINING MATRIX'!AB$22","v":0}]
[{"$f":"'TRAINING MATRIX'!W2","v":"CPC Periodic Training Module"},{"$f":"'TRAINING MATRIX'!AC$22","v":0}]
[{"$f":"'TRAINING MATRIX'!X2","v":"FORS Security and Counter-Terrorism"},{"$f":"'TRAINING MATRIX'!X$22","v":"21.8.19"}]
[{"$f":"'TRAINING MATRIX'!Y2","v":"FORS BridgeSmart"},{"$f":"'TRAINING MATRIX'!Y$22","v":"5.9.19"}]
[{"$f":"'TRAINING MATRIX'!D2","v":0},{"$f":"'TRAINING MATRIX'!Z$22","v":0}]
[{"$f":"'TRAINING MATRIX'!AA2","v":"FORS LoCity"},{"$f":"'TRAINING MATRIX'!AA$22","v":0}]
[{"$f":"'TRAINING MATRIX'!AB2","v":"FORS SmartDeliveries"},{"$f":"'TRAINING MATRIX'!AB$22","v":0}]
[{"$f":"'TRAINING MATRIX'!AD2","v":"ADR Awareness"},{"$f":"'TRAINING MATRIX'!AC$22","v":0}]
[{"$f":"'TRAINING MATRIX'!AE2","v":"ADR (Core, Packages and All Classes ex 7 & 9)"},{"$f":"'TRAINING MATRIX'!AD$22","v":0}]
[{"$f":"'TRAINING MATRIX'!AF2","v":0},{"$f":"'TRAINING MATRIX'!AE$22","v":0}]
[{"$f":"'TRAINING MATRIX'!AF2","v":0},{"$f":"'TRAINING MATRIX'!AF$22","v":0}]
[{"$f":"'TRAINING MATRIX'!AG2","v":"TTB Climbing On & Off Vehicles"},{"$f":"'TRAINING MATRIX'!AG$22","v":"22.8.19"}]
[{"$f":"'TRAINING MATRIX'!AH2","v":"TTB Climbing On & Off Trailers & Load Decks"},{"$f":"'TRAINING MATRIX'!AH$22","v":"25.8.19"}]
[{"$f":"'TRAINING MATRIX'!AI2","v":"TTB Jumping To a Lifetime of Pain"},{"$f":"'TRAINING MATRIX'!AI$22","v":"25.8.19"}]
[{"$f":"'TRAINING MATRIX'!AJ2","v":"TTB Dealing With Cyclists"},{"$f":"'TRAINING MATRIX'!AJ$22","v":"25.8.19"}]
[{"$f":"'TRAINING MATRIX'!AK2","v":"TTB Fitness to Drive"},{"$f":"'TRAINING MATRIX'!AK$22","v":"25.8.19"}]
[{"$f":"'TRAINING MATRIX'!AL2","v":"TTB Loading & Unloading"},{"$f":"'TRAINING MATRIX'!AL$22","v":"25.8.19"}]
[{"$f":"'TRAINING MATRIX'!AM2","v":"TTB Protecting Vulnerable Road Users"},{"$f":"'TRAINING MATRIX'!AM$22","v":"25.8.19"}]
[{"$f":"'TRAINING MATRIX'!AN2","v":0},{"$f":"'TRAINING MATRIX'!AN$22","v":0}]
[{"$f":"'TRAINING MATRIX'!AO2","v":"SSOW Coupling and Uncoupling"},{"$f":"'TRAINING MATRIX'!AO$22","v":0}]
[{"$f":"'TRAINING MATRIX'!AP2","v":"SSOW Scanning Shed"},{"$f":"'TRAINING MATRIX'!AP$22","v":0}]
[{"$f":"'TRAINING MATRIX'!AQ2","v":"SWP Drivers Walkaround Checks"},{"$f":"'TRAINING MATRIX'!AQ$22","v":0}]
[{"$f":"'TRAINING MATRIX'!AR2","v":0},{"$f":"'TRAINING MATRIX'!AR$22","v":0}]
[{"$f":"'TRAINING MATRIX'!AS2","v":0},{"$f":"'TRAINING MATRIX'!AS$22","v":0}]
[{"$f":"'TRAINING MATRIX'!AT2","v":0},{"$f":"'TRAINING MATRIX'!AT$22","v":0}]
[{"$f":"'TRAINING MATRIX'!AU2","v":0},{"$f":"'TRAINING MATRIX'!AU$22","v":0}]
[{"$f":"'TRAINING MATRIX'!AV2","v":0},{"$f":"'TRAINING MATRIX'!AV$22","v":0}]
[{"$f":"'TRAINING MATRIX'!AW2","v":0},{"$f":"'TRAINING MATRIX'!AW$22","v":0}]
[{"$f":"'TRAINING MATRIX'!AX2","v":0},{"$f":"'TRAINING MATRIX'!AX$22","v":0}]
[{"$f":"'TRAINING MATRIX'!AY2","v":0},{"$f":"'TRAINING MATRIX'!AY$22","v":0}]
[{"$f":"'TRAINING MATRIX'!AZ2","v":0},{"$f":"'TRAINING MATRIX'!AZ$22","v":0}]

{"sheet":"Paul Eliott","index":22,"n_rows":52,"n_cols":2,"rows_kept":52,"cut":false,"hidden":false,"merged":[]}
["Driver Name","Completed / Issued"]
[{"$f":"'TRAINING MATRIX'!A23","v":"Elliott Paul"},{"$f":"'TRAINING MATRIX'!C23","v":"CE"}]
[{"$f":"'TRAINING MATRIX'!B$23","v":"Left 09.09.19"}]
[{"$f":"'TRAINING MATRIX'!D2","v":0},{"$f":"'TRAINING MATRIX'!D$23","v":0}]
[{"$f":"'TRAINING MATRIX'!E2","v":0},{"$f":"'TRAINING MATRIX'!E$23","v":0}]
[{"$f":"'TRAINING MATRIX'!F2","v":0},{"$f":"'TRAINING MATRIX'!F$23","v":0}]
[{"$f":"'TRAINING MATRIX'!G2","v":"Assessed"},{"$f":"'TRAINING MATRIX'!G$23","v":0}]
[{"$f":"'TRAINING MATRIX'!H2","v":"Driver induction"},{"$f":"'TRAINING MATRIX'!H$23","v":0}]
[{"$f":"'TRAINING MATRIX'!I2","v":"Highway Code via KT"},{"$f":"'TRAINING MATRIX'!I$23","v":0}]
[{"$f":"'TRAINING MATRIX'!J2","v":"Drivers Code of Conduct"},{"$f":"'TRAINING MATRIX'!J$23","v":0}]
[{"$f":"'TRAINING MATRIX'!K2","v":"Smoking Policy"},{"$f":"'TRAINING MATRIX'!K$23","v":0}]
[{"$f":"'TRAINING MATRIX'!L2","v":"Mobile Communication Policy"},{"$f":"'TRAINING MATRIX'!L$23","v":"6.9.19"}]
[{"$f":"'TRAINING MATRIX'!N2","v":"Transport Charges & Fines Policy"},{"$f":"'TRAINING MATRIX'!N$23","v":"22.8.19"}]
[{"$f":"'TRAINING MATRIX'!M2","v":"Using Sat Nav"},{"$f":"'TRAINING MATRIX'!M$23","v":0}]
[{"$f":"'TRAINING MATRIX'!O2","v":"Goods Vehicle and Safety Policy"},{"$f":"'TRAINING MATRIX'!O$23","v":"25.8.19"}]
[{"$f":"'TRAINING MATRIX'!P2","v":"Safe Loading Policy"},{"$f":"'TRAINING MATRIX'!P$23","v":"25.8.19"}]
[{"$f":"'TRAINING MATRIX'!Q2","v":"Eye Sight Check"},{"$f":"'TRAINING MATRIX'!Q$23","v":0}]
[{"$f":"'TRAINING MATRIX'!R2","v":"Use of Tail lifts"},{"$f":"'TRAINING MATRIX'!X$23","v":"21.8.19"}]
[{"$f":"'TRAINING MATRIX'!S2","v":"CPC Periodic Training Module"},{"$f":"'TRAINING MATRIX'!Y$23","v":"5.9.19"}]
[{"$f":"'TRAINING MATRIX'!T2","v":"CPC Periodic Training Module"},{"$f":"'TRAINING MATRIX'!Z$23","v":0}]
[{"$f":"'TRAINING MATRIX'!U2","v":"CPC Periodic Training Module"},{"$f":"'TRAINING MATRIX'!AA$23","v":0}]
[{"$f":"'TRAINING MATRIX'!V2","v":"CPC Periodic Training Module"},{"$f":"'TRAINING MATRIX'!AB$23","v":0}]
[{"$f":"'TRAINING MATRIX'!W2","v":"CPC Periodic Training Module"},{"$f":"'TRAINING MATRIX'!AC$23","v":0}]
[{"$f":"'TRAINING MATRIX'!X2","v":"FORS Security and Counter-Terrorism"},{"$f":"'TRAINING MATRIX'!X$23","v":"21.8.19"}]
[{"$f":"'TRAINING MATRIX'!Y2","v":"FORS BridgeSmart"},{"$f":"'TRAINING MATRIX'!Y$23","v":"5.9.19"}]
[{"$f":"'TRAINING MATRIX'!D2","v":0},{"$f":"'TRAINING MATRIX'!Z$23","v":0}]
[{"$f":"'TRAINING MATRIX'!AA2","v":"FORS LoCity"},{"$f":"'TRAINING MATRIX'!AA$23","v":0}]
[{"$f":"'TRAINING MATRIX'!AB2","v":"FORS SmartDeliveries"},{"$f":"'TRAINING MATRIX'!AB$23","v":0}]
[{"$f":"'TRAINING MATRIX'!AD2","v":"ADR Awareness"},{"$f":"'TRAINING MATRIX'!AC$23","v":0}]
[{"$f":"'TRAINING MATRIX'!AE2","v":"ADR (Core, Packages and All Classes ex 7 & 9)"},{"$f":"'TRAINING MATRIX'!AD$23","v":0}]
[{"$f":"'TRAINING MATRIX'!AF2","v":0},{"$f":"'TRAINING MATRIX'!AE$23","v":0}]
[{"$f":"'TRAINING MATRIX'!AF2","v":0},{"$f":"'TRAINING MATRIX'!AF$23","v":0}]
[{"$f":"'TRAINING MATRIX'!AG2","v":"TTB Climbing On & Off Vehicles"},{"$f":"'TRAINING MATRIX'!AG$23","v":"22.8.19"}]
[{"$f":"'TRAINING MATRIX'!AH2","v":"TTB Climbing On & Off Trailers & Load Decks"},{"$f":"'TRAINING MATRIX'!AH$23","v":"25.8.19"}]
[{"$f":"'TRAINING MATRIX'!AI2","v":"TTB Jumping To a Lifetime of Pain"},{"$f":"'TRAINING MATRIX'!AI$23","v":"25.8.19"}]
[{"$f":"'TRAINING MATRIX'!AJ2","v":"TTB Dealing With Cyclists"},{"$f":"'TRAINING MATRIX'!AJ$23","v":"25.8.19"}]
[{"$f":"'TRAINING MATRIX'!AK2","v":"TTB Fitness to Drive"},{"$f":"'TRAINING MATRIX'!AK$23","v":"25.8.19"}]
[{"$f":"'TRAINING MATRIX'!AL2","v":"TTB Loading & Unloading"},{"$f":"'TRAINING MATRIX'!AL$23","v":"25.8.19"}]
[{"$f":"'TRAINING MATRIX'!AM2","v":"TTB Protecting Vulnerable Road Users"},{"$f":"'TRAINING MATRIX'!AM$23","v":"25.8.19"}]
[{"$f":"'TRAINING MATRIX'!AN2","v":0},{"$f":"'TRAINING MATRIX'!AN$23","v":0}]
[{"$f":"'TRAINING MATRIX'!AO2","v":"SSOW Coupling and Uncoupling"},{"$f":"'TRAINING MATRIX'!AO$23","v":0}]
[{"$f":"'TRAINING MATRIX'!AP2","v":"SSOW Scanning Shed"},{"$f":"'TRAINING MATRIX'!AP$23","v":0}]
[{"$f":"'TRAINING MATRIX'!AQ2","v":"SWP Drivers Walkaround Checks"},{"$f":"'TRAINING MATRIX'!AQ$23","v":0}]
[{"$f":"'TRAINING MATRIX'!AR2","v":0},{"$f":"'TRAINING MATRIX'!AR$23","v":0}]
[{"$f":"'TRAINING MATRIX'!AS2","v":0},{"$f":"'TRAINING MATRIX'!AS$23","v":0}]
[{"$f":"'TRAINING MATRIX'!AT2","v":0},{"$f":"'TRAINING MATRIX'!AT$23","v":0}]
[{"$f":"'TRAINING MATRIX'!AU2","v":0},{"$f":"'TRAINING MATRIX'!AU$23","v":0}]
[{"$f":"'TRAINING MATRIX'!AV2","v":0},{"$f":"'TRAINING MATRIX'!AV$23","v":0}]
[{"$f":"'TRAINING MATRIX'!AW2","v":0},{"$f":"'TRAINING MATRIX'!AW$23","v":0}]
[{"$f":"'TRAINING MATRIX'!AX2","v":0},{"$f":"'TRAINING MATRIX'!AX$23","v":0}]
[{"$f":"'TRAINING MATRIX'!AY2","v":0},{"$f":"'TRAINING MATRIX'!AY$23","v":0}]
[{"$f":"'TRAINING MATRIX'!AZ2","v":0},{"$f":"'TRAINING MATRIX'!AZ$23","v":0}]

{"sheet":"John Fahy","index":23,"n_rows":52,"n_cols":2,"rows_kept":52,"cut":false,"hidden":false,"merged":[]}
["Driver Name","Completed / Issued"]
[{"$f":"'TRAINING MATRIX'!A24","v":"Fahy John"},{"$f":"'TRAINING MATRIX'!C24","v":"C1"}]
[{"$f":"'TRAINING MATRIX'!B$24","v":0}]
[{"$f":"'TRAINING MATRIX'!D2","v":0},{"$f":"'TRAINING MATRIX'!D$24","v":0}]
[{"$f":"'TRAINING MATRIX'!E2","v":0},{"$f":"'TRAINING MATRIX'!E$24","v":0}]
[{"$f":"'TRAINING MATRIX'!F2","v":0},{"$f":"'TRAINING MATRIX'!F$24","v":0}]
[{"$f":"'TRAINING MATRIX'!G2","v":"Assessed"},{"$f":"'TRAINING MATRIX'!G$24","v":0}]
[{"$f":"'TRAINING MATRIX'!H2","v":"Driver induction"},{"$f":"'TRAINING MATRIX'!H$24","v":"24.09.18"}]
[{"$f":"'TRAINING MATRIX'!I2","v":"Highway Code via KT"},{"$f":"'TRAINING MATRIX'!I$24","v":0}]
[{"$f":"'TRAINING MATRIX'!J2","v":"Drivers Code of Conduct"},{"$f":"'TRAINING MATRIX'!J$24","v":0}]
[{"$f":"'TRAINING MATRIX'!K2","v":"Smoking Policy"},{"$f":"'TRAINING MATRIX'!K$24","v":0}]
[{"$f":"'TRAINING MATRIX'!L2","v":"Mobile Communication Policy"},{"$f":"'TRAINING MATRIX'!L$24","v":"6.9.19"}]
[{"$f":"'TRAINING MATRIX'!N2","v":"Transport Charges & Fines Policy"},{"$f":"'TRAINING MATRIX'!N$24","v":0}]
[{"$f":"'TRAINING MATRIX'!M2","v":"Using Sat Nav"},{"$f":"'TRAINING MATRIX'!M$24","v":0}]
[{"$f":"'TRAINING MATRIX'!O2","v":"Goods Vehicle and Safety Policy"},{"$f":"'TRAINING MATRIX'!O$24","v":0}]
[{"$f":"'TRAINING MATRIX'!P2","v":"Safe Loading Policy"},{"$f":"'TRAINING MATRIX'!P$24","v":0}]
[{"$f":"'TRAINING MATRIX'!Q2","v":"Eye Sight Check"},{"$f":"'TRAINING MATRIX'!Q$24","v":"5.9.19"}]
[{"$f":"'TRAINING MATRIX'!R2","v":"Use of Tail lifts"},{"$f":"'TRAINING MATRIX'!X$24","v":0}]
[{"$f":"'TRAINING MATRIX'!S2","v":"CPC Periodic Training Module"},{"$f":"'TRAINING MATRIX'!Y$24","v":"5.9.19"}]
[{"$f":"'TRAINING MATRIX'!T2","v":"CPC Periodic Training Module"},{"$f":"'TRAINING MATRIX'!Z$24","v":0}]
[{"$f":"'TRAINING MATRIX'!U2","v":"CPC Periodic Training Module"},{"$f":"'TRAINING MATRIX'!AA$24","v":0}]
[{"$f":"'TRAINING MATRIX'!V2","v":"CPC Periodic Training Module"},{"$f":"'TRAINING MATRIX'!AB$24","v":0}]
[{"$f":"'TRAINING MATRIX'!W2","v":"CPC Periodic Training Module"},{"$f":"'TRAINING MATRIX'!AC$24","v":0}]
[{"$f":"'TRAINING MATRIX'!X2","v":"FORS Security and Counter-Terrorism"},{"$f":"'TRAINING MATRIX'!X$24","v":0}]
[{"$f":"'TRAINING MATRIX'!Y2","v":"FORS BridgeSmart"},{"$f":"'TRAINING MATRIX'!Y$24","v":"5.9.19"}]
[{"$f":"'TRAINING MATRIX'!D2","v":0},{"$f":"'TRAINING MATRIX'!Z$24","v":0}]
[{"$f":"'TRAINING MATRIX'!AA2","v":"FORS LoCity"},{"$f":"'TRAINING MATRIX'!AA$24","v":0}]
[{"$f":"'TRAINING MATRIX'!AB2","v":"FORS SmartDeliveries"},{"$f":"'TRAINING MATRIX'!AB$24","v":0}]
[{"$f":"'TRAINING MATRIX'!AD2","v":"ADR Awareness"},{"$f":"'TRAINING MATRIX'!AC$24","v":0}]
[{"$f":"'TRAINING MATRIX'!AE2","v":"ADR (Core, Packages and All Classes ex 7 & 9)"},{"$f":"'TRAINING MATRIX'!AD$24","v":0}]
[{"$f":"'TRAINING MATRIX'!AF2","v":0},{"$f":"'TRAINING MATRIX'!AE$24","v":0}]
[{"$f":"'TRAINING MATRIX'!AF2","v":0},{"$f":"'TRAINING MATRIX'!AF$24","v":0}]
[{"$f":"'TRAINING MATRIX'!AG2","v":"TTB Climbing On & Off Vehicles"},{"$f":"'TRAINING MATRIX'!AG$24","v":0}]
[{"$f":"'TRAINING MATRIX'!AH2","v":"TTB Climbing On & Off Trailers & Load Decks"},{"$f":"'TRAINING MATRIX'!AH$24","v":0}]
[{"$f":"'TRAINING MATRIX'!AI2","v":"TTB Jumping To a Lifetime of Pain"},{"$f":"'TRAINING MATRIX'!AI$24","v":0}]
[{"$f":"'TRAINING MATRIX'!AJ2","v":"TTB Dealing With Cyclists"},{"$f":"'TRAINING MATRIX'!AJ$24","v":0}]
[{"$f":"'TRAINING MATRIX'!AK2","v":"TTB Fitness to Drive"},{"$f":"'TRAINING MATRIX'!AK$24","v":0}]
[{"$f":"'TRAINING MATRIX'!AL2","v":"TTB Loading & Unloading"},{"$f":"'TRAINING MATRIX'!AL$24","v":0}]
[{"$f":"'TRAINING MATRIX'!AM2","v":"TTB Protecting Vulnerable Road Users"},{"$f":"'TRAINING MATRIX'!AM$24","v":0}]
[{"$f":"'TRAINING MATRIX'!AN2","v":0},{"$f":"'TRAINING MATRIX'!AN$24","v":0}]
[{"$f":"'TRAINING MATRIX'!AO2","v":"SSOW Coupling and Uncoupling"},{"$f":"'TRAINING MATRIX'!AO$24","v":0}]
[{"$f":"'TRAINING MATRIX'!AP2","v":"SSOW Scanning Shed"},{"$f":"'TRAINING MATRIX'!AP$24","v":0}]
[{"$f":"'TRAINING MATRIX'!AQ2","v":"SWP Drivers Walkaround Checks"},{"$f":"'TRAINING MATRIX'!AQ$24","v":0}]
[{"$f":"'TRAINING MATRIX'!AR2","v":0},{"$f":"'TRAINING MATRIX'!AR$24","v":0}]
[{"$f":"'TRAINING MATRIX'!AS2","v":0},{"$f":"'TRAINING MATRIX'!AS$24","v":0}]
[{"$f":"'TRAINING MATRIX'!AT2","v":0},{"$f":"'TRAINING MATRIX'!AT$24","v":0}]
[{"$f":"'TRAINING MATRIX'!AU2","v":0},{"$f":"'TRAINING MATRIX'!AU$24","v":0}]
[{"$f":"'TRAINING MATRIX'!AV2","v":0},{"$f":"'TRAINING MATRIX'!AV$24","v":0}]
[{"$f":"'TRAINING MATRIX'!AW2","v":0},{"$f":"'TRAINING MATRIX'!AW$24","v":0}]
[{"$f":"'TRAINING MATRIX'!AX2","v":0},{"$f":"'TRAINING MATRIX'!AX$24","v":0}]
[{"$f":"'TRAINING MATRIX'!AY2","v":0},{"$f":"'TRAINING MATRIX'!AY$24","v":0}]
[{"$f":"'TRAINING MATRIX'!AZ2","v":0},{"$f":"'TRAINING MATRIX'!AZ$24","v":0}]

{"sheet":"Paul Faulkner","index":24,"n_rows":52,"n_cols":2,"rows_kept":52,"cut":false,"hidden":false,"merged":[]}
["Driver Name","Completed / Issued"]
[{"$f":"'TRAINING MATRIX'!A25","v":"Faulkner Paul"},{"$f":"'TRAINING MATRIX'!C25","v":"C"}]
[{"$f":"'TRAINING MATRIX'!B$25","v":0}]
[{"$f":"'TRAINING MATRIX'!D2","v":0},{"$f":"'TRAINING MATRIX'!D$25","v":0}]
[{"$f":"'TRAINING MATRIX'!E2","v":0},{"$f":"'TRAINING MATRIX'!E$25","v":0}]
[{"$f":"'TRAINING MATRIX'!F2","v":0},{"$f":"'TRAINING MATRIX'!F$25","v":0}]
[{"$f":"'TRAINING MATRIX'!G2","v":"Assessed"},{"$f":"'TRAINING MATRIX'!G$25","v":"08.02.19"}]
[{"$f":"'TRAINING MATRIX'!H2","v":"Driver induction"},{"$f":"'TRAINING MATRIX'!H$25","v":"08.02.19"}]
[{"$f":"'TRAINING MATRIX'!I2","v":"Highway Code via KT"},{"$f":"'TRAINING MATRIX'!I$25","v":0}]
[{"$f":"'TRAINING MATRIX'!J2","v":"Drivers Code of Conduct"},{"$f":"'TRAINING MATRIX'!J$25","v":0}]
[{"$f":"'TRAINING MATRIX'!K2","v":"Smoking Policy"},{"$f":"'TRAINING MATRIX'!K$25","v":0}]
[{"$f":"'TRAINING MATRIX'!L2","v":"Mobile Communication Policy"},{"$f":"'TRAINING MATRIX'!L$25","v":"6.9.19"}]
[{"$f":"'TRAINING MATRIX'!N2","v":"Transport Charges & Fines Policy"},{"$f":"'TRAINING MATRIX'!N$25","v":"22.8.19"}]
[{"$f":"'TRAINING MATRIX'!M2","v":"Using Sat Nav"},{"$f":"'TRAINING MATRIX'!M$25","v":0}]
[{"$f":"'TRAINING MATRIX'!O2","v":"Goods Vehicle and Safety Policy"},{"$f":"'TRAINING MATRIX'!O$25","v":"25.8.19"}]
[{"$f":"'TRAINING MATRIX'!P2","v":"Safe Loading Policy"},{"$f":"'TRAINING MATRIX'!P$25","v":"25.8.19"}]
[{"$f":"'TRAINING MATRIX'!Q2","v":"Eye Sight Check"},{"$f":"'TRAINING MATRIX'!Q$25","v":"12.9.19"}]
[{"$f":"'TRAINING MATRIX'!R2","v":"Use of Tail lifts"},{"$f":"'TRAINING MATRIX'!X$25","v":"21.8.19"}]
[{"$f":"'TRAINING MATRIX'!S2","v":"CPC Periodic Training Module"},{"$f":"'TRAINING MATRIX'!Y$25","v":"5.9.19"}]
[{"$f":"'TRAINING MATRIX'!T2","v":"CPC Periodic Training Module"},{"$f":"'TRAINING MATRIX'!Z$25","v":0}]
[{"$f":"'TRAINING MATRIX'!U2","v":"CPC Periodic Training Module"},{"$f":"'TRAINING MATRIX'!AA$25","v":0}]
[{"$f":"'TRAINING MATRIX'!V2","v":"CPC Periodic Training Module"},{"$f":"'TRAINING MATRIX'!AB$25","v":0}]
[{"$f":"'TRAINING MATRIX'!W2","v":"CPC Periodic Training Module"},{"$f":"'TRAINING MATRIX'!AC$25","v":0}]
[{"$f":"'TRAINING MATRIX'!X2","v":"FORS Security and Counter-Terrorism"},{"$f":"'TRAINING MATRIX'!X$25","v":"21.8.19"}]
[{"$f":"'TRAINING MATRIX'!Y2","v":"FORS BridgeSmart"},{"$f":"'TRAINING MATRIX'!Y$25","v":"5.9.19"}]
[{"$f":"'TRAINING MATRIX'!D2","v":0},{"$f":"'TRAINING MATRIX'!Z$25","v":0}]
[{"$f":"'TRAINING MATRIX'!AA2","v":"FORS LoCity"},{"$f":"'TRAINING MATRIX'!AA$25","v":0}]
[{"$f":"'TRAINING MATRIX'!AB2","v":"FORS SmartDeliveries"},{"$f":"'TRAINING MATRIX'!AB$25","v":0}]
[{"$f":"'TRAINING MATRIX'!AD2","v":"ADR Awareness"},{"$f":"'TRAINING MATRIX'!AC$25","v":0}]
[{"$f":"'TRAINING MATRIX'!AE2","v":"ADR (Core, Packages and All Classes ex 7 & 9)"},{"$f":"'TRAINING MATRIX'!AD$25","v":0}]
[{"$f":"'TRAINING MATRIX'!AF2","v":0},{"$f":"'TRAINING MATRIX'!AE$25","v":0}]
[{"$f":"'TRAINING MATRIX'!AF2","v":0},{"$f":"'TRAINING MATRIX'!AF$25","v":0}]
[{"$f":"'TRAINING MATRIX'!AG2","v":"TTB Climbing On & Off Vehicles"},{"$f":"'TRAINING MATRIX'!AG$25","v":"22.8.19"}]
[{"$f":"'TRAINING MATRIX'!AH2","v":"TTB Climbing On & Off Trailers & Load Decks"},{"$f":"'TRAINING MATRIX'!AH$25","v":"25.8.19"}]
[{"$f":"'TRAINING MATRIX'!AI2","v":"TTB Jumping To a Lifetime of Pain"},{"$f":"'TRAINING MATRIX'!AI$25","v":"25.8.19"}]
[{"$f":"'TRAINING MATRIX'!AJ2","v":"TTB Dealing With Cyclists"},{"$f":"'TRAINING MATRIX'!AJ$25","v":"25.8.19"}]
[{"$f":"'TRAINING MATRIX'!AK2","v":"TTB Fitness to Drive"},{"$f":"'TRAINING MATRIX'!AK$25","v":"25.8.19"}]
[{"$f":"'TRAINING MATRIX'!AL2","v":"TTB Loading & Unloading"},{"$f":"'TRAINING MATRIX'!AL$25","v":"25.8.19"}]
[{"$f":"'TRAINING MATRIX'!AM2","v":"TTB Protecting Vulnerable Road Users"},{"$f":"'TRAINING MATRIX'!AM$25","v":"25.8.19"}]
[{"$f":"'TRAINING MATRIX'!AN2","v":0},{"$f":"'TRAINING MATRIX'!AN$25","v":0}]
[{"$f":"'TRAINING MATRIX'!AO2","v":"SSOW Coupling and Uncoupling"},{"$f":"'TRAINING MATRIX'!AO$25","v":0}]
[{"$f":"'TRAINING MATRIX'!AP2","v":"SSOW Scanning Shed"},{"$f":"'TRAINING MATRIX'!AP$25","v":0}]
[{"$f":"'TRAINING MATRIX'!AQ2","v":"SWP Drivers Walkaround Checks"},{"$f":"'TRAINING MATRIX'!AQ$25","v":0}]
[{"$f":"'TRAINING MATRIX'!AR2","v":0},{"$f":"'TRAINING MATRIX'!AR$25","v":0}]
[{"$f":"'TRAINING MATRIX'!AS2","v":0},{"$f":"'TRAINING MATRIX'!AS$25","v":0}]
[{"$f":"'TRAINING MATRIX'!AT2","v":0},{"$f":"'TRAINING MATRIX'!AT$25","v":0}]
[{"$f":"'TRAINING MATRIX'!AU2","v":0},{"$f":"'TRAINING MATRIX'!AU$25","v":0}]
[{"$f":"'TRAINING MATRIX'!AV2","v":0},{"$f":"'TRAINING MATRIX'!AV$25","v":0}]
[{"$f":"'TRAINING MATRIX'!AW2","v":0},{"$f":"'TRAINING MATRIX'!AW$25","v":0}]
[{"$f":"'TRAINING MATRIX'!AX2","v":0},{"$f":"'TRAINING MATRIX'!AX$25","v":0}]
[{"$f":"'TRAINING MATRIX'!AY2","v":0},{"$f":"'TRAINING MATRIX'!AY$25","v":0}]
[{"$f":"'TRAINING MATRIX'!AZ2","v":0},{"$f":"'TRAINING MATRIX'!AZ$25","v":0}]

{"sheet":"Nigel Filcek","index":25,"n_rows":52,"n_cols":2,"rows_kept":52,"cut":false,"hidden":false,"merged":[]}
["Driver Name","Completed / Issued"]
[{"$f":"'TRAINING MATRIX'!A26","v":"Filcek Nigel"},{"$f":"'TRAINING MATRIX'!C26","v":"C"}]
[{"$f":"'TRAINING MATRIX'!B$26","v":0}]
[{"$f":"'TRAINING MATRIX'!D2","v":0},{"$f":"'TRAINING MATRIX'!D$26","v":0}]
[{"$f":"'TRAINING MATRIX'!E2","v":0},{"$f":"'TRAINING MATRIX'!E$26","v":0}]
[{"$f":"'TRAINING MATRIX'!F2","v":0},{"$f":"'TRAINING MATRIX'!F$26","v":0}]
[{"$f":"'TRAINING MATRIX'!G2","v":"Assessed"},{"$f":"'TRAINING MATRIX'!G$26","v":"14.02.19"}]
[{"$f":"'TRAINING MATRIX'!H2","v":"Driver induction"},{"$f":"'TRAINING MATRIX'!H$26","v":"14.02.19"}]
[{"$f":"'TRAINING MATRIX'!I2","v":"Highway Code via KT"},{"$f":"'TRAINING MATRIX'!I$26","v":0}]
[{"$f":"'TRAINING MATRIX'!J2","v":"Drivers Code of Conduct"},{"$f":"'TRAINING MATRIX'!J$26","v":0}]
[{"$f":"'TRAINING MATRIX'!K2","v":"Smoking Policy"},{"$f":"'TRAINING MATRIX'!K$26","v":0}]
[{"$f":"'TRAINING MATRIX'!L2","v":"Mobile Communication Policy"},{"$f":"'TRAINING MATRIX'!L$26","v":"6.9.19"}]
[{"$f":"'TRAINING MATRIX'!N2","v":"Transport Charges & Fines Policy"},{"$f":"'TRAINING MATRIX'!N$26","v":"22.8.19"}]
[{"$f":"'TRAINING MATRIX'!M2","v":"Using Sat Nav"},{"$f":"'TRAINING MATRIX'!M$26","v":0}]
[{"$f":"'TRAINING MATRIX'!O2","v":"Goods Vehicle and Safety Policy"},{"$f":"'TRAINING MATRIX'!O$26","v":"25.8.19"}]
[{"$f":"'TRAINING MATRIX'!P2","v":"Safe Loading Policy"},{"$f":"'TRAINING MATRIX'!P$26","v":"25.8.19"}]
[{"$f":"'TRAINING MATRIX'!Q2","v":"Eye Sight Check"},{"$f":"'TRAINING MATRIX'!Q$26","v":"21.8.19"}]
[{"$f":"'TRAINING MATRIX'!R2","v":"Use of Tail lifts"},{"$f":"'TRAINING MATRIX'!X$26","v":"21.8.19"}]
[{"$f":"'TRAINING MATRIX'!S2","v":"CPC Periodic Training Module"},{"$f":"'TRAINING MATRIX'!Y$26","v":"5.9.19"}]
[{"$f":"'TRAINING MATRIX'!T2","v":"CPC Periodic Training Module"},{"$f":"'TRAINING MATRIX'!Z$26","v":0}]
[{"$f":"'TRAINING MATRIX'!U2","v":"CPC Periodic Training Module"},{"$f":"'TRAINING MATRIX'!AA$26","v":0}]
[{"$f":"'TRAINING MATRIX'!V2","v":"CPC Periodic Training Module"},{"$f":"'TRAINING MATRIX'!AB$26","v":0}]
[{"$f":"'TRAINING MATRIX'!W2","v":"CPC Periodic Training Module"},{"$f":"'TRAINING MATRIX'!AC$26","v":0}]
[{"$f":"'TRAINING MATRIX'!X2","v":"FORS Security and Counter-Terrorism"},{"$f":"'TRAINING MATRIX'!X$26","v":"21.8.19"}]
[{"$f":"'TRAINING MATRIX'!Y2","v":"FORS BridgeSmart"},{"$f":"'TRAINING MATRIX'!Y$26","v":"5.9.19"}]
[{"$f":"'TRAINING MATRIX'!D2","v":0},{"$f":"'TRAINING MATRIX'!Z$26","v":0}]
[{"$f":"'TRAINING MATRIX'!AA2","v":"FORS LoCity"},{"$f":"'TRAINING MATRIX'!AA$26","v":0}]
[{"$f":"'TRAINING MATRIX'!AB2","v":"FORS SmartDeliveries"},{"$f":"'TRAINING MATRIX'!AB$26","v":0}]
[{"$f":"'TRAINING MATRIX'!AD2","v":"ADR Awareness"},{"$f":"'TRAINING MATRIX'!AC$26","v":0}]
[{"$f":"'TRAINING MATRIX'!AE2","v":"ADR (Core, Packages and All Classes ex 7 & 9)"},{"$f":"'TRAINING MATRIX'!AD$26","v":0}]
[{"$f":"'TRAINING MATRIX'!AF2","v":0},{"$f":"'TRAINING MATRIX'!AE$26","v":0}]
[{"$f":"'TRAINING MATRIX'!AF2","v":0},{"$f":"'TRAINING MATRIX'!AF$26","v":0}]
[{"$f":"'TRAINING MATRIX'!AG2","v":"TTB Climbing On & Off Vehicles"},{"$f":"'TRAINING MATRIX'!AG$26","v":"22.8.19"}]
[{"$f":"'TRAINING MATRIX'!AH2","v":"TTB Climbing On & Off Trailers & Load Decks"},{"$f":"'TRAINING MATRIX'!AH$26","v":"25.8.19"}]
[{"$f":"'TRAINING MATRIX'!AI2","v":"TTB Jumping To a Lifetime of Pain"},{"$f":"'TRAINING MATRIX'!AI$26","v":"25.8.19"}]
[{"$f":"'TRAINING MATRIX'!AJ2","v":"TTB Dealing With Cyclists"},{"$f":"'TRAINING MATRIX'!AJ$26","v":"25.8.19"}]
[{"$f":"'TRAINING MATRIX'!AK2","v":"TTB Fitness to Drive"},{"$f":"'TRAINING MATRIX'!AK$26","v":"25.8.19"}]
[{"$f":"'TRAINING MATRIX'!AL2","v":"TTB Loading & Unloading"},{"$f":"'TRAINING MATRIX'!AL$26","v":"25.8.19"}]
[{"$f":"'TRAINING MATRIX'!AM2","v":"TTB Protecting Vulnerable Road Users"},{"$f":"'TRAINING MATRIX'!AM$26","v":"25.8.19"}]
[{"$f":"'TRAINING MATRIX'!AN2","v":0},{"$f":"'TRAINING MATRIX'!AN$26","v":0}]
[{"$f":"'TRAINING MATRIX'!AO2","v":"SSOW Coupling and Uncoupling"},{"$f":"'TRAINING MATRIX'!AO$26","v":0}]
[{"$f":"'TRAINING MATRIX'!AP2","v":"SSOW Scanning Shed"},{"$f":"'TRAINING MATRIX'!AP$26","v":0}]
[{"$f":"'TRAINING MATRIX'!AQ2","v":"SWP Drivers Walkaround Checks"},{"$f":"'TRAINING MATRIX'!AQ$26","v":0}]
[{"$f":"'TRAINING MATRIX'!AR2","v":0},{"$f":"'TRAINING MATRIX'!AR$26","v":0}]
[{"$f":"'TRAINING MATRIX'!AS2","v":0},{"$f":"'TRAINING MATRIX'!AS$26","v":0}]
[{"$f":"'TRAINING MATRIX'!AT2","v":0},{"$f":"'TRAINING MATRIX'!AT$26","v":0}]
[{"$f":"'TRAINING MATRIX'!AU2","v":0},{"$f":"'TRAINING MATRIX'!AU$26","v":0}]
[{"$f":"'TRAINING MATRIX'!AV2","v":0},{"$f":"'TRAINING MATRIX'!AV$26","v":0}]
[{"$f":"'TRAINING MATRIX'!AW2","v":0},{"$f":"'TRAINING MATRIX'!AW$26","v":0}]
[{"$f":"'TRAINING MATRIX'!AX2","v":0},{"$f":"'TRAINING MATRIX'!AX$26","v":0}]
[{"$f":"'TRAINING MATRIX'!AY2","v":0},{"$f":"'TRAINING MATRIX'!AY$26","v":0}]
[{"$f":"'TRAINING MATRIX'!AZ2","v":0},{"$f":"'TRAINING MATRIX'!AZ$26","v":0}]

{"sheet":"James Foster","index":26,"n_rows":52,"n_cols":2,"rows_kept":52,"cut":false,"hidden":false,"merged":[]}
["Driver Name","Completed / Issued"]
[{"$f":"'TRAINING MATRIX'!A27","v":"Foster James"},{"$f":"'TRAINING MATRIX'!C27","v":"C"}]
[{"$f":"'TRAINING MATRIX'!B$27","v":0}]
[{"$f":"'TRAINING MATRIX'!D2","v":0},{"$f":"'TRAINING MATRIX'!D$27","v":0}]
[{"$f":"'TRAINING MATRIX'!E2","v":0},{"$f":"'TRAINING MATRIX'!E$27","v":0}]
[{"$f":"'TRAINING MATRIX'!F2","v":0},{"$f":"'TRAINING MATRIX'!F$27","v":0}]
[{"$f":"'TRAINING MATRIX'!G2","v":"Assessed"},{"$f":"'TRAINING MATRIX'!G$27","v":0}]
[{"$f":"'TRAINING MATRIX'!H2","v":"Driver induction"},{"$f":"'TRAINING MATRIX'!H$27","v":0}]
[{"$f":"'TRAINING MATRIX'!I2","v":"Highway Code via KT"},{"$f":"'TRAINING MATRIX'!I$27","v":0}]
[{"$f":"'TRAINING MATRIX'!J2","v":"Drivers Code of Conduct"},{"$f":"'TRAINING MATRIX'!J$27","v":0}]
[{"$f":"'TRAINING MATRIX'!K2","v":"Smoking Policy"},{"$f":"'TRAINING MATRIX'!K$27","v":0}]
[{"$f":"'TRAINING MATRIX'!L2","v":"Mobile Communication Policy"},{"$f":"'TRAINING MATRIX'!L$27","v":0}]
[{"$f":"'TRAINING MATRIX'!N2","v":"Transport Charges & Fines Policy"},{"$f":"'TRAINING MATRIX'!N$27","v":0}]
[{"$f":"'TRAINING MATRIX'!M2","v":"Using Sat Nav"},{"$f":"'TRAINING MATRIX'!M$27","v":0}]
[{"$f":"'TRAINING MATRIX'!O2","v":"Goods Vehicle and Safety Policy"},{"$f":"'TRAINING MATRIX'!O$27","v":0}]
[{"$f":"'TRAINING MATRIX'!P2","v":"Safe Loading Policy"},{"$f":"'TRAINING MATRIX'!P$27","v":0}]
[{"$f":"'TRAINING MATRIX'!Q2","v":"Eye Sight Check"},{"$f":"'TRAINING MATRIX'!Q$27","v":"18.9.19"}]
[{"$f":"'TRAINING MATRIX'!R2","v":"Use of Tail lifts"},{"$f":"'TRAINING MATRIX'!X$27","v":0}]
[{"$f":"'TRAINING MATRIX'!S2","v":"CPC Periodic Training Module"},{"$f":"'TRAINING MATRIX'!Y$27","v":0}]
[{"$f":"'TRAINING MATRIX'!T2","v":"CPC Periodic Training Module"},{"$f":"'TRAINING MATRIX'!Z$27","v":0}]
[{"$f":"'TRAINING MATRIX'!U2","v":"CPC Periodic Training Module"},{"$f":"'TRAINING MATRIX'!AA$27","v":0}]
[{"$f":"'TRAINING MATRIX'!V2","v":"CPC Periodic Training Module"},{"$f":"'TRAINING MATRIX'!AB$27","v":0}]
[{"$f":"'TRAINING MATRIX'!W2","v":"CPC Periodic Training Module"},{"$f":"'TRAINING MATRIX'!AC$27","v":0}]
[{"$f":"'TRAINING MATRIX'!X2","v":"FORS Security and Counter-Terrorism"},{"$f":"'TRAINING MATRIX'!X$27","v":0}]
[{"$f":"'TRAINING MATRIX'!Y2","v":"FORS BridgeSmart"},{"$f":"'TRAINING MATRIX'!Y$27","v":0}]
[{"$f":"'TRAINING MATRIX'!D2","v":0},{"$f":"'TRAINING MATRIX'!Z$27","v":0}]
[{"$f":"'TRAINING MATRIX'!AA2","v":"FORS LoCity"},{"$f":"'TRAINING MATRIX'!AA$27","v":0}]
[{"$f":"'TRAINING MATRIX'!AB2","v":"FORS SmartDeliveries"},{"$f":"'TRAINING MATRIX'!AB$27","v":0}]
[{"$f":"'TRAINING MATRIX'!AD2","v":"ADR Awareness"},{"$f":"'TRAINING MATRIX'!AC$27","v":0}]
[{"$f":"'TRAINING MATRIX'!AE2","v":"ADR (Core, Packages and All Classes ex 7 & 9)"},{"$f":"'TRAINING MATRIX'!AD$27","v":0}]
[{"$f":"'TRAINING MATRIX'!AF2","v":0},{"$f":"'TRAINING MATRIX'!AE$27","v":0}]
[{"$f":"'TRAINING MATRIX'!AF2","v":0},{"$f":"'TRAINING MATRIX'!AF$27","v":0}]
[{"$f":"'TRAINING MATRIX'!AG2","v":"TTB Climbing On & Off Vehicles"},{"$f":"'TRAINING MATRIX'!AG$27","v":0}]
[{"$f":"'TRAINING MATRIX'!AH2","v":"TTB Climbing On & Off Trailers & Load Decks"},{"$f":"'TRAINING MATRIX'!AH$27","v":0}]
[{"$f":"'TRAINING MATRIX'!AI2","v":"TTB Jumping To a Lifetime of Pain"},{"$f":"'TRAINING MATRIX'!AI$27","v":0}]
[{"$f":"'TRAINING MATRIX'!AJ2","v":"TTB Dealing With Cyclists"},{"$f":"'TRAINING MATRIX'!AJ$27","v":0}]
[{"$f":"'TRAINING MATRIX'!AK2","v":"TTB Fitness to Drive"},{"$f":"'TRAINING MATRIX'!AK$27","v":0}]
[{"$f":"'TRAINING MATRIX'!AL2","v":"TTB Loading & Unloading"},{"$f":"'TRAINING MATRIX'!AL$27","v":0}]
[{"$f":"'TRAINING MATRIX'!AM2","v":"TTB Protecting Vulnerable Road Users"},{"$f":"'TRAINING MATRIX'!AM$27","v":0}]
[{"$f":"'TRAINING MATRIX'!AN2","v":0},{"$f":"'TRAINING MATRIX'!AN$27","v":0}]
[{"$f":"'TRAINING MATRIX'!AO2","v":"SSOW Coupling and Uncoupling"},{"$f":"'TRAINING MATRIX'!AO$27","v":0}]
[{"$f":"'TRAINING MATRIX'!AP2","v":"SSOW Scanning Shed"},{"$f":"'TRAINING MATRIX'!AP$27","v":0}]
[{"$f":"'TRAINING MATRIX'!AQ2","v":"SWP Drivers Walkaround Checks"},{"$f":"'TRAINING MATRIX'!AQ$27","v":0}]
[{"$f":"'TRAINING MATRIX'!AR2","v":0},{"$f":"'TRAINING MATRIX'!AR$27","v":0}]
[{"$f":"'TRAINING MATRIX'!AS2","v":0},{"$f":"'TRAINING MATRIX'!AS$27","v":0}]
[{"$f":"'TRAINING MATRIX'!AT2","v":0},{"$f":"'TRAINING MATRIX'!AT$27","v":0}]
[{"$f":"'TRAINING MATRIX'!AU2","v":0},{"$f":"'TRAINING MATRIX'!AU$27","v":0}]
[{"$f":"'TRAINING MATRIX'!AV2","v":0},{"$f":"'TRAINING MATRIX'!AV$27","v":0}]
[{"$f":"'TRAINING MATRIX'!AW2","v":0},{"$f":"'TRAINING MATRIX'!AW$27","v":0}]
[{"$f":"'TRAINING MATRIX'!AX2","v":0},{"$f":"'TRAINING MATRIX'!AX$27","v":0}]
[{"$f":"'TRAINING MATRIX'!AY2","v":0},{"$f":"'TRAINING MATRIX'!AY$27","v":0}]
[{"$f":"'TRAINING MATRIX'!AZ2","v":0},{"$f":"'TRAINING MATRIX'!AZ$27","v":0}]

{"sheet":"David Gates","index":27,"n_rows":52,"n_cols":2,"rows_kept":52,"cut":false,"hidden":false,"merged":[]}
["Driver Name","Completed / Issued"]
[{"$f":"'TRAINING MATRIX'!A28","v":"Gates Dave"},{"$f":"'TRAINING MATRIX'!C28","v":"C"}]
[{"$f":"'TRAINING MATRIX'!B$28","v":0}]
[{"$f":"'TRAINING MATRIX'!D2","v":0},{"$f":"'TRAINING MATRIX'!D$28","v":0}]
[{"$f":"'TRAINING MATRIX'!E2","v":0},{"$f":"'TRAINING MATRIX'!E$28","v":0}]
[{"$f":"'TRAINING MATRIX'!F2","v":0},{"$f":"'TRAINING MATRIX'!F$28","v":0}]
[{"$f":"'TRAINING MATRIX'!G2","v":"Assessed"},{"$f":"'TRAINING MATRIX'!G$28","v":"30.01.19"}]
[{"$f":"'TRAINING MATRIX'!H2","v":"Driver induction"},{"$f":"'TRAINING MATRIX'!H$28","v":"30.01.19"}]
[{"$f":"'TRAINING MATRIX'!I2","v":"Highway Code via KT"},{"$f":"'TRAINING MATRIX'!I$28","v":0}]
[{"$f":"'TRAINING MATRIX'!J2","v":"Drivers Code of Conduct"},{"$f":"'TRAINING MATRIX'!J$28","v":0}]
[{"$f":"'TRAINING MATRIX'!K2","v":"Smoking Policy"},{"$f":"'TRAINING MATRIX'!K$28","v":0}]
[{"$f":"'TRAINING MATRIX'!L2","v":"Mobile Communication Policy"},{"$f":"'TRAINING MATRIX'!L$28","v":"6.9.19"}]
[{"$f":"'TRAINING MATRIX'!N2","v":"Transport Charges & Fines Policy"},{"$f":"'TRAINING MATRIX'!N$28","v":"22.8.19"}]
[{"$f":"'TRAINING MATRIX'!M2","v":"Using Sat Nav"},{"$f":"'TRAINING MATRIX'!M$28","v":0}]
[{"$f":"'TRAINING MATRIX'!O2","v":"Goods Vehicle and Safety Policy"},{"$f":"'TRAINING MATRIX'!O$28","v":"25.8.19"}]
[{"$f":"'TRAINING MATRIX'!P2","v":"Safe Loading Policy"},{"$f":"'TRAINING MATRIX'!P$28","v":"25.8.19"}]
[{"$f":"'TRAINING MATRIX'!Q2","v":"Eye Sight Check"},{"$f":"'TRAINING MATRIX'!Q$28","v":"22.8.19"}]
[{"$f":"'TRAINING MATRIX'!R2","v":"Use of Tail lifts"},{"$f":"'TRAINING MATRIX'!X$28","v":"21.8.19"}]
[{"$f":"'TRAINING MATRIX'!S2","v":"CPC Periodic Training Module"},{"$f":"'TRAINING MATRIX'!Y$28","v":"5.9.19"}]
[{"$f":"'TRAINING MATRIX'!T2","v":"CPC Periodic Training Module"},{"$f":"'TRAINING MATRIX'!Z$28","v":0}]
[{"$f":"'TRAINING MATRIX'!U2","v":"CPC Periodic Training Module"},{"$f":"'TRAINING MATRIX'!AA$28","v":0}]
[{"$f":"'TRAINING MATRIX'!V2","v":"CPC Periodic Training Module"},{"$f":"'TRAINING MATRIX'!AB$28","v":0}]
[{"$f":"'TRAINING MATRIX'!W2","v":"CPC Periodic Training Module"},{"$f":"'TRAINING MATRIX'!AC$28","v":0}]
[{"$f":"'TRAINING MATRIX'!X2","v":"FORS Security and Counter-Terrorism"},{"$f":"'TRAINING MATRIX'!X$28","v":"21.8.19"}]
[{"$f":"'TRAINING MATRIX'!Y2","v":"FORS BridgeSmart"},{"$f":"'TRAINING MATRIX'!Y$28","v":"5.9.19"}]
[{"$f":"'TRAINING MATRIX'!D2","v":0},{"$f":"'TRAINING MATRIX'!Z$28","v":0}]
[{"$f":"'TRAINING MATRIX'!AA2","v":"FORS LoCity"},{"$f":"'TRAINING MATRIX'!AA$28","v":0}]
[{"$f":"'TRAINING MATRIX'!AB2","v":"FORS SmartDeliveries"},{"$f":"'TRAINING MATRIX'!AB$28","v":0}]
[{"$f":"'TRAINING MATRIX'!AD2","v":"ADR Awareness"},{"$f":"'TRAINING MATRIX'!AC$28","v":0}]
[{"$f":"'TRAINING MATRIX'!AE2","v":"ADR (Core, Packages and All Classes ex 7 & 9)"},{"$f":"'TRAINING MATRIX'!AD$28","v":0}]
[{"$f":"'TRAINING MATRIX'!AF2","v":0},{"$f":"'TRAINING MATRIX'!AE$28","v":0}]
[{"$f":"'TRAINING MATRIX'!AF2","v":0},{"$f":"'TRAINING MATRIX'!AF$28","v":0}]
[{"$f":"'TRAINING MATRIX'!AG2","v":"TTB Climbing On & Off Vehicles"},{"$f":"'TRAINING MATRIX'!AG$28","v":"22.8.19"}]
[{"$f":"'TRAINING MATRIX'!AH2","v":"TTB Climbing On & Off Trailers & Load Decks"},{"$f":"'TRAINING MATRIX'!AH$28","v":"25.8.19"}]
[{"$f":"'TRAINING MATRIX'!AI2","v":"TTB Jumping To a Lifetime of Pain"},{"$f":"'TRAINING MATRIX'!AI$28","v":"25.8.19"}]
[{"$f":"'TRAINING MATRIX'!AJ2","v":"TTB Dealing With Cyclists"},{"$f":"'TRAINING MATRIX'!AJ$28","v":"25.8.19"}]
[{"$f":"'TRAINING MATRIX'!AK2","v":"TTB Fitness to Drive"},{"$f":"'TRAINING MATRIX'!AK$28","v":"25.8.19"}]
[{"$f":"'TRAINING MATRIX'!AL2","v":"TTB Loading & Unloading"},{"$f":"'TRAINING MATRIX'!AL$28","v":"25.8.19"}]
[{"$f":"'TRAINING MATRIX'!AM2","v":"TTB Protecting Vulnerable Road Users"},{"$f":"'TRAINING MATRIX'!AM$28","v":"25.8.19"}]
[{"$f":"'TRAINING MATRIX'!AN2","v":0},{"$f":"'TRAINING MATRIX'!AN$28","v":0}]
[{"$f":"'TRAINING MATRIX'!AO2","v":"SSOW Coupling and Uncoupling"},{"$f":"'TRAINING MATRIX'!AO$28","v":0}]
[{"$f":"'TRAINING MATRIX'!AP2","v":"SSOW Scanning Shed"},{"$f":"'TRAINING MATRIX'!AP$28","v":0}]
[{"$f":"'TRAINING MATRIX'!AQ2","v":"SWP Drivers Walkaround Checks"},{"$f":"'TRAINING MATRIX'!AQ$28","v":0}]
[{"$f":"'TRAINING MATRIX'!AR2","v":0},{"$f":"'TRAINING MATRIX'!AR$28","v":0}]
[{"$f":"'TRAINING MATRIX'!AS2","v":0},{"$f":"'TRAINING MATRIX'!AS$28","v":0}]
[{"$f":"'TRAINING MATRIX'!AT2","v":0},{"$f":"'TRAINING MATRIX'!AT$28","v":0}]
[{"$f":"'TRAINING MATRIX'!AU2","v":0},{"$f":"'TRAINING MATRIX'!AU$28","v":0}]
[{"$f":"'TRAINING MATRIX'!AV2","v":0},{"$f":"'TRAINING MATRIX'!AV$28","v":0}]
[{"$f":"'TRAINING MATRIX'!AW2","v":0},{"$f":"'TRAINING MATRIX'!AW$28","v":0}]
[{"$f":"'TRAINING MATRIX'!AX2","v":0},{"$f":"'TRAINING MATRIX'!AX$28","v":0}]
[{"$f":"'TRAINING MATRIX'!AY2","v":0},{"$f":"'TRAINING MATRIX'!AY$28","v":0}]
[{"$f":"'TRAINING MATRIX'!AZ2","v":0},{"$f":"'TRAINING MATRIX'!AZ$28","v":0}]

{"sheet":"Adam Gawel","index":28,"n_rows":52,"n_cols":2,"rows_kept":52,"cut":false,"hidden":false,"merged":[]}
["Driver Name","Completed / Issued"]
[{"$f":"'TRAINING MATRIX'!A29","v":"Gawel Adam"},{"$f":"'TRAINING MATRIX'!C29","v":"C"}]
[{"$f":"'TRAINING MATRIX'!B$29","v":0}]
[{"$f":"'TRAINING MATRIX'!D2","v":0},{"$f":"'TRAINING MATRIX'!D$29","v":0}]
[{"$f":"'TRAINING MATRIX'!E2","v":0},{"$f":"'TRAINING MATRIX'!E$29","v":0}]
[{"$f":"'TRAINING MATRIX'!F2","v":0},{"$f":"'TRAINING MATRIX'!F$29","v":0}]
[{"$f":"'TRAINING MATRIX'!G2","v":"Assessed"},{"$f":"'TRAINING MATRIX'!G$29","v":0}]
[{"$f":"'TRAINING MATRIX'!H2","v":"Driver induction"},{"$f":"'TRAINING MATRIX'!H$29","v":0}]
[{"$f":"'TRAINING MATRIX'!I2","v":"Highway Code via KT"},{"$f":"'TRAINING MATRIX'!I$29","v":0}]
[{"$f":"'TRAINING MATRIX'!J2","v":"Drivers Code of Conduct"},{"$f":"'TRAINING MATRIX'!J$29","v":0}]
[{"$f":"'TRAINING MATRIX'!K2","v":"Smoking Policy"},{"$f":"'TRAINING MATRIX'!K$29","v":0}]
[{"$f":"'TRAINING MATRIX'!L2","v":"Mobile Communication Policy"},{"$f":"'TRAINING MATRIX'!L$29","v":0}]
[{"$f":"'TRAINING MATRIX'!N2","v":"Transport Charges & Fines Policy"},{"$f":"'TRAINING MATRIX'!N$29","v":0}]
[{"$f":"'TRAINING MATRIX'!M2","v":"Using Sat Nav"},{"$f":"'TRAINING MATRIX'!M$29","v":0}]
[{"$f":"'TRAINING MATRIX'!O2","v":"Goods Vehicle and Safety Policy"},{"$f":"'TRAINING MATRIX'!O$29","v":0}]
[{"$f":"'TRAINING MATRIX'!P2","v":"Safe Loading Policy"},{"$f":"'TRAINING MATRIX'!P$29","v":0}]
[{"$f":"'TRAINING MATRIX'!Q2","v":"Eye Sight Check"},{"$f":"'TRAINING MATRIX'!Q$29","v":"18.9.19"}]
[{"$f":"'TRAINING MATRIX'!R2","v":"Use of Tail lifts"},{"$f":"'TRAINING MATRIX'!X$29","v":0}]
[{"$f":"'TRAINING MATRIX'!S2","v":"CPC Periodic Training Module"},{"$f":"'TRAINING MATRIX'!Y$29","v":0}]
[{"$f":"'TRAINING MATRIX'!T2","v":"CPC Periodic Training Module"},{"$f":"'TRAINING MATRIX'!Z$29","v":0}]
[{"$f":"'TRAINING MATRIX'!U2","v":"CPC Periodic Training Module"},{"$f":"'TRAINING MATRIX'!AA$29","v":0}]
[{"$f":"'TRAINING MATRIX'!V2","v":"CPC Periodic Training Module"},{"$f":"'TRAINING MATRIX'!AB$29","v":0}]
[{"$f":"'TRAINING MATRIX'!W2","v":"CPC Periodic Training Module"},{"$f":"'TRAINING MATRIX'!AC$29","v":0}]
[{"$f":"'TRAINING MATRIX'!X2","v":"FORS Security and Counter-Terrorism"},{"$f":"'TRAINING MATRIX'!X$29","v":0}]
[{"$f":"'TRAINING MATRIX'!Y2","v":"FORS BridgeSmart"},{"$f":"'TRAINING MATRIX'!Y$29","v":0}]
[{"$f":"'TRAINING MATRIX'!D2","v":0},{"$f":"'TRAINING MATRIX'!Z$29","v":0}]
[{"$f":"'TRAINING MATRIX'!AA2","v":"FORS LoCity"},{"$f":"'TRAINING MATRIX'!AA$29","v":0}]
[{"$f":"'TRAINING MATRIX'!AB2","v":"FORS SmartDeliveries"},{"$f":"'TRAINING MATRIX'!AB$29","v":0}]
[{"$f":"'TRAINING MATRIX'!AD2","v":"ADR Awareness"},{"$f":"'TRAINING MATRIX'!AC$29","v":0}]
[{"$f":"'TRAINING MATRIX'!AE2","v":"ADR (Core, Packages and All Classes ex 7 & 9)"},{"$f":"'TRAINING MATRIX'!AD$29","v":0}]
[{"$f":"'TRAINING MATRIX'!AF2","v":0},{"$f":"'TRAINING MATRIX'!AE$29","v":0}]
[{"$f":"'TRAINING MATRIX'!AF2","v":0},{"$f":"'TRAINING MATRIX'!AF$29","v":0}]
[{"$f":"'TRAINING MATRIX'!AG2","v":"TTB Climbing On & Off Vehicles"},{"$f":"'TRAINING MATRIX'!AG$29","v":0}]
[{"$f":"'TRAINING MATRIX'!AH2","v":"TTB Climbing On & Off Trailers & Load Decks"},{"$f":"'TRAINING MATRIX'!AH$29","v":0}]
[{"$f":"'TRAINING MATRIX'!AI2","v":"TTB Jumping To a Lifetime of Pain"},{"$f":"'TRAINING MATRIX'!AI$29","v":0}]
[{"$f":"'TRAINING MATRIX'!AJ2","v":"TTB Dealing With Cyclists"},{"$f":"'TRAINING MATRIX'!AJ$29","v":0}]
[{"$f":"'TRAINING MATRIX'!AK2","v":"TTB Fitness to Drive"},{"$f":"'TRAINING MATRIX'!AK$29","v":0}]
[{"$f":"'TRAINING MATRIX'!AL2","v":"TTB Loading & Unloading"},{"$f":"'TRAINING MATRIX'!AL$29","v":0}]
[{"$f":"'TRAINING MATRIX'!AM2","v":"TTB Protecting Vulnerable Road Users"},{"$f":"'TRAINING MATRIX'!AM$29","v":0}]
[{"$f":"'TRAINING MATRIX'!AN2","v":0},{"$f":"'TRAINING MATRIX'!AN$29","v":0}]
[{"$f":"'TRAINING MATRIX'!AO2","v":"SSOW Coupling and Uncoupling"},{"$f":"'TRAINING MATRIX'!AO$29","v":0}]
[{"$f":"'TRAINING MATRIX'!AP2","v":"SSOW Scanning Shed"},{"$f":"'TRAINING MATRIX'!AP$29","v":0}]
[{"$f":"'TRAINING MATRIX'!AQ2","v":"SWP Drivers Walkaround Checks"},{"$f":"'TRAINING MATRIX'!AQ$29","v":0}]
[{"$f":"'TRAINING MATRIX'!AR2","v":0},{"$f":"'TRAINING MATRIX'!AR$29","v":0}]
[{"$f":"'TRAINING MATRIX'!AS2","v":0},{"$f":"'TRAINING MATRIX'!AS$29","v":0}]
[{"$f":"'TRAINING MATRIX'!AT2","v":0},{"$f":"'TRAINING MATRIX'!AT$29","v":0}]
[{"$f":"'TRAINING MATRIX'!AU2","v":0},{"$f":"'TRAINING MATRIX'!AU$29","v":0}]
[{"$f":"'TRAINING MATRIX'!AV2","v":0},{"$f":"'TRAINING MATRIX'!AV$29","v":0}]
[{"$f":"'TRAINING MATRIX'!AW2","v":0},{"$f":"'TRAINING MATRIX'!AW$29","v":0}]
[{"$f":"'TRAINING MATRIX'!AX2","v":0},{"$f":"'TRAINING MATRIX'!AX$29","v":0}]
[{"$f":"'TRAINING MATRIX'!AY2","v":0},{"$f":"'TRAINING MATRIX'!AY$29","v":0}]
[{"$f":"'TRAINING MATRIX'!AZ2","v":0},{"$f":"'TRAINING MATRIX'!AZ$29","v":0}]

{"sheet":"Garry Giles","index":29,"n_rows":52,"n_cols":2,"rows_kept":52,"cut":false,"hidden":false,"merged":[]}
["Driver Name","Completed / Issued"]
[{"$f":"'TRAINING MATRIX'!A30","v":"Giles Garry"},{"$f":"'TRAINING MATRIX'!C30","v":"CE"}]
[{"$f":"'TRAINING MATRIX'!B$30","v":0}]
[{"$f":"'TRAINING MATRIX'!D2","v":0},{"$f":"'TRAINING MATRIX'!D$30","v":0}]
[{"$f":"'TRAINING MATRIX'!E2","v":0},{"$f":"'TRAINING MATRIX'!E$30","v":0}]
[{"$f":"'TRAINING MATRIX'!F2","v":0},{"$f":"'TRAINING MATRIX'!F$30","v":0}]
[{"$f":"'TRAINING MATRIX'!G2","v":"Assessed"},{"$f":"'TRAINING MATRIX'!G$30","v":"31.01.19"}]
[{"$f":"'TRAINING MATRIX'!H2","v":"Driver induction"},{"$f":"'TRAINING MATRIX'!H$30","v":"31.01.19"}]
[{"$f":"'TRAINING MATRIX'!I2","v":"Highway Code via KT"},{"$f":"'TRAINING MATRIX'!I$30","v":0}]
[{"$f":"'TRAINING MATRIX'!J2","v":"Drivers Code of Conduct"},{"$f":"'TRAINING MATRIX'!J$30","v":0}]
[{"$f":"'TRAINING MATRIX'!K2","v":"Smoking Policy"},{"$f":"'TRAINING MATRIX'!K$30","v":0}]
[{"$f":"'TRAINING MATRIX'!L2","v":"Mobile Communication Policy"},{"$f":"'TRAINING MATRIX'!L$30","v":0}]
[{"$f":"'TRAINING MATRIX'!N2","v":"Transport Charges & Fines Policy"},{"$f":"'TRAINING MATRIX'!N$30","v":0}]
[{"$f":"'TRAINING MATRIX'!M2","v":"Using Sat Nav"},{"$f":"'TRAINING MATRIX'!M$30","v":0}]
[{"$f":"'TRAINING MATRIX'!O2","v":"Goods Vehicle and Safety Policy"},{"$f":"'TRAINING MATRIX'!O$30","v":0}]
[{"$f":"'TRAINING MATRIX'!P2","v":"Safe Loading Policy"},{"$f":"'TRAINING MATRIX'!P$30","v":0}]
[{"$f":"'TRAINING MATRIX'!Q2","v":"Eye Sight Check"},{"$f":"'TRAINING MATRIX'!Q$30","v":"12.9.19"}]
[{"$f":"'TRAINING MATRIX'!R2","v":"Use of Tail lifts"},{"$f":"'TRAINING MATRIX'!X$30","v":0}]
[{"$f":"'TRAINING MATRIX'!S2","v":"CPC Periodic Training Module"},{"$f":"'TRAINING MATRIX'!Y$30","v":0}]
[{"$f":"'TRAINING MATRIX'!T2","v":"CPC Periodic Training Module"},{"$f":"'TRAINING MATRIX'!Z$30","v":0}]
[{"$f":"'TRAINING MATRIX'!U2","v":"CPC Periodic Training Module"},{"$f":"'TRAINING MATRIX'!AA$30","v":0}]
[{"$f":"'TRAINING MATRIX'!V2","v":"CPC Periodic Training Module"},{"$f":"'TRAINING MATRIX'!AB$30","v":0}]
[{"$f":"'TRAINING MATRIX'!W2","v":"CPC Periodic Training Module"},{"$f":"'TRAINING MATRIX'!AC$30","v":0}]
[{"$f":"'TRAINING MATRIX'!X2","v":"FORS Security and Counter-Terrorism"},{"$f":"'TRAINING MATRIX'!X$30","v":0}]
[{"$f":"'TRAINING MATRIX'!Y2","v":"FORS BridgeSmart"},{"$f":"'TRAINING MATRIX'!Y$30","v":0}]
[{"$f":"'TRAINING MATRIX'!D2","v":0},{"$f":"'TRAINING MATRIX'!Z$30","v":0}]
[{"$f":"'TRAINING MATRIX'!AA2","v":"FORS LoCity"},{"$f":"'TRAINING MATRIX'!AA$30","v":0}]
[{"$f":"'TRAINING MATRIX'!AB2","v":"FORS SmartDeliveries"},{"$f":"'TRAINING MATRIX'!AB$30","v":0}]
[{"$f":"'TRAINING MATRIX'!AD2","v":"ADR Awareness"},{"$f":"'TRAINING MATRIX'!AC$30","v":0}]
[{"$f":"'TRAINING MATRIX'!AE2","v":"ADR (Core, Packages and All Classes ex 7 & 9)"},{"$f":"'TRAINING MATRIX'!AD$30","v":0}]
[{"$f":"'TRAINING MATRIX'!AF2","v":0},{"$f":"'TRAINING MATRIX'!AE$30","v":0}]
[{"$f":"'TRAINING MATRIX'!AF2","v":0},{"$f":"'TRAINING MATRIX'!AF$30","v":0}]
[{"$f":"'TRAINING MATRIX'!AG2","v":"TTB Climbing On & Off Vehicles"},{"$f":"'TRAINING MATRIX'!AG$30","v":0}]
[{"$f":"'TRAINING MATRIX'!AH2","v":"TTB Climbing On & Off Trailers & Load Decks"},{"$f":"'TRAINING MATRIX'!AH$30","v":0}]
[{"$f":"'TRAINING MATRIX'!AI2","v":"TTB Jumping To a Lifetime of Pain"},{"$f":"'TRAINING MATRIX'!AI$30","v":0}]
[{"$f":"'TRAINING MATRIX'!AJ2","v":"TTB Dealing With Cyclists"},{"$f":"'TRAINING MATRIX'!AJ$30","v":0}]
[{"$f":"'TRAINING MATRIX'!AK2","v":"TTB Fitness to Drive"},{"$f":"'TRAINING MATRIX'!AK$30","v":0}]
[{"$f":"'TRAINING MATRIX'!AL2","v":"TTB Loading & Unloading"},{"$f":"'TRAINING MATRIX'!AL$30","v":0}]
[{"$f":"'TRAINING MATRIX'!AM2","v":"TTB Protecting Vulnerable Road Users"},{"$f":"'TRAINING MATRIX'!AM$30","v":0}]
[{"$f":"'TRAINING MATRIX'!AN2","v":0},{"$f":"'TRAINING MATRIX'!AN$30","v":0}]
[{"$f":"'TRAINING MATRIX'!AO2","v":"SSOW Coupling and Uncoupling"},{"$f":"'TRAINING MATRIX'!AO$30","v":0}]
[{"$f":"'TRAINING MATRIX'!AP2","v":"SSOW Scanning Shed"},{"$f":"'TRAINING MATRIX'!AP$30","v":0}]
[{"$f":"'TRAINING MATRIX'!AQ2","v":"SWP Drivers Walkaround Checks"},{"$f":"'TRAINING MATRIX'!AQ$30","v":0}]
[{"$f":"'TRAINING MATRIX'!AR2","v":0},{"$f":"'TRAINING MATRIX'!AR$30","v":0}]
[{"$f":"'TRAINING MATRIX'!AS2","v":0},{"$f":"'TRAINING MATRIX'!AS$30","v":0}]
[{"$f":"'TRAINING MATRIX'!AT2","v":0},{"$f":"'TRAINING MATRIX'!AT$30","v":0}]
[{"$f":"'TRAINING MATRIX'!AU2","v":0},{"$f":"'TRAINING MATRIX'!AU$30","v":0}]
[{"$f":"'TRAINING MATRIX'!AV2","v":0},{"$f":"'TRAINING MATRIX'!AV$30","v":0}]
[{"$f":"'TRAINING MATRIX'!AW2","v":0},{"$f":"'TRAINING MATRIX'!AW$30","v":0}]
[{"$f":"'TRAINING MATRIX'!AX2","v":0},{"$f":"'TRAINING MATRIX'!AX$30","v":0}]
[{"$f":"'TRAINING MATRIX'!AY2","v":0},{"$f":"'TRAINING MATRIX'!AY$30","v":0}]
[{"$f":"'TRAINING MATRIX'!AZ2","v":0},{"$f":"'TRAINING MATRIX'!AZ$30","v":0}]

{"sheet":"Roger Green","index":30,"n_rows":52,"n_cols":2,"rows_kept":52,"cut":false,"hidden":false,"merged":[]}
["Driver Name","Completed / Issued"]
[{"$f":"'TRAINING MATRIX'!A31","v":"Green Roger"},{"$f":"'TRAINING MATRIX'!C31","v":"C"}]
[{"$f":"'TRAINING MATRIX'!B$31","v":0}]
[{"$f":"'TRAINING MATRIX'!D2","v":0},{"$f":"'TRAINING MATRIX'!D$31","v":0}]
[{"$f":"'TRAINING MATRIX'!E2","v":0},{"$f":"'TRAINING MATRIX'!E$31","v":0}]
[{"$f":"'TRAINING MATRIX'!F2","v":0},{"$f":"'TRAINING MATRIX'!F$31","v":0}]
[{"$f":"'TRAINING MATRIX'!G2","v":"Assessed"},{"$f":"'TRAINING MATRIX'!G$31","v":0}]
[{"$f":"'TRAINING MATRIX'!H2","v":"Driver induction"},{"$f":"'TRAINING MATRIX'!H$31","v":0}]
[{"$f":"'TRAINING MATRIX'!I2","v":"Highway Code via KT"},{"$f":"'TRAINING MATRIX'!I$31","v":0}]
[{"$f":"'TRAINING MATRIX'!J2","v":"Drivers Code of Conduct"},{"$f":"'TRAINING MATRIX'!J$31","v":0}]
[{"$f":"'TRAINING MATRIX'!K2","v":"Smoking Policy"},{"$f":"'TRAINING MATRIX'!K$31","v":0}]
[{"$f":"'TRAINING MATRIX'!L2","v":"Mobile Communication Policy"},{"$f":"'TRAINING MATRIX'!L$31","v":"6.9.19"}]
[{"$f":"'TRAINING MATRIX'!N2","v":"Transport Charges & Fines Policy"},{"$f":"'TRAINING MATRIX'!N$31","v":"22.8.19"}]
[{"$f":"'TRAINING MATRIX'!M2","v":"Using Sat Nav"},{"$f":"'TRAINING MATRIX'!M$31","v":0}]
[{"$f":"'TRAINING MATRIX'!O2","v":"Goods Vehicle and Safety Policy"},{"$f":"'TRAINING MATRIX'!O$31","v":"25.8.19"}]
[{"$f":"'TRAINING MATRIX'!P2","v":"Safe Loading Policy"},{"$f":"'TRAINING MATRIX'!P$31","v":"25.8.19"}]
[{"$f":"'TRAINING MATRIX'!Q2","v":"Eye Sight Check"},{"$f":"'TRAINING MATRIX'!Q$31","v":"21.8.19"}]
[{"$f":"'TRAINING MATRIX'!R2","v":"Use of Tail lifts"},{"$f":"'TRAINING MATRIX'!X$31","v":"21.8.19"}]
[{"$f":"'TRAINING MATRIX'!S2","v":"CPC Periodic Training Module"},{"$f":"'TRAINING MATRIX'!Y$31","v":"5.9.19"}]
[{"$f":"'TRAINING MATRIX'!T2","v":"CPC Periodic Training Module"},{"$f":"'TRAINING MATRIX'!Z$31","v":0}]
[{"$f":"'TRAINING MATRIX'!U2","v":"CPC Periodic Training Module"},{"$f":"'TRAINING MATRIX'!AA$31","v":0}]
[{"$f":"'TRAINING MATRIX'!V2","v":"CPC Periodic Training Module"},{"$f":"'TRAINING MATRIX'!AB$31","v":0}]
[{"$f":"'TRAINING MATRIX'!W2","v":"CPC Periodic Training Module"},{"$f":"'TRAINING MATRIX'!AC$31","v":0}]
[{"$f":"'TRAINING MATRIX'!X2","v":"FORS Security and Counter-Terrorism"},{"$f":"'TRAINING MATRIX'!X$31","v":"21.8.19"}]
[{"$f":"'TRAINING MATRIX'!Y2","v":"FORS BridgeSmart"},{"$f":"'TRAINING MATRIX'!Y$31","v":"5.9.19"}]
[{"$f":"'TRAINING MATRIX'!D2","v":0},{"$f":"'TRAINING MATRIX'!Z$31","v":0}]
[{"$f":"'TRAINING MATRIX'!AA2","v":"FORS LoCity"},{"$f":"'TRAINING MATRIX'!AA$31","v":0}]
[{"$f":"'TRAINING MATRIX'!AB2","v":"FORS SmartDeliveries"},{"$f":"'TRAINING MATRIX'!AB$31","v":0}]
[{"$f":"'TRAINING MATRIX'!AD2","v":"ADR Awareness"},{"$f":"'TRAINING MATRIX'!AC$31","v":0}]
[{"$f":"'TRAINING MATRIX'!AE2","v":"ADR (Core, Packages and All Classes ex 7 & 9)"},{"$f":"'TRAINING MATRIX'!AD$31","v":0}]
[{"$f":"'TRAINING MATRIX'!AF2","v":0},{"$f":"'TRAINING MATRIX'!AE$31","v":0}]
[{"$f":"'TRAINING MATRIX'!AF2","v":0},{"$f":"'TRAINING MATRIX'!AF$31","v":0}]
[{"$f":"'TRAINING MATRIX'!AG2","v":"TTB Climbing On & Off Vehicles"},{"$f":"'TRAINING MATRIX'!AG$31","v":"22.8.19"}]
[{"$f":"'TRAINING MATRIX'!AH2","v":"TTB Climbing On & Off Trailers & Load Decks"},{"$f":"'TRAINING MATRIX'!AH$31","v":"25.8.19"}]
[{"$f":"'TRAINING MATRIX'!AI2","v":"TTB Jumping To a Lifetime of Pain"},{"$f":"'TRAINING MATRIX'!AI$31","v":"25.8.19"}]
[{"$f":"'TRAINING MATRIX'!AJ2","v":"TTB Dealing With Cyclists"},{"$f":"'TRAINING MATRIX'!AJ$31","v":"25.8.19"}]
[{"$f":"'TRAINING MATRIX'!AK2","v":"TTB Fitness to Drive"},{"$f":"'TRAINING MATRIX'!AK$31","v":"25.8.19"}]
[{"$f":"'TRAINING MATRIX'!AL2","v":"TTB Loading & Unloading"},{"$f":"'TRAINING MATRIX'!AL$31","v":"25.8.19"}]
[{"$f":"'TRAINING MATRIX'!AM2","v":"TTB Protecting Vulnerable Road Users"},{"$f":"'TRAINING MATRIX'!AM$31","v":"25.8.19"}]
[{"$f":"'TRAINING MATRIX'!AN2","v":0},{"$f":"'TRAINING MATRIX'!AN$31","v":0}]
[{"$f":"'TRAINING MATRIX'!AO2","v":"SSOW Coupling and Uncoupling"},{"$f":"'TRAINING MATRIX'!AO$31","v":0}]
[{"$f":"'TRAINING MATRIX'!AP2","v":"SSOW Scanning Shed"},{"$f":"'TRAINING MATRIX'!AP$31","v":0}]
[{"$f":"'TRAINING MATRIX'!AQ2","v":"SWP Drivers Walkaround Checks"},{"$f":"'TRAINING MATRIX'!AQ$31","v":0}]
[{"$f":"'TRAINING MATRIX'!AR2","v":0},{"$f":"'TRAINING MATRIX'!AR$31","v":0}]
[{"$f":"'TRAINING MATRIX'!AS2","v":0},{"$f":"'TRAINING MATRIX'!AS$31","v":0}]
[{"$f":"'TRAINING MATRIX'!AT2","v":0},{"$f":"'TRAINING MATRIX'!AT$31","v":0}]
[{"$f":"'TRAINING MATRIX'!AU2","v":0},{"$f":"'TRAINING MATRIX'!AU$31","v":0}]
[{"$f":"'TRAINING MATRIX'!AV2","v":0},{"$f":"'TRAINING MATRIX'!AV$31","v":0}]
[{"$f":"'TRAINING MATRIX'!AW2","v":0},{"$f":"'TRAINING MATRIX'!AW$31","v":0}]
[{"$f":"'TRAINING MATRIX'!AX2","v":0},{"$f":"'TRAINING MATRIX'!AX$31","v":0}]
[{"$f":"'TRAINING MATRIX'!AY2","v":0},{"$f":"'TRAINING MATRIX'!AY$31","v":0}]
[{"$f":"'TRAINING MATRIX'!AZ2","v":0},{"$f":"'TRAINING MATRIX'!AZ$31","v":0}]

{"sheet":"Michal Gurzynski","index":31,"n_rows":52,"n_cols":2,"rows_kept":52,"cut":false,"hidden":false,"merged":[]}
["Driver Name","Completed / Issued"]
[{"$f":"'TRAINING MATRIX'!A32","v":"Gurzynski Michal"},{"$f":"'TRAINING MATRIX'!C32","v":"C"}]
[{"$f":"'TRAINING MATRIX'!B$32","v":0}]
[{"$f":"'TRAINING MATRIX'!D2","v":0},{"$f":"'TRAINING MATRIX'!D$32","v":0}]
[{"$f":"'TRAINING MATRIX'!E2","v":0},{"$f":"'TRAINING MATRIX'!E$32","v":0}]
[{"$f":"'TRAINING MATRIX'!F2","v":0},{"$f":"'TRAINING MATRIX'!F$32","v":0}]
[{"$f":"'TRAINING MATRIX'!G2","v":"Assessed"},{"$f":"'TRAINING MATRIX'!G$32","v":0}]
[{"$f":"'TRAINING MATRIX'!H2","v":"Driver induction"},{"$f":"'TRAINING MATRIX'!H$32","v":0}]
[{"$f":"'TRAINING MATRIX'!I2","v":"Highway Code via KT"},{"$f":"'TRAINING MATRIX'!I$32","v":0}]
[{"$f":"'TRAINING MATRIX'!J2","v":"Drivers Code of Conduct"},{"$f":"'TRAINING MATRIX'!J$32","v":0}]
[{"$f":"'TRAINING MATRIX'!K2","v":"Smoking Policy"},{"$f":"'TRAINING MATRIX'!K$32","v":0}]
[{"$f":"'TRAINING MATRIX'!L2","v":"Mobile Communication Policy"},{"$f":"'TRAINING MATRIX'!L$32","v":"6.9.19"}]
[{"$f":"'TRAINING MATRIX'!N2","v":"Transport Charges & Fines Policy"},{"$f":"'TRAINING MATRIX'!N$32","v":"22.8.19"}]
[{"$f":"'TRAINING MATRIX'!M2","v":"Using Sat Nav"},{"$f":"'TRAINING MATRIX'!M$32","v":0}]
[{"$f":"'TRAINING MATRIX'!O2","v":"Goods Vehicle and Safety Policy"},{"$f":"'TRAINING MATRIX'!O$32","v":"25.8.19"}]
[{"$f":"'TRAINING MATRIX'!P2","v":"Safe Loading Policy"},{"$f":"'TRAINING MATRIX'!P$32","v":"25.8.19"}]
[{"$f":"'TRAINING MATRIX'!Q2","v":"Eye Sight Check"},{"$f":"'TRAINING MATRIX'!Q$32","v":"16.9.19"}]
[{"$f":"'TRAINING MATRIX'!R2","v":"Use of Tail lifts"},{"$f":"'TRAINING MATRIX'!X$32","v":"21.8.19"}]
[{"$f":"'TRAINING MATRIX'!S2","v":"CPC Periodic Training Module"},{"$f":"'TRAINING MATRIX'!Y$32","v":"5.9.19"}]
[{"$f":"'TRAINING MATRIX'!T2","v":"CPC Periodic Training Module"},{"$f":"'TRAINING MATRIX'!Z$32","v":0}]
[{"$f":"'TRAINING MATRIX'!U2","v":"CPC Periodic Training Module"},{"$f":"'TRAINING MATRIX'!AA$32","v":0}]
[{"$f":"'TRAINING MATRIX'!V2","v":"CPC Periodic Training Module"},{"$f":"'TRAINING MATRIX'!AB$32","v":0}]
[{"$f":"'TRAINING MATRIX'!W2","v":"CPC Periodic Training Module"},{"$f":"'TRAINING MATRIX'!AC$32","v":0}]
[{"$f":"'TRAINING MATRIX'!X2","v":"FORS Security and Counter-Terrorism"},{"$f":"'TRAINING MATRIX'!X$32","v":"21.8.19"}]
[{"$f":"'TRAINING MATRIX'!Y2","v":"FORS BridgeSmart"},{"$f":"'TRAINING MATRIX'!Y$32","v":"5.9.19"}]
[{"$f":"'TRAINING MATRIX'!D2","v":0},{"$f":"'TRAINING MATRIX'!Z$32","v":0}]
[{"$f":"'TRAINING MATRIX'!AA2","v":"FORS LoCity"},{"$f":"'TRAINING MATRIX'!AA$32","v":0}]
[{"$f":"'TRAINING MATRIX'!AB2","v":"FORS SmartDeliveries"},{"$f":"'TRAINING MATRIX'!AB$32","v":0}]
[{"$f":"'TRAINING MATRIX'!AD2","v":"ADR Awareness"},{"$f":"'TRAINING MATRIX'!AC$32","v":0}]
[{"$f":"'TRAINING MATRIX'!AE2","v":"ADR (Core, Packages and All Classes ex 7 & 9)"},{"$f":"'TRAINING MATRIX'!AD$32","v":0}]
[{"$f":"'TRAINING MATRIX'!AF2","v":0},{"$f":"'TRAINING MATRIX'!AE$32","v":0}]
[{"$f":"'TRAINING MATRIX'!AF2","v":0},{"$f":"'TRAINING MATRIX'!AF$3","v":0}]
[{"$f":"'TRAINING MATRIX'!AG2","v":"TTB Climbing On & Off Vehicles"},{"$f":"'TRAINING MATRIX'!AG$32","v":"22.8.19"}]
[{"$f":"'TRAINING MATRIX'!AH2","v":"TTB Climbing On & Off Trailers & Load Decks"},{"$f":"'TRAINING MATRIX'!AH$32","v":"25.8.19"}]
[{"$f":"'TRAINING MATRIX'!AI2","v":"TTB Jumping To a Lifetime of Pain"},{"$f":"'TRAINING MATRIX'!AI$32","v":"25.8.19"}]
[{"$f":"'TRAINING MATRIX'!AJ2","v":"TTB Dealing With Cyclists"},{"$f":"'TRAINING MATRIX'!AJ$32","v":"25.8.19"}]
[{"$f":"'TRAINING MATRIX'!AK2","v":"TTB Fitness to Drive"},{"$f":"'TRAINING MATRIX'!AK$32","v":"25.8.19"}]
[{"$f":"'TRAINING MATRIX'!AL2","v":"TTB Loading & Unloading"},{"$f":"'TRAINING MATRIX'!AL$32","v":"25.8.19"}]
[{"$f":"'TRAINING MATRIX'!AM2","v":"TTB Protecting Vulnerable Road Users"},{"$f":"'TRAINING MATRIX'!AM$32","v":"25.8.19"}]
[{"$f":"'TRAINING MATRIX'!AN2","v":0},{"$f":"'TRAINING MATRIX'!AN$32","v":0}]
[{"$f":"'TRAINING MATRIX'!AO2","v":"SSOW Coupling and Uncoupling"},{"$f":"'TRAINING MATRIX'!AO$32","v":0}]
[{"$f":"'TRAINING MATRIX'!AP2","v":"SSOW Scanning Shed"},{"$f":"'TRAINING MATRIX'!AP$32","v":0}]
[{"$f":"'TRAINING MATRIX'!AQ2","v":"SWP Drivers Walkaround Checks"},{"$f":"'TRAINING MATRIX'!AQ$32","v":0}]
[{"$f":"'TRAINING MATRIX'!AR2","v":0},{"$f":"'TRAINING MATRIX'!AR$32","v":0}]
[{"$f":"'TRAINING MATRIX'!AS2","v":0},{"$f":"'TRAINING MATRIX'!AS$32","v":0}]
[{"$f":"'TRAINING MATRIX'!AT2","v":0},{"$f":"'TRAINING MATRIX'!AT$32","v":0}]
[{"$f":"'TRAINING MATRIX'!AU2","v":0},{"$f":"'TRAINING MATRIX'!AU$32","v":0}]
[{"$f":"'TRAINING MATRIX'!AV2","v":0},{"$f":"'TRAINING MATRIX'!AV$32","v":0}]
[{"$f":"'TRAINING MATRIX'!AW2","v":0},{"$f":"'TRAINING MATRIX'!AW$32","v":0}]
[{"$f":"'TRAINING MATRIX'!AX2","v":0},{"$f":"'TRAINING MATRIX'!AX$32","v":0}]
[{"$f":"'TRAINING MATRIX'!AY2","v":0},{"$f":"'TRAINING MATRIX'!AY$32","v":0}]
[{"$f":"'TRAINING MATRIX'!AZ2","v":0},{"$f":"'TRAINING MATRIX'!AZ$32","v":0}]

{"sheet":"David Hall","index":32,"n_rows":52,"n_cols":2,"rows_kept":52,"cut":false,"hidden":false,"merged":[]}
["Driver Name","Completed / Issued"]
[{"$f":"'TRAINING MATRIX'!A33","v":"Hall David"},{"$f":"'TRAINING MATRIX'!C33","v":"C"}]
[{"$f":"'TRAINING MATRIX'!B$33","v":0}]
[{"$f":"'TRAINING MATRIX'!D2","v":0},{"$f":"'TRAINING MATRIX'!D$33","v":0}]
[{"$f":"'TRAINING MATRIX'!E2","v":0},{"$f":"'TRAINING MATRIX'!E$33","v":0}]
[{"$f":"'TRAINING MATRIX'!F2","v":0},{"$f":"'TRAINING MATRIX'!F$33","v":0}]
[{"$f":"'TRAINING MATRIX'!G2","v":"Assessed"},{"$f":"'TRAINING MATRIX'!G$33","v":0}]
[{"$f":"'TRAINING MATRIX'!H2","v":"Driver induction"},{"$f":"'TRAINING MATRIX'!H$33","v":"04.02.19"}]
[{"$f":"'TRAINING MATRIX'!I2","v":"Highway Code via KT"},{"$f":"'TRAINING MATRIX'!I$33","v":0}]
[{"$f":"'TRAINING MATRIX'!J2","v":"Drivers Code of Conduct"},{"$f":"'TRAINING MATRIX'!J$33","v":0}]
[{"$f":"'TRAINING MATRIX'!K2","v":"Smoking Policy"},{"$f":"'TRAINING MATRIX'!K$33","v":0}]
[{"$f":"'TRAINING MATRIX'!L2","v":"Mobile Communication Policy"},{"$f":"'TRAINING MATRIX'!L$33","v":"6.9.19"}]
[{"$f":"'TRAINING MATRIX'!N2","v":"Transport Charges & Fines Policy"},{"$f":"'TRAINING MATRIX'!N$33","v":0}]
[{"$f":"'TRAINING MATRIX'!M2","v":"Using Sat Nav"},{"$f":"'TRAINING MATRIX'!M$33","v":0}]
[{"$f":"'TRAINING MATRIX'!O2","v":"Goods Vehicle and Safety Policy"},{"$f":"'TRAINING MATRIX'!O$33","v":0}]
[{"$f":"'TRAINING MATRIX'!P2","v":"Safe Loading Policy"},{"$f":"'TRAINING MATRIX'!P$33","v":0}]
[{"$f":"'TRAINING MATRIX'!Q2","v":"Eye Sight Check"},{"$f":"'TRAINING MATRIX'!Q$33","v":"5.9.19"}]
[{"$f":"'TRAINING MATRIX'!R2","v":"Use of Tail lifts"},{"$f":"'TRAINING MATRIX'!X$33","v":0}]
[{"$f":"'TRAINING MATRIX'!S2","v":"CPC Periodic Training Module"},{"$f":"'TRAINING MATRIX'!Y$33","v":"5.9.19"}]
[{"$f":"'TRAINING MATRIX'!T2","v":"CPC Periodic Training Module"},{"$f":"'TRAINING MATRIX'!Z$33","v":0}]
[{"$f":"'TRAINING MATRIX'!U2","v":"CPC Periodic Training Module"},{"$f":"'TRAINING MATRIX'!AA$33","v":0}]
[{"$f":"'TRAINING MATRIX'!V2","v":"CPC Periodic Training Module"},{"$f":"'TRAINING MATRIX'!AB$33","v":0}]
[{"$f":"'TRAINING MATRIX'!W2","v":"CPC Periodic Training Module"},{"$f":"'TRAINING MATRIX'!AC$33","v":0}]
[{"$f":"'TRAINING MATRIX'!X2","v":"FORS Security and Counter-Terrorism"},{"$f":"'TRAINING MATRIX'!X$33","v":0}]
[{"$f":"'TRAINING MATRIX'!Y2","v":"FORS BridgeSmart"},{"$f":"'TRAINING MATRIX'!Y$33","v":"5.9.19"}]
[{"$f":"'TRAINING MATRIX'!D2","v":0},{"$f":"'TRAINING MATRIX'!Z$33","v":0}]
[{"$f":"'TRAINING MATRIX'!AA2","v":"FORS LoCity"},{"$f":"'TRAINING MATRIX'!AA$33","v":0}]
[{"$f":"'TRAINING MATRIX'!AB2","v":"FORS SmartDeliveries"},{"$f":"'TRAINING MATRIX'!AB$33","v":0}]
[{"$f":"'TRAINING MATRIX'!AD2","v":"ADR Awareness"},{"$f":"'TRAINING MATRIX'!AC$33","v":0}]
[{"$f":"'TRAINING MATRIX'!AE2","v":"ADR (Core, Packages and All Classes ex 7 & 9)"},{"$f":"'TRAINING MATRIX'!AD$33","v":0}]
[{"$f":"'TRAINING MATRIX'!AF2","v":0},{"$f":"'TRAINING MATRIX'!AE$33","v":0}]
[{"$f":"'TRAINING MATRIX'!AF2","v":0},{"$f":"'TRAINING MATRIX'!AF$33","v":0}]
[{"$f":"'TRAINING MATRIX'!AG2","v":"TTB Climbing On & Off Vehicles"},{"$f":"'TRAINING MATRIX'!AG$33","v":0}]
[{"$f":"'TRAINING MATRIX'!AH2","v":"TTB Climbing On & Off Trailers & Load Decks"},{"$f":"'TRAINING MATRIX'!AH$33","v":0}]
[{"$f":"'TRAINING MATRIX'!AI2","v":"TTB Jumping To a Lifetime of Pain"},{"$f":"'TRAINING MATRIX'!AI$33","v":0}]
[{"$f":"'TRAINING MATRIX'!AJ2","v":"TTB Dealing With Cyclists"},{"$f":"'TRAINING MATRIX'!AJ$33","v":0}]
[{"$f":"'TRAINING MATRIX'!AK2","v":"TTB Fitness to Drive"},{"$f":"'TRAINING MATRIX'!AK$33","v":0}]
[{"$f":"'TRAINING MATRIX'!AL2","v":"TTB Loading & Unloading"},{"$f":"'TRAINING MATRIX'!AL$33","v":0}]
[{"$f":"'TRAINING MATRIX'!AM2","v":"TTB Protecting Vulnerable Road Users"},{"$f":"'TRAINING MATRIX'!AM$33","v":0}]
[{"$f":"'TRAINING MATRIX'!AN2","v":0},{"$f":"'TRAINING MATRIX'!AN$33","v":0}]
[{"$f":"'TRAINING MATRIX'!AO2","v":"SSOW Coupling and Uncoupling"},{"$f":"'TRAINING MATRIX'!AO$33","v":0}]
[{"$f":"'TRAINING MATRIX'!AP2","v":"SSOW Scanning Shed"},{"$f":"'TRAINING MATRIX'!AP$33","v":0}]
[{"$f":"'TRAINING MATRIX'!AQ2","v":"SWP Drivers Walkaround Checks"},{"$f":"'TRAINING MATRIX'!AQ$33","v":0}]
[{"$f":"'TRAINING MATRIX'!AR2","v":0},{"$f":"'TRAINING MATRIX'!AR$33","v":0}]
[{"$f":"'TRAINING MATRIX'!AS2","v":0},{"$f":"'TRAINING MATRIX'!AS$33","v":0}]
[{"$f":"'TRAINING MATRIX'!AT2","v":0},{"$f":"'TRAINING MATRIX'!AT$33","v":0}]
[{"$f":"'TRAINING MATRIX'!AU2","v":0},{"$f":"'TRAINING MATRIX'!AU$33","v":0}]
[{"$f":"'TRAINING MATRIX'!AV2","v":0},{"$f":"'TRAINING MATRIX'!AV$33","v":0}]
[{"$f":"'TRAINING MATRIX'!AW2","v":0},{"$f":"'TRAINING MATRIX'!AW$33","v":0}]
[{"$f":"'TRAINING MATRIX'!AX2","v":0},{"$f":"'TRAINING MATRIX'!AX$33","v":0}]
[{"$f":"'TRAINING MATRIX'!AY2","v":0},{"$f":"'TRAINING MATRIX'!AY$33","v":0}]
[{"$f":"'TRAINING MATRIX'!AZ2","v":0},{"$f":"'TRAINING MATRIX'!AZ$33","v":0}]

{"sheet":"Stephen Hall","index":33,"n_rows":52,"n_cols":2,"rows_kept":52,"cut":false,"hidden":false,"merged":[]}
["Driver Name","Completed / Issued"]
[{"$f":"'TRAINING MATRIX'!A34","v":"Hall Stephen"},{"$f":"'TRAINING MATRIX'!C34","v":"C"}]
[{"$f":"'TRAINING MATRIX'!B$34","v":0}]
[{"$f":"'TRAINING MATRIX'!D2","v":0},{"$f":"'TRAINING MATRIX'!D$34","v":0}]
[{"$f":"'TRAINING MATRIX'!E2","v":0},{"$f":"'TRAINING MATRIX'!E$34","v":0}]
[{"$f":"'TRAINING MATRIX'!F2","v":0},{"$f":"'TRAINING MATRIX'!F$34","v":0}]
[{"$f":"'TRAINING MATRIX'!G2","v":"Assessed"},{"$f":"'TRAINING MATRIX'!G$34","v":0}]
[{"$f":"'TRAINING MATRIX'!H2","v":"Driver induction"},{"$f":"'TRAINING MATRIX'!H$34","v":0}]
[{"$f":"'TRAINING MATRIX'!I2","v":"Highway Code via KT"},{"$f":"'TRAINING MATRIX'!I$34","v":0}]
[{"$f":"'TRAINING MATRIX'!J2","v":"Drivers Code of Conduct"},{"$f":"'TRAINING MATRIX'!J$34","v":0}]
[{"$f":"'TRAINING MATRIX'!K2","v":"Smoking Policy"},{"$f":"'TRAINING MATRIX'!K$34","v":0}]
[{"$f":"'TRAINING MATRIX'!L2","v":"Mobile Communication Policy"},{"$f":"'TRAINING MATRIX'!L$34","v":"6.9.19"}]
[{"$f":"'TRAINING MATRIX'!N2","v":"Transport Charges & Fines Policy"},{"$f":"'TRAINING MATRIX'!N$34","v":"22.8.19"}]
[{"$f":"'TRAINING MATRIX'!M2","v":"Using Sat Nav"},{"$f":"'TRAINING MATRIX'!M$34","v":0}]
[{"$f":"'TRAINING MATRIX'!O2","v":"Goods Vehicle and Safety Policy"},{"$f":"'TRAINING MATRIX'!O$34","v":"25.8.19"}]
[{"$f":"'TRAINING MATRIX'!P2","v":"Safe Loading Policy"},{"$f":"'TRAINING MATRIX'!P$34","v":"25.8.19"}]
[{"$f":"'TRAINING MATRIX'!Q2","v":"Eye Sight Check"},{"$f":"'TRAINING MATRIX'!Q$34","v":0}]
[{"$f":"'TRAINING MATRIX'!R2","v":"Use of Tail lifts"},{"$f":"'TRAINING MATRIX'!X$34","v":"21.8.19"}]
[{"$f":"'TRAINING MATRIX'!S2","v":"CPC Periodic Training Module"},{"$f":"'TRAINING MATRIX'!Y$34","v":"5.9.19"}]
[{"$f":"'TRAINING MATRIX'!T2","v":"CPC Periodic Training Module"},{"$f":"'TRAINING MATRIX'!Z$34","v":0}]
[{"$f":"'TRAINING MATRIX'!U2","v":"CPC Periodic Training Module"},{"$f":"'TRAINING MATRIX'!AA$34","v":0}]
[{"$f":"'TRAINING MATRIX'!V2","v":"CPC Periodic Training Module"},{"$f":"'TRAINING MATRIX'!AB$34","v":0}]
[{"$f":"'TRAINING MATRIX'!W2","v":"CPC Periodic Training Module"},{"$f":"'TRAINING MATRIX'!AC$34","v":0}]
[{"$f":"'TRAINING MATRIX'!X2","v":"FORS Security and Counter-Terrorism"},{"$f":"'TRAINING MATRIX'!X$34","v":"21.8.19"}]
[{"$f":"'TRAINING MATRIX'!Y2","v":"FORS BridgeSmart"},{"$f":"'TRAINING MATRIX'!Y$34","v":"5.9.19"}]
[{"$f":"'TRAINING MATRIX'!D2","v":0},{"$f":"'TRAINING MATRIX'!Z$34","v":0}]
[{"$f":"'TRAINING MATRIX'!AA2","v":"FORS LoCity"},{"$f":"'TRAINING MATRIX'!AA$34","v":0}]
[{"$f":"'TRAINING MATRIX'!AB2","v":"FORS SmartDeliveries"},{"$f":"'TRAINING MATRIX'!AB$34","v":0}]
[{"$f":"'TRAINING MATRIX'!AD2","v":"ADR Awareness"},{"$f":"'TRAINING MATRIX'!AC$34","v":0}]
[{"$f":"'TRAINING MATRIX'!AE2","v":"ADR (Core, Packages and All Classes ex 7 & 9)"},{"$f":"'TRAINING MATRIX'!AD$34","v":0}]
[{"$f":"'TRAINING MATRIX'!AF2","v":0},{"$f":"'TRAINING MATRIX'!AE$34","v":0}]
[{"$f":"'TRAINING MATRIX'!AF2","v":0},{"$f":"'TRAINING MATRIX'!AF$34","v":0}]
[{"$f":"'TRAINING MATRIX'!AG2","v":"TTB Climbing On & Off Vehicles"},{"$f":"'TRAINING MATRIX'!AG$34","v":"22.8.19"}]
[{"$f":"'TRAINING MATRIX'!AH2","v":"TTB Climbing On & Off Trailers & Load Decks"},{"$f":"'TRAINING MATRIX'!AH$34","v":"25.8.19"}]
[{"$f":"'TRAINING MATRIX'!AI2","v":"TTB Jumping To a Lifetime of Pain"},{"$f":"'TRAINING MATRIX'!AI$34","v":"25.8.19"}]
[{"$f":"'TRAINING MATRIX'!AJ2","v":"TTB Dealing With Cyclists"},{"$f":"'TRAINING MATRIX'!AJ$34","v":"25.8.19"}]
[{"$f":"'TRAINING MATRIX'!AK2","v":"TTB Fitness to Drive"},{"$f":"'TRAINING MATRIX'!AK$34","v":"25.8.19"}]
[{"$f":"'TRAINING MATRIX'!AL2","v":"TTB Loading & Unloading"},{"$f":"'TRAINING MATRIX'!AL$34","v":"25.8.19"}]
[{"$f":"'TRAINING MATRIX'!AM2","v":"TTB Protecting Vulnerable Road Users"},{"$f":"'TRAINING MATRIX'!AM$34","v":"25.8.19"}]
[{"$f":"'TRAINING MATRIX'!AN2","v":0},{"$f":"'TRAINING MATRIX'!AN$34","v":0}]
[{"$f":"'TRAINING MATRIX'!AO2","v":"SSOW Coupling and Uncoupling"},{"$f":"'TRAINING MATRIX'!AO$34","v":0}]
[{"$f":"'TRAINING MATRIX'!AP2","v":"SSOW Scanning Shed"},{"$f":"'TRAINING MATRIX'!AP$34","v":0}]
[{"$f":"'TRAINING MATRIX'!AQ2","v":"SWP Drivers Walkaround Checks"},{"$f":"'TRAINING MATRIX'!AQ$34","v":0}]
[{"$f":"'TRAINING MATRIX'!AR2","v":0},{"$f":"'TRAINING MATRIX'!AR$34","v":0}]
[{"$f":"'TRAINING MATRIX'!AS2","v":0},{"$f":"'TRAINING MATRIX'!AS$34","v":0}]
[{"$f":"'TRAINING MATRIX'!AT2","v":0},{"$f":"'TRAINING MATRIX'!AT$34","v":0}]
[{"$f":"'TRAINING MATRIX'!AU2","v":0},{"$f":"'TRAINING MATRIX'!AU$34","v":0}]
[{"$f":"'TRAINING MATRIX'!AV2","v":0},{"$f":"'TRAINING MATRIX'!AV$34","v":0}]
[{"$f":"'TRAINING MATRIX'!AW2","v":0},{"$f":"'TRAINING MATRIX'!AW$34","v":0}]
[{"$f":"'TRAINING MATRIX'!AX2","v":0},{"$f":"'TRAINING MATRIX'!AX$34","v":0}]
[{"$f":"'TRAINING MATRIX'!AY2","v":0},{"$f":"'TRAINING MATRIX'!AY$34","v":0}]
[{"$f":"'TRAINING MATRIX'!AZ2","v":0},{"$f":"'TRAINING MATRIX'!AZ$34","v":0}]

{"sheet":"Wayne Hartley","index":34,"n_rows":52,"n_cols":2,"rows_kept":52,"cut":false,"hidden":false,"merged":[]}
["Driver Name","Completed / Issued"]
[{"$f":"'TRAINING MATRIX'!A35","v":"Hartley Wayne"},{"$f":"'TRAINING MATRIX'!C35","v":"CE"}]
[{"$f":"'TRAINING MATRIX'!B$35","v":0}]
[{"$f":"'TRAINING MATRIX'!D2","v":0},{"$f":"'TRAINING MATRIX'!D$35","v":0}]
[{"$f":"'TRAINING MATRIX'!E2","v":0},{"$f":"'TRAINING MATRIX'!E$35","v":0}]
[{"$f":"'TRAINING MATRIX'!F2","v":0},{"$f":"'TRAINING MATRIX'!F$35","v":0}]
[{"$f":"'TRAINING MATRIX'!G2","v":"Assessed"},{"$f":"'TRAINING MATRIX'!G$35","v":"10.04.19"}]
[{"$f":"'TRAINING MATRIX'!H2","v":"Driver induction"},{"$f":"'TRAINING MATRIX'!H$35","v":"10.04.19"}]
[{"$f":"'TRAINING MATRIX'!I2","v":"Highway Code via KT"},{"$f":"'TRAINING MATRIX'!I$35","v":0}]
[{"$f":"'TRAINING MATRIX'!J2","v":"Drivers Code of Conduct"},{"$f":"'TRAINING MATRIX'!J$35","v":0}]
[{"$f":"'TRAINING MATRIX'!K2","v":"Smoking Policy"},{"$f":"'TRAINING MATRIX'!K$35","v":0}]
[{"$f":"'TRAINING MATRIX'!L2","v":"Mobile Communication Policy"},{"$f":"'TRAINING MATRIX'!L$35","v":"6.9.19"}]
[{"$f":"'TRAINING MATRIX'!N2","v":"Transport Charges & Fines Policy"},{"$f":"'TRAINING MATRIX'!N$35","v":"22.8.19"}]
[{"$f":"'TRAINING MATRIX'!M2","v":"Using Sat Nav"},{"$f":"'TRAINING MATRIX'!M$35","v":0}]
[{"$f":"'TRAINING MATRIX'!O2","v":"Goods Vehicle and Safety Policy"},{"$f":"'TRAINING MATRIX'!O$35","v":"25.8.19"}]
[{"$f":"'TRAINING MATRIX'!P2","v":"Safe Loading Policy"},{"$f":"'TRAINING MATRIX'!P$35","v":"25.8.19"}]
[{"$f":"'TRAINING MATRIX'!Q2","v":"Eye Sight Check"},{"$f":"'TRAINING MATRIX'!Q$35","v":"21.8.19"}]
[{"$f":"'TRAINING MATRIX'!R2","v":"Use of Tail lifts"},{"$f":"'TRAINING MATRIX'!X$35","v":"21.8.19"}]
[{"$f":"'TRAINING MATRIX'!S2","v":"CPC Periodic Training Module"},{"$f":"'TRAINING MATRIX'!Y$35","v":"5.9.19"}]
[{"$f":"'TRAINING MATRIX'!T2","v":"CPC Periodic Training Module"},{"$f":"'TRAINING MATRIX'!Z$35","v":0}]
[{"$f":"'TRAINING MATRIX'!U2","v":"CPC Periodic Training Module"},{"$f":"'TRAINING MATRIX'!AA$35","v":0}]
[{"$f":"'TRAINING MATRIX'!V2","v":"CPC Periodic Training Module"},{"$f":"'TRAINING MATRIX'!AB$35","v":0}]
[{"$f":"'TRAINING MATRIX'!W2","v":"CPC Periodic Training Module"},{"$f":"'TRAINING MATRIX'!AC$35","v":0}]
[{"$f":"'TRAINING MATRIX'!X2","v":"FORS Security and Counter-Terrorism"},{"$f":"'TRAINING MATRIX'!X$35","v":"21.8.19"}]
[{"$f":"'TRAINING MATRIX'!Y2","v":"FORS BridgeSmart"},{"$f":"'TRAINING MATRIX'!Y$35","v":"5.9.19"}]
[{"$f":"'TRAINING MATRIX'!D2","v":0},{"$f":"'TRAINING MATRIX'!Z$35","v":0}]
[{"$f":"'TRAINING MATRIX'!AA2","v":"FORS LoCity"},{"$f":"'TRAINING MATRIX'!AA$35","v":0}]
[{"$f":"'TRAINING MATRIX'!AB2","v":"FORS SmartDeliveries"},{"$f":"'TRAINING MATRIX'!AB$35","v":0}]
[{"$f":"'TRAINING MATRIX'!AD2","v":"ADR Awareness"},{"$f":"'TRAINING MATRIX'!AC$35","v":0}]
[{"$f":"'TRAINING MATRIX'!AE2","v":"ADR (Core, Packages and All Classes ex 7 & 9)"},{"$f":"'TRAINING MATRIX'!AD$35","v":0}]
[{"$f":"'TRAINING MATRIX'!AF2","v":0},{"$f":"'TRAINING MATRIX'!AE$35","v":0}]
[{"$f":"'TRAINING MATRIX'!AF2","v":0},{"$f":"'TRAINING MATRIX'!AF$35","v":0}]
[{"$f":"'TRAINING MATRIX'!AG2","v":"TTB Climbing On & Off Vehicles"},{"$f":"'TRAINING MATRIX'!AG$35","v":"22.8.19"}]
[{"$f":"'TRAINING MATRIX'!AH2","v":"TTB Climbing On & Off Trailers & Load Decks"},{"$f":"'TRAINING MATRIX'!AH$35","v":"25.8.19"}]
[{"$f":"'TRAINING MATRIX'!AI2","v":"TTB Jumping To a Lifetime of Pain"},{"$f":"'TRAINING MATRIX'!AI$35","v":"25.8.19"}]
[{"$f":"'TRAINING MATRIX'!AJ2","v":"TTB Dealing With Cyclists"},{"$f":"'TRAINING MATRIX'!AJ$35","v":"25.8.19"}]
[{"$f":"'TRAINING MATRIX'!AK2","v":"TTB Fitness to Drive"},{"$f":"'TRAINING MATRIX'!AK$35","v":"25.8.19"}]
[{"$f":"'TRAINING MATRIX'!AL2","v":"TTB Loading & Unloading"},{"$f":"'TRAINING MATRIX'!AL$35","v":"25.8.19"}]
[{"$f":"'TRAINING MATRIX'!AM2","v":"TTB Protecting Vulnerable Road Users"},{"$f":"'TRAINING MATRIX'!AM$35","v":"25.8.19"}]
[{"$f":"'TRAINING MATRIX'!AN2","v":0},{"$f":"'TRAINING MATRIX'!AN$35","v":0}]
[{"$f":"'TRAINING MATRIX'!AO2","v":"SSOW Coupling and Uncoupling"},{"$f":"'TRAINING MATRIX'!AO$35","v":0}]
[{"$f":"'TRAINING MATRIX'!AP2","v":"SSOW Scanning Shed"},{"$f":"'TRAINING MATRIX'!AP$35","v":0}]
[{"$f":"'TRAINING MATRIX'!AQ2","v":"SWP Drivers Walkaround Checks"},{"$f":"'TRAINING MATRIX'!AQ$35","v":0}]
[{"$f":"'TRAINING MATRIX'!AR2","v":0},{"$f":"'TRAINING MATRIX'!AR$35","v":0}]
[{"$f":"'TRAINING MATRIX'!AS2","v":0},{"$f":"'TRAINING MATRIX'!AS$35","v":0}]
[{"$f":"'TRAINING MATRIX'!AT2","v":0},{"$f":"'TRAINING MATRIX'!AT$35","v":0}]
[{"$f":"'TRAINING MATRIX'!AU2","v":0},{"$f":"'TRAINING MATRIX'!AU$35","v":0}]
[{"$f":"'TRAINING MATRIX'!AV2","v":0},{"$f":"'TRAINING MATRIX'!AV$35","v":0}]
[{"$f":"'TRAINING MATRIX'!AW2","v":0},{"$f":"'TRAINING MATRIX'!AW$35","v":0}]
[{"$f":"'TRAINING MATRIX'!AX2","v":0},{"$f":"'TRAINING MATRIX'!AX$35","v":0}]
[{"$f":"'TRAINING MATRIX'!AY2","v":0},{"$f":"'TRAINING MATRIX'!AY$35","v":0}]
[{"$f":"'TRAINING MATRIX'!AZ2","v":0},{"$f":"'TRAINING MATRIX'!AZ$35","v":0}]

{"sheet":"Neil Hayes","index":35,"n_rows":52,"n_cols":2,"rows_kept":52,"cut":false,"hidden":false,"merged":[]}
["Driver Name","Completed / Issued"]
[{"$f":"'TRAINING MATRIX'!A36","v":"Hayes Neil"},{"$f":"'TRAINING MATRIX'!C36","v":"CE"}]
[{"$f":"'TRAINING MATRIX'!B$36","v":0}]
[{"$f":"'TRAINING MATRIX'!D2","v":0},{"$f":"'TRAINING MATRIX'!D$36","v":0}]
[{"$f":"'TRAINING MATRIX'!E2","v":0},{"$f":"'TRAINING MATRIX'!E$36","v":0}]
[{"$f":"'TRAINING MATRIX'!F2","v":0},{"$f":"'TRAINING MATRIX'!F$36","v":0}]
[{"$f":"'TRAINING MATRIX'!G2","v":"Assessed"},{"$f":"'TRAINING MATRIX'!G$36","v":0}]
[{"$f":"'TRAINING MATRIX'!H2","v":"Driver induction"},{"$f":"'TRAINING MATRIX'!H$36","v":0}]
[{"$f":"'TRAINING MATRIX'!I2","v":"Highway Code via KT"},{"$f":"'TRAINING MATRIX'!I$36","v":0}]
[{"$f":"'TRAINING MATRIX'!J2","v":"Drivers Code of Conduct"},{"$f":"'TRAINING MATRIX'!J$36","v":0}]
[{"$f":"'TRAINING MATRIX'!K2","v":"Smoking Policy"},{"$f":"'TRAINING MATRIX'!K$36","v":0}]
[{"$f":"'TRAINING MATRIX'!L2","v":"Mobile Communication Policy"},{"$f":"'TRAINING MATRIX'!L$36","v":"6.9.19"}]
[{"$f":"'TRAINING MATRIX'!N2","v":"Transport Charges & Fines Policy"},{"$f":"'TRAINING MATRIX'!N$36","v":"22.8.19"}]
[{"$f":"'TRAINING MATRIX'!M2","v":"Using Sat Nav"},{"$f":"'TRAINING MATRIX'!M$36","v":0}]
[{"$f":"'TRAINING MATRIX'!O2","v":"Goods Vehicle and Safety Policy"},{"$f":"'TRAINING MATRIX'!O$36","v":"25.8.19"}]
[{"$f":"'TRAINING MATRIX'!P2","v":"Safe Loading Policy"},{"$f":"'TRAINING MATRIX'!P$36","v":"25.8.19"}]
[{"$f":"'TRAINING MATRIX'!Q2","v":"Eye Sight Check"},{"$f":"'TRAINING MATRIX'!Q$36","v":0}]
[{"$f":"'TRAINING MATRIX'!R2","v":"Use of Tail lifts"},{"$f":"'TRAINING MATRIX'!X$36","v":"21.8.19"}]
[{"$f":"'TRAINING MATRIX'!S2","v":"CPC Periodic Training Module"},{"$f":"'TRAINING MATRIX'!Y$36","v":"5.9.19"}]
[{"$f":"'TRAINING MATRIX'!T2","v":"CPC Periodic Training Module"},{"$f":"'TRAINING MATRIX'!Z$36","v":0}]
[{"$f":"'TRAINING MATRIX'!U2","v":"CPC Periodic Training Module"},{"$f":"'TRAINING MATRIX'!AA$36","v":0}]
[{"$f":"'TRAINING MATRIX'!V2","v":"CPC Periodic Training Module"},{"$f":"'TRAINING MATRIX'!AB$36","v":0}]
[{"$f":"'TRAINING MATRIX'!W2","v":"CPC Periodic Training Module"},{"$f":"'TRAINING MATRIX'!AC$36","v":0}]
[{"$f":"'TRAINING MATRIX'!X2","v":"FORS Security and Counter-Terrorism"},{"$f":"'TRAINING MATRIX'!X$36","v":"21.8.19"}]
[{"$f":"'TRAINING MATRIX'!Y2","v":"FORS BridgeSmart"},{"$f":"'TRAINING MATRIX'!Y$36","v":"5.9.19"}]
[{"$f":"'TRAINING MATRIX'!D2","v":0},{"$f":"'TRAINING MATRIX'!Z$36","v":0}]
[{"$f":"'TRAINING MATRIX'!AA2","v":"FORS LoCity"},{"$f":"'TRAINING MATRIX'!AA$36","v":0}]
[{"$f":"'TRAINING MATRIX'!AB2","v":"FORS SmartDeliveries"},{"$f":"'TRAINING MATRIX'!AB$36","v":0}]
[{"$f":"'TRAINING MATRIX'!AD2","v":"ADR Awareness"},{"$f":"'TRAINING MATRIX'!AC$36","v":0}]
[{"$f":"'TRAINING MATRIX'!AE2","v":"ADR (Core, Packages and All Classes ex 7 & 9)"},{"$f":"'TRAINING MATRIX'!AD$36","v":0}]
[{"$f":"'TRAINING MATRIX'!AF2","v":0},{"$f":"'TRAINING MATRIX'!AE$36","v":0}]
[{"$f":"'TRAINING MATRIX'!AF2","v":0},{"$f":"'TRAINING MATRIX'!AF$36","v":0}]
[{"$f":"'TRAINING MATRIX'!AG2","v":"TTB Climbing On & Off Vehicles"},{"$f":"'TRAINING MATRIX'!AG$36","v":"22.8.19"}]
[{"$f":"'TRAINING MATRIX'!AH2","v":"TTB Climbing On & Off Trailers & Load Decks"},{"$f":"'TRAINING MATRIX'!AH$36","v":"25.8.19"}]
[{"$f":"'TRAINING MATRIX'!AI2","v":"TTB Jumping To a Lifetime of Pain"},{"$f":"'TRAINING MATRIX'!AI$36","v":"25.8.19"}]
[{"$f":"'TRAINING MATRIX'!AJ2","v":"TTB Dealing With Cyclists"},{"$f":"'TRAINING MATRIX'!AJ$36","v":"25.8.19"}]
[{"$f":"'TRAINING MATRIX'!AK2","v":"TTB Fitness to Drive"},{"$f":"'TRAINING MATRIX'!AK$36","v":"25.8.19"}]
[{"$f":"'TRAINING MATRIX'!AL2","v":"TTB Loading & Unloading"},{"$f":"'TRAINING MATRIX'!AL$36","v":"25.8.19"}]
[{"$f":"'TRAINING MATRIX'!AM2","v":"TTB Protecting Vulnerable Road Users"},{"$f":"'TRAINING MATRIX'!AM$36","v":"25.8.19"}]
[{"$f":"'TRAINING MATRIX'!AN2","v":0},{"$f":"'TRAINING MATRIX'!AN$36","v":0}]
[{"$f":"'TRAINING MATRIX'!AO2","v":"SSOW Coupling and Uncoupling"},{"$f":"'TRAINING MATRIX'!AO$36","v":0}]
[{"$f":"'TRAINING MATRIX'!AP2","v":"SSOW Scanning Shed"},{"$f":"'TRAINING MATRIX'!AP$36","v":0}]
[{"$f":"'TRAINING MATRIX'!AQ2","v":"SWP Drivers Walkaround Checks"},{"$f":"'TRAINING MATRIX'!AQ$36","v":0}]
[{"$f":"'TRAINING MATRIX'!AR2","v":0},{"$f":"'TRAINING MATRIX'!AR$36","v":0}]
[{"$f":"'TRAINING MATRIX'!AS2","v":0},{"$f":"'TRAINING MATRIX'!AS$36","v":0}]
[{"$f":"'TRAINING MATRIX'!AT2","v":0},{"$f":"'TRAINING MATRIX'!AT$36","v":0}]
[{"$f":"'TRAINING MATRIX'!AU2","v":0},{"$f":"'TRAINING MATRIX'!AU$36","v":0}]
[{"$f":"'TRAINING MATRIX'!AV2","v":0},{"$f":"'TRAINING MATRIX'!AV$36","v":0}]
[{"$f":"'TRAINING MATRIX'!AW2","v":0},{"$f":"'TRAINING MATRIX'!AW$36","v":0}]
[{"$f":"'TRAINING MATRIX'!AX2","v":0},{"$f":"'TRAINING MATRIX'!AX$36","v":0}]
[{"$f":"'TRAINING MATRIX'!AY2","v":0},{"$f":"'TRAINING MATRIX'!AY$36","v":0}]
[{"$f":"'TRAINING MATRIX'!AZ2","v":0},{"$f":"'TRAINING MATRIX'!AZ$36","v":0}]

{"sheet":"Frazer Healey","index":36,"n_rows":52,"n_cols":2,"rows_kept":52,"cut":false,"hidden":false,"merged":[]}
["Driver Name","Completed / Issued"]
[{"$f":"'TRAINING MATRIX'!A37","v":"Healey Frazer"},{"$f":"'TRAINING MATRIX'!C37","v":"CE"}]
[{"$f":"'TRAINING MATRIX'!B$37","v":0}]
[{"$f":"'TRAINING MATRIX'!D2","v":0},{"$f":"'TRAINING MATRIX'!D$37","v":0}]
[{"$f":"'TRAINING MATRIX'!E2","v":0},{"$f":"'TRAINING MATRIX'!E$37","v":0}]
[{"$f":"'TRAINING MATRIX'!F2","v":0},{"$f":"'TRAINING MATRIX'!F$37","v":0}]
[{"$f":"'TRAINING MATRIX'!G2","v":"Assessed"},{"$f":"'TRAINING MATRIX'!G$37","v":"16.09.19"}]
[{"$f":"'TRAINING MATRIX'!H2","v":"Driver induction"},{"$f":"'TRAINING MATRIX'!H$37","v":0}]
[{"$f":"'TRAINING MATRIX'!I2","v":"Highway Code via KT"},{"$f":"'TRAINING MATRIX'!I$37","v":0}]
[{"$f":"'TRAINING MATRIX'!J2","v":"Drivers Code of Conduct"},{"$f":"'TRAINING MATRIX'!J$37","v":0}]
[{"$f":"'TRAINING MATRIX'!K2","v":"Smoking Policy"},{"$f":"'TRAINING MATRIX'!K$37","v":0}]
[{"$f":"'TRAINING MATRIX'!L2","v":"Mobile Communication Policy"},{"$f":"'TRAINING MATRIX'!L$37","v":"6.9.19"}]
[{"$f":"'TRAINING MATRIX'!N2","v":"Transport Charges & Fines Policy"},{"$f":"'TRAINING MATRIX'!N$37","v":"22.8.19"}]
[{"$f":"'TRAINING MATRIX'!M2","v":"Using Sat Nav"},{"$f":"'TRAINING MATRIX'!M$37","v":0}]
[{"$f":"'TRAINING MATRIX'!O2","v":"Goods Vehicle and Safety Policy"},{"$f":"'TRAINING MATRIX'!O$37","v":"25.8.19"}]
[{"$f":"'TRAINING MATRIX'!P2","v":"Safe Loading Policy"},{"$f":"'TRAINING MATRIX'!P$37","v":"25.8.19"}]
[{"$f":"'TRAINING MATRIX'!Q2","v":"Eye Sight Check"},{"$f":"'TRAINING MATRIX'!Q$37","v":"16.9.19"}]
[{"$f":"'TRAINING MATRIX'!R2","v":"Use of Tail lifts"},{"$f":"'TRAINING MATRIX'!X$37","v":"21.8.19"}]
[{"$f":"'TRAINING MATRIX'!S2","v":"CPC Periodic Training Module"},{"$f":"'TRAINING MATRIX'!Y$37","v":"5.9.19"}]
[{"$f":"'TRAINING MATRIX'!T2","v":"CPC Periodic Training Module"},{"$f":"'TRAINING MATRIX'!Z$37","v":0}]
[{"$f":"'TRAINING MATRIX'!U2","v":"CPC Periodic Training Module"},{"$f":"'TRAINING MATRIX'!AA$37","v":0}]
[{"$f":"'TRAINING MATRIX'!V2","v":"CPC Periodic Training Module"},{"$f":"'TRAINING MATRIX'!AB$37","v":0}]
[{"$f":"'TRAINING MATRIX'!W2","v":"CPC Periodic Training Module"},{"$f":"'TRAINING MATRIX'!AC$37","v":0}]
[{"$f":"'TRAINING MATRIX'!X2","v":"FORS Security and Counter-Terrorism"},{"$f":"'TRAINING MATRIX'!X$37","v":"21.8.19"}]
[{"$f":"'TRAINING MATRIX'!Y2","v":"FORS BridgeSmart"},{"$f":"'TRAINING MATRIX'!Y$37","v":"5.9.19"}]
[{"$f":"'TRAINING MATRIX'!D2","v":0},{"$f":"'TRAINING MATRIX'!Z$37","v":0}]
[{"$f":"'TRAINING MATRIX'!AA2","v":"FORS LoCity"},{"$f":"'TRAINING MATRIX'!AA$37","v":0}]
[{"$f":"'TRAINING MATRIX'!AB2","v":"FORS SmartDeliveries"},{"$f":"'TRAINING MATRIX'!AB$37","v":0}]
[{"$f":"'TRAINING MATRIX'!AD2","v":"ADR Awareness"},{"$f":"'TRAINING MATRIX'!AC$37","v":0}]
[{"$f":"'TRAINING MATRIX'!AE2","v":"ADR (Core, Packages and All Classes ex 7 & 9)"},{"$f":"'TRAINING MATRIX'!AD$37","v":0}]
[{"$f":"'TRAINING MATRIX'!AF2","v":0},{"$f":"'TRAINING MATRIX'!AE$37","v":0}]
[{"$f":"'TRAINING MATRIX'!AF2","v":0},{"$f":"'TRAINING MATRIX'!AF$37","v":0}]
[{"$f":"'TRAINING MATRIX'!AG2","v":"TTB Climbing On & Off Vehicles"},{"$f":"'TRAINING MATRIX'!AG$37","v":"22.8.19"}]
[{"$f":"'TRAINING MATRIX'!AH2","v":"TTB Climbing On & Off Trailers & Load Decks"},{"$f":"'TRAINING MATRIX'!AH$37","v":"25.8.19"}]
[{"$f":"'TRAINING MATRIX'!AI2","v":"TTB Jumping To a Lifetime of Pain"},{"$f":"'TRAINING MATRIX'!AI$37","v":"25.8.19"}]
[{"$f":"'TRAINING MATRIX'!AJ2","v":"TTB Dealing With Cyclists"},{"$f":"'TRAINING MATRIX'!AJ$37","v":"25.8.19"}]
[{"$f":"'TRAINING MATRIX'!AK2","v":"TTB Fitness to Drive"},{"$f":"'TRAINING MATRIX'!AK$37","v":"25.8.19"}]
[{"$f":"'TRAINING MATRIX'!AL2","v":"TTB Loading & Unloading"},{"$f":"'TRAINING MATRIX'!AL$37","v":"25.8.19"}]
[{"$f":"'TRAINING MATRIX'!AM2","v":"TTB Protecting Vulnerable Road Users"},{"$f":"'TRAINING MATRIX'!AM$37","v":"25.8.19"}]
[{"$f":"'TRAINING MATRIX'!AN2","v":0},{"$f":"'TRAINING MATRIX'!AN$37","v":0}]
[{"$f":"'TRAINING MATRIX'!AO2","v":"SSOW Coupling and Uncoupling"},{"$f":"'TRAINING MATRIX'!AO$37","v":0}]
[{"$f":"'TRAINING MATRIX'!AP2","v":"SSOW Scanning Shed"},{"$f":"'TRAINING MATRIX'!AP$37","v":0}]
[{"$f":"'TRAINING MATRIX'!AQ2","v":"SWP Drivers Walkaround Checks"},{"$f":"'TRAINING MATRIX'!AQ$37","v":0}]
[{"$f":"'TRAINING MATRIX'!AR2","v":0},{"$f":"'TRAINING MATRIX'!AR$37","v":0}]
[{"$f":"'TRAINING MATRIX'!AS2","v":0},{"$f":"'TRAINING MATRIX'!AS$37","v":0}]
[{"$f":"'TRAINING MATRIX'!AT2","v":0},{"$f":"'TRAINING MATRIX'!AT$37","v":0}]
[{"$f":"'TRAINING MATRIX'!AU2","v":0},{"$f":"'TRAINING MATRIX'!AU$37","v":0}]
[{"$f":"'TRAINING MATRIX'!AV2","v":0},{"$f":"'TRAINING MATRIX'!AV$37","v":0}]
[{"$f":"'TRAINING MATRIX'!AW2","v":0},{"$f":"'TRAINING MATRIX'!AW$37","v":0}]
[{"$f":"'TRAINING MATRIX'!AX2","v":0},{"$f":"'TRAINING MATRIX'!AX$37","v":0}]
[{"$f":"'TRAINING MATRIX'!AY2","v":0},{"$f":"'TRAINING MATRIX'!AY$37","v":0}]
[{"$f":"'TRAINING MATRIX'!AZ2","v":0},{"$f":"'TRAINING MATRIX'!AZ$37","v":0}]

{"sheet":"Alexander Horobin","index":37,"n_rows":52,"n_cols":2,"rows_kept":52,"cut":false,"hidden":false,"merged":[]}
["Driver Name","Completed / Issued"]
[{"$f":"'TRAINING MATRIX'!A38","v":"Horobin Alexander"},{"$f":"'TRAINING MATRIX'!C38","v":"C"}]
[{"$f":"'TRAINING MATRIX'!B$38","v":"Long term sick"}]
[{"$f":"'TRAINING MATRIX'!D2","v":0},{"$f":"'TRAINING MATRIX'!D$38","v":0}]
[{"$f":"'TRAINING MATRIX'!E2","v":0},{"$f":"'TRAINING MATRIX'!E$38","v":0}]
[{"$f":"'TRAINING MATRIX'!F2","v":0},{"$f":"'TRAINING MATRIX'!F$38","v":0}]
[{"$f":"'TRAINING MATRIX'!G2","v":"Assessed"},{"$f":"'TRAINING MATRIX'!G$38","v":0}]
[{"$f":"'TRAINING MATRIX'!H2","v":"Driver induction"},{"$f":"'TRAINING MATRIX'!H$38","v":"12.11.18"}]
[{"$f":"'TRAINING MATRIX'!I2","v":"Highway Code via KT"},{"$f":"'TRAINING MATRIX'!I$38","v":0}]
[{"$f":"'TRAINING MATRIX'!J2","v":"Drivers Code of Conduct"},{"$f":"'TRAINING MATRIX'!J$38","v":0}]
[{"$f":"'TRAINING MATRIX'!K2","v":"Smoking Policy"},{"$f":"'TRAINING MATRIX'!K$38","v":0}]
[{"$f":"'TRAINING MATRIX'!L2","v":"Mobile Communication Policy"},{"$f":"'TRAINING MATRIX'!L$38","v":0}]
[{"$f":"'TRAINING MATRIX'!N2","v":"Transport Charges & Fines Policy"},{"$f":"'TRAINING MATRIX'!N$38","v":0}]
[{"$f":"'TRAINING MATRIX'!M2","v":"Using Sat Nav"},{"$f":"'TRAINING MATRIX'!M$38","v":0}]
[{"$f":"'TRAINING MATRIX'!O2","v":"Goods Vehicle and Safety Policy"},{"$f":"'TRAINING MATRIX'!O$38","v":0}]
[{"$f":"'TRAINING MATRIX'!P2","v":"Safe Loading Policy"},{"$f":"'TRAINING MATRIX'!P$38","v":0}]
[{"$f":"'TRAINING MATRIX'!Q2","v":"Eye Sight Check"},{"$f":"'TRAINING MATRIX'!Q$38","v":0}]
[{"$f":"'TRAINING MATRIX'!R2","v":"Use of Tail lifts"},{"$f":"'TRAINING MATRIX'!X$38","v":0}]
[{"$f":"'TRAINING MATRIX'!S2","v":"CPC Periodic Training Module"},{"$f":"'TRAINING MATRIX'!Y$38","v":0}]
[{"$f":"'TRAINING MATRIX'!T2","v":"CPC Periodic Training Module"},{"$f":"'TRAINING MATRIX'!Z$38","v":0}]
[{"$f":"'TRAINING MATRIX'!U2","v":"CPC Periodic Training Module"},{"$f":"'TRAINING MATRIX'!AA$38","v":0}]
[{"$f":"'TRAINING MATRIX'!V2","v":"CPC Periodic Training Module"},{"$f":"'TRAINING MATRIX'!AB$38","v":0}]
[{"$f":"'TRAINING MATRIX'!W2","v":"CPC Periodic Training Module"},{"$f":"'TRAINING MATRIX'!AC$38","v":0}]
[{"$f":"'TRAINING MATRIX'!X2","v":"FORS Security and Counter-Terrorism"},{"$f":"'TRAINING MATRIX'!X$38","v":0}]
[{"$f":"'TRAINING MATRIX'!Y2","v":"FORS BridgeSmart"},{"$f":"'TRAINING MATRIX'!Y$38","v":0}]
[{"$f":"'TRAINING MATRIX'!D2","v":0},{"$f":"'TRAINING MATRIX'!Z$38","v":0}]
[{"$f":"'TRAINING MATRIX'!AA2","v":"FORS LoCity"},{"$f":"'TRAINING MATRIX'!AA$38","v":0}]
[{"$f":"'TRAINING MATRIX'!AB2","v":"FORS SmartDeliveries"},{"$f":"'TRAINING MATRIX'!AB$38","v":0}]
[{"$f":"'TRAINING MATRIX'!AD2","v":"ADR Awareness"},{"$f":"'TRAINING MATRIX'!AC$38","v":0}]
[{"$f":"'TRAINING MATRIX'!AE2","v":"ADR (Core, Packages and All Classes ex 7 & 9)"},{"$f":"'TRAINING MATRIX'!AD$38","v":0}]
[{"$f":"'TRAINING MATRIX'!AF2","v":0},{"$f":"'TRAINING MATRIX'!AE$38","v":0}]
[{"$f":"'TRAINING MATRIX'!AF2","v":0},{"$f":"'TRAINING MATRIX'!AF$38","v":0}]
[{"$f":"'TRAINING MATRIX'!AG2","v":"TTB Climbing On & Off Vehicles"},{"$f":"'TRAINING MATRIX'!AG$38","v":0}]
[{"$f":"'TRAINING MATRIX'!AH2","v":"TTB Climbing On & Off Trailers & Load Decks"},{"$f":"'TRAINING MATRIX'!AH$38","v":0}]
[{"$f":"'TRAINING MATRIX'!AI2","v":"TTB Jumping To a Lifetime of Pain"},{"$f":"'TRAINING MATRIX'!AI$38","v":0}]
[{"$f":"'TRAINING MATRIX'!AJ2","v":"TTB Dealing With Cyclists"},{"$f":"'TRAINING MATRIX'!AJ$38","v":0}]
[{"$f":"'TRAINING MATRIX'!AK2","v":"TTB Fitness to Drive"},{"$f":"'TRAINING MATRIX'!AK$38","v":0}]
[{"$f":"'TRAINING MATRIX'!AL2","v":"TTB Loading & Unloading"},{"$f":"'TRAINING MATRIX'!AL$38","v":0}]
[{"$f":"'TRAINING MATRIX'!AM2","v":"TTB Protecting Vulnerable Road Users"},{"$f":"'TRAINING MATRIX'!AM$38","v":0}]
[{"$f":"'TRAINING MATRIX'!AN2","v":0},{"$f":"'TRAINING MATRIX'!AN$38","v":0}]
[{"$f":"'TRAINING MATRIX'!AO2","v":"SSOW Coupling and Uncoupling"},{"$f":"'TRAINING MATRIX'!AO$38","v":0}]
[{"$f":"'TRAINING MATRIX'!AP2","v":"SSOW Scanning Shed"},{"$f":"'TRAINING MATRIX'!AP$38","v":0}]
[{"$f":"'TRAINING MATRIX'!AQ2","v":"SWP Drivers Walkaround Checks"},{"$f":"'TRAINING MATRIX'!AQ$38","v":0}]
[{"$f":"'TRAINING MATRIX'!AR2","v":0},{"$f":"'TRAINING MATRIX'!AR$38","v":0}]
[{"$f":"'TRAINING MATRIX'!AS2","v":0},{"$f":"'TRAINING MATRIX'!AS$38","v":0}]
[{"$f":"'TRAINING MATRIX'!AT2","v":0},{"$f":"'TRAINING MATRIX'!AT$38","v":0}]
[{"$f":"'TRAINING MATRIX'!AU2","v":0},{"$f":"'TRAINING MATRIX'!AU$38","v":0}]
[{"$f":"'TRAINING MATRIX'!AV2","v":0},{"$f":"'TRAINING MATRIX'!AV$38","v":0}]
[{"$f":"'TRAINING MATRIX'!AW2","v":0},{"$f":"'TRAINING MATRIX'!AW$38","v":0}]
[{"$f":"'TRAINING MATRIX'!AX2","v":0},{"$f":"'TRAINING MATRIX'!AX$38","v":0}]
[{"$f":"'TRAINING MATRIX'!AY2","v":0},{"$f":"'TRAINING MATRIX'!AY$38","v":0}]
[{"$f":"'TRAINING MATRIX'!AZ2","v":0},{"$f":"'TRAINING MATRIX'!AZ$38","v":0}]

{"sheet":"Robert Hunt","index":38,"n_rows":52,"n_cols":2,"rows_kept":52,"cut":false,"hidden":false,"merged":[]}
["Driver Name","Completed / Issued"]
[{"$f":"'TRAINING MATRIX'!A39","v":"Hunt Robert"},{"$f":"'TRAINING MATRIX'!C39","v":"CE"}]
[{"$f":"'TRAINING MATRIX'!B$39","v":0}]
[{"$f":"'TRAINING MATRIX'!D2","v":0},{"$f":"'TRAINING MATRIX'!D$39","v":0}]
[{"$f":"'TRAINING MATRIX'!E2","v":0},{"$f":"'TRAINING MATRIX'!E$39","v":0}]
[{"$f":"'TRAINING MATRIX'!F2","v":0},{"$f":"'TRAINING MATRIX'!F$39","v":0}]
[{"$f":"'TRAINING MATRIX'!G2","v":"Assessed"},{"$f":"'TRAINING MATRIX'!G$39","v":0}]
[{"$f":"'TRAINING MATRIX'!H2","v":"Driver induction"},{"$f":"'TRAINING MATRIX'!H$39","v":"17.10.16"}]
[{"$f":"'TRAINING MATRIX'!I2","v":"Highway Code via KT"},{"$f":"'TRAINING MATRIX'!I$39","v":0}]
[{"$f":"'TRAINING MATRIX'!J2","v":"Drivers Code of Conduct"},{"$f":"'TRAINING MATRIX'!J$39","v":0}]
[{"$f":"'TRAINING MATRIX'!K2","v":"Smoking Policy"},{"$f":"'TRAINING MATRIX'!K$39","v":0}]
[{"$f":"'TRAINING MATRIX'!L2","v":"Mobile Communication Policy"},{"$f":"'TRAINING MATRIX'!L$39","v":"6.9.19"}]
[{"$f":"'TRAINING MATRIX'!N2","v":"Transport Charges & Fines Policy"},{"$f":"'TRAINING MATRIX'!N$39","v":"22.8.19"}]
[{"$f":"'TRAINING MATRIX'!M2","v":"Using Sat Nav"},{"$f":"'TRAINING MATRIX'!M$39","v":0}]
[{"$f":"'TRAINING MATRIX'!O2","v":"Goods Vehicle and Safety Policy"},{"$f":"'TRAINING MATRIX'!O$39","v":"25.8.19"}]
[{"$f":"'TRAINING MATRIX'!P2","v":"Safe Loading Policy"},{"$f":"'TRAINING MATRIX'!P$39","v":"25.8.19"}]
[{"$f":"'TRAINING MATRIX'!Q2","v":"Eye Sight Check"},{"$f":"'TRAINING MATRIX'!Q$39","v":0}]
[{"$f":"'TRAINING MATRIX'!R2","v":"Use of Tail lifts"},{"$f":"'TRAINING MATRIX'!X$39","v":"21.8.19"}]
[{"$f":"'TRAINING MATRIX'!S2","v":"CPC Periodic Training Module"},{"$f":"'TRAINING MATRIX'!Y$39","v":"5.9.19"}]
[{"$f":"'TRAINING MATRIX'!T2","v":"CPC Periodic Training Module"},{"$f":"'TRAINING MATRIX'!Z$39","v":0}]
[{"$f":"'TRAINING MATRIX'!U2","v":"CPC Periodic Training Module"},{"$f":"'TRAINING MATRIX'!AA$39","v":0}]
[{"$f":"'TRAINING MATRIX'!V2","v":"CPC Periodic Training Module"},{"$f":"'TRAINING MATRIX'!AB$39","v":0}]
[{"$f":"'TRAINING MATRIX'!W2","v":"CPC Periodic Training Module"},{"$f":"'TRAINING MATRIX'!AC$39","v":0}]
[{"$f":"'TRAINING MATRIX'!X2","v":"FORS Security and Counter-Terrorism"},{"$f":"'TRAINING MATRIX'!X$39","v":"21.8.19"}]
[{"$f":"'TRAINING MATRIX'!Y2","v":"FORS BridgeSmart"},{"$f":"'TRAINING MATRIX'!Y$39","v":"5.9.19"}]
[{"$f":"'TRAINING MATRIX'!D2","v":0},{"$f":"'TRAINING MATRIX'!Z$39","v":0}]
[{"$f":"'TRAINING MATRIX'!AA2","v":"FORS LoCity"},{"$f":"'TRAINING MATRIX'!AA$39","v":0}]
[{"$f":"'TRAINING MATRIX'!AB2","v":"FORS SmartDeliveries"},{"$f":"'TRAINING MATRIX'!AB$39","v":0}]
[{"$f":"'TRAINING MATRIX'!AD2","v":"ADR Awareness"},{"$f":"'TRAINING MATRIX'!AC$39","v":0}]
[{"$f":"'TRAINING MATRIX'!AE2","v":"ADR (Core, Packages and All Classes ex 7 & 9)"},{"$f":"'TRAINING MATRIX'!AD$39","v":0}]
[{"$f":"'TRAINING MATRIX'!AF2","v":0},{"$f":"'TRAINING MATRIX'!AE$39","v":0}]
[{"$f":"'TRAINING MATRIX'!AF2","v":0},{"$f":"'TRAINING MATRIX'!AF$39","v":0}]
[{"$f":"'TRAINING MATRIX'!AG2","v":"TTB Climbing On & Off Vehicles"},{"$f":"'TRAINING MATRIX'!AG$39","v":"22.8.19"}]
[{"$f":"'TRAINING MATRIX'!AH2","v":"TTB Climbing On & Off Trailers & Load Decks"},{"$f":"'TRAINING MATRIX'!AH$39","v":"25.8.19"}]
[{"$f":"'TRAINING MATRIX'!AI2","v":"TTB Jumping To a Lifetime of Pain"},{"$f":"'TRAINING MATRIX'!AI$39","v":"25.8.19"}]
[{"$f":"'TRAINING MATRIX'!AJ2","v":"TTB Dealing With Cyclists"},{"$f":"'TRAINING MATRIX'!AJ$39","v":"25.8.19"}]
[{"$f":"'TRAINING MATRIX'!AK2","v":"TTB Fitness to Drive"},{"$f":"'TRAINING MATRIX'!AK$39","v":"25.8.19"}]
[{"$f":"'TRAINING MATRIX'!AL2","v":"TTB Loading & Unloading"},{"$f":"'TRAINING MATRIX'!AL$39","v":"25.8.19"}]
[{"$f":"'TRAINING MATRIX'!AM2","v":"TTB Protecting Vulnerable Road Users"},{"$f":"'TRAINING MATRIX'!AM$39","v":"25.8.19"}]
[{"$f":"'TRAINING MATRIX'!AN2","v":0},{"$f":"'TRAINING MATRIX'!AN$39","v":0}]
[{"$f":"'TRAINING MATRIX'!AO2","v":"SSOW Coupling and Uncoupling"},{"$f":"'TRAINING MATRIX'!AO$39","v":0}]
[{"$f":"'TRAINING MATRIX'!AP2","v":"SSOW Scanning Shed"},{"$f":"'TRAINING MATRIX'!AP$39","v":0}]
[{"$f":"'TRAINING MATRIX'!AQ2","v":"SWP Drivers Walkaround Checks"},{"$f":"'TRAINING MATRIX'!AQ$39","v":0}]
[{"$f":"'TRAINING MATRIX'!AR2","v":0},{"$f":"'TRAINING MATRIX'!AR$39","v":0}]
[{"$f":"'TRAINING MATRIX'!AS2","v":0},{"$f":"'TRAINING MATRIX'!AS$39","v":0}]
[{"$f":"'TRAINING MATRIX'!AT2","v":0},{"$f":"'TRAINING MATRIX'!AT$39","v":0}]
[{"$f":"'TRAINING MATRIX'!AU2","v":0},{"$f":"'TRAINING MATRIX'!AU$39","v":0}]
[{"$f":"'TRAINING MATRIX'!AV2","v":0},{"$f":"'TRAINING MATRIX'!AV$39","v":0}]
[{"$f":"'TRAINING MATRIX'!AW2","v":0},{"$f":"'TRAINING MATRIX'!AW$39","v":0}]
[{"$f":"'TRAINING MATRIX'!AX2","v":0},{"$f":"'TRAINING MATRIX'!AX$39","v":0}]
[{"$f":"'TRAINING MATRIX'!AY2","v":0},{"$f":"'TRAINING MATRIX'!AY$39","v":0}]
[{"$f":"'TRAINING MATRIX'!AZ2","v":0},{"$f":"'TRAINING MATRIX'!AZ$39","v":0}]

{"sheet":"Jason Ilsley","index":39,"n_rows":52,"n_cols":2,"rows_kept":52,"cut":false,"hidden":false,"merged":[]}
["Driver Name","Completed / Issued"]
[{"$f":"'TRAINING MATRIX'!A40","v":"Ilsley Jason"},{"$f":"'TRAINING MATRIX'!C40","v":"CE"}]
[{"$f":"'TRAINING MATRIX'!B$40","v":0}]
[{"$f":"'TRAINING MATRIX'!D2","v":0},{"$f":"'TRAINING MATRIX'!D$40","v":0}]
[{"$f":"'TRAINING MATRIX'!E2","v":0},{"$f":"'TRAINING MATRIX'!E$40","v":0}]
[{"$f":"'TRAINING MATRIX'!F2","v":0},{"$f":"'TRAINING MATRIX'!F$40","v":0}]
[{"$f":"'TRAINING MATRIX'!G2","v":"Assessed"},{"$f":"'TRAINING MATRIX'!G$40","v":"16.01.19"}]
[{"$f":"'TRAINING MATRIX'!H2","v":"Driver induction"},{"$f":"'TRAINING MATRIX'!H$40","v":"16.01.19"}]
[{"$f":"'TRAINING MATRIX'!I2","v":"Highway Code via KT"},{"$f":"'TRAINING MATRIX'!I$40","v":0}]
[{"$f":"'TRAINING MATRIX'!J2","v":"Drivers Code of Conduct"},{"$f":"'TRAINING MATRIX'!J$40","v":0}]
[{"$f":"'TRAINING MATRIX'!K2","v":"Smoking Policy"},{"$f":"'TRAINING MATRIX'!K$40","v":0}]
[{"$f":"'TRAINING MATRIX'!L2","v":"Mobile Communication Policy"},{"$f":"'TRAINING MATRIX'!L$40","v":"6.9.19"}]
[{"$f":"'TRAINING MATRIX'!N2","v":"Transport Charges & Fines Policy"},{"$f":"'TRAINING MATRIX'!N$40","v":"22.8.19"}]
[{"$f":"'TRAINING MATRIX'!M2","v":"Using Sat Nav"},{"$f":"'TRAINING MATRIX'!M$40","v":0}]
[{"$f":"'TRAINING MATRIX'!O2","v":"Goods Vehicle and Safety Policy"},{"$f":"'TRAINING MATRIX'!O$40","v":"25.8.19"}]
[{"$f":"'TRAINING MATRIX'!P2","v":"Safe Loading Policy"},{"$f":"'TRAINING MATRIX'!P$40","v":"25.8.19"}]
[{"$f":"'TRAINING MATRIX'!Q2","v":"Eye Sight Check"},{"$f":"'TRAINING MATRIX'!Q$40","v":"16.9.19"}]
[{"$f":"'TRAINING MATRIX'!R2","v":"Use of Tail lifts"},{"$f":"'TRAINING MATRIX'!X$40","v":"21.8.19"}]
[{"$f":"'TRAINING MATRIX'!S2","v":"CPC Periodic Training Module"},{"$f":"'TRAINING MATRIX'!Y$40","v":"5.9.19"}]
[{"$f":"'TRAINING MATRIX'!T2","v":"CPC Periodic Training Module"},{"$f":"'TRAINING MATRIX'!Z$40","v":0}]
[{"$f":"'TRAINING MATRIX'!U2","v":"CPC Periodic Training Module"},{"$f":"'TRAINING MATRIX'!AA$40","v":0}]
[{"$f":"'TRAINING MATRIX'!V2","v":"CPC Periodic Training Module"},{"$f":"'TRAINING MATRIX'!AB$40","v":0}]
[{"$f":"'TRAINING MATRIX'!W2","v":"CPC Periodic Training Module"},{"$f":"'TRAINING MATRIX'!AC$40","v":0}]
[{"$f":"'TRAINING MATRIX'!X2","v":"FORS Security and Counter-Terrorism"},{"$f":"'TRAINING MATRIX'!X$40","v":"21.8.19"}]
[{"$f":"'TRAINING MATRIX'!Y2","v":"FORS BridgeSmart"},{"$f":"'TRAINING MATRIX'!Y$40","v":"5.9.19"}]
[{"$f":"'TRAINING MATRIX'!D2","v":0},{"$f":"'TRAINING MATRIX'!Z$40","v":0}]
[{"$f":"'TRAINING MATRIX'!AA2","v":"FORS LoCity"},{"$f":"'TRAINING MATRIX'!AA$40","v":0}]
[{"$f":"'TRAINING MATRIX'!AB2","v":"FORS SmartDeliveries"},{"$f":"'TRAINING MATRIX'!AB$40","v":0}]
[{"$f":"'TRAINING MATRIX'!AD2","v":"ADR Awareness"},{"$f":"'TRAINING MATRIX'!AC$40","v":0}]
[{"$f":"'TRAINING MATRIX'!AE2","v":"ADR (Core, Packages and All Classes ex 7 & 9)"},{"$f":"'TRAINING MATRIX'!AD$40","v":0}]
[{"$f":"'TRAINING MATRIX'!AF2","v":0},{"$f":"'TRAINING MATRIX'!AE$40","v":0}]
[{"$f":"'TRAINING MATRIX'!AF2","v":0},{"$f":"'TRAINING MATRIX'!AF$40","v":0}]
[{"$f":"'TRAINING MATRIX'!AG2","v":"TTB Climbing On & Off Vehicles"},{"$f":"'TRAINING MATRIX'!AG$40","v":"22.8.19"}]
[{"$f":"'TRAINING MATRIX'!AH2","v":"TTB Climbing On & Off Trailers & Load Decks"},{"$f":"'TRAINING MATRIX'!AH$40","v":"25.8.19"}]
[{"$f":"'TRAINING MATRIX'!AI2","v":"TTB Jumping To a Lifetime of Pain"},{"$f":"'TRAINING MATRIX'!AI$40","v":"25.8.19"}]
[{"$f":"'TRAINING MATRIX'!AJ2","v":"TTB Dealing With Cyclists"},{"$f":"'TRAINING MATRIX'!AJ$40","v":"25.8.19"}]
[{"$f":"'TRAINING MATRIX'!AK2","v":"TTB Fitness to Drive"},{"$f":"'TRAINING MATRIX'!AK$40","v":"25.8.19"}]
[{"$f":"'TRAINING MATRIX'!AL2","v":"TTB Loading & Unloading"},{"$f":"'TRAINING MATRIX'!AL$40","v":"25.8.19"}]
[{"$f":"'TRAINING MATRIX'!AM2","v":"TTB Protecting Vulnerable Road Users"},{"$f":"'TRAINING MATRIX'!AM$40","v":"25.8.19"}]
[{"$f":"'TRAINING MATRIX'!AN2","v":0},{"$f":"'TRAINING MATRIX'!AN$40","v":0}]
[{"$f":"'TRAINING MATRIX'!AO2","v":"SSOW Coupling and Uncoupling"},{"$f":"'TRAINING MATRIX'!AO$40","v":0}]
[{"$f":"'TRAINING MATRIX'!AP2","v":"SSOW Scanning Shed"},{"$f":"'TRAINING MATRIX'!AP$40","v":0}]
[{"$f":"'TRAINING MATRIX'!AQ2","v":"SWP Drivers Walkaround Checks"},{"$f":"'TRAINING MATRIX'!AQ$40","v":0}]
[{"$f":"'TRAINING MATRIX'!AR2","v":0},{"$f":"'TRAINING MATRIX'!AR$40","v":0}]
[{"$f":"'TRAINING MATRIX'!AS2","v":0},{"$f":"'TRAINING MATRIX'!AS$40","v":0}]
[{"$f":"'TRAINING MATRIX'!AT2","v":0},{"$f":"'TRAINING MATRIX'!AT$40","v":0}]
[{"$f":"'TRAINING MATRIX'!AU2","v":0},{"$f":"'TRAINING MATRIX'!AU$40","v":0}]
[{"$f":"'TRAINING MATRIX'!AV2","v":0},{"$f":"'TRAINING MATRIX'!AV$40","v":0}]
[{"$f":"'TRAINING MATRIX'!AW2","v":0},{"$f":"'TRAINING MATRIX'!AW$40","v":0}]
[{"$f":"'TRAINING MATRIX'!AX2","v":0},{"$f":"'TRAINING MATRIX'!AX$40","v":0}]
[{"$f":"'TRAINING MATRIX'!AY2","v":0},{"$f":"'TRAINING MATRIX'!AY$40","v":0}]
[{"$f":"'TRAINING MATRIX'!AZ2","v":0},{"$f":"'TRAINING MATRIX'!AZ$40","v":0}]

{"sheet":"Alan Irwin","index":40,"n_rows":52,"n_cols":2,"rows_kept":52,"cut":false,"hidden":false,"merged":[]}
["Driver Name","Completed / Issued"]
[{"$f":"'TRAINING MATRIX'!A41","v":"Irwin Alan"},{"$f":"'TRAINING MATRIX'!C41","v":"C"}]
[{"$f":"'TRAINING MATRIX'!B$41","v":0}]
[{"$f":"'TRAINING MATRIX'!D2","v":0},{"$f":"'TRAINING MATRIX'!D$41","v":0}]
[{"$f":"'TRAINING MATRIX'!E2","v":0},{"$f":"'TRAINING MATRIX'!E$41","v":0}]
[{"$f":"'TRAINING MATRIX'!F2","v":0},{"$f":"'TRAINING MATRIX'!F$41","v":0}]
[{"$f":"'TRAINING MATRIX'!G2","v":"Assessed"},{"$f":"'TRAINING MATRIX'!G$41","v":"31.01.19"}]
[{"$f":"'TRAINING MATRIX'!H2","v":"Driver induction"},{"$f":"'TRAINING MATRIX'!H$41","v":"31.01.19"}]
[{"$f":"'TRAINING MATRIX'!I2","v":"Highway Code via KT"},{"$f":"'TRAINING MATRIX'!I$41","v":0}]
[{"$f":"'TRAINING MATRIX'!J2","v":"Drivers Code of Conduct"},{"$f":"'TRAINING MATRIX'!J$41","v":0}]
[{"$f":"'TRAINING MATRIX'!K2","v":"Smoking Policy"},{"$f":"'TRAINING MATRIX'!K$41","v":0}]
[{"$f":"'TRAINING MATRIX'!L2","v":"Mobile Communication Policy"},{"$f":"'TRAINING MATRIX'!L$41","v":"6.9.19"}]
[{"$f":"'TRAINING MATRIX'!N2","v":"Transport Charges & Fines Policy"},{"$f":"'TRAINING MATRIX'!N$41","v":0}]
[{"$f":"'TRAINING MATRIX'!M2","v":"Using Sat Nav"},{"$f":"'TRAINING MATRIX'!M$41","v":0}]
[{"$f":"'TRAINING MATRIX'!O2","v":"Goods Vehicle and Safety Policy"},{"$f":"'TRAINING MATRIX'!O$41","v":0}]
[{"$f":"'TRAINING MATRIX'!P2","v":"Safe Loading Policy"},{"$f":"'TRAINING MATRIX'!P$41","v":0}]
[{"$f":"'TRAINING MATRIX'!Q2","v":"Eye Sight Check"},{"$f":"'TRAINING MATRIX'!Q$41","v":"16.9.19"}]
[{"$f":"'TRAINING MATRIX'!R2","v":"Use of Tail lifts"},{"$f":"'TRAINING MATRIX'!X$41","v":0}]
[{"$f":"'TRAINING MATRIX'!S2","v":"CPC Periodic Training Module"},{"$f":"'TRAINING MATRIX'!Y$41","v":"5.9.19"}]
[{"$f":"'TRAINING MATRIX'!T2","v":"CPC Periodic Training Module"},{"$f":"'TRAINING MATRIX'!Z$41","v":0}]
[{"$f":"'TRAINING MATRIX'!U2","v":"CPC Periodic Training Module"},{"$f":"'TRAINING MATRIX'!AA$41","v":0}]
[{"$f":"'TRAINING MATRIX'!V2","v":"CPC Periodic Training Module"},{"$f":"'TRAINING MATRIX'!AB$41","v":0}]
[{"$f":"'TRAINING MATRIX'!W2","v":"CPC Periodic Training Module"},{"$f":"'TRAINING MATRIX'!AC$41","v":0}]
[{"$f":"'TRAINING MATRIX'!X2","v":"FORS Security and Counter-Terrorism"},{"$f":"'TRAINING MATRIX'!X$41","v":0}]
[{"$f":"'TRAINING MATRIX'!Y2","v":"FORS BridgeSmart"},{"$f":"'TRAINING MATRIX'!Y$41","v":"5.9.19"}]
[{"$f":"'TRAINING MATRIX'!D2","v":0},{"$f":"'TRAINING MATRIX'!Z$41","v":0}]
[{"$f":"'TRAINING MATRIX'!AA2","v":"FORS LoCity"},{"$f":"'TRAINING MATRIX'!AA$41","v":0}]
[{"$f":"'TRAINING MATRIX'!AB2","v":"FORS SmartDeliveries"},{"$f":"'TRAINING MATRIX'!AB$41","v":0}]
[{"$f":"'TRAINING MATRIX'!AD2","v":"ADR Awareness"},{"$f":"'TRAINING MATRIX'!AC$41","v":0}]
[{"$f":"'TRAINING MATRIX'!AE2","v":"ADR (Core, Packages and All Classes ex 7 & 9)"},{"$f":"'TRAINING MATRIX'!AD$41","v":0}]
[{"$f":"'TRAINING MATRIX'!AF2","v":0},{"$f":"'TRAINING MATRIX'!AE$41","v":0}]
[{"$f":"'TRAINING MATRIX'!AF2","v":0},{"$f":"'TRAINING MATRIX'!AF$41","v":0}]
[{"$f":"'TRAINING MATRIX'!AG2","v":"TTB Climbing On & Off Vehicles"},{"$f":"'TRAINING MATRIX'!AG$41","v":0}]
[{"$f":"'TRAINING MATRIX'!AH2","v":"TTB Climbing On & Off Trailers & Load Decks"},{"$f":"'TRAINING MATRIX'!AH$41","v":0}]
[{"$f":"'TRAINING MATRIX'!AI2","v":"TTB Jumping To a Lifetime of Pain"},{"$f":"'TRAINING MATRIX'!AI$41","v":0}]
[{"$f":"'TRAINING MATRIX'!AJ2","v":"TTB Dealing With Cyclists"},{"$f":"'TRAINING MATRIX'!AJ$41","v":0}]
[{"$f":"'TRAINING MATRIX'!AK2","v":"TTB Fitness to Drive"},{"$f":"'TRAINING MATRIX'!AK$41","v":0}]
[{"$f":"'TRAINING MATRIX'!AL2","v":"TTB Loading & Unloading"},{"$f":"'TRAINING MATRIX'!AL$41","v":0}]
[{"$f":"'TRAINING MATRIX'!AM2","v":"TTB Protecting Vulnerable Road Users"},{"$f":"'TRAINING MATRIX'!AM$41","v":0}]
[{"$f":"'TRAINING MATRIX'!AN2","v":0},{"$f":"'TRAINING MATRIX'!AN$41","v":0}]
[{"$f":"'TRAINING MATRIX'!AO2","v":"SSOW Coupling and Uncoupling"},{"$f":"'TRAINING MATRIX'!AO$41","v":0}]
[{"$f":"'TRAINING MATRIX'!AP2","v":"SSOW Scanning Shed"},{"$f":"'TRAINING MATRIX'!AP$41","v":0}]
[{"$f":"'TRAINING MATRIX'!AQ2","v":"SWP Drivers Walkaround Checks"},{"$f":"'TRAINING MATRIX'!AQ$41","v":0}]
[{"$f":"'TRAINING MATRIX'!AR2","v":0},{"$f":"'TRAINING MATRIX'!AR$41","v":0}]
[{"$f":"'TRAINING MATRIX'!AS2","v":0},{"$f":"'TRAINING MATRIX'!AS$41","v":0}]
[{"$f":"'TRAINING MATRIX'!AT2","v":0},{"$f":"'TRAINING MATRIX'!AT$41","v":0}]
[{"$f":"'TRAINING MATRIX'!AU2","v":0},{"$f":"'TRAINING MATRIX'!AU$41","v":0}]
[{"$f":"'TRAINING MATRIX'!AV2","v":0},{"$f":"'TRAINING MATRIX'!AV$41","v":0}]
[{"$f":"'TRAINING MATRIX'!AW2","v":0},{"$f":"'TRAINING MATRIX'!AW$41","v":0}]
[{"$f":"'TRAINING MATRIX'!AX2","v":0},{"$f":"'TRAINING MATRIX'!AX$41","v":0}]
[{"$f":"'TRAINING MATRIX'!AY2","v":0},{"$f":"'TRAINING MATRIX'!AY$41","v":0}]
[{"$f":"'TRAINING MATRIX'!AZ2","v":0},{"$f":"'TRAINING MATRIX'!AZ$41","v":0}]

{"sheet":"Graham King","index":41,"n_rows":52,"n_cols":2,"rows_kept":52,"cut":false,"hidden":false,"merged":[]}
["Driver Name","Completed / Issued"]
[{"$f":"'TRAINING MATRIX'!A42","v":"King Graham"},{"$f":"'TRAINING MATRIX'!C42","v":"CE"}]
[{"$f":"'TRAINING MATRIX'!B$42","v":0}]
[{"$f":"'TRAINING MATRIX'!D2","v":0},{"$f":"'TRAINING MATRIX'!D$42","v":0}]
[{"$f":"'TRAINING MATRIX'!E2","v":0},{"$f":"'TRAINING MATRIX'!E$42","v":0}]
[{"$f":"'TRAINING MATRIX'!F2","v":0},{"$f":"'TRAINING MATRIX'!F$42","v":0}]
[{"$f":"'TRAINING MATRIX'!G2","v":"Assessed"},{"$f":"'TRAINING MATRIX'!G$42","v":0}]
[{"$f":"'TRAINING MATRIX'!H2","v":"Driver induction"},{"$f":"'TRAINING MATRIX'!H$42","v":0}]
[{"$f":"'TRAINING MATRIX'!I2","v":"Highway Code via KT"},{"$f":"'TRAINING MATRIX'!I$42","v":0}]
[{"$f":"'TRAINING MATRIX'!J2","v":"Drivers Code of Conduct"},{"$f":"'TRAINING MATRIX'!J$42","v":0}]
[{"$f":"'TRAINING MATRIX'!K2","v":"Smoking Policy"},{"$f":"'TRAINING MATRIX'!K$42","v":0}]
[{"$f":"'TRAINING MATRIX'!L2","v":"Mobile Communication Policy"},{"$f":"'TRAINING MATRIX'!L$42","v":"6.9.19"}]
[{"$f":"'TRAINING MATRIX'!N2","v":"Transport Charges & Fines Policy"},{"$f":"'TRAINING MATRIX'!N$42","v":"22.8.19"}]
[{"$f":"'TRAINING MATRIX'!M2","v":"Using Sat Nav"},{"$f":"'TRAINING MATRIX'!M$42","v":0}]
[{"$f":"'TRAINING MATRIX'!O2","v":"Goods Vehicle and Safety Policy"},{"$f":"'TRAINING MATRIX'!O$42","v":"25.8.19"}]
[{"$f":"'TRAINING MATRIX'!P2","v":"Safe Loading Policy"},{"$f":"'TRAINING MATRIX'!P$42","v":"25.8.19"}]
[{"$f":"'TRAINING MATRIX'!Q2","v":"Eye Sight Check"},{"$f":"'TRAINING MATRIX'!Q$42","v":0}]
[{"$f":"'TRAINING MATRIX'!R2","v":"Use of Tail lifts"},{"$f":"'TRAINING MATRIX'!X$42","v":"21.8.19"}]
[{"$f":"'TRAINING MATRIX'!S2","v":"CPC Periodic Training Module"},{"$f":"'TRAINING MATRIX'!Y$42","v":"5.9.19"}]
[{"$f":"'TRAINING MATRIX'!T2","v":"CPC Periodic Training Module"},{"$f":"'TRAINING MATRIX'!Z$42","v":0}]
[{"$f":"'TRAINING MATRIX'!U2","v":"CPC Periodic Training Module"},{"$f":"'TRAINING MATRIX'!AA$42","v":0}]
[{"$f":"'TRAINING MATRIX'!V2","v":"CPC Periodic Training Module"},{"$f":"'TRAINING MATRIX'!AB$42","v":0}]
[{"$f":"'TRAINING MATRIX'!W2","v":"CPC Periodic Training Module"},{"$f":"'TRAINING MATRIX'!AC$42","v":0}]
[{"$f":"'TRAINING MATRIX'!X2","v":"FORS Security and Counter-Terrorism"},{"$f":"'TRAINING MATRIX'!X$42","v":"21.8.19"}]
[{"$f":"'TRAINING MATRIX'!Y2","v":"FORS BridgeSmart"},{"$f":"'TRAINING MATRIX'!Y$42","v":"5.9.19"}]
[{"$f":"'TRAINING MATRIX'!D2","v":0},{"$f":"'TRAINING MATRIX'!Z$42","v":0}]
[{"$f":"'TRAINING MATRIX'!AA2","v":"FORS LoCity"},{"$f":"'TRAINING MATRIX'!AA$42","v":0}]
[{"$f":"'TRAINING MATRIX'!AB2","v":"FORS SmartDeliveries"},{"$f":"'TRAINING MATRIX'!AB$42","v":0}]
[{"$f":"'TRAINING MATRIX'!AD2","v":"ADR Awareness"},{"$f":"'TRAINING MATRIX'!AC$42","v":0}]
[{"$f":"'TRAINING MATRIX'!AE2","v":"ADR (Core, Packages and All Classes ex 7 & 9)"},{"$f":"'TRAINING MATRIX'!AD$42","v":0}]
[{"$f":"'TRAINING MATRIX'!AF2","v":0},{"$f":"'TRAINING MATRIX'!AE$42","v":0}]
[{"$f":"'TRAINING MATRIX'!AF2","v":0},{"$f":"'TRAINING MATRIX'!AF$42","v":0}]
[{"$f":"'TRAINING MATRIX'!AG2","v":"TTB Climbing On & Off Vehicles"},{"$f":"'TRAINING MATRIX'!AG$42","v":"22.8.19"}]
[{"$f":"'TRAINING MATRIX'!AH2","v":"TTB Climbing On & Off Trailers & Load Decks"},{"$f":"'TRAINING MATRIX'!AH$42","v":"25.8.19"}]
[{"$f":"'TRAINING MATRIX'!AI2","v":"TTB Jumping To a Lifetime of Pain"},{"$f":"'TRAINING MATRIX'!AI$42","v":"25.8.19"}]
[{"$f":"'TRAINING MATRIX'!AJ2","v":"TTB Dealing With Cyclists"},{"$f":"'TRAINING MATRIX'!AJ$42","v":"25.8.19"}]
[{"$f":"'TRAINING MATRIX'!AK2","v":"TTB Fitness to Drive"},{"$f":"'TRAINING MATRIX'!AK$42","v":"25.8.19"}]
[{"$f":"'TRAINING MATRIX'!AL2","v":"TTB Loading & Unloading"},{"$f":"'TRAINING MATRIX'!AL$42","v":"25.8.19"}]
[{"$f":"'TRAINING MATRIX'!AM2","v":"TTB Protecting Vulnerable Road Users"},{"$f":"'TRAINING MATRIX'!AM$42","v":"25.8.19"}]
[{"$f":"'TRAINING MATRIX'!AN2","v":0},{"$f":"'TRAINING MATRIX'!AN$42","v":0}]
[{"$f":"'TRAINING MATRIX'!AO2","v":"SSOW Coupling and Uncoupling"},{"$f":"'TRAINING MATRIX'!AO$42","v":0}]
[{"$f":"'TRAINING MATRIX'!AP2","v":"SSOW Scanning Shed"},{"$f":"'TRAINING MATRIX'!AP$42","v":0}]
[{"$f":"'TRAINING MATRIX'!AQ2","v":"SWP Drivers Walkaround Checks"},{"$f":"'TRAINING MATRIX'!AQ$42","v":0}]
[{"$f":"'TRAINING MATRIX'!AR2","v":0},{"$f":"'TRAINING MATRIX'!AR$42","v":0}]
[{"$f":"'TRAINING MATRIX'!AS2","v":0},{"$f":"'TRAINING MATRIX'!AS$42","v":0}]
[{"$f":"'TRAINING MATRIX'!AT2","v":0},{"$f":"'TRAINING MATRIX'!AT$42","v":0}]
[{"$f":"'TRAINING MATRIX'!AU2","v":0},{"$f":"'TRAINING MATRIX'!AU$42","v":0}]
[{"$f":"'TRAINING MATRIX'!AV2","v":0},{"$f":"'TRAINING MATRIX'!AV$42","v":0}]
[{"$f":"'TRAINING MATRIX'!AW2","v":0},{"$f":"'TRAINING MATRIX'!AW$42","v":0}]
[{"$f":"'TRAINING MATRIX'!AX2","v":0},{"$f":"'TRAINING MATRIX'!AX$42","v":0}]
[{"$f":"'TRAINING MATRIX'!AY2","v":0},{"$f":"'TRAINING MATRIX'!AY$42","v":0}]
[{"$f":"'TRAINING MATRIX'!AZ2","v":0},{"$f":"'TRAINING MATRIX'!AZ$42","v":0}]

{"sheet":"Adrian Kingsnorth","index":42,"n_rows":52,"n_cols":2,"rows_kept":52,"cut":false,"hidden":false,"merged":[]}
["Driver Name","Completed / Issued"]
[{"$f":"'TRAINING MATRIX'!A43","v":"Kingsnorth Adrian"},{"$f":"'TRAINING MATRIX'!C43","v":"C"}]
[{"$f":"'TRAINING MATRIX'!B$43","v":0}]
[{"$f":"'TRAINING MATRIX'!D2","v":0},{"$f":"'TRAINING MATRIX'!D$43","v":0}]
[{"$f":"'TRAINING MATRIX'!E2","v":0},{"$f":"'TRAINING MATRIX'!E$43","v":0}]
[{"$f":"'TRAINING MATRIX'!F2","v":0},{"$f":"'TRAINING MATRIX'!F$43","v":0}]
[{"$f":"'TRAINING MATRIX'!G2","v":"Assessed"},{"$f":"'TRAINING MATRIX'!G$43","v":"11.04.19"}]
[{"$f":"'TRAINING MATRIX'!H2","v":"Driver induction"},{"$f":"'TRAINING MATRIX'!H$43","v":"11.04.19"}]
[{"$f":"'TRAINING MATRIX'!I2","v":"Highway Code via KT"},{"$f":"'TRAINING MATRIX'!I$43","v":0}]
[{"$f":"'TRAINING MATRIX'!J2","v":"Drivers Code of Conduct"},{"$f":"'TRAINING MATRIX'!J$43","v":0}]
[{"$f":"'TRAINING MATRIX'!K2","v":"Smoking Policy"},{"$f":"'TRAINING MATRIX'!K$43","v":0}]
[{"$f":"'TRAINING MATRIX'!L2","v":"Mobile Communication Policy"},{"$f":"'TRAINING MATRIX'!L$43","v":"6.9.19"}]
[{"$f":"'TRAINING MATRIX'!N2","v":"Transport Charges & Fines Policy"},{"$f":"'TRAINING MATRIX'!N$43","v":"22.8.19"}]
[{"$f":"'TRAINING MATRIX'!M2","v":"Using Sat Nav"},{"$f":"'TRAINING MATRIX'!M$43","v":0}]
[{"$f":"'TRAINING MATRIX'!O2","v":"Goods Vehicle and Safety Policy"},{"$f":"'TRAINING MATRIX'!O$43","v":"25.8.19"}]
[{"$f":"'TRAINING MATRIX'!P2","v":"Safe Loading Policy"},{"$f":"'TRAINING MATRIX'!P$43","v":"25.8.19"}]
[{"$f":"'TRAINING MATRIX'!Q2","v":"Eye Sight Check"},{"$f":"'TRAINING MATRIX'!Q$43","v":"5.9.19"}]
[{"$f":"'TRAINING MATRIX'!R2","v":"Use of Tail lifts"},{"$f":"'TRAINING MATRIX'!X$43","v":"21.8.19"}]
[{"$f":"'TRAINING MATRIX'!S2","v":"CPC Periodic Training Module"},{"$f":"'TRAINING MATRIX'!Y$43","v":"5.9.19"}]
[{"$f":"'TRAINING MATRIX'!T2","v":"CPC Periodic Training Module"},{"$f":"'TRAINING MATRIX'!Z$43","v":0}]
[{"$f":"'TRAINING MATRIX'!U2","v":"CPC Periodic Training Module"},{"$f":"'TRAINING MATRIX'!AA$43","v":0}]
[{"$f":"'TRAINING MATRIX'!V2","v":"CPC Periodic Training Module"},{"$f":"'TRAINING MATRIX'!AB$43","v":0}]
[{"$f":"'TRAINING MATRIX'!W2","v":"CPC Periodic Training Module"},{"$f":"'TRAINING MATRIX'!AC$43","v":0}]
[{"$f":"'TRAINING MATRIX'!X2","v":"FORS Security and Counter-Terrorism"},{"$f":"'TRAINING MATRIX'!X$43","v":"21.8.19"}]
[{"$f":"'TRAINING MATRIX'!Y2","v":"FORS BridgeSmart"},{"$f":"'TRAINING MATRIX'!Y$43","v":"5.9.19"}]
[{"$f":"'TRAINING MATRIX'!D2","v":0},{"$f":"'TRAINING MATRIX'!Z$43","v":0}]
[{"$f":"'TRAINING MATRIX'!AA2","v":"FORS LoCity"},{"$f":"'TRAINING MATRIX'!AA$43","v":0}]
[{"$f":"'TRAINING MATRIX'!AB2","v":"FORS SmartDeliveries"},{"$f":"'TRAINING MATRIX'!AB$43","v":0}]
[{"$f":"'TRAINING MATRIX'!AD2","v":"ADR Awareness"},{"$f":"'TRAINING MATRIX'!AC$43","v":0}]
[{"$f":"'TRAINING MATRIX'!AE2","v":"ADR (Core, Packages and All Classes ex 7 & 9)"},{"$f":"'TRAINING MATRIX'!AD$43","v":0}]
[{"$f":"'TRAINING MATRIX'!AF2","v":0},{"$f":"'TRAINING MATRIX'!AE$43","v":0}]
[{"$f":"'TRAINING MATRIX'!AF2","v":0},{"$f":"'TRAINING MATRIX'!AF$43","v":0}]
[{"$f":"'TRAINING MATRIX'!AG2","v":"TTB Climbing On & Off Vehicles"},{"$f":"'TRAINING MATRIX'!AG$43","v":"22.8.19"}]
[{"$f":"'TRAINING MATRIX'!AH2","v":"TTB Climbing On & Off Trailers & Load Decks"},{"$f":"'TRAINING MATRIX'!AH$43","v":"25.8.19"}]
[{"$f":"'TRAINING MATRIX'!AI2","v":"TTB Jumping To a Lifetime of Pain"},{"$f":"'TRAINING MATRIX'!AI$43","v":"25.8.19"}]
[{"$f":"'TRAINING MATRIX'!AJ2","v":"TTB Dealing With Cyclists"},{"$f":"'TRAINING MATRIX'!AJ$43","v":"25.8.19"}]
[{"$f":"'TRAINING MATRIX'!AK2","v":"TTB Fitness to Drive"},{"$f":"'TRAINING MATRIX'!AK$43","v":"25.8.19"}]
[{"$f":"'TRAINING MATRIX'!AL2","v":"TTB Loading & Unloading"},{"$f":"'TRAINING MATRIX'!AL$43","v":"25.8.19"}]
[{"$f":"'TRAINING MATRIX'!AM2","v":"TTB Protecting Vulnerable Road Users"},{"$f":"'TRAINING MATRIX'!AM$43","v":"25.8.19"}]
[{"$f":"'TRAINING MATRIX'!AN2","v":0},{"$f":"'TRAINING MATRIX'!AN$43","v":0}]
[{"$f":"'TRAINING MATRIX'!AO2","v":"SSOW Coupling and Uncoupling"},{"$f":"'TRAINING MATRIX'!AO$43","v":0}]
[{"$f":"'TRAINING MATRIX'!AP2","v":"SSOW Scanning Shed"},{"$f":"'TRAINING MATRIX'!AP$43","v":0}]
[{"$f":"'TRAINING MATRIX'!AQ2","v":"SWP Drivers Walkaround Checks"},{"$f":"'TRAINING MATRIX'!AQ$43","v":0}]
[{"$f":"'TRAINING MATRIX'!AR2","v":0},{"$f":"'TRAINING MATRIX'!AR$43","v":0}]
[{"$f":"'TRAINING MATRIX'!AS2","v":0},{"$f":"'TRAINING MATRIX'!AS$43","v":0}]
[{"$f":"'TRAINING MATRIX'!AT2","v":0},{"$f":"'TRAINING MATRIX'!AT$43","v":0}]
[{"$f":"'TRAINING MATRIX'!AU2","v":0},{"$f":"'TRAINING MATRIX'!AU$43","v":0}]
[{"$f":"'TRAINING MATRIX'!AV2","v":0},{"$f":"'TRAINING MATRIX'!AV$43","v":0}]
[{"$f":"'TRAINING MATRIX'!AW2","v":0},{"$f":"'TRAINING MATRIX'!AW$43","v":0}]
[{"$f":"'TRAINING MATRIX'!AX2","v":0},{"$f":"'TRAINING MATRIX'!AX$43","v":0}]
[{"$f":"'TRAINING MATRIX'!AY2","v":0},{"$f":"'TRAINING MATRIX'!AY$43","v":0}]
[{"$f":"'TRAINING MATRIX'!AZ2","v":0},{"$f":"'TRAINING MATRIX'!AZ$43","v":0}]

{"sheet":"Anthony Kinning","index":43,"n_rows":52,"n_cols":2,"rows_kept":52,"cut":false,"hidden":false,"merged":[]}
["Driver Name","Completed / Issued"]
[{"$f":"'TRAINING MATRIX'!A44","v":"Kinning Anthony"},{"$f":"'TRAINING MATRIX'!C44","v":"C"}]
[{"$f":"'TRAINING MATRIX'!B$44","v":0}]
[{"$f":"'TRAINING MATRIX'!D2","v":0},{"$f":"'TRAINING MATRIX'!D$44","v":0}]
[{"$f":"'TRAINING MATRIX'!E2","v":0},{"$f":"'TRAINING MATRIX'!E$44","v":0}]
[{"$f":"'TRAINING MATRIX'!F2","v":0},{"$f":"'TRAINING MATRIX'!F$44","v":0}]
[{"$f":"'TRAINING MATRIX'!G2","v":"Assessed"},{"$f":"'TRAINING MATRIX'!G$44","v":"01.03.19"}]
[{"$f":"'TRAINING MATRIX'!H2","v":"Driver induction"},{"$f":"'TRAINING MATRIX'!H$44","v":"01.03.19"}]
[{"$f":"'TRAINING MATRIX'!I2","v":"Highway Code via KT"},{"$f":"'TRAINING MATRIX'!I$44","v":0}]
[{"$f":"'TRAINING MATRIX'!J2","v":"Drivers Code of Conduct"},{"$f":"'TRAINING MATRIX'!J$44","v":0}]
[{"$f":"'TRAINING MATRIX'!K2","v":"Smoking Policy"},{"$f":"'TRAINING MATRIX'!K$44","v":0}]
[{"$f":"'TRAINING MATRIX'!L2","v":"Mobile Communication Policy"},{"$f":"'TRAINING MATRIX'!L$44","v":"6.9.19"}]
[{"$f":"'TRAINING MATRIX'!N2","v":"Transport Charges & Fines Policy"},{"$f":"'TRAINING MATRIX'!N$44","v":"22.8.19"}]
[{"$f":"'TRAINING MATRIX'!M2","v":"Using Sat Nav"},{"$f":"'TRAINING MATRIX'!M$44","v":0}]
[{"$f":"'TRAINING MATRIX'!O2","v":"Goods Vehicle and Safety Policy"},{"$f":"'TRAINING MATRIX'!O$44","v":"25.8.19"}]
[{"$f":"'TRAINING MATRIX'!P2","v":"Safe Loading Policy"},{"$f":"'TRAINING MATRIX'!P$44","v":"25.8.19"}]
[{"$f":"'TRAINING MATRIX'!Q2","v":"Eye Sight Check"},{"$f":"'TRAINING MATRIX'!Q$44","v":"21.8.19"}]
[{"$f":"'TRAINING MATRIX'!R2","v":"Use of Tail lifts"},{"$f":"'TRAINING MATRIX'!X$44","v":"21.8.19"}]
[{"$f":"'TRAINING MATRIX'!S2","v":"CPC Periodic Training Module"},{"$f":"'TRAINING MATRIX'!Y$44","v":"5.9.19"}]
[{"$f":"'TRAINING MATRIX'!T2","v":"CPC Periodic Training Module"},{"$f":"'TRAINING MATRIX'!Z$44","v":0}]
[{"$f":"'TRAINING MATRIX'!U2","v":"CPC Periodic Training Module"},{"$f":"'TRAINING MATRIX'!AA$44","v":0}]
[{"$f":"'TRAINING MATRIX'!V2","v":"CPC Periodic Training Module"},{"$f":"'TRAINING MATRIX'!AB$44","v":0}]
[{"$f":"'TRAINING MATRIX'!W2","v":"CPC Periodic Training Module"},{"$f":"'TRAINING MATRIX'!AC$44","v":0}]
[{"$f":"'TRAINING MATRIX'!X2","v":"FORS Security and Counter-Terrorism"},{"$f":"'TRAINING MATRIX'!X$44","v":"21.8.19"}]
[{"$f":"'TRAINING MATRIX'!Y2","v":"FORS BridgeSmart"},{"$f":"'TRAINING MATRIX'!Y$44","v":"5.9.19"}]
[{"$f":"'TRAINING MATRIX'!D2","v":0},{"$f":"'TRAINING MATRIX'!Z$44","v":0}]
[{"$f":"'TRAINING MATRIX'!AA2","v":"FORS LoCity"},{"$f":"'TRAINING MATRIX'!AA$44","v":0}]
[{"$f":"'TRAINING MATRIX'!AB2","v":"FORS SmartDeliveries"},{"$f":"'TRAINING MATRIX'!AB$44","v":0}]
[{"$f":"'TRAINING MATRIX'!AD2","v":"ADR Awareness"},{"$f":"'TRAINING MATRIX'!AC$44","v":0}]
[{"$f":"'TRAINING MATRIX'!AE2","v":"ADR (Core, Packages and All Classes ex 7 & 9)"},{"$f":"'TRAINING MATRIX'!AD$44","v":0}]
[{"$f":"'TRAINING MATRIX'!AF2","v":0},{"$f":"'TRAINING MATRIX'!AE$44","v":0}]
[{"$f":"'TRAINING MATRIX'!AF2","v":0},{"$f":"'TRAINING MATRIX'!AF$44","v":0}]
[{"$f":"'TRAINING MATRIX'!AG2","v":"TTB Climbing On & Off Vehicles"},{"$f":"'TRAINING MATRIX'!AG$44","v":"22.8.19"}]
[{"$f":"'TRAINING MATRIX'!AH2","v":"TTB Climbing On & Off Trailers & Load Decks"},{"$f":"'TRAINING MATRIX'!AH$44","v":"25.8.19"}]
[{"$f":"'TRAINING MATRIX'!AI2","v":"TTB Jumping To a Lifetime of Pain"},{"$f":"'TRAINING MATRIX'!AI$44","v":"25.8.19"}]
[{"$f":"'TRAINING MATRIX'!AJ2","v":"TTB Dealing With Cyclists"},{"$f":"'TRAINING MATRIX'!AJ$44","v":"25.8.19"}]
[{"$f":"'TRAINING MATRIX'!AK2","v":"TTB Fitness to Drive"},{"$f":"'TRAINING MATRIX'!AK$44","v":"25.8.19"}]
[{"$f":"'TRAINING MATRIX'!AL2","v":"TTB Loading & Unloading"},{"$f":"'TRAINING MATRIX'!AL$44","v":"25.8.19"}]
[{"$f":"'TRAINING MATRIX'!AM2","v":"TTB Protecting Vulnerable Road Users"},{"$f":"'TRAINING MATRIX'!AM$44","v":"25.8.19"}]
[{"$f":"'TRAINING MATRIX'!AN2","v":0},{"$f":"'TRAINING MATRIX'!AN$44","v":0}]
[{"$f":"'TRAINING MATRIX'!AO2","v":"SSOW Coupling and Uncoupling"},{"$f":"'TRAINING MATRIX'!AO$44","v":0}]
[{"$f":"'TRAINING MATRIX'!AP2","v":"SSOW Scanning Shed"},{"$f":"'TRAINING MATRIX'!AP$44","v":0}]
[{"$f":"'TRAINING MATRIX'!AQ2","v":"SWP Drivers Walkaround Checks"},{"$f":"'TRAINING MATRIX'!AQ$44","v":0}]
[{"$f":"'TRAINING MATRIX'!AR2","v":0},{"$f":"'TRAINING MATRIX'!AR$44","v":0}]
[{"$f":"'TRAINING MATRIX'!AS2","v":0},{"$f":"'TRAINING MATRIX'!AS$44","v":0}]
[{"$f":"'TRAINING MATRIX'!AT2","v":0},{"$f":"'TRAINING MATRIX'!AT$44","v":0}]
[{"$f":"'TRAINING MATRIX'!AU2","v":0},{"$f":"'TRAINING MATRIX'!AU$44","v":0}]
[{"$f":"'TRAINING MATRIX'!AV2","v":0},{"$f":"'TRAINING MATRIX'!AV$44","v":0}]
[{"$f":"'TRAINING MATRIX'!AW2","v":0},{"$f":"'TRAINING MATRIX'!AW$44","v":0}]
[{"$f":"'TRAINING MATRIX'!AX2","v":0},{"$f":"'TRAINING MATRIX'!AX$44","v":0}]
[{"$f":"'TRAINING MATRIX'!AY2","v":0},{"$f":"'TRAINING MATRIX'!AY$44","v":0}]
[{"$f":"'TRAINING MATRIX'!AZ2","v":0},{"$f":"'TRAINING MATRIX'!AZ$44","v":0}]

{"sheet":"Daniel Kulak","index":44,"n_rows":52,"n_cols":2,"rows_kept":52,"cut":false,"hidden":false,"merged":[]}
["Driver Name","Completed / Issued"]
[{"$f":"'TRAINING MATRIX'!A45","v":"Kulak Daniel"},{"$f":"'TRAINING MATRIX'!C45","v":"CE"}]
[{"$f":"'TRAINING MATRIX'!B$45","v":0}]
[{"$f":"'TRAINING MATRIX'!D2","v":0},{"$f":"'TRAINING MATRIX'!D$45","v":0}]
[{"$f":"'TRAINING MATRIX'!E2","v":0},{"$f":"'TRAINING MATRIX'!E$45","v":0}]
[{"$f":"'TRAINING MATRIX'!F2","v":0},{"$f":"'TRAINING MATRIX'!F$45","v":0}]
[{"$f":"'TRAINING MATRIX'!G2","v":"Assessed"},{"$f":"'TRAINING MATRIX'!G$45","v":0}]
[{"$f":"'TRAINING MATRIX'!H2","v":"Driver induction"},{"$f":"'TRAINING MATRIX'!H$45","v":"20.02.17"}]
[{"$f":"'TRAINING MATRIX'!I2","v":"Highway Code via KT"},{"$f":"'TRAINING MATRIX'!I$45","v":0}]
[{"$f":"'TRAINING MATRIX'!J2","v":"Drivers Code of Conduct"},{"$f":"'TRAINING MATRIX'!J$45","v":0}]
[{"$f":"'TRAINING MATRIX'!K2","v":"Smoking Policy"},{"$f":"'TRAINING MATRIX'!K$45","v":0}]
[{"$f":"'TRAINING MATRIX'!L2","v":"Mobile Communication Policy"},{"$f":"'TRAINING MATRIX'!L$45","v":"6.9.19"}]
[{"$f":"'TRAINING MATRIX'!N2","v":"Transport Charges & Fines Policy"},{"$f":"'TRAINING MATRIX'!N$45","v":"22.8.19"}]
[{"$f":"'TRAINING MATRIX'!M2","v":"Using Sat Nav"},{"$f":"'TRAINING MATRIX'!M$45","v":0}]
[{"$f":"'TRAINING MATRIX'!O2","v":"Goods Vehicle and Safety Policy"},{"$f":"'TRAINING MATRIX'!O$45","v":"25.8.19"}]
[{"$f":"'TRAINING MATRIX'!P2","v":"Safe Loading Policy"},{"$f":"'TRAINING MATRIX'!P$45","v":"25.8.19"}]
[{"$f":"'TRAINING MATRIX'!Q2","v":"Eye Sight Check"},{"$f":"'TRAINING MATRIX'!Q$45","v":"21.8.19"}]
[{"$f":"'TRAINING MATRIX'!R2","v":"Use of Tail lifts"},{"$f":"'TRAINING MATRIX'!X$45","v":"21.8.19"}]
[{"$f":"'TRAINING MATRIX'!S2","v":"CPC Periodic Training Module"},{"$f":"'TRAINING MATRIX'!Y$45","v":"5.9.19"}]
[{"$f":"'TRAINING MATRIX'!T2","v":"CPC Periodic Training Module"},{"$f":"'TRAINING MATRIX'!Z$45","v":0}]
[{"$f":"'TRAINING MATRIX'!U2","v":"CPC Periodic Training Module"},{"$f":"'TRAINING MATRIX'!AA$45","v":0}]
[{"$f":"'TRAINING MATRIX'!V2","v":"CPC Periodic Training Module"},{"$f":"'TRAINING MATRIX'!AB$45","v":0}]
[{"$f":"'TRAINING MATRIX'!W2","v":"CPC Periodic Training Module"},{"$f":"'TRAINING MATRIX'!AC$45","v":0}]
[{"$f":"'TRAINING MATRIX'!X2","v":"FORS Security and Counter-Terrorism"},{"$f":"'TRAINING MATRIX'!X$45","v":"21.8.19"}]
[{"$f":"'TRAINING MATRIX'!Y2","v":"FORS BridgeSmart"},{"$f":"'TRAINING MATRIX'!Y$45","v":"5.9.19"}]
[{"$f":"'TRAINING MATRIX'!D2","v":0},{"$f":"'TRAINING MATRIX'!Z$45","v":0}]
[{"$f":"'TRAINING MATRIX'!AA2","v":"FORS LoCity"},{"$f":"'TRAINING MATRIX'!AA$45","v":0}]
[{"$f":"'TRAINING MATRIX'!AB2","v":"FORS SmartDeliveries"},{"$f":"'TRAINING MATRIX'!AB$45","v":0}]
[{"$f":"'TRAINING MATRIX'!AD2","v":"ADR Awareness"},{"$f":"'TRAINING MATRIX'!AC$45","v":0}]
[{"$f":"'TRAINING MATRIX'!AE2","v":"ADR (Core, Packages and All Classes ex 7 & 9)"},{"$f":"'TRAINING MATRIX'!AD$45","v":0}]
[{"$f":"'TRAINING MATRIX'!AF2","v":0},{"$f":"'TRAINING MATRIX'!AE$45","v":0}]
[{"$f":"'TRAINING MATRIX'!AF2","v":0},{"$f":"'TRAINING MATRIX'!AF$45","v":0}]
[{"$f":"'TRAINING MATRIX'!AG2","v":"TTB Climbing On & Off Vehicles"},{"$f":"'TRAINING MATRIX'!AG$45","v":"22.8.19"}]
[{"$f":"'TRAINING MATRIX'!AH2","v":"TTB Climbing On & Off Trailers & Load Decks"},{"$f":"'TRAINING MATRIX'!AH$45","v":"25.8.19"}]
[{"$f":"'TRAINING MATRIX'!AI2","v":"TTB Jumping To a Lifetime of Pain"},{"$f":"'TRAINING MATRIX'!AI$45","v":"25.8.19"}]
[{"$f":"'TRAINING MATRIX'!AJ2","v":"TTB Dealing With Cyclists"},{"$f":"'TRAINING MATRIX'!AJ$45","v":"25.8.19"}]
[{"$f":"'TRAINING MATRIX'!AK2","v":"TTB Fitness to Drive"},{"$f":"'TRAINING MATRIX'!AK$45","v":"25.8.19"}]
[{"$f":"'TRAINING MATRIX'!AL2","v":"TTB Loading & Unloading"},{"$f":"'TRAINING MATRIX'!AL$45","v":"25.8.19"}]
[{"$f":"'TRAINING MATRIX'!AM2","v":"TTB Protecting Vulnerable Road Users"},{"$f":"'TRAINING MATRIX'!AM$45","v":"25.8.19"}]
[{"$f":"'TRAINING MATRIX'!AN2","v":0},{"$f":"'TRAINING MATRIX'!AN$45","v":0}]
[{"$f":"'TRAINING MATRIX'!AO2","v":"SSOW Coupling and Uncoupling"},{"$f":"'TRAINING MATRIX'!AO$45","v":0}]
[{"$f":"'TRAINING MATRIX'!AP2","v":"SSOW Scanning Shed"},{"$f":"'TRAINING MATRIX'!AP$45","v":0}]
[{"$f":"'TRAINING MATRIX'!AQ2","v":"SWP Drivers Walkaround Checks"},{"$f":"'TRAINING MATRIX'!AQ$45","v":0}]
[{"$f":"'TRAINING MATRIX'!AR2","v":0},{"$f":"'TRAINING MATRIX'!AR$45","v":0}]
[{"$f":"'TRAINING MATRIX'!AS2","v":0},{"$f":"'TRAINING MATRIX'!AS$45","v":0}]
[{"$f":"'TRAINING MATRIX'!AT2","v":0},{"$f":"'TRAINING MATRIX'!AT$45","v":0}]
[{"$f":"'TRAINING MATRIX'!AU2","v":0},{"$f":"'TRAINING MATRIX'!AU$45","v":0}]
[{"$f":"'TRAINING MATRIX'!AV2","v":0},{"$f":"'TRAINING MATRIX'!AV$45","v":0}]
[{"$f":"'TRAINING MATRIX'!AW2","v":0},{"$f":"'TRAINING MATRIX'!AW$45","v":0}]
[{"$f":"'TRAINING MATRIX'!AX2","v":0},{"$f":"'TRAINING MATRIX'!AX$45","v":0}]
[{"$f":"'TRAINING MATRIX'!AY2","v":0},{"$f":"'TRAINING MATRIX'!AY$45","v":0}]
[{"$f":"'TRAINING MATRIX'!AZ2","v":0},{"$f":"'TRAINING MATRIX'!AZ$45","v":0}]

{"sheet":"Edward Lewis","index":45,"n_rows":52,"n_cols":2,"rows_kept":52,"cut":false,"hidden":false,"merged":[]}
["Driver Name","Completed / Issued"]
[{"$f":"'TRAINING MATRIX'!A46","v":"Lewis Edward"},{"$f":"'TRAINING MATRIX'!C46","v":0}]
[{"$f":"'TRAINING MATRIX'!B$46","v":0}]
[{"$f":"'TRAINING MATRIX'!D2","v":0},{"$f":"'TRAINING MATRIX'!D$46","v":0}]
[{"$f":"'TRAINING MATRIX'!E2","v":0},{"$f":"'TRAINING MATRIX'!E$46","v":0}]
[{"$f":"'TRAINING MATRIX'!F2","v":0},{"$f":"'TRAINING MATRIX'!F$46","v":0}]
[{"$f":"'TRAINING MATRIX'!G2","v":"Assessed"},{"$f":"'TRAINING MATRIX'!G$46","v":"12.02.19"}]
[{"$f":"'TRAINING MATRIX'!H2","v":"Driver induction"},{"$f":"'TRAINING MATRIX'!H$46","v":"12.02.19"}]
[{"$f":"'TRAINING MATRIX'!I2","v":"Highway Code via KT"},{"$f":"'TRAINING MATRIX'!I$46","v":0}]
[{"$f":"'TRAINING MATRIX'!J2","v":"Drivers Code of Conduct"},{"$f":"'TRAINING MATRIX'!J$46","v":0}]
[{"$f":"'TRAINING MATRIX'!K2","v":"Smoking Policy"},{"$f":"'TRAINING MATRIX'!K$46","v":0}]
[{"$f":"'TRAINING MATRIX'!L2","v":"Mobile Communication Policy"},{"$f":"'TRAINING MATRIX'!L$46","v":"6.9.19"}]
[{"$f":"'TRAINING MATRIX'!N2","v":"Transport Charges & Fines Policy"},{"$f":"'TRAINING MATRIX'!N$46","v":"22.8.19"}]
[{"$f":"'TRAINING MATRIX'!M2","v":"Using Sat Nav"},{"$f":"'TRAINING MATRIX'!M$46","v":0}]
[{"$f":"'TRAINING MATRIX'!O2","v":"Goods Vehicle and Safety Policy"},{"$f":"'TRAINING MATRIX'!O$46","v":"25.8.19"}]
[{"$f":"'TRAINING MATRIX'!P2","v":"Safe Loading Policy"},{"$f":"'TRAINING MATRIX'!P$46","v":"25.8.19"}]
[{"$f":"'TRAINING MATRIX'!Q2","v":"Eye Sight Check"},{"$f":"'TRAINING MATRIX'!Q$46","v":"5.9.19"}]
[{"$f":"'TRAINING MATRIX'!R2","v":"Use of Tail lifts"},{"$f":"'TRAINING MATRIX'!X$46","v":"21.8.19"}]
[{"$f":"'TRAINING MATRIX'!S2","v":"CPC Periodic Training Module"},{"$f":"'TRAINING MATRIX'!Y$46","v":"5.9.19"}]
[{"$f":"'TRAINING MATRIX'!T2","v":"CPC Periodic Training Module"},{"$f":"'TRAINING MATRIX'!Z$46","v":0}]
[{"$f":"'TRAINING MATRIX'!U2","v":"CPC Periodic Training Module"},{"$f":"'TRAINING MATRIX'!AA$46","v":0}]
[{"$f":"'TRAINING MATRIX'!V2","v":"CPC Periodic Training Module"},{"$f":"'TRAINING MATRIX'!AB$46","v":0}]
[{"$f":"'TRAINING MATRIX'!W2","v":"CPC Periodic Training Module"},{"$f":"'TRAINING MATRIX'!AC$46","v":0}]
[{"$f":"'TRAINING MATRIX'!X2","v":"FORS Security and Counter-Terrorism"},{"$f":"'TRAINING MATRIX'!X$46","v":"21.8.19"}]
[{"$f":"'TRAINING MATRIX'!Y2","v":"FORS BridgeSmart"},{"$f":"'TRAINING MATRIX'!Y$46","v":"5.9.19"}]
[{"$f":"'TRAINING MATRIX'!D2","v":0},{"$f":"'TRAINING MATRIX'!Z$46","v":0}]
[{"$f":"'TRAINING MATRIX'!AA2","v":"FORS LoCity"},{"$f":"'TRAINING MATRIX'!AA$46","v":0}]
[{"$f":"'TRAINING MATRIX'!AB2","v":"FORS SmartDeliveries"},{"$f":"'TRAINING MATRIX'!AB$46","v":0}]
[{"$f":"'TRAINING MATRIX'!AD2","v":"ADR Awareness"},{"$f":"'TRAINING MATRIX'!AC$46","v":0}]
[{"$f":"'TRAINING MATRIX'!AE2","v":"ADR (Core, Packages and All Classes ex 7 & 9)"},{"$f":"'TRAINING MATRIX'!AD$46","v":0}]
[{"$f":"'TRAINING MATRIX'!AF2","v":0},{"$f":"'TRAINING MATRIX'!AE$46","v":0}]
[{"$f":"'TRAINING MATRIX'!AF2","v":0},{"$f":"'TRAINING MATRIX'!AF$46","v":0}]
[{"$f":"'TRAINING MATRIX'!AG2","v":"TTB Climbing On & Off Vehicles"},{"$f":"'TRAINING MATRIX'!AG$46","v":"22.8.19"}]
[{"$f":"'TRAINING MATRIX'!AH2","v":"TTB Climbing On & Off Trailers & Load Decks"},{"$f":"'TRAINING MATRIX'!AH$46","v":"25.8.19"}]
[{"$f":"'TRAINING MATRIX'!AI2","v":"TTB Jumping To a Lifetime of Pain"},{"$f":"'TRAINING MATRIX'!AI$46","v":"25.8.19"}]
[{"$f":"'TRAINING MATRIX'!AJ2","v":"TTB Dealing With Cyclists"},{"$f":"'TRAINING MATRIX'!AJ$46","v":"25.8.19"}]
[{"$f":"'TRAINING MATRIX'!AK2","v":"TTB Fitness to Drive"},{"$f":"'TRAINING MATRIX'!AK$46","v":"25.8.19"}]
[{"$f":"'TRAINING MATRIX'!AL2","v":"TTB Loading & Unloading"},{"$f":"'TRAINING MATRIX'!AL$46","v":"25.8.19"}]
[{"$f":"'TRAINING MATRIX'!AM2","v":"TTB Protecting Vulnerable Road Users"},{"$f":"'TRAINING MATRIX'!AM$46","v":"25.8.19"}]
[{"$f":"'TRAINING MATRIX'!AN2","v":0},{"$f":"'TRAINING MATRIX'!AN$46","v":0}]
[{"$f":"'TRAINING MATRIX'!AO2","v":"SSOW Coupling and Uncoupling"},{"$f":"'TRAINING MATRIX'!AO$46","v":0}]
[{"$f":"'TRAINING MATRIX'!AP2","v":"SSOW Scanning Shed"},{"$f":"'TRAINING MATRIX'!AP$46","v":0}]
[{"$f":"'TRAINING MATRIX'!AQ2","v":"SWP Drivers Walkaround Checks"},{"$f":"'TRAINING MATRIX'!AQ$46","v":0}]
[{"$f":"'TRAINING MATRIX'!AR2","v":0},{"$f":"'TRAINING MATRIX'!AR$46","v":0}]
[{"$f":"'TRAINING MATRIX'!AS2","v":0},{"$f":"'TRAINING MATRIX'!AS$46","v":0}]
[{"$f":"'TRAINING MATRIX'!AT2","v":0},{"$f":"'TRAINING MATRIX'!AT$46","v":0}]
[{"$f":"'TRAINING MATRIX'!AU2","v":0},{"$f":"'TRAINING MATRIX'!AU$46","v":0}]
[{"$f":"'TRAINING MATRIX'!AV2","v":0},{"$f":"'TRAINING MATRIX'!AV$46","v":0}]
[{"$f":"'TRAINING MATRIX'!AW2","v":0},{"$f":"'TRAINING MATRIX'!AW$46","v":0}]
[{"$f":"'TRAINING MATRIX'!AX2","v":0},{"$f":"'TRAINING MATRIX'!AX$46","v":0}]
[{"$f":"'TRAINING MATRIX'!AY2","v":0},{"$f":"'TRAINING MATRIX'!AY$46","v":0}]
[{"$f":"'TRAINING MATRIX'!AZ2","v":0},{"$f":"'TRAINING MATRIX'!AZ$46","v":0}]

{"sheet":"Stewart Lockett","index":46,"n_rows":52,"n_cols":2,"rows_kept":52,"cut":false,"hidden":false,"merged":[]}
["Driver Name","Completed / Issued"]
[{"$f":"'TRAINING MATRIX'!A47","v":"Lockett Stewart"},{"$f":"'TRAINING MATRIX'!C47","v":"C"}]
[{"$f":"'TRAINING MATRIX'!B$47","v":0}]
[{"$f":"'TRAINING MATRIX'!D2","v":0},{"$f":"'TRAINING MATRIX'!D$47","v":0}]
[{"$f":"'TRAINING MATRIX'!E2","v":0},{"$f":"'TRAINING MATRIX'!E$47","v":0}]
[{"$f":"'TRAINING MATRIX'!F2","v":0},{"$f":"'TRAINING MATRIX'!F$47","v":0}]
[{"$f":"'TRAINING MATRIX'!G2","v":"Assessed"},{"$f":"'TRAINING MATRIX'!G$47","v":"13.02.19"}]
[{"$f":"'TRAINING MATRIX'!H2","v":"Driver induction"},{"$f":"'TRAINING MATRIX'!H$47","v":"13.02.19"}]
[{"$f":"'TRAINING MATRIX'!I2","v":"Highway Code via KT"},{"$f":"'TRAINING MATRIX'!I$47","v":0}]
[{"$f":"'TRAINING MATRIX'!J2","v":"Drivers Code of Conduct"},{"$f":"'TRAINING MATRIX'!J$47","v":0}]
[{"$f":"'TRAINING MATRIX'!K2","v":"Smoking Policy"},{"$f":"'TRAINING MATRIX'!K$47","v":0}]
[{"$f":"'TRAINING MATRIX'!L2","v":"Mobile Communication Policy"},{"$f":"'TRAINING MATRIX'!L$47","v":"6.9.19"}]
[{"$f":"'TRAINING MATRIX'!N2","v":"Transport Charges & Fines Policy"},{"$f":"'TRAINING MATRIX'!N$47","v":"22.8.19"}]
[{"$f":"'TRAINING MATRIX'!M2","v":"Using Sat Nav"},{"$f":"'TRAINING MATRIX'!M$47","v":0}]
[{"$f":"'TRAINING MATRIX'!O2","v":"Goods Vehicle and Safety Policy"},{"$f":"'TRAINING MATRIX'!O$47","v":"25.8.19"}]
[{"$f":"'TRAINING MATRIX'!P2","v":"Safe Loading Policy"},{"$f":"'TRAINING MATRIX'!P$47","v":"25.8.19"}]
[{"$f":"'TRAINING MATRIX'!Q2","v":"Eye Sight Check"},{"$f":"'TRAINING MATRIX'!Q$47","v":"22.8.19"}]
[{"$f":"'TRAINING MATRIX'!R2","v":"Use of Tail lifts"},{"$f":"'TRAINING MATRIX'!X$47","v":"21.8.19"}]
[{"$f":"'TRAINING MATRIX'!S2","v":"CPC Periodic Training Module"},{"$f":"'TRAINING MATRIX'!Y$47","v":"5.9.19"}]
[{"$f":"'TRAINING MATRIX'!T2","v":"CPC Periodic Training Module"},{"$f":"'TRAINING MATRIX'!Z$47","v":0}]
[{"$f":"'TRAINING MATRIX'!U2","v":"CPC Periodic Training Module"},{"$f":"'TRAINING MATRIX'!AA$47","v":0}]
[{"$f":"'TRAINING MATRIX'!V2","v":"CPC Periodic Training Module"},{"$f":"'TRAINING MATRIX'!AB$47","v":0}]
[{"$f":"'TRAINING MATRIX'!W2","v":"CPC Periodic Training Module"},{"$f":"'TRAINING MATRIX'!AC$47","v":0}]
[{"$f":"'TRAINING MATRIX'!X2","v":"FORS Security and Counter-Terrorism"},{"$f":"'TRAINING MATRIX'!X$47","v":"21.8.19"}]
[{"$f":"'TRAINING MATRIX'!Y2","v":"FORS BridgeSmart"},{"$f":"'TRAINING MATRIX'!Y$47","v":"5.9.19"}]
[{"$f":"'TRAINING MATRIX'!D2","v":0},{"$f":"'TRAINING MATRIX'!Z$47","v":0}]
[{"$f":"'TRAINING MATRIX'!AA2","v":"FORS LoCity"},{"$f":"'TRAINING MATRIX'!AA$47","v":0}]
[{"$f":"'TRAINING MATRIX'!AB2","v":"FORS SmartDeliveries"},{"$f":"'TRAINING MATRIX'!AB$47","v":0}]
[{"$f":"'TRAINING MATRIX'!AD2","v":"ADR Awareness"},{"$f":"'TRAINING MATRIX'!AC$47","v":0}]
[{"$f":"'TRAINING MATRIX'!AE2","v":"ADR (Core, Packages and All Classes ex 7 & 9)"},{"$f":"'TRAINING MATRIX'!AD$47","v":0}]
[{"$f":"'TRAINING MATRIX'!AF2","v":0},{"$f":"'TRAINING MATRIX'!AE$47","v":0}]
[{"$f":"'TRAINING MATRIX'!AF2","v":0},{"$f":"'TRAINING MATRIX'!AF$47","v":0}]
[{"$f":"'TRAINING MATRIX'!AG2","v":"TTB Climbing On & Off Vehicles"},{"$f":"'TRAINING MATRIX'!AG$47","v":"22.8.19"}]
[{"$f":"'TRAINING MATRIX'!AH2","v":"TTB Climbing On & Off Trailers & Load Decks"},{"$f":"'TRAINING MATRIX'!AH$47","v":"25.8.19"}]
[{"$f":"'TRAINING MATRIX'!AI2","v":"TTB Jumping To a Lifetime of Pain"},{"$f":"'TRAINING MATRIX'!AI$47","v":"25.8.19"}]
[{"$f":"'TRAINING MATRIX'!AJ2","v":"TTB Dealing With Cyclists"},{"$f":"'TRAINING MATRIX'!AJ$47","v":"25.8.19"}]
[{"$f":"'TRAINING MATRIX'!AK2","v":"TTB Fitness to Drive"},{"$f":"'TRAINING MATRIX'!AK$47","v":"25.8.19"}]
[{"$f":"'TRAINING MATRIX'!AL2","v":"TTB Loading & Unloading"},{"$f":"'TRAINING MATRIX'!AL$47","v":"25.8.19"}]
[{"$f":"'TRAINING MATRIX'!AM2","v":"TTB Protecting Vulnerable Road Users"},{"$f":"'TRAINING MATRIX'!AM$47","v":"25.8.19"}]
[{"$f":"'TRAINING MATRIX'!AN2","v":0},{"$f":"'TRAINING MATRIX'!AN$47","v":0}]
[{"$f":"'TRAINING MATRIX'!AO2","v":"SSOW Coupling and Uncoupling"},{"$f":"'TRAINING MATRIX'!AO$47","v":0}]
[{"$f":"'TRAINING MATRIX'!AP2","v":"SSOW Scanning Shed"},{"$f":"'TRAINING MATRIX'!AP$47","v":0}]
[{"$f":"'TRAINING MATRIX'!AQ2","v":"SWP Drivers Walkaround Checks"},{"$f":"'TRAINING MATRIX'!AQ$47","v":0}]
[{"$f":"'TRAINING MATRIX'!AR2","v":0},{"$f":"'TRAINING MATRIX'!AR$47","v":0}]
[{"$f":"'TRAINING MATRIX'!AS2","v":0},{"$f":"'TRAINING MATRIX'!AS$47","v":0}]
[{"$f":"'TRAINING MATRIX'!AT2","v":0},{"$f":"'TRAINING MATRIX'!AT$47","v":0}]
[{"$f":"'TRAINING MATRIX'!AU2","v":0},{"$f":"'TRAINING MATRIX'!AU$47","v":0}]
[{"$f":"'TRAINING MATRIX'!AV2","v":0},{"$f":"'TRAINING MATRIX'!AV$47","v":0}]
[{"$f":"'TRAINING MATRIX'!AW2","v":0},{"$f":"'TRAINING MATRIX'!AW$47","v":0}]
[{"$f":"'TRAINING MATRIX'!AX2","v":0},{"$f":"'TRAINING MATRIX'!AX$47","v":0}]
[{"$f":"'TRAINING MATRIX'!AY2","v":0},{"$f":"'TRAINING MATRIX'!AY$47","v":0}]
[{"$f":"'TRAINING MATRIX'!AZ2","v":0},{"$f":"'TRAINING MATRIX'!AZ$47","v":0}]

{"sheet":"Jason Lowe","index":47,"n_rows":52,"n_cols":2,"rows_kept":52,"cut":false,"hidden":false,"merged":[]}
["Driver Name","Completed / Issued"]
[{"$f":"'TRAINING MATRIX'!A48","v":"Lowe Jason"},{"$f":"'TRAINING MATRIX'!C48","v":"C"}]
[{"$f":"'TRAINING MATRIX'!B$48","v":0}]
[{"$f":"'TRAINING MATRIX'!D2","v":0},{"$f":"'TRAINING MATRIX'!D$48","v":0}]
[{"$f":"'TRAINING MATRIX'!E2","v":0},{"$f":"'TRAINING MATRIX'!E$48","v":0}]
[{"$f":"'TRAINING MATRIX'!F2","v":0},{"$f":"'TRAINING MATRIX'!F$48","v":0}]
[{"$f":"'TRAINING MATRIX'!G2","v":"Assessed"},{"$f":"'TRAINING MATRIX'!G$48","v":0}]
[{"$f":"'TRAINING MATRIX'!H2","v":"Driver induction"},{"$f":"'TRAINING MATRIX'!H$48","v":0}]
[{"$f":"'TRAINING MATRIX'!I2","v":"Highway Code via KT"},{"$f":"'TRAINING MATRIX'!I$48","v":0}]
[{"$f":"'TRAINING MATRIX'!J2","v":"Drivers Code of Conduct"},{"$f":"'TRAINING MATRIX'!J$48","v":0}]
[{"$f":"'TRAINING MATRIX'!K2","v":"Smoking Policy"},{"$f":"'TRAINING MATRIX'!K$48","v":0}]
[{"$f":"'TRAINING MATRIX'!L2","v":"Mobile Communication Policy"},{"$f":"'TRAINING MATRIX'!L$48","v":0}]
[{"$f":"'TRAINING MATRIX'!N2","v":"Transport Charges & Fines Policy"},{"$f":"'TRAINING MATRIX'!N$48","v":0}]
[{"$f":"'TRAINING MATRIX'!M2","v":"Using Sat Nav"},{"$f":"'TRAINING MATRIX'!M$48","v":0}]
[{"$f":"'TRAINING MATRIX'!O2","v":"Goods Vehicle and Safety Policy"},{"$f":"'TRAINING MATRIX'!O$48","v":0}]
[{"$f":"'TRAINING MATRIX'!P2","v":"Safe Loading Policy"},{"$f":"'TRAINING MATRIX'!P$48","v":0}]
[{"$f":"'TRAINING MATRIX'!Q2","v":"Eye Sight Check"},{"$f":"'TRAINING MATRIX'!Q$48","v":"18.9.19"}]
[{"$f":"'TRAINING MATRIX'!R2","v":"Use of Tail lifts"},{"$f":"'TRAINING MATRIX'!X$48","v":0}]
[{"$f":"'TRAINING MATRIX'!S2","v":"CPC Periodic Training Module"},{"$f":"'TRAINING MATRIX'!Y$48","v":0}]
[{"$f":"'TRAINING MATRIX'!T2","v":"CPC Periodic Training Module"},{"$f":"'TRAINING MATRIX'!Z$48","v":0}]
[{"$f":"'TRAINING MATRIX'!U2","v":"CPC Periodic Training Module"},{"$f":"'TRAINING MATRIX'!AA$48","v":0}]
[{"$f":"'TRAINING MATRIX'!V2","v":"CPC Periodic Training Module"},{"$f":"'TRAINING MATRIX'!AB$48","v":0}]
[{"$f":"'TRAINING MATRIX'!W2","v":"CPC Periodic Training Module"},{"$f":"'TRAINING MATRIX'!AC$48","v":0}]
[{"$f":"'TRAINING MATRIX'!X2","v":"FORS Security and Counter-Terrorism"},{"$f":"'TRAINING MATRIX'!X$48","v":0}]
[{"$f":"'TRAINING MATRIX'!Y2","v":"FORS BridgeSmart"},{"$f":"'TRAINING MATRIX'!Y$48","v":0}]
[{"$f":"'TRAINING MATRIX'!D2","v":0},{"$f":"'TRAINING MATRIX'!Z$48","v":0}]
[{"$f":"'TRAINING MATRIX'!AA2","v":"FORS LoCity"},{"$f":"'TRAINING MATRIX'!AA$48","v":0}]
[{"$f":"'TRAINING MATRIX'!AB2","v":"FORS SmartDeliveries"},{"$f":"'TRAINING MATRIX'!AB$48","v":0}]
[{"$f":"'TRAINING MATRIX'!AD2","v":"ADR Awareness"},{"$f":"'TRAINING MATRIX'!AC$48","v":0}]
[{"$f":"'TRAINING MATRIX'!AE2","v":"ADR (Core, Packages and All Classes ex 7 & 9)"},{"$f":"'TRAINING MATRIX'!AD$48","v":0}]
[{"$f":"'TRAINING MATRIX'!AF2","v":0},{"$f":"'TRAINING MATRIX'!AE$48","v":0}]
[{"$f":"'TRAINING MATRIX'!AF2","v":0},{"$f":"'TRAINING MATRIX'!AF$48","v":0}]
[{"$f":"'TRAINING MATRIX'!AG2","v":"TTB Climbing On & Off Vehicles"},{"$f":"'TRAINING MATRIX'!AG$48","v":0}]
[{"$f":"'TRAINING MATRIX'!AH2","v":"TTB Climbing On & Off Trailers & Load Decks"},{"$f":"'TRAINING MATRIX'!AH$48","v":0}]
[{"$f":"'TRAINING MATRIX'!AI2","v":"TTB Jumping To a Lifetime of Pain"},{"$f":"'TRAINING MATRIX'!AI$48","v":0}]
[{"$f":"'TRAINING MATRIX'!AJ2","v":"TTB Dealing With Cyclists"},{"$f":"'TRAINING MATRIX'!AJ$48","v":0}]
[{"$f":"'TRAINING MATRIX'!AK2","v":"TTB Fitness to Drive"},{"$f":"'TRAINING MATRIX'!AK$48","v":0}]
[{"$f":"'TRAINING MATRIX'!AL2","v":"TTB Loading & Unloading"},{"$f":"'TRAINING MATRIX'!AL$48","v":0}]
[{"$f":"'TRAINING MATRIX'!AM2","v":"TTB Protecting Vulnerable Road Users"},{"$f":"'TRAINING MATRIX'!AM$48","v":0}]
[{"$f":"'TRAINING MATRIX'!AN2","v":0},{"$f":"'TRAINING MATRIX'!AN$48","v":0}]
[{"$f":"'TRAINING MATRIX'!AO2","v":"SSOW Coupling and Uncoupling"},{"$f":"'TRAINING MATRIX'!AO$48","v":0}]
[{"$f":"'TRAINING MATRIX'!AP2","v":"SSOW Scanning Shed"},{"$f":"'TRAINING MATRIX'!AP$48","v":0}]
[{"$f":"'TRAINING MATRIX'!AQ2","v":"SWP Drivers Walkaround Checks"},{"$f":"'TRAINING MATRIX'!AQ$48","v":0}]
[{"$f":"'TRAINING MATRIX'!AR2","v":0},{"$f":"'TRAINING MATRIX'!AR$48","v":0}]
[{"$f":"'TRAINING MATRIX'!AS2","v":0},{"$f":"'TRAINING MATRIX'!AS$48","v":0}]
[{"$f":"'TRAINING MATRIX'!AT2","v":0},{"$f":"'TRAINING MATRIX'!AT$48","v":0}]
[{"$f":"'TRAINING MATRIX'!AU2","v":0},{"$f":"'TRAINING MATRIX'!AU$48","v":0}]
[{"$f":"'TRAINING MATRIX'!AV2","v":0},{"$f":"'TRAINING MATRIX'!AV$48","v":0}]
[{"$f":"'TRAINING MATRIX'!AW2","v":0},{"$f":"'TRAINING MATRIX'!AW$48","v":0}]
[{"$f":"'TRAINING MATRIX'!AX2","v":0},{"$f":"'TRAINING MATRIX'!AX$48","v":0}]
[{"$f":"'TRAINING MATRIX'!AY2","v":0},{"$f":"'TRAINING MATRIX'!AY$48","v":0}]
[{"$f":"'TRAINING MATRIX'!AZ2","v":0},{"$f":"'TRAINING MATRIX'!AZ$48","v":0}]

{"sheet":"Marius Marinescu","index":48,"n_rows":52,"n_cols":2,"rows_kept":52,"cut":false,"hidden":false,"merged":[]}
["Driver Name","Completed / Issued"]
[{"$f":"'TRAINING MATRIX'!A49","v":"Marinescu Marius"},{"$f":"'TRAINING MATRIX'!C49","v":"C"}]
[{"$f":"'TRAINING MATRIX'!B$49","v":0}]
[{"$f":"'TRAINING MATRIX'!D2","v":0},{"$f":"'TRAINING MATRIX'!D$49","v":0}]
[{"$f":"'TRAINING MATRIX'!E2","v":0},{"$f":"'TRAINING MATRIX'!E$49","v":0}]
[{"$f":"'TRAINING MATRIX'!F2","v":0},{"$f":"'TRAINING MATRIX'!F$49","v":0}]
[{"$f":"'TRAINING MATRIX'!G2","v":"Assessed"},{"$f":"'TRAINING MATRIX'!G$49","v":0}]
[{"$f":"'TRAINING MATRIX'!H2","v":"Driver induction"},{"$f":"'TRAINING MATRIX'!H$49","v":"01.10.18"}]
[{"$f":"'TRAINING MATRIX'!I2","v":"Highway Code via KT"},{"$f":"'TRAINING MATRIX'!I$49","v":0}]
[{"$f":"'TRAINING MATRIX'!J2","v":"Drivers Code of Conduct"},{"$f":"'TRAINING MATRIX'!J$49","v":0}]
[{"$f":"'TRAINING MATRIX'!K2","v":"Smoking Policy"},{"$f":"'TRAINING MATRIX'!K$49","v":0}]
[{"$f":"'TRAINING MATRIX'!L2","v":"Mobile Communication Policy"},{"$f":"'TRAINING MATRIX'!L$49","v":"6.9.19"}]
[{"$f":"'TRAINING MATRIX'!N2","v":"Transport Charges & Fines Policy"},{"$f":"'TRAINING MATRIX'!N$49","v":"22.8.19"}]
[{"$f":"'TRAINING MATRIX'!M2","v":"Using Sat Nav"},{"$f":"'TRAINING MATRIX'!M$49","v":0}]
[{"$f":"'TRAINING MATRIX'!O2","v":"Goods Vehicle and Safety Policy"},{"$f":"'TRAINING MATRIX'!O$49","v":"25.8.19"}]
[{"$f":"'TRAINING MATRIX'!P2","v":"Safe Loading Policy"},{"$f":"'TRAINING MATRIX'!P$49","v":"25.8.19"}]
[{"$f":"'TRAINING MATRIX'!Q2","v":"Eye Sight Check"},{"$f":"'TRAINING MATRIX'!Q$49","v":"16.9.19"}]
[{"$f":"'TRAINING MATRIX'!R2","v":"Use of Tail lifts"},{"$f":"'TRAINING MATRIX'!X$49","v":"21.8.19"}]
[{"$f":"'TRAINING MATRIX'!S2","v":"CPC Periodic Training Module"},{"$f":"'TRAINING MATRIX'!Y$49","v":"5.9.19"}]
[{"$f":"'TRAINING MATRIX'!T2","v":"CPC Periodic Training Module"},{"$f":"'TRAINING MATRIX'!Z$49","v":0}]
[{"$f":"'TRAINING MATRIX'!U2","v":"CPC Periodic Training Module"},{"$f":"'TRAINING MATRIX'!AA$49","v":0}]
[{"$f":"'TRAINING MATRIX'!V2","v":"CPC Periodic Training Module"},{"$f":"'TRAINING MATRIX'!AB$49","v":0}]
[{"$f":"'TRAINING MATRIX'!W2","v":"CPC Periodic Training Module"},{"$f":"'TRAINING MATRIX'!AC$49","v":0}]
[{"$f":"'TRAINING MATRIX'!X2","v":"FORS Security and Counter-Terrorism"},{"$f":"'TRAINING MATRIX'!X$49","v":"21.8.19"}]
[{"$f":"'TRAINING MATRIX'!Y2","v":"FORS BridgeSmart"},{"$f":"'TRAINING MATRIX'!Y$49","v":"5.9.19"}]
[{"$f":"'TRAINING MATRIX'!D2","v":0},{"$f":"'TRAINING MATRIX'!Z$49","v":0}]
[{"$f":"'TRAINING MATRIX'!AA2","v":"FORS LoCity"},{"$f":"'TRAINING MATRIX'!AA$49","v":0}]
[{"$f":"'TRAINING MATRIX'!AB2","v":"FORS SmartDeliveries"},{"$f":"'TRAINING MATRIX'!AB$49","v":0}]
[{"$f":"'TRAINING MATRIX'!AD2","v":"ADR Awareness"},{"$f":"'TRAINING MATRIX'!AC$49","v":0}]
[{"$f":"'TRAINING MATRIX'!AE2","v":"ADR (Core, Packages and All Classes ex 7 & 9)"},{"$f":"'TRAINING MATRIX'!AD$49","v":0}]
[{"$f":"'TRAINING MATRIX'!AF2","v":0},{"$f":"'TRAINING MATRIX'!AE$49","v":0}]
[{"$f":"'TRAINING MATRIX'!AF2","v":0},{"$f":"'TRAINING MATRIX'!AF$49","v":0}]
[{"$f":"'TRAINING MATRIX'!AG2","v":"TTB Climbing On & Off Vehicles"},{"$f":"'TRAINING MATRIX'!AG$49","v":"22.8.19"}]
[{"$f":"'TRAINING MATRIX'!AH2","v":"TTB Climbing On & Off Trailers & Load Decks"},{"$f":"'TRAINING MATRIX'!AH$49","v":"25.8.19"}]
[{"$f":"'TRAINING MATRIX'!AI2","v":"TTB Jumping To a Lifetime of Pain"},{"$f":"'TRAINING MATRIX'!AI$49","v":"25.8.19"}]
[{"$f":"'TRAINING MATRIX'!AJ2","v":"TTB Dealing With Cyclists"},{"$f":"'TRAINING MATRIX'!AJ$49","v":"25.8.19"}]
[{"$f":"'TRAINING MATRIX'!AK2","v":"TTB Fitness to Drive"},{"$f":"'TRAINING MATRIX'!AK$49","v":"25.8.19"}]
[{"$f":"'TRAINING MATRIX'!AL2","v":"TTB Loading & Unloading"},{"$f":"'TRAINING MATRIX'!AL$49","v":"25.8.19"}]
[{"$f":"'TRAINING MATRIX'!AM2","v":"TTB Protecting Vulnerable Road Users"},{"$f":"'TRAINING MATRIX'!AM$49","v":"25.8.19"}]
[{"$f":"'TRAINING MATRIX'!AN2","v":0},{"$f":"'TRAINING MATRIX'!AN$49","v":0}]
[{"$f":"'TRAINING MATRIX'!AO2","v":"SSOW Coupling and Uncoupling"},{"$f":"'TRAINING MATRIX'!AO$49","v":0}]
[{"$f":"'TRAINING MATRIX'!AP2","v":"SSOW Scanning Shed"},{"$f":"'TRAINING MATRIX'!AP$49","v":0}]
[{"$f":"'TRAINING MATRIX'!AQ2","v":"SWP Drivers Walkaround Checks"},{"$f":"'TRAINING MATRIX'!AQ$49","v":0}]
[{"$f":"'TRAINING MATRIX'!AR2","v":0},{"$f":"'TRAINING MATRIX'!AR$4","v":0}]
[{"$f":"'TRAINING MATRIX'!AS2","v":0},{"$f":"'TRAINING MATRIX'!AS$49","v":0}]
[{"$f":"'TRAINING MATRIX'!AT2","v":0},{"$f":"'TRAINING MATRIX'!AT$49","v":0}]
[{"$f":"'TRAINING MATRIX'!AU2","v":0},{"$f":"'TRAINING MATRIX'!AU$49","v":0}]
[{"$f":"'TRAINING MATRIX'!AV2","v":0},{"$f":"'TRAINING MATRIX'!AV$49","v":0}]
[{"$f":"'TRAINING MATRIX'!AW2","v":0},{"$f":"'TRAINING MATRIX'!AW$49","v":0}]
[{"$f":"'TRAINING MATRIX'!AX2","v":0},{"$f":"'TRAINING MATRIX'!AX$49","v":0}]
[{"$f":"'TRAINING MATRIX'!AY2","v":0},{"$f":"'TRAINING MATRIX'!AY$49","v":0}]
[{"$f":"'TRAINING MATRIX'!AZ2","v":0},{"$f":"'TRAINING MATRIX'!AZ$49","v":0}]

{"sheet":"Michail Michalakis","index":49,"n_rows":52,"n_cols":2,"rows_kept":52,"cut":false,"hidden":false,"merged":[]}
["Driver Name","Completed / Issued"]
[{"$f":"'TRAINING MATRIX'!A50","v":"Michalakis Michail"},{"$f":"'TRAINING MATRIX'!C50","v":"C"}]
[{"$f":"'TRAINING MATRIX'!B$50","v":0}]
[{"$f":"'TRAINING MATRIX'!D2","v":0},{"$f":"'TRAINING MATRIX'!D$50","v":0}]
[{"$f":"'TRAINING MATRIX'!E2","v":0},{"$f":"'TRAINING MATRIX'!E$50","v":0}]
[{"$f":"'TRAINING MATRIX'!F2","v":0},{"$f":"'TRAINING MATRIX'!F$50","v":0}]
[{"$f":"'TRAINING MATRIX'!G2","v":"Assessed"},{"$f":"'TRAINING MATRIX'!G$50","v":0}]
[{"$f":"'TRAINING MATRIX'!H2","v":"Driver induction"},{"$f":"'TRAINING MATRIX'!H$50","v":"20.06.17"}]
[{"$f":"'TRAINING MATRIX'!I2","v":"Highway Code via KT"},{"$f":"'TRAINING MATRIX'!I$50","v":0}]
[{"$f":"'TRAINING MATRIX'!J2","v":"Drivers Code of Conduct"},{"$f":"'TRAINING MATRIX'!J$50","v":0}]
[{"$f":"'TRAINING MATRIX'!K2","v":"Smoking Policy"},{"$f":"'TRAINING MATRIX'!K$50","v":0}]
[{"$f":"'TRAINING MATRIX'!L2","v":"Mobile Communication Policy"},{"$f":"'TRAINING MATRIX'!L$50","v":"6.9.19"}]
[{"$f":"'TRAINING MATRIX'!N2","v":"Transport Charges & Fines Policy"},{"$f":"'TRAINING MATRIX'!N$50","v":"22.8.19"}]
[{"$f":"'TRAINING MATRIX'!M2","v":"Using Sat Nav"},{"$f":"'TRAINING MATRIX'!M$50","v":0}]
[{"$f":"'TRAINING MATRIX'!O2","v":"Goods Vehicle and Safety Policy"},{"$f":"'TRAINING MATRIX'!O$50","v":"25.8.19"}]
[{"$f":"'TRAINING MATRIX'!P2","v":"Safe Loading Policy"},{"$f":"'TRAINING MATRIX'!P$50","v":"25.8.19"}]
[{"$f":"'TRAINING MATRIX'!Q2","v":"Eye Sight Check"},{"$f":"'TRAINING MATRIX'!Q$50","v":"21.8.19"}]
[{"$f":"'TRAINING MATRIX'!R2","v":"Use of Tail lifts"},{"$f":"'TRAINING MATRIX'!X$50","v":"21.8.19"}]
[{"$f":"'TRAINING MATRIX'!S2","v":"CPC Periodic Training Module"},{"$f":"'TRAINING MATRIX'!Y$50","v":"5.9.19"}]
[{"$f":"'TRAINING MATRIX'!T2","v":"CPC Periodic Training Module"},{"$f":"'TRAINING MATRIX'!Z$50","v":0}]
[{"$f":"'TRAINING MATRIX'!U2","v":"CPC Periodic Training Module"},{"$f":"'TRAINING MATRIX'!AA$50","v":0}]
[{"$f":"'TRAINING MATRIX'!V2","v":"CPC Periodic Training Module"},{"$f":"'TRAINING MATRIX'!AB$50","v":0}]
[{"$f":"'TRAINING MATRIX'!W2","v":"CPC Periodic Training Module"},{"$f":"'TRAINING MATRIX'!AC$50","v":0}]
[{"$f":"'TRAINING MATRIX'!X2","v":"FORS Security and Counter-Terrorism"},{"$f":"'TRAINING MATRIX'!X$50","v":"21.8.19"}]
[{"$f":"'TRAINING MATRIX'!Y2","v":"FORS BridgeSmart"},{"$f":"'TRAINING MATRIX'!Y$50","v":"5.9.19"}]
[{"$f":"'TRAINING MATRIX'!D2","v":0},{"$f":"'TRAINING MATRIX'!Z$50","v":0}]
[{"$f":"'TRAINING MATRIX'!AA2","v":"FORS LoCity"},{"$f":"'TRAINING MATRIX'!AA$50","v":0}]
[{"$f":"'TRAINING MATRIX'!AB2","v":"FORS SmartDeliveries"},{"$f":"'TRAINING MATRIX'!AB$50","v":0}]
[{"$f":"'TRAINING MATRIX'!AD2","v":"ADR Awareness"},{"$f":"'TRAINING MATRIX'!AC$50","v":0}]
[{"$f":"'TRAINING MATRIX'!AE2","v":"ADR (Core, Packages and All Classes ex 7 & 9)"},{"$f":"'TRAINING MATRIX'!AD$50","v":0}]
[{"$f":"'TRAINING MATRIX'!AF2","v":0},{"$f":"'TRAINING MATRIX'!AE$50","v":0}]
[{"$f":"'TRAINING MATRIX'!AF2","v":0},{"$f":"'TRAINING MATRIX'!AF$50","v":0}]
[{"$f":"'TRAINING MATRIX'!AG2","v":"TTB Climbing On & Off Vehicles"},{"$f":"'TRAINING MATRIX'!AG$50","v":"22.8.19"}]
[{"$f":"'TRAINING MATRIX'!AH2","v":"TTB Climbing On & Off Trailers & Load Decks"},{"$f":"'TRAINING MATRIX'!AH$50","v":"25.8.19"}]
[{"$f":"'TRAINING MATRIX'!AI2","v":"TTB Jumping To a Lifetime of Pain"},{"$f":"'TRAINING MATRIX'!AI$50","v":"25.8.19"}]
[{"$f":"'TRAINING MATRIX'!AJ2","v":"TTB Dealing With Cyclists"},{"$f":"'TRAINING MATRIX'!AJ$50","v":"25.8.19"}]
[{"$f":"'TRAINING MATRIX'!AK2","v":"TTB Fitness to Drive"},{"$f":"'TRAINING MATRIX'!AK$50","v":"25.8.19"}]
[{"$f":"'TRAINING MATRIX'!AL2","v":"TTB Loading & Unloading"},{"$f":"'TRAINING MATRIX'!AL$50","v":"25.8.19"}]
[{"$f":"'TRAINING MATRIX'!AM2","v":"TTB Protecting Vulnerable Road Users"},{"$f":"'TRAINING MATRIX'!AM$50","v":"25.8.19"}]
[{"$f":"'TRAINING MATRIX'!AN2","v":0},{"$f":"'TRAINING MATRIX'!AN$50","v":0}]
[{"$f":"'TRAINING MATRIX'!AO2","v":"SSOW Coupling and Uncoupling"},{"$f":"'TRAINING MATRIX'!AO$50","v":0}]
[{"$f":"'TRAINING MATRIX'!AP2","v":"SSOW Scanning Shed"},{"$f":"'TRAINING MATRIX'!AP$50","v":0}]
[{"$f":"'TRAINING MATRIX'!AQ2","v":"SWP Drivers Walkaround Checks"},{"$f":"'TRAINING MATRIX'!AQ$50","v":0}]
[{"$f":"'TRAINING MATRIX'!AR2","v":0},{"$f":"'TRAINING MATRIX'!AR$50","v":0}]
[{"$f":"'TRAINING MATRIX'!AS2","v":0},{"$f":"'TRAINING MATRIX'!AS$50","v":0}]
[{"$f":"'TRAINING MATRIX'!AT2","v":0},{"$f":"'TRAINING MATRIX'!AT$50","v":0}]
[{"$f":"'TRAINING MATRIX'!AU2","v":0},{"$f":"'TRAINING MATRIX'!AU$50","v":0}]
[{"$f":"'TRAINING MATRIX'!AV2","v":0},{"$f":"'TRAINING MATRIX'!AV$50","v":0}]
[{"$f":"'TRAINING MATRIX'!AW2","v":0},{"$f":"'TRAINING MATRIX'!AW$50","v":0}]
[{"$f":"'TRAINING MATRIX'!AX2","v":0},{"$f":"'TRAINING MATRIX'!AX$50","v":0}]
[{"$f":"'TRAINING MATRIX'!AY2","v":0},{"$f":"'TRAINING MATRIX'!AY$50","v":0}]
[{"$f":"'TRAINING MATRIX'!AZ2","v":0},{"$f":"'TRAINING MATRIX'!AZ$50","v":0}]

{"sheet":"Glen Miller","index":50,"n_rows":52,"n_cols":2,"rows_kept":52,"cut":false,"hidden":false,"merged":[]}
["Driver Name","Completed / Issued"]
[{"$f":"'TRAINING MATRIX'!A51","v":"Miller Glenn"},{"$f":"'TRAINING MATRIX'!C51","v":"C1"}]
[{"$f":"'TRAINING MATRIX'!B$51","v":0}]
[{"$f":"'TRAINING MATRIX'!D2","v":0},{"$f":"'TRAINING MATRIX'!D$51","v":0}]
[{"$f":"'TRAINING MATRIX'!E2","v":0},{"$f":"'TRAINING MATRIX'!E$51","v":0}]
[{"$f":"'TRAINING MATRIX'!F2","v":0},{"$f":"'TRAINING MATRIX'!F$51","v":0}]
[{"$f":"'TRAINING MATRIX'!G2","v":"Assessed"},{"$f":"'TRAINING MATRIX'!G$51","v":"06.02.19"}]
[{"$f":"'TRAINING MATRIX'!H2","v":"Driver induction"},{"$f":"'TRAINING MATRIX'!H$51","v":"06.02.19"}]
[{"$f":"'TRAINING MATRIX'!I2","v":"Highway Code via KT"},{"$f":"'TRAINING MATRIX'!I$51","v":0}]
[{"$f":"'TRAINING MATRIX'!J2","v":"Drivers Code of Conduct"},{"$f":"'TRAINING MATRIX'!J$51","v":0}]
[{"$f":"'TRAINING MATRIX'!K2","v":"Smoking Policy"},{"$f":"'TRAINING MATRIX'!K$51","v":0}]
[{"$f":"'TRAINING MATRIX'!L2","v":"Mobile Communication Policy"},{"$f":"'TRAINING MATRIX'!L$51","v":"6.9.19"}]
[{"$f":"'TRAINING MATRIX'!N2","v":"Transport Charges & Fines Policy"},{"$f":"'TRAINING MATRIX'!N$51","v":"22.8.19"}]
[{"$f":"'TRAINING MATRIX'!M2","v":"Using Sat Nav"},{"$f":"'TRAINING MATRIX'!M$51","v":0}]
[{"$f":"'TRAINING MATRIX'!O2","v":"Goods Vehicle and Safety Policy"},{"$f":"'TRAINING MATRIX'!O$51","v":"25.8.19"}]
[{"$f":"'TRAINING MATRIX'!P2","v":"Safe Loading Policy"},{"$f":"'TRAINING MATRIX'!P$51","v":"25.8.19"}]
[{"$f":"'TRAINING MATRIX'!Q2","v":"Eye Sight Check"},{"$f":"'TRAINING MATRIX'!Q$51","v":"16.9.19"}]
[{"$f":"'TRAINING MATRIX'!R2","v":"Use of Tail lifts"},{"$f":"'TRAINING MATRIX'!X$51","v":"21.8.19"}]
[{"$f":"'TRAINING MATRIX'!S2","v":"CPC Periodic Training Module"},{"$f":"'TRAINING MATRIX'!Y$51","v":"5.9.19"}]
[{"$f":"'TRAINING MATRIX'!T2","v":"CPC Periodic Training Module"},{"$f":"'TRAINING MATRIX'!Z$51","v":0}]
[{"$f":"'TRAINING MATRIX'!U2","v":"CPC Periodic Training Module"},{"$f":"'TRAINING MATRIX'!AA$51","v":0}]
[{"$f":"'TRAINING MATRIX'!V2","v":"CPC Periodic Training Module"},{"$f":"'TRAINING MATRIX'!AB$51","v":0}]
[{"$f":"'TRAINING MATRIX'!W2","v":"CPC Periodic Training Module"},{"$f":"'TRAINING MATRIX'!AC$51","v":0}]
[{"$f":"'TRAINING MATRIX'!X2","v":"FORS Security and Counter-Terrorism"},{"$f":"'TRAINING MATRIX'!X$51","v":"21.8.19"}]
[{"$f":"'TRAINING MATRIX'!Y2","v":"FORS BridgeSmart"},{"$f":"'TRAINING MATRIX'!Y$51","v":"5.9.19"}]
[{"$f":"'TRAINING MATRIX'!D2","v":0},{"$f":"'TRAINING MATRIX'!Z$51","v":0}]
[{"$f":"'TRAINING MATRIX'!AA2","v":"FORS LoCity"},{"$f":"'TRAINING MATRIX'!AA$51","v":0}]
[{"$f":"'TRAINING MATRIX'!AB2","v":"FORS SmartDeliveries"},{"$f":"'TRAINING MATRIX'!AB$51","v":0}]
[{"$f":"'TRAINING MATRIX'!AD2","v":"ADR Awareness"},{"$f":"'TRAINING MATRIX'!AC$51","v":0}]
[{"$f":"'TRAINING MATRIX'!AE2","v":"ADR (Core, Packages and All Classes ex 7 & 9)"},{"$f":"'TRAINING MATRIX'!AD$51","v":0}]
[{"$f":"'TRAINING MATRIX'!AF2","v":0},{"$f":"'TRAINING MATRIX'!AE$51","v":0}]
[{"$f":"'TRAINING MATRIX'!AF2","v":0},{"$f":"'TRAINING MATRIX'!AF$51","v":0}]
[{"$f":"'TRAINING MATRIX'!AG2","v":"TTB Climbing On & Off Vehicles"},{"$f":"'TRAINING MATRIX'!AG$51","v":"22.8.19"}]
[{"$f":"'TRAINING MATRIX'!AH2","v":"TTB Climbing On & Off Trailers & Load Decks"},{"$f":"'TRAINING MATRIX'!AH$51","v":"25.8.19"}]
[{"$f":"'TRAINING MATRIX'!AI2","v":"TTB Jumping To a Lifetime of Pain"},{"$f":"'TRAINING MATRIX'!AI$51","v":"25.8.19"}]
[{"$f":"'TRAINING MATRIX'!AJ2","v":"TTB Dealing With Cyclists"},{"$f":"'TRAINING MATRIX'!AJ$51","v":"25.8.19"}]
[{"$f":"'TRAINING MATRIX'!AK2","v":"TTB Fitness to Drive"},{"$f":"'TRAINING MATRIX'!AK$51","v":"25.8.19"}]
[{"$f":"'TRAINING MATRIX'!AL2","v":"TTB Loading & Unloading"},{"$f":"'TRAINING MATRIX'!AL$51","v":"25.8.19"}]
[{"$f":"'TRAINING MATRIX'!AM2","v":"TTB Protecting Vulnerable Road Users"},{"$f":"'TRAINING MATRIX'!AM$51","v":"25.8.19"}]
[{"$f":"'TRAINING MATRIX'!AN2","v":0},{"$f":"'TRAINING MATRIX'!AN$51","v":0}]
[{"$f":"'TRAINING MATRIX'!AO2","v":"SSOW Coupling and Uncoupling"},{"$f":"'TRAINING MATRIX'!AO$51","v":0}]
[{"$f":"'TRAINING MATRIX'!AP2","v":"SSOW Scanning Shed"},{"$f":"'TRAINING MATRIX'!AP$51","v":0}]
[{"$f":"'TRAINING MATRIX'!AQ2","v":"SWP Drivers Walkaround Checks"},{"$f":"'TRAINING MATRIX'!AQ$51","v":0}]
[{"$f":"'TRAINING MATRIX'!AR2","v":0},{"$f":"'TRAINING MATRIX'!AR$51","v":0}]
[{"$f":"'TRAINING MATRIX'!AS2","v":0},{"$f":"'TRAINING MATRIX'!AS$51","v":0}]
[{"$f":"'TRAINING MATRIX'!AT2","v":0},{"$f":"'TRAINING MATRIX'!AT$51","v":0}]
[{"$f":"'TRAINING MATRIX'!AU2","v":0},{"$f":"'TRAINING MATRIX'!AU$51","v":0}]
[{"$f":"'TRAINING MATRIX'!AV2","v":0},{"$f":"'TRAINING MATRIX'!AV$51","v":0}]
[{"$f":"'TRAINING MATRIX'!AW2","v":0},{"$f":"'TRAINING MATRIX'!AW$51","v":0}]
[{"$f":"'TRAINING MATRIX'!AX2","v":0},{"$f":"'TRAINING MATRIX'!AX$51","v":0}]
[{"$f":"'TRAINING MATRIX'!AY2","v":0},{"$f":"'TRAINING MATRIX'!AY$51","v":0}]
[{"$f":"'TRAINING MATRIX'!AZ2","v":0},{"$f":"'TRAINING MATRIX'!AZ$51","v":0}]

{"sheet":"Paul Mitchell","index":51,"n_rows":52,"n_cols":2,"rows_kept":52,"cut":false,"hidden":false,"merged":[]}
["Driver Name","Completed / Issued"]
[{"$f":"'TRAINING MATRIX'!A52","v":"Mitchell Paul"},{"$f":"'TRAINING MATRIX'!C52","v":"C"}]
[{"$f":"'TRAINING MATRIX'!B$52","v":0}]
[{"$f":"'TRAINING MATRIX'!D2","v":0},{"$f":"'TRAINING MATRIX'!D$52","v":0}]
[{"$f":"'TRAINING MATRIX'!E2","v":0},{"$f":"'TRAINING MATRIX'!E$52","v":0}]
[{"$f":"'TRAINING MATRIX'!F2","v":0},{"$f":"'TRAINING MATRIX'!F$52","v":0}]
[{"$f":"'TRAINING MATRIX'!G2","v":"Assessed"},{"$f":"'TRAINING MATRIX'!G$52","v":"09.01.19"}]
[{"$f":"'TRAINING MATRIX'!H2","v":"Driver induction"},{"$f":"'TRAINING MATRIX'!H$52","v":"09.01.19"}]
[{"$f":"'TRAINING MATRIX'!I2","v":"Highway Code via KT"},{"$f":"'TRAINING MATRIX'!I$52","v":0}]
[{"$f":"'TRAINING MATRIX'!J2","v":"Drivers Code of Conduct"},{"$f":"'TRAINING MATRIX'!J$52","v":0}]
[{"$f":"'TRAINING MATRIX'!K2","v":"Smoking Policy"},{"$f":"'TRAINING MATRIX'!K$52","v":0}]
[{"$f":"'TRAINING MATRIX'!L2","v":"Mobile Communication Policy"},{"$f":"'TRAINING MATRIX'!L$52","v":"6.9.19"}]
[{"$f":"'TRAINING MATRIX'!N2","v":"Transport Charges & Fines Policy"},{"$f":"'TRAINING MATRIX'!N$52","v":0}]
[{"$f":"'TRAINING MATRIX'!M2","v":"Using Sat Nav"},{"$f":"'TRAINING MATRIX'!M$52","v":0}]
[{"$f":"'TRAINING MATRIX'!O2","v":"Goods Vehicle and Safety Policy"},{"$f":"'TRAINING MATRIX'!O$52","v":0}]
[{"$f":"'TRAINING MATRIX'!P2","v":"Safe Loading Policy"},{"$f":"'TRAINING MATRIX'!P$52","v":0}]
[{"$f":"'TRAINING MATRIX'!Q2","v":"Eye Sight Check"},{"$f":"'TRAINING MATRIX'!Q$52","v":"5.9.19"}]
[{"$f":"'TRAINING MATRIX'!R2","v":"Use of Tail lifts"},{"$f":"'TRAINING MATRIX'!X$52","v":0}]
[{"$f":"'TRAINING MATRIX'!S2","v":"CPC Periodic Training Module"},{"$f":"'TRAINING MATRIX'!Y$52","v":"5.9.19"}]
[{"$f":"'TRAINING MATRIX'!T2","v":"CPC Periodic Training Module"},{"$f":"'TRAINING MATRIX'!Z$52","v":0}]
[{"$f":"'TRAINING MATRIX'!U2","v":"CPC Periodic Training Module"},{"$f":"'TRAINING MATRIX'!AA$52","v":0}]
[{"$f":"'TRAINING MATRIX'!V2","v":"CPC Periodic Training Module"},{"$f":"'TRAINING MATRIX'!AB$52","v":0}]
[{"$f":"'TRAINING MATRIX'!W2","v":"CPC Periodic Training Module"},{"$f":"'TRAINING MATRIX'!AC$52","v":0}]
[{"$f":"'TRAINING MATRIX'!X2","v":"FORS Security and Counter-Terrorism"},{"$f":"'TRAINING MATRIX'!X$52","v":0}]
[{"$f":"'TRAINING MATRIX'!Y2","v":"FORS BridgeSmart"},{"$f":"'TRAINING MATRIX'!Y$52","v":"5.9.19"}]
[{"$f":"'TRAINING MATRIX'!D2","v":0},{"$f":"'TRAINING MATRIX'!Z$52","v":0}]
[{"$f":"'TRAINING MATRIX'!AA2","v":"FORS LoCity"},{"$f":"'TRAINING MATRIX'!AA$52","v":0}]
[{"$f":"'TRAINING MATRIX'!AB2","v":"FORS SmartDeliveries"},{"$f":"'TRAINING MATRIX'!AB$52","v":0}]
[{"$f":"'TRAINING MATRIX'!AD2","v":"ADR Awareness"},{"$f":"'TRAINING MATRIX'!AC$52","v":0}]
[{"$f":"'TRAINING MATRIX'!AE2","v":"ADR (Core, Packages and All Classes ex 7 & 9)"},{"$f":"'TRAINING MATRIX'!AD$52","v":0}]
[{"$f":"'TRAINING MATRIX'!AF2","v":0},{"$f":"'TRAINING MATRIX'!AE$52","v":0}]
[{"$f":"'TRAINING MATRIX'!AF2","v":0},{"$f":"'TRAINING MATRIX'!AF$52","v":0}]
[{"$f":"'TRAINING MATRIX'!AG2","v":"TTB Climbing On & Off Vehicles"},{"$f":"'TRAINING MATRIX'!AG$52","v":0}]
[{"$f":"'TRAINING MATRIX'!AH2","v":"TTB Climbing On & Off Trailers & Load Decks"},{"$f":"'TRAINING MATRIX'!AH$52","v":0}]
[{"$f":"'TRAINING MATRIX'!AI2","v":"TTB Jumping To a Lifetime of Pain"},{"$f":"'TRAINING MATRIX'!AI$52","v":0}]
[{"$f":"'TRAINING MATRIX'!AJ2","v":"TTB Dealing With Cyclists"},{"$f":"'TRAINING MATRIX'!AJ$52","v":0}]
[{"$f":"'TRAINING MATRIX'!AK2","v":"TTB Fitness to Drive"},{"$f":"'TRAINING MATRIX'!AK$52","v":0}]
[{"$f":"'TRAINING MATRIX'!AL2","v":"TTB Loading & Unloading"},{"$f":"'TRAINING MATRIX'!AL$52","v":0}]
[{"$f":"'TRAINING MATRIX'!AM2","v":"TTB Protecting Vulnerable Road Users"},{"$f":"'TRAINING MATRIX'!AM$52","v":0}]
[{"$f":"'TRAINING MATRIX'!AN2","v":0},{"$f":"'TRAINING MATRIX'!AN$52","v":0}]
[{"$f":"'TRAINING MATRIX'!AO2","v":"SSOW Coupling and Uncoupling"},{"$f":"'TRAINING MATRIX'!AO$52","v":0}]
[{"$f":"'TRAINING MATRIX'!AP2","v":"SSOW Scanning Shed"},{"$f":"'TRAINING MATRIX'!AP$52","v":0}]
[{"$f":"'TRAINING MATRIX'!AQ2","v":"SWP Drivers Walkaround Checks"},{"$f":"'TRAINING MATRIX'!AQ$52","v":0}]
[{"$f":"'TRAINING MATRIX'!AR2","v":0},{"$f":"'TRAINING MATRIX'!AR$52","v":0}]
[{"$f":"'TRAINING MATRIX'!AS2","v":0},{"$f":"'TRAINING MATRIX'!AS$52","v":0}]
[{"$f":"'TRAINING MATRIX'!AT2","v":0},{"$f":"'TRAINING MATRIX'!AT$52","v":0}]
[{"$f":"'TRAINING MATRIX'!AU2","v":0},{"$f":"'TRAINING MATRIX'!AU$52","v":0}]
[{"$f":"'TRAINING MATRIX'!AV2","v":0},{"$f":"'TRAINING MATRIX'!AV$52","v":0}]
[{"$f":"'TRAINING MATRIX'!AW2","v":0},{"$f":"'TRAINING MATRIX'!AW$52","v":0}]
[{"$f":"'TRAINING MATRIX'!AX2","v":0},{"$f":"'TRAINING MATRIX'!AX$52","v":0}]
[{"$f":"'TRAINING MATRIX'!AY2","v":0},{"$f":"'TRAINING MATRIX'!AY$52","v":0}]
[{"$f":"'TRAINING MATRIX'!AZ2","v":0},{"$f":"'TRAINING MATRIX'!AZ$52","v":0}]

{"sheet":"Michael Newton","index":52,"n_rows":52,"n_cols":2,"rows_kept":52,"cut":false,"hidden":false,"merged":[]}
["Driver Name","Completed / Issued"]
[{"$f":"'TRAINING MATRIX'!A53","v":"Newton Michael"},{"$f":"'TRAINING MATRIX'!C53","v":"C"}]
[{"$f":"'TRAINING MATRIX'!B$53","v":0}]
[{"$f":"'TRAINING MATRIX'!D2","v":0},{"$f":"'TRAINING MATRIX'!D$53","v":0}]
[{"$f":"'TRAINING MATRIX'!E2","v":0},{"$f":"'TRAINING MATRIX'!E$53","v":0}]
[{"$f":"'TRAINING MATRIX'!F2","v":0},{"$f":"'TRAINING MATRIX'!F$53","v":0}]
[{"$f":"'TRAINING MATRIX'!G2","v":"Assessed"},{"$f":"'TRAINING MATRIX'!G$53","v":0}]
[{"$f":"'TRAINING MATRIX'!H2","v":"Driver induction"},{"$f":"'TRAINING MATRIX'!H$53","v":0}]
[{"$f":"'TRAINING MATRIX'!I2","v":"Highway Code via KT"},{"$f":"'TRAINING MATRIX'!I$53","v":0}]
[{"$f":"'TRAINING MATRIX'!J2","v":"Drivers Code of Conduct"},{"$f":"'TRAINING MATRIX'!J$53","v":0}]
[{"$f":"'TRAINING MATRIX'!K2","v":"Smoking Policy"},{"$f":"'TRAINING MATRIX'!K$53","v":0}]
[{"$f":"'TRAINING MATRIX'!L2","v":"Mobile Communication Policy"},{"$f":"'TRAINING MATRIX'!L$53","v":"6.9.19"}]
[{"$f":"'TRAINING MATRIX'!N2","v":"Transport Charges & Fines Policy"},{"$f":"'TRAINING MATRIX'!N$53","v":"22.8.19"}]
[{"$f":"'TRAINING MATRIX'!M2","v":"Using Sat Nav"},{"$f":"'TRAINING MATRIX'!M$53","v":0}]
[{"$f":"'TRAINING MATRIX'!O2","v":"Goods Vehicle and Safety Policy"},{"$f":"'TRAINING MATRIX'!O$53","v":"25.8.19"}]
[{"$f":"'TRAINING MATRIX'!P2","v":"Safe Loading Policy"},{"$f":"'TRAINING MATRIX'!P$53","v":"25.8.19"}]
[{"$f":"'TRAINING MATRIX'!Q2","v":"Eye Sight Check"},{"$f":"'TRAINING MATRIX'!Q$53","v":"11.9.19"}]
[{"$f":"'TRAINING MATRIX'!R2","v":"Use of Tail lifts"},{"$f":"'TRAINING MATRIX'!X$53","v":"21.8.19"}]
[{"$f":"'TRAINING MATRIX'!S2","v":"CPC Periodic Training Module"},{"$f":"'TRAINING MATRIX'!Y$53","v":"5.9.19"}]
[{"$f":"'TRAINING MATRIX'!T2","v":"CPC Periodic Training Module"},{"$f":"'TRAINING MATRIX'!Z$53","v":0}]
[{"$f":"'TRAINING MATRIX'!U2","v":"CPC Periodic Training Module"},{"$f":"'TRAINING MATRIX'!AA$53","v":0}]
[{"$f":"'TRAINING MATRIX'!V2","v":"CPC Periodic Training Module"},{"$f":"'TRAINING MATRIX'!AB$53","v":0}]
[{"$f":"'TRAINING MATRIX'!W2","v":"CPC Periodic Training Module"},{"$f":"'TRAINING MATRIX'!AC$53","v":0}]
[{"$f":"'TRAINING MATRIX'!X2","v":"FORS Security and Counter-Terrorism"},{"$f":"'TRAINING MATRIX'!X$53","v":"21.8.19"}]
[{"$f":"'TRAINING MATRIX'!Y2","v":"FORS BridgeSmart"},{"$f":"'TRAINING MATRIX'!Y$53","v":"5.9.19"}]
[{"$f":"'TRAINING MATRIX'!D2","v":0},{"$f":"'TRAINING MATRIX'!Z$53","v":0}]
[{"$f":"'TRAINING MATRIX'!AA2","v":"FORS LoCity"},{"$f":"'TRAINING MATRIX'!AA$53","v":0}]
[{"$f":"'TRAINING MATRIX'!AB2","v":"FORS SmartDeliveries"},{"$f":"'TRAINING MATRIX'!AB$53","v":0}]
[{"$f":"'TRAINING MATRIX'!AD2","v":"ADR Awareness"},{"$f":"'TRAINING MATRIX'!AC$53","v":0}]
[{"$f":"'TRAINING MATRIX'!AE2","v":"ADR (Core, Packages and All Classes ex 7 & 9)"},{"$f":"'TRAINING MATRIX'!AD$53","v":0}]
[{"$f":"'TRAINING MATRIX'!AF2","v":0},{"$f":"'TRAINING MATRIX'!AE$53","v":0}]
[{"$f":"'TRAINING MATRIX'!AF2","v":0},{"$f":"'TRAINING MATRIX'!AF$53","v":0}]
[{"$f":"'TRAINING MATRIX'!AG2","v":"TTB Climbing On & Off Vehicles"},{"$f":"'TRAINING MATRIX'!AG$53","v":"22.8.19"}]
[{"$f":"'TRAINING MATRIX'!AH2","v":"TTB Climbing On & Off Trailers & Load Decks"},{"$f":"'TRAINING MATRIX'!AH$53","v":"25.8.19"}]
[{"$f":"'TRAINING MATRIX'!AI2","v":"TTB Jumping To a Lifetime of Pain"},{"$f":"'TRAINING MATRIX'!AI$53","v":"25.8.19"}]
[{"$f":"'TRAINING MATRIX'!AJ2","v":"TTB Dealing With Cyclists"},{"$f":"'TRAINING MATRIX'!AJ$53","v":"25.8.19"}]
[{"$f":"'TRAINING MATRIX'!AK2","v":"TTB Fitness to Drive"},{"$f":"'TRAINING MATRIX'!AK$53","v":"25.8.19"}]
[{"$f":"'TRAINING MATRIX'!AL2","v":"TTB Loading & Unloading"},{"$f":"'TRAINING MATRIX'!AL$53","v":"25.8.19"}]
[{"$f":"'TRAINING MATRIX'!AM2","v":"TTB Protecting Vulnerable Road Users"},{"$f":"'TRAINING MATRIX'!AM$53","v":"25.8.19"}]
[{"$f":"'TRAINING MATRIX'!AN2","v":0},{"$f":"'TRAINING MATRIX'!AN$53","v":0}]
[{"$f":"'TRAINING MATRIX'!AO2","v":"SSOW Coupling and Uncoupling"},{"$f":"'TRAINING MATRIX'!AO$53","v":0}]
[{"$f":"'TRAINING MATRIX'!AP2","v":"SSOW Scanning Shed"},{"$f":"'TRAINING MATRIX'!AP$53","v":0}]
[{"$f":"'TRAINING MATRIX'!AQ2","v":"SWP Drivers Walkaround Checks"},{"$f":"'TRAINING MATRIX'!AQ$53","v":0}]
[{"$f":"'TRAINING MATRIX'!AR2","v":0},{"$f":"'TRAINING MATRIX'!AR$53","v":0}]
[{"$f":"'TRAINING MATRIX'!AS2","v":0},{"$f":"'TRAINING MATRIX'!AS$53","v":0}]
[{"$f":"'TRAINING MATRIX'!AT2","v":0},{"$f":"'TRAINING MATRIX'!AT$53","v":0}]
[{"$f":"'TRAINING MATRIX'!AU2","v":0},{"$f":"'TRAINING MATRIX'!AU$53","v":0}]
[{"$f":"'TRAINING MATRIX'!AV2","v":0},{"$f":"'TRAINING MATRIX'!AV$53","v":0}]
[{"$f":"'TRAINING MATRIX'!AW2","v":0},{"$f":"'TRAINING MATRIX'!AW$53","v":0}]
[{"$f":"'TRAINING MATRIX'!AX2","v":0},{"$f":"'TRAINING MATRIX'!AX$53","v":0}]
[{"$f":"'TRAINING MATRIX'!AY2","v":0},{"$f":"'TRAINING MATRIX'!AY$53","v":0}]
[{"$f":"'TRAINING MATRIX'!AZ2","v":0},{"$f":"'TRAINING MATRIX'!AZ$53","v":0}]

{"sheet":"Wayne Obizi","index":53,"n_rows":52,"n_cols":2,"rows_kept":52,"cut":false,"hidden":false,"merged":[]}
["Driver Name","Completed / Issued"]
[{"$f":"'TRAINING MATRIX'!A54","v":"Obizi Wayne"},{"$f":"'TRAINING MATRIX'!C54","v":"C1"}]
[{"$f":"'TRAINING MATRIX'!B$54","v":0}]
[{"$f":"'TRAINING MATRIX'!D2","v":0},{"$f":"'TRAINING MATRIX'!D$54","v":0}]
[{"$f":"'TRAINING MATRIX'!E2","v":0},{"$f":"'TRAINING MATRIX'!E$54","v":0}]
[{"$f":"'TRAINING MATRIX'!F2","v":0},{"$f":"'TRAINING MATRIX'!F$54","v":0}]
[{"$f":"'TRAINING MATRIX'!G2","v":"Assessed"},{"$f":"'TRAINING MATRIX'!G$54","v":0}]
[{"$f":"'TRAINING MATRIX'!H2","v":"Driver induction"},{"$f":"'TRAINING MATRIX'!H$54","v":0}]
[{"$f":"'TRAINING MATRIX'!I2","v":"Highway Code via KT"},{"$f":"'TRAINING MATRIX'!I$54","v":0}]
[{"$f":"'TRAINING MATRIX'!J2","v":"Drivers Code of Conduct"},{"$f":"'TRAINING MATRIX'!J$54","v":0}]
[{"$f":"'TRAINING MATRIX'!K2","v":"Smoking Policy"},{"$f":"'TRAINING MATRIX'!K$54","v":0}]
[{"$f":"'TRAINING MATRIX'!L2","v":"Mobile Communication Policy"},{"$f":"'TRAINING MATRIX'!L$54","v":"6.9.19"}]
[{"$f":"'TRAINING MATRIX'!N2","v":"Transport Charges & Fines Policy"},{"$f":"'TRAINING MATRIX'!N$54","v":"22.8.19"}]
[{"$f":"'TRAINING MATRIX'!M2","v":"Using Sat Nav"},{"$f":"'TRAINING MATRIX'!M$54","v":0}]
[{"$f":"'TRAINING MATRIX'!O2","v":"Goods Vehicle and Safety Policy"},{"$f":"'TRAINING MATRIX'!O$54","v":"25.8.19"}]
[{"$f":"'TRAINING MATRIX'!P2","v":"Safe Loading Policy"},{"$f":"'TRAINING MATRIX'!P$54","v":"25.8.19"}]
[{"$f":"'TRAINING MATRIX'!Q2","v":"Eye Sight Check"},{"$f":"'TRAINING MATRIX'!Q$54","v":"16.9.19"}]
[{"$f":"'TRAINING MATRIX'!R2","v":"Use of Tail lifts"},{"$f":"'TRAINING MATRIX'!X$54","v":"21.8.19"}]
[{"$f":"'TRAINING MATRIX'!S2","v":"CPC Periodic Training Module"},{"$f":"'TRAINING MATRIX'!Y$54","v":"5.9.19"}]
[{"$f":"'TRAINING MATRIX'!T2","v":"CPC Periodic Training Module"},{"$f":"'TRAINING MATRIX'!Z$54","v":0}]
[{"$f":"'TRAINING MATRIX'!U2","v":"CPC Periodic Training Module"},{"$f":"'TRAINING MATRIX'!AA$54","v":0}]
[{"$f":"'TRAINING MATRIX'!V2","v":"CPC Periodic Training Module"},{"$f":"'TRAINING MATRIX'!AB$54","v":0}]
[{"$f":"'TRAINING MATRIX'!W2","v":"CPC Periodic Training Module"},{"$f":"'TRAINING MATRIX'!AC$54","v":0}]
[{"$f":"'TRAINING MATRIX'!X2","v":"FORS Security and Counter-Terrorism"},{"$f":"'TRAINING MATRIX'!X$54","v":"21.8.19"}]
[{"$f":"'TRAINING MATRIX'!Y2","v":"FORS BridgeSmart"},{"$f":"'TRAINING MATRIX'!Y$54","v":"5.9.19"}]
[{"$f":"'TRAINING MATRIX'!D2","v":0},{"$f":"'TRAINING MATRIX'!Z$54","v":0}]
[{"$f":"'TRAINING MATRIX'!AA2","v":"FORS LoCity"},{"$f":"'TRAINING MATRIX'!AA$54","v":0}]
[{"$f":"'TRAINING MATRIX'!AB2","v":"FORS SmartDeliveries"},{"$f":"'TRAINING MATRIX'!AB$54","v":0}]
[{"$f":"'TRAINING MATRIX'!AD2","v":"ADR Awareness"},{"$f":"'TRAINING MATRIX'!AC$54","v":0}]
[{"$f":"'TRAINING MATRIX'!AE2","v":"ADR (Core, Packages and All Classes ex 7 & 9)"},{"$f":"'TRAINING MATRIX'!AD$54","v":0}]
[{"$f":"'TRAINING MATRIX'!AF2","v":0},{"$f":"'TRAINING MATRIX'!AE$54","v":0}]
[{"$f":"'TRAINING MATRIX'!AF2","v":0},{"$f":"'TRAINING MATRIX'!AF$54","v":0}]
[{"$f":"'TRAINING MATRIX'!AG2","v":"TTB Climbing On & Off Vehicles"},{"$f":"'TRAINING MATRIX'!AG$54","v":"22.8.19"}]
[{"$f":"'TRAINING MATRIX'!AH2","v":"TTB Climbing On & Off Trailers & Load Decks"},{"$f":"'TRAINING MATRIX'!AH$54","v":"25.8.19"}]
[{"$f":"'TRAINING MATRIX'!AI2","v":"TTB Jumping To a Lifetime of Pain"},{"$f":"'TRAINING MATRIX'!AI$54","v":"25.8.19"}]
[{"$f":"'TRAINING MATRIX'!AJ2","v":"TTB Dealing With Cyclists"},{"$f":"'TRAINING MATRIX'!AJ$54","v":"25.8.19"}]
[{"$f":"'TRAINING MATRIX'!AK2","v":"TTB Fitness to Drive"},{"$f":"'TRAINING MATRIX'!AK$54","v":"25.8.19"}]
[{"$f":"'TRAINING MATRIX'!AL2","v":"TTB Loading & Unloading"},{"$f":"'TRAINING MATRIX'!AL$54","v":"25.8.19"}]
[{"$f":"'TRAINING MATRIX'!AM2","v":"TTB Protecting Vulnerable Road Users"},{"$f":"'TRAINING MATRIX'!AM$54","v":"25.8.19"}]
[{"$f":"'TRAINING MATRIX'!AN2","v":0},{"$f":"'TRAINING MATRIX'!AN$54","v":0}]
[{"$f":"'TRAINING MATRIX'!AO2","v":"SSOW Coupling and Uncoupling"},{"$f":"'TRAINING MATRIX'!AO$54","v":0}]
[{"$f":"'TRAINING MATRIX'!AP2","v":"SSOW Scanning Shed"},{"$f":"'TRAINING MATRIX'!AP$54","v":0}]
[{"$f":"'TRAINING MATRIX'!AQ2","v":"SWP Drivers Walkaround Checks"},{"$f":"'TRAINING MATRIX'!AQ$54","v":0}]
[{"$f":"'TRAINING MATRIX'!AR2","v":0},{"$f":"'TRAINING MATRIX'!AR$54","v":0}]
[{"$f":"'TRAINING MATRIX'!AS2","v":0},{"$f":"'TRAINING MATRIX'!AS$54","v":0}]
[{"$f":"'TRAINING MATRIX'!AT2","v":0},{"$f":"'TRAINING MATRIX'!AT$54","v":0}]
[{"$f":"'TRAINING MATRIX'!AU2","v":0},{"$f":"'TRAINING MATRIX'!AU$54","v":0}]
[{"$f":"'TRAINING MATRIX'!AV2","v":0},{"$f":"'TRAINING MATRIX'!AV$54","v":0}]
[{"$f":"'TRAINING MATRIX'!AW2","v":0},{"$f":"'TRAINING MATRIX'!AW$54","v":0}]
[{"$f":"'TRAINING MATRIX'!AX2","v":0},{"$f":"'TRAINING MATRIX'!AX$54","v":0}]
[{"$f":"'TRAINING MATRIX'!AY2","v":0},{"$f":"'TRAINING MATRIX'!AY$54","v":0}]
[{"$f":"'TRAINING MATRIX'!AZ2","v":0},{"$f":"'TRAINING MATRIX'!AZ$54","v":0}]

{"sheet":"Pawel Okroj","index":54,"n_rows":52,"n_cols":2,"rows_kept":52,"cut":false,"hidden":false,"merged":[]}
["Driver Name","Completed / Issued"]
[{"$f":"'TRAINING MATRIX'!A55","v":"Okroj Pawel"},{"$f":"'TRAINING MATRIX'!C55","v":"C"}]
[{"$f":"'TRAINING MATRIX'!B$55","v":0}]
[{"$f":"'TRAINING MATRIX'!D2","v":0},{"$f":"'TRAINING MATRIX'!D$55","v":0}]
[{"$f":"'TRAINING MATRIX'!E2","v":0},{"$f":"'TRAINING MATRIX'!E$55","v":0}]
[{"$f":"'TRAINING MATRIX'!F2","v":0},{"$f":"'TRAINING MATRIX'!F$55","v":0}]
[{"$f":"'TRAINING MATRIX'!G2","v":"Assessed"},{"$f":"'TRAINING MATRIX'!G$55","v":0}]
[{"$f":"'TRAINING MATRIX'!H2","v":"Driver induction"},{"$f":"'TRAINING MATRIX'!H$55","v":0}]
[{"$f":"'TRAINING MATRIX'!I2","v":"Highway Code via KT"},{"$f":"'TRAINING MATRIX'!I$55","v":0}]
[{"$f":"'TRAINING MATRIX'!J2","v":"Drivers Code of Conduct"},{"$f":"'TRAINING MATRIX'!J$55","v":0}]
[{"$f":"'TRAINING MATRIX'!K2","v":"Smoking Policy"},{"$f":"'TRAINING MATRIX'!K$55","v":0}]
[{"$f":"'TRAINING MATRIX'!L2","v":"Mobile Communication Policy"},{"$f":"'TRAINING MATRIX'!L$55","v":0}]
[{"$f":"'TRAINING MATRIX'!N2","v":"Transport Charges & Fines Policy"},{"$f":"'TRAINING MATRIX'!N$55","v":0}]
[{"$f":"'TRAINING MATRIX'!M2","v":"Using Sat Nav"},{"$f":"'TRAINING MATRIX'!M$55","v":0}]
[{"$f":"'TRAINING MATRIX'!O2","v":"Goods Vehicle and Safety Policy"},{"$f":"'TRAINING MATRIX'!O$55","v":0}]
[{"$f":"'TRAINING MATRIX'!P2","v":"Safe Loading Policy"},{"$f":"'TRAINING MATRIX'!P$55","v":0}]
[{"$f":"'TRAINING MATRIX'!Q2","v":"Eye Sight Check"},{"$f":"'TRAINING MATRIX'!Q$55","v":"18.9.19"}]
[{"$f":"'TRAINING MATRIX'!R2","v":"Use of Tail lifts"},{"$f":"'TRAINING MATRIX'!X$55","v":0}]
[{"$f":"'TRAINING MATRIX'!S2","v":"CPC Periodic Training Module"},{"$f":"'TRAINING MATRIX'!Y$55","v":0}]
[{"$f":"'TRAINING MATRIX'!T2","v":"CPC Periodic Training Module"},{"$f":"'TRAINING MATRIX'!Z$55","v":0}]
[{"$f":"'TRAINING MATRIX'!U2","v":"CPC Periodic Training Module"},{"$f":"'TRAINING MATRIX'!AA$55","v":0}]
[{"$f":"'TRAINING MATRIX'!V2","v":"CPC Periodic Training Module"},{"$f":"'TRAINING MATRIX'!AB$55","v":0}]
[{"$f":"'TRAINING MATRIX'!W2","v":"CPC Periodic Training Module"},{"$f":"'TRAINING MATRIX'!AC$55","v":0}]
[{"$f":"'TRAINING MATRIX'!X2","v":"FORS Security and Counter-Terrorism"},{"$f":"'TRAINING MATRIX'!X$55","v":0}]
[{"$f":"'TRAINING MATRIX'!Y2","v":"FORS BridgeSmart"},{"$f":"'TRAINING MATRIX'!Y$55","v":0}]
[{"$f":"'TRAINING MATRIX'!D2","v":0},{"$f":"'TRAINING MATRIX'!Z$55","v":0}]
[{"$f":"'TRAINING MATRIX'!AA2","v":"FORS LoCity"},{"$f":"'TRAINING MATRIX'!AA$55","v":0}]
[{"$f":"'TRAINING MATRIX'!AB2","v":"FORS SmartDeliveries"},{"$f":"'TRAINING MATRIX'!AB$55","v":0}]
[{"$f":"'TRAINING MATRIX'!AD2","v":"ADR Awareness"},{"$f":"'TRAINING MATRIX'!AC$55","v":0}]
[{"$f":"'TRAINING MATRIX'!AE2","v":"ADR (Core, Packages and All Classes ex 7 & 9)"},{"$f":"'TRAINING MATRIX'!AD$55","v":0}]
[{"$f":"'TRAINING MATRIX'!AF2","v":0},{"$f":"'TRAINING MATRIX'!AE$55","v":0}]
[{"$f":"'TRAINING MATRIX'!AF2","v":0},{"$f":"'TRAINING MATRIX'!AF$55","v":0}]
[{"$f":"'TRAINING MATRIX'!AG2","v":"TTB Climbing On & Off Vehicles"},{"$f":"'TRAINING MATRIX'!AG$55","v":0}]
[{"$f":"'TRAINING MATRIX'!AH2","v":"TTB Climbing On & Off Trailers & Load Decks"},{"$f":"'TRAINING MATRIX'!AH$55","v":0}]
[{"$f":"'TRAINING MATRIX'!AI2","v":"TTB Jumping To a Lifetime of Pain"},{"$f":"'TRAINING MATRIX'!AI$55","v":0}]
[{"$f":"'TRAINING MATRIX'!AJ2","v":"TTB Dealing With Cyclists"},{"$f":"'TRAINING MATRIX'!AJ$55","v":0}]
[{"$f":"'TRAINING MATRIX'!AK2","v":"TTB Fitness to Drive"},{"$f":"'TRAINING MATRIX'!AK$55","v":0}]
[{"$f":"'TRAINING MATRIX'!AL2","v":"TTB Loading & Unloading"},{"$f":"'TRAINING MATRIX'!AL$55","v":0}]
[{"$f":"'TRAINING MATRIX'!AM2","v":"TTB Protecting Vulnerable Road Users"},{"$f":"'TRAINING MATRIX'!AM$55","v":0}]
[{"$f":"'TRAINING MATRIX'!AN2","v":0},{"$f":"'TRAINING MATRIX'!AN$55","v":0}]
[{"$f":"'TRAINING MATRIX'!AO2","v":"SSOW Coupling and Uncoupling"},{"$f":"'TRAINING MATRIX'!AO$55","v":0}]
[{"$f":"'TRAINING MATRIX'!AP2","v":"SSOW Scanning Shed"},{"$f":"'TRAINING MATRIX'!AP$55","v":0}]
[{"$f":"'TRAINING MATRIX'!AQ2","v":"SWP Drivers Walkaround Checks"},{"$f":"'TRAINING MATRIX'!AQ$55","v":0}]
[{"$f":"'TRAINING MATRIX'!AR2","v":0},{"$f":"'TRAINING MATRIX'!AR$55","v":0}]
[{"$f":"'TRAINING MATRIX'!AS2","v":0},{"$f":"'TRAINING MATRIX'!AS$55","v":0}]
[{"$f":"'TRAINING MATRIX'!AT2","v":0},{"$f":"'TRAINING MATRIX'!AT$55","v":0}]
[{"$f":"'TRAINING MATRIX'!AU2","v":0},{"$f":"'TRAINING MATRIX'!AU$55","v":0}]
[{"$f":"'TRAINING MATRIX'!AV2","v":0},{"$f":"'TRAINING MATRIX'!AV$55","v":0}]
[{"$f":"'TRAINING MATRIX'!AW2","v":0},{"$f":"'TRAINING MATRIX'!AW$55","v":0}]
[{"$f":"'TRAINING MATRIX'!AX2","v":0},{"$f":"'TRAINING MATRIX'!AX$55","v":0}]
[{"$f":"'TRAINING MATRIX'!AY2","v":0},{"$f":"'TRAINING MATRIX'!AY$55","v":0}]
[{"$f":"'TRAINING MATRIX'!AZ2","v":0},{"$f":"'TRAINING MATRIX'!AZ$55","v":0}]

{"sheet":"Jason Oliver","index":55,"n_rows":52,"n_cols":2,"rows_kept":52,"cut":false,"hidden":false,"merged":[]}
["Driver Name","Completed / Issued"]
[{"$f":"'TRAINING MATRIX'!A56","v":"Oliver Jason"},{"$f":"'TRAINING MATRIX'!C56","v":"CE"}]
[{"$f":"'TRAINING MATRIX'!B$56","v":0}]
[{"$f":"'TRAINING MATRIX'!D2","v":0},{"$f":"'TRAINING MATRIX'!D$56","v":0}]
[{"$f":"'TRAINING MATRIX'!E2","v":0},{"$f":"'TRAINING MATRIX'!E$56","v":0}]
[{"$f":"'TRAINING MATRIX'!F2","v":0},{"$f":"'TRAINING MATRIX'!F$56","v":0}]
[{"$f":"'TRAINING MATRIX'!G2","v":"Assessed"},{"$f":"'TRAINING MATRIX'!G$56","v":0}]
[{"$f":"'TRAINING MATRIX'!H2","v":"Driver induction"},{"$f":"'TRAINING MATRIX'!H$56","v":"03.01.19"}]
[{"$f":"'TRAINING MATRIX'!I2","v":"Highway Code via KT"},{"$f":"'TRAINING MATRIX'!I$56","v":0}]
[{"$f":"'TRAINING MATRIX'!J2","v":"Drivers Code of Conduct"},{"$f":"'TRAINING MATRIX'!J$56","v":0}]
[{"$f":"'TRAINING MATRIX'!K2","v":"Smoking Policy"},{"$f":"'TRAINING MATRIX'!K$56","v":0}]
[{"$f":"'TRAINING MATRIX'!L2","v":"Mobile Communication Policy"},{"$f":"'TRAINING MATRIX'!L$56","v":0}]
[{"$f":"'TRAINING MATRIX'!N2","v":"Transport Charges & Fines Policy"},{"$f":"'TRAINING MATRIX'!N$56","v":"22.8.19"}]
[{"$f":"'TRAINING MATRIX'!M2","v":"Using Sat Nav"},{"$f":"'TRAINING MATRIX'!M$56","v":0}]
[{"$f":"'TRAINING MATRIX'!O2","v":"Goods Vehicle and Safety Policy"},{"$f":"'TRAINING MATRIX'!O$56","v":"25.8.19"}]
[{"$f":"'TRAINING MATRIX'!P2","v":"Safe Loading Policy"},{"$f":"'TRAINING MATRIX'!P$56","v":"25.8.19"}]
[{"$f":"'TRAINING MATRIX'!Q2","v":"Eye Sight Check"},{"$f":"'TRAINING MATRIX'!Q$56","v":"22.8.19"}]
[{"$f":"'TRAINING MATRIX'!R2","v":"Use of Tail lifts"},{"$f":"'TRAINING MATRIX'!X$56","v":"21.8.19"}]
[{"$f":"'TRAINING MATRIX'!S2","v":"CPC Periodic Training Module"},{"$f":"'TRAINING MATRIX'!Y$56","v":0}]
[{"$f":"'TRAINING MATRIX'!T2","v":"CPC Periodic Training Module"},{"$f":"'TRAINING MATRIX'!Z$56","v":0}]
[{"$f":"'TRAINING MATRIX'!U2","v":"CPC Periodic Training Module"},{"$f":"'TRAINING MATRIX'!AA$56","v":0}]
[{"$f":"'TRAINING MATRIX'!V2","v":"CPC Periodic Training Module"},{"$f":"'TRAINING MATRIX'!AB$56","v":0}]
[{"$f":"'TRAINING MATRIX'!W2","v":"CPC Periodic Training Module"},{"$f":"'TRAINING MATRIX'!AC$56","v":0}]
[{"$f":"'TRAINING MATRIX'!X2","v":"FORS Security and Counter-Terrorism"},{"$f":"'TRAINING MATRIX'!X$56","v":"21.8.19"}]
[{"$f":"'TRAINING MATRIX'!Y2","v":"FORS BridgeSmart"},{"$f":"'TRAINING MATRIX'!Y$56","v":0}]
[{"$f":"'TRAINING MATRIX'!D2","v":0},{"$f":"'TRAINING MATRIX'!Z$56","v":0}]
[{"$f":"'TRAINING MATRIX'!AA2","v":"FORS LoCity"},{"$f":"'TRAINING MATRIX'!AA$56","v":0}]
[{"$f":"'TRAINING MATRIX'!AB2","v":"FORS SmartDeliveries"},{"$f":"'TRAINING MATRIX'!AB$56","v":0}]
[{"$f":"'TRAINING MATRIX'!AD2","v":"ADR Awareness"},{"$f":"'TRAINING MATRIX'!AC$56","v":0}]
[{"$f":"'TRAINING MATRIX'!AE2","v":"ADR (Core, Packages and All Classes ex 7 & 9)"},{"$f":"'TRAINING MATRIX'!AD$56","v":0}]
[{"$f":"'TRAINING MATRIX'!AF2","v":0},{"$f":"'TRAINING MATRIX'!AE$56","v":0}]
[{"$f":"'TRAINING MATRIX'!AF2","v":0},{"$f":"'TRAINING MATRIX'!AF$56","v":0}]
[{"$f":"'TRAINING MATRIX'!AG2","v":"TTB Climbing On & Off Vehicles"},{"$f":"'TRAINING MATRIX'!AG$56","v":"22.8.19"}]
[{"$f":"'TRAINING MATRIX'!AH2","v":"TTB Climbing On & Off Trailers & Load Decks"},{"$f":"'TRAINING MATRIX'!AH$56","v":"25.8.19"}]
[{"$f":"'TRAINING MATRIX'!AI2","v":"TTB Jumping To a Lifetime of Pain"},{"$f":"'TRAINING MATRIX'!AI$56","v":"25.8.19"}]
[{"$f":"'TRAINING MATRIX'!AJ2","v":"TTB Dealing With Cyclists"},{"$f":"'TRAINING MATRIX'!AJ$56","v":"25.8.19"}]
[{"$f":"'TRAINING MATRIX'!AK2","v":"TTB Fitness to Drive"},{"$f":"'TRAINING MATRIX'!AK$56","v":"25.8.19"}]
[{"$f":"'TRAINING MATRIX'!AL2","v":"TTB Loading & Unloading"},{"$f":"'TRAINING MATRIX'!AL$56","v":"25.8.19"}]
[{"$f":"'TRAINING MATRIX'!AM2","v":"TTB Protecting Vulnerable Road Users"},{"$f":"'TRAINING MATRIX'!AM$56","v":"25.8.19"}]
[{"$f":"'TRAINING MATRIX'!AN2","v":0},{"$f":"'TRAINING MATRIX'!AN$56","v":0}]
[{"$f":"'TRAINING MATRIX'!AO2","v":"SSOW Coupling and Uncoupling"},{"$f":"'TRAINING MATRIX'!AO$56","v":0}]
[{"$f":"'TRAINING MATRIX'!AP2","v":"SSOW Scanning Shed"},{"$f":"'TRAINING MATRIX'!AP$56","v":0}]
[{"$f":"'TRAINING MATRIX'!AQ2","v":"SWP Drivers Walkaround Checks"},{"$f":"'TRAINING MATRIX'!AQ$56","v":0}]
[{"$f":"'TRAINING MATRIX'!AR2","v":0},{"$f":"'TRAINING MATRIX'!AR$56","v":0}]
[{"$f":"'TRAINING MATRIX'!AS2","v":0},{"$f":"'TRAINING MATRIX'!AS$56","v":0}]
[{"$f":"'TRAINING MATRIX'!AT2","v":0},{"$f":"'TRAINING MATRIX'!AT$56","v":0}]
[{"$f":"'TRAINING MATRIX'!AU2","v":0},{"$f":"'TRAINING MATRIX'!AU$56","v":0}]
[{"$f":"'TRAINING MATRIX'!AV2","v":0},{"$f":"'TRAINING MATRIX'!AV$56","v":0}]
[{"$f":"'TRAINING MATRIX'!AW2","v":0},{"$f":"'TRAINING MATRIX'!AW$56","v":0}]
[{"$f":"'TRAINING MATRIX'!AX2","v":0},{"$f":"'TRAINING MATRIX'!AX$56","v":0}]
[{"$f":"'TRAINING MATRIX'!AY2","v":0},{"$f":"'TRAINING MATRIX'!AY$56","v":0}]
[{"$f":"'TRAINING MATRIX'!AZ2","v":0},{"$f":"'TRAINING MATRIX'!AZ$56","v":0}]

{"sheet":"Nicusor Oncescu","index":56,"n_rows":52,"n_cols":2,"rows_kept":52,"cut":false,"hidden":false,"merged":[]}
["Driver Name","Completed / Issued"]
[{"$f":"'TRAINING MATRIX'!A57","v":"Oncescu Nicusor"},{"$f":"'TRAINING MATRIX'!C57","v":"C"}]
[{"$f":"'TRAINING MATRIX'!B$57","v":0}]
[{"$f":"'TRAINING MATRIX'!D2","v":0},{"$f":"'TRAINING MATRIX'!D$57","v":0}]
[{"$f":"'TRAINING MATRIX'!E2","v":0},{"$f":"'TRAINING MATRIX'!E$57","v":0}]
[{"$f":"'TRAINING MATRIX'!F2","v":0},{"$f":"'TRAINING MATRIX'!F$57","v":0}]
[{"$f":"'TRAINING MATRIX'!G2","v":"Assessed"},{"$f":"'TRAINING MATRIX'!G$57","v":0}]
[{"$f":"'TRAINING MATRIX'!H2","v":"Driver induction"},{"$f":"'TRAINING MATRIX'!H$57","v":"03.09.18"}]
[{"$f":"'TRAINING MATRIX'!I2","v":"Highway Code via KT"},{"$f":"'TRAINING MATRIX'!I$57","v":0}]
[{"$f":"'TRAINING MATRIX'!J2","v":"Drivers Code of Conduct"},{"$f":"'TRAINING MATRIX'!J$57","v":0}]
[{"$f":"'TRAINING MATRIX'!K2","v":"Smoking Policy"},{"$f":"'TRAINING MATRIX'!K$57","v":0}]
[{"$f":"'TRAINING MATRIX'!L2","v":"Mobile Communication Policy"},{"$f":"'TRAINING MATRIX'!L$57","v":"6.9.19"}]
[{"$f":"'TRAINING MATRIX'!N2","v":"Transport Charges & Fines Policy"},{"$f":"'TRAINING MATRIX'!N$57","v":"22.8.19"}]
[{"$f":"'TRAINING MATRIX'!M2","v":"Using Sat Nav"},{"$f":"'TRAINING MATRIX'!M$57","v":0}]
[{"$f":"'TRAINING MATRIX'!O2","v":"Goods Vehicle and Safety Policy"},{"$f":"'TRAINING MATRIX'!O$57","v":"25.8.19"}]
[{"$f":"'TRAINING MATRIX'!P2","v":"Safe Loading Policy"},{"$f":"'TRAINING MATRIX'!P$57","v":"25.8.19"}]
[{"$f":"'TRAINING MATRIX'!Q2","v":"Eye Sight Check"},{"$f":"'TRAINING MATRIX'!Q$57","v":"21.8.19"}]
[{"$f":"'TRAINING MATRIX'!R2","v":"Use of Tail lifts"},{"$f":"'TRAINING MATRIX'!X$57","v":"21.8.19"}]
[{"$f":"'TRAINING MATRIX'!S2","v":"CPC Periodic Training Module"},{"$f":"'TRAINING MATRIX'!Y$57","v":"5.9.19"}]
[{"$f":"'TRAINING MATRIX'!T2","v":"CPC Periodic Training Module"},{"$f":"'TRAINING MATRIX'!Z$57","v":0}]
[{"$f":"'TRAINING MATRIX'!U2","v":"CPC Periodic Training Module"},{"$f":"'TRAINING MATRIX'!AA$57","v":0}]
[{"$f":"'TRAINING MATRIX'!V2","v":"CPC Periodic Training Module"},{"$f":"'TRAINING MATRIX'!AB$57","v":0}]
[{"$f":"'TRAINING MATRIX'!W2","v":"CPC Periodic Training Module"},{"$f":"'TRAINING MATRIX'!AC$57","v":0}]
[{"$f":"'TRAINING MATRIX'!X2","v":"FORS Security and Counter-Terrorism"},{"$f":"'TRAINING MATRIX'!X$57","v":"21.8.19"}]
[{"$f":"'TRAINING MATRIX'!Y2","v":"FORS BridgeSmart"},{"$f":"'TRAINING MATRIX'!Y$57","v":"5.9.19"}]
[{"$f":"'TRAINING MATRIX'!D2","v":0},{"$f":"'TRAINING MATRIX'!Z$57","v":0}]
[{"$f":"'TRAINING MATRIX'!AA2","v":"FORS LoCity"},{"$f":"'TRAINING MATRIX'!AA$57","v":0}]
[{"$f":"'TRAINING MATRIX'!AB2","v":"FORS SmartDeliveries"},{"$f":"'TRAINING MATRIX'!AB$57","v":0}]
[{"$f":"'TRAINING MATRIX'!AD2","v":"ADR Awareness"},{"$f":"'TRAINING MATRIX'!AC$57","v":0}]
[{"$f":"'TRAINING MATRIX'!AE2","v":"ADR (Core, Packages and All Classes ex 7 & 9)"},{"$f":"'TRAINING MATRIX'!AD$57","v":0}]
[{"$f":"'TRAINING MATRIX'!AF2","v":0},{"$f":"'TRAINING MATRIX'!AE$57","v":0}]
[{"$f":"'TRAINING MATRIX'!AF2","v":0},{"$f":"'TRAINING MATRIX'!AF$57","v":0}]
[{"$f":"'TRAINING MATRIX'!AG2","v":"TTB Climbing On & Off Vehicles"},{"$f":"'TRAINING MATRIX'!AG$57","v":"22.8.19"}]
[{"$f":"'TRAINING MATRIX'!AH2","v":"TTB Climbing On & Off Trailers & Load Decks"},{"$f":"'TRAINING MATRIX'!AH$57","v":"25.8.19"}]
[{"$f":"'TRAINING MATRIX'!AI2","v":"TTB Jumping To a Lifetime of Pain"},{"$f":"'TRAINING MATRIX'!AI$57","v":"25.8.19"}]
[{"$f":"'TRAINING MATRIX'!AJ2","v":"TTB Dealing With Cyclists"},{"$f":"'TRAINING MATRIX'!AJ$57","v":"25.8.19"}]
[{"$f":"'TRAINING MATRIX'!AK2","v":"TTB Fitness to Drive"},{"$f":"'TRAINING MATRIX'!AK$57","v":"25.8.19"}]
[{"$f":"'TRAINING MATRIX'!AL2","v":"TTB Loading & Unloading"},{"$f":"'TRAINING MATRIX'!AL$57","v":"25.8.19"}]
[{"$f":"'TRAINING MATRIX'!AM2","v":"TTB Protecting Vulnerable Road Users"},{"$f":"'TRAINING MATRIX'!AM$57","v":"25.8.19"}]
[{"$f":"'TRAINING MATRIX'!AN2","v":0},{"$f":"'TRAINING MATRIX'!AN$57","v":0}]
[{"$f":"'TRAINING MATRIX'!AO2","v":"SSOW Coupling and Uncoupling"},{"$f":"'TRAINING MATRIX'!AO$57","v":0}]
[{"$f":"'TRAINING MATRIX'!AP2","v":"SSOW Scanning Shed"},{"$f":"'TRAINING MATRIX'!AP$57","v":0}]
[{"$f":"'TRAINING MATRIX'!AQ2","v":"SWP Drivers Walkaround Checks"},{"$f":"'TRAINING MATRIX'!AQ$57","v":0}]
[{"$f":"'TRAINING MATRIX'!AR2","v":0},{"$f":"'TRAINING MATRIX'!AR$57","v":0}]
[{"$f":"'TRAINING MATRIX'!AS2","v":0},{"$f":"'TRAINING MATRIX'!AS$57","v":0}]
[{"$f":"'TRAINING MATRIX'!AT2","v":0},{"$f":"'TRAINING MATRIX'!AT$57","v":0}]
[{"$f":"'TRAINING MATRIX'!AU2","v":0},{"$f":"'TRAINING MATRIX'!AU$57","v":0}]
[{"$f":"'TRAINING MATRIX'!AV2","v":0},{"$f":"'TRAINING MATRIX'!AV$57","v":0}]
[{"$f":"'TRAINING MATRIX'!AW2","v":0},{"$f":"'TRAINING MATRIX'!AW$57","v":0}]
[{"$f":"'TRAINING MATRIX'!AX2","v":0},{"$f":"'TRAINING MATRIX'!AX$57","v":0}]
[{"$f":"'TRAINING MATRIX'!AY2","v":0},{"$f":"'TRAINING MATRIX'!AY$57","v":0}]
[{"$f":"'TRAINING MATRIX'!AZ2","v":0},{"$f":"'TRAINING MATRIX'!AZ$57","v":0}]

{"sheet":"Jonathan Pails","index":57,"n_rows":52,"n_cols":2,"rows_kept":52,"cut":false,"hidden":false,"merged":[]}
["Driver Name","Completed / Issued"]
[{"$f":"'TRAINING MATRIX'!A58","v":"Pails Jonathan"},{"$f":"'TRAINING MATRIX'!C58","v":"CE"}]
[{"$f":"'TRAINING MATRIX'!B$58","v":0}]
[{"$f":"'TRAINING MATRIX'!D2","v":0},{"$f":"'TRAINING MATRIX'!D$58","v":0}]
[{"$f":"'TRAINING MATRIX'!E2","v":0},{"$f":"'TRAINING MATRIX'!E$58","v":0}]
[{"$f":"'TRAINING MATRIX'!F2","v":0},{"$f":"'TRAINING MATRIX'!F$58","v":0}]
[{"$f":"'TRAINING MATRIX'!G2","v":"Assessed"},{"$f":"'TRAINING MATRIX'!G$58","v":"21.01.19"}]
[{"$f":"'TRAINING MATRIX'!H2","v":"Driver induction"},{"$f":"'TRAINING MATRIX'!H$58","v":"21.01.19"}]
[{"$f":"'TRAINING MATRIX'!I2","v":"Highway Code via KT"},{"$f":"'TRAINING MATRIX'!I$58","v":0}]
[{"$f":"'TRAINING MATRIX'!J2","v":"Drivers Code of Conduct"},{"$f":"'TRAINING MATRIX'!J$58","v":0}]
[{"$f":"'TRAINING MATRIX'!K2","v":"Smoking Policy"},{"$f":"'TRAINING MATRIX'!K$58","v":0}]
[{"$f":"'TRAINING MATRIX'!L2","v":"Mobile Communication Policy"},{"$f":"'TRAINING MATRIX'!L$58","v":"6.9.19"}]
[{"$f":"'TRAINING MATRIX'!N2","v":"Transport Charges & Fines Policy"},{"$f":"'TRAINING MATRIX'!N$58","v":"22.8.19"}]
[{"$f":"'TRAINING MATRIX'!M2","v":"Using Sat Nav"},{"$f":"'TRAINING MATRIX'!M$58","v":0}]
[{"$f":"'TRAINING MATRIX'!O2","v":"Goods Vehicle and Safety Policy"},{"$f":"'TRAINING MATRIX'!O$58","v":"25.8.19"}]
[{"$f":"'TRAINING MATRIX'!P2","v":"Safe Loading Policy"},{"$f":"'TRAINING MATRIX'!P$58","v":"25.8.19"}]
[{"$f":"'TRAINING MATRIX'!Q2","v":"Eye Sight Check"},{"$f":"'TRAINING MATRIX'!Q$58","v":"22.8.19"}]
[{"$f":"'TRAINING MATRIX'!R2","v":"Use of Tail lifts"},{"$f":"'TRAINING MATRIX'!X$58","v":"21.8.19"}]
[{"$f":"'TRAINING MATRIX'!S2","v":"CPC Periodic Training Module"},{"$f":"'TRAINING MATRIX'!Y$58","v":"5.9.19"}]
[{"$f":"'TRAINING MATRIX'!T2","v":"CPC Periodic Training Module"},{"$f":"'TRAINING MATRIX'!Z$58","v":0}]
[{"$f":"'TRAINING MATRIX'!U2","v":"CPC Periodic Training Module"},{"$f":"'TRAINING MATRIX'!AA$58","v":0}]
[{"$f":"'TRAINING MATRIX'!V2","v":"CPC Periodic Training Module"},{"$f":"'TRAINING MATRIX'!AB$58","v":0}]
[{"$f":"'TRAINING MATRIX'!W2","v":"CPC Periodic Training Module"},{"$f":"'TRAINING MATRIX'!AC$58","v":0}]
[{"$f":"'TRAINING MATRIX'!X2","v":"FORS Security and Counter-Terrorism"},{"$f":"'TRAINING MATRIX'!X$58","v":"21.8.19"}]
[{"$f":"'TRAINING MATRIX'!Y2","v":"FORS BridgeSmart"},{"$f":"'TRAINING MATRIX'!Y$58","v":"5.9.19"}]
[{"$f":"'TRAINING MATRIX'!D2","v":0},{"$f":"'TRAINING MATRIX'!Z$58","v":0}]
[{"$f":"'TRAINING MATRIX'!AA2","v":"FORS LoCity"},{"$f":"'TRAINING MATRIX'!AA$58","v":0}]
[{"$f":"'TRAINING MATRIX'!AB2","v":"FORS SmartDeliveries"},{"$f":"'TRAINING MATRIX'!AB$58","v":0}]
[{"$f":"'TRAINING MATRIX'!AD2","v":"ADR Awareness"},{"$f":"'TRAINING MATRIX'!AC$58","v":0}]
[{"$f":"'TRAINING MATRIX'!AE2","v":"ADR (Core, Packages and All Classes ex 7 & 9)"},{"$f":"'TRAINING MATRIX'!AD$58","v":0}]
[{"$f":"'TRAINING MATRIX'!AF2","v":0},{"$f":"'TRAINING MATRIX'!AE$58","v":0}]
[{"$f":"'TRAINING MATRIX'!AF2","v":0},{"$f":"'TRAINING MATRIX'!AF$58","v":0}]
[{"$f":"'TRAINING MATRIX'!AG2","v":"TTB Climbing On & Off Vehicles"},{"$f":"'TRAINING MATRIX'!AG$58","v":"22.8.19"}]
[{"$f":"'TRAINING MATRIX'!AH2","v":"TTB Climbing On & Off Trailers & Load Decks"},{"$f":"'TRAINING MATRIX'!AH$58","v":"25.8.19"}]
[{"$f":"'TRAINING MATRIX'!AI2","v":"TTB Jumping To a Lifetime of Pain"},{"$f":"'TRAINING MATRIX'!AI$58","v":"25.8.19"}]
[{"$f":"'TRAINING MATRIX'!AJ2","v":"TTB Dealing With Cyclists"},{"$f":"'TRAINING MATRIX'!AJ$58","v":"25.8.19"}]
[{"$f":"'TRAINING MATRIX'!AK2","v":"TTB Fitness to Drive"},{"$f":"'TRAINING MATRIX'!AK$58","v":"25.8.19"}]
[{"$f":"'TRAINING MATRIX'!AL2","v":"TTB Loading & Unloading"},{"$f":"'TRAINING MATRIX'!AL$58","v":"25.8.19"}]
[{"$f":"'TRAINING MATRIX'!AM2","v":"TTB Protecting Vulnerable Road Users"},{"$f":"'TRAINING MATRIX'!AM$58","v":"25.8.19"}]
[{"$f":"'TRAINING MATRIX'!AN2","v":0},{"$f":"'TRAINING MATRIX'!AN$58","v":0}]
[{"$f":"'TRAINING MATRIX'!AO2","v":"SSOW Coupling and Uncoupling"},{"$f":"'TRAINING MATRIX'!AO$58","v":0}]
[{"$f":"'TRAINING MATRIX'!AP2","v":"SSOW Scanning Shed"},{"$f":"'TRAINING MATRIX'!AP$58","v":0}]
[{"$f":"'TRAINING MATRIX'!AQ2","v":"SWP Drivers Walkaround Checks"},{"$f":"'TRAINING MATRIX'!AQ$58","v":0}]
[{"$f":"'TRAINING MATRIX'!AR2","v":0},{"$f":"'TRAINING MATRIX'!AR$58","v":0}]
[{"$f":"'TRAINING MATRIX'!AS2","v":0},{"$f":"'TRAINING MATRIX'!AS$58","v":0}]
[{"$f":"'TRAINING MATRIX'!AT2","v":0},{"$f":"'TRAINING MATRIX'!AT$58","v":0}]
[{"$f":"'TRAINING MATRIX'!AU2","v":0},{"$f":"'TRAINING MATRIX'!AU$58","v":0}]
[{"$f":"'TRAINING MATRIX'!AV2","v":0},{"$f":"'TRAINING MATRIX'!AV$58","v":0}]
[{"$f":"'TRAINING MATRIX'!AW2","v":0},{"$f":"'TRAINING MATRIX'!AW$58","v":0}]
[{"$f":"'TRAINING MATRIX'!AX2","v":0},{"$f":"'TRAINING MATRIX'!AX$58","v":0}]
[{"$f":"'TRAINING MATRIX'!AY2","v":0},{"$f":"'TRAINING MATRIX'!AY$58","v":0}]
[{"$f":"'TRAINING MATRIX'!AZ2","v":0},{"$f":"'TRAINING MATRIX'!AZ$58","v":0}]

{"sheet":"Scott Park","index":58,"n_rows":52,"n_cols":2,"rows_kept":52,"cut":false,"hidden":false,"merged":[]}
["Driver Name","Completed / Issued"]
[{"$f":"'TRAINING MATRIX'!A59","v":"Park Scott"},{"$f":"'TRAINING MATRIX'!C59","v":"C"}]
[{"$f":"'TRAINING MATRIX'!B$59","v":0}]
[{"$f":"'TRAINING MATRIX'!D2","v":0},{"$f":"'TRAINING MATRIX'!D$59","v":0}]
[{"$f":"'TRAINING MATRIX'!E2","v":0},{"$f":"'TRAINING MATRIX'!E$59","v":0}]
[{"$f":"'TRAINING MATRIX'!F2","v":0},{"$f":"'TRAINING MATRIX'!F$59","v":0}]
[{"$f":"'TRAINING MATRIX'!G2","v":"Assessed"},{"$f":"'TRAINING MATRIX'!G$59","v":0}]
[{"$f":"'TRAINING MATRIX'!H2","v":"Driver induction"},{"$f":"'TRAINING MATRIX'!H$59","v":"05.11.18"}]
[{"$f":"'TRAINING MATRIX'!I2","v":"Highway Code via KT"},{"$f":"'TRAINING MATRIX'!I$59","v":0}]
[{"$f":"'TRAINING MATRIX'!J2","v":"Drivers Code of Conduct"},{"$f":"'TRAINING MATRIX'!J$59","v":0}]
[{"$f":"'TRAINING MATRIX'!K2","v":"Smoking Policy"},{"$f":"'TRAINING MATRIX'!K$59","v":0}]
[{"$f":"'TRAINING MATRIX'!L2","v":"Mobile Communication Policy"},{"$f":"'TRAINING MATRIX'!L$59","v":"6.9.19"}]
[{"$f":"'TRAINING MATRIX'!N2","v":"Transport Charges & Fines Policy"},{"$f":"'TRAINING MATRIX'!N$59","v":"22.8.19"}]
[{"$f":"'TRAINING MATRIX'!M2","v":"Using Sat Nav"},{"$f":"'TRAINING MATRIX'!M$59","v":0}]
[{"$f":"'TRAINING MATRIX'!O2","v":"Goods Vehicle and Safety Policy"},{"$f":"'TRAINING MATRIX'!O$59","v":"25.8.19"}]
[{"$f":"'TRAINING MATRIX'!P2","v":"Safe Loading Policy"},{"$f":"'TRAINING MATRIX'!P$59","v":"25.8.19"}]
[{"$f":"'TRAINING MATRIX'!Q2","v":"Eye Sight Check"},{"$f":"'TRAINING MATRIX'!Q$59","v":"21.8.19"}]
[{"$f":"'TRAINING MATRIX'!R2","v":"Use of Tail lifts"},{"$f":"'TRAINING MATRIX'!X$59","v":"21.8.19"}]
[{"$f":"'TRAINING MATRIX'!S2","v":"CPC Periodic Training Module"},{"$f":"'TRAINING MATRIX'!Y$59","v":"5.9.19"}]
[{"$f":"'TRAINING MATRIX'!T2","v":"CPC Periodic Training Module"},{"$f":"'TRAINING MATRIX'!Z$59","v":0}]
[{"$f":"'TRAINING MATRIX'!U2","v":"CPC Periodic Training Module"},{"$f":"'TRAINING MATRIX'!AA$59","v":0}]
[{"$f":"'TRAINING MATRIX'!V2","v":"CPC Periodic Training Module"},{"$f":"'TRAINING MATRIX'!AB$59","v":0}]
[{"$f":"'TRAINING MATRIX'!W2","v":"CPC Periodic Training Module"},{"$f":"'TRAINING MATRIX'!AC$59","v":0}]
[{"$f":"'TRAINING MATRIX'!X2","v":"FORS Security and Counter-Terrorism"},{"$f":"'TRAINING MATRIX'!X$59","v":"21.8.19"}]
[{"$f":"'TRAINING MATRIX'!Y2","v":"FORS BridgeSmart"},{"$f":"'TRAINING MATRIX'!Y$59","v":"5.9.19"}]
[{"$f":"'TRAINING MATRIX'!D2","v":0},{"$f":"'TRAINING MATRIX'!Z$59","v":0}]
[{"$f":"'TRAINING MATRIX'!AA2","v":"FORS LoCity"},{"$f":"'TRAINING MATRIX'!AA$59","v":0}]
[{"$f":"'TRAINING MATRIX'!AB2","v":"FORS SmartDeliveries"},{"$f":"'TRAINING MATRIX'!AB$59","v":0}]
[{"$f":"'TRAINING MATRIX'!AD2","v":"ADR Awareness"},{"$f":"'TRAINING MATRIX'!AC$59","v":0}]
[{"$f":"'TRAINING MATRIX'!AE2","v":"ADR (Core, Packages and All Classes ex 7 & 9)"},{"$f":"'TRAINING MATRIX'!AD$59","v":0}]
[{"$f":"'TRAINING MATRIX'!AF2","v":0},{"$f":"'TRAINING MATRIX'!AE$59","v":0}]
[{"$f":"'TRAINING MATRIX'!AF2","v":0},{"$f":"'TRAINING MATRIX'!AF$59","v":0}]
[{"$f":"'TRAINING MATRIX'!AG2","v":"TTB Climbing On & Off Vehicles"},{"$f":"'TRAINING MATRIX'!AG$59","v":"22.8.19"}]
[{"$f":"'TRAINING MATRIX'!AH2","v":"TTB Climbing On & Off Trailers & Load Decks"},{"$f":"'TRAINING MATRIX'!AH$59","v":"25.8.19"}]
[{"$f":"'TRAINING MATRIX'!AI2","v":"TTB Jumping To a Lifetime of Pain"},{"$f":"'TRAINING MATRIX'!AI$59","v":"25.8.19"}]
[{"$f":"'TRAINING MATRIX'!AJ2","v":"TTB Dealing With Cyclists"},{"$f":"'TRAINING MATRIX'!AJ$59","v":"25.8.19"}]
[{"$f":"'TRAINING MATRIX'!AK2","v":"TTB Fitness to Drive"},{"$f":"'TRAINING MATRIX'!AK$59","v":"25.8.19"}]
[{"$f":"'TRAINING MATRIX'!AL2","v":"TTB Loading & Unloading"},{"$f":"'TRAINING MATRIX'!AL$59","v":"25.8.19"}]
[{"$f":"'TRAINING MATRIX'!AM2","v":"TTB Protecting Vulnerable Road Users"},{"$f":"'TRAINING MATRIX'!AM$59","v":"25.8.19"}]
[{"$f":"'TRAINING MATRIX'!AN2","v":0},{"$f":"'TRAINING MATRIX'!AN$59","v":0}]
[{"$f":"'TRAINING MATRIX'!AO2","v":"SSOW Coupling and Uncoupling"},{"$f":"'TRAINING MATRIX'!AO$59","v":0}]
[{"$f":"'TRAINING MATRIX'!AP2","v":"SSOW Scanning Shed"},{"$f":"'TRAINING MATRIX'!AP$59","v":0}]
[{"$f":"'TRAINING MATRIX'!AQ2","v":"SWP Drivers Walkaround Checks"},{"$f":"'TRAINING MATRIX'!AQ$59","v":0}]
[{"$f":"'TRAINING MATRIX'!AR2","v":0},{"$f":"'TRAINING MATRIX'!AR$59","v":0}]
[{"$f":"'TRAINING MATRIX'!AS2","v":0},{"$f":"'TRAINING MATRIX'!AS$59","v":0}]
[{"$f":"'TRAINING MATRIX'!AT2","v":0},{"$f":"'TRAINING MATRIX'!AT$59","v":0}]
[{"$f":"'TRAINING MATRIX'!AU2","v":0},{"$f":"'TRAINING MATRIX'!AU$59","v":0}]
[{"$f":"'TRAINING MATRIX'!AV2","v":0},{"$f":"'TRAINING MATRIX'!AV$59","v":0}]
[{"$f":"'TRAINING MATRIX'!AW2","v":0},{"$f":"'TRAINING MATRIX'!AW$59","v":0}]
[{"$f":"'TRAINING MATRIX'!AX2","v":0},{"$f":"'TRAINING MATRIX'!AX$59","v":0}]
[{"$f":"'TRAINING MATRIX'!AY2","v":0},{"$f":"'TRAINING MATRIX'!AY$59","v":0}]
[{"$f":"'TRAINING MATRIX'!AZ2","v":0},{"$f":"'TRAINING MATRIX'!AZ$59","v":0}]

{"sheet":"Tomasz Platosz","index":59,"n_rows":52,"n_cols":2,"rows_kept":52,"cut":false,"hidden":false,"merged":[]}
["Driver Name","Completed / Issued"]
[{"$f":"'TRAINING MATRIX'!A60","v":"Platosz Tomasz"},{"$f":"'TRAINING MATRIX'!C60","v":"C"}]
[{"$f":"'TRAINING MATRIX'!B$60","v":0}]
[{"$f":"'TRAINING MATRIX'!D2","v":0},{"$f":"'TRAINING MATRIX'!D$60","v":0}]
[{"$f":"'TRAINING MATRIX'!E2","v":0},{"$f":"'TRAINING MATRIX'!E$60","v":0}]
[{"$f":"'TRAINING MATRIX'!F2","v":0},{"$f":"'TRAINING MATRIX'!F$60","v":0}]
[{"$f":"'TRAINING MATRIX'!G2","v":"Assessed"},{"$f":"'TRAINING MATRIX'!G$60","v":0}]
[{"$f":"'TRAINING MATRIX'!H2","v":"Driver induction"},{"$f":"'TRAINING MATRIX'!H$60","v":"03.06.19"}]
[{"$f":"'TRAINING MATRIX'!I2","v":"Highway Code via KT"},{"$f":"'TRAINING MATRIX'!I$60","v":0}]
[{"$f":"'TRAINING MATRIX'!J2","v":"Drivers Code of Conduct"},{"$f":"'TRAINING MATRIX'!J$60","v":0}]
[{"$f":"'TRAINING MATRIX'!K2","v":"Smoking Policy"},{"$f":"'TRAINING MATRIX'!K$60","v":0}]
[{"$f":"'TRAINING MATRIX'!L2","v":"Mobile Communication Policy"},{"$f":"'TRAINING MATRIX'!L$60","v":"6.9.19"}]
[{"$f":"'TRAINING MATRIX'!N2","v":"Transport Charges & Fines Policy"},{"$f":"'TRAINING MATRIX'!N$60","v":"22.8.19"}]
[{"$f":"'TRAINING MATRIX'!M2","v":"Using Sat Nav"},{"$f":"'TRAINING MATRIX'!M$60","v":0}]
[{"$f":"'TRAINING MATRIX'!O2","v":"Goods Vehicle and Safety Policy"},{"$f":"'TRAINING MATRIX'!O$60","v":"25.8.19"}]
[{"$f":"'TRAINING MATRIX'!P2","v":"Safe Loading Policy"},{"$f":"'TRAINING MATRIX'!P$60","v":"25.8.19"}]
[{"$f":"'TRAINING MATRIX'!Q2","v":"Eye Sight Check"},{"$f":"'TRAINING MATRIX'!Q$60","v":"22.8.19"}]
[{"$f":"'TRAINING MATRIX'!R2","v":"Use of Tail lifts"},{"$f":"'TRAINING MATRIX'!X$60","v":"21.8.19"}]
[{"$f":"'TRAINING MATRIX'!S2","v":"CPC Periodic Training Module"},{"$f":"'TRAINING MATRIX'!Y$60","v":"5.9.19"}]
[{"$f":"'TRAINING MATRIX'!T2","v":"CPC Periodic Training Module"},{"$f":"'TRAINING MATRIX'!Z$60","v":0}]
[{"$f":"'TRAINING MATRIX'!U2","v":"CPC Periodic Training Module"},{"$f":"'TRAINING MATRIX'!AA$60","v":0}]
[{"$f":"'TRAINING MATRIX'!V2","v":"CPC Periodic Training Module"},{"$f":"'TRAINING MATRIX'!AB$60","v":0}]
[{"$f":"'TRAINING MATRIX'!W2","v":"CPC Periodic Training Module"},{"$f":"'TRAINING MATRIX'!AC$60","v":0}]
[{"$f":"'TRAINING MATRIX'!X2","v":"FORS Security and Counter-Terrorism"},{"$f":"'TRAINING MATRIX'!X$60","v":"21.8.19"}]
[{"$f":"'TRAINING MATRIX'!Y2","v":"FORS BridgeSmart"},{"$f":"'TRAINING MATRIX'!Y$60","v":"5.9.19"}]
[{"$f":"'TRAINING MATRIX'!D2","v":0},{"$f":"'TRAINING MATRIX'!Z$60","v":0}]
[{"$f":"'TRAINING MATRIX'!AA2","v":"FORS LoCity"},{"$f":"'TRAINING MATRIX'!AA$60","v":0}]
[{"$f":"'TRAINING MATRIX'!AB2","v":"FORS SmartDeliveries"},{"$f":"'TRAINING MATRIX'!AB$60","v":0}]
[{"$f":"'TRAINING MATRIX'!AD2","v":"ADR Awareness"},{"$f":"'TRAINING MATRIX'!AC$60","v":0}]
[{"$f":"'TRAINING MATRIX'!AE2","v":"ADR (Core, Packages and All Classes ex 7 & 9)"},{"$f":"'TRAINING MATRIX'!AD$60","v":0}]
[{"$f":"'TRAINING MATRIX'!AF2","v":0},{"$f":"'TRAINING MATRIX'!AE$60","v":0}]
[{"$f":"'TRAINING MATRIX'!AF2","v":0},{"$f":"'TRAINING MATRIX'!AF$60","v":0}]
[{"$f":"'TRAINING MATRIX'!AG2","v":"TTB Climbing On & Off Vehicles"},{"$f":"'TRAINING MATRIX'!AG$60","v":"22.8.19"}]
[{"$f":"'TRAINING MATRIX'!AH2","v":"TTB Climbing On & Off Trailers & Load Decks"},{"$f":"'TRAINING MATRIX'!AH$60","v":"25.8.19"}]
[{"$f":"'TRAINING MATRIX'!AI2","v":"TTB Jumping To a Lifetime of Pain"},{"$f":"'TRAINING MATRIX'!AI$60","v":"25.8.19"}]
[{"$f":"'TRAINING MATRIX'!AJ2","v":"TTB Dealing With Cyclists"},{"$f":"'TRAINING MATRIX'!AJ$60","v":"25.8.19"}]
[{"$f":"'TRAINING MATRIX'!AK2","v":"TTB Fitness to Drive"},{"$f":"'TRAINING MATRIX'!AK$60","v":"25.8.19"}]
[{"$f":"'TRAINING MATRIX'!AL2","v":"TTB Loading & Unloading"},{"$f":"'TRAINING MATRIX'!AL$60","v":"25.8.19"}]
[{"$f":"'TRAINING MATRIX'!AM2","v":"TTB Protecting Vulnerable Road Users"},{"$f":"'TRAINING MATRIX'!AM$60","v":"25.8.19"}]
[{"$f":"'TRAINING MATRIX'!AN2","v":0},{"$f":"'TRAINING MATRIX'!AN$60","v":0}]
[{"$f":"'TRAINING MATRIX'!AO2","v":"SSOW Coupling and Uncoupling"},{"$f":"'TRAINING MATRIX'!AO$60","v":0}]
[{"$f":"'TRAINING MATRIX'!AP2","v":"SSOW Scanning Shed"},{"$f":"'TRAINING MATRIX'!AP$60","v":0}]
[{"$f":"'TRAINING MATRIX'!AQ2","v":"SWP Drivers Walkaround Checks"},{"$f":"'TRAINING MATRIX'!AQ$60","v":0}]
[{"$f":"'TRAINING MATRIX'!AR2","v":0},{"$f":"'TRAINING MATRIX'!AR$60","v":0}]
[{"$f":"'TRAINING MATRIX'!AS2","v":0},{"$f":"'TRAINING MATRIX'!AS$60","v":0}]
[{"$f":"'TRAINING MATRIX'!AT2","v":0},{"$f":"'TRAINING MATRIX'!AT$60","v":0}]
[{"$f":"'TRAINING MATRIX'!AU2","v":0},{"$f":"'TRAINING MATRIX'!AU$60","v":0}]
[{"$f":"'TRAINING MATRIX'!AV2","v":0},{"$f":"'TRAINING MATRIX'!AV$60","v":0}]
[{"$f":"'TRAINING MATRIX'!AW2","v":0},{"$f":"'TRAINING MATRIX'!AW$60","v":0}]
[{"$f":"'TRAINING MATRIX'!AX2","v":0},{"$f":"'TRAINING MATRIX'!AX$60","v":0}]
[{"$f":"'TRAINING MATRIX'!AY2","v":0},{"$f":"'TRAINING MATRIX'!AY$60","v":0}]
[{"$f":"'TRAINING MATRIX'!AZ2","v":0},{"$f":"'TRAINING MATRIX'!AZ$60","v":0}]

{"sheet":"Bruce Plummer","index":60,"n_rows":52,"n_cols":2,"rows_kept":52,"cut":false,"hidden":false,"merged":[]}
["Driver Name","Completed / Issued"]
[{"$f":"'TRAINING MATRIX'!A61","v":"Plummer Bruce"},{"$f":"'TRAINING MATRIX'!C61","v":"C"}]
[{"$f":"'TRAINING MATRIX'!B$61","v":0}]
[{"$f":"'TRAINING MATRIX'!D2","v":0},{"$f":"'TRAINING MATRIX'!D$61","v":0}]
[{"$f":"'TRAINING MATRIX'!E2","v":0},{"$f":"'TRAINING MATRIX'!E$61","v":0}]
[{"$f":"'TRAINING MATRIX'!F2","v":0},{"$f":"'TRAINING MATRIX'!F$61","v":0}]
[{"$f":"'TRAINING MATRIX'!G2","v":"Assessed"},{"$f":"'TRAINING MATRIX'!G$61","v":"05.03.19"}]
[{"$f":"'TRAINING MATRIX'!H2","v":"Driver induction"},{"$f":"'TRAINING MATRIX'!H$61","v":"05.03.19"}]
[{"$f":"'TRAINING MATRIX'!I2","v":"Highway Code via KT"},{"$f":"'TRAINING MATRIX'!I$61","v":0}]
[{"$f":"'TRAINING MATRIX'!J2","v":"Drivers Code of Conduct"},{"$f":"'TRAINING MATRIX'!J$61","v":0}]
[{"$f":"'TRAINING MATRIX'!K2","v":"Smoking Policy"},{"$f":"'TRAINING MATRIX'!K$61","v":0}]
[{"$f":"'TRAINING MATRIX'!L2","v":"Mobile Communication Policy"},{"$f":"'TRAINING MATRIX'!L$61","v":"6.9.19"}]
[{"$f":"'TRAINING MATRIX'!N2","v":"Transport Charges & Fines Policy"},{"$f":"'TRAINING MATRIX'!N$61","v":"22.8.19"}]
[{"$f":"'TRAINING MATRIX'!M2","v":"Using Sat Nav"},{"$f":"'TRAINING MATRIX'!M$61","v":0}]
[{"$f":"'TRAINING MATRIX'!O2","v":"Goods Vehicle and Safety Policy"},{"$f":"'TRAINING MATRIX'!O$61","v":"25.8.19"}]
[{"$f":"'TRAINING MATRIX'!P2","v":"Safe Loading Policy"},{"$f":"'TRAINING MATRIX'!P$61","v":"25.8.19"}]
[{"$f":"'TRAINING MATRIX'!Q2","v":"Eye Sight Check"},{"$f":"'TRAINING MATRIX'!Q$61","v":"11.9.19"}]
[{"$f":"'TRAINING MATRIX'!R2","v":"Use of Tail lifts"},{"$f":"'TRAINING MATRIX'!X$61","v":"21.8.19"}]
[{"$f":"'TRAINING MATRIX'!S2","v":"CPC Periodic Training Module"},{"$f":"'TRAINING MATRIX'!Y$61","v":"5.9.19"}]
[{"$f":"'TRAINING MATRIX'!T2","v":"CPC Periodic Training Module"},{"$f":"'TRAINING MATRIX'!Z$61","v":0}]
[{"$f":"'TRAINING MATRIX'!U2","v":"CPC Periodic Training Module"},{"$f":"'TRAINING MATRIX'!AA$61","v":0}]
[{"$f":"'TRAINING MATRIX'!V2","v":"CPC Periodic Training Module"},{"$f":"'TRAINING MATRIX'!AB$61","v":0}]
[{"$f":"'TRAINING MATRIX'!W2","v":"CPC Periodic Training Module"},{"$f":"'TRAINING MATRIX'!AC$61","v":0}]
[{"$f":"'TRAINING MATRIX'!X2","v":"FORS Security and Counter-Terrorism"},{"$f":"'TRAINING MATRIX'!X$61","v":"21.8.19"}]
[{"$f":"'TRAINING MATRIX'!Y2","v":"FORS BridgeSmart"},{"$f":"'TRAINING MATRIX'!Y$61","v":"5.9.19"}]
[{"$f":"'TRAINING MATRIX'!D2","v":0},{"$f":"'TRAINING MATRIX'!Z$61","v":0}]
[{"$f":"'TRAINING MATRIX'!AA2","v":"FORS LoCity"},{"$f":"'TRAINING MATRIX'!AA$61","v":0}]
[{"$f":"'TRAINING MATRIX'!AB2","v":"FORS SmartDeliveries"},{"$f":"'TRAINING MATRIX'!AB$61","v":0}]
[{"$f":"'TRAINING MATRIX'!AD2","v":"ADR Awareness"},{"$f":"'TRAINING MATRIX'!AC$61","v":0}]
[{"$f":"'TRAINING MATRIX'!AE2","v":"ADR (Core, Packages and All Classes ex 7 & 9)"},{"$f":"'TRAINING MATRIX'!AD$61","v":0}]
[{"$f":"'TRAINING MATRIX'!AF2","v":0},{"$f":"'TRAINING MATRIX'!AE$61","v":0}]
[{"$f":"'TRAINING MATRIX'!AF2","v":0},{"$f":"'TRAINING MATRIX'!AF$61","v":0}]
[{"$f":"'TRAINING MATRIX'!AG2","v":"TTB Climbing On & Off Vehicles"},{"$f":"'TRAINING MATRIX'!AG$61","v":"22.8.19"}]
[{"$f":"'TRAINING MATRIX'!AH2","v":"TTB Climbing On & Off Trailers & Load Decks"},{"$f":"'TRAINING MATRIX'!AH$61","v":"25.8.19"}]
[{"$f":"'TRAINING MATRIX'!AI2","v":"TTB Jumping To a Lifetime of Pain"},{"$f":"'TRAINING MATRIX'!AI$61","v":"25.8.19"}]
[{"$f":"'TRAINING MATRIX'!AJ2","v":"TTB Dealing With Cyclists"},{"$f":"'TRAINING MATRIX'!AJ$61","v":"25.8.19"}]
[{"$f":"'TRAINING MATRIX'!AK2","v":"TTB Fitness to Drive"},{"$f":"'TRAINING MATRIX'!AK$61","v":"25.8.19"}]
[{"$f":"'TRAINING MATRIX'!AL2","v":"TTB Loading & Unloading"},{"$f":"'TRAINING MATRIX'!AL$61","v":"25.8.19"}]
[{"$f":"'TRAINING MATRIX'!AM2","v":"TTB Protecting Vulnerable Road Users"},{"$f":"'TRAINING MATRIX'!AM$61","v":"25.8.19"}]
[{"$f":"'TRAINING MATRIX'!AN2","v":0},{"$f":"'TRAINING MATRIX'!AN$61","v":0}]
[{"$f":"'TRAINING MATRIX'!AO2","v":"SSOW Coupling and Uncoupling"},{"$f":"'TRAINING MATRIX'!AO$61","v":0}]
[{"$f":"'TRAINING MATRIX'!AP2","v":"SSOW Scanning Shed"},{"$f":"'TRAINING MATRIX'!AP$61","v":0}]
[{"$f":"'TRAINING MATRIX'!AQ2","v":"SWP Drivers Walkaround Checks"},{"$f":"'TRAINING MATRIX'!AQ$61","v":0}]
[{"$f":"'TRAINING MATRIX'!AR2","v":0},{"$f":"'TRAINING MATRIX'!AR$61","v":0}]
[{"$f":"'TRAINING MATRIX'!AS2","v":0},{"$f":"'TRAINING MATRIX'!AS$61","v":0}]
[{"$f":"'TRAINING MATRIX'!AT2","v":0},{"$f":"'TRAINING MATRIX'!AT$61","v":0}]
[{"$f":"'TRAINING MATRIX'!AU2","v":0},{"$f":"'TRAINING MATRIX'!AU$61","v":0}]
[{"$f":"'TRAINING MATRIX'!AV2","v":0},{"$f":"'TRAINING MATRIX'!AV$61","v":0}]
[{"$f":"'TRAINING MATRIX'!AW2","v":0},{"$f":"'TRAINING MATRIX'!AW$61","v":0}]
[{"$f":"'TRAINING MATRIX'!AX2","v":0},{"$f":"'TRAINING MATRIX'!AX$61","v":0}]
[{"$f":"'TRAINING MATRIX'!AY2","v":0},{"$f":"'TRAINING MATRIX'!AY$61","v":0}]
[{"$f":"'TRAINING MATRIX'!AZ2","v":0}]

{"sheet":"Sarah Poole","index":61,"n_rows":52,"n_cols":2,"rows_kept":52,"cut":false,"hidden":false,"merged":[]}
["Driver Name","Completed / Issued"]
[{"$f":"'TRAINING MATRIX'!A62","v":"Poole Sarah"},{"$f":"'TRAINING MATRIX'!C62","v":"C"}]
[{"$f":"'TRAINING MATRIX'!B$62","v":0}]
[{"$f":"'TRAINING MATRIX'!D2","v":0},{"$f":"'TRAINING MATRIX'!D$62","v":0}]
[{"$f":"'TRAINING MATRIX'!E2","v":0},{"$f":"'TRAINING MATRIX'!E$62","v":0}]
[{"$f":"'TRAINING MATRIX'!F2","v":0},{"$f":"'TRAINING MATRIX'!F$62","v":0}]
[{"$f":"'TRAINING MATRIX'!G2","v":"Assessed"},{"$f":"'TRAINING MATRIX'!G$62","v":0}]
[{"$f":"'TRAINING MATRIX'!H2","v":"Driver induction"},{"$f":"'TRAINING MATRIX'!H$62","v":"10.06.19"}]
[{"$f":"'TRAINING MATRIX'!I2","v":"Highway Code via KT"},{"$f":"'TRAINING MATRIX'!I$62","v":0}]
[{"$f":"'TRAINING MATRIX'!J2","v":"Drivers Code of Conduct"},{"$f":"'TRAINING MATRIX'!J$62","v":0}]
[{"$f":"'TRAINING MATRIX'!K2","v":"Smoking Policy"},{"$f":"'TRAINING MATRIX'!K$62","v":0}]
[{"$f":"'TRAINING MATRIX'!L2","v":"Mobile Communication Policy"},{"$f":"'TRAINING MATRIX'!L$62","v":"6.9.19"}]
[{"$f":"'TRAINING MATRIX'!N2","v":"Transport Charges & Fines Policy"},{"$f":"'TRAINING MATRIX'!N$62","v":"22.8.19"}]
[{"$f":"'TRAINING MATRIX'!M2","v":"Using Sat Nav"},{"$f":"'TRAINING MATRIX'!M$62","v":0}]
[{"$f":"'TRAINING MATRIX'!O2","v":"Goods Vehicle and Safety Policy"},{"$f":"'TRAINING MATRIX'!O$62","v":"25.8.19"}]
[{"$f":"'TRAINING MATRIX'!P2","v":"Safe Loading Policy"},{"$f":"'TRAINING MATRIX'!P$62","v":"25.8.19"}]
[{"$f":"'TRAINING MATRIX'!Q2","v":"Eye Sight Check"},{"$f":"'TRAINING MATRIX'!Q$62","v":"22.8.19"}]
[{"$f":"'TRAINING MATRIX'!R2","v":"Use of Tail lifts"},{"$f":"'TRAINING MATRIX'!X$62","v":"21.8.19"}]
[{"$f":"'TRAINING MATRIX'!S2","v":"CPC Periodic Training Module"},{"$f":"'TRAINING MATRIX'!Y$62","v":"5.9.19"}]
[{"$f":"'TRAINING MATRIX'!T2","v":"CPC Periodic Training Module"},{"$f":"'TRAINING MATRIX'!Z$62","v":0}]
[{"$f":"'TRAINING MATRIX'!U2","v":"CPC Periodic Training Module"},{"$f":"'TRAINING MATRIX'!AA$62","v":0}]
[{"$f":"'TRAINING MATRIX'!V2","v":"CPC Periodic Training Module"},{"$f":"'TRAINING MATRIX'!AB$62","v":0}]
[{"$f":"'TRAINING MATRIX'!W2","v":"CPC Periodic Training Module"},{"$f":"'TRAINING MATRIX'!AC$62","v":0}]
[{"$f":"'TRAINING MATRIX'!X2","v":"FORS Security and Counter-Terrorism"},{"$f":"'TRAINING MATRIX'!X$62","v":"21.8.19"}]
[{"$f":"'TRAINING MATRIX'!Y2","v":"FORS BridgeSmart"},{"$f":"'TRAINING MATRIX'!Y$62","v":"5.9.19"}]
[{"$f":"'TRAINING MATRIX'!D2","v":0},{"$f":"'TRAINING MATRIX'!Z$62","v":0}]
[{"$f":"'TRAINING MATRIX'!AA2","v":"FORS LoCity"},{"$f":"'TRAINING MATRIX'!AA$62","v":0}]
[{"$f":"'TRAINING MATRIX'!AB2","v":"FORS SmartDeliveries"},{"$f":"'TRAINING MATRIX'!AB$62","v":0}]
[{"$f":"'TRAINING MATRIX'!AD2","v":"ADR Awareness"},{"$f":"'TRAINING MATRIX'!AC$62","v":0}]
[{"$f":"'TRAINING MATRIX'!AE2","v":"ADR (Core, Packages and All Classes ex 7 & 9)"},{"$f":"'TRAINING MATRIX'!AD$62","v":0}]
[{"$f":"'TRAINING MATRIX'!AF2","v":0},{"$f":"'TRAINING MATRIX'!AE$62","v":0}]
[{"$f":"'TRAINING MATRIX'!AF2","v":0},{"$f":"'TRAINING MATRIX'!AF$62","v":0}]
[{"$f":"'TRAINING MATRIX'!AG2","v":"TTB Climbing On & Off Vehicles"},{"$f":"'TRAINING MATRIX'!AG$62","v":"22.8.19"}]
[{"$f":"'TRAINING MATRIX'!AH2","v":"TTB Climbing On & Off Trailers & Load Decks"},{"$f":"'TRAINING MATRIX'!AH$62","v":"25.8.19"}]
[{"$f":"'TRAINING MATRIX'!AI2","v":"TTB Jumping To a Lifetime of Pain"},{"$f":"'TRAINING MATRIX'!AI$62","v":"25.8.19"}]
[{"$f":"'TRAINING MATRIX'!AJ2","v":"TTB Dealing With Cyclists"},{"$f":"'TRAINING MATRIX'!AJ$62","v":"25.8.19"}]
[{"$f":"'TRAINING MATRIX'!AK2","v":"TTB Fitness to Drive"},{"$f":"'TRAINING MATRIX'!AK$62","v":"25.8.19"}]
[{"$f":"'TRAINING MATRIX'!AL2","v":"TTB Loading & Unloading"},{"$f":"'TRAINING MATRIX'!AL$62","v":"25.8.19"}]
[{"$f":"'TRAINING MATRIX'!AM2","v":"TTB Protecting Vulnerable Road Users"},{"$f":"'TRAINING MATRIX'!AM$62","v":"25.8.19"}]
[{"$f":"'TRAINING MATRIX'!AN2","v":0},{"$f":"'TRAINING MATRIX'!AN$62","v":0}]
[{"$f":"'TRAINING MATRIX'!AO2","v":"SSOW Coupling and Uncoupling"},{"$f":"'TRAINING MATRIX'!AO$62","v":0}]
[{"$f":"'TRAINING MATRIX'!AP2","v":"SSOW Scanning Shed"},{"$f":"'TRAINING MATRIX'!AP$62","v":0}]
[{"$f":"'TRAINING MATRIX'!AQ2","v":"SWP Drivers Walkaround Checks"},{"$f":"'TRAINING MATRIX'!AQ$62","v":0}]
[{"$f":"'TRAINING MATRIX'!AR2","v":0},{"$f":"'TRAINING MATRIX'!AR$62","v":0}]
[{"$f":"'TRAINING MATRIX'!AS2","v":0},{"$f":"'TRAINING MATRIX'!AS$62","v":0}]
[{"$f":"'TRAINING MATRIX'!AT2","v":0},{"$f":"'TRAINING MATRIX'!AT$62","v":0}]
[{"$f":"'TRAINING MATRIX'!AU2","v":0},{"$f":"'TRAINING MATRIX'!AU$62","v":0}]
[{"$f":"'TRAINING MATRIX'!AV2","v":0},{"$f":"'TRAINING MATRIX'!AV$62","v":0}]
[{"$f":"'TRAINING MATRIX'!AW2","v":0},{"$f":"'TRAINING MATRIX'!AW$62","v":0}]
[{"$f":"'TRAINING MATRIX'!AX2","v":0},{"$f":"'TRAINING MATRIX'!AX$62","v":0}]
[{"$f":"'TRAINING MATRIX'!AY2","v":0},{"$f":"'TRAINING MATRIX'!AY$62","v":0}]
[{"$f":"'TRAINING MATRIX'!AZ2","v":0},{"$f":"'TRAINING MATRIX'!AZ$62","v":0}]

{"sheet":"Tamasz Porczio","index":62,"n_rows":52,"n_cols":2,"rows_kept":52,"cut":false,"hidden":false,"merged":[]}
["Driver Name","Completed / Issued"]
[{"$f":"'TRAINING MATRIX'!A63","v":"Porczio Tamas"},{"$f":"'TRAINING MATRIX'!C63","v":"CE"}]
[{"$f":"'TRAINING MATRIX'!B$63","v":0}]
[{"$f":"'TRAINING MATRIX'!D2","v":0},{"$f":"'TRAINING MATRIX'!D$63","v":0}]
[{"$f":"'TRAINING MATRIX'!E2","v":0},{"$f":"'TRAINING MATRIX'!E$63","v":0}]
[{"$f":"'TRAINING MATRIX'!F2","v":0},{"$f":"'TRAINING MATRIX'!F$63","v":0}]
[{"$f":"'TRAINING MATRIX'!G2","v":"Assessed"},{"$f":"'TRAINING MATRIX'!G$63","v":0}]
[{"$f":"'TRAINING MATRIX'!H2","v":"Driver induction"},{"$f":"'TRAINING MATRIX'!H$63","v":0}]
[{"$f":"'TRAINING MATRIX'!I2","v":"Highway Code via KT"},{"$f":"'TRAINING MATRIX'!I$63","v":0}]
[{"$f":"'TRAINING MATRIX'!J2","v":"Drivers Code of Conduct"},{"$f":"'TRAINING MATRIX'!J$63","v":0}]
[{"$f":"'TRAINING MATRIX'!K2","v":"Smoking Policy"},{"$f":"'TRAINING MATRIX'!K$63","v":0}]
[{"$f":"'TRAINING MATRIX'!L2","v":"Mobile Communication Policy"},{"$f":"'TRAINING MATRIX'!L$63","v":"6.9.19"}]
[{"$f":"'TRAINING MATRIX'!N2","v":"Transport Charges & Fines Policy"},{"$f":"'TRAINING MATRIX'!N$63","v":"22.8.19"}]
[{"$f":"'TRAINING MATRIX'!M2","v":"Using Sat Nav"},{"$f":"'TRAINING MATRIX'!M$63","v":0}]
[{"$f":"'TRAINING MATRIX'!O2","v":"Goods Vehicle and Safety Policy"},{"$f":"'TRAINING MATRIX'!O$63","v":"25.8.19"}]
[{"$f":"'TRAINING MATRIX'!P2","v":"Safe Loading Policy"},{"$f":"'TRAINING MATRIX'!P$63","v":"25.8.19"}]
[{"$f":"'TRAINING MATRIX'!Q2","v":"Eye Sight Check"},{"$f":"'TRAINING MATRIX'!Q$63","v":"11.9.19"}]
[{"$f":"'TRAINING MATRIX'!R2","v":"Use of Tail lifts"},{"$f":"'TRAINING MATRIX'!X$63","v":"21.8.19"}]
[{"$f":"'TRAINING MATRIX'!S2","v":"CPC Periodic Training Module"},{"$f":"'TRAINING MATRIX'!Y$63","v":"5.9.19"}]
[{"$f":"'TRAINING MATRIX'!T2","v":"CPC Periodic Training Module"},{"$f":"'TRAINING MATRIX'!Z$63","v":0}]
[{"$f":"'TRAINING MATRIX'!U2","v":"CPC Periodic Training Module"},{"$f":"'TRAINING MATRIX'!AA$63","v":0}]
[{"$f":"'TRAINING MATRIX'!V2","v":"CPC Periodic Training Module"},{"$f":"'TRAINING MATRIX'!AB$63","v":0}]
[{"$f":"'TRAINING MATRIX'!W2","v":"CPC Periodic Training Module"},{"$f":"'TRAINING MATRIX'!AC$63","v":0}]
[{"$f":"'TRAINING MATRIX'!X2","v":"FORS Security and Counter-Terrorism"},{"$f":"'TRAINING MATRIX'!X$63","v":"21.8.19"}]
[{"$f":"'TRAINING MATRIX'!Y2","v":"FORS BridgeSmart"},{"$f":"'TRAINING MATRIX'!Y$63","v":"5.9.19"}]
[{"$f":"'TRAINING MATRIX'!D2","v":0},{"$f":"'TRAINING MATRIX'!Z$63","v":0}]
[{"$f":"'TRAINING MATRIX'!AA2","v":"FORS LoCity"},{"$f":"'TRAINING MATRIX'!AA$63","v":0}]
[{"$f":"'TRAINING MATRIX'!AB2","v":"FORS SmartDeliveries"},{"$f":"'TRAINING MATRIX'!AB$63","v":0}]
[{"$f":"'TRAINING MATRIX'!AD2","v":"ADR Awareness"},{"$f":"'TRAINING MATRIX'!AC$63","v":0}]
[{"$f":"'TRAINING MATRIX'!AE2","v":"ADR (Core, Packages and All Classes ex 7 & 9)"},{"$f":"'TRAINING MATRIX'!AD$63","v":0}]
[{"$f":"'TRAINING MATRIX'!AF2","v":0},{"$f":"'TRAINING MATRIX'!AE$63","v":0}]
[{"$f":"'TRAINING MATRIX'!AF2","v":0},{"$f":"'TRAINING MATRIX'!AF$63","v":0}]
[{"$f":"'TRAINING MATRIX'!AG2","v":"TTB Climbing On & Off Vehicles"},{"$f":"'TRAINING MATRIX'!AG$63","v":"22.8.19"}]
[{"$f":"'TRAINING MATRIX'!AH2","v":"TTB Climbing On & Off Trailers & Load Decks"},{"$f":"'TRAINING MATRIX'!AH$63","v":"25.8.19"}]
[{"$f":"'TRAINING MATRIX'!AI2","v":"TTB Jumping To a Lifetime of Pain"},{"$f":"'TRAINING MATRIX'!AI$63","v":"25.8.19"}]
[{"$f":"'TRAINING MATRIX'!AJ2","v":"TTB Dealing With Cyclists"},{"$f":"'TRAINING MATRIX'!AJ$63","v":"25.8.19"}]
[{"$f":"'TRAINING MATRIX'!AK2","v":"TTB Fitness to Drive"},{"$f":"'TRAINING MATRIX'!AK$63","v":"25.8.19"}]
[{"$f":"'TRAINING MATRIX'!AL2","v":"TTB Loading & Unloading"},{"$f":"'TRAINING MATRIX'!AL$63","v":"25.8.19"}]
[{"$f":"'TRAINING MATRIX'!AM2","v":"TTB Protecting Vulnerable Road Users"},{"$f":"'TRAINING MATRIX'!AM$63","v":"25.8.19"}]
[{"$f":"'TRAINING MATRIX'!AN2","v":0},{"$f":"'TRAINING MATRIX'!AN$63","v":0}]
[{"$f":"'TRAINING MATRIX'!AO2","v":"SSOW Coupling and Uncoupling"},{"$f":"'TRAINING MATRIX'!AO$63","v":0}]
[{"$f":"'TRAINING MATRIX'!AP2","v":"SSOW Scanning Shed"},{"$f":"'TRAINING MATRIX'!AP$63","v":0}]
[{"$f":"'TRAINING MATRIX'!AQ2","v":"SWP Drivers Walkaround Checks"},{"$f":"'TRAINING MATRIX'!AQ$63","v":0}]
[{"$f":"'TRAINING MATRIX'!AR2","v":0},{"$f":"'TRAINING MATRIX'!AR$63","v":0}]
[{"$f":"'TRAINING MATRIX'!AS2","v":0},{"$f":"'TRAINING MATRIX'!AS$63","v":0}]
[{"$f":"'TRAINING MATRIX'!AT2","v":0},{"$f":"'TRAINING MATRIX'!AT$63","v":0}]
[{"$f":"'TRAINING MATRIX'!AU2","v":0},{"$f":"'TRAINING MATRIX'!AU$63","v":0}]
[{"$f":"'TRAINING MATRIX'!AV2","v":0},{"$f":"'TRAINING MATRIX'!AV$63","v":0}]
[{"$f":"'TRAINING MATRIX'!AW2","v":0},{"$f":"'TRAINING MATRIX'!AW$63","v":0}]
[{"$f":"'TRAINING MATRIX'!AX2","v":0},{"$f":"'TRAINING MATRIX'!AX$63","v":0}]
[{"$f":"'TRAINING MATRIX'!AY2","v":0},{"$f":"'TRAINING MATRIX'!AY$63","v":0}]
[{"$f":"'TRAINING MATRIX'!AZ2","v":0},{"$f":"'TRAINING MATRIX'!AZ$63","v":0}]

{"sheet":"Wojciech Poszwa","index":63,"n_rows":52,"n_cols":2,"rows_kept":52,"cut":false,"hidden":false,"merged":[]}
["Driver Name","Completed / Issued"]
[{"$f":"'TRAINING MATRIX'!A64","v":"Poszwa Wojciech"},{"$f":"'TRAINING MATRIX'!C64","v":"C"}]
[{"$f":"'TRAINING MATRIX'!B$64","v":0}]
[{"$f":"'TRAINING MATRIX'!D2","v":0},{"$f":"'TRAINING MATRIX'!D$64","v":0}]
[{"$f":"'TRAINING MATRIX'!E2","v":0},{"$f":"'TRAINING MATRIX'!E$64","v":0}]
[{"$f":"'TRAINING MATRIX'!F2","v":0},{"$f":"'TRAINING MATRIX'!F$64","v":0}]
[{"$f":"'TRAINING MATRIX'!G2","v":"Assessed"},{"$f":"'TRAINING MATRIX'!G$64","v":0}]
[{"$f":"'TRAINING MATRIX'!H2","v":"Driver induction"},{"$f":"'TRAINING MATRIX'!H$64","v":0}]
[{"$f":"'TRAINING MATRIX'!I2","v":"Highway Code via KT"},{"$f":"'TRAINING MATRIX'!I$64","v":0}]
[{"$f":"'TRAINING MATRIX'!J2","v":"Drivers Code of Conduct"},{"$f":"'TRAINING MATRIX'!J$64","v":0}]
[{"$f":"'TRAINING MATRIX'!K2","v":"Smoking Policy"},{"$f":"'TRAINING MATRIX'!K$64","v":0}]
[{"$f":"'TRAINING MATRIX'!L2","v":"Mobile Communication Policy"},{"$f":"'TRAINING MATRIX'!L$64","v":0}]
[{"$f":"'TRAINING MATRIX'!N2","v":"Transport Charges & Fines Policy"},{"$f":"'TRAINING MATRIX'!N$64","v":0}]
[{"$f":"'TRAINING MATRIX'!M2","v":"Using Sat Nav"},{"$f":"'TRAINING MATRIX'!M$64","v":0}]
[{"$f":"'TRAINING MATRIX'!O2","v":"Goods Vehicle and Safety Policy"},{"$f":"'TRAINING MATRIX'!O$64","v":0}]
[{"$f":"'TRAINING MATRIX'!P2","v":"Safe Loading Policy"},{"$f":"'TRAINING MATRIX'!P$64","v":0}]
[{"$f":"'TRAINING MATRIX'!Q2","v":"Eye Sight Check"},{"$f":"'TRAINING MATRIX'!Q$64","v":"18.9.19"}]
[{"$f":"'TRAINING MATRIX'!R2","v":"Use of Tail lifts"},{"$f":"'TRAINING MATRIX'!X$64","v":0}]
[{"$f":"'TRAINING MATRIX'!S2","v":"CPC Periodic Training Module"},{"$f":"'TRAINING MATRIX'!Y$64","v":0}]
[{"$f":"'TRAINING MATRIX'!T2","v":"CPC Periodic Training Module"},{"$f":"'TRAINING MATRIX'!Z$64","v":0}]
[{"$f":"'TRAINING MATRIX'!U2","v":"CPC Periodic Training Module"},{"$f":"'TRAINING MATRIX'!AA$64","v":0}]
[{"$f":"'TRAINING MATRIX'!V2","v":"CPC Periodic Training Module"},{"$f":"'TRAINING MATRIX'!AB$64","v":0}]
[{"$f":"'TRAINING MATRIX'!W2","v":"CPC Periodic Training Module"},{"$f":"'TRAINING MATRIX'!AC$64","v":0}]
[{"$f":"'TRAINING MATRIX'!X2","v":"FORS Security and Counter-Terrorism"},{"$f":"'TRAINING MATRIX'!X$64","v":0}]
[{"$f":"'TRAINING MATRIX'!Y2","v":"FORS BridgeSmart"},{"$f":"'TRAINING MATRIX'!Y$64","v":0}]
[{"$f":"'TRAINING MATRIX'!D2","v":0},{"$f":"'TRAINING MATRIX'!Z$64","v":0}]
[{"$f":"'TRAINING MATRIX'!AA2","v":"FORS LoCity"},{"$f":"'TRAINING MATRIX'!AA$64","v":0}]
[{"$f":"'TRAINING MATRIX'!AB2","v":"FORS SmartDeliveries"},{"$f":"'TRAINING MATRIX'!AB$64","v":0}]
[{"$f":"'TRAINING MATRIX'!AD2","v":"ADR Awareness"},{"$f":"'TRAINING MATRIX'!AC$64","v":0}]
[{"$f":"'TRAINING MATRIX'!AE2","v":"ADR (Core, Packages and All Classes ex 7 & 9)"},{"$f":"'TRAINING MATRIX'!AD$64","v":0}]
[{"$f":"'TRAINING MATRIX'!AF2","v":0},{"$f":"'TRAINING MATRIX'!AE$64","v":0}]
[{"$f":"'TRAINING MATRIX'!AF2","v":0},{"$f":"'TRAINING MATRIX'!AF$64","v":0}]
[{"$f":"'TRAINING MATRIX'!AG2","v":"TTB Climbing On & Off Vehicles"},{"$f":"'TRAINING MATRIX'!AG$64","v":0}]
[{"$f":"'TRAINING MATRIX'!AH2","v":"TTB Climbing On & Off Trailers & Load Decks"},{"$f":"'TRAINING MATRIX'!AH$64","v":0}]
[{"$f":"'TRAINING MATRIX'!AI2","v":"TTB Jumping To a Lifetime of Pain"},{"$f":"'TRAINING MATRIX'!AI$64","v":0}]
[{"$f":"'TRAINING MATRIX'!AJ2","v":"TTB Dealing With Cyclists"},{"$f":"'TRAINING MATRIX'!AJ$64","v":0}]
[{"$f":"'TRAINING MATRIX'!AK2","v":"TTB Fitness to Drive"},{"$f":"'TRAINING MATRIX'!AK$64","v":0}]
[{"$f":"'TRAINING MATRIX'!AL2","v":"TTB Loading & Unloading"},{"$f":"'TRAINING MATRIX'!AL$64","v":0}]
[{"$f":"'TRAINING MATRIX'!AM2","v":"TTB Protecting Vulnerable Road Users"},{"$f":"'TRAINING MATRIX'!AM$64","v":0}]
[{"$f":"'TRAINING MATRIX'!AN2","v":0},{"$f":"'TRAINING MATRIX'!AN$64","v":0}]
[{"$f":"'TRAINING MATRIX'!AO2","v":"SSOW Coupling and Uncoupling"},{"$f":"'TRAINING MATRIX'!AO$64","v":0}]
[{"$f":"'TRAINING MATRIX'!AP2","v":"SSOW Scanning Shed"},{"$f":"'TRAINING MATRIX'!AP$64","v":0}]
[{"$f":"'TRAINING MATRIX'!AQ2","v":"SWP Drivers Walkaround Checks"},{"$f":"'TRAINING MATRIX'!AQ$64","v":0}]
[{"$f":"'TRAINING MATRIX'!AR2","v":0},{"$f":"'TRAINING MATRIX'!AR$64","v":0}]
[{"$f":"'TRAINING MATRIX'!AS2","v":0},{"$f":"'TRAINING MATRIX'!AS$64","v":0}]
[{"$f":"'TRAINING MATRIX'!AT2","v":0},{"$f":"'TRAINING MATRIX'!AT$64","v":0}]
[{"$f":"'TRAINING MATRIX'!AU2","v":0},{"$f":"'TRAINING MATRIX'!AU$64","v":0}]
[{"$f":"'TRAINING MATRIX'!AV2","v":0},{"$f":"'TRAINING MATRIX'!AV$64","v":0}]
[{"$f":"'TRAINING MATRIX'!AW2","v":0},{"$f":"'TRAINING MATRIX'!AW$64","v":0}]
[{"$f":"'TRAINING MATRIX'!AX2","v":0},{"$f":"'TRAINING MATRIX'!AX$64","v":0}]
[{"$f":"'TRAINING MATRIX'!AY2","v":0},{"$f":"'TRAINING MATRIX'!AY$64","v":0}]
[{"$f":"'TRAINING MATRIX'!AZ2","v":0},{"$f":"'TRAINING MATRIX'!AZ$64","v":0}]

{"sheet":"Andrew Purves","index":64,"n_rows":52,"n_cols":2,"rows_kept":52,"cut":false,"hidden":false,"merged":[]}
["Driver Name","Completed / Issued"]
[{"$f":"'TRAINING MATRIX'!A65","v":"Purves Andrew"},{"$f":"'TRAINING MATRIX'!C65","v":"CE"}]
[{"$f":"'TRAINING MATRIX'!B$65","v":0}]
[{"$f":"'TRAINING MATRIX'!D2","v":0},{"$f":"'TRAINING MATRIX'!D$65","v":0}]
[{"$f":"'TRAINING MATRIX'!E2","v":0},{"$f":"'TRAINING MATRIX'!E$65","v":0}]
[{"$f":"'TRAINING MATRIX'!F2","v":0},{"$f":"'TRAINING MATRIX'!F$65","v":0}]
[{"$f":"'TRAINING MATRIX'!G2","v":"Assessed"},{"$f":"'TRAINING MATRIX'!G$65","v":0}]
[{"$f":"'TRAINING MATRIX'!H2","v":"Driver induction"},{"$f":"'TRAINING MATRIX'!H$65","v":"03.01.19"}]
[{"$f":"'TRAINING MATRIX'!I2","v":"Highway Code via KT"},{"$f":"'TRAINING MATRIX'!I$65","v":0}]
[{"$f":"'TRAINING MATRIX'!J2","v":"Drivers Code of Conduct"},{"$f":"'TRAINING MATRIX'!J$65","v":0}]
[{"$f":"'TRAINING MATRIX'!K2","v":"Smoking Policy"},{"$f":"'TRAINING MATRIX'!K$65","v":0}]
[{"$f":"'TRAINING MATRIX'!L2","v":"Mobile Communication Policy"},{"$f":"'TRAINING MATRIX'!L$65","v":"6.9.19"}]
[{"$f":"'TRAINING MATRIX'!N2","v":"Transport Charges & Fines Policy"},{"$f":"'TRAINING MATRIX'!N$65","v":"22.8.19"}]
[{"$f":"'TRAINING MATRIX'!M2","v":"Using Sat Nav"},{"$f":"'TRAINING MATRIX'!M$65","v":0}]
[{"$f":"'TRAINING MATRIX'!O2","v":"Goods Vehicle and Safety Policy"},{"$f":"'TRAINING MATRIX'!O$65","v":"25.8.19"}]
[{"$f":"'TRAINING MATRIX'!P2","v":"Safe Loading Policy"},{"$f":"'TRAINING MATRIX'!P$65","v":"25.8.19"}]
[{"$f":"'TRAINING MATRIX'!Q2","v":"Eye Sight Check"},{"$f":"'TRAINING MATRIX'!Q$65","v":0}]
[{"$f":"'TRAINING MATRIX'!R2","v":"Use of Tail lifts"},{"$f":"'TRAINING MATRIX'!X$65","v":"21.8.19"}]
[{"$f":"'TRAINING MATRIX'!S2","v":"CPC Periodic Training Module"},{"$f":"'TRAINING MATRIX'!Y$65","v":"5.9.19"}]
[{"$f":"'TRAINING MATRIX'!T2","v":"CPC Periodic Training Module"},{"$f":"'TRAINING MATRIX'!Z$65","v":0}]
[{"$f":"'TRAINING MATRIX'!U2","v":"CPC Periodic Training Module"},{"$f":"'TRAINING MATRIX'!AA$65","v":0}]
[{"$f":"'TRAINING MATRIX'!V2","v":"CPC Periodic Training Module"},{"$f":"'TRAINING MATRIX'!AB$65","v":0}]
[{"$f":"'TRAINING MATRIX'!W2","v":"CPC Periodic Training Module"},{"$f":"'TRAINING MATRIX'!AC$65","v":0}]
[{"$f":"'TRAINING MATRIX'!X2","v":"FORS Security and Counter-Terrorism"},{"$f":"'TRAINING MATRIX'!X$65","v":"21.8.19"}]
[{"$f":"'TRAINING MATRIX'!Y2","v":"FORS BridgeSmart"},{"$f":"'TRAINING MATRIX'!Y$65","v":"5.9.19"}]
[{"$f":"'TRAINING MATRIX'!D2","v":0},{"$f":"'TRAINING MATRIX'!Z$65","v":0}]
[{"$f":"'TRAINING MATRIX'!AA2","v":"FORS LoCity"},{"$f":"'TRAINING MATRIX'!AA$65","v":0}]
[{"$f":"'TRAINING MATRIX'!AB2","v":"FORS SmartDeliveries"},{"$f":"'TRAINING MATRIX'!AB$65","v":0}]
[{"$f":"'TRAINING MATRIX'!AD2","v":"ADR Awareness"},{"$f":"'TRAINING MATRIX'!AC$65","v":0}]
[{"$f":"'TRAINING MATRIX'!AE2","v":"ADR (Core, Packages and All Classes ex 7 & 9)"},{"$f":"'TRAINING MATRIX'!AD$65","v":0}]
[{"$f":"'TRAINING MATRIX'!AF2","v":0},{"$f":"'TRAINING MATRIX'!AE$65","v":0}]
[{"$f":"'TRAINING MATRIX'!AF2","v":0},{"$f":"'TRAINING MATRIX'!AF$65","v":0}]
[{"$f":"'TRAINING MATRIX'!AG2","v":"TTB Climbing On & Off Vehicles"},{"$f":"'TRAINING MATRIX'!AG$65","v":"22.8.19"}]
[{"$f":"'TRAINING MATRIX'!AH2","v":"TTB Climbing On & Off Trailers & Load Decks"},{"$f":"'TRAINING MATRIX'!AH$65","v":"25.8.19"}]
[{"$f":"'TRAINING MATRIX'!AI2","v":"TTB Jumping To a Lifetime of Pain"},{"$f":"'TRAINING MATRIX'!AI$65","v":"25.8.19"}]
[{"$f":"'TRAINING MATRIX'!AJ2","v":"TTB Dealing With Cyclists"},{"$f":"'TRAINING MATRIX'!AJ$65","v":"25.8.19"}]
[{"$f":"'TRAINING MATRIX'!AK2","v":"TTB Fitness to Drive"},{"$f":"'TRAINING MATRIX'!AK$65","v":"25.8.19"}]
[{"$f":"'TRAINING MATRIX'!AL2","v":"TTB Loading & Unloading"},{"$f":"'TRAINING MATRIX'!AL$65","v":"25.8.19"}]
[{"$f":"'TRAINING MATRIX'!AM2","v":"TTB Protecting Vulnerable Road Users"},{"$f":"'TRAINING MATRIX'!AM$65","v":"25.8.19"}]
[{"$f":"'TRAINING MATRIX'!AN2","v":0},{"$f":"'TRAINING MATRIX'!AN$65","v":0}]
[{"$f":"'TRAINING MATRIX'!AO2","v":"SSOW Coupling and Uncoupling"},{"$f":"'TRAINING MATRIX'!AO$65","v":0}]
[{"$f":"'TRAINING MATRIX'!AP2","v":"SSOW Scanning Shed"},{"$f":"'TRAINING MATRIX'!AP$65","v":0}]
[{"$f":"'TRAINING MATRIX'!AQ2","v":"SWP Drivers Walkaround Checks"},{"$f":"'TRAINING MATRIX'!AQ$65","v":0}]
[{"$f":"'TRAINING MATRIX'!AR2","v":0},{"$f":"'TRAINING MATRIX'!AR$65","v":0}]
[{"$f":"'TRAINING MATRIX'!AS2","v":0},{"$f":"'TRAINING MATRIX'!AS$65","v":0}]
[{"$f":"'TRAINING MATRIX'!AT2","v":0},{"$f":"'TRAINING MATRIX'!AT$65","v":0}]
[{"$f":"'TRAINING MATRIX'!AU2","v":0},{"$f":"'TRAINING MATRIX'!AU$65","v":0}]
[{"$f":"'TRAINING MATRIX'!AV2","v":0},{"$f":"'TRAINING MATRIX'!AV$65","v":0}]
[{"$f":"'TRAINING MATRIX'!AW2","v":0},{"$f":"'TRAINING MATRIX'!AW$65","v":0}]
[{"$f":"'TRAINING MATRIX'!AX2","v":0},{"$f":"'TRAINING MATRIX'!AX$65","v":0}]
[{"$f":"'TRAINING MATRIX'!AY2","v":0},{"$f":"'TRAINING MATRIX'!AY$65","v":0}]
[{"$f":"'TRAINING MATRIX'!AZ2","v":0},{"$f":"'TRAINING MATRIX'!AZ$65","v":0}]

{"sheet":"Andrew Randall","index":65,"n_rows":52,"n_cols":2,"rows_kept":52,"cut":false,"hidden":false,"merged":[]}
["Driver Name","Completed / Issued"]
[{"$f":"'TRAINING MATRIX'!A66","v":"Randall Andy"},{"$f":"'TRAINING MATRIX'!C66","v":"C"}]
[{"$f":"'TRAINING MATRIX'!B$66","v":0}]
[{"$f":"'TRAINING MATRIX'!D2","v":0},{"$f":"'TRAINING MATRIX'!D$66","v":0}]
[{"$f":"'TRAINING MATRIX'!E2","v":0},{"$f":"'TRAINING MATRIX'!E$66","v":0}]
[{"$f":"'TRAINING MATRIX'!F2","v":0},{"$f":"'TRAINING MATRIX'!F$66","v":0}]
[{"$f":"'TRAINING MATRIX'!G2","v":"Assessed"},{"$f":"'TRAINING MATRIX'!G$66","v":0}]
[{"$f":"'TRAINING MATRIX'!H2","v":"Driver induction"},{"$f":"'TRAINING MATRIX'!H$66","v":0}]
[{"$f":"'TRAINING MATRIX'!I2","v":"Highway Code via KT"},{"$f":"'TRAINING MATRIX'!I$66","v":0}]
[{"$f":"'TRAINING MATRIX'!J2","v":"Drivers Code of Conduct"},{"$f":"'TRAINING MATRIX'!J$66","v":0}]
[{"$f":"'TRAINING MATRIX'!K2","v":"Smoking Policy"},{"$f":"'TRAINING MATRIX'!K$66","v":0}]
[{"$f":"'TRAINING MATRIX'!L2","v":"Mobile Communication Policy"},{"$f":"'TRAINING MATRIX'!L$66","v":"6.9.19"}]
[{"$f":"'TRAINING MATRIX'!N2","v":"Transport Charges & Fines Policy"},{"$f":"'TRAINING MATRIX'!N$66","v":"22.8.19"}]
[{"$f":"'TRAINING MATRIX'!M2","v":"Using Sat Nav"},{"$f":"'TRAINING MATRIX'!M$66","v":0}]
[{"$f":"'TRAINING MATRIX'!O2","v":"Goods Vehicle and Safety Policy"},{"$f":"'TRAINING MATRIX'!O$66","v":"25.8.19"}]
[{"$f":"'TRAINING MATRIX'!P2","v":"Safe Loading Policy"},{"$f":"'TRAINING MATRIX'!P$66","v":"25.8.19"}]
[{"$f":"'TRAINING MATRIX'!Q2","v":"Eye Sight Check"},{"$f":"'TRAINING MATRIX'!Q$66","v":"21.8.19"}]
[{"$f":"'TRAINING MATRIX'!R2","v":"Use of Tail lifts"},{"$f":"'TRAINING MATRIX'!X$66","v":"21.8.19"}]
[{"$f":"'TRAINING MATRIX'!S2","v":"CPC Periodic Training Module"},{"$f":"'TRAINING MATRIX'!Y$66","v":"5.9.19"}]
[{"$f":"'TRAINING MATRIX'!T2","v":"CPC Periodic Training Module"},{"$f":"'TRAINING MATRIX'!Z$66","v":0}]
[{"$f":"'TRAINING MATRIX'!U2","v":"CPC Periodic Training Module"},{"$f":"'TRAINING MATRIX'!AA$66","v":0}]
[{"$f":"'TRAINING MATRIX'!V2","v":"CPC Periodic Training Module"},{"$f":"'TRAINING MATRIX'!AB$66","v":0}]
[{"$f":"'TRAINING MATRIX'!W2","v":"CPC Periodic Training Module"},{"$f":"'TRAINING MATRIX'!AC$66","v":0}]
[{"$f":"'TRAINING MATRIX'!X2","v":"FORS Security and Counter-Terrorism"},{"$f":"'TRAINING MATRIX'!X$66","v":"21.8.19"}]
[{"$f":"'TRAINING MATRIX'!Y2","v":"FORS BridgeSmart"},{"$f":"'TRAINING MATRIX'!Y$66","v":"5.9.19"}]
[{"$f":"'TRAINING MATRIX'!D2","v":0},{"$f":"'TRAINING MATRIX'!Z$66","v":0}]
[{"$f":"'TRAINING MATRIX'!AA2","v":"FORS LoCity"},{"$f":"'TRAINING MATRIX'!AA$66","v":0}]
[{"$f":"'TRAINING MATRIX'!AB2","v":"FORS SmartDeliveries"},{"$f":"'TRAINING MATRIX'!AB$66","v":0}]
[{"$f":"'TRAINING MATRIX'!AD2","v":"ADR Awareness"},{"$f":"'TRAINING MATRIX'!AC$66","v":0}]
[{"$f":"'TRAINING MATRIX'!AE2","v":"ADR (Core, Packages and All Classes ex 7 & 9)"},{"$f":"'TRAINING MATRIX'!AD$66","v":0}]
[{"$f":"'TRAINING MATRIX'!AF2","v":0},{"$f":"'TRAINING MATRIX'!AE$66","v":0}]
[{"$f":"'TRAINING MATRIX'!AF2","v":0},{"$f":"'TRAINING MATRIX'!AF$66","v":0}]
[{"$f":"'TRAINING MATRIX'!AG2","v":"TTB Climbing On & Off Vehicles"},{"$f":"'TRAINING MATRIX'!AG$66","v":"22.8.19"}]
[{"$f":"'TRAINING MATRIX'!AH2","v":"TTB Climbing On & Off Trailers & Load Decks"},{"$f":"'TRAINING MATRIX'!AH$66","v":"25.8.19"}]
[{"$f":"'TRAINING MATRIX'!AI2","v":"TTB Jumping To a Lifetime of Pain"},{"$f":"'TRAINING MATRIX'!AI$66","v":"25.8.19"}]
[{"$f":"'TRAINING MATRIX'!AJ2","v":"TTB Dealing With Cyclists"},{"$f":"'TRAINING MATRIX'!AJ$66","v":"25.8.19"}]
[{"$f":"'TRAINING MATRIX'!AK2","v":"TTB Fitness to Drive"},{"$f":"'TRAINING MATRIX'!AK$66","v":"25.8.19"}]
[{"$f":"'TRAINING MATRIX'!AL2","v":"TTB Loading & Unloading"},{"$f":"'TRAINING MATRIX'!AL$66","v":"25.8.19"}]
[{"$f":"'TRAINING MATRIX'!AM2","v":"TTB Protecting Vulnerable Road Users"},{"$f":"'TRAINING MATRIX'!AM$66","v":"25.8.19"}]
[{"$f":"'TRAINING MATRIX'!AN2","v":0},{"$f":"'TRAINING MATRIX'!AN$66","v":0}]
[{"$f":"'TRAINING MATRIX'!AO2","v":"SSOW Coupling and Uncoupling"},{"$f":"'TRAINING MATRIX'!AO$66","v":0}]
[{"$f":"'TRAINING MATRIX'!AP2","v":"SSOW Scanning Shed"},{"$f":"'TRAINING MATRIX'!AP$66","v":0}]
[{"$f":"'TRAINING MATRIX'!AQ2","v":"SWP Drivers Walkaround Checks"},{"$f":"'TRAINING MATRIX'!AQ$66","v":0}]
[{"$f":"'TRAINING MATRIX'!AR2","v":0},{"$f":"'TRAINING MATRIX'!AR$66","v":0}]
[{"$f":"'TRAINING MATRIX'!AS2","v":0},{"$f":"'TRAINING MATRIX'!AS$66","v":0}]
[{"$f":"'TRAINING MATRIX'!AT2","v":0},{"$f":"'TRAINING MATRIX'!AT$66","v":0}]
[{"$f":"'TRAINING MATRIX'!AU2","v":0},{"$f":"'TRAINING MATRIX'!AU$66","v":0}]
[{"$f":"'TRAINING MATRIX'!AV2","v":0},{"$f":"'TRAINING MATRIX'!AV$66","v":0}]
[{"$f":"'TRAINING MATRIX'!AW2","v":0},{"$f":"'TRAINING MATRIX'!AW$66","v":0}]
[{"$f":"'TRAINING MATRIX'!AX2","v":0},{"$f":"'TRAINING MATRIX'!AX$66","v":0}]
[{"$f":"'TRAINING MATRIX'!AY2","v":0},{"$f":"'TRAINING MATRIX'!AY$66","v":0}]
[{"$f":"'TRAINING MATRIX'!AZ2","v":0},{"$f":"'TRAINING MATRIX'!AZ$66","v":0}]

{"sheet":"Kishor Rathod","index":66,"n_rows":52,"n_cols":2,"rows_kept":52,"cut":false,"hidden":false,"merged":[]}
["Driver Name","Completed / Issued"]
[{"$f":"'TRAINING MATRIX'!A67","v":"Rathod Kishor"},{"$f":"'TRAINING MATRIX'!C67","v":"C1"}]
[{"$f":"'TRAINING MATRIX'!B$67","v":0}]
[{"$f":"'TRAINING MATRIX'!D2","v":0},{"$f":"'TRAINING MATRIX'!D$67","v":0}]
[{"$f":"'TRAINING MATRIX'!E2","v":0},{"$f":"'TRAINING MATRIX'!E$67","v":0}]
[{"$f":"'TRAINING MATRIX'!F2","v":0},{"$f":"'TRAINING MATRIX'!F$67","v":0}]
[{"$f":"'TRAINING MATRIX'!G2","v":"Assessed"},{"$f":"'TRAINING MATRIX'!G$67","v":"15.01.19"}]
[{"$f":"'TRAINING MATRIX'!H2","v":"Driver induction"},{"$f":"'TRAINING MATRIX'!H$67","v":"15.01.19"}]
[{"$f":"'TRAINING MATRIX'!I2","v":"Highway Code via KT"},{"$f":"'TRAINING MATRIX'!I$67","v":0}]
[{"$f":"'TRAINING MATRIX'!J2","v":"Drivers Code of Conduct"},{"$f":"'TRAINING MATRIX'!J$67","v":0}]
[{"$f":"'TRAINING MATRIX'!K2","v":"Smoking Policy"},{"$f":"'TRAINING MATRIX'!K$67","v":0}]
[{"$f":"'TRAINING MATRIX'!L2","v":"Mobile Communication Policy"},{"$f":"'TRAINING MATRIX'!L$67","v":"6.9.19"}]
[{"$f":"'TRAINING MATRIX'!N2","v":"Transport Charges & Fines Policy"},{"$f":"'TRAINING MATRIX'!N$67","v":"22.8.19"}]
[{"$f":"'TRAINING MATRIX'!M2","v":"Using Sat Nav"},{"$f":"'TRAINING MATRIX'!M$67","v":0}]
[{"$f":"'TRAINING MATRIX'!O2","v":"Goods Vehicle and Safety Policy"},{"$f":"'TRAINING MATRIX'!O$67","v":"25.8.19"}]
[{"$f":"'TRAINING MATRIX'!P2","v":"Safe Loading Policy"},{"$f":"'TRAINING MATRIX'!P$67","v":"25.8.19"}]
[{"$f":"'TRAINING MATRIX'!Q2","v":"Eye Sight Check"},{"$f":"'TRAINING MATRIX'!Q$67","v":"21.8.19"}]
[{"$f":"'TRAINING MATRIX'!R2","v":"Use of Tail lifts"},{"$f":"'TRAINING MATRIX'!X$67","v":"21.8.19"}]
[{"$f":"'TRAINING MATRIX'!S2","v":"CPC Periodic Training Module"},{"$f":"'TRAINING MATRIX'!Y$67","v":"5.9.19"}]
[{"$f":"'TRAINING MATRIX'!T2","v":"CPC Periodic Training Module"},{"$f":"'TRAINING MATRIX'!Z$67","v":0}]
[{"$f":"'TRAINING MATRIX'!U2","v":"CPC Periodic Training Module"},{"$f":"'TRAINING MATRIX'!AA$67","v":0}]
[{"$f":"'TRAINING MATRIX'!V2","v":"CPC Periodic Training Module"},{"$f":"'TRAINING MATRIX'!AB$67","v":0}]
[{"$f":"'TRAINING MATRIX'!W2","v":"CPC Periodic Training Module"},{"$f":"'TRAINING MATRIX'!AC$67","v":0}]
[{"$f":"'TRAINING MATRIX'!X2","v":"FORS Security and Counter-Terrorism"},{"$f":"'TRAINING MATRIX'!X$67","v":"21.8.19"}]
[{"$f":"'TRAINING MATRIX'!Y2","v":"FORS BridgeSmart"},{"$f":"'TRAINING MATRIX'!Y$67","v":"5.9.19"}]
[{"$f":"'TRAINING MATRIX'!D2","v":0},{"$f":"'TRAINING MATRIX'!Z$67","v":0}]
[{"$f":"'TRAINING MATRIX'!AA2","v":"FORS LoCity"},{"$f":"'TRAINING MATRIX'!AA$67","v":0}]
[{"$f":"'TRAINING MATRIX'!AB2","v":"FORS SmartDeliveries"},{"$f":"'TRAINING MATRIX'!AB$67","v":0}]
[{"$f":"'TRAINING MATRIX'!AD2","v":"ADR Awareness"},{"$f":"'TRAINING MATRIX'!AC$67","v":0}]
[{"$f":"'TRAINING MATRIX'!AE2","v":"ADR (Core, Packages and All Classes ex 7 & 9)"},{"$f":"'TRAINING MATRIX'!AD$67","v":0}]
[{"$f":"'TRAINING MATRIX'!AF2","v":0},{"$f":"'TRAINING MATRIX'!AE$67","v":0}]
[{"$f":"'TRAINING MATRIX'!AF2","v":0},{"$f":"'TRAINING MATRIX'!AF$67","v":0}]
[{"$f":"'TRAINING MATRIX'!AG2","v":"TTB Climbing On & Off Vehicles"},{"$f":"'TRAINING MATRIX'!AG$67","v":"22.8.19"}]
[{"$f":"'TRAINING MATRIX'!AH2","v":"TTB Climbing On & Off Trailers & Load Decks"},{"$f":"'TRAINING MATRIX'!AH$67","v":"25.8.19"}]
[{"$f":"'TRAINING MATRIX'!AI2","v":"TTB Jumping To a Lifetime of Pain"},{"$f":"'TRAINING MATRIX'!AI$67","v":"25.8.19"}]
[{"$f":"'TRAINING MATRIX'!AJ2","v":"TTB Dealing With Cyclists"},{"$f":"'TRAINING MATRIX'!AJ$67","v":"25.8.19"}]
[{"$f":"'TRAINING MATRIX'!AK2","v":"TTB Fitness to Drive"},{"$f":"'TRAINING MATRIX'!AK$67","v":"25.8.19"}]
[{"$f":"'TRAINING MATRIX'!AL2","v":"TTB Loading & Unloading"},{"$f":"'TRAINING MATRIX'!AL$67","v":"25.8.19"}]
[{"$f":"'TRAINING MATRIX'!AM2","v":"TTB Protecting Vulnerable Road Users"},{"$f":"'TRAINING MATRIX'!AM$67","v":"25.8.19"}]
[{"$f":"'TRAINING MATRIX'!AN2","v":0},{"$f":"'TRAINING MATRIX'!AN$67","v":0}]
[{"$f":"'TRAINING MATRIX'!AO2","v":"SSOW Coupling and Uncoupling"},{"$f":"'TRAINING MATRIX'!AO$67","v":0}]
[{"$f":"'TRAINING MATRIX'!AP2","v":"SSOW Scanning Shed"},{"$f":"'TRAINING MATRIX'!AP$67","v":0}]
[{"$f":"'TRAINING MATRIX'!AQ2","v":"SWP Drivers Walkaround Checks"},{"$f":"'TRAINING MATRIX'!AQ$67","v":0}]
[{"$f":"'TRAINING MATRIX'!AR2","v":0},{"$f":"'TRAINING MATRIX'!AR$67","v":0}]
[{"$f":"'TRAINING MATRIX'!AS2","v":0},{"$f":"'TRAINING MATRIX'!AS$67","v":0}]
[{"$f":"'TRAINING MATRIX'!AT2","v":0},{"$f":"'TRAINING MATRIX'!AT$67","v":0}]
[{"$f":"'TRAINING MATRIX'!AU2","v":0},{"$f":"'TRAINING MATRIX'!AU$67","v":0}]
[{"$f":"'TRAINING MATRIX'!AV2","v":0},{"$f":"'TRAINING MATRIX'!AV$67","v":0}]
[{"$f":"'TRAINING MATRIX'!AW2","v":0},{"$f":"'TRAINING MATRIX'!AW$67","v":0}]
[{"$f":"'TRAINING MATRIX'!AX2","v":0},{"$f":"'TRAINING MATRIX'!AX$67","v":0}]
[{"$f":"'TRAINING MATRIX'!AY2","v":0},{"$f":"'TRAINING MATRIX'!AY$67","v":0}]
[{"$f":"'TRAINING MATRIX'!AZ2","v":0},{"$f":"'TRAINING MATRIX'!AZ$67","v":0}]

{"sheet":"Jonathan Reynolds","index":67,"n_rows":52,"n_cols":2,"rows_kept":52,"cut":false,"hidden":false,"merged":[]}
["Driver Name","Completed / Issued"]
[{"$f":"'TRAINING MATRIX'!A68","v":"Reynolds Jonathan"},{"$f":"'TRAINING MATRIX'!C68","v":"C"}]
[{"$f":"'TRAINING MATRIX'!B$68","v":0}]
[{"$f":"'TRAINING MATRIX'!D2","v":0},{"$f":"'TRAINING MATRIX'!D$68","v":0}]
[{"$f":"'TRAINING MATRIX'!E2","v":0},{"$f":"'TRAINING MATRIX'!E$68","v":0}]
[{"$f":"'TRAINING MATRIX'!F2","v":0},{"$f":"'TRAINING MATRIX'!F$68","v":0}]
[{"$f":"'TRAINING MATRIX'!G2","v":"Assessed"},{"$f":"'TRAINING MATRIX'!G$68","v":0}]
[{"$f":"'TRAINING MATRIX'!H2","v":"Driver induction"},{"$f":"'TRAINING MATRIX'!H$68","v":0}]
[{"$f":"'TRAINING MATRIX'!I2","v":"Highway Code via KT"},{"$f":"'TRAINING MATRIX'!I$68","v":0}]
[{"$f":"'TRAINING MATRIX'!J2","v":"Drivers Code of Conduct"},{"$f":"'TRAINING MATRIX'!J$68","v":0}]
[{"$f":"'TRAINING MATRIX'!K2","v":"Smoking Policy"},{"$f":"'TRAINING MATRIX'!K$68","v":0}]
[{"$f":"'TRAINING MATRIX'!L2","v":"Mobile Communication Policy"},{"$f":"'TRAINING MATRIX'!L$68","v":"6.9.19"}]
[{"$f":"'TRAINING MATRIX'!N2","v":"Transport Charges & Fines Policy"},{"$f":"'TRAINING MATRIX'!N$68","v":"22.8.19"}]
[{"$f":"'TRAINING MATRIX'!M2","v":"Using Sat Nav"},{"$f":"'TRAINING MATRIX'!M$68","v":0}]
[{"$f":"'TRAINING MATRIX'!O2","v":"Goods Vehicle and Safety Policy"},{"$f":"'TRAINING MATRIX'!O$68","v":"25.8.19"}]
[{"$f":"'TRAINING MATRIX'!P2","v":"Safe Loading Policy"},{"$f":"'TRAINING MATRIX'!P$68","v":"25.8.19"}]
[{"$f":"'TRAINING MATRIX'!Q2","v":"Eye Sight Check"},{"$f":"'TRAINING MATRIX'!Q$68","v":"18.9.19"}]
[{"$f":"'TRAINING MATRIX'!R2","v":"Use of Tail lifts"},{"$f":"'TRAINING MATRIX'!X$68","v":"21.8.19"}]
[{"$f":"'TRAINING MATRIX'!S2","v":"CPC Periodic Training Module"},{"$f":"'TRAINING MATRIX'!Y$68","v":"5.9.19"}]
[{"$f":"'TRAINING MATRIX'!T2","v":"CPC Periodic Training Module"},{"$f":"'TRAINING MATRIX'!Z$68","v":0}]
[{"$f":"'TRAINING MATRIX'!U2","v":"CPC Periodic Training Module"},{"$f":"'TRAINING MATRIX'!AA$68","v":0}]
[{"$f":"'TRAINING MATRIX'!V2","v":"CPC Periodic Training Module"},{"$f":"'TRAINING MATRIX'!AB$68","v":0}]
[{"$f":"'TRAINING MATRIX'!W2","v":"CPC Periodic Training Module"},{"$f":"'TRAINING MATRIX'!AC$68","v":0}]
[{"$f":"'TRAINING MATRIX'!X2","v":"FORS Security and Counter-Terrorism"},{"$f":"'TRAINING MATRIX'!X$68","v":"21.8.19"}]
[{"$f":"'TRAINING MATRIX'!Y2","v":"FORS BridgeSmart"},{"$f":"'TRAINING MATRIX'!Y$68","v":"5.9.19"}]
[{"$f":"'TRAINING MATRIX'!D2","v":0},{"$f":"'TRAINING MATRIX'!Z$68","v":0}]
[{"$f":"'TRAINING MATRIX'!AA2","v":"FORS LoCity"},{"$f":"'TRAINING MATRIX'!AA$68","v":0}]
[{"$f":"'TRAINING MATRIX'!AB2","v":"FORS SmartDeliveries"},{"$f":"'TRAINING MATRIX'!AB$68","v":0}]
[{"$f":"'TRAINING MATRIX'!AD2","v":"ADR Awareness"},{"$f":"'TRAINING MATRIX'!AC$68","v":0}]
[{"$f":"'TRAINING MATRIX'!AE2","v":"ADR (Core, Packages and All Classes ex 7 & 9)"},{"$f":"'TRAINING MATRIX'!AD$68","v":0}]
[{"$f":"'TRAINING MATRIX'!AF2","v":0},{"$f":"'TRAINING MATRIX'!AE$68","v":0}]
[{"$f":"'TRAINING MATRIX'!AF2","v":0},{"$f":"'TRAINING MATRIX'!AF$68","v":0}]
[{"$f":"'TRAINING MATRIX'!AG2","v":"TTB Climbing On & Off Vehicles"},{"$f":"'TRAINING MATRIX'!AG$68","v":"22.8.19"}]
[{"$f":"'TRAINING MATRIX'!AH2","v":"TTB Climbing On & Off Trailers & Load Decks"},{"$f":"'TRAINING MATRIX'!AH$68","v":"25.8.19"}]
[{"$f":"'TRAINING MATRIX'!AI2","v":"TTB Jumping To a Lifetime of Pain"},{"$f":"'TRAINING MATRIX'!AI$68","v":"25.8.19"}]
[{"$f":"'TRAINING MATRIX'!AJ2","v":"TTB Dealing With Cyclists"},{"$f":"'TRAINING MATRIX'!AJ$68","v":"25.8.19"}]
[{"$f":"'TRAINING MATRIX'!AK2","v":"TTB Fitness to Drive"},{"$f":"'TRAINING MATRIX'!AK$68","v":"25.8.19"}]
[{"$f":"'TRAINING MATRIX'!AL2","v":"TTB Loading & Unloading"},{"$f":"'TRAINING MATRIX'!AL$68","v":"25.8.19"}]
[{"$f":"'TRAINING MATRIX'!AM2","v":"TTB Protecting Vulnerable Road Users"},{"$f":"'TRAINING MATRIX'!AM$68","v":"25.8.19"}]
[{"$f":"'TRAINING MATRIX'!AN2","v":0},{"$f":"'TRAINING MATRIX'!AN$68","v":0}]
[{"$f":"'TRAINING MATRIX'!AO2","v":"SSOW Coupling and Uncoupling"},{"$f":"'TRAINING MATRIX'!AO$68","v":0}]
[{"$f":"'TRAINING MATRIX'!AP2","v":"SSOW Scanning Shed"},{"$f":"'TRAINING MATRIX'!AP$68","v":0}]
[{"$f":"'TRAINING MATRIX'!AQ2","v":"SWP Drivers Walkaround Checks"},{"$f":"'TRAINING MATRIX'!AQ$68","v":0}]
[{"$f":"'TRAINING MATRIX'!AR2","v":0},{"$f":"'TRAINING MATRIX'!AR$68","v":0}]
[{"$f":"'TRAINING MATRIX'!AS2","v":0},{"$f":"'TRAINING MATRIX'!AS$68","v":0}]
[{"$f":"'TRAINING MATRIX'!AT2","v":0},{"$f":"'TRAINING MATRIX'!AT$68","v":0}]
[{"$f":"'TRAINING MATRIX'!AU2","v":0},{"$f":"'TRAINING MATRIX'!AU$68","v":0}]
[{"$f":"'TRAINING MATRIX'!AV2","v":0},{"$f":"'TRAINING MATRIX'!AV$68","v":0}]
[{"$f":"'TRAINING MATRIX'!AW2","v":0},{"$f":"'TRAINING MATRIX'!AW$68","v":0}]
[{"$f":"'TRAINING MATRIX'!AX2","v":0},{"$f":"'TRAINING MATRIX'!AX$68","v":0}]
[{"$f":"'TRAINING MATRIX'!AY2","v":0},{"$f":"'TRAINING MATRIX'!AY$68","v":0}]
[{"$f":"'TRAINING MATRIX'!AZ2","v":0},{"$f":"'TRAINING MATRIX'!AZ$68","v":0}]

{"sheet":"Lewis Robinson","index":68,"n_rows":52,"n_cols":2,"rows_kept":52,"cut":false,"hidden":false,"merged":[]}
["Driver Name","Completed / Issued"]
[{"$f":"'TRAINING MATRIX'!A69","v":"Robinson Lewis"},{"$f":"'TRAINING MATRIX'!C69","v":"CE"}]
[{"$f":"'TRAINING MATRIX'!B$69","v":0}]
[{"$f":"'TRAINING MATRIX'!D2","v":0},{"$f":"'TRAINING MATRIX'!D$69","v":0}]
[{"$f":"'TRAINING MATRIX'!E2","v":0},{"$f":"'TRAINING MATRIX'!E$69","v":0}]
[{"$f":"'TRAINING MATRIX'!F2","v":0},{"$f":"'TRAINING MATRIX'!F$69","v":0}]
[{"$f":"'TRAINING MATRIX'!G2","v":"Assessed"},{"$f":"'TRAINING MATRIX'!G$69","v":0}]
[{"$f":"'TRAINING MATRIX'!H2","v":"Driver induction"},{"$f":"'TRAINING MATRIX'!H$69","v":"28.02.18"}]
[{"$f":"'TRAINING MATRIX'!I2","v":"Highway Code via KT"},{"$f":"'TRAINING MATRIX'!I$69","v":0}]
[{"$f":"'TRAINING MATRIX'!J2","v":"Drivers Code of Conduct"},{"$f":"'TRAINING MATRIX'!J$69","v":0}]
[{"$f":"'TRAINING MATRIX'!K2","v":"Smoking Policy"},{"$f":"'TRAINING MATRIX'!K$69","v":0}]
[{"$f":"'TRAINING MATRIX'!L2","v":"Mobile Communication Policy"},{"$f":"'TRAINING MATRIX'!L$69","v":"6.9.19"}]
[{"$f":"'TRAINING MATRIX'!N2","v":"Transport Charges & Fines Policy"},{"$f":"'TRAINING MATRIX'!N$69","v":"22.8.19"}]
[{"$f":"'TRAINING MATRIX'!M2","v":"Using Sat Nav"},{"$f":"'TRAINING MATRIX'!M$69","v":0}]
[{"$f":"'TRAINING MATRIX'!O2","v":"Goods Vehicle and Safety Policy"},{"$f":"'TRAINING MATRIX'!O$69","v":"25.8.19"}]
[{"$f":"'TRAINING MATRIX'!P2","v":"Safe Loading Policy"},{"$f":"'TRAINING MATRIX'!P$69","v":"25.8.19"}]
[{"$f":"'TRAINING MATRIX'!Q2","v":"Eye Sight Check"},{"$f":"'TRAINING MATRIX'!Q$69","v":0}]
[{"$f":"'TRAINING MATRIX'!R2","v":"Use of Tail lifts"},{"$f":"'TRAINING MATRIX'!X$69","v":"21.8.19"}]
[{"$f":"'TRAINING MATRIX'!S2","v":"CPC Periodic Training Module"},{"$f":"'TRAINING MATRIX'!Y$69","v":"5.9.19"}]
[{"$f":"'TRAINING MATRIX'!T2","v":"CPC Periodic Training Module"},{"$f":"'TRAINING MATRIX'!Z$69","v":0}]
[{"$f":"'TRAINING MATRIX'!U2","v":"CPC Periodic Training Module"},{"$f":"'TRAINING MATRIX'!AA$69","v":0}]
[{"$f":"'TRAINING MATRIX'!V2","v":"CPC Periodic Training Module"},{"$f":"'TRAINING MATRIX'!AB$69","v":0}]
[{"$f":"'TRAINING MATRIX'!W2","v":"CPC Periodic Training Module"},{"$f":"'TRAINING MATRIX'!AC$69","v":0}]
[{"$f":"'TRAINING MATRIX'!X2","v":"FORS Security and Counter-Terrorism"},{"$f":"'TRAINING MATRIX'!X$69","v":"21.8.19"}]
[{"$f":"'TRAINING MATRIX'!Y2","v":"FORS BridgeSmart"},{"$f":"'TRAINING MATRIX'!Y$69","v":"5.9.19"}]
[{"$f":"'TRAINING MATRIX'!D2","v":0},{"$f":"'TRAINING MATRIX'!Z$69","v":0}]
[{"$f":"'TRAINING MATRIX'!AA2","v":"FORS LoCity"},{"$f":"'TRAINING MATRIX'!AA$69","v":0}]
[{"$f":"'TRAINING MATRIX'!AB2","v":"FORS SmartDeliveries"},{"$f":"'TRAINING MATRIX'!AB$69","v":0}]
[{"$f":"'TRAINING MATRIX'!AD2","v":"ADR Awareness"},{"$f":"'TRAINING MATRIX'!AC$69","v":0}]
[{"$f":"'TRAINING MATRIX'!AE2","v":"ADR (Core, Packages and All Classes ex 7 & 9)"},{"$f":"'TRAINING MATRIX'!AD$69","v":0}]
[{"$f":"'TRAINING MATRIX'!AF2","v":0},{"$f":"'TRAINING MATRIX'!AE$69","v":0}]
[{"$f":"'TRAINING MATRIX'!AF2","v":0},{"$f":"'TRAINING MATRIX'!AF$69","v":0}]
[{"$f":"'TRAINING MATRIX'!AG2","v":"TTB Climbing On & Off Vehicles"},{"$f":"'TRAINING MATRIX'!AG$69","v":"22.8.19"}]
[{"$f":"'TRAINING MATRIX'!AH2","v":"TTB Climbing On & Off Trailers & Load Decks"},{"$f":"'TRAINING MATRIX'!AH$69","v":"25.8.19"}]
[{"$f":"'TRAINING MATRIX'!AI2","v":"TTB Jumping To a Lifetime of Pain"},{"$f":"'TRAINING MATRIX'!AI$69","v":"25.8.19"}]
[{"$f":"'TRAINING MATRIX'!AJ2","v":"TTB Dealing With Cyclists"},{"$f":"'TRAINING MATRIX'!AJ$69","v":"25.8.19"}]
[{"$f":"'TRAINING MATRIX'!AK2","v":"TTB Fitness to Drive"},{"$f":"'TRAINING MATRIX'!AK$69","v":"25.8.19"}]
[{"$f":"'TRAINING MATRIX'!AL2","v":"TTB Loading & Unloading"},{"$f":"'TRAINING MATRIX'!AL$69","v":"25.8.19"}]
[{"$f":"'TRAINING MATRIX'!AM2","v":"TTB Protecting Vulnerable Road Users"},{"$f":"'TRAINING MATRIX'!AM$69","v":"25.8.19"}]
[{"$f":"'TRAINING MATRIX'!AN2","v":0},{"$f":"'TRAINING MATRIX'!AN$69","v":0}]
[{"$f":"'TRAINING MATRIX'!AO2","v":"SSOW Coupling and Uncoupling"},{"$f":"'TRAINING MATRIX'!AO$69","v":0}]
[{"$f":"'TRAINING MATRIX'!AP2","v":"SSOW Scanning Shed"},{"$f":"'TRAINING MATRIX'!AP$69","v":0}]
[{"$f":"'TRAINING MATRIX'!AQ2","v":"SWP Drivers Walkaround Checks"},{"$f":"'TRAINING MATRIX'!AQ$69","v":0}]
[{"$f":"'TRAINING MATRIX'!AR2","v":0},{"$f":"'TRAINING MATRIX'!AR$69","v":0}]
[{"$f":"'TRAINING MATRIX'!AS2","v":0},{"$f":"'TRAINING MATRIX'!AS$69","v":0}]
[{"$f":"'TRAINING MATRIX'!AT2","v":0},{"$f":"'TRAINING MATRIX'!AT$69","v":0}]
[{"$f":"'TRAINING MATRIX'!AU2","v":0},{"$f":"'TRAINING MATRIX'!AU$69","v":0}]
[{"$f":"'TRAINING MATRIX'!AV2","v":0},{"$f":"'TRAINING MATRIX'!AV$69","v":0}]
[{"$f":"'TRAINING MATRIX'!AW2","v":0},{"$f":"'TRAINING MATRIX'!AW$69","v":0}]
[{"$f":"'TRAINING MATRIX'!AX2","v":0},{"$f":"'TRAINING MATRIX'!AX$69","v":0}]
[{"$f":"'TRAINING MATRIX'!AY2","v":0},{"$f":"'TRAINING MATRIX'!AY$69","v":0}]
[{"$f":"'TRAINING MATRIX'!AZ2","v":0},{"$f":"'TRAINING MATRIX'!AZ$69","v":0}]

{"sheet":"Martyn Shaw","index":69,"n_rows":52,"n_cols":2,"rows_kept":52,"cut":false,"hidden":false,"merged":[]}
["Driver Name","Completed / Issued"]
[{"$f":"'TRAINING MATRIX'!A70","v":"Shaw Martyn"},{"$f":"'TRAINING MATRIX'!C70","v":"CE"}]
[{"$f":"'TRAINING MATRIX'!B$70","v":0}]
[{"$f":"'TRAINING MATRIX'!D2","v":0},{"$f":"'TRAINING MATRIX'!D$70","v":0}]
[{"$f":"'TRAINING MATRIX'!E2","v":0},{"$f":"'TRAINING MATRIX'!E$70","v":0}]
[{"$f":"'TRAINING MATRIX'!F2","v":0},{"$f":"'TRAINING MATRIX'!F$70","v":0}]
[{"$f":"'TRAINING MATRIX'!G2","v":"Assessed"},{"$f":"'TRAINING MATRIX'!G$70","v":"25.04.19"}]
[{"$f":"'TRAINING MATRIX'!H2","v":"Driver induction"},{"$f":"'TRAINING MATRIX'!H$70","v":"25.04.19"}]
[{"$f":"'TRAINING MATRIX'!I2","v":"Highway Code via KT"},{"$f":"'TRAINING MATRIX'!I$70","v":0}]
[{"$f":"'TRAINING MATRIX'!J2","v":"Drivers Code of Conduct"},{"$f":"'TRAINING MATRIX'!J$70","v":0}]
[{"$f":"'TRAINING MATRIX'!K2","v":"Smoking Policy"},{"$f":"'TRAINING MATRIX'!K$70","v":0}]
[{"$f":"'TRAINING MATRIX'!L2","v":"Mobile Communication Policy"},{"$f":"'TRAINING MATRIX'!L$70","v":"6.9.19"}]
[{"$f":"'TRAINING MATRIX'!N2","v":"Transport Charges & Fines Policy"},{"$f":"'TRAINING MATRIX'!N$70","v":"22.8.19"}]
[{"$f":"'TRAINING MATRIX'!M2","v":"Using Sat Nav"},{"$f":"'TRAINING MATRIX'!M$70","v":0}]
[{"$f":"'TRAINING MATRIX'!O2","v":"Goods Vehicle and Safety Policy"},{"$f":"'TRAINING MATRIX'!O$70","v":"25.8.19"}]
[{"$f":"'TRAINING MATRIX'!P2","v":"Safe Loading Policy"},{"$f":"'TRAINING MATRIX'!P$70","v":"25.8.19"}]
[{"$f":"'TRAINING MATRIX'!Q2","v":"Eye Sight Check"},{"$f":"'TRAINING MATRIX'!Q$70","v":0}]
[{"$f":"'TRAINING MATRIX'!R2","v":"Use of Tail lifts"},{"$f":"'TRAINING MATRIX'!X$70","v":"21.8.19"}]
[{"$f":"'TRAINING MATRIX'!S2","v":"CPC Periodic Training Module"},{"$f":"'TRAINING MATRIX'!Y$70","v":"5.9.19"}]
[{"$f":"'TRAINING MATRIX'!T2","v":"CPC Periodic Training Module"},{"$f":"'TRAINING MATRIX'!Z$70","v":0}]
[{"$f":"'TRAINING MATRIX'!U2","v":"CPC Periodic Training Module"},{"$f":"'TRAINING MATRIX'!AA$70","v":0}]
[{"$f":"'TRAINING MATRIX'!V2","v":"CPC Periodic Training Module"},{"$f":"'TRAINING MATRIX'!AB$70","v":0}]
[{"$f":"'TRAINING MATRIX'!W2","v":"CPC Periodic Training Module"},{"$f":"'TRAINING MATRIX'!AC$70","v":0}]
[{"$f":"'TRAINING MATRIX'!X2","v":"FORS Security and Counter-Terrorism"},{"$f":"'TRAINING MATRIX'!X$70","v":"21.8.19"}]
[{"$f":"'TRAINING MATRIX'!Y2","v":"FORS BridgeSmart"},{"$f":"'TRAINING MATRIX'!Y$70","v":"5.9.19"}]
[{"$f":"'TRAINING MATRIX'!D2","v":0},{"$f":"'TRAINING MATRIX'!Z$70","v":0}]
[{"$f":"'TRAINING MATRIX'!AA2","v":"FORS LoCity"},{"$f":"'TRAINING MATRIX'!AA$70","v":0}]
[{"$f":"'TRAINING MATRIX'!AB2","v":"FORS SmartDeliveries"},{"$f":"'TRAINING MATRIX'!AB$70","v":0}]
[{"$f":"'TRAINING MATRIX'!AD2","v":"ADR Awareness"},{"$f":"'TRAINING MATRIX'!AC$70","v":0}]
[{"$f":"'TRAINING MATRIX'!AE2","v":"ADR (Core, Packages and All Classes ex 7 & 9)"},{"$f":"'TRAINING MATRIX'!AD$70","v":0}]
[{"$f":"'TRAINING MATRIX'!AF2","v":0},{"$f":"'TRAINING MATRIX'!AE$70","v":0}]
[{"$f":"'TRAINING MATRIX'!AF2","v":0},{"$f":"'TRAINING MATRIX'!AF$70","v":0}]
[{"$f":"'TRAINING MATRIX'!AG2","v":"TTB Climbing On & Off Vehicles"},{"$f":"'TRAINING MATRIX'!AG$70","v":"22.8.19"}]
[{"$f":"'TRAINING MATRIX'!AH2","v":"TTB Climbing On & Off Trailers & Load Decks"},{"$f":"'TRAINING MATRIX'!AH$70","v":"25.8.19"}]
[{"$f":"'TRAINING MATRIX'!AI2","v":"TTB Jumping To a Lifetime of Pain"},{"$f":"'TRAINING MATRIX'!AI$70","v":"25.8.19"}]
[{"$f":"'TRAINING MATRIX'!AJ2","v":"TTB Dealing With Cyclists"},{"$f":"'TRAINING MATRIX'!AJ$70","v":"25.8.19"}]
[{"$f":"'TRAINING MATRIX'!AK2","v":"TTB Fitness to Drive"},{"$f":"'TRAINING MATRIX'!AK$70","v":"25.8.19"}]
[{"$f":"'TRAINING MATRIX'!AL2","v":"TTB Loading & Unloading"},{"$f":"'TRAINING MATRIX'!AL$70","v":"25.8.19"}]
[{"$f":"'TRAINING MATRIX'!AM2","v":"TTB Protecting Vulnerable Road Users"},{"$f":"'TRAINING MATRIX'!AM$70","v":"25.8.19"}]
[{"$f":"'TRAINING MATRIX'!AN2","v":0},{"$f":"'TRAINING MATRIX'!AN$70","v":0}]
[{"$f":"'TRAINING MATRIX'!AO2","v":"SSOW Coupling and Uncoupling"},{"$f":"'TRAINING MATRIX'!AO$70","v":0}]
[{"$f":"'TRAINING MATRIX'!AP2","v":"SSOW Scanning Shed"},{"$f":"'TRAINING MATRIX'!AP$70","v":0}]
[{"$f":"'TRAINING MATRIX'!AQ2","v":"SWP Drivers Walkaround Checks"},{"$f":"'TRAINING MATRIX'!AQ$70","v":0}]
[{"$f":"'TRAINING MATRIX'!AR2","v":0},{"$f":"'TRAINING MATRIX'!AR$70","v":0}]
[{"$f":"'TRAINING MATRIX'!AS2","v":0},{"$f":"'TRAINING MATRIX'!AS$70","v":0}]
[{"$f":"'TRAINING MATRIX'!AT2","v":0},{"$f":"'TRAINING MATRIX'!AT$70","v":0}]
[{"$f":"'TRAINING MATRIX'!AU2","v":0},{"$f":"'TRAINING MATRIX'!AU$70","v":0}]
[{"$f":"'TRAINING MATRIX'!AV2","v":0},{"$f":"'TRAINING MATRIX'!AV$70","v":0}]
[{"$f":"'TRAINING MATRIX'!AW2","v":0},{"$f":"'TRAINING MATRIX'!AW$70","v":0}]
[{"$f":"'TRAINING MATRIX'!AX2","v":0},{"$f":"'TRAINING MATRIX'!AX$70","v":0}]
[{"$f":"'TRAINING MATRIX'!AY2","v":0},{"$f":"'TRAINING MATRIX'!AY$70","v":0}]
[{"$f":"'TRAINING MATRIX'!AZ2","v":0},{"$f":"'TRAINING MATRIX'!AZ$70","v":0}]

{"sheet":"Parminder Singh","index":70,"n_rows":52,"n_cols":2,"rows_kept":52,"cut":false,"hidden":false,"merged":[]}
["Driver Name","Completed / Issued"]
[{"$f":"'TRAINING MATRIX'!A71","v":"Singh Parminder"},{"$f":"'TRAINING MATRIX'!C71","v":"CE"}]
[{"$f":"'TRAINING MATRIX'!B$71","v":0}]
[{"$f":"'TRAINING MATRIX'!D2","v":0},{"$f":"'TRAINING MATRIX'!D$71","v":0}]
[{"$f":"'TRAINING MATRIX'!E2","v":0},{"$f":"'TRAINING MATRIX'!E$71","v":0}]
[{"$f":"'TRAINING MATRIX'!F2","v":0},{"$f":"'TRAINING MATRIX'!F$71","v":0}]
[{"$f":"'TRAINING MATRIX'!G2","v":"Assessed"},{"$f":"'TRAINING MATRIX'!G$71","v":0}]
[{"$f":"'TRAINING MATRIX'!H2","v":"Driver induction"},{"$f":"'TRAINING MATRIX'!H$71","v":"14.05.19"}]
[{"$f":"'TRAINING MATRIX'!I2","v":"Highway Code via KT"},{"$f":"'TRAINING MATRIX'!I$71","v":0}]
[{"$f":"'TRAINING MATRIX'!J2","v":"Drivers Code of Conduct"},{"$f":"'TRAINING MATRIX'!J$71","v":0}]
[{"$f":"'TRAINING MATRIX'!K2","v":"Smoking Policy"},{"$f":"'TRAINING MATRIX'!K$71","v":0}]
[{"$f":"'TRAINING MATRIX'!L2","v":"Mobile Communication Policy"},{"$f":"'TRAINING MATRIX'!L$71","v":"6.9.19"}]
[{"$f":"'TRAINING MATRIX'!N2","v":"Transport Charges & Fines Policy"},{"$f":"'TRAINING MATRIX'!N$71","v":"22.8.19"}]
[{"$f":"'TRAINING MATRIX'!M2","v":"Using Sat Nav"},{"$f":"'TRAINING MATRIX'!M$71","v":0}]
[{"$f":"'TRAINING MATRIX'!O2","v":"Goods Vehicle and Safety Policy"},{"$f":"'TRAINING MATRIX'!O$71","v":"25.8.19"}]
[{"$f":"'TRAINING MATRIX'!P2","v":"Safe Loading Policy"},{"$f":"'TRAINING MATRIX'!P$71","v":"25.8.19"}]
[{"$f":"'TRAINING MATRIX'!Q2","v":"Eye Sight Check"},{"$f":"'TRAINING MATRIX'!Q$71","v":"22.8.19"}]
[{"$f":"'TRAINING MATRIX'!R2","v":"Use of Tail lifts"},{"$f":"'TRAINING MATRIX'!X$71","v":"21.8.19"}]
[{"$f":"'TRAINING MATRIX'!S2","v":"CPC Periodic Training Module"},{"$f":"'TRAINING MATRIX'!Y$71","v":"5.9.19"}]
[{"$f":"'TRAINING MATRIX'!T2","v":"CPC Periodic Training Module"},{"$f":"'TRAINING MATRIX'!Z$71","v":0}]
[{"$f":"'TRAINING MATRIX'!U2","v":"CPC Periodic Training Module"},{"$f":"'TRAINING MATRIX'!AA$71","v":0}]
[{"$f":"'TRAINING MATRIX'!V2","v":"CPC Periodic Training Module"},{"$f":"'TRAINING MATRIX'!AB$71","v":0}]
[{"$f":"'TRAINING MATRIX'!W2","v":"CPC Periodic Training Module"},{"$f":"'TRAINING MATRIX'!AC$71","v":0}]
[{"$f":"'TRAINING MATRIX'!X2","v":"FORS Security and Counter-Terrorism"},{"$f":"'TRAINING MATRIX'!X$71","v":"21.8.19"}]
[{"$f":"'TRAINING MATRIX'!Y2","v":"FORS BridgeSmart"},{"$f":"'TRAINING MATRIX'!Y$71","v":"5.9.19"}]
[{"$f":"'TRAINING MATRIX'!D2","v":0},{"$f":"'TRAINING MATRIX'!Z$71","v":0}]
[{"$f":"'TRAINING MATRIX'!AA2","v":"FORS LoCity"},{"$f":"'TRAINING MATRIX'!AA$71","v":0}]
[{"$f":"'TRAINING MATRIX'!AB2","v":"FORS SmartDeliveries"},{"$f":"'TRAINING MATRIX'!AB$71","v":0}]
[{"$f":"'TRAINING MATRIX'!AD2","v":"ADR Awareness"},{"$f":"'TRAINING MATRIX'!AC$71","v":0}]
[{"$f":"'TRAINING MATRIX'!AE2","v":"ADR (Core, Packages and All Classes ex 7 & 9)"},{"$f":"'TRAINING MATRIX'!AD$71","v":0}]
[{"$f":"'TRAINING MATRIX'!AF2","v":0},{"$f":"'TRAINING MATRIX'!AE$71","v":0}]
[{"$f":"'TRAINING MATRIX'!AF2","v":0},{"$f":"'TRAINING MATRIX'!AF$71","v":0}]
[{"$f":"'TRAINING MATRIX'!AG2","v":"TTB Climbing On & Off Vehicles"},{"$f":"'TRAINING MATRIX'!AG$71","v":"22.8.19"}]
[{"$f":"'TRAINING MATRIX'!AH2","v":"TTB Climbing On & Off Trailers & Load Decks"},{"$f":"'TRAINING MATRIX'!AH$71","v":"25.8.19"}]
[{"$f":"'TRAINING MATRIX'!AI2","v":"TTB Jumping To a Lifetime of Pain"},{"$f":"'TRAINING MATRIX'!AI$71","v":"25.8.19"}]
[{"$f":"'TRAINING MATRIX'!AJ2","v":"TTB Dealing With Cyclists"},{"$f":"'TRAINING MATRIX'!AJ$71","v":"25.8.19"}]
[{"$f":"'TRAINING MATRIX'!AK2","v":"TTB Fitness to Drive"},{"$f":"'TRAINING MATRIX'!AK$71","v":"25.8.19"}]
[{"$f":"'TRAINING MATRIX'!AL2","v":"TTB Loading & Unloading"},{"$f":"'TRAINING MATRIX'!AL$71","v":"25.8.19"}]
[{"$f":"'TRAINING MATRIX'!AM2","v":"TTB Protecting Vulnerable Road Users"},{"$f":"'TRAINING MATRIX'!AM$71","v":"25.8.19"}]
[{"$f":"'TRAINING MATRIX'!AN2","v":0},{"$f":"'TRAINING MATRIX'!AN$71","v":0}]
[{"$f":"'TRAINING MATRIX'!AO2","v":"SSOW Coupling and Uncoupling"},{"$f":"'TRAINING MATRIX'!AO$71","v":0}]
[{"$f":"'TRAINING MATRIX'!AP2","v":"SSOW Scanning Shed"},{"$f":"'TRAINING MATRIX'!AP$71","v":0}]
[{"$f":"'TRAINING MATRIX'!AQ2","v":"SWP Drivers Walkaround Checks"},{"$f":"'TRAINING MATRIX'!AQ$71","v":0}]
[{"$f":"'TRAINING MATRIX'!AR2","v":0},{"$f":"'TRAINING MATRIX'!AR$71","v":0}]
[{"$f":"'TRAINING MATRIX'!AS2","v":0},{"$f":"'TRAINING MATRIX'!AS$71","v":0}]
[{"$f":"'TRAINING MATRIX'!AT2","v":0},{"$f":"'TRAINING MATRIX'!AT$71","v":0}]
[{"$f":"'TRAINING MATRIX'!AU2","v":0},{"$f":"'TRAINING MATRIX'!AU$71","v":0}]
[{"$f":"'TRAINING MATRIX'!AV2","v":0},{"$f":"'TRAINING MATRIX'!AV$71","v":0}]
[{"$f":"'TRAINING MATRIX'!AW2","v":0},{"$f":"'TRAINING MATRIX'!AW$71","v":0}]
[{"$f":"'TRAINING MATRIX'!AX2","v":0},{"$f":"'TRAINING MATRIX'!AX$71","v":0}]
[{"$f":"'TRAINING MATRIX'!AY2","v":0},{"$f":"'TRAINING MATRIX'!AY$71","v":0}]
[{"$f":"'TRAINING MATRIX'!AZ2","v":0},{"$f":"'TRAINING MATRIX'!AZ$71","v":0}]

{"sheet":"Johnathan Smith","index":71,"n_rows":52,"n_cols":2,"rows_kept":52,"cut":false,"hidden":false,"merged":[]}
["Driver Name","Completed / Issued"]
[{"$f":"'TRAINING MATRIX'!A72","v":"Smith Jon"},{"$f":"'TRAINING MATRIX'!C72","v":"CE"}]
[{"$f":"'TRAINING MATRIX'!B$72","v":0}]
[{"$f":"'TRAINING MATRIX'!D2","v":0},{"$f":"'TRAINING MATRIX'!D$72","v":0}]
[{"$f":"'TRAINING MATRIX'!E2","v":0},{"$f":"'TRAINING MATRIX'!E$72","v":0}]
[{"$f":"'TRAINING MATRIX'!F2","v":0},{"$f":"'TRAINING MATRIX'!F$72","v":0}]
[{"$f":"'TRAINING MATRIX'!G2","v":"Assessed"},{"$f":"'TRAINING MATRIX'!G$72","v":0}]
[{"$f":"'TRAINING MATRIX'!H2","v":"Driver induction"},{"$f":"'TRAINING MATRIX'!H$72","v":0}]
[{"$f":"'TRAINING MATRIX'!I2","v":"Highway Code via KT"},{"$f":"'TRAINING MATRIX'!I$72","v":0}]
[{"$f":"'TRAINING MATRIX'!J2","v":"Drivers Code of Conduct"},{"$f":"'TRAINING MATRIX'!J$72","v":0}]
[{"$f":"'TRAINING MATRIX'!K2","v":"Smoking Policy"},{"$f":"'TRAINING MATRIX'!K$72","v":0}]
[{"$f":"'TRAINING MATRIX'!L2","v":"Mobile Communication Policy"},{"$f":"'TRAINING MATRIX'!L$72","v":0}]
[{"$f":"'TRAINING MATRIX'!N2","v":"Transport Charges & Fines Policy"},{"$f":"'TRAINING MATRIX'!N$72","v":0}]
[{"$f":"'TRAINING MATRIX'!M2","v":"Using Sat Nav"},{"$f":"'TRAINING MATRIX'!M$72","v":0}]
[{"$f":"'TRAINING MATRIX'!O2","v":"Goods Vehicle and Safety Policy"},{"$f":"'TRAINING MATRIX'!O$72","v":0}]
[{"$f":"'TRAINING MATRIX'!P2","v":"Safe Loading Policy"},{"$f":"'TRAINING MATRIX'!P$72","v":0}]
[{"$f":"'TRAINING MATRIX'!Q2","v":"Eye Sight Check"},{"$f":"'TRAINING MATRIX'!Q$72","v":0}]
[{"$f":"'TRAINING MATRIX'!R2","v":"Use of Tail lifts"},{"$f":"'TRAINING MATRIX'!X$72","v":0}]
[{"$f":"'TRAINING MATRIX'!S2","v":"CPC Periodic Training Module"},{"$f":"'TRAINING MATRIX'!Y$72","v":0}]
[{"$f":"'TRAINING MATRIX'!T2","v":"CPC Periodic Training Module"},{"$f":"'TRAINING MATRIX'!Z$72","v":0}]
[{"$f":"'TRAINING MATRIX'!U2","v":"CPC Periodic Training Module"},{"$f":"'TRAINING MATRIX'!AA$72","v":0}]
[{"$f":"'TRAINING MATRIX'!V2","v":"CPC Periodic Training Module"},{"$f":"'TRAINING MATRIX'!AB$72","v":0}]
[{"$f":"'TRAINING MATRIX'!W2","v":"CPC Periodic Training Module"},{"$f":"'TRAINING MATRIX'!AC$72","v":0}]
[{"$f":"'TRAINING MATRIX'!X2","v":"FORS Security and Counter-Terrorism"},{"$f":"'TRAINING MATRIX'!X$72","v":0}]
[{"$f":"'TRAINING MATRIX'!Y2","v":"FORS BridgeSmart"},{"$f":"'TRAINING MATRIX'!Y$72","v":0}]
[{"$f":"'TRAINING MATRIX'!D2","v":0},{"$f":"'TRAINING MATRIX'!Z$72","v":0}]
[{"$f":"'TRAINING MATRIX'!AA2","v":"FORS LoCity"},{"$f":"'TRAINING MATRIX'!AA$72","v":0}]
[{"$f":"'TRAINING MATRIX'!AB2","v":"FORS SmartDeliveries"},{"$f":"'TRAINING MATRIX'!AB$72","v":0}]
[{"$f":"'TRAINING MATRIX'!AD2","v":"ADR Awareness"},{"$f":"'TRAINING MATRIX'!AC$72","v":0}]
[{"$f":"'TRAINING MATRIX'!AE2","v":"ADR (Core, Packages and All Classes ex 7 & 9)"},{"$f":"'TRAINING MATRIX'!AD$72","v":0}]
[{"$f":"'TRAINING MATRIX'!AF2","v":0},{"$f":"'TRAINING MATRIX'!AE$72","v":0}]
[{"$f":"'TRAINING MATRIX'!AF2","v":0},{"$f":"'TRAINING MATRIX'!AF$72","v":0}]
[{"$f":"'TRAINING MATRIX'!AG2","v":"TTB Climbing On & Off Vehicles"},{"$f":"'TRAINING MATRIX'!AG$72","v":0}]
[{"$f":"'TRAINING MATRIX'!AH2","v":"TTB Climbing On & Off Trailers & Load Decks"},{"$f":"'TRAINING MATRIX'!AH$72","v":0}]
[{"$f":"'TRAINING MATRIX'!AI2","v":"TTB Jumping To a Lifetime of Pain"},{"$f":"'TRAINING MATRIX'!AI$72","v":0}]
[{"$f":"'TRAINING MATRIX'!AJ2","v":"TTB Dealing With Cyclists"},{"$f":"'TRAINING MATRIX'!AJ$72","v":0}]
[{"$f":"'TRAINING MATRIX'!AK2","v":"TTB Fitness to Drive"},{"$f":"'TRAINING MATRIX'!AK$72","v":0}]
[{"$f":"'TRAINING MATRIX'!AL2","v":"TTB Loading & Unloading"},{"$f":"'TRAINING MATRIX'!AL$72","v":0}]
[{"$f":"'TRAINING MATRIX'!AM2","v":"TTB Protecting Vulnerable Road Users"},{"$f":"'TRAINING MATRIX'!AM$72","v":0}]
[{"$f":"'TRAINING MATRIX'!AN2","v":0},{"$f":"'TRAINING MATRIX'!AN$72","v":0}]
[{"$f":"'TRAINING MATRIX'!AO2","v":"SSOW Coupling and Uncoupling"},{"$f":"'TRAINING MATRIX'!AO$72","v":0}]
[{"$f":"'TRAINING MATRIX'!AP2","v":"SSOW Scanning Shed"},{"$f":"'TRAINING MATRIX'!AP$72","v":0}]
[{"$f":"'TRAINING MATRIX'!AQ2","v":"SWP Drivers Walkaround Checks"},{"$f":"'TRAINING MATRIX'!AQ$72","v":0}]
[{"$f":"'TRAINING MATRIX'!AR2","v":0},{"$f":"'TRAINING MATRIX'!AR$72","v":0}]
[{"$f":"'TRAINING MATRIX'!AS2","v":0},{"$f":"'TRAINING MATRIX'!AS$72","v":0}]
[{"$f":"'TRAINING MATRIX'!AT2","v":0},{"$f":"'TRAINING MATRIX'!AT$72","v":0}]
[{"$f":"'TRAINING MATRIX'!AU2","v":0},{"$f":"'TRAINING MATRIX'!AU$72","v":0}]
[{"$f":"'TRAINING MATRIX'!AV2","v":0},{"$f":"'TRAINING MATRIX'!AV$72","v":0}]
[{"$f":"'TRAINING MATRIX'!AW2","v":0},{"$f":"'TRAINING MATRIX'!AW$72","v":0}]
[{"$f":"'TRAINING MATRIX'!AX2","v":0},{"$f":"'TRAINING MATRIX'!AX$72","v":0}]
[{"$f":"'TRAINING MATRIX'!AY2","v":0},{"$f":"'TRAINING MATRIX'!AY$72","v":0}]
[{"$f":"'TRAINING MATRIX'!AZ2","v":0},{"$f":"'TRAINING MATRIX'!AZ$72","v":0}]

{"sheet":"Joshua Smith","index":72,"n_rows":52,"n_cols":2,"rows_kept":52,"cut":false,"hidden":false,"merged":[]}
["Driver Name","Completed / Issued"]
[{"$f":"'TRAINING MATRIX'!A73","v":"Smith Josh"},{"$f":"'TRAINING MATRIX'!C73","v":"CE"}]
[{"$f":"'TRAINING MATRIX'!B$73","v":"Left 13.09.19"}]
[{"$f":"'TRAINING MATRIX'!D2","v":0},{"$f":"'TRAINING MATRIX'!D$73","v":0}]
[{"$f":"'TRAINING MATRIX'!E2","v":0},{"$f":"'TRAINING MATRIX'!E$73","v":0}]
[{"$f":"'TRAINING MATRIX'!F2","v":0},{"$f":"'TRAINING MATRIX'!F$73","v":0}]
[{"$f":"'TRAINING MATRIX'!G2","v":"Assessed"},{"$f":"'TRAINING MATRIX'!G$73","v":0}]
[{"$f":"'TRAINING MATRIX'!H2","v":"Driver induction"},{"$f":"'TRAINING MATRIX'!H$73","v":"04.12.18"}]
[{"$f":"'TRAINING MATRIX'!I2","v":"Highway Code via KT"},{"$f":"'TRAINING MATRIX'!I$73","v":0}]
[{"$f":"'TRAINING MATRIX'!J2","v":"Drivers Code of Conduct"},{"$f":"'TRAINING MATRIX'!J$73","v":0}]
[{"$f":"'TRAINING MATRIX'!K2","v":"Smoking Policy"},{"$f":"'TRAINING MATRIX'!K$73","v":0}]
[{"$f":"'TRAINING MATRIX'!L2","v":"Mobile Communication Policy"},{"$f":"'TRAINING MATRIX'!L$73","v":"6.9.19"}]
[{"$f":"'TRAINING MATRIX'!N2","v":"Transport Charges & Fines Policy"},{"$f":"'TRAINING MATRIX'!N$73","v":"22.8.19"}]
[{"$f":"'TRAINING MATRIX'!M2","v":"Using Sat Nav"},{"$f":"'TRAINING MATRIX'!M$73","v":0}]
[{"$f":"'TRAINING MATRIX'!O2","v":"Goods Vehicle and Safety Policy"},{"$f":"'TRAINING MATRIX'!O$73","v":"25.8.19"}]
[{"$f":"'TRAINING MATRIX'!P2","v":"Safe Loading Policy"},{"$f":"'TRAINING MATRIX'!P$73","v":"25.8.19"}]
[{"$f":"'TRAINING MATRIX'!Q2","v":"Eye Sight Check"},{"$f":"'TRAINING MATRIX'!Q$73","v":"22.8.19"}]
[{"$f":"'TRAINING MATRIX'!R2","v":"Use of Tail lifts"},{"$f":"'TRAINING MATRIX'!X$73","v":"21.8.19"}]
[{"$f":"'TRAINING MATRIX'!S2","v":"CPC Periodic Training Module"},{"$f":"'TRAINING MATRIX'!Y$73","v":"5.9.19"}]
[{"$f":"'TRAINING MATRIX'!T2","v":"CPC Periodic Training Module"},{"$f":"'TRAINING MATRIX'!Z$73","v":0}]
[{"$f":"'TRAINING MATRIX'!U2","v":"CPC Periodic Training Module"},{"$f":"'TRAINING MATRIX'!AA$73","v":0}]
[{"$f":"'TRAINING MATRIX'!V2","v":"CPC Periodic Training Module"},{"$f":"'TRAINING MATRIX'!AB$73","v":0}]
[{"$f":"'TRAINING MATRIX'!W2","v":"CPC Periodic Training Module"},{"$f":"'TRAINING MATRIX'!AC$73","v":0}]
[{"$f":"'TRAINING MATRIX'!X2","v":"FORS Security and Counter-Terrorism"},{"$f":"'TRAINING MATRIX'!X$73","v":"21.8.19"}]
[{"$f":"'TRAINING MATRIX'!Y2","v":"FORS BridgeSmart"},{"$f":"'TRAINING MATRIX'!Y$73","v":"5.9.19"}]
[{"$f":"'TRAINING MATRIX'!D2","v":0},{"$f":"'TRAINING MATRIX'!Z$73","v":0}]
[{"$f":"'TRAINING MATRIX'!AA2","v":"FORS LoCity"},{"$f":"'TRAINING MATRIX'!AA$73","v":0}]
[{"$f":"'TRAINING MATRIX'!AB2","v":"FORS SmartDeliveries"},{"$f":"'TRAINING MATRIX'!AB$73","v":0}]
[{"$f":"'TRAINING MATRIX'!AD2","v":"ADR Awareness"},{"$f":"'TRAINING MATRIX'!AC$73","v":0}]
[{"$f":"'TRAINING MATRIX'!AE2","v":"ADR (Core, Packages and All Classes ex 7 & 9)"},{"$f":"'TRAINING MATRIX'!AD$73","v":0}]
[{"$f":"'TRAINING MATRIX'!AF2","v":0},{"$f":"'TRAINING MATRIX'!AE$73","v":0}]
[{"$f":"'TRAINING MATRIX'!AF2","v":0},{"$f":"'TRAINING MATRIX'!AF$73","v":0}]
[{"$f":"'TRAINING MATRIX'!AG2","v":"TTB Climbing On & Off Vehicles"},{"$f":"'TRAINING MATRIX'!AG$73","v":"22.8.19"}]
[{"$f":"'TRAINING MATRIX'!AH2","v":"TTB Climbing On & Off Trailers & Load Decks"},{"$f":"'TRAINING MATRIX'!AH$73","v":"25.8.19"}]
[{"$f":"'TRAINING MATRIX'!AI2","v":"TTB Jumping To a Lifetime of Pain"},{"$f":"'TRAINING MATRIX'!AI$73","v":"25.8.19"}]
[{"$f":"'TRAINING MATRIX'!AJ2","v":"TTB Dealing With Cyclists"},{"$f":"'TRAINING MATRIX'!AJ$73","v":"25.8.19"}]
[{"$f":"'TRAINING MATRIX'!AK2","v":"TTB Fitness to Drive"},{"$f":"'TRAINING MATRIX'!AK$73","v":"25.8.19"}]
[{"$f":"'TRAINING MATRIX'!AL2","v":"TTB Loading & Unloading"},{"$f":"'TRAINING MATRIX'!AL$73","v":"25.8.19"}]
[{"$f":"'TRAINING MATRIX'!AM2","v":"TTB Protecting Vulnerable Road Users"},{"$f":"'TRAINING MATRIX'!AM$73","v":"25.8.19"}]
[{"$f":"'TRAINING MATRIX'!AN2","v":0},{"$f":"'TRAINING MATRIX'!AN$73","v":0}]
[{"$f":"'TRAINING MATRIX'!AO2","v":"SSOW Coupling and Uncoupling"},{"$f":"'TRAINING MATRIX'!AO$73","v":0}]
[{"$f":"'TRAINING MATRIX'!AP2","v":"SSOW Scanning Shed"},{"$f":"'TRAINING MATRIX'!AP$73","v":0}]
[{"$f":"'TRAINING MATRIX'!AQ2","v":"SWP Drivers Walkaround Checks"},{"$f":"'TRAINING MATRIX'!AQ$73","v":0}]
[{"$f":"'TRAINING MATRIX'!AR2","v":0},{"$f":"'TRAINING MATRIX'!AR$73","v":0}]
[{"$f":"'TRAINING MATRIX'!AS2","v":0},{"$f":"'TRAINING MATRIX'!AS$73","v":0}]
[{"$f":"'TRAINING MATRIX'!AT2","v":0},{"$f":"'TRAINING MATRIX'!AT$73","v":0}]
[{"$f":"'TRAINING MATRIX'!AU2","v":0},{"$f":"'TRAINING MATRIX'!AU$73","v":0}]
[{"$f":"'TRAINING MATRIX'!AV2","v":0},{"$f":"'TRAINING MATRIX'!AV$73","v":0}]
[{"$f":"'TRAINING MATRIX'!AW2","v":0},{"$f":"'TRAINING MATRIX'!AW$73","v":0}]
[{"$f":"'TRAINING MATRIX'!AX2","v":0},{"$f":"'TRAINING MATRIX'!AX$73","v":0}]
[{"$f":"'TRAINING MATRIX'!AY2","v":0},{"$f":"'TRAINING MATRIX'!AY$73","v":0}]
[{"$f":"'TRAINING MATRIX'!AZ2","v":0},{"$f":"'TRAINING MATRIX'!AZ$73","v":0}]

{"sheet":"Malcolm Smith","index":73,"n_rows":52,"n_cols":2,"rows_kept":52,"cut":false,"hidden":false,"merged":[]}
["Driver Name","Completed / Issued"]
[{"$f":"'TRAINING MATRIX'!A74","v":"Smith Malc"},{"$f":"'TRAINING MATRIX'!C74","v":"C"}]
[{"$f":"'TRAINING MATRIX'!B$74","v":0}]
[{"$f":"'TRAINING MATRIX'!D2","v":0},{"$f":"'TRAINING MATRIX'!D$74","v":0}]
[{"$f":"'TRAINING MATRIX'!E2","v":0},{"$f":"'TRAINING MATRIX'!E$74","v":0}]
[{"$f":"'TRAINING MATRIX'!F2","v":0},{"$f":"'TRAINING MATRIX'!F$74","v":0}]
[{"$f":"'TRAINING MATRIX'!G2","v":"Assessed"},{"$f":"'TRAINING MATRIX'!G$74","v":0}]
[{"$f":"'TRAINING MATRIX'!H2","v":"Driver induction"},{"$f":"'TRAINING MATRIX'!H$74","v":0}]
[{"$f":"'TRAINING MATRIX'!I2","v":"Highway Code via KT"},{"$f":"'TRAINING MATRIX'!I$74","v":0}]
[{"$f":"'TRAINING MATRIX'!J2","v":"Drivers Code of Conduct"},{"$f":"'TRAINING MATRIX'!J$74","v":0}]
[{"$f":"'TRAINING MATRIX'!K2","v":"Smoking Policy"},{"$f":"'TRAINING MATRIX'!K$74","v":0}]
[{"$f":"'TRAINING MATRIX'!L2","v":"Mobile Communication Policy"},{"$f":"'TRAINING MATRIX'!L$74","v":"6.9.19"}]
[{"$f":"'TRAINING MATRIX'!N2","v":"Transport Charges & Fines Policy"},{"$f":"'TRAINING MATRIX'!N$74","v":"22.8.19"}]
[{"$f":"'TRAINING MATRIX'!M2","v":"Using Sat Nav"},{"$f":"'TRAINING MATRIX'!M$74","v":0}]
[{"$f":"'TRAINING MATRIX'!O2","v":"Goods Vehicle and Safety Policy"},{"$f":"'TRAINING MATRIX'!O$74","v":"25.8.19"}]
[{"$f":"'TRAINING MATRIX'!P2","v":"Safe Loading Policy"},{"$f":"'TRAINING MATRIX'!P$74","v":"25.8.19"}]
[{"$f":"'TRAINING MATRIX'!Q2","v":"Eye Sight Check"},{"$f":"'TRAINING MATRIX'!Q$74","v":"21.8.19"}]
[{"$f":"'TRAINING MATRIX'!R2","v":"Use of Tail lifts"},{"$f":"'TRAINING MATRIX'!X$74","v":"21.8.19"}]
[{"$f":"'TRAINING MATRIX'!S2","v":"CPC Periodic Training Module"},{"$f":"'TRAINING MATRIX'!Y$74","v":"5.9.19"}]
[{"$f":"'TRAINING MATRIX'!T2","v":"CPC Periodic Training Module"},{"$f":"'TRAINING MATRIX'!Z$74","v":0}]
[{"$f":"'TRAINING MATRIX'!U2","v":"CPC Periodic Training Module"},{"$f":"'TRAINING MATRIX'!AA$74","v":0}]
[{"$f":"'TRAINING MATRIX'!V2","v":"CPC Periodic Training Module"},{"$f":"'TRAINING MATRIX'!AB$74","v":0}]
[{"$f":"'TRAINING MATRIX'!W2","v":"CPC Periodic Training Module"},{"$f":"'TRAINING MATRIX'!AC$74","v":0}]
[{"$f":"'TRAINING MATRIX'!X2","v":"FORS Security and Counter-Terrorism"},{"$f":"'TRAINING MATRIX'!X$74","v":"21.8.19"}]
[{"$f":"'TRAINING MATRIX'!Y2","v":"FORS BridgeSmart"},{"$f":"'TRAINING MATRIX'!Y$74","v":"5.9.19"}]
[{"$f":"'TRAINING MATRIX'!D2","v":0},{"$f":"'TRAINING MATRIX'!Z$74","v":0}]
[{"$f":"'TRAINING MATRIX'!AA2","v":"FORS LoCity"},{"$f":"'TRAINING MATRIX'!AA$74","v":0}]
[{"$f":"'TRAINING MATRIX'!AB2","v":"FORS SmartDeliveries"},{"$f":"'TRAINING MATRIX'!AB$74","v":0}]
[{"$f":"'TRAINING MATRIX'!AD2","v":"ADR Awareness"},{"$f":"'TRAINING MATRIX'!AC$74","v":0}]
[{"$f":"'TRAINING MATRIX'!AE2","v":"ADR (Core, Packages and All Classes ex 7 & 9)"},{"$f":"'TRAINING MATRIX'!AD$74","v":0}]
[{"$f":"'TRAINING MATRIX'!AF2","v":0},{"$f":"'TRAINING MATRIX'!AE$74","v":0}]
[{"$f":"'TRAINING MATRIX'!AF2","v":0},{"$f":"'TRAINING MATRIX'!AF$74","v":0}]
[{"$f":"'TRAINING MATRIX'!AG2","v":"TTB Climbing On & Off Vehicles"},{"$f":"'TRAINING MATRIX'!AG$74","v":"22.8.19"}]
[{"$f":"'TRAINING MATRIX'!AH2","v":"TTB Climbing On & Off Trailers & Load Decks"},{"$f":"'TRAINING MATRIX'!AH$74","v":"25.8.19"}]
[{"$f":"'TRAINING MATRIX'!AI2","v":"TTB Jumping To a Lifetime of Pain"},{"$f":"'TRAINING MATRIX'!AI$74","v":"25.8.19"}]
[{"$f":"'TRAINING MATRIX'!AJ2","v":"TTB Dealing With Cyclists"},{"$f":"'TRAINING MATRIX'!AJ$74","v":"25.8.19"}]
[{"$f":"'TRAINING MATRIX'!AK2","v":"TTB Fitness to Drive"},{"$f":"'TRAINING MATRIX'!AK$74","v":"25.8.19"}]
[{"$f":"'TRAINING MATRIX'!AL2","v":"TTB Loading & Unloading"},{"$f":"'TRAINING MATRIX'!AL$74","v":"25.8.19"}]
[{"$f":"'TRAINING MATRIX'!AM2","v":"TTB Protecting Vulnerable Road Users"},{"$f":"'TRAINING MATRIX'!AM$74","v":"25.8.19"}]
[{"$f":"'TRAINING MATRIX'!AN2","v":0},{"$f":"'TRAINING MATRIX'!AN$74","v":0}]
[{"$f":"'TRAINING MATRIX'!AO2","v":"SSOW Coupling and Uncoupling"},{"$f":"'TRAINING MATRIX'!AO$74","v":0}]
[{"$f":"'TRAINING MATRIX'!AP2","v":"SSOW Scanning Shed"},{"$f":"'TRAINING MATRIX'!AP$74","v":0}]
[{"$f":"'TRAINING MATRIX'!AQ2","v":"SWP Drivers Walkaround Checks"},{"$f":"'TRAINING MATRIX'!AQ$74","v":0}]
[{"$f":"'TRAINING MATRIX'!AR2","v":0},{"$f":"'TRAINING MATRIX'!AR$74","v":0}]
[{"$f":"'TRAINING MATRIX'!AS2","v":0},{"$f":"'TRAINING MATRIX'!AS$74","v":0}]
[{"$f":"'TRAINING MATRIX'!AT2","v":0},{"$f":"'TRAINING MATRIX'!AT$74","v":0}]
[{"$f":"'TRAINING MATRIX'!AU2","v":0},{"$f":"'TRAINING MATRIX'!AU$74","v":0}]
[{"$f":"'TRAINING MATRIX'!AV2","v":0},{"$f":"'TRAINING MATRIX'!AV$74","v":0}]
[{"$f":"'TRAINING MATRIX'!AW2","v":0},{"$f":"'TRAINING MATRIX'!AW$74","v":0}]
[{"$f":"'TRAINING MATRIX'!AX2","v":0},{"$f":"'TRAINING MATRIX'!AX$74","v":0}]
[{"$f":"'TRAINING MATRIX'!AY2","v":0},{"$f":"'TRAINING MATRIX'!AY$74","v":0}]
[{"$f":"'TRAINING MATRIX'!AZ2","v":0},{"$f":"'TRAINING MATRIX'!AZ$74","v":0}]

{"sheet":"Robert Smith","index":74,"n_rows":52,"n_cols":2,"rows_kept":52,"cut":false,"hidden":false,"merged":[]}
["Driver Name","Completed / Issued"]
[{"$f":"'TRAINING MATRIX'!A75","v":"Smith Robert"},{"$f":"'TRAINING MATRIX'!C75","v":"C"}]
[{"$f":"'TRAINING MATRIX'!B$75","v":0}]
[{"$f":"'TRAINING MATRIX'!D2","v":0},{"$f":"'TRAINING MATRIX'!D$75","v":0}]
[{"$f":"'TRAINING MATRIX'!E2","v":0},{"$f":"'TRAINING MATRIX'!E$75","v":0}]
[{"$f":"'TRAINING MATRIX'!F2","v":0},{"$f":"'TRAINING MATRIX'!F$75","v":0}]
[{"$f":"'TRAINING MATRIX'!G2","v":"Assessed"},{"$f":"'TRAINING MATRIX'!G$75","v":0}]
[{"$f":"'TRAINING MATRIX'!H2","v":"Driver induction"},{"$f":"'TRAINING MATRIX'!H$75","v":"19.11.18"}]
[{"$f":"'TRAINING MATRIX'!I2","v":"Highway Code via KT"},{"$f":"'TRAINING MATRIX'!I$75","v":0}]
[{"$f":"'TRAINING MATRIX'!J2","v":"Drivers Code of Conduct"},{"$f":"'TRAINING MATRIX'!J$75","v":0}]
[{"$f":"'TRAINING MATRIX'!K2","v":"Smoking Policy"},{"$f":"'TRAINING MATRIX'!K$75","v":0}]
[{"$f":"'TRAINING MATRIX'!L2","v":"Mobile Communication Policy"},{"$f":"'TRAINING MATRIX'!L$75","v":"6.9.19"}]
[{"$f":"'TRAINING MATRIX'!N2","v":"Transport Charges & Fines Policy"},{"$f":"'TRAINING MATRIX'!N$75","v":"22.8.19"}]
[{"$f":"'TRAINING MATRIX'!M2","v":"Using Sat Nav"},{"$f":"'TRAINING MATRIX'!M$75","v":0}]
[{"$f":"'TRAINING MATRIX'!O2","v":"Goods Vehicle and Safety Policy"},{"$f":"'TRAINING MATRIX'!O$75","v":"25.8.19"}]
[{"$f":"'TRAINING MATRIX'!P2","v":"Safe Loading Policy"},{"$f":"'TRAINING MATRIX'!P$75","v":"25.8.19"}]
[{"$f":"'TRAINING MATRIX'!Q2","v":"Eye Sight Check"},{"$f":"'TRAINING MATRIX'!Q$75","v":"21.8.19"}]
[{"$f":"'TRAINING MATRIX'!R2","v":"Use of Tail lifts"},{"$f":"'TRAINING MATRIX'!X$75","v":"21.8.19"}]
[{"$f":"'TRAINING MATRIX'!S2","v":"CPC Periodic Training Module"},{"$f":"'TRAINING MATRIX'!Y$75","v":"5.9.19"}]
[{"$f":"'TRAINING MATRIX'!T2","v":"CPC Periodic Training Module"},{"$f":"'TRAINING MATRIX'!Z$75","v":0}]
[{"$f":"'TRAINING MATRIX'!U2","v":"CPC Periodic Training Module"},{"$f":"'TRAINING MATRIX'!AA$75","v":0}]
[{"$f":"'TRAINING MATRIX'!V2","v":"CPC Periodic Training Module"},{"$f":"'TRAINING MATRIX'!AB$75","v":0}]
[{"$f":"'TRAINING MATRIX'!W2","v":"CPC Periodic Training Module"},{"$f":"'TRAINING MATRIX'!AC$75","v":0}]
[{"$f":"'TRAINING MATRIX'!X2","v":"FORS Security and Counter-Terrorism"},{"$f":"'TRAINING MATRIX'!X$75","v":"21.8.19"}]
[{"$f":"'TRAINING MATRIX'!Y2","v":"FORS BridgeSmart"},{"$f":"'TRAINING MATRIX'!Y$75","v":"5.9.19"}]
[{"$f":"'TRAINING MATRIX'!D2","v":0},{"$f":"'TRAINING MATRIX'!Z$75","v":0}]
[{"$f":"'TRAINING MATRIX'!AA2","v":"FORS LoCity"},{"$f":"'TRAINING MATRIX'!AA$75","v":0}]
[{"$f":"'TRAINING MATRIX'!AB2","v":"FORS SmartDeliveries"},{"$f":"'TRAINING MATRIX'!AB$75","v":0}]
[{"$f":"'TRAINING MATRIX'!AD2","v":"ADR Awareness"},{"$f":"'TRAINING MATRIX'!AC$75","v":0}]
[{"$f":"'TRAINING MATRIX'!AE2","v":"ADR (Core, Packages and All Classes ex 7 & 9)"},{"$f":"'TRAINING MATRIX'!AD$75","v":0}]
[{"$f":"'TRAINING MATRIX'!AF2","v":0},{"$f":"'TRAINING MATRIX'!AE$75","v":0}]
[{"$f":"'TRAINING MATRIX'!AF2","v":0},{"$f":"'TRAINING MATRIX'!AF$75","v":0}]
[{"$f":"'TRAINING MATRIX'!AG2","v":"TTB Climbing On & Off Vehicles"},{"$f":"'TRAINING MATRIX'!AG$75","v":"22.8.19"}]
[{"$f":"'TRAINING MATRIX'!AH2","v":"TTB Climbing On & Off Trailers & Load Decks"},{"$f":"'TRAINING MATRIX'!AH$75","v":"25.8.19"}]
[{"$f":"'TRAINING MATRIX'!AI2","v":"TTB Jumping To a Lifetime of Pain"},{"$f":"'TRAINING MATRIX'!AI$75","v":"25.8.19"}]
[{"$f":"'TRAINING MATRIX'!AJ2","v":"TTB Dealing With Cyclists"},{"$f":"'TRAINING MATRIX'!AJ$75","v":"25.8.19"}]
[{"$f":"'TRAINING MATRIX'!AK2","v":"TTB Fitness to Drive"},{"$f":"'TRAINING MATRIX'!AK$75","v":"25.8.19"}]
[{"$f":"'TRAINING MATRIX'!AL2","v":"TTB Loading & Unloading"},{"$f":"'TRAINING MATRIX'!AL$75","v":"25.8.19"}]
[{"$f":"'TRAINING MATRIX'!AM2","v":"TTB Protecting Vulnerable Road Users"},{"$f":"'TRAINING MATRIX'!AM$75","v":"25.8.19"}]
[{"$f":"'TRAINING MATRIX'!AN2","v":0},{"$f":"'TRAINING MATRIX'!AN$75","v":0}]
[{"$f":"'TRAINING MATRIX'!AO2","v":"SSOW Coupling and Uncoupling"},{"$f":"'TRAINING MATRIX'!AO$75","v":0}]
[{"$f":"'TRAINING MATRIX'!AP2","v":"SSOW Scanning Shed"},{"$f":"'TRAINING MATRIX'!AP$75","v":0}]
[{"$f":"'TRAINING MATRIX'!AQ2","v":"SWP Drivers Walkaround Checks"},{"$f":"'TRAINING MATRIX'!AQ$75","v":0}]
[{"$f":"'TRAINING MATRIX'!AR2","v":0},{"$f":"'TRAINING MATRIX'!AR$75","v":0}]
[{"$f":"'TRAINING MATRIX'!AS2","v":0},{"$f":"'TRAINING MATRIX'!AS$75","v":0}]
[{"$f":"'TRAINING MATRIX'!AT2","v":0},{"$f":"'TRAINING MATRIX'!AT$75","v":0}]
[{"$f":"'TRAINING MATRIX'!AU2","v":0},{"$f":"'TRAINING MATRIX'!AU$75","v":0}]
[{"$f":"'TRAINING MATRIX'!AV2","v":0},{"$f":"'TRAINING MATRIX'!AV$75","v":0}]
[{"$f":"'TRAINING MATRIX'!AW2","v":0},{"$f":"'TRAINING MATRIX'!AW$75","v":0}]
[{"$f":"'TRAINING MATRIX'!AX2","v":0},{"$f":"'TRAINING MATRIX'!AX$75","v":0}]
[{"$f":"'TRAINING MATRIX'!AY2","v":0},{"$f":"'TRAINING MATRIX'!AY$75","v":0}]
[{"$f":"'TRAINING MATRIX'!AZ2","v":0},{"$f":"'TRAINING MATRIX'!AZ$75","v":0}]

{"sheet":"Wayne Smith","index":75,"n_rows":52,"n_cols":2,"rows_kept":52,"cut":false,"hidden":false,"merged":[]}
["Driver Name","Completed / Issued"]
[{"$f":"'TRAINING MATRIX'!A76","v":"Smith Wayne"},{"$f":"'TRAINING MATRIX'!C76","v":"CE"}]
[{"$f":"'TRAINING MATRIX'!B$76","v":0}]
[{"$f":"'TRAINING MATRIX'!D2","v":0},{"$f":"'TRAINING MATRIX'!D$76","v":0}]
[{"$f":"'TRAINING MATRIX'!E2","v":0},{"$f":"'TRAINING MATRIX'!E$76","v":0}]
[{"$f":"'TRAINING MATRIX'!F2","v":0},{"$f":"'TRAINING MATRIX'!F$76","v":0}]
[{"$f":"'TRAINING MATRIX'!G2","v":"Assessed"},{"$f":"'TRAINING MATRIX'!G$76","v":"25.01.19"}]
[{"$f":"'TRAINING MATRIX'!H2","v":"Driver induction"},{"$f":"'TRAINING MATRIX'!H$76","v":"25.01.19"}]
[{"$f":"'TRAINING MATRIX'!I2","v":"Highway Code via KT"},{"$f":"'TRAINING MATRIX'!I$76","v":0}]
[{"$f":"'TRAINING MATRIX'!J2","v":"Drivers Code of Conduct"},{"$f":"'TRAINING MATRIX'!J$76","v":0}]
[{"$f":"'TRAINING MATRIX'!K2","v":"Smoking Policy"},{"$f":"'TRAINING MATRIX'!K$76","v":0}]
[{"$f":"'TRAINING MATRIX'!L2","v":"Mobile Communication Policy"},{"$f":"'TRAINING MATRIX'!L$76","v":"6.9.19"}]
[{"$f":"'TRAINING MATRIX'!N2","v":"Transport Charges & Fines Policy"},{"$f":"'TRAINING MATRIX'!N$76","v":"22.8.19"}]
[{"$f":"'TRAINING MATRIX'!M2","v":"Using Sat Nav"},{"$f":"'TRAINING MATRIX'!M$76","v":0}]
[{"$f":"'TRAINING MATRIX'!O2","v":"Goods Vehicle and Safety Policy"},{"$f":"'TRAINING MATRIX'!O$76","v":"25.8.19"}]
[{"$f":"'TRAINING MATRIX'!P2","v":"Safe Loading Policy"},{"$f":"'TRAINING MATRIX'!P$76","v":"25.8.19"}]
[{"$f":"'TRAINING MATRIX'!Q2","v":"Eye Sight Check"},{"$f":"'TRAINING MATRIX'!Q$76","v":"11.9.19"}]
[{"$f":"'TRAINING MATRIX'!R2","v":"Use of Tail lifts"},{"$f":"'TRAINING MATRIX'!X$76","v":"21.8.19"}]
[{"$f":"'TRAINING MATRIX'!S2","v":"CPC Periodic Training Module"},{"$f":"'TRAINING MATRIX'!Y$76","v":"5.9.19"}]
[{"$f":"'TRAINING MATRIX'!T2","v":"CPC Periodic Training Module"},{"$f":"'TRAINING MATRIX'!Z$76","v":0}]
[{"$f":"'TRAINING MATRIX'!U2","v":"CPC Periodic Training Module"},{"$f":"'TRAINING MATRIX'!AA$76","v":0}]
[{"$f":"'TRAINING MATRIX'!V2","v":"CPC Periodic Training Module"},{"$f":"'TRAINING MATRIX'!AB$76","v":0}]
[{"$f":"'TRAINING MATRIX'!W2","v":"CPC Periodic Training Module"},{"$f":"'TRAINING MATRIX'!AC$76","v":0}]
[{"$f":"'TRAINING MATRIX'!X2","v":"FORS Security and Counter-Terrorism"},{"$f":"'TRAINING MATRIX'!X$76","v":"21.8.19"}]
[{"$f":"'TRAINING MATRIX'!Y2","v":"FORS BridgeSmart"},{"$f":"'TRAINING MATRIX'!Y$76","v":"5.9.19"}]
[{"$f":"'TRAINING MATRIX'!D2","v":0},{"$f":"'TRAINING MATRIX'!Z$76","v":0}]
[{"$f":"'TRAINING MATRIX'!AA2","v":"FORS LoCity"},{"$f":"'TRAINING MATRIX'!AA$76","v":0}]
[{"$f":"'TRAINING MATRIX'!AB2","v":"FORS SmartDeliveries"},{"$f":"'TRAINING MATRIX'!AB$76","v":0}]
[{"$f":"'TRAINING MATRIX'!AD2","v":"ADR Awareness"},{"$f":"'TRAINING MATRIX'!AC$76","v":0}]
[{"$f":"'TRAINING MATRIX'!AE2","v":"ADR (Core, Packages and All Classes ex 7 & 9)"},{"$f":"'TRAINING MATRIX'!AD$76","v":0}]
[{"$f":"'TRAINING MATRIX'!AF2","v":0},{"$f":"'TRAINING MATRIX'!AE$76","v":0}]
[{"$f":"'TRAINING MATRIX'!AF2","v":0},{"$f":"'TRAINING MATRIX'!AF$76","v":0}]
[{"$f":"'TRAINING MATRIX'!AG2","v":"TTB Climbing On & Off Vehicles"},{"$f":"'TRAINING MATRIX'!AG$76","v":"22.8.19"}]
[{"$f":"'TRAINING MATRIX'!AH2","v":"TTB Climbing On & Off Trailers & Load Decks"},{"$f":"'TRAINING MATRIX'!AH$76","v":"25.8.19"}]
[{"$f":"'TRAINING MATRIX'!AI2","v":"TTB Jumping To a Lifetime of Pain"},{"$f":"'TRAINING MATRIX'!AI$76","v":"25.8.19"}]
[{"$f":"'TRAINING MATRIX'!AJ2","v":"TTB Dealing With Cyclists"},{"$f":"'TRAINING MATRIX'!AJ$76","v":"25.8.19"}]
[{"$f":"'TRAINING MATRIX'!AK2","v":"TTB Fitness to Drive"},{"$f":"'TRAINING MATRIX'!AK$76","v":"25.8.19"}]
[{"$f":"'TRAINING MATRIX'!AL2","v":"TTB Loading & Unloading"},{"$f":"'TRAINING MATRIX'!AL$76","v":"25.8.19"}]
[{"$f":"'TRAINING MATRIX'!AM2","v":"TTB Protecting Vulnerable Road Users"},{"$f":"'TRAINING MATRIX'!AM$76","v":"25.8.19"}]
[{"$f":"'TRAINING MATRIX'!AN2","v":0},{"$f":"'TRAINING MATRIX'!AN$76","v":0}]
[{"$f":"'TRAINING MATRIX'!AO2","v":"SSOW Coupling and Uncoupling"},{"$f":"'TRAINING MATRIX'!AO$76","v":0}]
[{"$f":"'TRAINING MATRIX'!AP2","v":"SSOW Scanning Shed"},{"$f":"'TRAINING MATRIX'!AP$76","v":0}]
[{"$f":"'TRAINING MATRIX'!AQ2","v":"SWP Drivers Walkaround Checks"},{"$f":"'TRAINING MATRIX'!AQ$76","v":0}]
[{"$f":"'TRAINING MATRIX'!AR2","v":0},{"$f":"'TRAINING MATRIX'!AR$76","v":0}]
[{"$f":"'TRAINING MATRIX'!AS2","v":0},{"$f":"'TRAINING MATRIX'!AS$76","v":0}]
[{"$f":"'TRAINING MATRIX'!AT2","v":0},{"$f":"'TRAINING MATRIX'!AT$76","v":0}]
[{"$f":"'TRAINING MATRIX'!AU2","v":0},{"$f":"'TRAINING MATRIX'!AU$76","v":0}]
[{"$f":"'TRAINING MATRIX'!AV2","v":0},{"$f":"'TRAINING MATRIX'!AV$76","v":0}]
[{"$f":"'TRAINING MATRIX'!AW2","v":0},{"$f":"'TRAINING MATRIX'!AW$76","v":0}]
[{"$f":"'TRAINING MATRIX'!AX2","v":0},{"$f":"'TRAINING MATRIX'!AX$76","v":0}]
[{"$f":"'TRAINING MATRIX'!AY2","v":0},{"$f":"'TRAINING MATRIX'!AY$76","v":0}]
[{"$f":"'TRAINING MATRIX'!AZ2","v":0},{"$f":"'TRAINING MATRIX'!AZ$76","v":0}]

{"sheet":"Ifor Thomas","index":76,"n_rows":52,"n_cols":2,"rows_kept":52,"cut":false,"hidden":false,"merged":[]}
["Driver Name","Completed / Issued"]
[{"$f":"'TRAINING MATRIX'!A77","v":"Thomas Ifor"},{"$f":"'TRAINING MATRIX'!C77","v":"CE"}]
[{"$f":"'TRAINING MATRIX'!B$77","v":0}]
[{"$f":"'TRAINING MATRIX'!D2","v":0},{"$f":"'TRAINING MATRIX'!D$77","v":0}]
[{"$f":"'TRAINING MATRIX'!E2","v":0},{"$f":"'TRAINING MATRIX'!E$77","v":0}]
[{"$f":"'TRAINING MATRIX'!F2","v":0},{"$f":"'TRAINING MATRIX'!F$77","v":0}]
[{"$f":"'TRAINING MATRIX'!G2","v":"Assessed"},{"$f":"'TRAINING MATRIX'!G$77","v":0}]
[{"$f":"'TRAINING MATRIX'!H2","v":"Driver induction"},{"$f":"'TRAINING MATRIX'!H$77","v":0}]
[{"$f":"'TRAINING MATRIX'!I2","v":"Highway Code via KT"},{"$f":"'TRAINING MATRIX'!I$77","v":0}]
[{"$f":"'TRAINING MATRIX'!J2","v":"Drivers Code of Conduct"},{"$f":"'TRAINING MATRIX'!J$77","v":0}]
[{"$f":"'TRAINING MATRIX'!K2","v":"Smoking Policy"},{"$f":"'TRAINING MATRIX'!K$77","v":0}]
[{"$f":"'TRAINING MATRIX'!L2","v":"Mobile Communication Policy"},{"$f":"'TRAINING MATRIX'!L$77","v":"6.9.19"}]
[{"$f":"'TRAINING MATRIX'!N2","v":"Transport Charges & Fines Policy"},{"$f":"'TRAINING MATRIX'!N$77","v":"22.8.19"}]
[{"$f":"'TRAINING MATRIX'!M2","v":"Using Sat Nav"},{"$f":"'TRAINING MATRIX'!M$77","v":0}]
[{"$f":"'TRAINING MATRIX'!O2","v":"Goods Vehicle and Safety Policy"},{"$f":"'TRAINING MATRIX'!O$77","v":"25.8.19"}]
[{"$f":"'TRAINING MATRIX'!P2","v":"Safe Loading Policy"},{"$f":"'TRAINING MATRIX'!P$77","v":"25.8.19"}]
[{"$f":"'TRAINING MATRIX'!Q2","v":"Eye Sight Check"},{"$f":"'TRAINING MATRIX'!Q$77","v":"4.9.19"}]
[{"$f":"'TRAINING MATRIX'!R2","v":"Use of Tail lifts"},{"$f":"'TRAINING MATRIX'!X$77","v":"21.8.19"}]
[{"$f":"'TRAINING MATRIX'!S2","v":"CPC Periodic Training Module"},{"$f":"'TRAINING MATRIX'!Y$77","v":"5.9.19"}]
[{"$f":"'TRAINING MATRIX'!T2","v":"CPC Periodic Training Module"},{"$f":"'TRAINING MATRIX'!Z$77","v":0}]
[{"$f":"'TRAINING MATRIX'!U2","v":"CPC Periodic Training Module"},{"$f":"'TRAINING MATRIX'!AA$77","v":0}]
[{"$f":"'TRAINING MATRIX'!V2","v":"CPC Periodic Training Module"},{"$f":"'TRAINING MATRIX'!AB$77","v":0}]
[{"$f":"'TRAINING MATRIX'!W2","v":"CPC Periodic Training Module"},{"$f":"'TRAINING MATRIX'!AC$77","v":0}]
[{"$f":"'TRAINING MATRIX'!X2","v":"FORS Security and Counter-Terrorism"},{"$f":"'TRAINING MATRIX'!X$77","v":"21.8.19"}]
[{"$f":"'TRAINING MATRIX'!Y2","v":"FORS BridgeSmart"},{"$f":"'TRAINING MATRIX'!Y$77","v":"5.9.19"}]
[{"$f":"'TRAINING MATRIX'!D2","v":0},{"$f":"'TRAINING MATRIX'!Z$77","v":0}]
[{"$f":"'TRAINING MATRIX'!AA2","v":"FORS LoCity"},{"$f":"'TRAINING MATRIX'!AA$77","v":0}]
[{"$f":"'TRAINING MATRIX'!AB2","v":"FORS SmartDeliveries"},{"$f":"'TRAINING MATRIX'!AB$77","v":0}]
[{"$f":"'TRAINING MATRIX'!AD2","v":"ADR Awareness"},{"$f":"'TRAINING MATRIX'!AC$77","v":0}]
[{"$f":"'TRAINING MATRIX'!AE2","v":"ADR (Core, Packages and All Classes ex 7 & 9)"},{"$f":"'TRAINING MATRIX'!AD$77","v":0}]
[{"$f":"'TRAINING MATRIX'!AF2","v":0},{"$f":"'TRAINING MATRIX'!AE$77","v":0}]
[{"$f":"'TRAINING MATRIX'!AF2","v":0},{"$f":"'TRAINING MATRIX'!AF$77","v":0}]
[{"$f":"'TRAINING MATRIX'!AG2","v":"TTB Climbing On & Off Vehicles"},{"$f":"'TRAINING MATRIX'!AG$77","v":"22.8.19"}]
[{"$f":"'TRAINING MATRIX'!AH2","v":"TTB Climbing On & Off Trailers & Load Decks"},{"$f":"'TRAINING MATRIX'!AH$77","v":"25.8.19"}]
[{"$f":"'TRAINING MATRIX'!AI2","v":"TTB Jumping To a Lifetime of Pain"},{"$f":"'TRAINING MATRIX'!AI$77","v":"25.8.19"}]
[{"$f":"'TRAINING MATRIX'!AJ2","v":"TTB Dealing With Cyclists"},{"$f":"'TRAINING MATRIX'!AJ$77","v":"25.8.19"}]
[{"$f":"'TRAINING MATRIX'!AK2","v":"TTB Fitness to Drive"},{"$f":"'TRAINING MATRIX'!AK$77","v":"25.8.19"}]
[{"$f":"'TRAINING MATRIX'!AL2","v":"TTB Loading & Unloading"},{"$f":"'TRAINING MATRIX'!AL$77","v":"25.8.19"}]
[{"$f":"'TRAINING MATRIX'!AM2","v":"TTB Protecting Vulnerable Road Users"},{"$f":"'TRAINING MATRIX'!AM$77","v":"25.8.19"}]
[{"$f":"'TRAINING MATRIX'!AN2","v":0},{"$f":"'TRAINING MATRIX'!AN$77","v":0}]
[{"$f":"'TRAINING MATRIX'!AO2","v":"SSOW Coupling and Uncoupling"},{"$f":"'TRAINING MATRIX'!AO$77","v":0}]
[{"$f":"'TRAINING MATRIX'!AP2","v":"SSOW Scanning Shed"},{"$f":"'TRAINING MATRIX'!AP$77","v":0}]
[{"$f":"'TRAINING MATRIX'!AQ2","v":"SWP Drivers Walkaround Checks"},{"$f":"'TRAINING MATRIX'!AQ$77","v":0}]
[{"$f":"'TRAINING MATRIX'!AR2","v":0},{"$f":"'TRAINING MATRIX'!AR$77","v":0}]
[{"$f":"'TRAINING MATRIX'!AS2","v":0},{"$f":"'TRAINING MATRIX'!AS$77","v":0}]
[{"$f":"'TRAINING MATRIX'!AT2","v":0},{"$f":"'TRAINING MATRIX'!AT$77","v":0}]
[{"$f":"'TRAINING MATRIX'!AU2","v":0},{"$f":"'TRAINING MATRIX'!AU$77","v":0}]
[{"$f":"'TRAINING MATRIX'!AV2","v":0},{"$f":"'TRAINING MATRIX'!AV$77","v":0}]
[{"$f":"'TRAINING MATRIX'!AW2","v":0},{"$f":"'TRAINING MATRIX'!AW$77","v":0}]
[{"$f":"'TRAINING MATRIX'!AX2","v":0},{"$f":"'TRAINING MATRIX'!AX$77","v":0}]
[{"$f":"'TRAINING MATRIX'!AY2","v":0},{"$f":"'TRAINING MATRIX'!AY$77","v":0}]
[{"$f":"'TRAINING MATRIX'!AZ2","v":0}]

{"sheet":"Jason Thresher","index":77,"n_rows":52,"n_cols":2,"rows_kept":52,"cut":false,"hidden":false,"merged":[]}
["Driver Name","Completed / Issued"]
[{"$f":"'TRAINING MATRIX'!A78","v":"Thresher Jason"},{"$f":"'TRAINING MATRIX'!C78","v":"C"}]
[{"$f":"'TRAINING MATRIX'!B$78","v":0}]
[{"$f":"'TRAINING MATRIX'!D2","v":0},{"$f":"'TRAINING MATRIX'!D$78","v":0}]
[{"$f":"'TRAINING MATRIX'!E2","v":0},{"$f":"'TRAINING MATRIX'!E$78","v":0}]
[{"$f":"'TRAINING MATRIX'!F2","v":0},{"$f":"'TRAINING MATRIX'!F$78","v":0}]
[{"$f":"'TRAINING MATRIX'!G2","v":"Assessed"},{"$f":"'TRAINING MATRIX'!G$78","v":0}]
[{"$f":"'TRAINING MATRIX'!H2","v":"Driver induction"},{"$f":"'TRAINING MATRIX'!H$78","v":0}]
[{"$f":"'TRAINING MATRIX'!I2","v":"Highway Code via KT"},{"$f":"'TRAINING MATRIX'!I$78","v":0}]
[{"$f":"'TRAINING MATRIX'!J2","v":"Drivers Code of Conduct"},{"$f":"'TRAINING MATRIX'!J$78","v":0}]
[{"$f":"'TRAINING MATRIX'!K2","v":"Smoking Policy"},{"$f":"'TRAINING MATRIX'!K$78","v":0}]
[{"$f":"'TRAINING MATRIX'!L2","v":"Mobile Communication Policy"},{"$f":"'TRAINING MATRIX'!L$78","v":"6.9.19"}]
[{"$f":"'TRAINING MATRIX'!N2","v":"Transport Charges & Fines Policy"},{"$f":"'TRAINING MATRIX'!N$78","v":"22.8.19"}]
[{"$f":"'TRAINING MATRIX'!M2","v":"Using Sat Nav"},{"$f":"'TRAINING MATRIX'!M$78","v":0}]
[{"$f":"'TRAINING MATRIX'!O2","v":"Goods Vehicle and Safety Policy"},{"$f":"'TRAINING MATRIX'!O$78","v":"25.8.19"}]
[{"$f":"'TRAINING MATRIX'!P2","v":"Safe Loading Policy"},{"$f":"'TRAINING MATRIX'!P$78","v":"25.8.19"}]
[{"$f":"'TRAINING MATRIX'!Q2","v":"Eye Sight Check"},{"$f":"'TRAINING MATRIX'!Q$78","v":"3.9.19"}]
[{"$f":"'TRAINING MATRIX'!R2","v":"Use of Tail lifts"},{"$f":"'TRAINING MATRIX'!X$78","v":"21.8.19"}]
[{"$f":"'TRAINING MATRIX'!S2","v":"CPC Periodic Training Module"},{"$f":"'TRAINING MATRIX'!Y$78","v":"5.9.19"}]
[{"$f":"'TRAINING MATRIX'!T2","v":"CPC Periodic Training Module"},{"$f":"'TRAINING MATRIX'!Z$78","v":0}]
[{"$f":"'TRAINING MATRIX'!U2","v":"CPC Periodic Training Module"},{"$f":"'TRAINING MATRIX'!AA$78","v":0}]
[{"$f":"'TRAINING MATRIX'!V2","v":"CPC Periodic Training Module"},{"$f":"'TRAINING MATRIX'!AB$78","v":0}]
[{"$f":"'TRAINING MATRIX'!W2","v":"CPC Periodic Training Module"},{"$f":"'TRAINING MATRIX'!AC$78","v":0}]
[{"$f":"'TRAINING MATRIX'!X2","v":"FORS Security and Counter-Terrorism"},{"$f":"'TRAINING MATRIX'!X$78","v":"21.8.19"}]
[{"$f":"'TRAINING MATRIX'!Y2","v":"FORS BridgeSmart"},{"$f":"'TRAINING MATRIX'!Y$78","v":"5.9.19"}]
[{"$f":"'TRAINING MATRIX'!D2","v":0},{"$f":"'TRAINING MATRIX'!Z$78","v":0}]
[{"$f":"'TRAINING MATRIX'!AA2","v":"FORS LoCity"},{"$f":"'TRAINING MATRIX'!AA$78","v":0}]
[{"$f":"'TRAINING MATRIX'!AB2","v":"FORS SmartDeliveries"},{"$f":"'TRAINING MATRIX'!AB$78","v":0}]
[{"$f":"'TRAINING MATRIX'!AD2","v":"ADR Awareness"},{"$f":"'TRAINING MATRIX'!AC$78","v":0}]
[{"$f":"'TRAINING MATRIX'!AE2","v":"ADR (Core, Packages and All Classes ex 7 & 9)"},{"$f":"'TRAINING MATRIX'!AD$78","v":0}]
[{"$f":"'TRAINING MATRIX'!AF2","v":0},{"$f":"'TRAINING MATRIX'!AE$78","v":0}]
[{"$f":"'TRAINING MATRIX'!AF2","v":0},{"$f":"'TRAINING MATRIX'!AF$78","v":0}]
[{"$f":"'TRAINING MATRIX'!AG2","v":"TTB Climbing On & Off Vehicles"},{"$f":"'TRAINING MATRIX'!AG$78","v":"22.8.19"}]
[{"$f":"'TRAINING MATRIX'!AH2","v":"TTB Climbing On & Off Trailers & Load Decks"},{"$f":"'TRAINING MATRIX'!AH$78","v":"25.8.19"}]
[{"$f":"'TRAINING MATRIX'!AI2","v":"TTB Jumping To a Lifetime of Pain"},{"$f":"'TRAINING MATRIX'!AI$78","v":"25.8.19"}]
[{"$f":"'TRAINING MATRIX'!AJ2","v":"TTB Dealing With Cyclists"},{"$f":"'TRAINING MATRIX'!AJ$78","v":"25.8.19"}]
[{"$f":"'TRAINING MATRIX'!AK2","v":"TTB Fitness to Drive"},{"$f":"'TRAINING MATRIX'!AK$78","v":"25.8.19"}]
[{"$f":"'TRAINING MATRIX'!AL2","v":"TTB Loading & Unloading"},{"$f":"'TRAINING MATRIX'!AL$78","v":"25.8.19"}]
[{"$f":"'TRAINING MATRIX'!AM2","v":"TTB Protecting Vulnerable Road Users"},{"$f":"'TRAINING MATRIX'!AM$78","v":"25.8.19"}]
[{"$f":"'TRAINING MATRIX'!AN2","v":0},{"$f":"'TRAINING MATRIX'!AN$78","v":0}]
[{"$f":"'TRAINING MATRIX'!AO2","v":"SSOW Coupling and Uncoupling"},{"$f":"'TRAINING MATRIX'!AO$78","v":0}]
[{"$f":"'TRAINING MATRIX'!AP2","v":"SSOW Scanning Shed"},{"$f":"'TRAINING MATRIX'!AP$78","v":0}]
[{"$f":"'TRAINING MATRIX'!AQ2","v":"SWP Drivers Walkaround Checks"},{"$f":"'TRAINING MATRIX'!AQ$78","v":0}]
[{"$f":"'TRAINING MATRIX'!AR2","v":0},{"$f":"'TRAINING MATRIX'!AR$78","v":0}]
[{"$f":"'TRAINING MATRIX'!AS2","v":0},{"$f":"'TRAINING MATRIX'!AS$78","v":0}]
[{"$f":"'TRAINING MATRIX'!AT2","v":0},{"$f":"'TRAINING MATRIX'!AT$78","v":0}]
[{"$f":"'TRAINING MATRIX'!AU2","v":0},{"$f":"'TRAINING MATRIX'!AU$78","v":0}]
[{"$f":"'TRAINING MATRIX'!AV2","v":0},{"$f":"'TRAINING MATRIX'!AV$78","v":0}]
[{"$f":"'TRAINING MATRIX'!AW2","v":0},{"$f":"'TRAINING MATRIX'!AW$78","v":0}]
[{"$f":"'TRAINING MATRIX'!AX2","v":0},{"$f":"'TRAINING MATRIX'!AX$78","v":0}]
[{"$f":"'TRAINING MATRIX'!AY2","v":0},{"$f":"'TRAINING MATRIX'!AY$78","v":0}]
[{"$f":"'TRAINING MATRIX'!AZ2","v":0},{"$f":"'TRAINING MATRIX'!AZ$78","v":0}]

{"sheet":"Jonathan Townsend","index":78,"n_rows":52,"n_cols":2,"rows_kept":52,"cut":false,"hidden":false,"merged":[]}
["Driver Name","Completed / Issued"]
[{"$f":"'TRAINING MATRIX'!A79","v":"Townsend Jonathan"},{"$f":"'TRAINING MATRIX'!C79","v":"CE"}]
[{"$f":"'TRAINING MATRIX'!B$79","v":0}]
[{"$f":"'TRAINING MATRIX'!D2","v":0},{"$f":"'TRAINING MATRIX'!D$79","v":0}]
[{"$f":"'TRAINING MATRIX'!E2","v":0},{"$f":"'TRAINING MATRIX'!E$79","v":0}]
[{"$f":"'TRAINING MATRIX'!F2","v":0},{"$f":"'TRAINING MATRIX'!F$79","v":0}]
[{"$f":"'TRAINING MATRIX'!G2","v":"Assessed"},{"$f":"'TRAINING MATRIX'!G$79","v":"06.03.19"}]
[{"$f":"'TRAINING MATRIX'!H2","v":"Driver induction"},{"$f":"'TRAINING MATRIX'!H$79","v":"06.03.19"}]
[{"$f":"'TRAINING MATRIX'!I2","v":"Highway Code via KT"},{"$f":"'TRAINING MATRIX'!I$79","v":0}]
[{"$f":"'TRAINING MATRIX'!J2","v":"Drivers Code of Conduct"},{"$f":"'TRAINING MATRIX'!J$79","v":0}]
[{"$f":"'TRAINING MATRIX'!K2","v":"Smoking Policy"},{"$f":"'TRAINING MATRIX'!K$79","v":0}]
[{"$f":"'TRAINING MATRIX'!L2","v":"Mobile Communication Policy"},{"$f":"'TRAINING MATRIX'!L$79","v":"6.9.19"}]
[{"$f":"'TRAINING MATRIX'!N2","v":"Transport Charges & Fines Policy"},{"$f":"'TRAINING MATRIX'!N$79","v":"22.8.19"}]
[{"$f":"'TRAINING MATRIX'!M2","v":"Using Sat Nav"},{"$f":"'TRAINING MATRIX'!M$79","v":0}]
[{"$f":"'TRAINING MATRIX'!O2","v":"Goods Vehicle and Safety Policy"},{"$f":"'TRAINING MATRIX'!O$79","v":"25.8.19"}]
[{"$f":"'TRAINING MATRIX'!P2","v":"Safe Loading Policy"},{"$f":"'TRAINING MATRIX'!P$79","v":"25.8.19"}]
[{"$f":"'TRAINING MATRIX'!Q2","v":"Eye Sight Check"},{"$f":"'TRAINING MATRIX'!Q$79","v":"22.8.19"}]
[{"$f":"'TRAINING MATRIX'!R2","v":"Use of Tail lifts"},{"$f":"'TRAINING MATRIX'!X$79","v":"21.8.19"}]
[{"$f":"'TRAINING MATRIX'!S2","v":"CPC Periodic Training Module"},{"$f":"'TRAINING MATRIX'!Y$79","v":"5.9.19"}]
[{"$f":"'TRAINING MATRIX'!T2","v":"CPC Periodic Training Module"},{"$f":"'TRAINING MATRIX'!Z$79","v":0}]
[{"$f":"'TRAINING MATRIX'!U2","v":"CPC Periodic Training Module"},{"$f":"'TRAINING MATRIX'!AA$79","v":0}]
[{"$f":"'TRAINING MATRIX'!V2","v":"CPC Periodic Training Module"},{"$f":"'TRAINING MATRIX'!AB$79","v":0}]
[{"$f":"'TRAINING MATRIX'!W2","v":"CPC Periodic Training Module"},{"$f":"'TRAINING MATRIX'!AC$79","v":0}]
[{"$f":"'TRAINING MATRIX'!X2","v":"FORS Security and Counter-Terrorism"},{"$f":"'TRAINING MATRIX'!X$79","v":"21.8.19"}]
[{"$f":"'TRAINING MATRIX'!Y2","v":"FORS BridgeSmart"},{"$f":"'TRAINING MATRIX'!Y$79","v":"5.9.19"}]
[{"$f":"'TRAINING MATRIX'!D2","v":0},{"$f":"'TRAINING MATRIX'!Z$79","v":0}]
[{"$f":"'TRAINING MATRIX'!AA2","v":"FORS LoCity"},{"$f":"'TRAINING MATRIX'!AA$79","v":0}]
[{"$f":"'TRAINING MATRIX'!AB2","v":"FORS SmartDeliveries"},{"$f":"'TRAINING MATRIX'!AB$79","v":0}]
[{"$f":"'TRAINING MATRIX'!AD2","v":"ADR Awareness"},{"$f":"'TRAINING MATRIX'!AC$79","v":0}]
[{"$f":"'TRAINING MATRIX'!AE2","v":"ADR (Core, Packages and All Classes ex 7 & 9)"},{"$f":"'TRAINING MATRIX'!AD$79","v":0}]
[{"$f":"'TRAINING MATRIX'!AF2","v":0},{"$f":"'TRAINING MATRIX'!AE$79","v":0}]
[{"$f":"'TRAINING MATRIX'!AF2","v":0},{"$f":"'TRAINING MATRIX'!AF$79","v":0}]
[{"$f":"'TRAINING MATRIX'!AG2","v":"TTB Climbing On & Off Vehicles"},{"$f":"'TRAINING MATRIX'!AG$79","v":"22.8.19"}]
[{"$f":"'TRAINING MATRIX'!AH2","v":"TTB Climbing On & Off Trailers & Load Decks"},{"$f":"'TRAINING MATRIX'!AH$79","v":"25.8.19"}]
[{"$f":"'TRAINING MATRIX'!AI2","v":"TTB Jumping To a Lifetime of Pain"},{"$f":"'TRAINING MATRIX'!AI$79","v":"25.8.19"}]
[{"$f":"'TRAINING MATRIX'!AJ2","v":"TTB Dealing With Cyclists"},{"$f":"'TRAINING MATRIX'!AJ$79","v":"25.8.19"}]
[{"$f":"'TRAINING MATRIX'!AK2","v":"TTB Fitness to Drive"},{"$f":"'TRAINING MATRIX'!AK$79","v":"25.8.19"}]
[{"$f":"'TRAINING MATRIX'!AL2","v":"TTB Loading & Unloading"},{"$f":"'TRAINING MATRIX'!AL$79","v":"25.8.19"}]
[{"$f":"'TRAINING MATRIX'!AM2","v":"TTB Protecting Vulnerable Road Users"},{"$f":"'TRAINING MATRIX'!AM$79","v":"25.8.19"}]
[{"$f":"'TRAINING MATRIX'!AN2","v":0},{"$f":"'TRAINING MATRIX'!AN$79","v":0}]
[{"$f":"'TRAINING MATRIX'!AO2","v":"SSOW Coupling and Uncoupling"},{"$f":"'TRAINING MATRIX'!AO$79","v":0}]
[{"$f":"'TRAINING MATRIX'!AP2","v":"SSOW Scanning Shed"},{"$f":"'TRAINING MATRIX'!AP$79","v":0}]
[{"$f":"'TRAINING MATRIX'!AQ2","v":"SWP Drivers Walkaround Checks"},{"$f":"'TRAINING MATRIX'!AQ$79","v":0}]
[{"$f":"'TRAINING MATRIX'!AR2","v":0},{"$f":"'TRAINING MATRIX'!AR$79","v":0}]
[{"$f":"'TRAINING MATRIX'!AS2","v":0},{"$f":"'TRAINING MATRIX'!AS$79","v":0}]
[{"$f":"'TRAINING MATRIX'!AT2","v":0},{"$f":"'TRAINING MATRIX'!AT$79","v":0}]
[{"$f":"'TRAINING MATRIX'!AU2","v":0},{"$f":"'TRAINING MATRIX'!AU$79","v":0}]
[{"$f":"'TRAINING MATRIX'!AV2","v":0},{"$f":"'TRAINING MATRIX'!AV$79","v":0}]
[{"$f":"'TRAINING MATRIX'!AW2","v":0},{"$f":"'TRAINING MATRIX'!AW$79","v":0}]
[{"$f":"'TRAINING MATRIX'!AX2","v":0},{"$f":"'TRAINING MATRIX'!AX$79","v":0}]
[{"$f":"'TRAINING MATRIX'!AY2","v":0},{"$f":"'TRAINING MATRIX'!AY$79","v":0}]
[{"$f":"'TRAINING MATRIX'!AZ2","v":0},{"$f":"'TRAINING MATRIX'!AZ$79","v":0}]

{"sheet":"Michael Trow","index":79,"n_rows":52,"n_cols":2,"rows_kept":52,"cut":false,"hidden":false,"merged":[]}
["Driver Name","Completed / Issued"]
[{"$f":"'TRAINING MATRIX'!A80","v":"Trow Mike"},{"$f":"'TRAINING MATRIX'!C80","v":"CE"}]
[{"$f":"'TRAINING MATRIX'!B$80","v":0}]
[{"$f":"'TRAINING MATRIX'!D2","v":0},{"$f":"'TRAINING MATRIX'!D$80","v":0}]
[{"$f":"'TRAINING MATRIX'!E2","v":0},{"$f":"'TRAINING MATRIX'!E$80","v":0}]
[{"$f":"'TRAINING MATRIX'!F2","v":0},{"$f":"'TRAINING MATRIX'!F$80","v":0}]
[{"$f":"'TRAINING MATRIX'!G2","v":"Assessed"},{"$f":"'TRAINING MATRIX'!G$80","v":0}]
[{"$f":"'TRAINING MATRIX'!H2","v":"Driver induction"},{"$f":"'TRAINING MATRIX'!H$80","v":0}]
[{"$f":"'TRAINING MATRIX'!I2","v":"Highway Code via KT"},{"$f":"'TRAINING MATRIX'!I$80","v":0}]
[{"$f":"'TRAINING MATRIX'!J2","v":"Drivers Code of Conduct"},{"$f":"'TRAINING MATRIX'!J$80","v":0}]
[{"$f":"'TRAINING MATRIX'!K2","v":"Smoking Policy"},{"$f":"'TRAINING MATRIX'!K$80","v":0}]
[{"$f":"'TRAINING MATRIX'!L2","v":"Mobile Communication Policy"},{"$f":"'TRAINING MATRIX'!L$80","v":"6.9.19"}]
[{"$f":"'TRAINING MATRIX'!N2","v":"Transport Charges & Fines Policy"},{"$f":"'TRAINING MATRIX'!N$80","v":"22.8.19"}]
[{"$f":"'TRAINING MATRIX'!M2","v":"Using Sat Nav"},{"$f":"'TRAINING MATRIX'!M$80","v":0}]
[{"$f":"'TRAINING MATRIX'!O2","v":"Goods Vehicle and Safety Policy"},{"$f":"'TRAINING MATRIX'!O$80","v":"25.8.19"}]
[{"$f":"'TRAINING MATRIX'!P2","v":"Safe Loading Policy"},{"$f":"'TRAINING MATRIX'!P$80","v":"25.8.19"}]
[{"$f":"'TRAINING MATRIX'!Q2","v":"Eye Sight Check"},{"$f":"'TRAINING MATRIX'!Q$80","v":0}]
[{"$f":"'TRAINING MATRIX'!R2","v":"Use of Tail lifts"},{"$f":"'TRAINING MATRIX'!X$80","v":"21.8.19"}]
[{"$f":"'TRAINING MATRIX'!S2","v":"CPC Periodic Training Module"},{"$f":"'TRAINING MATRIX'!Y$80","v":"5.9.19"}]
[{"$f":"'TRAINING MATRIX'!T2","v":"CPC Periodic Training Module"},{"$f":"'TRAINING MATRIX'!Z$80","v":0}]
[{"$f":"'TRAINING MATRIX'!U2","v":"CPC Periodic Training Module"},{"$f":"'TRAINING MATRIX'!AA$80","v":0}]
[{"$f":"'TRAINING MATRIX'!V2","v":"CPC Periodic Training Module"},{"$f":"'TRAINING MATRIX'!AB$80","v":0}]
[{"$f":"'TRAINING MATRIX'!W2","v":"CPC Periodic Training Module"},{"$f":"'TRAINING MATRIX'!AC$80","v":0}]
[{"$f":"'TRAINING MATRIX'!X2","v":"FORS Security and Counter-Terrorism"},{"$f":"'TRAINING MATRIX'!X$80","v":"21.8.19"}]
[{"$f":"'TRAINING MATRIX'!Y2","v":"FORS BridgeSmart"},{"$f":"'TRAINING MATRIX'!Y$80","v":"5.9.19"}]
[{"$f":"'TRAINING MATRIX'!D2","v":0},{"$f":"'TRAINING MATRIX'!Z$80","v":0}]
[{"$f":"'TRAINING MATRIX'!AA2","v":"FORS LoCity"},{"$f":"'TRAINING MATRIX'!AA$80","v":0}]
[{"$f":"'TRAINING MATRIX'!AB2","v":"FORS SmartDeliveries"},{"$f":"'TRAINING MATRIX'!AB$80","v":0}]
[{"$f":"'TRAINING MATRIX'!AD2","v":"ADR Awareness"},{"$f":"'TRAINING MATRIX'!AC$80","v":0}]
[{"$f":"'TRAINING MATRIX'!AE2","v":"ADR (Core, Packages and All Classes ex 7 & 9)"},{"$f":"'TRAINING MATRIX'!AD$80","v":0}]
[{"$f":"'TRAINING MATRIX'!AF2","v":0},{"$f":"'TRAINING MATRIX'!AE$80","v":0}]
[{"$f":"'TRAINING MATRIX'!AF2","v":0},{"$f":"'TRAINING MATRIX'!AF$80","v":0}]
[{"$f":"'TRAINING MATRIX'!AG2","v":"TTB Climbing On & Off Vehicles"},{"$f":"'TRAINING MATRIX'!AG$80","v":"22.8.19"}]
[{"$f":"'TRAINING MATRIX'!AH2","v":"TTB Climbing On & Off Trailers & Load Decks"},{"$f":"'TRAINING MATRIX'!AH$80","v":"25.8.19"}]
[{"$f":"'TRAINING MATRIX'!AI2","v":"TTB Jumping To a Lifetime of Pain"},{"$f":"'TRAINING MATRIX'!AI$80","v":"25.8.19"}]
[{"$f":"'TRAINING MATRIX'!AJ2","v":"TTB Dealing With Cyclists"},{"$f":"'TRAINING MATRIX'!AJ$80","v":"25.8.19"}]
[{"$f":"'TRAINING MATRIX'!AK2","v":"TTB Fitness to Drive"},{"$f":"'TRAINING MATRIX'!AK$80","v":"25.8.19"}]
[{"$f":"'TRAINING MATRIX'!AL2","v":"TTB Loading & Unloading"},{"$f":"'TRAINING MATRIX'!AL$80","v":"25.8.19"}]
[{"$f":"'TRAINING MATRIX'!AM2","v":"TTB Protecting Vulnerable Road Users"},{"$f":"'TRAINING MATRIX'!AM$80","v":"25.8.19"}]
[{"$f":"'TRAINING MATRIX'!AN2","v":0},{"$f":"'TRAINING MATRIX'!AN$80","v":0}]
[{"$f":"'TRAINING MATRIX'!AO2","v":"SSOW Coupling and Uncoupling"},{"$f":"'TRAINING MATRIX'!AO$80","v":0}]
[{"$f":"'TRAINING MATRIX'!AP2","v":"SSOW Scanning Shed"},{"$f":"'TRAINING MATRIX'!AP$80","v":0}]
[{"$f":"'TRAINING MATRIX'!AQ2","v":"SWP Drivers Walkaround Checks"},{"$f":"'TRAINING MATRIX'!AQ$80","v":0}]
[{"$f":"'TRAINING MATRIX'!AR2","v":0},{"$f":"'TRAINING MATRIX'!AR$80","v":0}]
[{"$f":"'TRAINING MATRIX'!AS2","v":0},{"$f":"'TRAINING MATRIX'!AS$80","v":0}]
[{"$f":"'TRAINING MATRIX'!AT2","v":0},{"$f":"'TRAINING MATRIX'!AT$80","v":0}]
[{"$f":"'TRAINING MATRIX'!AU2","v":0},{"$f":"'TRAINING MATRIX'!AU$80","v":0}]
[{"$f":"'TRAINING MATRIX'!AV2","v":0},{"$f":"'TRAINING MATRIX'!AV$80","v":0}]
[{"$f":"'TRAINING MATRIX'!AW2","v":0},{"$f":"'TRAINING MATRIX'!AW$80","v":0}]
[{"$f":"'TRAINING MATRIX'!AX2","v":0},{"$f":"'TRAINING MATRIX'!AX$80","v":0}]
[{"$f":"'TRAINING MATRIX'!AY2","v":0},{"$f":"'TRAINING MATRIX'!AY$80","v":0}]
[{"$f":"'TRAINING MATRIX'!AZ2","v":0},{"$f":"'TRAINING MATRIX'!AZ$80","v":0}]

{"sheet":"Steven Tutt","index":80,"n_rows":52,"n_cols":2,"rows_kept":52,"cut":false,"hidden":false,"merged":[]}
["Driver Name","Completed / Issued"]
[{"$f":"'TRAINING MATRIX'!A81","v":"Tutt Steven"},{"$f":"'TRAINING MATRIX'!C81","v":"CE"}]
[{"$f":"'TRAINING MATRIX'!B$81","v":0}]
[{"$f":"'TRAINING MATRIX'!D2","v":0},{"$f":"'TRAINING MATRIX'!D$81","v":0}]
[{"$f":"'TRAINING MATRIX'!E2","v":0},{"$f":"'TRAINING MATRIX'!E$81","v":0}]
[{"$f":"'TRAINING MATRIX'!F2","v":0},{"$f":"'TRAINING MATRIX'!F$81","v":0}]
[{"$f":"'TRAINING MATRIX'!G2","v":"Assessed"},{"$f":"'TRAINING MATRIX'!G$81","v":0}]
[{"$f":"'TRAINING MATRIX'!H2","v":"Driver induction"},{"$f":"'TRAINING MATRIX'!H$81","v":0}]
[{"$f":"'TRAINING MATRIX'!I2","v":"Highway Code via KT"},{"$f":"'TRAINING MATRIX'!I$81","v":0}]
[{"$f":"'TRAINING MATRIX'!J2","v":"Drivers Code of Conduct"},{"$f":"'TRAINING MATRIX'!J$81","v":0}]
[{"$f":"'TRAINING MATRIX'!K2","v":"Smoking Policy"},{"$f":"'TRAINING MATRIX'!K$81","v":0}]
[{"$f":"'TRAINING MATRIX'!L2","v":"Mobile Communication Policy"},{"$f":"'TRAINING MATRIX'!L$81","v":"6.9.19"}]
[{"$f":"'TRAINING MATRIX'!N2","v":"Transport Charges & Fines Policy"},{"$f":"'TRAINING MATRIX'!N$81","v":"25.08.19"}]
[{"$f":"'TRAINING MATRIX'!M2","v":"Using Sat Nav"},{"$f":"'TRAINING MATRIX'!M$81","v":0}]
[{"$f":"'TRAINING MATRIX'!O2","v":"Goods Vehicle and Safety Policy"},{"$f":"'TRAINING MATRIX'!O$81","v":"25.8.19"}]
[{"$f":"'TRAINING MATRIX'!P2","v":"Safe Loading Policy"},{"$f":"'TRAINING MATRIX'!P$81","v":"25.8.19"}]
[{"$f":"'TRAINING MATRIX'!Q2","v":"Eye Sight Check"},{"$f":"'TRAINING MATRIX'!Q$81","v":"21.8.19"}]
[{"$f":"'TRAINING MATRIX'!R2","v":"Use of Tail lifts"},{"$f":"'TRAINING MATRIX'!X$81","v":"21.8.19"}]
[{"$f":"'TRAINING MATRIX'!S2","v":"CPC Periodic Training Module"},{"$f":"'TRAINING MATRIX'!Y$81","v":"5.9.19"}]
[{"$f":"'TRAINING MATRIX'!T2","v":"CPC Periodic Training Module"},{"$f":"'TRAINING MATRIX'!Z$81","v":0}]
[{"$f":"'TRAINING MATRIX'!U2","v":"CPC Periodic Training Module"},{"$f":"'TRAINING MATRIX'!AA$81","v":0}]
[{"$f":"'TRAINING MATRIX'!V2","v":"CPC Periodic Training Module"},{"$f":"'TRAINING MATRIX'!AB$81","v":0}]
[{"$f":"'TRAINING MATRIX'!W2","v":"CPC Periodic Training Module"},{"$f":"'TRAINING MATRIX'!AC$81","v":0}]
[{"$f":"'TRAINING MATRIX'!X2","v":"FORS Security and Counter-Terrorism"},{"$f":"'TRAINING MATRIX'!X$81","v":"21.8.19"}]
[{"$f":"'TRAINING MATRIX'!Y2","v":"FORS BridgeSmart"},{"$f":"'TRAINING MATRIX'!Y$81","v":"5.9.19"}]
[{"$f":"'TRAINING MATRIX'!D2","v":0},{"$f":"'TRAINING MATRIX'!Z$81","v":0}]
[{"$f":"'TRAINING MATRIX'!AA2","v":"FORS LoCity"},{"$f":"'TRAINING MATRIX'!AA$81","v":0}]
[{"$f":"'TRAINING MATRIX'!AB2","v":"FORS SmartDeliveries"},{"$f":"'TRAINING MATRIX'!AB$81","v":0}]
[{"$f":"'TRAINING MATRIX'!AD2","v":"ADR Awareness"},{"$f":"'TRAINING MATRIX'!AC$81","v":0}]
[{"$f":"'TRAINING MATRIX'!AE2","v":"ADR (Core, Packages and All Classes ex 7 & 9)"},{"$f":"'TRAINING MATRIX'!AD$81","v":0}]
[{"$f":"'TRAINING MATRIX'!AF2","v":0},{"$f":"'TRAINING MATRIX'!AE$81","v":0}]
[{"$f":"'TRAINING MATRIX'!AF2","v":0},{"$f":"'TRAINING MATRIX'!AF$81","v":0}]
[{"$f":"'TRAINING MATRIX'!AG2","v":"TTB Climbing On & Off Vehicles"},{"$f":"'TRAINING MATRIX'!AG$81","v":"25.08.19"}]
[{"$f":"'TRAINING MATRIX'!AH2","v":"TTB Climbing On & Off Trailers & Load Decks"},{"$f":"'TRAINING MATRIX'!AH$81","v":"25.8.19"}]
[{"$f":"'TRAINING MATRIX'!AI2","v":"TTB Jumping To a Lifetime of Pain"},{"$f":"'TRAINING MATRIX'!AI$81","v":"25.8.19"}]
[{"$f":"'TRAINING MATRIX'!AJ2","v":"TTB Dealing With Cyclists"},{"$f":"'TRAINING MATRIX'!AJ$81","v":"25.8.19"}]
[{"$f":"'TRAINING MATRIX'!AK2","v":"TTB Fitness to Drive"},{"$f":"'TRAINING MATRIX'!AK$81","v":"25.8.19"}]
[{"$f":"'TRAINING MATRIX'!AL2","v":"TTB Loading & Unloading"},{"$f":"'TRAINING MATRIX'!AL$81","v":"25.8.19"}]
[{"$f":"'TRAINING MATRIX'!AM2","v":"TTB Protecting Vulnerable Road Users"},{"$f":"'TRAINING MATRIX'!AM$81","v":"25.8.19"}]
[{"$f":"'TRAINING MATRIX'!AN2","v":0},{"$f":"'TRAINING MATRIX'!AN$81","v":0}]
[{"$f":"'TRAINING MATRIX'!AO2","v":"SSOW Coupling and Uncoupling"},{"$f":"'TRAINING MATRIX'!AO$81","v":0}]
[{"$f":"'TRAINING MATRIX'!AP2","v":"SSOW Scanning Shed"},{"$f":"'TRAINING MATRIX'!AP$81","v":0}]
[{"$f":"'TRAINING MATRIX'!AQ2","v":"SWP Drivers Walkaround Checks"},{"$f":"'TRAINING MATRIX'!AQ$81","v":0}]
[{"$f":"'TRAINING MATRIX'!AR2","v":0},{"$f":"'TRAINING MATRIX'!AR$81","v":0}]
[{"$f":"'TRAINING MATRIX'!AS2","v":0},{"$f":"'TRAINING MATRIX'!AS$81","v":0}]
[{"$f":"'TRAINING MATRIX'!AT2","v":0},{"$f":"'TRAINING MATRIX'!AT$81","v":0}]
[{"$f":"'TRAINING MATRIX'!AU2","v":0},{"$f":"'TRAINING MATRIX'!AU$81","v":0}]
[{"$f":"'TRAINING MATRIX'!AV2","v":0},{"$f":"'TRAINING MATRIX'!AV$81","v":0}]
[{"$f":"'TRAINING MATRIX'!AW2","v":0},{"$f":"'TRAINING MATRIX'!AW$81","v":0}]
[{"$f":"'TRAINING MATRIX'!AX2","v":0},{"$f":"'TRAINING MATRIX'!AX$81","v":0}]
[{"$f":"'TRAINING MATRIX'!AY2","v":0},{"$f":"'TRAINING MATRIX'!AY$81","v":0}]
[{"$f":"'TRAINING MATRIX'!AZ2","v":0},{"$f":"'TRAINING MATRIX'!AZ$81","v":0}]

{"sheet":"Daniel Underwood","index":81,"n_rows":52,"n_cols":2,"rows_kept":52,"cut":false,"hidden":false,"merged":[]}
["Driver Name","Completed / Issued"]
[{"$f":"'TRAINING MATRIX'!A82","v":"Underwood Danny"},{"$f":"'TRAINING MATRIX'!C82","v":"C"}]
[{"$f":"'TRAINING MATRIX'!B$82","v":0}]
[{"$f":"'TRAINING MATRIX'!D2","v":0},{"$f":"'TRAINING MATRIX'!D$82","v":0}]
[{"$f":"'TRAINING MATRIX'!E2","v":0},{"$f":"'TRAINING MATRIX'!E$82","v":0}]
[{"$f":"'TRAINING MATRIX'!F2","v":0},{"$f":"'TRAINING MATRIX'!F$82","v":0}]
[{"$f":"'TRAINING MATRIX'!G2","v":"Assessed"},{"$f":"'TRAINING MATRIX'!G$82","v":0}]
[{"$f":"'TRAINING MATRIX'!H2","v":"Driver induction"},{"$f":"'TRAINING MATRIX'!H$82","v":0}]
[{"$f":"'TRAINING MATRIX'!I2","v":"Highway Code via KT"},{"$f":"'TRAINING MATRIX'!I$82","v":0}]
[{"$f":"'TRAINING MATRIX'!J2","v":"Drivers Code of Conduct"},{"$f":"'TRAINING MATRIX'!J$82","v":0}]
[{"$f":"'TRAINING MATRIX'!K2","v":"Smoking Policy"},{"$f":"'TRAINING MATRIX'!K$82","v":0}]
[{"$f":"'TRAINING MATRIX'!L2","v":"Mobile Communication Policy"},{"$f":"'TRAINING MATRIX'!L$82","v":"6.9.19"}]
[{"$f":"'TRAINING MATRIX'!N2","v":"Transport Charges & Fines Policy"},{"$f":"'TRAINING MATRIX'!N$82","v":"22.8.19"}]
[{"$f":"'TRAINING MATRIX'!M2","v":"Using Sat Nav"},{"$f":"'TRAINING MATRIX'!M$82","v":0}]
[{"$f":"'TRAINING MATRIX'!O2","v":"Goods Vehicle and Safety Policy"},{"$f":"'TRAINING MATRIX'!O$82","v":"25.8.19"}]
[{"$f":"'TRAINING MATRIX'!P2","v":"Safe Loading Policy"},{"$f":"'TRAINING MATRIX'!P$82","v":"25.8.19"}]
[{"$f":"'TRAINING MATRIX'!Q2","v":"Eye Sight Check"},{"$f":"'TRAINING MATRIX'!Q$82","v":"3.9.19"}]
[{"$f":"'TRAINING MATRIX'!R2","v":"Use of Tail lifts"},{"$f":"'TRAINING MATRIX'!X$82","v":"21.8.19"}]
[{"$f":"'TRAINING MATRIX'!S2","v":"CPC Periodic Training Module"},{"$f":"'TRAINING MATRIX'!Y$82","v":"5.9.19"}]
[{"$f":"'TRAINING MATRIX'!T2","v":"CPC Periodic Training Module"},{"$f":"'TRAINING MATRIX'!Z$82","v":0}]
[{"$f":"'TRAINING MATRIX'!U2","v":"CPC Periodic Training Module"},{"$f":"'TRAINING MATRIX'!AA$82","v":0}]
[{"$f":"'TRAINING MATRIX'!V2","v":"CPC Periodic Training Module"},{"$f":"'TRAINING MATRIX'!AB$82","v":0}]
[{"$f":"'TRAINING MATRIX'!W2","v":"CPC Periodic Training Module"},{"$f":"'TRAINING MATRIX'!AC$82","v":0}]
[{"$f":"'TRAINING MATRIX'!X2","v":"FORS Security and Counter-Terrorism"},{"$f":"'TRAINING MATRIX'!X$82","v":"21.8.19"}]
[{"$f":"'TRAINING MATRIX'!Y2","v":"FORS BridgeSmart"},{"$f":"'TRAINING MATRIX'!Y$82","v":"5.9.19"}]
[{"$f":"'TRAINING MATRIX'!D2","v":0},{"$f":"'TRAINING MATRIX'!Z$82","v":0}]
[{"$f":"'TRAINING MATRIX'!AA2","v":"FORS LoCity"},{"$f":"'TRAINING MATRIX'!AA$82","v":0}]
[{"$f":"'TRAINING MATRIX'!AB2","v":"FORS SmartDeliveries"},{"$f":"'TRAINING MATRIX'!AB$82","v":0}]
[{"$f":"'TRAINING MATRIX'!AD2","v":"ADR Awareness"},{"$f":"'TRAINING MATRIX'!AC$82","v":0}]
[{"$f":"'TRAINING MATRIX'!AE2","v":"ADR (Core, Packages and All Classes ex 7 & 9)"},{"$f":"'TRAINING MATRIX'!AD$82","v":0}]
[{"$f":"'TRAINING MATRIX'!AF2","v":0},{"$f":"'TRAINING MATRIX'!AE$82","v":0}]
[{"$f":"'TRAINING MATRIX'!AF2","v":0},{"$f":"'TRAINING MATRIX'!AF$82","v":0}]
[{"$f":"'TRAINING MATRIX'!AG2","v":"TTB Climbing On & Off Vehicles"},{"$f":"'TRAINING MATRIX'!AG$82","v":"22.8.19"}]
[{"$f":"'TRAINING MATRIX'!AH2","v":"TTB Climbing On & Off Trailers & Load Decks"},{"$f":"'TRAINING MATRIX'!AH$82","v":"25.8.19"}]
[{"$f":"'TRAINING MATRIX'!AI2","v":"TTB Jumping To a Lifetime of Pain"},{"$f":"'TRAINING MATRIX'!AI$82","v":"25.8.19"}]
[{"$f":"'TRAINING MATRIX'!AJ2","v":"TTB Dealing With Cyclists"},{"$f":"'TRAINING MATRIX'!AJ$82","v":"25.8.19"}]
[{"$f":"'TRAINING MATRIX'!AK2","v":"TTB Fitness to Drive"},{"$f":"'TRAINING MATRIX'!AK$82","v":"25.8.19"}]
[{"$f":"'TRAINING MATRIX'!AL2","v":"TTB Loading & Unloading"},{"$f":"'TRAINING MATRIX'!AL$82","v":"25.8.19"}]
[{"$f":"'TRAINING MATRIX'!AM2","v":"TTB Protecting Vulnerable Road Users"},{"$f":"'TRAINING MATRIX'!AM$82","v":"25.8.19"}]
[{"$f":"'TRAINING MATRIX'!AN2","v":0},{"$f":"'TRAINING MATRIX'!AN$82","v":0}]
[{"$f":"'TRAINING MATRIX'!AO2","v":"SSOW Coupling and Uncoupling"},{"$f":"'TRAINING MATRIX'!AO$82","v":0}]
[{"$f":"'TRAINING MATRIX'!AP2","v":"SSOW Scanning Shed"},{"$f":"'TRAINING MATRIX'!AP$82","v":0}]
[{"$f":"'TRAINING MATRIX'!AQ2","v":"SWP Drivers Walkaround Checks"},{"$f":"'TRAINING MATRIX'!AQ$82","v":0}]
[{"$f":"'TRAINING MATRIX'!AR2","v":0},{"$f":"'TRAINING MATRIX'!AR$82","v":0}]
[{"$f":"'TRAINING MATRIX'!AS2","v":0},{"$f":"'TRAINING MATRIX'!AS$82","v":0}]
[{"$f":"'TRAINING MATRIX'!AT2","v":0},{"$f":"'TRAINING MATRIX'!AT$82","v":0}]
[{"$f":"'TRAINING MATRIX'!AU2","v":0},{"$f":"'TRAINING MATRIX'!AU$82","v":0}]
[{"$f":"'TRAINING MATRIX'!AV2","v":0},{"$f":"'TRAINING MATRIX'!AV$82","v":0}]
[{"$f":"'TRAINING MATRIX'!AW2","v":0},{"$f":"'TRAINING MATRIX'!AW$82","v":0}]
[{"$f":"'TRAINING MATRIX'!AX2","v":0},{"$f":"'TRAINING MATRIX'!AX$82","v":0}]
[{"$f":"'TRAINING MATRIX'!AY2","v":0},{"$f":"'TRAINING MATRIX'!AY$82","v":0}]
[{"$f":"'TRAINING MATRIX'!AZ2","v":0},{"$f":"'TRAINING MATRIX'!AZ$82","v":0}]

{"sheet":"Robert Underwood","index":82,"n_rows":52,"n_cols":2,"rows_kept":52,"cut":false,"hidden":false,"merged":[]}
["Driver Name","Completed / Issued"]
[{"$f":"'TRAINING MATRIX'!A83","v":"Underwood Robert"},{"$f":"'TRAINING MATRIX'!C83","v":"C"}]
[{"$f":"'TRAINING MATRIX'!B$83","v":0}]
[{"$f":"'TRAINING MATRIX'!D2","v":0},{"$f":"'TRAINING MATRIX'!D$83","v":0}]
[{"$f":"'TRAINING MATRIX'!E2","v":0},{"$f":"'TRAINING MATRIX'!E$83","v":0}]
[{"$f":"'TRAINING MATRIX'!F2","v":0},{"$f":"'TRAINING MATRIX'!F$83","v":0}]
[{"$f":"'TRAINING MATRIX'!G2","v":"Assessed"},{"$f":"'TRAINING MATRIX'!G$83","v":0}]
[{"$f":"'TRAINING MATRIX'!H2","v":"Driver induction"},{"$f":"'TRAINING MATRIX'!H$83","v":"11.04.17"}]
[{"$f":"'TRAINING MATRIX'!I2","v":"Highway Code via KT"},{"$f":"'TRAINING MATRIX'!I$83","v":0}]
[{"$f":"'TRAINING MATRIX'!J2","v":"Drivers Code of Conduct"},{"$f":"'TRAINING MATRIX'!J$83","v":0}]
[{"$f":"'TRAINING MATRIX'!K2","v":"Smoking Policy"},{"$f":"'TRAINING MATRIX'!K$83","v":0}]
[{"$f":"'TRAINING MATRIX'!L2","v":"Mobile Communication Policy"},{"$f":"'TRAINING MATRIX'!L$83","v":"6.9.19"}]
[{"$f":"'TRAINING MATRIX'!N2","v":"Transport Charges & Fines Policy"},{"$f":"'TRAINING MATRIX'!N$83","v":"22.8.19"}]
[{"$f":"'TRAINING MATRIX'!M2","v":"Using Sat Nav"},{"$f":"'TRAINING MATRIX'!M$83","v":0}]
[{"$f":"'TRAINING MATRIX'!O2","v":"Goods Vehicle and Safety Policy"},{"$f":"'TRAINING MATRIX'!O$83","v":"25.8.19"}]
[{"$f":"'TRAINING MATRIX'!P2","v":"Safe Loading Policy"},{"$f":"'TRAINING MATRIX'!P$83","v":"25.8.19"}]
[{"$f":"'TRAINING MATRIX'!Q2","v":"Eye Sight Check"},{"$f":"'TRAINING MATRIX'!Q$83","v":"5.9.19"}]
[{"$f":"'TRAINING MATRIX'!R2","v":"Use of Tail lifts"},{"$f":"'TRAINING MATRIX'!X$83","v":"21.8.19"}]
[{"$f":"'TRAINING MATRIX'!S2","v":"CPC Periodic Training Module"},{"$f":"'TRAINING MATRIX'!Y$83","v":"5.9.19"}]
[{"$f":"'TRAINING MATRIX'!T2","v":"CPC Periodic Training Module"},{"$f":"'TRAINING MATRIX'!Z$83","v":0}]
[{"$f":"'TRAINING MATRIX'!U2","v":"CPC Periodic Training Module"},{"$f":"'TRAINING MATRIX'!AA$83","v":0}]
[{"$f":"'TRAINING MATRIX'!V2","v":"CPC Periodic Training Module"},{"$f":"'TRAINING MATRIX'!AB$83","v":0}]
[{"$f":"'TRAINING MATRIX'!W2","v":"CPC Periodic Training Module"},{"$f":"'TRAINING MATRIX'!AC$83","v":0}]
[{"$f":"'TRAINING MATRIX'!X2","v":"FORS Security and Counter-Terrorism"},{"$f":"'TRAINING MATRIX'!X$83","v":"21.8.19"}]
[{"$f":"'TRAINING MATRIX'!Y2","v":"FORS BridgeSmart"},{"$f":"'TRAINING MATRIX'!Y$83","v":"5.9.19"}]
[{"$f":"'TRAINING MATRIX'!D2","v":0},{"$f":"'TRAINING MATRIX'!Z$83","v":0}]
[{"$f":"'TRAINING MATRIX'!AA2","v":"FORS LoCity"},{"$f":"'TRAINING MATRIX'!AA$83","v":0}]
[{"$f":"'TRAINING MATRIX'!AB2","v":"FORS SmartDeliveries"},{"$f":"'TRAINING MATRIX'!AB$83","v":0}]
[{"$f":"'TRAINING MATRIX'!AD2","v":"ADR Awareness"},{"$f":"'TRAINING MATRIX'!AC$83","v":0}]
[{"$f":"'TRAINING MATRIX'!AE2","v":"ADR (Core, Packages and All Classes ex 7 & 9)"},{"$f":"'TRAINING MATRIX'!AD$83","v":0}]
[{"$f":"'TRAINING MATRIX'!AF2","v":0},{"$f":"'TRAINING MATRIX'!AE$83","v":0}]
[{"$f":"'TRAINING MATRIX'!AF2","v":0},{"$f":"'TRAINING MATRIX'!AF$83","v":0}]
[{"$f":"'TRAINING MATRIX'!AG2","v":"TTB Climbing On & Off Vehicles"},{"$f":"'TRAINING MATRIX'!AG$83","v":"22.8.19"}]
[{"$f":"'TRAINING MATRIX'!AH2","v":"TTB Climbing On & Off Trailers & Load Decks"},{"$f":"'TRAINING MATRIX'!AH$83","v":"25.8.19"}]
[{"$f":"'TRAINING MATRIX'!AI2","v":"TTB Jumping To a Lifetime of Pain"},{"$f":"'TRAINING MATRIX'!AI$83","v":"25.8.19"}]
[{"$f":"'TRAINING MATRIX'!AJ2","v":"TTB Dealing With Cyclists"},{"$f":"'TRAINING MATRIX'!AJ$83","v":"25.8.19"}]
[{"$f":"'TRAINING MATRIX'!AK2","v":"TTB Fitness to Drive"},{"$f":"'TRAINING MATRIX'!AK$83","v":"25.8.19"}]
[{"$f":"'TRAINING MATRIX'!AL2","v":"TTB Loading & Unloading"},{"$f":"'TRAINING MATRIX'!AL$83","v":"25.8.19"}]
[{"$f":"'TRAINING MATRIX'!AM2","v":"TTB Protecting Vulnerable Road Users"},{"$f":"'TRAINING MATRIX'!AM$83","v":"25.8.19"}]
[{"$f":"'TRAINING MATRIX'!AN2","v":0},{"$f":"'TRAINING MATRIX'!AN$83","v":0}]
[{"$f":"'TRAINING MATRIX'!AO2","v":"SSOW Coupling and Uncoupling"},{"$f":"'TRAINING MATRIX'!AO$83","v":0}]
[{"$f":"'TRAINING MATRIX'!AP2","v":"SSOW Scanning Shed"},{"$f":"'TRAINING MATRIX'!AP$83","v":0}]
[{"$f":"'TRAINING MATRIX'!AQ2","v":"SWP Drivers Walkaround Checks"},{"$f":"'TRAINING MATRIX'!AQ$83","v":0}]
[{"$f":"'TRAINING MATRIX'!AR2","v":0},{"$f":"'TRAINING MATRIX'!AR$83","v":0}]
[{"$f":"'TRAINING MATRIX'!AS2","v":0},{"$f":"'TRAINING MATRIX'!AS$83","v":0}]
[{"$f":"'TRAINING MATRIX'!AT2","v":0},{"$f":"'TRAINING MATRIX'!AT$83","v":0}]
[{"$f":"'TRAINING MATRIX'!AU2","v":0},{"$f":"'TRAINING MATRIX'!AU$83","v":0}]
[{"$f":"'TRAINING MATRIX'!AV2","v":0},{"$f":"'TRAINING MATRIX'!AV$83","v":0}]
[{"$f":"'TRAINING MATRIX'!AW2","v":0},{"$f":"'TRAINING MATRIX'!AW$83","v":0}]
[{"$f":"'TRAINING MATRIX'!AX2","v":0},{"$f":"'TRAINING MATRIX'!AX$83","v":0}]
[{"$f":"'TRAINING MATRIX'!AY2","v":0},{"$f":"'TRAINING MATRIX'!AY$83","v":0}]
[{"$f":"'TRAINING MATRIX'!AZ2","v":0},{"$f":"'TRAINING MATRIX'!AZ$83","v":0}]

{"sheet":"Gary Veron","index":83,"n_rows":52,"n_cols":2,"rows_kept":52,"cut":false,"hidden":false,"merged":[]}
["Driver Name","Completed / Issued"]
[{"$f":"'TRAINING MATRIX'!A84","v":"Veron Gary"},{"$f":"'TRAINING MATRIX'!C84","v":"C"}]
[{"$f":"'TRAINING MATRIX'!B$84","v":0}]
[{"$f":"'TRAINING MATRIX'!D2","v":0},{"$f":"'TRAINING MATRIX'!C$84","v":"C"}]
[{"$f":"'TRAINING MATRIX'!E2","v":0},{"$f":"'TRAINING MATRIX'!E$84","v":0}]
[{"$f":"'TRAINING MATRIX'!F2","v":0},{"$f":"'TRAINING MATRIX'!F$84","v":0}]
[{"$f":"'TRAINING MATRIX'!G2","v":"Assessed"},{"$f":"'TRAINING MATRIX'!G$84","v":0}]
[{"$f":"'TRAINING MATRIX'!H2","v":"Driver induction"},{"$f":"'TRAINING MATRIX'!H$84","v":0}]
[{"$f":"'TRAINING MATRIX'!I2","v":"Highway Code via KT"},{"$f":"'TRAINING MATRIX'!I$84","v":0}]
[{"$f":"'TRAINING MATRIX'!J2","v":"Drivers Code of Conduct"},{"$f":"'TRAINING MATRIX'!J$84","v":0}]
[{"$f":"'TRAINING MATRIX'!K2","v":"Smoking Policy"},{"$f":"'TRAINING MATRIX'!K$84","v":0}]
[{"$f":"'TRAINING MATRIX'!L2","v":"Mobile Communication Policy"},{"$f":"'TRAINING MATRIX'!L$84","v":"6.9.19"}]
[{"$f":"'TRAINING MATRIX'!N2","v":"Transport Charges & Fines Policy"},{"$f":"'TRAINING MATRIX'!N$84","v":"22.8.19"}]
[{"$f":"'TRAINING MATRIX'!M2","v":"Using Sat Nav"},{"$f":"'TRAINING MATRIX'!M$84","v":0}]
[{"$f":"'TRAINING MATRIX'!O2","v":"Goods Vehicle and Safety Policy"},{"$f":"'TRAINING MATRIX'!O$84","v":"25.8.19"}]
[{"$f":"'TRAINING MATRIX'!P2","v":"Safe Loading Policy"},{"$f":"'TRAINING MATRIX'!P$84","v":"25.8.19"}]
[{"$f":"'TRAINING MATRIX'!Q2","v":"Eye Sight Check"},{"$f":"'TRAINING MATRIX'!Q$84","v":0}]
[{"$f":"'TRAINING MATRIX'!R2","v":"Use of Tail lifts"},{"$f":"'TRAINING MATRIX'!X$84","v":"21.8.19"}]
[{"$f":"'TRAINING MATRIX'!S2","v":"CPC Periodic Training Module"},{"$f":"'TRAINING MATRIX'!Y$84","v":"5.9.19"}]
[{"$f":"'TRAINING MATRIX'!T2","v":"CPC Periodic Training Module"},{"$f":"'TRAINING MATRIX'!Z$84","v":0}]
[{"$f":"'TRAINING MATRIX'!U2","v":"CPC Periodic Training Module"},{"$f":"'TRAINING MATRIX'!AA$84","v":0}]
[{"$f":"'TRAINING MATRIX'!V2","v":"CPC Periodic Training Module"},{"$f":"'TRAINING MATRIX'!AB$84","v":0}]
[{"$f":"'TRAINING MATRIX'!W2","v":"CPC Periodic Training Module"},{"$f":"'TRAINING MATRIX'!AC$84","v":0}]
[{"$f":"'TRAINING MATRIX'!X2","v":"FORS Security and Counter-Terrorism"},{"$f":"'TRAINING MATRIX'!X$84","v":"21.8.19"}]
[{"$f":"'TRAINING MATRIX'!Y2","v":"FORS BridgeSmart"},{"$f":"'TRAINING MATRIX'!Y$84","v":"5.9.19"}]
[{"$f":"'TRAINING MATRIX'!D2","v":0},{"$f":"'TRAINING MATRIX'!Z$84","v":0}]
[{"$f":"'TRAINING MATRIX'!AA2","v":"FORS LoCity"},{"$f":"'TRAINING MATRIX'!AA$84","v":0}]
[{"$f":"'TRAINING MATRIX'!AB2","v":"FORS SmartDeliveries"},{"$f":"'TRAINING MATRIX'!AB$84","v":0}]
[{"$f":"'TRAINING MATRIX'!AD2","v":"ADR Awareness"},{"$f":"'TRAINING MATRIX'!AC$84","v":0}]
[{"$f":"'TRAINING MATRIX'!AE2","v":"ADR (Core, Packages and All Classes ex 7 & 9)"},{"$f":"'TRAINING MATRIX'!AD$84","v":0}]
[{"$f":"'TRAINING MATRIX'!AF2","v":0},{"$f":"'TRAINING MATRIX'!AE$84","v":0}]
[{"$f":"'TRAINING MATRIX'!AF2","v":0},{"$f":"'TRAINING MATRIX'!AF$84","v":0}]
[{"$f":"'TRAINING MATRIX'!AG2","v":"TTB Climbing On & Off Vehicles"},{"$f":"'TRAINING MATRIX'!AG$84","v":"22.8.19"}]
[{"$f":"'TRAINING MATRIX'!AH2","v":"TTB Climbing On & Off Trailers & Load Decks"},{"$f":"'TRAINING MATRIX'!AH$84","v":"25.8.19"}]
[{"$f":"'TRAINING MATRIX'!AI2","v":"TTB Jumping To a Lifetime of Pain"},{"$f":"'TRAINING MATRIX'!AI$84","v":"25.8.19"}]
[{"$f":"'TRAINING MATRIX'!AJ2","v":"TTB Dealing With Cyclists"},{"$f":"'TRAINING MATRIX'!AJ$84","v":"25.8.19"}]
[{"$f":"'TRAINING MATRIX'!AK2","v":"TTB Fitness to Drive"},{"$f":"'TRAINING MATRIX'!AK$84","v":"25.8.19"}]
[{"$f":"'TRAINING MATRIX'!AL2","v":"TTB Loading & Unloading"},{"$f":"'TRAINING MATRIX'!AL$84","v":"25.8.19"}]
[{"$f":"'TRAINING MATRIX'!AM2","v":"TTB Protecting Vulnerable Road Users"},{"$f":"'TRAINING MATRIX'!AM$84","v":"25.8.19"}]
[{"$f":"'TRAINING MATRIX'!AN2","v":0},{"$f":"'TRAINING MATRIX'!AN$84","v":0}]
[{"$f":"'TRAINING MATRIX'!AO2","v":"SSOW Coupling and Uncoupling"},{"$f":"'TRAINING MATRIX'!AO$84","v":0}]
[{"$f":"'TRAINING MATRIX'!AP2","v":"SSOW Scanning Shed"},{"$f":"'TRAINING MATRIX'!AP$84","v":0}]
[{"$f":"'TRAINING MATRIX'!AQ2","v":"SWP Drivers Walkaround Checks"},{"$f":"'TRAINING MATRIX'!AQ$84","v":0}]
[{"$f":"'TRAINING MATRIX'!AR2","v":0},{"$f":"'TRAINING MATRIX'!AR$84","v":0}]
[{"$f":"'TRAINING MATRIX'!AS2","v":0},{"$f":"'TRAINING MATRIX'!AS$84","v":0}]
[{"$f":"'TRAINING MATRIX'!AT2","v":0},{"$f":"'TRAINING MATRIX'!AT$84","v":0}]
[{"$f":"'TRAINING MATRIX'!AU2","v":0},{"$f":"'TRAINING MATRIX'!AU$84","v":0}]
[{"$f":"'TRAINING MATRIX'!AV2","v":0},{"$f":"'TRAINING MATRIX'!AV$84","v":0}]
[{"$f":"'TRAINING MATRIX'!AW2","v":0},{"$f":"'TRAINING MATRIX'!AW$84","v":0}]
[{"$f":"'TRAINING MATRIX'!AX2","v":0},{"$f":"'TRAINING MATRIX'!AX$84","v":0}]
[{"$f":"'TRAINING MATRIX'!AY2","v":0},{"$f":"'TRAINING MATRIX'!AY$84","v":0}]
[{"$f":"'TRAINING MATRIX'!AZ2","v":0},{"$f":"'TRAINING MATRIX'!AZ$84","v":0}]

{"sheet":"Alan Whitlam","index":84,"n_rows":52,"n_cols":2,"rows_kept":52,"cut":false,"hidden":false,"merged":[]}
["Driver Name","Completed / Issued"]
[{"$f":"'TRAINING MATRIX'!A85","v":"Whitlam Alan"},{"$f":"'TRAINING MATRIX'!C85","v":"C"}]
[{"$f":"'TRAINING MATRIX'!B$85","v":0}]
[{"$f":"'TRAINING MATRIX'!D2","v":0},{"$f":"'TRAINING MATRIX'!D$85","v":0}]
[{"$f":"'TRAINING MATRIX'!E2","v":0},{"$f":"'TRAINING MATRIX'!E$85","v":0}]
[{"$f":"'TRAINING MATRIX'!F2","v":0},{"$f":"'TRAINING MATRIX'!F$85","v":0}]
[{"$f":"'TRAINING MATRIX'!G2","v":"Assessed"},{"$f":"'TRAINING MATRIX'!G$85","v":0}]
[{"$f":"'TRAINING MATRIX'!H2","v":"Driver induction"},{"$f":"'TRAINING MATRIX'!H$85","v":0}]
[{"$f":"'TRAINING MATRIX'!I2","v":"Highway Code via KT"},{"$f":"'TRAINING MATRIX'!I$85","v":0}]
[{"$f":"'TRAINING MATRIX'!J2","v":"Drivers Code of Conduct"},{"$f":"'TRAINING MATRIX'!J$85","v":0}]
[{"$f":"'TRAINING MATRIX'!K2","v":"Smoking Policy"},{"$f":"'TRAINING MATRIX'!K$85","v":0}]
[{"$f":"'TRAINING MATRIX'!L2","v":"Mobile Communication Policy"},{"$f":"'TRAINING MATRIX'!L$85","v":"6.9.19"}]
[{"$f":"'TRAINING MATRIX'!N2","v":"Transport Charges & Fines Policy"},{"$f":"'TRAINING MATRIX'!N$85","v":"22.8.19"}]
[{"$f":"'TRAINING MATRIX'!M2","v":"Using Sat Nav"},{"$f":"'TRAINING MATRIX'!M$85","v":0}]
[{"$f":"'TRAINING MATRIX'!O2","v":"Goods Vehicle and Safety Policy"},{"$f":"'TRAINING MATRIX'!O$85","v":"25.8.19"}]
[{"$f":"'TRAINING MATRIX'!P2","v":"Safe Loading Policy"},{"$f":"'TRAINING MATRIX'!P$85","v":"25.8.19"}]
[{"$f":"'TRAINING MATRIX'!Q2","v":"Eye Sight Check"},{"$f":"'TRAINING MATRIX'!Q$85","v":0}]
[{"$f":"'TRAINING MATRIX'!R2","v":"Use of Tail lifts"},{"$f":"'TRAINING MATRIX'!X$85","v":"21.8.19"}]
[{"$f":"'TRAINING MATRIX'!S2","v":"CPC Periodic Training Module"},{"$f":"'TRAINING MATRIX'!Y$85","v":"5.9.19"}]
[{"$f":"'TRAINING MATRIX'!T2","v":"CPC Periodic Training Module"},{"$f":"'TRAINING MATRIX'!Z$85","v":0}]
[{"$f":"'TRAINING MATRIX'!U2","v":"CPC Periodic Training Module"},{"$f":"'TRAINING MATRIX'!AA$85","v":0}]
[{"$f":"'TRAINING MATRIX'!V2","v":"CPC Periodic Training Module"},{"$f":"'TRAINING MATRIX'!AB$85","v":0}]
[{"$f":"'TRAINING MATRIX'!W2","v":"CPC Periodic Training Module"},{"$f":"'TRAINING MATRIX'!AC$85","v":0}]
[{"$f":"'TRAINING MATRIX'!X2","v":"FORS Security and Counter-Terrorism"},{"$f":"'TRAINING MATRIX'!X$85","v":"21.8.19"}]
[{"$f":"'TRAINING MATRIX'!Y2","v":"FORS BridgeSmart"},{"$f":"'TRAINING MATRIX'!Y$85","v":"5.9.19"}]
[{"$f":"'TRAINING MATRIX'!D2","v":0},{"$f":"'TRAINING MATRIX'!Z$85","v":0}]
[{"$f":"'TRAINING MATRIX'!AA2","v":"FORS LoCity"},{"$f":"'TRAINING MATRIX'!AA$85","v":0}]
[{"$f":"'TRAINING MATRIX'!AB2","v":"FORS SmartDeliveries"},{"$f":"'TRAINING MATRIX'!AB$85","v":0}]
[{"$f":"'TRAINING MATRIX'!AD2","v":"ADR Awareness"},{"$f":"'TRAINING MATRIX'!AC$85","v":0}]
[{"$f":"'TRAINING MATRIX'!AE2","v":"ADR (Core, Packages and All Classes ex 7 & 9)"},{"$f":"'TRAINING MATRIX'!AD$85","v":0}]
[{"$f":"'TRAINING MATRIX'!AF2","v":0},{"$f":"'TRAINING MATRIX'!AE$85","v":0}]
[{"$f":"'TRAINING MATRIX'!AF2","v":0},{"$f":"'TRAINING MATRIX'!AF$85","v":0}]
[{"$f":"'TRAINING MATRIX'!AG2","v":"TTB Climbing On & Off Vehicles"},{"$f":"'TRAINING MATRIX'!AG$85","v":"22.8.19"}]
[{"$f":"'TRAINING MATRIX'!AH2","v":"TTB Climbing On & Off Trailers & Load Decks"},{"$f":"'TRAINING MATRIX'!AH$85","v":"25.8.19"}]
[{"$f":"'TRAINING MATRIX'!AI2","v":"TTB Jumping To a Lifetime of Pain"},{"$f":"'TRAINING MATRIX'!AI$85","v":"25.8.19"}]
[{"$f":"'TRAINING MATRIX'!AJ2","v":"TTB Dealing With Cyclists"},{"$f":"'TRAINING MATRIX'!AJ$85","v":"25.8.19"}]
[{"$f":"'TRAINING MATRIX'!AK2","v":"TTB Fitness to Drive"},{"$f":"'TRAINING MATRIX'!AK$85","v":"25.8.19"}]
[{"$f":"'TRAINING MATRIX'!AL2","v":"TTB Loading & Unloading"},{"$f":"'TRAINING MATRIX'!AL$85","v":"25.8.19"}]
[{"$f":"'TRAINING MATRIX'!AM2","v":"TTB Protecting Vulnerable Road Users"},{"$f":"'TRAINING MATRIX'!AM$85","v":"25.8.19"}]
[{"$f":"'TRAINING MATRIX'!AN2","v":0},{"$f":"'TRAINING MATRIX'!AN$85","v":0}]
[{"$f":"'TRAINING MATRIX'!AO2","v":"SSOW Coupling and Uncoupling"},{"$f":"'TRAINING MATRIX'!AO$85","v":0}]
[{"$f":"'TRAINING MATRIX'!AP2","v":"SSOW Scanning Shed"},{"$f":"'TRAINING MATRIX'!AP$85","v":0}]
[{"$f":"'TRAINING MATRIX'!AQ2","v":"SWP Drivers Walkaround Checks"},{"$f":"'TRAINING MATRIX'!AQ$85","v":0}]
[{"$f":"'TRAINING MATRIX'!AR2","v":0},{"$f":"'TRAINING MATRIX'!AR$85","v":0}]
[{"$f":"'TRAINING MATRIX'!AS2","v":0},{"$f":"'TRAINING MATRIX'!AS$85","v":0}]
[{"$f":"'TRAINING MATRIX'!AT2","v":0},{"$f":"'TRAINING MATRIX'!AT$85","v":0}]
[{"$f":"'TRAINING MATRIX'!AU2","v":0},{"$f":"'TRAINING MATRIX'!AU$85","v":0}]
[{"$f":"'TRAINING MATRIX'!AV2","v":0},{"$f":"'TRAINING MATRIX'!AV$85","v":0}]
[{"$f":"'TRAINING MATRIX'!AW2","v":0},{"$f":"'TRAINING MATRIX'!AW$85","v":0}]
[{"$f":"'TRAINING MATRIX'!AX2","v":0},{"$f":"'TRAINING MATRIX'!AX$85","v":0}]
[{"$f":"'TRAINING MATRIX'!AY2","v":0},{"$f":"'TRAINING MATRIX'!AY$85","v":0}]
[{"$f":"'TRAINING MATRIX'!AZ2","v":0}]

{"sheet":"Daniel Whitmore","index":85,"n_rows":52,"n_cols":2,"rows_kept":52,"cut":false,"hidden":false,"merged":[]}
["Driver Name","Completed / Issued"]
[{"$f":"'TRAINING MATRIX'!A86","v":"Whitmore Daniel"},{"$f":"'TRAINING MATRIX'!C86","v":"C"}]
[{"$f":"'TRAINING MATRIX'!B$86","v":0}]
[{"$f":"'TRAINING MATRIX'!D2","v":0},{"$f":"'TRAINING MATRIX'!D$86","v":0}]
[{"$f":"'TRAINING MATRIX'!E2","v":0},{"$f":"'TRAINING MATRIX'!E$86","v":0}]
[{"$f":"'TRAINING MATRIX'!F2","v":0},{"$f":"'TRAINING MATRIX'!F$86","v":0}]
[{"$f":"'TRAINING MATRIX'!G2","v":"Assessed"},{"$f":"'TRAINING MATRIX'!G$86","v":"02.04.19"}]
[{"$f":"'TRAINING MATRIX'!H2","v":"Driver induction"},{"$f":"'TRAINING MATRIX'!H$86","v":"02.04.19"}]
[{"$f":"'TRAINING MATRIX'!I2","v":"Highway Code via KT"},{"$f":"'TRAINING MATRIX'!I$86","v":0}]
[{"$f":"'TRAINING MATRIX'!J2","v":"Drivers Code of Conduct"},{"$f":"'TRAINING MATRIX'!J$86","v":0}]
[{"$f":"'TRAINING MATRIX'!K2","v":"Smoking Policy"},{"$f":"'TRAINING MATRIX'!K$86","v":0}]
[{"$f":"'TRAINING MATRIX'!L2","v":"Mobile Communication Policy"},{"$f":"'TRAINING MATRIX'!L$86","v":"6.9.19"}]
[{"$f":"'TRAINING MATRIX'!N2","v":"Transport Charges & Fines Policy"},{"$f":"'TRAINING MATRIX'!N$86","v":"22.8.19"}]
[{"$f":"'TRAINING MATRIX'!M2","v":"Using Sat Nav"},{"$f":"'TRAINING MATRIX'!M$86","v":0}]
[{"$f":"'TRAINING MATRIX'!O2","v":"Goods Vehicle and Safety Policy"},{"$f":"'TRAINING MATRIX'!O$86","v":"25.8.19"}]
[{"$f":"'TRAINING MATRIX'!P2","v":"Safe Loading Policy"},{"$f":"'TRAINING MATRIX'!P$86","v":"25.8.19"}]
[{"$f":"'TRAINING MATRIX'!Q2","v":"Eye Sight Check"},{"$f":"'TRAINING MATRIX'!Q$86","v":"21.8.19"}]
[{"$f":"'TRAINING MATRIX'!R2","v":"Use of Tail lifts"},{"$f":"'TRAINING MATRIX'!X$86","v":"21.8.19"}]
[{"$f":"'TRAINING MATRIX'!S2","v":"CPC Periodic Training Module"},{"$f":"'TRAINING MATRIX'!Y$86","v":"5.9.19"}]
[{"$f":"'TRAINING MATRIX'!T2","v":"CPC Periodic Training Module"},{"$f":"'TRAINING MATRIX'!Z$86","v":0}]
[{"$f":"'TRAINING MATRIX'!U2","v":"CPC Periodic Training Module"},{"$f":"'TRAINING MATRIX'!AA$86","v":0}]
[{"$f":"'TRAINING MATRIX'!V2","v":"CPC Periodic Training Module"},{"$f":"'TRAINING MATRIX'!AB$86","v":0}]
[{"$f":"'TRAINING MATRIX'!W2","v":"CPC Periodic Training Module"},{"$f":"'TRAINING MATRIX'!AC$86","v":0}]
[{"$f":"'TRAINING MATRIX'!X2","v":"FORS Security and Counter-Terrorism"},{"$f":"'TRAINING MATRIX'!X$86","v":"21.8.19"}]
[{"$f":"'TRAINING MATRIX'!Y2","v":"FORS BridgeSmart"},{"$f":"'TRAINING MATRIX'!Y$86","v":"5.9.19"}]
[{"$f":"'TRAINING MATRIX'!D2","v":0},{"$f":"'TRAINING MATRIX'!Z$86","v":0}]
[{"$f":"'TRAINING MATRIX'!AA2","v":"FORS LoCity"},{"$f":"'TRAINING MATRIX'!AA$86","v":0}]
[{"$f":"'TRAINING MATRIX'!AB2","v":"FORS SmartDeliveries"},{"$f":"'TRAINING MATRIX'!AB$86","v":0}]
[{"$f":"'TRAINING MATRIX'!AD2","v":"ADR Awareness"},{"$f":"'TRAINING MATRIX'!AC$86","v":0}]
[{"$f":"'TRAINING MATRIX'!AE2","v":"ADR (Core, Packages and All Classes ex 7 & 9)"},{"$f":"'TRAINING MATRIX'!AD$86","v":0}]
[{"$f":"'TRAINING MATRIX'!AF2","v":0},{"$f":"'TRAINING MATRIX'!AE$86","v":0}]
[{"$f":"'TRAINING MATRIX'!AF2","v":0},{"$f":"'TRAINING MATRIX'!AF$86","v":0}]
[{"$f":"'TRAINING MATRIX'!AG2","v":"TTB Climbing On & Off Vehicles"},{"$f":"'TRAINING MATRIX'!AG$86","v":"22.8.19"}]
[{"$f":"'TRAINING MATRIX'!AH2","v":"TTB Climbing On & Off Trailers & Load Decks"},{"$f":"'TRAINING MATRIX'!AH$86","v":"25.8.19"}]
[{"$f":"'TRAINING MATRIX'!AI2","v":"TTB Jumping To a Lifetime of Pain"},{"$f":"'TRAINING MATRIX'!AI$86","v":"25.8.19"}]
[{"$f":"'TRAINING MATRIX'!AJ2","v":"TTB Dealing With Cyclists"},{"$f":"'TRAINING MATRIX'!AJ$86","v":"25.8.19"}]
[{"$f":"'TRAINING MATRIX'!AK2","v":"TTB Fitness to Drive"},{"$f":"'TRAINING MATRIX'!AK$86","v":"25.8.19"}]
[{"$f":"'TRAINING MATRIX'!AL2","v":"TTB Loading & Unloading"},{"$f":"'TRAINING MATRIX'!AL$86","v":"25.8.19"}]
[{"$f":"'TRAINING MATRIX'!AM2","v":"TTB Protecting Vulnerable Road Users"},{"$f":"'TRAINING MATRIX'!AM$86","v":"25.8.19"}]
[{"$f":"'TRAINING MATRIX'!AN2","v":0},{"$f":"'TRAINING MATRIX'!AN$86","v":0}]
[{"$f":"'TRAINING MATRIX'!AO2","v":"SSOW Coupling and Uncoupling"},{"$f":"'TRAINING MATRIX'!AO$86","v":0}]
[{"$f":"'TRAINING MATRIX'!AP2","v":"SSOW Scanning Shed"},{"$f":"'TRAINING MATRIX'!AP$86","v":0}]
[{"$f":"'TRAINING MATRIX'!AQ2","v":"SWP Drivers Walkaround Checks"},{"$f":"'TRAINING MATRIX'!AQ$86","v":0}]
[{"$f":"'TRAINING MATRIX'!AR2","v":0},{"$f":"'TRAINING MATRIX'!AR$86","v":0}]
[{"$f":"'TRAINING MATRIX'!AS2","v":0},{"$f":"'TRAINING MATRIX'!AS$86","v":0}]
[{"$f":"'TRAINING MATRIX'!AT2","v":0},{"$f":"'TRAINING MATRIX'!AT$86","v":0}]
[{"$f":"'TRAINING MATRIX'!AU2","v":0},{"$f":"'TRAINING MATRIX'!AU$86","v":0}]
[{"$f":"'TRAINING MATRIX'!AV2","v":0},{"$f":"'TRAINING MATRIX'!AV$86","v":0}]
[{"$f":"'TRAINING MATRIX'!AW2","v":0},{"$f":"'TRAINING MATRIX'!AW$86","v":0}]
[{"$f":"'TRAINING MATRIX'!AX2","v":0},{"$f":"'TRAINING MATRIX'!AX$86","v":0}]
[{"$f":"'TRAINING MATRIX'!AY2","v":0},{"$f":"'TRAINING MATRIX'!AY$86","v":0}]
[{"$f":"'TRAINING MATRIX'!AZ2","v":0},{"$f":"'TRAINING MATRIX'!AZ$86","v":0}]

{"sheet":"Thomas Wilson","index":86,"n_rows":52,"n_cols":2,"rows_kept":52,"cut":false,"hidden":false,"merged":[]}
["Driver Name","Completed / Issued"]
[{"$f":"'TRAINING MATRIX'!A87","v":"Wilson Tom"},{"$f":"'TRAINING MATRIX'!C87","v":"CE"}]
[{"$f":"'TRAINING MATRIX'!B$87","v":0}]
[{"$f":"'TRAINING MATRIX'!D2","v":0},{"$f":"'TRAINING MATRIX'!D$87","v":0}]
[{"$f":"'TRAINING MATRIX'!E2","v":0},{"$f":"'TRAINING MATRIX'!E$87","v":0}]
[{"$f":"'TRAINING MATRIX'!F2","v":0},{"$f":"'TRAINING MATRIX'!F$87","v":0}]
[{"$f":"'TRAINING MATRIX'!G2","v":"Assessed"},{"$f":"'TRAINING MATRIX'!G$87","v":0}]
[{"$f":"'TRAINING MATRIX'!H2","v":"Driver induction"},{"$f":"'TRAINING MATRIX'!H$87","v":"18.01.19"}]
[{"$f":"'TRAINING MATRIX'!I2","v":"Highway Code via KT"},{"$f":"'TRAINING MATRIX'!I$87","v":0}]
[{"$f":"'TRAINING MATRIX'!J2","v":"Drivers Code of Conduct"},{"$f":"'TRAINING MATRIX'!J$87","v":0}]
[{"$f":"'TRAINING MATRIX'!K2","v":"Smoking Policy"},{"$f":"'TRAINING MATRIX'!K$87","v":0}]
[{"$f":"'TRAINING MATRIX'!L2","v":"Mobile Communication Policy"},{"$f":"'TRAINING MATRIX'!L$87","v":"6.9.19"}]
[{"$f":"'TRAINING MATRIX'!N2","v":"Transport Charges & Fines Policy"},{"$f":"'TRAINING MATRIX'!N$87","v":"22.8.19"}]
[{"$f":"'TRAINING MATRIX'!M2","v":"Using Sat Nav"},{"$f":"'TRAINING MATRIX'!M$87","v":0}]
[{"$f":"'TRAINING MATRIX'!O2","v":"Goods Vehicle and Safety Policy"},{"$f":"'TRAINING MATRIX'!O$87","v":"25.8.19"}]
[{"$f":"'TRAINING MATRIX'!P2","v":"Safe Loading Policy"},{"$f":"'TRAINING MATRIX'!P$87","v":"25.8.19"}]
[{"$f":"'TRAINING MATRIX'!Q2","v":"Eye Sight Check"},{"$f":"'TRAINING MATRIX'!Q$87","v":"21.8.19"}]
[{"$f":"'TRAINING MATRIX'!R2","v":"Use of Tail lifts"},{"$f":"'TRAINING MATRIX'!X$87","v":"21.8.19"}]
[{"$f":"'TRAINING MATRIX'!S2","v":"CPC Periodic Training Module"},{"$f":"'TRAINING MATRIX'!Y$87","v":"5.9.19"}]
[{"$f":"'TRAINING MATRIX'!T2","v":"CPC Periodic Training Module"},{"$f":"'TRAINING MATRIX'!Z$87","v":0}]
[{"$f":"'TRAINING MATRIX'!U2","v":"CPC Periodic Training Module"},{"$f":"'TRAINING MATRIX'!AA$87","v":0}]
[{"$f":"'TRAINING MATRIX'!V2","v":"CPC Periodic Training Module"},{"$f":"'TRAINING MATRIX'!AB$87","v":0}]
[{"$f":"'TRAINING MATRIX'!W2","v":"CPC Periodic Training Module"},{"$f":"'TRAINING MATRIX'!AC$87","v":0}]
[{"$f":"'TRAINING MATRIX'!X2","v":"FORS Security and Counter-Terrorism"},{"$f":"'TRAINING MATRIX'!X$87","v":"21.8.19"}]
[{"$f":"'TRAINING MATRIX'!Y2","v":"FORS BridgeSmart"},{"$f":"'TRAINING MATRIX'!Y$87","v":"5.9.19"}]
[{"$f":"'TRAINING MATRIX'!D2","v":0},{"$f":"'TRAINING MATRIX'!Z$87","v":0}]
[{"$f":"'TRAINING MATRIX'!AA2","v":"FORS LoCity"},{"$f":"'TRAINING MATRIX'!AA$87","v":0}]
[{"$f":"'TRAINING MATRIX'!AB2","v":"FORS SmartDeliveries"},{"$f":"'TRAINING MATRIX'!AB$87","v":0}]
[{"$f":"'TRAINING MATRIX'!AD2","v":"ADR Awareness"},{"$f":"'TRAINING MATRIX'!AC$87","v":0}]
[{"$f":"'TRAINING MATRIX'!AE2","v":"ADR (Core, Packages and All Classes ex 7 & 9)"},{"$f":"'TRAINING MATRIX'!AD$87","v":0}]
[{"$f":"'TRAINING MATRIX'!AF2","v":0},{"$f":"'TRAINING MATRIX'!AE$87","v":0}]
[{"$f":"'TRAINING MATRIX'!AF2","v":0},{"$f":"'TRAINING MATRIX'!AF$87","v":0}]
[{"$f":"'TRAINING MATRIX'!AG2","v":"TTB Climbing On & Off Vehicles"},{"$f":"'TRAINING MATRIX'!AG$87","v":"22.8.19"}]
[{"$f":"'TRAINING MATRIX'!AH2","v":"TTB Climbing On & Off Trailers & Load Decks"},{"$f":"'TRAINING MATRIX'!AH$87","v":"25.8.19"}]
[{"$f":"'TRAINING MATRIX'!AI2","v":"TTB Jumping To a Lifetime of Pain"},{"$f":"'TRAINING MATRIX'!AI$87","v":"25.8.19"}]
[{"$f":"'TRAINING MATRIX'!AJ2","v":"TTB Dealing With Cyclists"},{"$f":"'TRAINING MATRIX'!AJ$87","v":"25.8.19"}]
[{"$f":"'TRAINING MATRIX'!AK2","v":"TTB Fitness to Drive"},{"$f":"'TRAINING MATRIX'!AK$87","v":"25.8.19"}]
[{"$f":"'TRAINING MATRIX'!AL2","v":"TTB Loading & Unloading"},{"$f":"'TRAINING MATRIX'!AL$87","v":"25.8.19"}]
[{"$f":"'TRAINING MATRIX'!AM2","v":"TTB Protecting Vulnerable Road Users"},{"$f":"'TRAINING MATRIX'!AM$87","v":"25.8.19"}]
[{"$f":"'TRAINING MATRIX'!AN2","v":0},{"$f":"'TRAINING MATRIX'!AN$87","v":0}]
[{"$f":"'TRAINING MATRIX'!AO2","v":"SSOW Coupling and Uncoupling"},{"$f":"'TRAINING MATRIX'!AO$87","v":0}]
[{"$f":"'TRAINING MATRIX'!AP2","v":"SSOW Scanning Shed"},{"$f":"'TRAINING MATRIX'!AP$87","v":0}]
[{"$f":"'TRAINING MATRIX'!AQ2","v":"SWP Drivers Walkaround Checks"},{"$f":"'TRAINING MATRIX'!AQ$87","v":0}]
[{"$f":"'TRAINING MATRIX'!AR2","v":0},{"$f":"'TRAINING MATRIX'!AR$87","v":0}]
[{"$f":"'TRAINING MATRIX'!AS2","v":0},{"$f":"'TRAINING MATRIX'!AS$87","v":0}]
[{"$f":"'TRAINING MATRIX'!AT2","v":0},{"$f":"'TRAINING MATRIX'!AT$87","v":0}]
[{"$f":"'TRAINING MATRIX'!AU2","v":0},{"$f":"'TRAINING MATRIX'!AU$87","v":0}]
[{"$f":"'TRAINING MATRIX'!AV2","v":0},{"$f":"'TRAINING MATRIX'!AV$87","v":0}]
[{"$f":"'TRAINING MATRIX'!AW2","v":0},{"$f":"'TRAINING MATRIX'!AW$87","v":0}]
[{"$f":"'TRAINING MATRIX'!AX2","v":0},{"$f":"'TRAINING MATRIX'!AX$87","v":0}]
[{"$f":"'TRAINING MATRIX'!AY2","v":0},{"$f":"'TRAINING MATRIX'!AY$87","v":0}]
[{"$f":"'TRAINING MATRIX'!AZ2","v":0},{"$f":"'TRAINING MATRIX'!AZ$3","v":0}]

{"sheet":"Nicholas Wragg","index":87,"n_rows":52,"n_cols":2,"rows_kept":52,"cut":false,"hidden":false,"merged":[]}
["Driver Name","Completed / Issued"]
[{"$f":"'TRAINING MATRIX'!A88","v":"Wragg Nick"},{"$f":"'TRAINING MATRIX'!C88","v":"C"}]
[{"$f":"'TRAINING MATRIX'!B$88","v":0}]
[{"$f":"'TRAINING MATRIX'!D2","v":0},{"$f":"'TRAINING MATRIX'!D$88","v":0}]
[{"$f":"'TRAINING MATRIX'!E2","v":0},{"$f":"'TRAINING MATRIX'!E$88","v":0}]
[{"$f":"'TRAINING MATRIX'!F2","v":0},{"$f":"'TRAINING MATRIX'!F$88","v":0}]
[{"$f":"'TRAINING MATRIX'!G2","v":"Assessed"},{"$f":"'TRAINING MATRIX'!G$88","v":"13.03.19"}]
[{"$f":"'TRAINING MATRIX'!H2","v":"Driver induction"},{"$f":"'TRAINING MATRIX'!H$88","v":"13.03.19"}]
[{"$f":"'TRAINING MATRIX'!I2","v":"Highway Code via KT"},{"$f":"'TRAINING MATRIX'!I$88","v":0}]
[{"$f":"'TRAINING MATRIX'!J2","v":"Drivers Code of Conduct"},{"$f":"'TRAINING MATRIX'!J$88","v":0}]
[{"$f":"'TRAINING MATRIX'!K2","v":"Smoking Policy"},{"$f":"'TRAINING MATRIX'!K$88","v":0}]
[{"$f":"'TRAINING MATRIX'!L2","v":"Mobile Communication Policy"},{"$f":"'TRAINING MATRIX'!L$88","v":0}]
[{"$f":"'TRAINING MATRIX'!N2","v":"Transport Charges & Fines Policy"},{"$f":"'TRAINING MATRIX'!N$88","v":"22.8.19"}]
[{"$f":"'TRAINING MATRIX'!M2","v":"Using Sat Nav"},{"$f":"'TRAINING MATRIX'!M$88","v":0}]
[{"$f":"'TRAINING MATRIX'!O2","v":"Goods Vehicle and Safety Policy"},{"$f":"'TRAINING MATRIX'!O$88","v":"25.8.19"}]
[{"$f":"'TRAINING MATRIX'!P2","v":"Safe Loading Policy"},{"$f":"'TRAINING MATRIX'!P$88","v":"25.8.19"}]
[{"$f":"'TRAINING MATRIX'!Q2","v":"Eye Sight Check"},{"$f":"'TRAINING MATRIX'!Q$88","v":"22.8.19"}]
[{"$f":"'TRAINING MATRIX'!R2","v":"Use of Tail lifts"},{"$f":"'TRAINING MATRIX'!X$88","v":"21.8.19"}]
[{"$f":"'TRAINING MATRIX'!S2","v":"CPC Periodic Training Module"},{"$f":"'TRAINING MATRIX'!Y$88","v":0}]
[{"$f":"'TRAINING MATRIX'!T2","v":"CPC Periodic Training Module"},{"$f":"'TRAINING MATRIX'!Z$88","v":0}]
[{"$f":"'TRAINING MATRIX'!U2","v":"CPC Periodic Training Module"},{"$f":"'TRAINING MATRIX'!AA$88","v":0}]
[{"$f":"'TRAINING MATRIX'!V2","v":"CPC Periodic Training Module"},{"$f":"'TRAINING MATRIX'!AB$88","v":0}]
[{"$f":"'TRAINING MATRIX'!W2","v":"CPC Periodic Training Module"},{"$f":"'TRAINING MATRIX'!AC$88","v":0}]
[{"$f":"'TRAINING MATRIX'!X2","v":"FORS Security and Counter-Terrorism"},{"$f":"'TRAINING MATRIX'!X$88","v":"21.8.19"}]
[{"$f":"'TRAINING MATRIX'!Y2","v":"FORS BridgeSmart"},{"$f":"'TRAINING MATRIX'!Y$88","v":0}]
[{"$f":"'TRAINING MATRIX'!D2","v":0},{"$f":"'TRAINING MATRIX'!Z$88","v":0}]
[{"$f":"'TRAINING MATRIX'!AA2","v":"FORS LoCity"},{"$f":"'TRAINING MATRIX'!AA$88","v":0}]
[{"$f":"'TRAINING MATRIX'!AB2","v":"FORS SmartDeliveries"},{"$f":"'TRAINING MATRIX'!AB$88","v":0}]
[{"$f":"'TRAINING MATRIX'!AD2","v":"ADR Awareness"},{"$f":"'TRAINING MATRIX'!AC$88","v":0}]
[{"$f":"'TRAINING MATRIX'!AE2","v":"ADR (Core, Packages and All Classes ex 7 & 9)"},{"$f":"'TRAINING MATRIX'!AD$88","v":0}]
[{"$f":"'TRAINING MATRIX'!AF2","v":0},{"$f":"'TRAINING MATRIX'!AE$88","v":0}]
[{"$f":"'TRAINING MATRIX'!AF2","v":0},{"$f":"'TRAINING MATRIX'!AF$88","v":0}]
[{"$f":"'TRAINING MATRIX'!AG2","v":"TTB Climbing On & Off Vehicles"},{"$f":"'TRAINING MATRIX'!AG$88","v":"22.8.19"}]
[{"$f":"'TRAINING MATRIX'!AH2","v":"TTB Climbing On & Off Trailers & Load Decks"},{"$f":"'TRAINING MATRIX'!AH$88","v":"25.8.19"}]
[{"$f":"'TRAINING MATRIX'!AI2","v":"TTB Jumping To a Lifetime of Pain"},{"$f":"'TRAINING MATRIX'!AI$88","v":"25.8.19"}]
[{"$f":"'TRAINING MATRIX'!AJ2","v":"TTB Dealing With Cyclists"},{"$f":"'TRAINING MATRIX'!AJ$88","v":"25.8.19"}]
[{"$f":"'TRAINING MATRIX'!AK2","v":"TTB Fitness to Drive"},{"$f":"'TRAINING MATRIX'!AK$88","v":"25.8.19"}]
[{"$f":"'TRAINING MATRIX'!AL2","v":"TTB Loading & Unloading"},{"$f":"'TRAINING MATRIX'!AL$88","v":"25.8.19"}]
[{"$f":"'TRAINING MATRIX'!AM2","v":"TTB Protecting Vulnerable Road Users"},{"$f":"'TRAINING MATRIX'!AM$88","v":"25.8.19"}]
[{"$f":"'TRAINING MATRIX'!AN2","v":0},{"$f":"'TRAINING MATRIX'!AN$88","v":0}]
[{"$f":"'TRAINING MATRIX'!AO2","v":"SSOW Coupling and Uncoupling"},{"$f":"'TRAINING MATRIX'!AO$88","v":0}]
[{"$f":"'TRAINING MATRIX'!AP2","v":"SSOW Scanning Shed"},{"$f":"'TRAINING MATRIX'!AP$88","v":0}]
[{"$f":"'TRAINING MATRIX'!AQ2","v":"SWP Drivers Walkaround Checks"},{"$f":"'TRAINING MATRIX'!AQ$88","v":0}]
[{"$f":"'TRAINING MATRIX'!AR2","v":0},{"$f":"'TRAINING MATRIX'!AR$88","v":0}]
[{"$f":"'TRAINING MATRIX'!AS2","v":0},{"$f":"'TRAINING MATRIX'!AS$88","v":0}]
[{"$f":"'TRAINING MATRIX'!AT2","v":0},{"$f":"'TRAINING MATRIX'!AT$88","v":0}]
[{"$f":"'TRAINING MATRIX'!AU2","v":0},{"$f":"'TRAINING MATRIX'!AU$88","v":0}]
[{"$f":"'TRAINING MATRIX'!AV2","v":0},{"$f":"'TRAINING MATRIX'!AV$88","v":0}]
[{"$f":"'TRAINING MATRIX'!AW2","v":0},{"$f":"'TRAINING MATRIX'!AW$88","v":0}]
[{"$f":"'TRAINING MATRIX'!AX2","v":0},{"$f":"'TRAINING MATRIX'!AX$88","v":0}]
[{"$f":"'TRAINING MATRIX'!AY2","v":0},{"$f":"'TRAINING MATRIX'!AY$88","v":0}]
[{"$f":"'TRAINING MATRIX'!AZ2","v":0},{"$f":"'TRAINING MATRIX'!AZ$88","v":0}]

{"sheet":"Kaspars Zarans","index":88,"n_rows":52,"n_cols":2,"rows_kept":52,"cut":false,"hidden":false,"merged":[]}
["Driver Name","Completed / Issued"]
[{"$f":"'TRAINING MATRIX'!A89","v":"Zarans Kaspars"},{"$f":"'TRAINING MATRIX'!C89","v":"C"}]
[{"$f":"'TRAINING MATRIX'!B$89","v":0}]
[{"$f":"'TRAINING MATRIX'!D2","v":0},{"$f":"'TRAINING MATRIX'!D$89","v":0}]
[{"$f":"'TRAINING MATRIX'!E2","v":0},{"$f":"'TRAINING MATRIX'!E$89","v":0}]
[{"$f":"'TRAINING MATRIX'!F2","v":0},{"$f":"'TRAINING MATRIX'!F$89","v":0}]
[{"$f":"'TRAINING MATRIX'!G2","v":"Assessed"},{"$f":"'TRAINING MATRIX'!G$89","v":0}]
[{"$f":"'TRAINING MATRIX'!H2","v":"Driver induction"},{"$f":"'TRAINING MATRIX'!H$89","v":0}]
[{"$f":"'TRAINING MATRIX'!I2","v":"Highway Code via KT"},{"$f":"'TRAINING MATRIX'!I$89","v":0}]
[{"$f":"'TRAINING MATRIX'!J2","v":"Drivers Code of Conduct"},{"$f":"'TRAINING MATRIX'!J$89","v":0}]
[{"$f":"'TRAINING MATRIX'!K2","v":"Smoking Policy"},{"$f":"'TRAINING MATRIX'!K$89","v":0}]
[{"$f":"'TRAINING MATRIX'!L2","v":"Mobile Communication Policy"},{"$f":"'TRAINING MATRIX'!L$89","v":"6.9.19"}]
[{"$f":"'TRAINING MATRIX'!N2","v":"Transport Charges & Fines Policy"},{"$f":"'TRAINING MATRIX'!N$89","v":"22.8.19"}]
[{"$f":"'TRAINING MATRIX'!M2","v":"Using Sat Nav"},{"$f":"'TRAINING MATRIX'!M$89","v":0}]
[{"$f":"'TRAINING MATRIX'!O2","v":"Goods Vehicle and Safety Policy"},{"$f":"'TRAINING MATRIX'!O$89","v":"25.8.19"}]
[{"$f":"'TRAINING MATRIX'!P2","v":"Safe Loading Policy"},{"$f":"'TRAINING MATRIX'!P$89","v":"25.8.19"}]
[{"$f":"'TRAINING MATRIX'!Q2","v":"Eye Sight Check"},{"$f":"'TRAINING MATRIX'!Q$89","v":"22.8.19"}]
[{"$f":"'TRAINING MATRIX'!R2","v":"Use of Tail lifts"},{"$f":"'TRAINING MATRIX'!X$89","v":"21.8.19"}]
[{"$f":"'TRAINING MATRIX'!S2","v":"CPC Periodic Training Module"},{"$f":"'TRAINING MATRIX'!Y$89","v":"5.9.19"}]
[{"$f":"'TRAINING MATRIX'!T2","v":"CPC Periodic Training Module"},{"$f":"'TRAINING MATRIX'!Z$89","v":0}]
[{"$f":"'TRAINING MATRIX'!U2","v":"CPC Periodic Training Module"},{"$f":"'TRAINING MATRIX'!AA$89","v":0}]
[{"$f":"'TRAINING MATRIX'!V2","v":"CPC Periodic Training Module"},{"$f":"'TRAINING MATRIX'!AB$89","v":0}]
[{"$f":"'TRAINING MATRIX'!W2","v":"CPC Periodic Training Module"},{"$f":"'TRAINING MATRIX'!AC$89","v":0}]
[{"$f":"'TRAINING MATRIX'!X2","v":"FORS Security and Counter-Terrorism"},{"$f":"'TRAINING MATRIX'!X$89","v":"21.8.19"}]
[{"$f":"'TRAINING MATRIX'!Y2","v":"FORS BridgeSmart"},{"$f":"'TRAINING MATRIX'!Y$89","v":"5.9.19"}]
[{"$f":"'TRAINING MATRIX'!D2","v":0},{"$f":"'TRAINING MATRIX'!Z$89","v":0}]
[{"$f":"'TRAINING MATRIX'!AA2","v":"FORS LoCity"},{"$f":"'TRAINING MATRIX'!AA$89","v":0}]
[{"$f":"'TRAINING MATRIX'!AB2","v":"FORS SmartDeliveries"},{"$f":"'TRAINING MATRIX'!AB$89","v":0}]
[{"$f":"'TRAINING MATRIX'!AD2","v":"ADR Awareness"},{"$f":"'TRAINING MATRIX'!AC$89","v":0}]
[{"$f":"'TRAINING MATRIX'!AE2","v":"ADR (Core, Packages and All Classes ex 7 & 9)"},{"$f":"'TRAINING MATRIX'!AD$89","v":0}]
[{"$f":"'TRAINING MATRIX'!AF2","v":0},{"$f":"'TRAINING MATRIX'!AE$89","v":0}]
[{"$f":"'TRAINING MATRIX'!AF2","v":0},{"$f":"'TRAINING MATRIX'!AF$89","v":0}]
[{"$f":"'TRAINING MATRIX'!AG2","v":"TTB Climbing On & Off Vehicles"},{"$f":"'TRAINING MATRIX'!AG$89","v":"22.8.19"}]
[{"$f":"'TRAINING MATRIX'!AH2","v":"TTB Climbing On & Off Trailers & Load Decks"},{"$f":"'TRAINING MATRIX'!AH$89","v":"25.8.19"}]
[{"$f":"'TRAINING MATRIX'!AI2","v":"TTB Jumping To a Lifetime of Pain"},{"$f":"'TRAINING MATRIX'!AI$89","v":"25.8.19"}]
[{"$f":"'TRAINING MATRIX'!AJ2","v":"TTB Dealing With Cyclists"},{"$f":"'TRAINING MATRIX'!AJ$89","v":"25.8.19"}]
[{"$f":"'TRAINING MATRIX'!AK2","v":"TTB Fitness to Drive"},{"$f":"'TRAINING MATRIX'!AK$89","v":"25.8.19"}]
[{"$f":"'TRAINING MATRIX'!AL2","v":"TTB Loading & Unloading"},{"$f":"'TRAINING MATRIX'!AL$89","v":"25.8.19"}]
[{"$f":"'TRAINING MATRIX'!AM2","v":"TTB Protecting Vulnerable Road Users"},{"$f":"'TRAINING MATRIX'!AM$89","v":"25.8.19"}]
[{"$f":"'TRAINING MATRIX'!AN2","v":0},{"$f":"'TRAINING MATRIX'!AN$89","v":0}]
[{"$f":"'TRAINING MATRIX'!AO2","v":"SSOW Coupling and Uncoupling"},{"$f":"'TRAINING MATRIX'!AO$89","v":0}]
[{"$f":"'TRAINING MATRIX'!AP2","v":"SSOW Scanning Shed"},{"$f":"'TRAINING MATRIX'!AP$89","v":0}]
[{"$f":"'TRAINING MATRIX'!AQ2","v":"SWP Drivers Walkaround Checks"},{"$f":"'TRAINING MATRIX'!AQ$89","v":0}]
[{"$f":"'TRAINING MATRIX'!AR2","v":0},{"$f":"'TRAINING MATRIX'!AR$89","v":0}]
[{"$f":"'TRAINING MATRIX'!AS2","v":0},{"$f":"'TRAINING MATRIX'!AS$89","v":0}]
[{"$f":"'TRAINING MATRIX'!AT2","v":0},{"$f":"'TRAINING MATRIX'!AT$89","v":0}]
[{"$f":"'TRAINING MATRIX'!AU2","v":0},{"$f":"'TRAINING MATRIX'!AU$89","v":0}]
[{"$f":"'TRAINING MATRIX'!AV2","v":0},{"$f":"'TRAINING MATRIX'!AV$89","v":0}]
[{"$f":"'TRAINING MATRIX'!AW2","v":0},{"$f":"'TRAINING MATRIX'!AW$89","v":0}]
[{"$f":"'TRAINING MATRIX'!AX2","v":0},{"$f":"'TRAINING MATRIX'!AX$89","v":0}]
[{"$f":"'TRAINING MATRIX'!AY2","v":0},{"$f":"'TRAINING MATRIX'!AY$89","v":0}]
[{"$f":"'TRAINING MATRIX'!AZ2","v":0},{"$f":"'TRAINING MATRIX'!AZ$89","v":0}]

{"sheet":"Inga Ziemele","index":89,"n_rows":52,"n_cols":2,"rows_kept":52,"cut":false,"hidden":false,"merged":[]}
["Driver Name","Completed / Issued"]
[{"$f":"'TRAINING MATRIX'!A90","v":"Ziemele Inga"},{"$f":"'TRAINING MATRIX'!C90","v":"CE"}]
[{"$f":"'TRAINING MATRIX'!B$90","v":0}]
[{"$f":"'TRAINING MATRIX'!D2","v":0},{"$f":"'TRAINING MATRIX'!D$90","v":0}]
[{"$f":"'TRAINING MATRIX'!E2","v":0},{"$f":"'TRAINING MATRIX'!E$90","v":0}]
[{"$f":"'TRAINING MATRIX'!F2","v":0},{"$f":"'TRAINING MATRIX'!F$90","v":0}]
[{"$f":"'TRAINING MATRIX'!G2","v":"Assessed"},{"$f":"'TRAINING MATRIX'!G$90","v":0}]
[{"$f":"'TRAINING MATRIX'!H2","v":"Driver induction"},{"$f":"'TRAINING MATRIX'!H$90","v":"26.11.18"}]
[{"$f":"'TRAINING MATRIX'!I2","v":"Highway Code via KT"},{"$f":"'TRAINING MATRIX'!I$90","v":0}]
[{"$f":"'TRAINING MATRIX'!J2","v":"Drivers Code of Conduct"},{"$f":"'TRAINING MATRIX'!J$90","v":0}]
[{"$f":"'TRAINING MATRIX'!K2","v":"Smoking Policy"},{"$f":"'TRAINING MATRIX'!K$90","v":0}]
[{"$f":"'TRAINING MATRIX'!L2","v":"Mobile Communication Policy"},{"$f":"'TRAINING MATRIX'!L$90","v":"6.9.19"}]
[{"$f":"'TRAINING MATRIX'!N2","v":"Transport Charges & Fines Policy"},{"$f":"'TRAINING MATRIX'!N$90","v":"22.8.19"}]
[{"$f":"'TRAINING MATRIX'!M2","v":"Using Sat Nav"},{"$f":"'TRAINING MATRIX'!M$90","v":0}]
[{"$f":"'TRAINING MATRIX'!O2","v":"Goods Vehicle and Safety Policy"},{"$f":"'TRAINING MATRIX'!O$90","v":"25.8.19"}]
[{"$f":"'TRAINING MATRIX'!P2","v":"Safe Loading Policy"},{"$f":"'TRAINING MATRIX'!P$90","v":"25.8.19"}]
[{"$f":"'TRAINING MATRIX'!Q2","v":"Eye Sight Check"},{"$f":"'TRAINING MATRIX'!Q$90","v":"22.8.19"}]
[{"$f":"'TRAINING MATRIX'!R2","v":"Use of Tail lifts"},{"$f":"'TRAINING MATRIX'!X$90","v":"21.8.19"}]
[{"$f":"'TRAINING MATRIX'!S2","v":"CPC Periodic Training Module"},{"$f":"'TRAINING MATRIX'!Y$90","v":"5.9.19"}]
[{"$f":"'TRAINING MATRIX'!T2","v":"CPC Periodic Training Module"},{"$f":"'TRAINING MATRIX'!Z$90","v":0}]
[{"$f":"'TRAINING MATRIX'!U2","v":"CPC Periodic Training Module"},{"$f":"'TRAINING MATRIX'!AA$90","v":0}]
[{"$f":"'TRAINING MATRIX'!V2","v":"CPC Periodic Training Module"},{"$f":"'TRAINING MATRIX'!AB$90","v":0}]
[{"$f":"'TRAINING MATRIX'!W2","v":"CPC Periodic Training Module"},{"$f":"'TRAINING MATRIX'!AC$90","v":0}]
[{"$f":"'TRAINING MATRIX'!X2","v":"FORS Security and Counter-Terrorism"},{"$f":"'TRAINING MATRIX'!X$90","v":"21.8.19"}]
[{"$f":"'TRAINING MATRIX'!Y2","v":"FORS BridgeSmart"},{"$f":"'TRAINING MATRIX'!Y$90","v":"5.9.19"}]
[{"$f":"'TRAINING MATRIX'!D2","v":0},{"$f":"'TRAINING MATRIX'!Z$90","v":0}]
[{"$f":"'TRAINING MATRIX'!AA2","v":"FORS LoCity"},{"$f":"'TRAINING MATRIX'!AA$90","v":0}]
[{"$f":"'TRAINING MATRIX'!AB2","v":"FORS SmartDeliveries"},{"$f":"'TRAINING MATRIX'!AB$90","v":0}]
[{"$f":"'TRAINING MATRIX'!AD2","v":"ADR Awareness"},{"$f":"'TRAINING MATRIX'!AC$90","v":0}]
[{"$f":"'TRAINING MATRIX'!AE2","v":"ADR (Core, Packages and All Classes ex 7 & 9)"},{"$f":"'TRAINING MATRIX'!AD$90","v":0}]
[{"$f":"'TRAINING MATRIX'!AF2","v":0},{"$f":"'TRAINING MATRIX'!AE$90","v":0}]
[{"$f":"'TRAINING MATRIX'!AF2","v":0},{"$f":"'TRAINING MATRIX'!AF$90","v":0}]
[{"$f":"'TRAINING MATRIX'!AG2","v":"TTB Climbing On & Off Vehicles"},{"$f":"'TRAINING MATRIX'!AG$90","v":"22.8.19"}]
[{"$f":"'TRAINING MATRIX'!AH2","v":"TTB Climbing On & Off Trailers & Load Decks"},{"$f":"'TRAINING MATRIX'!AH$90","v":"25.8.19"}]
[{"$f":"'TRAINING MATRIX'!AI2","v":"TTB Jumping To a Lifetime of Pain"},{"$f":"'TRAINING MATRIX'!AI$90","v":"25.8.19"}]
[{"$f":"'TRAINING MATRIX'!AJ2","v":"TTB Dealing With Cyclists"},{"$f":"'TRAINING MATRIX'!AJ$90","v":"25.8.19"}]
[{"$f":"'TRAINING MATRIX'!AK2","v":"TTB Fitness to Drive"},{"$f":"'TRAINING MATRIX'!AK$90","v":"25.8.19"}]
[{"$f":"'TRAINING MATRIX'!AL2","v":"TTB Loading & Unloading"},{"$f":"'TRAINING MATRIX'!AL$90","v":"25.8.19"}]
[{"$f":"'TRAINING MATRIX'!AM2","v":"TTB Protecting Vulnerable Road Users"},{"$f":"'TRAINING MATRIX'!AM$90","v":"25.8.19"}]
[{"$f":"'TRAINING MATRIX'!AN2","v":0},{"$f":"'TRAINING MATRIX'!AN$90","v":0}]
[{"$f":"'TRAINING MATRIX'!AO2","v":"SSOW Coupling and Uncoupling"},{"$f":"'TRAINING MATRIX'!AO$90","v":0}]
[{"$f":"'TRAINING MATRIX'!AP2","v":"SSOW Scanning Shed"},{"$f":"'TRAINING MATRIX'!AP$90","v":0}]
[{"$f":"'TRAINING MATRIX'!AQ2","v":"SWP Drivers Walkaround Checks"},{"$f":"'TRAINING MATRIX'!AQ$90","v":0}]
[{"$f":"'TRAINING MATRIX'!AR2","v":0},{"$f":"'TRAINING MATRIX'!AR$90","v":0}]
[{"$f":"'TRAINING MATRIX'!AS2","v":0},{"$f":"'TRAINING MATRIX'!AS$90","v":0}]
[{"$f":"'TRAINING MATRIX'!AT2","v":0},{"$f":"'TRAINING MATRIX'!AT$90","v":0}]
[{"$f":"'TRAINING MATRIX'!AU2","v":0},{"$f":"'TRAINING MATRIX'!AU$90","v":0}]
[{"$f":"'TRAINING MATRIX'!AV2","v":0},{"$f":"'TRAINING MATRIX'!AV$90","v":0}]
[{"$f":"'TRAINING MATRIX'!AW2","v":0},{"$f":"'TRAINING MATRIX'!AW$90","v":0}]
[{"$f":"'TRAINING MATRIX'!AX2","v":0},{"$f":"'TRAINING MATRIX'!AX$90","v":0}]
[{"$f":"'TRAINING MATRIX'!AY2","v":0},{"$f":"'TRAINING MATRIX'!AY$90","v":0}]
[{"$f":"'TRAINING MATRIX'!AZ2","v":0},{"$f":"'TRAINING MATRIX'!AZ$90","v":0}]