{"text_format":"1","workbook":"xlsx","n_sheets":2,"sheets":["sheet 1","Sheet 2"],"not_rendered":{"charts":0,"images":0,"macros":1,"external_links":75,"defined_names":1822,"comments":0,"pivot_tables":0},"unopened":[],"bounds":{"document_bytes":16777216,"sheet_cells":100000,"rows_first":2000,"rows_last":500,"rows_between":2000,"halvings":0,"cell_chars":16384,"cell_head_chars":4096},"cells_cut":0,"cells_raw":0,"read":"whole","date_system":"1900"}

{"sheet":"sheet 1","index":0,"n_rows":36,"n_cols":29,"rows_kept":36,"cut":false,"hidden":false,"merged":[[34,21,34,23],[34,5,34,6],[34,7,34,10],[34,12,34,13],[34,14,34,15],[34,16,34,17],[34,18,34,20],[32,21,32,23],[33,5,33,6],[33,7,33,10],[33,12,33,13],[33,14,33,15],[33,16,33,17],[33,18,33,20],[33,21,33,23],[32,5,32,6],[32,7,32,10],[32,12,32,13],[32,14,32,15],[32,16,32,17],[32,18,32,20],[30,21,30,23],[31,5,31,6],[31,7,31,10],[31,12,31,13],[31,14,31,15],[31,16,31,17],[31,18,31,20],[31,21,31,23],[30,5,30,6],[30,7,30,10],[30,12,30,13],[30,14,30,15],[30,16,30,17],[30,18,30,20],[28,21,28,23],[29,5,29,6],[29,7,29,10],[29,12,29,13],[29,14,29,15],[29,16,29,17],[29,18,29,20],[29,21,29,23],[28,5,28,6],[28,7,28,10],[28,12,28,13],[28,14,28,15],[28,16,28,17],[28,18,28,20],[26,21,26,23],[27,5,27,6],[27,7,27,10],[27,12,27,13],[27,14,27,15],[27,16,27,17],[27,18,27,20],[27,21,27,23],[26,5,26,6],[26,7,26,10],[26,12,26,13],[26,14,26,15],[26,16,26,17],[26,18,26,20],[24,21,24,23],[25,5,25,6],[25,7,25,10],[25,12,25,13],[25,14,25,15],[25,16,25,17],[25,18,25,20],[25,21,25,23],[24,5,24,6],[24,7,24,10],[24,12,24,13],[24,14,24,15],[24,16,24,17],[24,18,24,20],[22,21,22,23],[23,5,23,6],[23,7,23,10],[23,12,23,13],[23,14,23,15],[23,16,23,17],[23,18,23,20],[23,21,23,23],[22,5,22,6],[22,7,22,10],[22,12,22,13],[22,14,22,15],[22,16,22,17],[22,18,22,20],[20,21,20,23],[21,5,21,6],[21,7,21,10],[21,12,21,13],[21,14,21,15],[21,16,21,17],[21,18,21,20],[21,21,21,23],[20,5,20,6],[20,7,20,10],[20,12,20,13],[20,14,20,15],[20,16,20,17],[20,18,20,20],[18,21,18,23],[18,24,18,27],[19,5,19,6],[19,7,19,10],[19,12,19,13],[19,14,19,15],[19,16,19,17],[19,18,19,20],[19,21,19,23],[19,24,19,27],[18,5,18,6],[18,7,18,10],[18,12,18,13],[18,14,18,15],[18,16,18,17],[18,18,18,20],[16,12,16,15],[17,5,17,6],[17,7,17,10],[17,12,17,13],[17,14,17,15],[17,16,17,17],[17,18,17,20],[17,21,17,23],[17,24,17,27],[16,5,16,6],[16,7,16,10],[15,5,15,6],[15,7,15,10],[15,12,15,13],[15,14,15,17],[15,18,15,20],[15,21,15,23],[11,4,11,11],[11,12,13,13],[11,14,13,16],[11,17,13,20],[11,21,13,23],[0,0,0,3],[8,4,8,11],[8,12,10,13],[8,14,10,16],[8,17,10,20],[8,21,10,23],[9,4,9,11],[10,3,10,4],[10,6,10,11]]}
[]
[]
[]
[]
[]
[]
[]
[]
[null,null,null,null,null,null,null,null,null,null,null,null,"Date:",null,{"$f":"TODAY()","v":"2019-02-26"},null,null,"Run #",null,null,null,0]
[]
[]
[null,null,null,null,null,null,null,null,null,null,null,null,null,null,null,null,null,"Enter # of check points",null,null,null,18]
[]
[]
[]
[null,null,null,null,"check points","Top Shot"]
[null,null,null,"","start",""]
[null,null,null,"",1,"",null,null,null,null,null,null,null,null,null,null,null,null,null,null,null,null,null,null,"Dyna Select",null,null,null,{"$f":"IF(D18=\"\",\"\",1)","v":""}]
[null,null,null,"",2,"",null,null,null,null,null,null,null,null,null,null,null,null,null,null,null,null,null,null,"Dyna Infinity Software",null,null,null,""]
[null,null,null,"",3,"",null,null,null,null,null,null,null,null,null,null,null,null,null,null,null,null,null,null,"Dyna Infinity Panel",null,null,null,""]
[null,null,null,"",4,"",null,null,null,null,null,null,null,null,null,null,null,null,null,null,null,null,null,null,null,null,null,null,""]
[null,null,null,"",5,"",null,null,null,null,null,null,null,null,null,null,null,null,null,null,null,null,null,null,null,null,null,null,""]
[null,null,null,"",6,"",null,null,null,null,null,null,null,null,null,null,null,null,null,null,null,null,null,null,null,null,null,null,""]
[null,null,null,"",7,"",null,null,null,null,null,null,null,null,null,null,null,null,null,null,null,null,null,null,null,null,null,null,""]
[null,null,null,"",8,"",null,null,null,null,null,null,null,null,null,null,null,null,null,null,null,null,null,null,null,null,null,null,""]
[null,null,null,"",9,"",null,null,null,null,null,null,null,null,null,null,null,null,null,null,null,null,null,null,null,null,null,null,""]
[null,null,null,"",10,"",null,null,null,null,null,null,null,null,null,null,null,null,null,null,null,null,null,null,null,null,null,null,""]
[null,null,null,"",11,"",null,null,null,null,null,null,null,null,null,null,null,null,null,null,null,null,null,null,null,null,null,null,""]
[null,null,null,"",12,"",null,null,null,null,null,null,null,null,null,null,null,null,null,null,null,null,null,null,null,null,null,null,""]
[null,null,null,"",13,"",null,null,null,null,null,null,null,null,null,null,null,null,null,null,null,null,null,null,null,null,null,null,""]
[null,null,null,"",14,"",null,null,null,null,null,null,null,null,null,null,null,null,null,null,null,null,null,null,null,null,null,null,""]
[null,null,null,"",15,"",null,null,null,null,null,null,null,null,null,null,null,null,null,null,null,null,null,null,null,null,null,null,""]
[null,null,null,"",16,"",null,null,null,null,null,null,null,null,null,null,null,null,null,null,null,null,null,null,null,null,null,null,""]
[null,null,null,"",17,"",null,null,null,null,null,null,null,null,null,null,null,null,null,null,null,null,null,null,null,null,null,null,""]
[null,null,null,"",18,"",null,null,null,null,null,null,null,null,null,null,null,null,null,null,null,null,null,null,null,null,null,null,""]
[null,null,null,null,null,null,null,null,null,null,null,null,null,null,null,null,null,null,null,null,{"$f":"COUNTIF(S18:U35, \"WRONG\")","v":0}]

{"sheet":"Sheet 2","index":1,"n_rows":41,"n_cols":37,"rows_kept":41,"cut":false,"hidden":false,"merged":[]}
[null,null,null,"Run","Time on","Time off","Date","check point",1,2,"To",3,3,4,"To",4,5,5,"To",6,7,7,"To",8,9,9,"To",10,11,11,12,13,14,15,16,17,18]
[null,null,null,1,null,null,null,{"$f":"IF('sheet 1'!$V$9= $D2,'sheet 1'!$F$17,H2)","v":0}]
[null,null,null,2,null,null,null,{"$f":"IF('sheet 1'!$V$9= $D3,'sheet 1'!$F$17,H3)","v":0}]
[null,null,null,3,null,null,null,{"$f":"IF('sheet 1'!$V$9= $D4,'sheet 1'!$F$17,H4)","v":0}]
[null,null,null,4,null,null,null,{"$f":"IF('sheet 1'!$V$9= $D5,'sheet 1'!$F$17,H5)","v":0}]
[null,null,null,5,null,null,null,{"$f":"IF('sheet 1'!$V$9= $D6,'sheet 1'!$F$17,H6)","v":0}]
[null,null,null,6,null,null,null,{"$f":"IF('sheet 1'!$V$9= $D7,'sheet 1'!$F$17,H7)","v":0}]
[null,null,null,7,null,null,null,{"$f":"IF('sheet 1'!$V$9= $D8,'sheet 1'!$F$17,H8)","v":0}]
[null,null,null,8,null,null,null,{"$f":"IF('sheet 1'!$V$9= $D9,'sheet 1'!$F$17,H9)","v":0}]
[null,null,null,9,null,null,null,{"$f":"IF('sheet 1'!$V$9= $D10,'sheet 1'!$F$17,H10)","v":0}]
[null,null,null,10,null,null,null,{"$f":"IF('sheet 1'!$V$9= $D11,'sheet 1'!$F$17,H11)","v":0}]
[null,null,null,11,null,null,null,{"$f":"IF('sheet 1'!$V$9= $D12,'sheet 1'!$F$17,H12)","v":0}]
[null,null,null,12,null,null,null,{"$f":"IF('sheet 1'!$V$9= $D13,'sheet 1'!$F$17,H13)","v":0}]
[null,null,null,13,null,null,null,{"$f":"IF('sheet 1'!$V$9= $D14,'sheet 1'!$F$17,H14)","v":0}]
[null,null,null,14,null,null,null,{"$f":"IF('sheet 1'!$V$9= $D15,'sheet 1'!$F$17,H15)","v":0}]
[null,null,null,15,null,null,null,{"$f":"IF('sheet 1'!$V$9= $D16,'sheet 1'!$F$17,H16)","v":0}]
[null,null,null,16,null,null,null,{"$f":"IF('sheet 1'!$V$9= $D17,'sheet 1'!$F$17,H17)","v":0}]
[null,null,null,17,null,null,null,{"$f":"IF('sheet 1'!$V$9= $D18,'sheet 1'!$F$17,H18)","v":0}]
[null,null,null,18,null,null,null,{"$f":"IF('sheet 1'!$V$9= $D19,'sheet 1'!$F$17,H19)","v":0}]
[null,null,null,19,null,null,null,{"$f":"IF('sheet 1'!$V$9= $D20,'sheet 1'!$F$17,H20)","v":0}]
[null,null,null,20,null,null,null,{"$f":"IF('sheet 1'!$V$9= $D21,'sheet 1'!$F$17,H21)","v":0}]
[null,null,null,21,null,null,null,{"$f":"IF('sheet 1'!$V$9= $D22,'sheet 1'!$F$17,H22)","v":0}]
[null,null,null,22,null,null,null,{"$f":"IF('sheet 1'!$V$9= $D23,'sheet 1'!$F$17,H23)","v":0}]
[null,null,null,23,null,null,null,{"$f":"IF('sheet 1'!$V$9= $D24,'sheet 1'!$F$17,H24)","v":0}]
[null,null,null,24,null,null,null,{"$f":"IF('sheet 1'!$V$9= $D25,'sheet 1'!$F$17,H25)","v":0}]
[null,null,null,25,null,null,null,{"$f":"IF('sheet 1'!$V$9= $D26,'sheet 1'!$F$17,H26)","v":0}]
[null,null,null,26,null,null,null,{"$f":"IF('sheet 1'!$V$9= $D27,'sheet 1'!$F$17,H27)","v":0}]
[null,null,null,27,null,null,null,{"$f":"IF('sheet 1'!$V$9= $D28,'sheet 1'!$F$17,H28)","v":0}]
[null,null,null,28,null,null,null,{"$f":"IF('sheet 1'!$V$9= $D29,'sheet 1'!$F$17,H29)","v":0}]
[null,null,null,29,null,null,null,{"$f":"IF('sheet 1'!$V$9= $D30,'sheet 1'!$F$17,H30)","v":0}]
[null,null,null,30,null,null,null,{"$f":"IF('sheet 1'!$V$9= $D31,'sheet 1'!$F$17,H31)","v":0}]
[null,null,null,31,null,null,null,{"$f":"IF('sheet 1'!$V$9= $D32,'sheet 1'!$F$17,H32)","v":0}]
[null,null,null,32,null,null,null,{"$f":"IF('sheet 1'!$V$9= $D33,'sheet 1'!$F$17,H33)","v":0}]
[null,null,null,33,null,null,null,{"$f":"IF('sheet 1'!$V$9= $D34,'sheet 1'!$F$17,H34)","v":0}]
[null,null,null,34,null,null,null,{"$f":"IF('sheet 1'!$V$9= $D35,'sheet 1'!$F$17,H35)","v":0}]
[null,null,null,35,null,null,null,{"$f":"IF('sheet 1'!$V$9= $D36,'sheet 1'!$F$17,H36)","v":0}]
[null,null,null,36,null,null,null,{"$f":"IF('sheet 1'!$V$9= $D37,'sheet 1'!$F$17,H37)","v":0}]
[null,null,null,37,null,null,null,{"$f":"IF('sheet 1'!$V$9= $D38,'sheet 1'!$F$17,H38)","v":0}]
[null,null,null,38,null,null,null,{"$f":"IF('sheet 1'!$V$9= $D39,'sheet 1'!$F$17,H39)","v":0}]
[null,null,null,39,null,null,null,{"$f":"IF('sheet 1'!$V$9= $D40,'sheet 1'!$F$17,H40)","v":0}]
[null,null,null,40,null,null,null,{"$f":"IF('sheet 1'!$V$9= $D41,'sheet 1'!$F$17,H41)","v":0}]