{"text_format":"1","workbook":"xlsx","n_sheets":4,"sheets":["A","B","Analisis","API"],"not_rendered":{"charts":0,"images":0,"macros":1,"external_links":0,"defined_names":2,"comments":0,"pivot_tables":0},"unopened":[],"bounds":{"document_bytes":16777216,"sheet_cells":100000,"rows_first":2000,"rows_last":500,"rows_between":2000,"halvings":0,"cell_chars":16384,"cell_head_chars":4096},"cells_cut":0,"cells_raw":0,"read":"whole","date_system":"1900"}

{"sheet":"A","index":0,"n_rows":215,"n_cols":3,"rows_kept":215,"cut":false,"hidden":false,"merged":[[207,2,213,8],[214,2,216,8],[0,0,1,0],[0,1,1,1]]}
["Fecha","Importe"]
[]
["2019-04-28",4.84]
["2019-05-05",3.75]
["2019-05-12",4.8499999999999996]
["2019-05-19",4.4800000000000004]
["2019-05-26",6.39]
["2019-06-02",5.83]
["2019-06-09",6.69]
["2019-06-16",6.84]
["2019-06-23",5.44]
["2019-06-30",5.4]
["2019-07-07",3.81]
["2019-07-14",4.22]
["2019-07-21",3.61]
["2019-07-28",3.59]
["2019-08-04",3.55]
["2019-08-11",2.97]
["2019-08-18",2.62]
["2019-08-25",2.13]
["2019-09-01",2.73]
["2019-09-08",3.43]
["2019-09-15",2.91]
["2019-09-22",2.2000000000000002]
["2019-09-29",2.64]
["2019-10-06",2.87]
["2019-10-13",2.9]
["2019-10-20",3.2]
["2019-10-27",3.38]
["2019-11-03",4.1900000000000004]
["2019-11-10",3.9]
["2019-11-17",3.08]
["2019-11-24",3.81]
["2019-12-01",3.92]
["2019-12-08",4.49]
["2019-12-15",4.26]
["2019-12-22",4.25]
["2019-12-29",4.2]
["2020-01-05",4.25]
["2020-01-12",4.5199999999999996]
["2020-01-19",4.4800000000000004]
["2020-01-26",4.4000000000000004]
["2020-02-02",4.76]
["2020-02-09",4.38]
["2020-02-16",4.79]
["2020-02-23",3.35]
["2020-03-01",3.08]
["2020-03-08",1.92]
["2020-03-15",1.92]
["2020-03-22",1.85]
["2020-03-29",2.06]
["2020-04-05",2.2999999999999998]
["2020-04-12",2.38]
["2020-04-19",2.81]
["2020-04-26",2.77]
["2020-05-03",2.5099999999999998]
["2020-05-10",2.54]
["2020-05-17",2.5]
["2020-05-24",2.73]
["2020-05-31",3.02]
["2020-06-07",2.76]
["2020-06-14",2.6]
["2020-06-21",2.5]
["2020-06-28",2.93]
["2020-07-05",4.0199999999999996]
["2020-07-12",4.2]
["2020-07-19",3.81]
["2020-07-26",3.91]
["2020-08-02",5.27]
["2020-08-09",6.24]
["2020-08-16",8.5299999999999994]
["2020-08-23",7.62]
["2020-08-30",5.18]
["2020-09-06",5.32]
["2020-09-13",4.66]
["2020-09-20",4.7300000000000004]
["2020-09-27",5.31]
["2020-10-04",6.07]
["2020-10-11",5.76]
["2020-10-18",5.29]
["2020-10-25",4.74]
["2020-11-01",4.8099999999999996]
["2020-11-08",4.9800000000000004]
["2020-11-15",5.48]
["2020-11-22",5.43]
["2020-11-29",5.21]
["2020-12-06",5.2]
["2020-12-13",5.04]
["2020-12-20",4.84]
["2020-12-27",5.83]
["2021-01-03",6.41]
["2021-01-10",8.5399999999999991]
["2021-01-17",8.24]
["2021-01-24",8.15]
["2021-01-31",13.84]
["2021-02-07",19.079999999999998]
["2021-02-14",21.57]
["2021-02-21",17.649999999999999]
["2021-02-28",19.46]
["2021-03-07",18.440000000000001]
["2021-03-14",20.52]
["2021-03-21",19.329999999999998]
["2021-03-28",21.53]
["2021-04-04",23.37]
["2021-04-11",21.4]
["2021-04-18",18.690000000000001]
["2021-04-25",23.09]
["2021-05-02",28.71]
["2021-05-09",24.26]
["2021-05-16",11.65]
["2021-05-23",12.55]
["2021-05-30",15.13]
["2021-06-06",12.53]
["2021-06-13",11.98]
["2021-06-20",10.09]
["2021-06-27",12.31]
["2021-07-04",14.08]
["2021-07-11",10.97]
["2021-07-18",11.45]
["2021-07-25",12.31]
["2021-08-01",13.14]
["2021-08-08",15.91]
["2021-08-15",21.86]
["2021-08-22",21.2]
["2021-08-29",25.73]
["2021-09-05",34.89]
["2021-09-12",44.27]
["2021-09-19",39.799999999999997]
["2021-09-26",38.74]
["2021-10-03",32.42]
["2021-10-10",32.44]
["2021-10-17",34.26]
["2021-10-24",37.24]
["2021-10-31",35.729999999999997]
["2021-11-07",31.93]
["2021-11-14",30.88]
["2021-11-21",27.39]
["2021-11-28",24.57]
["2021-12-05",24.49]
["2021-12-12",22.16]
["2021-12-19",32.119999999999997]
["2021-12-26",35.53]
["2022-01-02",34.979999999999997]
["2022-01-09",43.65]
["2022-01-16",34.61]
["2022-01-23",27.19]
["2022-01-30",31.26]
["2022-02-06",26.18]
["2022-02-13",26.08]
["2022-02-20",26.77]
["2022-02-27",28.15]
["2022-03-06",26.24]
["2022-03-13",27.84]
["2022-03-20",29.96]
["2022-03-27",31.97]
["2022-04-03",26.5]
["2022-04-10",23.21]
["2022-04-17",22.29]
["2022-04-24",18]
["2022-05-01",15.7]
["2022-05-08",12.38]
["2022-05-15",11.41]
["2022-05-22",9.59]
["2022-05-29",9.17]
["2022-06-05",7.07]
["2022-06-12",6.77]
["2022-06-19",8.06]
["2022-06-26",8.09]
["2022-07-03",8.7899999999999991]
["2022-07-10",8.92]
["2022-07-17",9.98]
["2022-07-24",10.35]
["2022-07-31",11.36]
["2022-08-07",11.58]
["2022-08-14",10.64]
["2022-08-21",10.57]
["2022-08-28",13.05]
["2022-09-04",15.69]
["2022-09-11",14.69]
["2022-09-18",13.98]
["2022-09-25",11.99]
["2022-10-02",13.19]
["2022-10-09",11.7]
["2022-10-16",12.11]
["2022-10-23",13.92]
["2022-10-30",14.44]
["2022-11-06",10.19]
["2022-11-13",9.35]
["2022-11-20",9.93]
["2022-11-27",10.26]
["2022-12-04",9.5299999999999994]
["2022-12-11",8.86]
["2022-12-18",9.01]
["2022-12-25",9.4600000000000009]
["2023-01-01",10.55]
["2023-01-08",12.78]
["2023-01-15",13.33]
["2023-01-22",13.8]
["2023-01-29",14.74]
["2023-02-05",13.54]
["2023-02-12",14.13]
["2023-02-19",12.96]
["2023-02-26T20:00:00",12.02]
["2023-03-05T20:00:00",11.7]
["2023-03-12T20:00:00",12.31]
["2023-03-19T20:00:00",11.33]
[{"$f":"A206+7","v":"2023-03-26T20:00:00"},{"$f":"INDEX(B!B1424:B1431,MATCH(MAX(B!A1424:A1431),B!A1424:A1431,0))","v":10.84}]
[{"$f":"A207+7","v":"2023-04-02T20:00:00"},null,"En la Hoja A las fechas y valores corresponden a periodos semanales, en la hoja B, son diarios. Necesito trasladar a la semana del 26/03 al 02/04 el ultimo valor registrado en la hoja B, que seria del dia 29/03. Esta formula se copiaria en las celdas siguientes. Se requiere que la formula busque en la hoja B en el rango A1432:B1438 el valor (distinto a 0 o nulo) de  la fecha mas reciente . Que en este caso seria 11,20 correspondiente al 29/03/23, ya que despues de esa fecha los valores son nulos. El resultado iria en esta hoja en la celda B208"]
[]
[]
[]
[]
[]
[]
[null,null,"Esto es lo mas cerca que he podido llegar  para solucionar, pero no hace lo que busco{=Max(SI(ENTERO('1D'!$A$1432:$A$1438)>$A$207;SI((ENTERO('1D'!$A$1432:$A$1438)<=$A$208)*('1D'!$D$1432:$D$1438<>0);'1D'!$D$1432:$D$1438)))}"]

{"sheet":"B","index":1,"n_rows":1439,"n_cols":2,"rows_kept":1439,"cut":false,"hidden":false,"merged":[]}
[]
["Fecha","Importe"]
["2019-04-28T20:00:00",3.78]
["2019-04-29T20:00:00",3.92]
["2019-04-30T20:00:00",4.3899999999999997]
["2019-05-01T20:00:00",4.6100000000000003]
["2019-05-02T20:00:00",5.33]
["2019-05-03T20:00:00",5.24]
["2019-05-04T20:00:00",4.84]
["2019-05-05T20:00:00",4.76]
["2019-05-06T20:00:00",4.5999999999999996]
["2019-05-07T20:00:00",4.3099999999999996]
["2019-05-08T20:00:00",3.88]
["2019-05-09T20:00:00",3.8]
["2019-05-10T20:00:00",3.9]
["2019-05-11T20:00:00",3.75]
["2019-05-12T20:00:00",3.9]
["2019-05-13T20:00:00",4]
["2019-05-14T20:00:00",4.55]
["2019-05-15T20:00:00",4.28]
["2019-05-16T20:00:00",4.41]
["2019-05-17T20:00:00",4.68]
["2019-05-18T20:00:00",4.8499999999999996]
["2019-05-19T20:00:00",4.67]
["2019-05-20T20:00:00",4.74]
["2019-05-21T20:00:00",4.3099999999999996]
["2019-05-22T20:00:00",4.34]
["2019-05-23T20:00:00",4.45]
["2019-05-24T20:00:00",4.3899999999999997]
["2019-05-25T20:00:00",4.4800000000000004]
["2019-05-26T20:00:00",4.66]
["2019-05-27T20:00:00",4.78]
["2019-05-28T20:00:00",4.7]
["2019-05-29T20:00:00",5.93]
["2019-05-30T20:00:00",5.78]
["2019-05-31T20:00:00",5.77]
["2019-06-01T20:00:00",6.39]
["2019-06-02T20:00:00",6.51]
["2019-06-03T20:00:00",5.93]
["2019-06-04T20:00:00",6.14]
["2019-06-05T20:00:00",5.99]
["2019-06-06T20:00:00",6.28]
["2019-06-07T20:00:00",6.1]
["2019-06-08T20:00:00",5.83]
["2019-06-09T20:00:00",6.08]
["2019-06-10T20:00:00",5.94]
["2019-06-11T20:00:00",6.12]
["2019-06-12T20:00:00",6.27]
["2019-06-13T20:00:00",6.22]
["2019-06-14T20:00:00",6.17]
["2019-06-15T20:00:00",6.69]
["2019-06-16T20:00:00",7.01]
["2019-06-17T20:00:00",6.57]
["2019-06-18T20:00:00",6.63]
["2019-06-19T20:00:00",6.48]
["2019-06-20T20:00:00",6.52]
["2019-06-21T20:00:00",6.76]
["2019-06-22T20:00:00",6.84]
["2019-06-23T20:00:00",6.67]
["2019-06-24T20:00:00",6.58]
["2019-06-25T20:00:00",6.35]
["2019-06-26T20:00:00",5.56]
["2019-06-27T20:00:00",5.93]
["2019-06-28T20:00:00",6.06]
["2019-06-29T20:00:00",5.44]
["2019-06-30T20:00:00",5.48]
["2019-07-01T20:00:00",5.34]
["2019-07-02T20:00:00",5.57]
["2019-07-03T20:00:00",5.48]
["2019-07-04T20:00:00",5.35]
["2019-07-05T20:00:00",5.29]
["2019-07-06T20:00:00",5.4]
["2019-07-07T20:00:00",5.18]
["2019-07-08T20:00:00",4.9800000000000004]
["2019-07-09T20:00:00",4.4800000000000004]
["2019-07-10T20:00:00",4.3499999999999996]
["2019-07-11T20:00:00",4.53]
["2019-07-12T20:00:00",4.2699999999999996]
["2019-07-13T20:00:00",3.81]
["2019-07-14T20:00:00",4.13]
["2019-07-15T20:00:00",3.65]
["2019-07-16T20:00:00",3.83]
["2019-07-17T20:00:00",4.09]
["2019-07-18T20:00:00",3.93]
["2019-07-19T20:00:00",4.04]
["2019-07-20T20:00:00",4.22]
["2019-07-21T20:00:00",3.99]
["2019-07-22T20:00:00",3.72]
["2019-07-23T20:00:00",3.89]
["2019-07-24T20:00:00",3.79]
["2019-07-25T20:00:00",3.89]
["2019-07-26T20:00:00",3.62]
["2019-07-27T20:00:00",3.61]
["2019-07-28T20:00:00",3.59]
["2019-07-29T20:00:00",3.59]
["2019-07-30T20:00:00",3.65]
["2019-07-31T20:00:00",3.54]
["2019-08-01T20:00:00",3.65]
["2019-08-02T20:00:00",3.69]
["2019-08-03T20:00:00",3.59]
["2019-08-04T20:00:00",3.77]
["2019-08-05T20:00:00",3.57]
["2019-08-06T20:00:00",3.5]
["2019-08-07T20:00:00",3.27]
["2019-08-08T20:00:00",3.15]
["2019-08-09T20:00:00",3.35]
["2019-08-10T20:00:00",3.55]
["2019-08-11T20:00:00",3.34]
["2019-08-12T20:00:00",3.26]
["2019-08-13T20:00:00",2.86]
["2019-08-14T20:00:00",2.9]
["2019-08-15T20:00:00",2.88]
["2019-08-16T20:00:00",2.91]
["2019-08-17T20:00:00",2.97]
["2019-08-18T20:00:00",2.89]
["2019-08-19T20:00:00",2.87]
["2019-08-20T20:00:00",2.67]
["2019-08-21T20:00:00",2.72]
["2019-08-22T20:00:00",2.72]
["2019-08-23T20:00:00",2.69]
["2019-08-24T20:00:00",2.62]
["2019-08-25T20:00:00",2.62]
["2019-08-26T20:00:00",2.57]
["2019-08-27T20:00:00",2.3199999999999998]
["2019-08-28T20:00:00",2.16]
["2019-08-29T20:00:00",2.15]
["2019-08-30T20:00:00",2.02]
["2019-08-31T20:00:00",2.13]
["2019-09-01T20:00:00",2.12]
["2019-09-02T20:00:00",2.16]
["2019-09-03T20:00:00",2.04]
["2019-09-04T20:00:00",1.94]
["2019-09-05T20:00:00",2.04]
["2019-09-06T20:00:00",2.16]
["2019-09-07T20:00:00",2.73]
["2019-09-08T20:00:00",2.74]
["2019-09-09T20:00:00",2.58]
["2019-09-10T20:00:00",2.57]
["2019-09-11T20:00:00",3.07]
["2019-09-12T20:00:00",3.17]
["2019-09-13T20:00:00",3.1]
["2019-09-14T20:00:00",3.43]
["2019-09-15T20:00:00",3.33]
["2019-09-16T20:00:00",3.29]
["2019-09-17T20:00:00",3.29]
["2019-09-18T20:00:00",3.13]
["2019-09-19T20:00:00",3.19]
["2019-09-20T20:00:00",3.07]
["2019-09-21T20:00:00",2.91]
["2019-09-22T20:00:00",2.57]
["2019-09-23T20:00:00",2.2200000000000002]
["2019-09-24T20:00:00",2.2799999999999998]
["2019-09-25T20:00:00",2.21]
["2019-09-26T20:00:00",2.2799999999999998]
["2019-09-27T20:00:00",2.27]
["2019-09-28T20:00:00",2.2000000000000002]
["2019-09-29T20:00:00",2.65]
["2019-09-30T20:00:00",2.5299999999999998]
["2019-10-01T20:00:00",2.6]
["2019-10-02T20:00:00",2.59]
["2019-10-03T20:00:00",2.57]
["2019-10-04T20:00:00",2.77]
["2019-10-05T20:00:00",2.64]
["2019-10-06T20:00:00",2.89]
["2019-10-07T20:00:00",2.89]
["2019-10-08T20:00:00",2.9]
["2019-10-09T20:00:00",2.89]
["2019-10-10T20:00:00",2.81]
["2019-10-11T20:00:00",2.82]
["2019-10-12T20:00:00",2.87]
["2019-10-13T20:00:00",3.09]
["2019-10-14T20:00:00",2.94]
["2019-10-15T20:00:00",2.84]
["2019-10-16T20:00:00",2.91]
["2019-10-17T20:00:00",2.75]
["2019-10-18T20:00:00",2.74]
["2019-10-19T20:00:00",2.9]
["2019-10-20T20:00:00",2.98]
["2019-10-21T20:00:00",2.86]
["2019-10-22T20:00:00",2.69]
["2019-10-23T20:00:00",2.82]
["2019-10-24T20:00:00",3.05]
["2019-10-25T20:00:00",3.08]
["2019-10-26T20:00:00",3.2]
["2019-10-27T20:00:00",3.1]
["2019-10-28T20:00:00",3.15]
["2019-10-29T20:00:00",3.02]
["2019-10-30T20:00:00",3.26]
["2019-10-31T20:00:00",3.26]
["2019-11-01T20:00:00",3.42]
["2019-11-02T20:00:00",3.38]
["2019-11-03T20:00:00",3.61]
["2019-11-04T20:00:00",3.76]
["2019-11-05T20:00:00",3.84]
["2019-11-06T20:00:00",3.88]
["2019-11-07T20:00:00",3.81]
["2019-11-08T20:00:00",3.97]
["2019-11-09T20:00:00",4.1900000000000004]
["2019-11-10T20:00:00",4.3499999999999996]
["2019-11-11T20:00:00",4.2300000000000004]
["2019-11-12T20:00:00",3.99]
["2019-11-13T20:00:00",4.01]
["2019-11-14T20:00:00",3.93]
["2019-11-15T20:00:00",3.96]
["2019-11-16T20:00:00",3.9]
["2019-11-17T20:00:00",3.61]
["2019-11-18T20:00:00",3.52]
["2019-11-19T20:00:00",3.33]
["2019-11-20T20:00:00",3.19]
["2019-11-21T20:00:00",2.94]
["2019-11-22T20:00:00",3.22]
["2019-11-23T20:00:00",3.08]
["2019-11-24T20:00:00",3.39]
["2019-11-25T20:00:00",3.47]
["2019-11-26T20:00:00",3.57]
["2019-11-27T20:00:00",3.68]
["2019-11-28T20:00:00",4.01]
["2019-11-29T20:00:00",3.92]
["2019-11-30T20:00:00",3.81]
["2019-12-01T20:00:00",3.67]
["2019-12-02T20:00:00",3.64]
["2019-12-03T20:00:00",3.56]
["2019-12-04T20:00:00",3.49]
["2019-12-05T20:00:00",3.65]
["2019-12-06T20:00:00",3.76]
["2019-12-07T20:00:00",3.92]
["2019-12-08T20:00:00",3.67]
["2019-12-09T20:00:00",3.58]
["2019-12-10T20:00:00",3.82]
["2019-12-11T20:00:00",4.0999999999999996]
["2019-12-12T20:00:00",3.97]
["2019-12-13T20:00:00",4.26]
["2019-12-14T20:00:00",4.49]
["2019-12-15T20:00:00",4.05]
["2019-12-16T20:00:00",3.64]
["2019-12-17T20:00:00",4.2699999999999996]
["2019-12-18T20:00:00",4.2699999999999996]
["2019-12-19T20:00:00",4.3099999999999996]
["2019-12-20T20:00:00",4.0599999999999996]
["2019-12-21T20:00:00",4.26]
["2019-12-22T20:00:00",4.3]
["2019-12-23T20:00:00",4.3899999999999997]
["2019-12-24T20:00:00",4.26]
["2019-12-25T20:00:00",4.5599999999999996]
["2019-12-26T20:00:00",4.51]
["2019-12-27T20:00:00",4.4000000000000004]
["2019-12-28T20:00:00",4.25]
["2019-12-29T20:00:00",4.17]
["2019-12-30T20:00:00",4.2300000000000004]
["2019-12-31T20:00:00",4.38]
["2020-01-01T20:00:00",4.0999999999999996]
["2020-01-02T20:00:00",4.24]
["2020-01-03T20:00:00",4.25]
["2020-01-04T20:00:00",4.2]
["2020-01-05T20:00:00",4.1100000000000003]
["2020-01-06T20:00:00",4.08]
["2020-01-07T20:00:00",4]
["2020-01-08T20:00:00",4.25]
["2020-01-09T20:00:00",4.2699999999999996]
["2020-01-10T20:00:00",4.26]
["2020-01-11T20:00:00",4.25]
["2020-01-12T20:00:00",4.25]
["2020-01-13T20:00:00",4.53]
["2020-01-14T20:00:00",4.57]
["2020-01-15T20:00:00",5.0999999999999996]
["2020-01-16T20:00:00",5.0199999999999996]
["2020-01-17T20:00:00",4.63]
["2020-01-18T20:00:00",4.5199999999999996]
["2020-01-19T20:00:00",4.51]
["2020-01-20T20:00:00",4.6399999999999997]
["2020-01-21T20:00:00",4.66]
["2020-01-22T20:00:00",4.46]
["2020-01-23T20:00:00",4.49]
["2020-01-24T20:00:00",4.3899999999999997]
["2020-01-25T20:00:00",4.4800000000000004]
["2020-01-26T20:00:00",4.5199999999999996]
["2020-01-27T20:00:00",4.58]
["2020-01-28T20:00:00",4.4000000000000004]
["2020-01-29T20:00:00",4.41]
["2020-01-30T20:00:00",4.4000000000000004]
["2020-01-31T20:00:00",4.3899999999999997]
["2020-02-01T20:00:00",4.4000000000000004]
["2020-02-02T20:00:00",4.26]
["2020-02-03T20:00:00",4.22]
["2020-02-04T20:00:00",4.33]
["2020-02-05T20:00:00",4.59]
["2020-02-06T20:00:00",4.83]
["2020-02-07T20:00:00",4.63]
["2020-02-08T20:00:00",4.76]
["2020-02-09T20:00:00",4.7699999999999996]
["2020-02-10T20:00:00",5.1100000000000003]
["2020-02-11T20:00:00",5.1100000000000003]
["2020-02-12T20:00:00",4.91]
["2020-02-13T20:00:00",5.1100000000000003]
["2020-02-14T20:00:00",4.6100000000000003]
["2020-02-15T20:00:00",4.38]
["2020-02-16T20:00:00",4.2699999999999996]
["2020-02-17T20:00:00",4.4400000000000004]
["2020-02-18T20:00:00",4.1500000000000004]
["2020-02-19T20:00:00",4.46]
["2020-02-20T20:00:00",4.95]
["2020-02-21T20:00:00",5.01]
["2020-02-22T20:00:00",4.79]
["2020-02-23T20:00:00",4.3899999999999997]
["2020-02-24T20:00:00",4.05]
["2020-02-25T20:00:00",3.64]
["2020-02-26T20:00:00",3.69]
["2020-02-27T20:00:00",3.55]
["2020-02-28T20:00:00",3.44]
["2020-02-29T20:00:00",3.35]
["2020-03-01T20:00:00",3.71]
["2020-03-02T20:00:00",3.62]
["2020-03-03T20:00:00",3.74]
["2020-03-04T20:00:00",3.76]
["2020-03-05T20:00:00",3.85]
["2020-03-06T20:00:00",3.62]
["2020-03-07T20:00:00",3.08]
["2020-03-08T20:00:00",3.03]
["2020-03-09T20:00:00",3.06]
["2020-03-10T20:00:00",2.99]
["2020-03-11T20:00:00",1.62]
["2020-03-12T20:00:00",1.8]
["2020-03-13T20:00:00",1.84]
["2020-03-14T20:00:00",1.92]
["2020-03-15T20:00:00",1.67]
["2020-03-16T20:00:00",1.76]
["2020-03-17T20:00:00",1.81]
["2020-03-18T20:00:00",2.0699999999999998]
["2020-03-19T20:00:00",2.17]
["2020-03-20T20:00:00",2.17]
["2020-03-21T20:00:00",1.92]
["2020-03-22T20:00:00",2.11]
["2020-03-23T20:00:00",2.14]
["2020-03-24T20:00:00",2.08]
["2020-03-25T20:00:00",2.17]
["2020-03-26T20:00:00",1.99]
["2020-03-27T20:00:00",1.97]
["2020-03-28T20:00:00",1.85]
["2020-03-29T20:00:00",1.96]
["2020-03-30T20:00:00",1.95]
["2020-03-31T20:00:00",1.97]
["2020-04-01T20:00:00",1.98]
["2020-04-02T20:00:00",1.98]
["2020-04-03T20:00:00",2.02]
["2020-04-04T20:00:00",2.06]
["2020-04-05T20:00:00",2.41]
["2020-04-06T20:00:00",2.35]
["2020-04-07T20:00:00",2.4900000000000002]
["2020-04-08T20:00:00",2.57]
["2020-04-09T20:00:00",2.31]
["2020-04-10T20:00:00",2.31]
["2020-04-11T20:00:00",2.2999999999999998]
["2020-04-12T20:00:00",2.2599999999999998]
["2020-04-13T20:00:00",2.36]
["2020-04-14T20:00:00",2.27]
["2020-04-15T20:00:00",2.42]
["2020-04-16T20:00:00",2.37]
["2020-04-17T20:00:00",2.5099999999999998]
["2020-04-18T20:00:00",2.38]
["2020-04-19T20:00:00",2.27]
["2020-04-20T20:00:00",2.27]
["2020-04-21T20:00:00",2.39]
["2020-04-22T20:00:00",2.4300000000000002]
["2020-04-23T20:00:00",2.75]
["2020-04-24T20:00:00",2.87]
["2020-04-25T20:00:00",2.81]
["2020-04-26T20:00:00",2.77]
["2020-04-27T20:00:00",2.79]
["2020-04-28T20:00:00",2.93]
["2020-04-29T20:00:00",2.73]
["2020-04-30T20:00:00",2.83]
["2020-05-01T20:00:00",2.87]
["2020-05-02T20:00:00",2.77]
["2020-05-03T20:00:00",2.76]
["2020-05-04T20:00:00",2.71]
["2020-05-05T20:00:00",2.62]
["2020-05-06T20:00:00",2.73]
["2020-05-07T20:00:00",2.81]
["2020-05-08T20:00:00",2.75]
["2020-05-09T20:00:00",2.5099999999999998]
["2020-05-10T20:00:00",2.39]
["2020-05-11T20:00:00",2.4900000000000002]
["2020-05-12T20:00:00",2.54]
["2020-05-13T20:00:00",2.5299999999999998]
["2020-05-14T20:00:00",2.4700000000000002]
["2020-05-15T20:00:00",2.56]
["2020-05-16T20:00:00",2.54]
["2020-05-17T20:00:00",2.6]
["2020-05-18T20:00:00",2.62]
["2020-05-19T20:00:00",2.71]
["2020-05-20T20:00:00",2.5099999999999998]
["2020-05-21T20:00:00",2.65]
["2020-05-22T20:00:00",2.59]
["2020-05-23T20:00:00",2.5]
["2020-05-24T20:00:00",2.61]
["2020-05-25T20:00:00",2.58]
["2020-05-26T20:00:00",2.6]
["2020-05-27T20:00:00",2.67]
["2020-05-28T20:00:00",2.68]
["2020-05-29T20:00:00",2.82]
["2020-05-30T20:00:00",2.73]
["2020-05-31T20:00:00",2.86]
["2020-06-01T20:00:00",2.76]
["2020-06-02T20:00:00",2.91]
["2020-06-03T20:00:00",3.11]
["2020-06-04T20:00:00",3.09]
["2020-06-05T20:00:00",3.06]
["2020-06-06T20:00:00",3.02]
["2020-06-07T20:00:00",3.16]
["2020-06-08T20:00:00",3.12]
["2020-06-09T20:00:00",3.11]
["2020-06-10T20:00:00",2.76]
["2020-06-11T20:00:00",2.86]
["2020-06-12T20:00:00",2.87]
["2020-06-13T20:00:00",2.76]
["2020-06-14T20:00:00",2.71]
["2020-06-15T20:00:00",2.73]
["2020-06-16T20:00:00",2.7]
["2020-06-17T20:00:00",2.64]
["2020-06-18T20:00:00",2.6]
["2020-06-19T20:00:00",2.62]
["2020-06-20T20:00:00",2.6]
["2020-06-21T20:00:00",2.69]
["2020-06-22T20:00:00",2.77]
["2020-06-23T20:00:00",2.69]
["2020-06-24T20:00:00",2.62]
["2020-06-25T20:00:00",2.62]
["2020-06-26T20:00:00",2.4300000000000002]
["2020-06-27T20:00:00",2.5]
["2020-06-28T20:00:00",2.65]
["2020-06-29T20:00:00",2.6]
["2020-06-30T20:00:00",2.66]
["2020-07-01T20:00:00",2.66]
["2020-07-02T20:00:00",2.69]
["2020-07-03T20:00:00",2.78]
["2020-07-04T20:00:00",2.93]
["2020-07-05T20:00:00",3.02]
["2020-07-06T20:00:00",3.25]
["2020-07-07T20:00:00",3.55]
["2020-07-08T20:00:00",3.79]
["2020-07-09T20:00:00",4.05]
["2020-07-10T20:00:00",3.92]
["2020-07-11T20:00:00",4.0199999999999996]
["2020-07-12T20:00:00",3.87]
["2020-07-13T20:00:00",3.96]
["2020-07-14T20:00:00",4.05]
["2020-07-15T20:00:00",4.08]
["2020-07-16T20:00:00",4.1500000000000004]
["2020-07-17T20:00:00",4.3600000000000003]
["2020-07-18T20:00:00",4.2]
["2020-07-19T20:00:00",3.88]
["2020-07-20T20:00:00",4.01]
["2020-07-21T20:00:00",4.01]
["2020-07-22T20:00:00",3.96]
["2020-07-23T20:00:00",3.83]
["2020-07-24T20:00:00",3.92]
["2020-07-25T20:00:00",3.81]
["2020-07-26T20:00:00",3.59]
["2020-07-27T20:00:00",3.75]
["2020-07-28T20:00:00",3.63]
["2020-07-29T20:00:00",3.7]
["2020-07-30T20:00:00",3.79]
["2020-07-31T20:00:00",4.08]
["2020-08-01T20:00:00",3.91]
["2020-08-02T20:00:00",3.82]
["2020-08-03T20:00:00",4.0199999999999996]
["2020-08-04T20:00:00",4.1399999999999997]
["2020-08-05T20:00:00",4.17]
["2020-08-06T20:00:00",4.0199999999999996]
["2020-08-07T20:00:00",4.43]
["2020-08-08T20:00:00",5.27]
["2020-08-09T20:00:00",5.47]
["2020-08-10T20:00:00",4.92]
["2020-08-11T20:00:00",5.9]
["2020-08-12T20:00:00",6.09]
["2020-08-13T20:00:00",6.1]
["2020-08-14T20:00:00",6.08]
["2020-08-15T20:00:00",6.24]
["2020-08-16T20:00:00",5.91]
["2020-08-17T20:00:00",5.83]
["2020-08-18T20:00:00",5.65]
["2020-08-19T20:00:00",6.3]
["2020-08-20T20:00:00",5.61]
["2020-08-21T20:00:00",6.41]
["2020-08-22T20:00:00",8.5299999999999994]
["2020-08-23T20:00:00",8.2100000000000009]
["2020-08-24T20:00:00",8.3800000000000008]
["2020-08-25T20:00:00",7.71]
["2020-08-26T20:00:00",7.29]
["2020-08-27T20:00:00",7.56]
["2020-08-28T20:00:00",7.27]
["2020-08-29T20:00:00",7.62]
["2020-08-30T20:00:00",7.21]
["2020-08-31T20:00:00",7.22]
["2020-09-01T20:00:00",6.64]
["2020-09-02T20:00:00",4.9000000000000004]
["2020-09-03T20:00:00",5.46]
["2020-09-04T20:00:00",4.92]
["2020-09-05T20:00:00",5.18]
["2020-09-06T20:00:00",5.05]
["2020-09-07T20:00:00",4.95]
["2020-09-08T20:00:00",5.32]
["2020-09-09T20:00:00",5.32]
["2020-09-10T20:00:00",5.34]
["2020-09-11T20:00:00",5.6]
["2020-09-12T20:00:00",5.32]
["2020-09-13T20:00:00",5.38]
["2020-09-14T20:00:00",4.87]
["2020-09-15T20:00:00",5.12]
["2020-09-16T20:00:00",5.0599999999999996]
["2020-09-17T20:00:00",4.97]
["2020-09-18T20:00:00",4.9400000000000004]
["2020-09-19T20:00:00",4.66]
["2020-09-20T20:00:00",4.08]
["2020-09-21T20:00:00",4.21]
["2020-09-22T20:00:00",3.84]
["2020-09-23T20:00:00",4.4800000000000004]
["2020-09-24T20:00:00",4.79]
["2020-09-25T20:00:00",4.6100000000000003]
["2020-09-26T20:00:00",4.7300000000000004]
["2020-09-27T20:00:00",4.83]
["2020-09-28T20:00:00",5.31]
["2020-09-29T20:00:00",5.37]
["2020-09-30T20:00:00",5.14]
["2020-10-01T20:00:00",4.91]
["2020-10-02T20:00:00",5.01]
["2020-10-03T20:00:00",5.31]
["2020-10-04T20:00:00",5.37]
["2020-10-05T20:00:00",4.74]
["2020-10-06T20:00:00",4.87]
["2020-10-07T20:00:00",5.03]
["2020-10-08T20:00:00",5.16]
["2020-10-09T20:00:00",5.53]
["2020-10-10T20:00:00",6.07]
["2020-10-11T20:00:00",5.97]
["2020-10-12T20:00:00",6.01]
["2020-10-13T20:00:00",5.73]
["2020-10-14T20:00:00",5.77]
["2020-10-15T20:00:00",5.4]
["2020-10-16T20:00:00",5.47]
["2020-10-17T20:00:00",5.76]
["2020-10-18T20:00:00",5.5]
["2020-10-19T20:00:00",5.0199999999999996]
["2020-10-20T20:00:00",5.24]
["2020-10-21T20:00:00",5.44]
["2020-10-22T20:00:00",5.36]
["2020-10-23T20:00:00",5.54]
["2020-10-24T20:00:00",5.29]
["2020-10-25T20:00:00",5.15]
["2020-10-26T20:00:00",5.14]
["2020-10-27T20:00:00",4.8]
["2020-10-28T20:00:00",4.63]
["2020-10-29T20:00:00",4.62]
["2020-10-30T20:00:00",4.62]
["2020-10-31T20:00:00",4.74]
["2020-11-01T20:00:00",4.5999999999999996]
["2020-11-02T20:00:00",4.4800000000000004]
["2020-11-03T20:00:00",4.3899999999999997]
["2020-11-04T20:00:00",4.5]
["2020-11-05T20:00:00",4.88]
["2020-11-06T20:00:00",4.62]
["2020-11-07T20:00:00",4.8099999999999996]
["2020-11-08T20:00:00",5.16]
["2020-11-09T20:00:00",5.08]
["2020-11-10T20:00:00",5.03]
["2020-11-11T20:00:00",5.03]
["2020-11-12T20:00:00",5.21]
["2020-11-13T20:00:00",5.05]
["2020-11-14T20:00:00",4.9800000000000004]
["2020-11-15T20:00:00",5.08]
["2020-11-16T20:00:00",5.29]
["2020-11-17T20:00:00",5.1100000000000003]
["2020-11-18T20:00:00",5.0999999999999996]
["2020-11-19T20:00:00",5.27]
["2020-11-20T20:00:00",5.92]
["2020-11-21T20:00:00",5.48]
["2020-11-22T20:00:00",5.81]
["2020-11-23T20:00:00",5.97]
["2020-11-24T20:00:00",5.9]
["2020-11-25T20:00:00",5.33]
["2020-11-26T20:00:00",5.37]
["2020-11-27T20:00:00",5.43]
["2020-11-28T20:00:00",5.43]
["2020-11-29T20:00:00",5.57]
["2020-11-30T20:00:00",5.26]
["2020-12-01T20:00:00",5.51]
["2020-12-02T20:00:00",5.5]
["2020-12-03T20:00:00",5.05]
["2020-12-04T20:00:00",5.26]
["2020-12-05T20:00:00",5.21]
["2020-12-06T20:00:00",5.0999999999999996]
["2020-12-07T20:00:00",4.74]
["2020-12-08T20:00:00",4.8]
["2020-12-09T20:00:00",4.66]
["2020-12-10T20:00:00",4.71]
["2020-12-11T20:00:00",5.0599999999999996]
["2020-12-12T20:00:00",5.2]
["2020-12-13T20:00:00",5.23]
["2020-12-14T20:00:00",5.29]
["2020-12-15T20:00:00",5.49]
["2020-12-16T20:00:00",5.35]
["2020-12-17T20:00:00",5.33]
["2020-12-18T20:00:00",5.29]
["2020-12-19T20:00:00",5.04]
["2020-12-20T20:00:00",5.03]
["2020-12-21T20:00:00",4.9400000000000004]
["2020-12-22T20:00:00",4.4000000000000004]
["2020-12-23T20:00:00",4.96]
["2020-12-24T20:00:00",4.91]
["2020-12-25T20:00:00",4.8099999999999996]
["2020-12-26T20:00:00",4.84]
["2020-12-27T20:00:00",5.39]
["2020-12-28T20:00:00",5.62]
["2020-12-29T20:00:00",5.42]
["2020-12-30T20:00:00",6.47]
["2020-12-31T20:00:00",5.86]
["2021-01-01T20:00:00",5.42]
["2021-01-02T20:00:00",5.83]
["2021-01-03T20:00:00",6.04]
["2021-01-04T20:00:00",6.2]
["2021-01-05T20:00:00",6.68]
["2021-01-06T20:00:00",6.26]
["2021-01-07T20:00:00",5.93]
["2021-01-08T20:00:00",6.54]
["2021-01-09T20:00:00",6.41]
["2021-01-10T20:00:00",5.73]
["2021-01-11T20:00:00",5.71]
["2021-01-12T20:00:00",6.24]
["2021-01-13T20:00:00",6.48]
["2021-01-14T20:00:00",7.9]
["2021-01-15T20:00:00",9.0299999999999994]
["2021-01-16T20:00:00",8.5399999999999991]
["2021-01-17T20:00:00",9.5399999999999991]
["2021-01-18T20:00:00",8.89]
["2021-01-19T20:00:00",8.91]
["2021-01-20T20:00:00",7.18]
["2021-01-21T20:00:00",7.99]
["2021-01-22T20:00:00",8.33]
["2021-01-23T20:00:00",8.24]
["2021-01-24T20:00:00",7.74]
["2021-01-25T20:00:00",7.73]
["2021-01-26T20:00:00",6.95]
["2021-01-27T20:00:00",8.0399999999999991]
["2021-01-28T20:00:00",7.98]
["2021-01-29T20:00:00",8.0500000000000007]
["2021-01-30T20:00:00",8.15]
["2021-01-31T20:00:00",9.2899999999999991]
["2021-02-01T20:00:00",8.89]
["2021-02-02T20:00:00",9.3000000000000007]
["2021-02-03T20:00:00",9.15]
["2021-02-04T20:00:00",12.19]
["2021-02-05T20:00:00",12.09]
["2021-02-06T20:00:00",13.84]
["2021-02-07T20:00:00",14.17]
["2021-02-08T20:00:00",15.06]
["2021-02-09T20:00:00",14.97]
["2021-02-10T20:00:00",17.649999999999999]
["2021-02-11T20:00:00",21.08]
["2021-02-12T20:00:00",20.25]
["2021-02-13T20:00:00",19.079999999999998]
["2021-02-14T20:00:00",22.49]
["2021-02-15T20:00:00",25.07]
["2021-02-16T20:00:00",23.83]
["2021-02-17T20:00:00",23.09]
["2021-02-18T20:00:00",22.9]
["2021-02-19T20:00:00",21.65]
["2021-02-20T20:00:00",21.57]
["2021-02-21T20:00:00",21.15]
["2021-02-22T20:00:00",20.079999999999998]
["2021-02-23T20:00:00",19.420000000000002]
["2021-02-24T20:00:00",17.690000000000001]
["2021-02-25T20:00:00",18.86]
["2021-02-26T20:00:00",19.12]
["2021-02-27T20:00:00",17.649999999999999]
["2021-02-28T20:00:00",18.7]
["2021-03-01T20:00:00",18.850000000000001]
["2021-03-02T20:00:00",21.43]
["2021-03-03T20:00:00",18.86]
["2021-03-04T20:00:00",18.670000000000002]
["2021-03-05T20:00:00",18.91]
["2021-03-06T20:00:00",19.46]
["2021-03-07T20:00:00",19.39]
["2021-03-08T20:00:00",21.11]
["2021-03-09T20:00:00",19.61]
["2021-03-10T20:00:00",19.329999999999998]
["2021-03-11T20:00:00",18.55]
["2021-03-12T20:00:00",19.36]
["2021-03-13T20:00:00",18.440000000000001]
["2021-03-14T20:00:00",19.84]
["2021-03-15T20:00:00",21.01]
["2021-03-16T20:00:00",20.9]
["2021-03-17T20:00:00",22.11]
["2021-03-18T20:00:00",22.19]
["2021-03-19T20:00:00",20.92]
["2021-03-20T20:00:00",20.52]
["2021-03-21T20:00:00",19.18]
["2021-03-22T20:00:00",18.72]
["2021-03-23T20:00:00",17.420000000000002]
["2021-03-24T20:00:00",17.100000000000001]
["2021-03-25T20:00:00",18.940000000000001]
["2021-03-26T20:00:00",18.7]
["2021-03-27T20:00:00",19.329999999999998]
["2021-03-28T20:00:00",20.27]
["2021-03-29T20:00:00",19.97]
["2021-03-30T20:00:00",19.079999999999998]
["2021-03-31T20:00:00",19.47]
["2021-04-01T20:00:00",20.32]
["2021-04-02T20:00:00",20.03]
["2021-04-03T20:00:00",21.53]
["2021-04-04T20:00:00",21.43]
["2021-04-05T20:00:00",21.66]
["2021-04-06T20:00:00",19.559999999999999]
["2021-04-07T20:00:00",20.54]
["2021-04-08T20:00:00",21.39]
["2021-04-09T20:00:00",21.03]
["2021-04-10T20:00:00",23.37]
["2021-04-11T20:00:00",22.01]
["2021-04-12T20:00:00",23.83]
["2021-04-13T20:00:00",27.07]
["2021-04-14T20:00:00",27.79]
["2021-04-15T20:00:00",25.46]
["2021-04-16T20:00:00",24.34]
["2021-04-17T20:00:00",21.4]
["2021-04-18T20:00:00",19.2]
["2021-04-19T20:00:00",21.25]
["2021-04-20T20:00:00",19.55]
["2021-04-21T20:00:00",18.73]
["2021-04-22T20:00:00",20.52]
["2021-04-23T20:00:00",18.46]
["2021-04-24T20:00:00",18.690000000000001]
["2021-04-25T20:00:00",22.06]
["2021-04-26T20:00:00",23.04]
["2021-04-27T20:00:00",22.93]
["2021-04-28T20:00:00",22.22]
["2021-04-29T20:00:00",22.7]
["2021-04-30T20:00:00",23.8]
["2021-05-01T20:00:00",23.09]
["2021-05-02T20:00:00",22.94]
["2021-05-03T20:00:00",20.96]
["2021-05-04T20:00:00",24.88]
["2021-05-05T20:00:00",25.54]
["2021-05-06T20:00:00",28.64]
["2021-05-07T20:00:00",29.52]
["2021-05-08T20:00:00",28.71]
["2021-05-09T20:00:00",25.36]
["2021-05-10T20:00:00",26.9]
["2021-05-11T20:00:00",23.01]
["2021-05-12T20:00:00",23.49]
["2021-05-13T20:00:00",25.86]
["2021-05-14T20:00:00",24.5]
["2021-05-15T20:00:00",24.26]
["2021-05-16T20:00:00",21.09]
["2021-05-17T20:00:00",22.84]
["2021-05-18T20:00:00",13.76]
["2021-05-19T20:00:00",16.920000000000002]
["2021-05-20T20:00:00",13.57]
["2021-05-21T20:00:00",12.24]
["2021-05-22T20:00:00",11.65]
["2021-05-23T20:00:00",14.54]
["2021-05-24T20:00:00",13.93]
["2021-05-25T20:00:00",15.28]
["2021-05-26T20:00:00",14.53]
["2021-05-27T20:00:00",12.7]
["2021-05-28T20:00:00",12.06]
["2021-05-29T20:00:00",12.55]
["2021-05-30T20:00:00",13.96]
["2021-05-31T20:00:00",13.76]
["2021-06-01T20:00:00",14.86]
["2021-06-02T20:00:00",16.670000000000002]
["2021-06-03T20:00:00",15.07]
["2021-06-04T20:00:00",14.86]
["2021-06-05T20:00:00",15.13]
["2021-06-06T20:00:00",13.46]
["2021-06-07T20:00:00",13.56]
["2021-06-08T20:00:00",13.93]
["2021-06-09T20:00:00",12.83]
["2021-06-10T20:00:00",11.95]
["2021-06-11T20:00:00",11.62]
["2021-06-12T20:00:00",12.53]
["2021-06-13T20:00:00",13.3]
["2021-06-14T20:00:00",12.95]
["2021-06-15T20:00:00",13.43]
["2021-06-16T20:00:00",13.62]
["2021-06-17T20:00:00",12.47]
["2021-06-18T20:00:00",11.85]
["2021-06-19T20:00:00",11.98]
["2021-06-20T20:00:00",9.52]
["2021-06-21T20:00:00",9]
["2021-06-22T20:00:00",9.61]
["2021-06-23T20:00:00",10.39]
["2021-06-24T20:00:00",9.07]
["2021-06-25T20:00:00",9.6]
["2021-06-26T20:00:00",10.09]
["2021-06-27T20:00:00",10.89]
["2021-06-28T20:00:00",11.65]
["2021-06-29T20:00:00",12.05]
["2021-06-30T20:00:00",11.03]
["2021-07-01T20:00:00",11.8]
["2021-07-02T20:00:00",11.8]
["2021-07-03T20:00:00",12.31]
["2021-07-04T20:00:00",13.53]
["2021-07-05T20:00:00",13.14]
["2021-07-06T20:00:00",12.94]
["2021-07-07T20:00:00",11.92]
["2021-07-08T20:00:00",13.18]
["2021-07-09T20:00:00",14.43]
["2021-07-10T20:00:00",14.08]
["2021-07-11T20:00:00",12.98]
["2021-07-12T20:00:00",12.09]
["2021-07-13T20:00:00",11.75]
["2021-07-14T20:00:00",11.47]
["2021-07-15T20:00:00",11.15]
["2021-07-16T20:00:00",11.02]
["2021-07-17T20:00:00",10.97]
["2021-07-18T20:00:00",9.98]
["2021-07-19T20:00:00",9.44]
["2021-07-20T20:00:00",10.48]
["2021-07-21T20:00:00",11.38]
["2021-07-22T20:00:00",11.44]
["2021-07-23T20:00:00",11.43]
["2021-07-24T20:00:00",11.45]
["2021-07-25T20:00:00",11.39]
["2021-07-26T20:00:00",11.7]
["2021-07-27T20:00:00",11.59]
["2021-07-28T20:00:00",11.8]
["2021-07-29T20:00:00",12.14]
["2021-07-30T20:00:00",12.6]
["2021-07-31T20:00:00",12.31]
["2021-08-01T20:00:00",12.48]
["2021-08-02T20:00:00",12.12]
["2021-08-03T20:00:00",12.81]
["2021-08-04T20:00:00",13.03]
["2021-08-05T20:00:00",13.59]
["2021-08-06T20:00:00",14.01]
["2021-08-07T20:00:00",13.14]
["2021-08-08T20:00:00",13.65]
["2021-08-09T20:00:00",14.11]
["2021-08-10T20:00:00",14.56]
["2021-08-11T20:00:00",14.06]
["2021-08-12T20:00:00",15.21]
["2021-08-13T20:00:00",15.56]
["2021-08-14T20:00:00",15.91]
["2021-08-15T20:00:00",15.78]
["2021-08-16T20:00:00",16]
["2021-08-17T20:00:00",17.95]
["2021-08-18T20:00:00",18.690000000000001]
["2021-08-19T20:00:00",18.93]
["2021-08-20T20:00:00",22.14]
["2021-08-21T20:00:00",21.86]
["2021-08-22T20:00:00",21.81]
["2021-08-23T20:00:00",19.54]
["2021-08-24T20:00:00",20.059999999999999]
["2021-08-25T20:00:00",17.899999999999999]
["2021-08-26T20:00:00",20.420000000000002]
["2021-08-27T20:00:00",21.31]
["2021-08-28T20:00:00",21.2]
["2021-08-29T20:00:00",22.14]
["2021-08-30T20:00:00",22.89]
["2021-08-31T20:00:00",25.44]
["2021-09-01T20:00:00",24.14]
["2021-09-02T20:00:00",24.11]
["2021-09-03T20:00:00",24.4]
["2021-09-04T20:00:00",25.73]
["2021-09-05T20:00:00",25.08]
["2021-09-06T20:00:00",21.08]
["2021-09-07T20:00:00",20.69]
["2021-09-08T20:00:00",26.85]
["2021-09-09T20:00:00",29.41]
["2021-09-10T20:00:00",27.33]
["2021-09-11T20:00:00",34.89]
["2021-09-12T20:00:00",35.82]
["2021-09-13T20:00:00",34.200000000000003]
["2021-09-14T20:00:00",34.119999999999997]
["2021-09-15T20:00:00",37.07]
["2021-09-16T20:00:00",33.46]
["2021-09-17T20:00:00",40.76]
["2021-09-18T20:00:00",44.27]
["2021-09-19T20:00:00",34.01]
["2021-09-20T20:00:00",30.45]
["2021-09-21T20:00:00",39.71]
["2021-09-22T20:00:00",41.51]
["2021-09-23T20:00:00",42.58]
["2021-09-24T20:00:00",39.450000000000003]
["2021-09-25T20:00:00",39.799999999999997]
["2021-09-26T20:00:00",37.21]
["2021-09-27T20:00:00",33.700000000000003]
["2021-09-28T20:00:00",33.880000000000003]
["2021-09-29T20:00:00",36.229999999999997]
["2021-09-30T20:00:00",37.85]
["2021-10-01T20:00:00",38.619999999999997]
["2021-10-02T20:00:00",38.74]
["2021-10-03T20:00:00",36.799999999999997]
["2021-10-04T20:00:00",36.75]
["2021-10-05T20:00:00",35.15]
["2021-10-06T20:00:00",36.67]
["2021-10-07T20:00:00",35.04]
["2021-10-08T20:00:00",35.159999999999997]
["2021-10-09T20:00:00",32.42]
["2021-10-10T20:00:00",32.01]
["2021-10-11T20:00:00",33.479999999999997]
["2021-10-12T20:00:00",34.53]
["2021-10-13T20:00:00",33.82]
["2021-10-14T20:00:00",33.08]
["2021-10-15T20:00:00",33.130000000000003]
["2021-10-16T20:00:00",32.44]
["2021-10-17T20:00:00",31.88]
["2021-10-18T20:00:00",35]
["2021-10-19T20:00:00",35.950000000000003]
["2021-10-20T20:00:00",34.340000000000003]
["2021-10-21T20:00:00",34.06]
["2021-10-22T20:00:00",35.69]
["2021-10-23T20:00:00",34.26]
["2021-10-24T20:00:00",35.31]
["2021-10-25T20:00:00",42.99]
["2021-10-26T20:00:00",36.75]
["2021-10-27T20:00:00",38]
["2021-10-28T20:00:00",39.549999999999997]
["2021-10-29T20:00:00",37.299999999999997]
["2021-10-30T20:00:00",37.24]
["2021-10-31T20:00:00",37.31]
["2021-11-01T20:00:00",37.1]
["2021-11-02T20:00:00",38.49]
["2021-11-03T20:00:00",37.51]
["2021-11-04T20:00:00",36.770000000000003]
["2021-11-05T20:00:00",36.22]
["2021-11-06T20:00:00",35.729999999999997]
["2021-11-07T20:00:00",36.619999999999997]
["2021-11-08T20:00:00",35.840000000000003]
["2021-11-09T20:00:00",32.049999999999997]
["2021-11-10T20:00:00",32.94]
["2021-11-11T20:00:00",32.049999999999997]
["2021-11-12T20:00:00",32.5]
["2021-11-13T20:00:00",31.93]
["2021-11-14T20:00:00",31.45]
["2021-11-15T20:00:00",28.29]
["2021-11-16T20:00:00",29.44]
["2021-11-17T20:00:00",26.62]
["2021-11-18T20:00:00",28.12]
["2021-11-19T20:00:00",29.43]
["2021-11-20T20:00:00",30.88]
["2021-11-21T20:00:00",32.17]
["2021-11-22T20:00:00",32.049999999999997]
["2021-11-23T20:00:00",29.62]
["2021-11-24T20:00:00",29.77]
["2021-11-25T20:00:00",27.07]
["2021-11-26T20:00:00",26.73]
["2021-11-27T20:00:00",27.39]
["2021-11-28T20:00:00",28.1]
["2021-11-29T20:00:00",27.51]
["2021-11-30T20:00:00",26.67]
["2021-12-01T20:00:00",28.37]
["2021-12-02T20:00:00",32.79]
["2021-12-03T20:00:00",28.15]
["2021-12-04T20:00:00",24.57]
["2021-12-05T20:00:00",24.33]
["2021-12-06T20:00:00",24.3]
["2021-12-07T20:00:00",25.32]
["2021-12-08T20:00:00",22.45]
["2021-12-09T20:00:00",22.54]
["2021-12-10T20:00:00",24.4]
["2021-12-11T20:00:00",24.49]
["2021-12-12T20:00:00",21.74]
["2021-12-13T20:00:00",21.8]
["2021-12-14T20:00:00",22.34]
["2021-12-15T20:00:00",21.83]
["2021-12-16T20:00:00",21.21]
["2021-12-17T20:00:00",23.15]
["2021-12-18T20:00:00",22.16]
["2021-12-19T20:00:00",21.52]
["2021-12-20T20:00:00",23.63]
["2021-12-21T20:00:00",27.37]
["2021-12-22T20:00:00",28.36]
["2021-12-23T20:00:00",26.9]
["2021-12-24T20:00:00",29.66]
["2021-12-25T20:00:00",32.119999999999997]
["2021-12-26T20:00:00",29.71]
["2021-12-27T20:00:00",26.59]
["2021-12-28T20:00:00",27.94]
["2021-12-29T20:00:00",30.16]
["2021-12-30T20:00:00",32.39]
["2021-12-31T20:00:00",36.36]
["2022-01-01T20:00:00",35.53]
["2022-01-02T20:00:00",39.25]
["2022-01-03T20:00:00",42.1]
["2022-01-04T20:00:00",38.659999999999997]
["2022-01-05T20:00:00",40.08]
["2022-01-06T20:00:00",38.58]
["2022-01-07T20:00:00",35.869999999999997]
["2022-01-08T20:00:00",34.979999999999997]
["2022-01-09T20:00:00",37.86]
["2022-01-10T20:00:00",38.700000000000003]
["2022-01-11T20:00:00",40.22]
["2022-01-12T20:00:00",37.6]
["2022-01-13T20:00:00",40.42]
["2022-01-14T20:00:00",39.119999999999997]
["2022-01-15T20:00:00",43.65]
["2022-01-16T20:00:00",39.130000000000003]
["2022-01-17T20:00:00",38.24]
["2022-01-18T20:00:00",37.020000000000003]
["2022-01-19T20:00:00",38.979999999999997]
["2022-01-20T20:00:00",34.61]
["2022-01-21T20:00:00",29.24]
["2022-01-22T20:00:00",34.61]
["2022-01-23T20:00:00",36.020000000000003]
["2022-01-24T20:00:00",35.869999999999997]
["2022-01-25T20:00:00",32.36]
["2022-01-26T20:00:00",30.06]
["2022-01-27T20:00:00",29.47]
["2022-01-28T20:00:00",29.08]
["2022-01-29T20:00:00",27.19]
["2022-01-30T20:00:00",28.05]
["2022-01-31T20:00:00",28.84]
["2022-02-01T20:00:00",26.31]
["2022-02-02T20:00:00",29.67]
["2022-02-03T20:00:00",31.1]
["2022-02-04T20:00:00",30.73]
["2022-02-05T20:00:00",31.26]
["2022-02-06T20:00:00",31.63]
["2022-02-07T20:00:00",30.39]
["2022-02-08T20:00:00",30.93]
["2022-02-09T20:00:00",29.08]
["2022-02-10T20:00:00",26.57]
["2022-02-11T20:00:00",27.05]
["2022-02-12T20:00:00",26.18]
["2022-02-13T20:00:00",27.14]
["2022-02-14T20:00:00",28.97]
["2022-02-15T20:00:00",28.5]
["2022-02-16T20:00:00",28.06]
["2022-02-17T20:00:00",26.86]
["2022-02-18T20:00:00",26.68]
["2022-02-19T20:00:00",26.08]
["2022-02-20T20:00:00",23.82]
["2022-02-21T20:00:00",24.81]
["2022-02-22T20:00:00",25.18]
["2022-02-23T20:00:00",24.85]
["2022-02-24T20:00:00",27.27]
["2022-02-25T20:00:00",29.88]
["2022-02-26T20:00:00",26.77]
["2022-02-27T20:00:00",31.36]
["2022-02-28T20:00:00",31.14]
["2022-03-01T20:00:00",32.24]
["2022-03-02T20:00:00",34.04]
["2022-03-03T20:00:00",30.48]
["2022-03-04T20:00:00",30.87]
["2022-03-05T20:00:00",28.15]
["2022-03-06T20:00:00",28.29]
["2022-03-07T20:00:00",27.87]
["2022-03-08T20:00:00",30.05]
["2022-03-09T20:00:00",28.03]
["2022-03-10T20:00:00",27.47]
["2022-03-11T20:00:00",27.22]
["2022-03-12T20:00:00",26.24]
["2022-03-13T20:00:00",26.83]
["2022-03-14T20:00:00",26.91]
["2022-03-15T20:00:00",28.96]
["2022-03-16T20:00:00",28.16]
["2022-03-17T20:00:00",28.61]
["2022-03-18T20:00:00",28.65]
["2022-03-19T20:00:00",27.84]
["2022-03-20T20:00:00",27.93]
["2022-03-21T20:00:00",28.02]
["2022-03-22T20:00:00",28.25]
["2022-03-23T20:00:00",29.27]
["2022-03-24T20:00:00",28.12]
["2022-03-25T20:00:00",28.78]
["2022-03-26T20:00:00",29.96]
["2022-03-27T20:00:00",29.38]
["2022-03-28T20:00:00",30.23]
["2022-03-29T20:00:00",30.05]
["2022-03-30T20:00:00",28.89]
["2022-03-31T20:00:00",29.41]
["2022-04-01T20:00:00",31.3]
["2022-04-02T20:00:00",31.97]
["2022-04-03T20:00:00",30.85]
["2022-04-04T20:00:00",29.29]
["2022-04-05T20:00:00",26.89]
["2022-04-06T20:00:00",27.66]
["2022-04-07T20:00:00",26.88]
["2022-04-08T20:00:00",27.27]
["2022-04-09T20:00:00",26.5]
["2022-04-10T20:00:00",23.85]
["2022-04-11T20:00:00",24.64]
["2022-04-12T20:00:00",24.7]
["2022-04-13T20:00:00",23.96]
["2022-04-14T20:00:00",24.08]
["2022-04-15T20:00:00",24.18]
["2022-04-16T20:00:00",23.21]
["2022-04-17T20:00:00",24.07]
["2022-04-18T20:00:00",24.67]
["2022-04-19T20:00:00",24.27]
["2022-04-20T20:00:00",23.3]
["2022-04-21T20:00:00",23.1]
["2022-04-22T20:00:00",23.21]
["2022-04-23T20:00:00",22.29]
["2022-04-24T20:00:00",22.13]
["2022-04-25T20:00:00",20.3]
["2022-04-26T20:00:00",21.43]
["2022-04-27T20:00:00",20.75]
["2022-04-28T20:00:00",19.440000000000001]
["2022-04-29T20:00:00",17.84]
["2022-04-30T20:00:00",18]
["2022-05-01T20:00:00",17.8]
["2022-05-02T20:00:00",17.57]
["2022-05-03T20:00:00",19.920000000000002]
["2022-05-04T20:00:00",17.84]
["2022-05-05T20:00:00",17.670000000000002]
["2022-05-06T20:00:00",16.43]
["2022-05-07T20:00:00",15.7]
["2022-05-08T20:00:00",12.51]
["2022-05-09T20:00:00",13.58]
["2022-05-10T20:00:00",10.79]
["2022-05-11T20:00:00",9.66]
["2022-05-12T20:00:00",10.32]
["2022-05-13T20:00:00",10.79]
["2022-05-14T20:00:00",12.38]
["2022-05-15T20:00:00",11.07]
["2022-05-16T20:00:00",11.46]
["2022-05-17T20:00:00",10.11]
["2022-05-18T20:00:00",10.84]
["2022-05-19T20:00:00",11.2]
["2022-05-20T20:00:00",11.05]
["2022-05-21T20:00:00",11.41]
["2022-05-22T20:00:00",11.14]
["2022-05-23T20:00:00",11.1]
["2022-05-24T20:00:00",10.74]
["2022-05-25T20:00:00",9.61]
["2022-05-26T20:00:00",9.27]
["2022-05-27T20:00:00",9.42]
["2022-05-28T20:00:00",9.59]
["2022-05-29T20:00:00",10.5]
["2022-05-30T20:00:00",10.33]
["2022-05-31T20:00:00",9.34]
["2022-06-01T20:00:00",9.6300000000000008]
["2022-06-02T20:00:00",9.19]
["2022-06-03T20:00:00",9.24]
["2022-06-04T20:00:00",9.17]
["2022-06-05T20:00:00",9.4600000000000009]
["2022-06-06T20:00:00",9.1999999999999993]
["2022-06-07T20:00:00",8.76]
["2022-06-08T20:00:00",8.7899999999999991]
["2022-06-09T20:00:00",8.11]
["2022-06-10T20:00:00",7.55]
["2022-06-11T20:00:00",7.07]
["2022-06-12T20:00:00",6.51]
["2022-06-13T20:00:00",6.36]
["2022-06-14T20:00:00",7.33]
["2022-06-15T20:00:00",6.35]
["2022-06-16T20:00:00",6.39]
["2022-06-17T20:00:00",6.08]
["2022-06-18T20:00:00",6.77]
["2022-06-19T20:00:00",6.82]
["2022-06-20T20:00:00",6.95]
["2022-06-21T20:00:00",7.05]
["2022-06-22T20:00:00",8.1300000000000008]
["2022-06-23T20:00:00",8.26]
["2022-06-24T20:00:00",8.67]
["2022-06-25T20:00:00",8.06]
["2022-06-26T20:00:00",7.78]
["2022-06-27T20:00:00",7.34]
["2022-06-28T20:00:00",7.4]
["2022-06-29T20:00:00",7.57]
["2022-06-30T20:00:00",8.09]
["2022-07-01T20:00:00",8.07]
["2022-07-02T20:00:00",8.09]
["2022-07-03T20:00:00",8.75]
["2022-07-04T20:00:00",8.92]
["2022-07-05T20:00:00",8.9]
["2022-07-06T20:00:00",9.36]
["2022-07-07T20:00:00",8.98]
["2022-07-08T20:00:00",8.98]
["2022-07-09T20:00:00",8.7899999999999991]
["2022-07-10T20:00:00",8.18]
["2022-07-11T20:00:00",7.81]
["2022-07-12T20:00:00",8.2100000000000009]
["2022-07-13T20:00:00",8.99]
["2022-07-14T20:00:00",9.06]
["2022-07-15T20:00:00",9.24]
["2022-07-16T20:00:00",8.92]
["2022-07-17T20:00:00",9.58]
["2022-07-18T20:00:00",10.52]
["2022-07-19T20:00:00",9.68]
["2022-07-20T20:00:00",11.05]
["2022-07-21T20:00:00",10.64]
["2022-07-22T20:00:00",10.119999999999999]
["2022-07-23T20:00:00",9.98]
["2022-07-24T20:00:00",8.98]
["2022-07-25T20:00:00",9.2200000000000006]
["2022-07-26T20:00:00",10.31]
["2022-07-27T20:00:00",10.87]
["2022-07-28T20:00:00",11.17]
["2022-07-29T20:00:00",10.71]
["2022-07-30T20:00:00",10.35]
["2022-07-31T20:00:00",10.4]
["2022-08-01T20:00:00",9.91]
["2022-08-02T20:00:00",10.16]
["2022-08-03T20:00:00",10.36]
["2022-08-04T20:00:00",10.97]
["2022-08-05T20:00:00",10.63]
["2022-08-06T20:00:00",11.36]
["2022-08-07T20:00:00",11.81]
["2022-08-08T20:00:00",11.39]
["2022-08-09T20:00:00",11.97]
["2022-08-10T20:00:00",11.75]
["2022-08-11T20:00:00",12.05]
["2022-08-12T20:00:00",11.9]
["2022-08-13T20:00:00",11.58]
["2022-08-14T20:00:00",11.4]
["2022-08-15T20:00:00",11.4]
["2022-08-16T20:00:00",11.75]
["2022-08-17T20:00:00",11.44]
["2022-08-18T20:00:00",10.75]
["2022-08-19T20:00:00",10.23]
["2022-08-20T20:00:00",10.64]
["2022-08-21T20:00:00",11.09]
["2022-08-22T20:00:00",12.12]
["2022-08-23T20:00:00",13.02]
["2022-08-24T20:00:00",12.86]
["2022-08-25T20:00:00",11.55]
["2022-08-26T20:00:00",11.17]
["2022-08-27T20:00:00",10.57]
["2022-08-28T20:00:00",11.44]
["2022-08-29T20:00:00",11.93]
["2022-08-30T20:00:00",11.82]
["2022-08-31T20:00:00",12.73]
["2022-09-01T20:00:00",12.61]
["2022-09-02T20:00:00",12.62]
["2022-09-03T20:00:00",13.05]
["2022-09-04T20:00:00",12.63]
["2022-09-05T20:00:00",11.78]
["2022-09-06T20:00:00",12.93]
["2022-09-07T20:00:00",13.88]
["2022-09-08T20:00:00",16.13]
["2022-09-09T20:00:00",15.99]
["2022-09-10T20:00:00",15.69]
["2022-09-11T20:00:00",15.53]
["2022-09-12T20:00:00",13.9]
["2022-09-13T20:00:00",13.97]
["2022-09-14T20:00:00",14.9]
["2022-09-15T20:00:00",16.61]
["2022-09-16T20:00:00",16.41]
["2022-09-17T20:00:00",14.69]
["2022-09-18T20:00:00",15.62]
["2022-09-19T20:00:00",13.92]
["2022-09-20T20:00:00",13.39]
["2022-09-21T20:00:00",14.63]
["2022-09-22T20:00:00",14.22]
["2022-09-23T20:00:00",13.64]
["2022-09-24T20:00:00",13.98]
["2022-09-25T20:00:00",13.91]
["2022-09-26T20:00:00",13.49]
["2022-09-27T20:00:00",13]
["2022-09-28T20:00:00",12.77]
["2022-09-29T20:00:00",13.02]
["2022-09-30T20:00:00",12.68]
["2022-10-01T20:00:00",11.99]
["2022-10-02T20:00:00",12.86]
["2022-10-03T20:00:00",13.02]
["2022-10-04T20:00:00",13.01]
["2022-10-05T20:00:00",13.02]
["2022-10-06T20:00:00",13.06]
["2022-10-07T20:00:00",13.15]
["2022-10-08T20:00:00",13.19]
["2022-10-09T20:00:00",12.44]
["2022-10-10T20:00:00",12.17]
["2022-10-11T20:00:00",11.74]
["2022-10-12T20:00:00",11.34]
["2022-10-13T20:00:00",11.64]
["2022-10-14T20:00:00",11.52]
["2022-10-15T20:00:00",11.7]
["2022-10-16T20:00:00",12.43]
["2022-10-17T20:00:00",12.52]
["2022-10-18T20:00:00",11.75]
["2022-10-19T20:00:00",11.38]
["2022-10-20T20:00:00",11.74]
["2022-10-21T20:00:00",11.72]
["2022-10-22T20:00:00",12.11]
["2022-10-23T20:00:00",11.65]
["2022-10-24T20:00:00",12]
["2022-10-25T20:00:00",12.28]
["2022-10-26T20:00:00",12.66]
["2022-10-27T20:00:00",13.53]
["2022-10-28T20:00:00",13.47]
["2022-10-29T20:00:00",13.92]
["2022-10-30T20:00:00",14.32]
["2022-10-31T20:00:00",14.07]
["2022-11-01T20:00:00",13.3]
["2022-11-02T20:00:00",13.51]
["2022-11-03T20:00:00",15.04]
["2022-11-04T20:00:00",15.38]
["2022-11-05T20:00:00",14.44]
["2022-11-06T20:00:00",14.28]
["2022-11-07T20:00:00",12.15]
["2022-11-08T20:00:00",9.7899999999999991]
["2022-11-09T20:00:00",12.17]
["2022-11-10T20:00:00",11.67]
["2022-11-11T20:00:00",10.95]
["2022-11-12T20:00:00",10.19]
["2022-11-13T20:00:00",10.33]
["2022-11-14T20:00:00",10.56]
["2022-11-15T20:00:00",10.15]
["2022-11-16T20:00:00",9.92]
["2022-11-17T20:00:00",9.9700000000000006]
["2022-11-18T20:00:00",10]
["2022-11-19T20:00:00",9.35]
["2022-11-20T20:00:00",9.01]
["2022-11-21T20:00:00",9.5500000000000007]
["2022-11-22T20:00:00",9.93]
["2022-11-23T20:00:00",10.15]
["2022-11-24T20:00:00",10.029999999999999]
["2022-11-25T20:00:00",10.11]
["2022-11-26T20:00:00",9.93]
["2022-11-27T20:00:00",9.86]
["2022-11-28T20:00:00",10.18]
["2022-11-29T20:00:00",10.49]
["2022-11-30T20:00:00",10.27]
["2022-12-01T20:00:00",10.37]
["2022-12-02T20:00:00",10.02]
["2022-12-03T20:00:00",10.26]
["2022-12-04T20:00:00",10.26]
["2022-12-05T20:00:00",10.17]
["2022-12-06T20:00:00",9.6199999999999992]
["2022-12-07T20:00:00",9.83]
["2022-12-08T20:00:00",9.76]
["2022-12-09T20:00:00",9.9499999999999993]
["2022-12-10T20:00:00",9.5299999999999994]
["2022-12-11T20:00:00",9.6199999999999992]
["2022-12-12T20:00:00",9.75]
["2022-12-13T20:00:00",9.59]
["2022-12-14T20:00:00",9.43]
["2022-12-15T20:00:00",8.59]
["2022-12-16T20:00:00",8.8000000000000007]
["2022-12-17T20:00:00",8.86]
["2022-12-18T20:00:00",8.64]
["2022-12-19T20:00:00",8.9499999999999993]
["2022-12-20T20:00:00",8.86]
["2022-12-21T20:00:00",8.99]
["2022-12-22T20:00:00",8.91]
["2022-12-23T20:00:00",8.9600000000000009]
["2022-12-24T20:00:00",9.01]
["2022-12-25T20:00:00",9.18]
["2022-12-26T20:00:00",9.2200000000000006]
["2022-12-27T20:00:00",9.1300000000000008]
["2022-12-28T20:00:00",9.33]
["2022-12-29T20:00:00",9.3800000000000008]
["2022-12-30T20:00:00",9.35]
["2022-12-31T20:00:00",9.4600000000000009]
["2023-01-01T20:00:00",9.82]
["2023-01-02T20:00:00",10.16]
["2023-01-03T20:00:00",10.199999999999999]
["2023-01-04T20:00:00",10.09]
["2023-01-05T20:00:00",10.25]
["2023-01-06T20:00:00",10.199999999999999]
["2023-01-07T20:00:00",10.55]
["2023-01-08T20:00:00",11.11]
["2023-01-09T20:00:00",11.33]
["2023-01-10T20:00:00",11.86]
["2023-01-11T20:00:00",12.27]
["2023-01-12T20:00:00",12.41]
["2023-01-13T20:00:00",12.87]
["2023-01-14T20:00:00",12.78]
["2023-01-15T20:00:00",12.34]
["2023-01-16T20:00:00",12.16]
["2023-01-17T20:00:00",11.54]
["2023-01-18T20:00:00",12.01]
["2023-01-19T20:00:00",13.14]
["2023-01-20T20:00:00",13.08]
["2023-01-21T20:00:00",13.33]
["2023-01-22T20:00:00",13.06]
["2023-01-23T20:00:00",12.45]
["2023-01-24T20:00:00",13.56]
["2023-01-25T20:00:00",13.11]
["2023-01-26T20:00:00",13.53]
["2023-01-27T20:00:00",13.22]
["2023-01-28T20:00:00",13.8]
["2023-01-29T20:00:00",13.07]
["2023-01-30T20:00:00",13.36]
["2023-01-31T20:00:00",14.93]
["2023-02-01T20:00:00",14.41]
["2023-02-02T20:00:00",14.99]
["2023-02-03T20:00:00",14.67]
["2023-02-04T20:00:00",14.74]
["2023-02-05T20:00:00",14.14]
["2023-02-06T20:00:00",14.96]
["2023-02-07T20:00:00",15.15]
["2023-02-08T20:00:00",13.53]
["2023-02-09T20:00:00",13.71]
["2023-02-10T20:00:00",13.75]
["2023-02-11T20:00:00",13.54]
["2023-02-12T20:00:00",13.13]
["2023-02-13T20:00:00",13.4]
["2023-02-14T20:00:00",14.3]
["2023-02-15T20:00:00",13.43]
["2023-02-16T20:00:00",14.17]
["2023-02-17T20:00:00",14.29]
["2023-02-18T20:00:00",14.13]
["2023-02-19T20:00:00",14.42]
["2023-02-20T20:00:00",13.87]
["2023-02-21T20:00:00",13.59]
["2023-02-22T20:00:00",13.74]
["2023-02-23T20:00:00",13.08]
["2023-02-24T20:00:00",12.84]
["2023-02-25T20:00:00",12.96]
["2023-02-26T20:00:00",12.79]
["2023-02-27T20:00:00",12.28]
["2023-02-28T20:00:00",12.78]
["2023-03-01T20:00:00",12.47]
["2023-03-02T20:00:00",12.02]
["2023-03-03T20:00:00",11.84]
["2023-03-04T20:00:00",12.02]
["2023-03-05T20:00:00",11.98]
["2023-03-06T20:00:00",11.75]
["2023-03-07T20:00:00",10.96]
["2023-03-08T20:00:00",11.03]
["2023-03-09T20:00:00",11.14]
["2023-03-10T20:00:00",11.02]
["2023-03-11T20:00:00",11.7]
["2023-03-12T20:00:00",11.98]
["2023-03-13T20:00:00",13.04]
["2023-03-14T20:00:00",12.42]
["2023-03-15T20:00:00",12.81]
["2023-03-16T20:00:00",13.17]
["2023-03-17T20:00:00",12.22]
["2023-03-18T20:00:00",12.31]
["2023-03-19T20:00:00",11.55]
["2023-03-20T20:00:00",11.92]
["2023-03-21T20:00:00",11.33]
["2023-03-22T20:00:00",11.68]
["2023-03-23T20:00:00",11.19]
["2023-03-24T20:00:00",11.09]
["2023-03-25T20:00:00",11.33]
["2023-03-26T20:00:00",10.84]
[{"$f":"A1431+1","v":"2023-03-27T20:00:00"},11.21]
[{"$f":"A1432+1","v":"2023-03-28T20:00:00"},11.43]
["2023-03-29T20:00:00",11.2]
["2023-03-30T20:00:00"]
["2023-03-31T20:00:00"]
["2023-04-01T20:00:00"]
["2023-04-02T20:00:00"]
["2023-04-03T20:00:00"]

{"sheet":"Analisis","index":2,"n_rows":114,"n_cols":37,"rows_kept":114,"cut":false,"hidden":true,"merged":[[1,21,1,22],[1,23,1,24],[0,9,0,12],[0,21,0,24],[0,33,0,36],[1,33,1,34],[1,35,1,36],[0,29,0,32],[1,29,1,30],[1,31,1,32],[0,25,0,28],[1,25,1,26],[1,27,1,28],[0,1,0,4],[1,1,1,2],[1,3,1,4],[0,13,0,16],[0,17,0,20],[1,13,1,14],[1,15,1,16],[1,17,1,18],[1,19,1,20],[1,5,1,6],[1,7,1,8],[0,5,0,8],[1,9,1,10],[1,11,1,12]]}
[null,"1M",null,null,null,"1W",null,null,null,"1D",null,null,null,"4H",null,null,null,"1H",null,null,null,"30M",null,null,null,"15M",null,null,null,"5M",null,null,null,"3M"]
[null,"High",null,"Low",null,"High",null,"Low",null,"High",null,"Low",null,"High",null,"Low",null,"High",null,"Low",null,"High",null,"Low",null,"High",null,"Low",null,"High",null,"Low",null,"High",null,"Low"]
["Fecha","Mayor","Menor","Mayor","Menor","Mayor","Menor","Mayor","Menor","Mayor","Menor","Mayor","Menor","Mayor","Menor","Mayor","Menor","Mayor","Menor","Mayor","Menor","Mayor","Menor","Mayor","Menor","Mayor","Menor","Mayor","Menor","Mayor","Menor","Mayor","Menor","Mayor","Menor","Mayor","Menor"]
[{"$f":"TODAY()","v":"2023-04-02"},null,null,null,null,{"$f":"MAX(IF(INT(A!$A$3:$A$10000)=$A4,A!#REF!))","v":{"$error":"#REF!"}},{"$f":"MIN(IF(INT(A!$A$3:$A$10000)=$A4,A!#REF!))","v":{"$error":"#REF!"}},{"$f":"MAX(IF(INT(A!$A$3:$A$10000)=$A4,A!#REF!))","v":{"$error":"#REF!"}},{"$f":"MIN(IF(INT(A!$A$3:$A$10000)=$A4,A!#REF!))","v":{"$error":"#REF!"}},{"$f":"MAX(IF(INT(B!$A$3:$A$10000)=$A4,B!#REF!))","v":{"$error":"#REF!"}},{"$f":"MIN(IF(INT(B!$A$3:$A$10000)=$A4,B!#REF!))","v":{"$error":"#REF!"}},{"$f":"MAX(IF(INT(B!$A$3:$A$10000)=$A4,B!#REF!))","v":{"$error":"#REF!"}},{"$f":"MIN(IF(INT(B!$A$3:$A$10000)=$A4,B!#REF!))","v":{"$error":"#REF!"}},null,null,null,null,null,null,null,null,{"$f":"MAX(IF(INT(#REF!)=$A4,#REF!))","v":{"$error":"#REF!"}},{"$f":"MAX(IF(INT(#REF!)=$A4,#REF!))","v":{"$error":"#REF!"}},{"$f":"MAX(IF(INT(#REF!)=$A4,#REF!))","v":{"$error":"#REF!"}},{"$f":"MAX(IF(INT(#REF!)=$A4,#REF!))","v":{"$error":"#REF!"}},null,null,null,null,{"$f":"MAX(IF(INT(#REF!)=$A4,#REF!))","v":{"$error":"#REF!"}},{"$f":"MAX(IF(INT(#REF!)=$A4,#REF!))","v":{"$error":"#REF!"}},{"$f":"MAX(IF(INT(#REF!)=$A4,#REF!))","v":{"$error":"#REF!"}},{"$f":"MAX(IF(INT(#REF!)=$A4,#REF!))","v":{"$error":"#REF!"}},{"$f":"MAX(IF(INT(#REF!)=$A4,#REF!))","v":{"$error":"#REF!"}},{"$f":"MAX(IF(INT(#REF!)=$A4,#REF!))","v":{"$error":"#REF!"}},{"$f":"MAX(IF(INT(#REF!)=$A4,#REF!))","v":{"$error":"#REF!"}},{"$f":"MAX(IF(INT(#REF!)=$A4,#REF!))","v":{"$error":"#REF!"}}]
[{"$f":"A4-1","v":"2023-04-01"},null,null,null,null,{"$f":"MAX(IF(INT(A!$A$3:$A$10000)=$A5,A!#REF!))","v":0},{"$f":"MIN(IF(INT(A!$A$3:$A$10000)=$A5,A!#REF!))","v":0},{"$f":"MAX(IF(INT(A!$A$3:$A$10000)=$A5,A!#REF!))","v":0},{"$f":"MIN(IF(INT(A!$A$3:$A$10000)=$A5,A!#REF!))","v":0},{"$f":"MAX(IF(INT(B!$A$3:$A$10000)=$A5,B!#REF!))","v":{"$error":"#REF!"}},{"$f":"MIN(IF(INT(B!$A$3:$A$10000)=$A5,B!#REF!))","v":{"$error":"#REF!"}},{"$f":"MAX(IF(INT(B!$A$3:$A$10000)=$A5,B!#REF!))","v":{"$error":"#REF!"}},{"$f":"MIN(IF(INT(B!$A$3:$A$10000)=$A5,B!#REF!))","v":{"$error":"#REF!"}},null,null,null,null,null,null,null,null,{"$f":"MAX(IF(INT(#REF!)=A5,#REF!))","v":{"$error":"#REF!"}},{"$f":"MIN(IF(INT(#REF!)=$A5,#REF!))","v":{"$error":"#REF!"}},{"$f":"MAX(IF(INT(#REF!)=$A5,#REF!))","v":{"$error":"#REF!"}},{"$f":"MAX(IF(INT(#REF!)=$A5,#REF!))","v":{"$error":"#REF!"}},null,null,null,null,{"$f":"MAX(IF(INT(#REF!)=$A5,#REF!))","v":{"$error":"#REF!"}},{"$f":"MAX(IF(INT(#REF!)=$A5,#REF!))","v":{"$error":"#REF!"}},{"$f":"MAX(IF(INT(#REF!)=$A5,#REF!))","v":{"$error":"#REF!"}},{"$f":"MAX(IF(INT(#REF!)=$A5,#REF!))","v":{"$error":"#REF!"}},{"$f":"MAX(IF(INT(#REF!)=$A5,#REF!))","v":{"$error":"#REF!"}},{"$f":"MAX(IF(INT(#REF!)=$A5,#REF!))","v":{"$error":"#REF!"}},{"$f":"MAX(IF(INT(#REF!)=$A5,#REF!))","v":{"$error":"#REF!"}},{"$f":"MAX(IF(INT(#REF!)=$A5,#REF!))","v":{"$error":"#REF!"}}]
[{"$f":"A5-1","v":"2023-03-31"},null,null,null,null,{"$f":"MAX(IF(INT(A!$A$3:$A$10000)=$A6,A!#REF!))","v":0},{"$f":"MIN(IF(INT(A!$A$3:$A$10000)=$A6,A!#REF!))","v":0},{"$f":"MAX(IF(INT(A!$A$3:$A$10000)=$A6,A!#REF!))","v":0},{"$f":"MIN(IF(INT(A!$A$3:$A$10000)=$A6,A!#REF!))","v":0},{"$f":"MAX(IF(INT(B!$A$3:$A$10000)=$A6,B!#REF!))","v":{"$error":"#REF!"}},{"$f":"MIN(IF(INT(B!$A$3:$A$10000)=$A6,B!#REF!))","v":{"$error":"#REF!"}},{"$f":"MAX(IF(INT(B!$A$3:$A$10000)=$A6,B!#REF!))","v":{"$error":"#REF!"}},{"$f":"MIN(IF(INT(B!$A$3:$A$10000)=$A6,B!#REF!))","v":{"$error":"#REF!"}},null,null,null,null,null,null,null,null,{"$f":"MAX(IF(INT(#REF!)=A6,#REF!))","v":{"$error":"#REF!"}},{"$f":"MIN(IF(INT(#REF!)=$A6,#REF!))","v":{"$error":"#REF!"}},{"$f":"MAX(IF(INT(#REF!)=$A6,#REF!))","v":{"$error":"#REF!"}},{"$f":"MAX(IF(INT(#REF!)=$A6,#REF!))","v":{"$error":"#REF!"}},null,null,null,null,{"$f":"MAX(IF(INT(#REF!)=$A6,#REF!))","v":{"$error":"#REF!"}},{"$f":"MAX(IF(INT(#REF!)=$A6,#REF!))","v":{"$error":"#REF!"}},{"$f":"MAX(IF(INT(#REF!)=$A6,#REF!))","v":{"$error":"#REF!"}},{"$f":"MAX(IF(INT(#REF!)=$A6,#REF!))","v":{"$error":"#REF!"}},{"$f":"MAX(IF(INT(#REF!)=$A6,#REF!))","v":{"$error":"#REF!"}},{"$f":"MAX(IF(INT(#REF!)=$A6,#REF!))","v":{"$error":"#REF!"}},{"$f":"MAX(IF(INT(#REF!)=$A6,#REF!))","v":{"$error":"#REF!"}},{"$f":"MAX(IF(INT(#REF!)=$A6,#REF!))","v":{"$error":"#REF!"}}]
["2023-03-30",{"$f":"MAX(IF(B!$A$3:$A$3000=$A7,B!#REF!,))","v":0},null,null,null,{"$f":"MAX(IF(INT(A!$A$3:$A$10000)=$A7,A!#REF!))","v":0},{"$f":"MIN(IF(INT(A!$A$3:$A$10000)=$A7,A!#REF!))","v":0},{"$f":"MAX(IF(INT(A!$A$3:$A$10000)=$A7,A!#REF!))","v":0},{"$f":"MIN(IF(INT(A!$A$3:$A$10000)=$A7,A!#REF!))","v":0},{"$f":"MAX(IF(INT(B!$A$3:$A$10000)=$A7,B!#REF!))","v":{"$error":"#REF!"}},{"$f":"MIN(IF(INT(B!$A$3:$A$10000)=$A7,B!#REF!))","v":{"$error":"#REF!"}},{"$f":"MAX(IF(INT(B!$A$3:$A$10000)=$A7,B!#REF!))","v":{"$error":"#REF!"}},{"$f":"MIN(IF(INT(B!$A$3:$A$10000)=$A7,B!#REF!))","v":{"$error":"#REF!"}},null,null,null,null,null,null,null,null,{"$f":"MAX(IF(INT(#REF!)=A7,#REF!))","v":{"$error":"#REF!"}},{"$f":"MIN(IF(INT(#REF!)=$A7,#REF!))","v":{"$error":"#REF!"}},{"$f":"MAX(IF(INT(#REF!)=$A7,#REF!))","v":{"$error":"#REF!"}},{"$f":"MAX(IF(INT(#REF!)=$A7,#REF!))","v":{"$error":"#REF!"}},null,null,null,null,{"$f":"MAX(IF(INT(#REF!)=$A7,#REF!))","v":{"$error":"#REF!"}},{"$f":"MAX(IF(INT(#REF!)=$A7,#REF!))","v":{"$error":"#REF!"}},{"$f":"MAX(IF(INT(#REF!)=$A7,#REF!))","v":{"$error":"#REF!"}},{"$f":"MAX(IF(INT(#REF!)=$A7,#REF!))","v":{"$error":"#REF!"}},{"$f":"MAX(IF(INT(#REF!)=$A7,#REF!))","v":{"$error":"#REF!"}},{"$f":"MAX(IF(INT(#REF!)=$A7,#REF!))","v":{"$error":"#REF!"}},{"$f":"MAX(IF(INT(#REF!)=$A7,#REF!))","v":{"$error":"#REF!"}},{"$f":"MAX(IF(INT(#REF!)=$A7,#REF!))","v":{"$error":"#REF!"}}]
["2023-03-29",{"$f":"MAX(IF(B!$A$3:$A$3000=$A8,B!#REF!,))","v":0},null,null,null,{"$f":"MAX(IF(INT(A!$A$3:$A$10000)=$A8,A!#REF!))","v":0},{"$f":"MIN(IF(INT(A!$A$3:$A$10000)=$A8,A!#REF!))","v":0},{"$f":"MAX(IF(INT(A!$A$3:$A$10000)=$A8,A!#REF!))","v":0},{"$f":"MIN(IF(INT(A!$A$3:$A$10000)=$A8,A!#REF!))","v":0},{"$f":"MAX(IF(INT(B!$A$3:$A$10000)=$A8,B!#REF!))","v":{"$error":"#REF!"}},{"$f":"MIN(IF(INT(B!$A$3:$A$10000)=$A8,B!#REF!))","v":{"$error":"#REF!"}},{"$f":"MAX(IF(INT(B!$A$3:$A$10000)=$A8,B!#REF!))","v":{"$error":"#REF!"}},{"$f":"MIN(IF(INT(B!$A$3:$A$10000)=$A8,B!#REF!))","v":{"$error":"#REF!"}},null,null,null,null,null,null,null,null,{"$f":"MAX(IF(INT(#REF!)=A8,#REF!))","v":{"$error":"#REF!"}},{"$f":"MIN(IF(INT(#REF!)=$A8,#REF!))","v":{"$error":"#REF!"}},{"$f":"MAX(IF(INT(#REF!)=$A8,#REF!))","v":{"$error":"#REF!"}},{"$f":"MAX(IF(INT(#REF!)=$A8,#REF!))","v":{"$error":"#REF!"}},null,null,null,null,{"$f":"MAX(IF(INT(#REF!)=$A8,#REF!))","v":{"$error":"#REF!"}},{"$f":"MAX(IF(INT(#REF!)=$A8,#REF!))","v":{"$error":"#REF!"}},{"$f":"MAX(IF(INT(#REF!)=$A8,#REF!))","v":{"$error":"#REF!"}},{"$f":"MAX(IF(INT(#REF!)=$A8,#REF!))","v":{"$error":"#REF!"}},{"$f":"MAX(IF(INT(#REF!)=$A8,#REF!))","v":{"$error":"#REF!"}},{"$f":"MAX(IF(INT(#REF!)=$A8,#REF!))","v":{"$error":"#REF!"}},{"$f":"MAX(IF(INT(#REF!)=$A8,#REF!))","v":{"$error":"#REF!"}},{"$f":"MAX(IF(INT(#REF!)=$A8,#REF!))","v":{"$error":"#REF!"}}]
["2023-03-28",{"$f":"MAX(IF(B!$A$3:$A$3000=$A9,B!#REF!,))","v":0},null,null,null,{"$f":"MAX(IF(INT(A!$A$3:$A$10000)=$A9,A!#REF!))","v":0},{"$f":"MIN(IF(INT(A!$A$3:$A$10000)=$A9,A!#REF!))","v":0},{"$f":"MAX(IF(INT(A!$A$3:$A$10000)=$A9,A!#REF!))","v":0},{"$f":"MIN(IF(INT(A!$A$3:$A$10000)=$A9,A!#REF!))","v":0},{"$f":"MAX(IF(INT(B!$A$3:$A$10000)=$A9,B!#REF!))","v":{"$error":"#REF!"}},{"$f":"MIN(IF(INT(B!$A$3:$A$10000)=$A9,B!#REF!))","v":{"$error":"#REF!"}},{"$f":"MAX(IF(INT(B!$A$3:$A$10000)=$A9,B!#REF!))","v":{"$error":"#REF!"}},{"$f":"MIN(IF(INT(B!$A$3:$A$10000)=$A9,B!#REF!))","v":{"$error":"#REF!"}},null,null,null,null,null,null,null,null,{"$f":"MAX(IF(INT(#REF!)=A9,#REF!))","v":{"$error":"#REF!"}},{"$f":"MIN(IF(INT(#REF!)=$A9,#REF!))","v":{"$error":"#REF!"}},{"$f":"MAX(IF(INT(#REF!)=$A9,#REF!))","v":{"$error":"#REF!"}},{"$f":"MAX(IF(INT(#REF!)=$A9,#REF!))","v":{"$error":"#REF!"}},null,null,null,null,{"$f":"MAX(IF(INT(#REF!)=$A9,#REF!))","v":{"$error":"#REF!"}},{"$f":"MAX(IF(INT(#REF!)=$A9,#REF!))","v":{"$error":"#REF!"}},{"$f":"MAX(IF(INT(#REF!)=$A9,#REF!))","v":{"$error":"#REF!"}},{"$f":"MAX(IF(INT(#REF!)=$A9,#REF!))","v":{"$error":"#REF!"}},{"$f":"MAX(IF(INT(#REF!)=$A9,#REF!))","v":{"$error":"#REF!"}},{"$f":"MAX(IF(INT(#REF!)=$A9,#REF!))","v":{"$error":"#REF!"}},{"$f":"MAX(IF(INT(#REF!)=$A9,#REF!))","v":{"$error":"#REF!"}},{"$f":"MAX(IF(INT(#REF!)=$A9,#REF!))","v":{"$error":"#REF!"}}]
["2023-03-27",{"$f":"MAX(IF(B!$A$3:$A$3000=$A10,B!#REF!,))","v":0},null,null,null,{"$f":"MAX(IF(INT(A!$A$3:$A$10000)=$A10,A!#REF!))","v":0},{"$f":"MIN(IF(INT(A!$A$3:$A$10000)=$A10,A!#REF!))","v":0},{"$f":"MAX(IF(INT(A!$A$3:$A$10000)=$A10,A!#REF!))","v":0},{"$f":"MIN(IF(INT(A!$A$3:$A$10000)=$A10,A!#REF!))","v":0},{"$f":"MAX(IF(INT(B!$A$3:$A$10000)=$A10,B!#REF!))","v":{"$error":"#REF!"}},{"$f":"MIN(IF(INT(B!$A$3:$A$10000)=$A10,B!#REF!))","v":{"$error":"#REF!"}},{"$f":"MAX(IF(INT(B!$A$3:$A$10000)=$A10,B!#REF!))","v":{"$error":"#REF!"}},{"$f":"MIN(IF(INT(B!$A$3:$A$10000)=$A10,B!#REF!))","v":{"$error":"#REF!"}},null,null,null,null,null,null,null,null,{"$f":"MAX(IF(INT(#REF!)=A10,#REF!))","v":{"$error":"#REF!"}},{"$f":"MIN(IF(INT(#REF!)=$A10,#REF!))","v":{"$error":"#REF!"}},{"$f":"MAX(IF(INT(#REF!)=$A10,#REF!))","v":{"$error":"#REF!"}},{"$f":"MAX(IF(INT(#REF!)=$A10,#REF!))","v":{"$error":"#REF!"}},null,null,null,null,{"$f":"MAX(IF(INT(#REF!)=$A10,#REF!))","v":{"$error":"#REF!"}},{"$f":"MAX(IF(INT(#REF!)=$A10,#REF!))","v":{"$error":"#REF!"}},{"$f":"MAX(IF(INT(#REF!)=$A10,#REF!))","v":{"$error":"#REF!"}},{"$f":"MAX(IF(INT(#REF!)=$A10,#REF!))","v":{"$error":"#REF!"}},{"$f":"MAX(IF(INT(#REF!)=$A10,#REF!))","v":{"$error":"#REF!"}},{"$f":"MAX(IF(INT(#REF!)=$A10,#REF!))","v":{"$error":"#REF!"}},{"$f":"MAX(IF(INT(#REF!)=$A10,#REF!))","v":{"$error":"#REF!"}},{"$f":"MAX(IF(INT(#REF!)=$A10,#REF!))","v":{"$error":"#REF!"}}]
["2023-03-26",{"$f":"MAX(IF(B!$A$3:$A$3000=$A11,B!#REF!,))","v":0},null,null,null,{"$f":"MAX(IF(INT(A!$A$3:$A$10000)=$A11,A!#REF!))","v":{"$error":"#REF!"}},{"$f":"MIN(IF(INT(A!$A$3:$A$10000)=$A11,A!#REF!))","v":{"$error":"#REF!"}},{"$f":"MAX(IF(INT(A!$A$3:$A$10000)=$A11,A!#REF!))","v":{"$error":"#REF!"}},{"$f":"MIN(IF(INT(A!$A$3:$A$10000)=$A11,A!#REF!))","v":{"$error":"#REF!"}},{"$f":"MAX(IF(INT(B!$A$3:$A$10000)=$A11,B!#REF!))","v":{"$error":"#REF!"}},{"$f":"MIN(IF(INT(B!$A$3:$A$10000)=$A11,B!#REF!))","v":{"$error":"#REF!"}},{"$f":"MAX(IF(INT(B!$A$3:$A$10000)=$A11,B!#REF!))","v":{"$error":"#REF!"}},{"$f":"MIN(IF(INT(B!$A$3:$A$10000)=$A11,B!#REF!))","v":{"$error":"#REF!"}},null,null,null,null,null,null,null,null,{"$f":"MAX(IF(INT(#REF!)=A11,#REF!))","v":{"$error":"#REF!"}},{"$f":"MIN(IF(INT(#REF!)=$A11,#REF!))","v":{"$error":"#REF!"}},{"$f":"MAX(IF(INT(#REF!)=$A11,#REF!))","v":{"$error":"#REF!"}},{"$f":"MAX(IF(INT(#REF!)=$A11,#REF!))","v":{"$error":"#REF!"}},null,null,null,null,{"$f":"MAX(IF(INT(#REF!)=$A11,#REF!))","v":{"$error":"#REF!"}},{"$f":"MAX(IF(INT(#REF!)=$A11,#REF!))","v":{"$error":"#REF!"}},{"$f":"MAX(IF(INT(#REF!)=$A11,#REF!))","v":{"$error":"#REF!"}},{"$f":"MAX(IF(INT(#REF!)=$A11,#REF!))","v":{"$error":"#REF!"}},{"$f":"MAX(IF(INT(#REF!)=$A11,#REF!))","v":{"$error":"#REF!"}},{"$f":"MAX(IF(INT(#REF!)=$A11,#REF!))","v":{"$error":"#REF!"}},{"$f":"MAX(IF(INT(#REF!)=$A11,#REF!))","v":{"$error":"#REF!"}},{"$f":"MAX(IF(INT(#REF!)=$A11,#REF!))","v":{"$error":"#REF!"}}]
["2023-03-25",{"$f":"MAX(IF(B!$A$3:$A$3000=$A12,B!#REF!,))","v":0},null,null,null,{"$f":"MAX(IF(INT(A!$A$3:$A$10000)=$A12,A!#REF!))","v":0},{"$f":"MIN(IF(INT(A!$A$3:$A$10000)=$A12,A!#REF!))","v":0},{"$f":"MAX(IF(INT(A!$A$3:$A$10000)=$A12,A!#REF!))","v":0},{"$f":"MIN(IF(INT(A!$A$3:$A$10000)=$A12,A!#REF!))","v":0},{"$f":"MAX(IF(INT(B!$A$3:$A$10000)=$A12,B!#REF!))","v":{"$error":"#REF!"}},{"$f":"MIN(IF(INT(B!$A$3:$A$10000)=$A12,B!#REF!))","v":{"$error":"#REF!"}},{"$f":"MAX(IF(INT(B!$A$3:$A$10000)=$A12,B!#REF!))","v":{"$error":"#REF!"}},{"$f":"MIN(IF(INT(B!$A$3:$A$10000)=$A12,B!#REF!))","v":{"$error":"#REF!"}},null,null,null,null,null,null,null,null,{"$f":"MAX(IF(INT(#REF!)=A12,#REF!))","v":{"$error":"#REF!"}},{"$f":"MIN(IF(INT(#REF!)=$A12,#REF!))","v":{"$error":"#REF!"}},{"$f":"MAX(IF(INT(#REF!)=$A12,#REF!))","v":{"$error":"#REF!"}},{"$f":"MAX(IF(INT(#REF!)=$A12,#REF!))","v":{"$error":"#REF!"}},null,null,null,null,{"$f":"MAX(IF(INT(#REF!)=$A12,#REF!))","v":{"$error":"#REF!"}},{"$f":"MAX(IF(INT(#REF!)=$A12,#REF!))","v":{"$error":"#REF!"}},{"$f":"MAX(IF(INT(#REF!)=$A12,#REF!))","v":{"$error":"#REF!"}},{"$f":"MAX(IF(INT(#REF!)=$A12,#REF!))","v":{"$error":"#REF!"}},{"$f":"MAX(IF(INT(#REF!)=$A12,#REF!))","v":{"$error":"#REF!"}},{"$f":"MAX(IF(INT(#REF!)=$A12,#REF!))","v":{"$error":"#REF!"}},{"$f":"MAX(IF(INT(#REF!)=$A12,#REF!))","v":{"$error":"#REF!"}},{"$f":"MAX(IF(INT(#REF!)=$A12,#REF!))","v":{"$error":"#REF!"}}]
["2023-03-24",{"$f":"MAX(IF(B!$A$3:$A$3000=$A13,B!#REF!,))","v":0},null,null,null,{"$f":"MAX(IF(INT(A!$A$3:$A$10000)=$A13,A!#REF!))","v":0},{"$f":"MIN(IF(INT(A!$A$3:$A$10000)=$A13,A!#REF!))","v":0},{"$f":"MAX(IF(INT(A!$A$3:$A$10000)=$A13,A!#REF!))","v":0},{"$f":"MIN(IF(INT(A!$A$3:$A$10000)=$A13,A!#REF!))","v":0},{"$f":"MAX(IF(INT(B!$A$3:$A$10000)=$A13,B!#REF!))","v":{"$error":"#REF!"}},{"$f":"MIN(IF(INT(B!$A$3:$A$10000)=$A13,B!#REF!))","v":{"$error":"#REF!"}},{"$f":"MAX(IF(INT(B!$A$3:$A$10000)=$A13,B!#REF!))","v":{"$error":"#REF!"}},{"$f":"MIN(IF(INT(B!$A$3:$A$10000)=$A13,B!#REF!))","v":{"$error":"#REF!"}},null,null,null,null,null,null,null,null,{"$f":"MAX(IF(INT(#REF!)=A13,#REF!))","v":{"$error":"#REF!"}},{"$f":"MIN(IF(INT(#REF!)=$A13,#REF!))","v":{"$error":"#REF!"}},{"$f":"MAX(IF(INT(#REF!)=$A13,#REF!))","v":{"$error":"#REF!"}},{"$f":"MAX(IF(INT(#REF!)=$A13,#REF!))","v":{"$error":"#REF!"}},null,null,null,null,{"$f":"MAX(IF(INT(#REF!)=$A13,#REF!))","v":{"$error":"#REF!"}},{"$f":"MAX(IF(INT(#REF!)=$A13,#REF!))","v":{"$error":"#REF!"}},{"$f":"MAX(IF(INT(#REF!)=$A13,#REF!))","v":{"$error":"#REF!"}},{"$f":"MAX(IF(INT(#REF!)=$A13,#REF!))","v":{"$error":"#REF!"}},{"$f":"MAX(IF(INT(#REF!)=$A13,#REF!))","v":{"$error":"#REF!"}},{"$f":"MAX(IF(INT(#REF!)=$A13,#REF!))","v":{"$error":"#REF!"}},{"$f":"MAX(IF(INT(#REF!)=$A13,#REF!))","v":{"$error":"#REF!"}},{"$f":"MAX(IF(INT(#REF!)=$A13,#REF!))","v":{"$error":"#REF!"}}]
["2023-03-23",{"$f":"MAX(IF(B!$A$3:$A$3000=$A14,B!#REF!,))","v":0},null,null,null,{"$f":"MAX(IF(INT(A!$A$3:$A$10000)=$A14,A!#REF!))","v":0},{"$f":"MIN(IF(INT(A!$A$3:$A$10000)=$A14,A!#REF!))","v":0},{"$f":"MAX(IF(INT(A!$A$3:$A$10000)=$A14,A!#REF!))","v":0},{"$f":"MIN(IF(INT(A!$A$3:$A$10000)=$A14,A!#REF!))","v":0},{"$f":"MAX(IF(INT(B!$A$3:$A$10000)=$A14,B!#REF!))","v":{"$error":"#REF!"}},{"$f":"MIN(IF(INT(B!$A$3:$A$10000)=$A14,B!#REF!))","v":{"$error":"#REF!"}},{"$f":"MAX(IF(INT(B!$A$3:$A$10000)=$A14,B!#REF!))","v":{"$error":"#REF!"}},{"$f":"MIN(IF(INT(B!$A$3:$A$10000)=$A14,B!#REF!))","v":{"$error":"#REF!"}},null,null,null,null,null,null,null,null,{"$f":"MAX(IF(INT(#REF!)=A14,#REF!))","v":{"$error":"#REF!"}},{"$f":"MIN(IF(INT(#REF!)=$A14,#REF!))","v":{"$error":"#REF!"}},{"$f":"MAX(IF(INT(#REF!)=$A14,#REF!))","v":{"$error":"#REF!"}},{"$f":"MAX(IF(INT(#REF!)=$A14,#REF!))","v":{"$error":"#REF!"}},null,null,null,null,{"$f":"MAX(IF(INT(#REF!)=$A14,#REF!))","v":{"$error":"#REF!"}},{"$f":"MAX(IF(INT(#REF!)=$A14,#REF!))","v":{"$error":"#REF!"}},{"$f":"MAX(IF(INT(#REF!)=$A14,#REF!))","v":{"$error":"#REF!"}},{"$f":"MAX(IF(INT(#REF!)=$A14,#REF!))","v":{"$error":"#REF!"}},{"$f":"MAX(IF(INT(#REF!)=$A14,#REF!))","v":{"$error":"#REF!"}},{"$f":"MAX(IF(INT(#REF!)=$A14,#REF!))","v":{"$error":"#REF!"}},{"$f":"MAX(IF(INT(#REF!)=$A14,#REF!))","v":{"$error":"#REF!"}},{"$f":"MAX(IF(INT(#REF!)=$A14,#REF!))","v":{"$error":"#REF!"}}]
["2023-03-22",{"$f":"MAX(IF(B!$A$3:$A$3000=$A15,B!#REF!,))","v":0},null,null,null,{"$f":"MAX(IF(INT(A!$A$3:$A$10000)=$A15,A!#REF!))","v":0},{"$f":"MIN(IF(INT(A!$A$3:$A$10000)=$A15,A!#REF!))","v":0},{"$f":"MAX(IF(INT(A!$A$3:$A$10000)=$A15,A!#REF!))","v":0},{"$f":"MIN(IF(INT(A!$A$3:$A$10000)=$A15,A!#REF!))","v":0},{"$f":"MAX(IF(INT(B!$A$3:$A$10000)=$A15,B!#REF!))","v":{"$error":"#REF!"}},{"$f":"MIN(IF(INT(B!$A$3:$A$10000)=$A15,B!#REF!))","v":{"$error":"#REF!"}},{"$f":"MAX(IF(INT(B!$A$3:$A$10000)=$A15,B!#REF!))","v":{"$error":"#REF!"}},{"$f":"MIN(IF(INT(B!$A$3:$A$10000)=$A15,B!#REF!))","v":{"$error":"#REF!"}},null,null,null,null,null,null,null,null,{"$f":"MAX(IF(INT(#REF!)=A15,#REF!))","v":{"$error":"#REF!"}},{"$f":"MIN(IF(INT(#REF!)=$A15,#REF!))","v":{"$error":"#REF!"}},{"$f":"MAX(IF(INT(#REF!)=$A15,#REF!))","v":{"$error":"#REF!"}},{"$f":"MAX(IF(INT(#REF!)=$A15,#REF!))","v":{"$error":"#REF!"}},null,null,null,null,{"$f":"MAX(IF(INT(#REF!)=$A15,#REF!))","v":{"$error":"#REF!"}},{"$f":"MAX(IF(INT(#REF!)=$A15,#REF!))","v":{"$error":"#REF!"}},{"$f":"MAX(IF(INT(#REF!)=$A15,#REF!))","v":{"$error":"#REF!"}},{"$f":"MAX(IF(INT(#REF!)=$A15,#REF!))","v":{"$error":"#REF!"}},{"$f":"MAX(IF(INT(#REF!)=$A15,#REF!))","v":{"$error":"#REF!"}},{"$f":"MAX(IF(INT(#REF!)=$A15,#REF!))","v":{"$error":"#REF!"}},{"$f":"MAX(IF(INT(#REF!)=$A15,#REF!))","v":{"$error":"#REF!"}},{"$f":"MAX(IF(INT(#REF!)=$A15,#REF!))","v":{"$error":"#REF!"}}]
["2023-03-21",{"$f":"MAX(IF(B!$A$4:$A$3000=$A16,B!#REF!,))","v":0},null,null,null,{"$f":"MAX(IF(INT(A!$A$3:$A$10000)=$A16,A!#REF!))","v":0},{"$f":"MIN(IF(INT(A!$A$3:$A$10000)=$A16,A!#REF!))","v":0},{"$f":"MAX(IF(INT(A!$A$3:$A$10000)=$A16,A!#REF!))","v":0},{"$f":"MIN(IF(INT(A!$A$3:$A$10000)=$A16,A!#REF!))","v":0},{"$f":"MAX(IF(INT(B!$A$3:$A$10000)=$A16,B!#REF!))","v":{"$error":"#REF!"}},{"$f":"MIN(IF(INT(B!$A$3:$A$10000)=$A16,B!#REF!))","v":{"$error":"#REF!"}},{"$f":"MAX(IF(INT(B!$A$3:$A$10000)=$A16,B!#REF!))","v":{"$error":"#REF!"}},{"$f":"MIN(IF(INT(B!$A$3:$A$10000)=$A16,B!#REF!))","v":{"$error":"#REF!"}},null,null,null,null,null,null,null,null,{"$f":"MAX(IF(INT(#REF!)=A16,#REF!))","v":{"$error":"#REF!"}},{"$f":"MIN(IF(INT(#REF!)=$A16,#REF!))","v":{"$error":"#REF!"}},{"$f":"MAX(IF(INT(#REF!)=$A16,#REF!))","v":{"$error":"#REF!"}},{"$f":"MAX(IF(INT(#REF!)=$A16,#REF!))","v":{"$error":"#REF!"}},null,null,null,null,{"$f":"MAX(IF(INT(#REF!)=$A16,#REF!))","v":{"$error":"#REF!"}},{"$f":"MAX(IF(INT(#REF!)=$A16,#REF!))","v":{"$error":"#REF!"}},{"$f":"MAX(IF(INT(#REF!)=$A16,#REF!))","v":{"$error":"#REF!"}},{"$f":"MAX(IF(INT(#REF!)=$A16,#REF!))","v":{"$error":"#REF!"}},{"$f":"MAX(IF(INT(#REF!)=$A16,#REF!))","v":{"$error":"#REF!"}},{"$f":"MAX(IF(INT(#REF!)=$A16,#REF!))","v":{"$error":"#REF!"}},{"$f":"MAX(IF(INT(#REF!)=$A16,#REF!))","v":{"$error":"#REF!"}},{"$f":"MAX(IF(INT(#REF!)=$A16,#REF!))","v":{"$error":"#REF!"}}]
["2023-03-20",{"$f":"MAX(IF(B!$A$3:$A$3000=$A17,B!#REF!,))","v":0},null,null,null,{"$f":"MAX(IF(INT(A!$A$3:$A$10000)=$A17,A!#REF!))","v":0},{"$f":"MIN(IF(INT(A!$A$3:$A$10000)=$A17,A!#REF!))","v":0},{"$f":"MAX(IF(INT(A!$A$3:$A$10000)=$A17,A!#REF!))","v":0},{"$f":"MIN(IF(INT(A!$A$3:$A$10000)=$A17,A!#REF!))","v":0},{"$f":"MAX(IF(INT(B!$A$3:$A$10000)=$A17,B!#REF!))","v":{"$error":"#REF!"}},{"$f":"MIN(IF(INT(B!$A$3:$A$10000)=$A17,B!#REF!))","v":{"$error":"#REF!"}},{"$f":"MAX(IF(INT(B!$A$3:$A$10000)=$A17,B!#REF!))","v":{"$error":"#REF!"}},{"$f":"MIN(IF(INT(B!$A$3:$A$10000)=$A17,B!#REF!))","v":{"$error":"#REF!"}},null,null,null,null,null,null,null,null,{"$f":"MAX(IF(INT(#REF!)=A17,#REF!))","v":{"$error":"#REF!"}},{"$f":"MIN(IF(INT(#REF!)=$A17,#REF!))","v":{"$error":"#REF!"}},{"$f":"MAX(IF(INT(#REF!)=$A17,#REF!))","v":{"$error":"#REF!"}},{"$f":"MAX(IF(INT(#REF!)=$A17,#REF!))","v":{"$error":"#REF!"}},null,null,null,null,{"$f":"MAX(IF(INT(#REF!)=$A17,#REF!))","v":{"$error":"#REF!"}},{"$f":"MAX(IF(INT(#REF!)=$A17,#REF!))","v":{"$error":"#REF!"}},{"$f":"MAX(IF(INT(#REF!)=$A17,#REF!))","v":{"$error":"#REF!"}},{"$f":"MAX(IF(INT(#REF!)=$A17,#REF!))","v":{"$error":"#REF!"}},{"$f":"MAX(IF(INT(#REF!)=$A17,#REF!))","v":{"$error":"#REF!"}},{"$f":"MAX(IF(INT(#REF!)=$A17,#REF!))","v":{"$error":"#REF!"}},{"$f":"MAX(IF(INT(#REF!)=$A17,#REF!))","v":{"$error":"#REF!"}},{"$f":"MAX(IF(INT(#REF!)=$A17,#REF!))","v":{"$error":"#REF!"}}]
["2023-03-19",{"$f":"MAX(IF(B!$A$3:$A$3000=$A18,B!#REF!,))","v":0},null,null,null,{"$f":"MAX(IF(INT(A!$A$3:$A$10000)=$A18,A!#REF!))","v":{"$error":"#REF!"}},{"$f":"MIN(IF(INT(A!$A$3:$A$10000)=$A18,A!#REF!))","v":{"$error":"#REF!"}},{"$f":"MAX(IF(INT(A!$A$3:$A$10000)=$A18,A!#REF!))","v":{"$error":"#REF!"}},{"$f":"MIN(IF(INT(A!$A$3:$A$10000)=$A18,A!#REF!))","v":{"$error":"#REF!"}},{"$f":"MAX(IF(INT(B!$A$3:$A$10000)=$A18,B!#REF!))","v":{"$error":"#REF!"}},{"$f":"MIN(IF(INT(B!$A$3:$A$10000)=$A18,B!#REF!))","v":{"$error":"#REF!"}},{"$f":"MAX(IF(INT(B!$A$3:$A$10000)=$A18,B!#REF!))","v":{"$error":"#REF!"}},{"$f":"MIN(IF(INT(B!$A$3:$A$10000)=$A18,B!#REF!))","v":{"$error":"#REF!"}},null,null,null,null,null,null,null,null,{"$f":"MAX(IF(INT(#REF!)=A18,#REF!))","v":{"$error":"#REF!"}},{"$f":"MIN(IF(INT(#REF!)=$A18,#REF!))","v":{"$error":"#REF!"}},{"$f":"MAX(IF(INT(#REF!)=$A18,#REF!))","v":{"$error":"#REF!"}},{"$f":"MAX(IF(INT(#REF!)=$A18,#REF!))","v":{"$error":"#REF!"}},null,null,null,null,{"$f":"MAX(IF(INT(#REF!)=$A18,#REF!))","v":{"$error":"#REF!"}},{"$f":"MAX(IF(INT(#REF!)=$A18,#REF!))","v":{"$error":"#REF!"}},{"$f":"MAX(IF(INT(#REF!)=$A18,#REF!))","v":{"$error":"#REF!"}},{"$f":"MAX(IF(INT(#REF!)=$A18,#REF!))","v":{"$error":"#REF!"}},{"$f":"MAX(IF(INT(#REF!)=$A18,#REF!))","v":{"$error":"#REF!"}},{"$f":"MAX(IF(INT(#REF!)=$A18,#REF!))","v":{"$error":"#REF!"}},{"$f":"MAX(IF(INT(#REF!)=$A18,#REF!))","v":{"$error":"#REF!"}},{"$f":"MAX(IF(INT(#REF!)=$A18,#REF!))","v":{"$error":"#REF!"}}]
["2023-03-18",{"$f":"MAX(IF(B!$A$3:$A$3000=$A19,B!#REF!,))","v":0},null,null,null,{"$f":"MAX(IF(INT(A!$A$3:$A$10000)=$A19,A!#REF!))","v":0},{"$f":"MIN(IF(INT(A!$A$3:$A$10000)=$A19,A!#REF!))","v":0},{"$f":"MAX(IF(INT(A!$A$3:$A$10000)=$A19,A!#REF!))","v":0},{"$f":"MIN(IF(INT(A!$A$3:$A$10000)=$A19,A!#REF!))","v":0},{"$f":"MAX(IF(INT(B!$A$3:$A$10000)=$A19,B!#REF!))","v":{"$error":"#REF!"}},{"$f":"MIN(IF(INT(B!$A$3:$A$10000)=$A19,B!#REF!))","v":{"$error":"#REF!"}},{"$f":"MAX(IF(INT(B!$A$3:$A$10000)=$A19,B!#REF!))","v":{"$error":"#REF!"}},{"$f":"MIN(IF(INT(B!$A$3:$A$10000)=$A19,B!#REF!))","v":{"$error":"#REF!"}},null,null,null,null,null,null,null,null,{"$f":"MAX(IF(INT(#REF!)=A19,#REF!))","v":{"$error":"#REF!"}},{"$f":"MIN(IF(INT(#REF!)=$A19,#REF!))","v":{"$error":"#REF!"}},{"$f":"MAX(IF(INT(#REF!)=$A19,#REF!))","v":{"$error":"#REF!"}},{"$f":"MAX(IF(INT(#REF!)=$A19,#REF!))","v":{"$error":"#REF!"}},null,null,null,null,{"$f":"MAX(IF(INT(#REF!)=$A19,#REF!))","v":{"$error":"#REF!"}},{"$f":"MAX(IF(INT(#REF!)=$A19,#REF!))","v":{"$error":"#REF!"}},{"$f":"MAX(IF(INT(#REF!)=$A19,#REF!))","v":{"$error":"#REF!"}},{"$f":"MAX(IF(INT(#REF!)=$A19,#REF!))","v":{"$error":"#REF!"}},{"$f":"MAX(IF(INT(#REF!)=$A19,#REF!))","v":{"$error":"#REF!"}},{"$f":"MAX(IF(INT(#REF!)=$A19,#REF!))","v":{"$error":"#REF!"}},{"$f":"MAX(IF(INT(#REF!)=$A19,#REF!))","v":{"$error":"#REF!"}},{"$f":"MAX(IF(INT(#REF!)=$A19,#REF!))","v":{"$error":"#REF!"}}]
["2023-03-17",null,null,null,null,{"$f":"MAX(IF(INT(A!$A$3:$A$10000)=$A20,A!#REF!))","v":0},{"$f":"MIN(IF(INT(A!$A$3:$A$10000)=$A20,A!#REF!))","v":0},{"$f":"MAX(IF(INT(A!$A$3:$A$10000)=$A20,A!#REF!))","v":0},{"$f":"MIN(IF(INT(A!$A$3:$A$10000)=$A20,A!#REF!))","v":0},{"$f":"MAX(IF(INT(B!$A$3:$A$10000)=$A20,B!#REF!))","v":{"$error":"#REF!"}},{"$f":"MIN(IF(INT(B!$A$3:$A$10000)=$A20,B!#REF!))","v":{"$error":"#REF!"}},{"$f":"MAX(IF(INT(B!$A$3:$A$10000)=$A20,B!#REF!))","v":{"$error":"#REF!"}},{"$f":"MIN(IF(INT(B!$A$3:$A$10000)=$A20,B!#REF!))","v":{"$error":"#REF!"}},null,null,null,null,null,null,null,null,{"$f":"MAX(IF(INT(#REF!)=A20,#REF!))","v":{"$error":"#REF!"}},{"$f":"MIN(IF(INT(#REF!)=$A20,#REF!))","v":{"$error":"#REF!"}},{"$f":"MAX(IF(INT(#REF!)=$A20,#REF!))","v":{"$error":"#REF!"}},{"$f":"MAX(IF(INT(#REF!)=$A20,#REF!))","v":{"$error":"#REF!"}},null,null,null,null,{"$f":"MAX(IF(INT(#REF!)=$A20,#REF!))","v":{"$error":"#REF!"}},{"$f":"MAX(IF(INT(#REF!)=$A20,#REF!))","v":{"$error":"#REF!"}},{"$f":"MAX(IF(INT(#REF!)=$A20,#REF!))","v":{"$error":"#REF!"}},{"$f":"MAX(IF(INT(#REF!)=$A20,#REF!))","v":{"$error":"#REF!"}},{"$f":"MAX(IF(INT(#REF!)=$A20,#REF!))","v":{"$error":"#REF!"}},{"$f":"MAX(IF(INT(#REF!)=$A20,#REF!))","v":{"$error":"#REF!"}},{"$f":"MAX(IF(INT(#REF!)=$A20,#REF!))","v":{"$error":"#REF!"}},{"$f":"MAX(IF(INT(#REF!)=$A20,#REF!))","v":{"$error":"#REF!"}}]
["2023-03-16",null,null,null,null,{"$f":"MAX(IF(INT(A!$A$3:$A$10000)=$A21,A!#REF!))","v":0},{"$f":"MIN(IF(INT(A!$A$3:$A$10000)=$A21,A!#REF!))","v":0},{"$f":"MAX(IF(INT(A!$A$3:$A$10000)=$A21,A!#REF!))","v":0},{"$f":"MIN(IF(INT(A!$A$3:$A$10000)=$A21,A!#REF!))","v":0},{"$f":"MAX(IF(INT(B!$A$3:$A$10000)=$A21,B!#REF!))","v":{"$error":"#REF!"}},{"$f":"MIN(IF(INT(B!$A$3:$A$10000)=$A21,B!#REF!))","v":{"$error":"#REF!"}},{"$f":"MAX(IF(INT(B!$A$3:$A$10000)=$A21,B!#REF!))","v":{"$error":"#REF!"}},{"$f":"MIN(IF(INT(B!$A$3:$A$10000)=$A21,B!#REF!))","v":{"$error":"#REF!"}},null,null,null,null,null,null,null,null,{"$f":"MAX(IF(INT(#REF!)=A21,#REF!))","v":{"$error":"#REF!"}},{"$f":"MIN(IF(INT(#REF!)=$A21,#REF!))","v":{"$error":"#REF!"}},{"$f":"MAX(IF(INT(#REF!)=$A21,#REF!))","v":{"$error":"#REF!"}},{"$f":"MAX(IF(INT(#REF!)=$A21,#REF!))","v":{"$error":"#REF!"}},null,null,null,null,{"$f":"MAX(IF(INT(#REF!)=$A21,#REF!))","v":{"$error":"#REF!"}},{"$f":"MAX(IF(INT(#REF!)=$A21,#REF!))","v":{"$error":"#REF!"}},{"$f":"MAX(IF(INT(#REF!)=$A21,#REF!))","v":{"$error":"#REF!"}},{"$f":"MAX(IF(INT(#REF!)=$A21,#REF!))","v":{"$error":"#REF!"}},{"$f":"MAX(IF(INT(#REF!)=$A21,#REF!))","v":{"$error":"#REF!"}},{"$f":"MAX(IF(INT(#REF!)=$A21,#REF!))","v":{"$error":"#REF!"}},{"$f":"MAX(IF(INT(#REF!)=$A21,#REF!))","v":{"$error":"#REF!"}},{"$f":"MAX(IF(INT(#REF!)=$A21,#REF!))","v":{"$error":"#REF!"}}]
["2023-03-15",null,null,null,null,{"$f":"MAX(IF(INT(A!$A$3:$A$10000)=$A22,A!#REF!))","v":0},{"$f":"MIN(IF(INT(A!$A$3:$A$10000)=$A22,A!#REF!))","v":0},{"$f":"MAX(IF(INT(A!$A$3:$A$10000)=$A22,A!#REF!))","v":0},{"$f":"MIN(IF(INT(A!$A$3:$A$10000)=$A22,A!#REF!))","v":0},{"$f":"MAX(IF(INT(B!$A$3:$A$10000)=$A22,B!#REF!))","v":{"$error":"#REF!"}},{"$f":"MIN(IF(INT(B!$A$3:$A$10000)=$A22,B!#REF!))","v":{"$error":"#REF!"}},{"$f":"MAX(IF(INT(B!$A$3:$A$10000)=$A22,B!#REF!))","v":{"$error":"#REF!"}},{"$f":"MIN(IF(INT(B!$A$3:$A$10000)=$A22,B!#REF!))","v":{"$error":"#REF!"}},null,null,null,null,null,null,null,null,{"$f":"MAX(IF(INT(#REF!)=A22,#REF!))","v":{"$error":"#REF!"}},{"$f":"MIN(IF(INT(#REF!)=$A22,#REF!))","v":{"$error":"#REF!"}},{"$f":"MAX(IF(INT(#REF!)=$A22,#REF!))","v":{"$error":"#REF!"}},{"$f":"MAX(IF(INT(#REF!)=$A22,#REF!))","v":{"$error":"#REF!"}},null,null,null,null,{"$f":"MAX(IF(INT(#REF!)=$A22,#REF!))","v":{"$error":"#REF!"}},{"$f":"MAX(IF(INT(#REF!)=$A22,#REF!))","v":{"$error":"#REF!"}},{"$f":"MAX(IF(INT(#REF!)=$A22,#REF!))","v":{"$error":"#REF!"}},{"$f":"MAX(IF(INT(#REF!)=$A22,#REF!))","v":{"$error":"#REF!"}},{"$f":"MAX(IF(INT(#REF!)=$A22,#REF!))","v":{"$error":"#REF!"}},{"$f":"MAX(IF(INT(#REF!)=$A22,#REF!))","v":{"$error":"#REF!"}},{"$f":"MAX(IF(INT(#REF!)=$A22,#REF!))","v":{"$error":"#REF!"}},{"$f":"MAX(IF(INT(#REF!)=$A22,#REF!))","v":{"$error":"#REF!"}}]
["2023-03-14",null,null,null,null,{"$f":"MAX(IF(INT(A!$A$3:$A$10000)=$A23,A!#REF!))","v":0},{"$f":"MIN(IF(INT(A!$A$3:$A$10000)=$A23,A!#REF!))","v":0},{"$f":"MAX(IF(INT(A!$A$3:$A$10000)=$A23,A!#REF!))","v":0},{"$f":"MIN(IF(INT(A!$A$3:$A$10000)=$A23,A!#REF!))","v":0},{"$f":"MAX(IF(INT(B!$A$3:$A$10000)=$A23,B!#REF!))","v":{"$error":"#REF!"}},{"$f":"MIN(IF(INT(B!$A$3:$A$10000)=$A23,B!#REF!))","v":{"$error":"#REF!"}},{"$f":"MAX(IF(INT(B!$A$3:$A$10000)=$A23,B!#REF!))","v":{"$error":"#REF!"}},{"$f":"MIN(IF(INT(B!$A$3:$A$10000)=$A23,B!#REF!))","v":{"$error":"#REF!"}},null,null,null,null,null,null,null,null,{"$f":"MAX(IF(INT(#REF!)=A23,#REF!))","v":{"$error":"#REF!"}},{"$f":"MIN(IF(INT(#REF!)=$A23,#REF!))","v":{"$error":"#REF!"}},{"$f":"MAX(IF(INT(#REF!)=$A23,#REF!))","v":{"$error":"#REF!"}},{"$f":"MAX(IF(INT(#REF!)=$A23,#REF!))","v":{"$error":"#REF!"}},null,null,null,null,{"$f":"MAX(IF(INT(#REF!)=$A23,#REF!))","v":{"$error":"#REF!"}},{"$f":"MAX(IF(INT(#REF!)=$A23,#REF!))","v":{"$error":"#REF!"}},{"$f":"MAX(IF(INT(#REF!)=$A23,#REF!))","v":{"$error":"#REF!"}},{"$f":"MAX(IF(INT(#REF!)=$A23,#REF!))","v":{"$error":"#REF!"}},{"$f":"MAX(IF(INT(#REF!)=$A23,#REF!))","v":{"$error":"#REF!"}},{"$f":"MAX(IF(INT(#REF!)=$A23,#REF!))","v":{"$error":"#REF!"}},{"$f":"MAX(IF(INT(#REF!)=$A23,#REF!))","v":{"$error":"#REF!"}},{"$f":"MAX(IF(INT(#REF!)=$A23,#REF!))","v":{"$error":"#REF!"}}]
["2023-03-13",null,null,null,null,{"$f":"MAX(IF(INT(A!$A$3:$A$10000)=$A24,A!#REF!))","v":0},{"$f":"MIN(IF(INT(A!$A$3:$A$10000)=$A24,A!#REF!))","v":0},{"$f":"MAX(IF(INT(A!$A$3:$A$10000)=$A24,A!#REF!))","v":0},{"$f":"MIN(IF(INT(A!$A$3:$A$10000)=$A24,A!#REF!))","v":0},{"$f":"MAX(IF(INT(B!$A$3:$A$10000)=$A24,B!#REF!))","v":{"$error":"#REF!"}},{"$f":"MIN(IF(INT(B!$A$3:$A$10000)=$A24,B!#REF!))","v":{"$error":"#REF!"}},{"$f":"MAX(IF(INT(B!$A$3:$A$10000)=$A24,B!#REF!))","v":{"$error":"#REF!"}},{"$f":"MIN(IF(INT(B!$A$3:$A$10000)=$A24,B!#REF!))","v":{"$error":"#REF!"}},null,null,null,null,null,null,null,null,{"$f":"MAX(IF(INT(#REF!)=A24,#REF!))","v":{"$error":"#REF!"}},{"$f":"MIN(IF(INT(#REF!)=$A24,#REF!))","v":{"$error":"#REF!"}},{"$f":"MAX(IF(INT(#REF!)=$A24,#REF!))","v":{"$error":"#REF!"}},{"$f":"MAX(IF(INT(#REF!)=$A24,#REF!))","v":{"$error":"#REF!"}},null,null,null,null,{"$f":"MAX(IF(INT(#REF!)=$A24,#REF!))","v":{"$error":"#REF!"}},{"$f":"MAX(IF(INT(#REF!)=$A24,#REF!))","v":{"$error":"#REF!"}},{"$f":"MAX(IF(INT(#REF!)=$A24,#REF!))","v":{"$error":"#REF!"}},{"$f":"MAX(IF(INT(#REF!)=$A24,#REF!))","v":{"$error":"#REF!"}},{"$f":"MAX(IF(INT(#REF!)=$A24,#REF!))","v":{"$error":"#REF!"}},{"$f":"MAX(IF(INT(#REF!)=$A24,#REF!))","v":{"$error":"#REF!"}},{"$f":"MAX(IF(INT(#REF!)=$A24,#REF!))","v":{"$error":"#REF!"}},{"$f":"MAX(IF(INT(#REF!)=$A24,#REF!))","v":{"$error":"#REF!"}}]
["2023-03-12",null,null,null,null,{"$f":"MAX(IF(INT(A!$A$3:$A$10000)=$A25,A!#REF!))","v":{"$error":"#REF!"}},{"$f":"MIN(IF(INT(A!$A$3:$A$10000)=$A25,A!#REF!))","v":{"$error":"#REF!"}},{"$f":"MAX(IF(INT(A!$A$3:$A$10000)=$A25,A!#REF!))","v":{"$error":"#REF!"}},{"$f":"MIN(IF(INT(A!$A$3:$A$10000)=$A25,A!#REF!))","v":{"$error":"#REF!"}},{"$f":"MAX(IF(INT(B!$A$3:$A$10000)=$A25,B!#REF!))","v":{"$error":"#REF!"}},{"$f":"MIN(IF(INT(B!$A$3:$A$10000)=$A25,B!#REF!))","v":{"$error":"#REF!"}},{"$f":"MAX(IF(INT(B!$A$3:$A$10000)=$A25,B!#REF!))","v":{"$error":"#REF!"}},{"$f":"MIN(IF(INT(B!$A$3:$A$10000)=$A25,B!#REF!))","v":{"$error":"#REF!"}},null,null,null,null,null,null,null,null,{"$f":"MAX(IF(INT(#REF!)=A25,#REF!))","v":{"$error":"#REF!"}},{"$f":"MIN(IF(INT(#REF!)=$A25,#REF!))","v":{"$error":"#REF!"}},{"$f":"MAX(IF(INT(#REF!)=$A25,#REF!))","v":{"$error":"#REF!"}},{"$f":"MAX(IF(INT(#REF!)=$A25,#REF!))","v":{"$error":"#REF!"}},null,null,null,null,{"$f":"MAX(IF(INT(#REF!)=$A25,#REF!))","v":{"$error":"#REF!"}},{"$f":"MAX(IF(INT(#REF!)=$A25,#REF!))","v":{"$error":"#REF!"}},{"$f":"MAX(IF(INT(#REF!)=$A25,#REF!))","v":{"$error":"#REF!"}},{"$f":"MAX(IF(INT(#REF!)=$A25,#REF!))","v":{"$error":"#REF!"}},{"$f":"MAX(IF(INT(#REF!)=$A25,#REF!))","v":{"$error":"#REF!"}},{"$f":"MAX(IF(INT(#REF!)=$A25,#REF!))","v":{"$error":"#REF!"}},{"$f":"MAX(IF(INT(#REF!)=$A25,#REF!))","v":{"$error":"#REF!"}},{"$f":"MAX(IF(INT(#REF!)=$A25,#REF!))","v":{"$error":"#REF!"}}]
["2023-03-11",null,null,null,null,{"$f":"MAX(IF(INT(A!$A$3:$A$10000)=$A26,A!#REF!))","v":0},{"$f":"MIN(IF(INT(A!$A$3:$A$10000)=$A26,A!#REF!))","v":0},{"$f":"MAX(IF(INT(A!$A$3:$A$10000)=$A26,A!#REF!))","v":0},{"$f":"MIN(IF(INT(A!$A$3:$A$10000)=$A26,A!#REF!))","v":0},{"$f":"MAX(IF(INT(B!$A$3:$A$10000)=$A26,B!#REF!))","v":{"$error":"#REF!"}},{"$f":"MIN(IF(INT(B!$A$3:$A$10000)=$A26,B!#REF!))","v":{"$error":"#REF!"}},{"$f":"MAX(IF(INT(B!$A$3:$A$10000)=$A26,B!#REF!))","v":{"$error":"#REF!"}},{"$f":"MIN(IF(INT(B!$A$3:$A$10000)=$A26,B!#REF!))","v":{"$error":"#REF!"}},null,null,null,null,null,null,null,null,{"$f":"MAX(IF(INT(#REF!)=A26,#REF!))","v":{"$error":"#REF!"}},{"$f":"MIN(IF(INT(#REF!)=$A26,#REF!))","v":{"$error":"#REF!"}},{"$f":"MAX(IF(INT(#REF!)=$A26,#REF!))","v":{"$error":"#REF!"}},{"$f":"MAX(IF(INT(#REF!)=$A26,#REF!))","v":{"$error":"#REF!"}},null,null,null,null,{"$f":"MAX(IF(INT(#REF!)=$A26,#REF!))","v":{"$error":"#REF!"}},{"$f":"MAX(IF(INT(#REF!)=$A26,#REF!))","v":{"$error":"#REF!"}},{"$f":"MAX(IF(INT(#REF!)=$A26,#REF!))","v":{"$error":"#REF!"}},{"$f":"MAX(IF(INT(#REF!)=$A26,#REF!))","v":{"$error":"#REF!"}},{"$f":"MAX(IF(INT(#REF!)=$A26,#REF!))","v":{"$error":"#REF!"}},{"$f":"MAX(IF(INT(#REF!)=$A26,#REF!))","v":{"$error":"#REF!"}},{"$f":"MAX(IF(INT(#REF!)=$A26,#REF!))","v":{"$error":"#REF!"}},{"$f":"MAX(IF(INT(#REF!)=$A26,#REF!))","v":{"$error":"#REF!"}}]
["2023-03-10",null,null,null,null,{"$f":"MAX(IF(INT(A!$A$3:$A$10000)=$A27,A!#REF!))","v":0},{"$f":"MIN(IF(INT(A!$A$3:$A$10000)=$A27,A!#REF!))","v":0},{"$f":"MAX(IF(INT(A!$A$3:$A$10000)=$A27,A!#REF!))","v":0},{"$f":"MIN(IF(INT(A!$A$3:$A$10000)=$A27,A!#REF!))","v":0},{"$f":"MAX(IF(INT(B!$A$3:$A$10000)=$A27,B!#REF!))","v":{"$error":"#REF!"}},{"$f":"MIN(IF(INT(B!$A$3:$A$10000)=$A27,B!#REF!))","v":{"$error":"#REF!"}},{"$f":"MAX(IF(INT(B!$A$3:$A$10000)=$A27,B!#REF!))","v":{"$error":"#REF!"}},{"$f":"MIN(IF(INT(B!$A$3:$A$10000)=$A27,B!#REF!))","v":{"$error":"#REF!"}},null,null,null,null,null,null,null,null,{"$f":"MAX(IF(INT(#REF!)=A27,#REF!))","v":{"$error":"#REF!"}},{"$f":"MIN(IF(INT(#REF!)=$A27,#REF!))","v":{"$error":"#REF!"}},{"$f":"MAX(IF(INT(#REF!)=$A27,#REF!))","v":{"$error":"#REF!"}},{"$f":"MAX(IF(INT(#REF!)=$A27,#REF!))","v":{"$error":"#REF!"}},null,null,null,null,{"$f":"MAX(IF(INT(#REF!)=$A27,#REF!))","v":{"$error":"#REF!"}},{"$f":"MAX(IF(INT(#REF!)=$A27,#REF!))","v":{"$error":"#REF!"}},{"$f":"MAX(IF(INT(#REF!)=$A27,#REF!))","v":{"$error":"#REF!"}},{"$f":"MAX(IF(INT(#REF!)=$A27,#REF!))","v":{"$error":"#REF!"}},{"$f":"MAX(IF(INT(#REF!)=$A27,#REF!))","v":{"$error":"#REF!"}},{"$f":"MAX(IF(INT(#REF!)=$A27,#REF!))","v":{"$error":"#REF!"}},{"$f":"MAX(IF(INT(#REF!)=$A27,#REF!))","v":{"$error":"#REF!"}},{"$f":"MAX(IF(INT(#REF!)=$A27,#REF!))","v":{"$error":"#REF!"}}]
["2023-03-09",null,null,null,null,{"$f":"MAX(IF(INT(A!$A$3:$A$10000)=$A28,A!#REF!))","v":0},{"$f":"MIN(IF(INT(A!$A$3:$A$10000)=$A28,A!#REF!))","v":0},{"$f":"MAX(IF(INT(A!$A$3:$A$10000)=$A28,A!#REF!))","v":0},{"$f":"MIN(IF(INT(A!$A$3:$A$10000)=$A28,A!#REF!))","v":0},{"$f":"MAX(IF(INT(B!$A$3:$A$10000)=$A28,B!#REF!))","v":{"$error":"#REF!"}},{"$f":"MIN(IF(INT(B!$A$3:$A$10000)=$A28,B!#REF!))","v":{"$error":"#REF!"}},{"$f":"MAX(IF(INT(B!$A$3:$A$10000)=$A28,B!#REF!))","v":{"$error":"#REF!"}},{"$f":"MIN(IF(INT(B!$A$3:$A$10000)=$A28,B!#REF!))","v":{"$error":"#REF!"}},null,null,null,null,null,null,null,null,{"$f":"MAX(IF(INT(#REF!)=A28,#REF!))","v":{"$error":"#REF!"}},{"$f":"MIN(IF(INT(#REF!)=$A28,#REF!))","v":{"$error":"#REF!"}},{"$f":"MAX(IF(INT(#REF!)=$A28,#REF!))","v":{"$error":"#REF!"}},{"$f":"MAX(IF(INT(#REF!)=$A28,#REF!))","v":{"$error":"#REF!"}},null,null,null,null,{"$f":"MAX(IF(INT(#REF!)=$A28,#REF!))","v":{"$error":"#REF!"}},{"$f":"MAX(IF(INT(#REF!)=$A28,#REF!))","v":{"$error":"#REF!"}},{"$f":"MAX(IF(INT(#REF!)=$A28,#REF!))","v":{"$error":"#REF!"}},{"$f":"MAX(IF(INT(#REF!)=$A28,#REF!))","v":{"$error":"#REF!"}},{"$f":"MAX(IF(INT(#REF!)=$A28,#REF!))","v":{"$error":"#REF!"}},{"$f":"MAX(IF(INT(#REF!)=$A28,#REF!))","v":{"$error":"#REF!"}},{"$f":"MAX(IF(INT(#REF!)=$A28,#REF!))","v":{"$error":"#REF!"}},{"$f":"MAX(IF(INT(#REF!)=$A28,#REF!))","v":{"$error":"#REF!"}}]
["2023-03-08",null,null,null,null,{"$f":"MAX(IF(INT(A!$A$3:$A$10000)=$A29,A!#REF!))","v":0},{"$f":"MIN(IF(INT(A!$A$3:$A$10000)=$A29,A!#REF!))","v":0},{"$f":"MAX(IF(INT(A!$A$3:$A$10000)=$A29,A!#REF!))","v":0},{"$f":"MIN(IF(INT(A!$A$3:$A$10000)=$A29,A!#REF!))","v":0},{"$f":"MAX(IF(INT(B!$A$3:$A$10000)=$A29,B!#REF!))","v":{"$error":"#REF!"}},{"$f":"MIN(IF(INT(B!$A$3:$A$10000)=$A29,B!#REF!))","v":{"$error":"#REF!"}},{"$f":"MAX(IF(INT(B!$A$3:$A$10000)=$A29,B!#REF!))","v":{"$error":"#REF!"}},{"$f":"MIN(IF(INT(B!$A$3:$A$10000)=$A29,B!#REF!))","v":{"$error":"#REF!"}},null,null,null,null,null,null,null,null,{"$f":"MAX(IF(INT(#REF!)=A29,#REF!))","v":{"$error":"#REF!"}},{"$f":"MIN(IF(INT(#REF!)=$A29,#REF!))","v":{"$error":"#REF!"}},{"$f":"MAX(IF(INT(#REF!)=$A29,#REF!))","v":{"$error":"#REF!"}},{"$f":"MAX(IF(INT(#REF!)=$A29,#REF!))","v":{"$error":"#REF!"}},null,null,null,null,{"$f":"MAX(IF(INT(#REF!)=$A29,#REF!))","v":{"$error":"#REF!"}},{"$f":"MAX(IF(INT(#REF!)=$A29,#REF!))","v":{"$error":"#REF!"}},{"$f":"MAX(IF(INT(#REF!)=$A29,#REF!))","v":{"$error":"#REF!"}},{"$f":"MAX(IF(INT(#REF!)=$A29,#REF!))","v":{"$error":"#REF!"}},{"$f":"MAX(IF(INT(#REF!)=$A29,#REF!))","v":{"$error":"#REF!"}},{"$f":"MAX(IF(INT(#REF!)=$A29,#REF!))","v":{"$error":"#REF!"}},{"$f":"MAX(IF(INT(#REF!)=$A29,#REF!))","v":{"$error":"#REF!"}},{"$f":"MAX(IF(INT(#REF!)=$A29,#REF!))","v":{"$error":"#REF!"}}]
["2023-03-07",null,null,null,null,{"$f":"MAX(IF(INT(A!$A$3:$A$10000)=$A30,A!#REF!))","v":0},{"$f":"MIN(IF(INT(A!$A$3:$A$10000)=$A30,A!#REF!))","v":0},{"$f":"MAX(IF(INT(A!$A$3:$A$10000)=$A30,A!#REF!))","v":0},{"$f":"MIN(IF(INT(A!$A$3:$A$10000)=$A30,A!#REF!))","v":0},{"$f":"MAX(IF(INT(B!$A$3:$A$10000)=$A30,B!#REF!))","v":{"$error":"#REF!"}},{"$f":"MIN(IF(INT(B!$A$3:$A$10000)=$A30,B!#REF!))","v":{"$error":"#REF!"}},{"$f":"MAX(IF(INT(B!$A$3:$A$10000)=$A30,B!#REF!))","v":{"$error":"#REF!"}},{"$f":"MIN(IF(INT(B!$A$3:$A$10000)=$A30,B!#REF!))","v":{"$error":"#REF!"}},null,null,null,null,null,null,null,null,{"$f":"MAX(IF(INT(#REF!)=A30,#REF!))","v":{"$error":"#REF!"}},{"$f":"MIN(IF(INT(#REF!)=$A30,#REF!))","v":{"$error":"#REF!"}},{"$f":"MAX(IF(INT(#REF!)=$A30,#REF!))","v":{"$error":"#REF!"}},{"$f":"MAX(IF(INT(#REF!)=$A30,#REF!))","v":{"$error":"#REF!"}},null,null,null,null,{"$f":"MAX(IF(INT(#REF!)=$A30,#REF!))","v":{"$error":"#REF!"}},{"$f":"MAX(IF(INT(#REF!)=$A30,#REF!))","v":{"$error":"#REF!"}},{"$f":"MAX(IF(INT(#REF!)=$A30,#REF!))","v":{"$error":"#REF!"}},{"$f":"MAX(IF(INT(#REF!)=$A30,#REF!))","v":{"$error":"#REF!"}},{"$f":"MAX(IF(INT(#REF!)=$A30,#REF!))","v":{"$error":"#REF!"}},{"$f":"MAX(IF(INT(#REF!)=$A30,#REF!))","v":{"$error":"#REF!"}},{"$f":"MAX(IF(INT(#REF!)=$A30,#REF!))","v":{"$error":"#REF!"}},{"$f":"MAX(IF(INT(#REF!)=$A30,#REF!))","v":{"$error":"#REF!"}}]
["2023-03-06",null,null,null,null,{"$f":"MAX(IF(INT(A!$A$3:$A$10000)=$A31,A!#REF!))","v":0},{"$f":"MIN(IF(INT(A!$A$3:$A$10000)=$A31,A!#REF!))","v":0},{"$f":"MAX(IF(INT(A!$A$3:$A$10000)=$A31,A!#REF!))","v":0},{"$f":"MIN(IF(INT(A!$A$3:$A$10000)=$A31,A!#REF!))","v":0},{"$f":"MAX(IF(INT(B!$A$3:$A$10000)=$A31,B!#REF!))","v":{"$error":"#REF!"}},{"$f":"MIN(IF(INT(B!$A$3:$A$10000)=$A31,B!#REF!))","v":{"$error":"#REF!"}},{"$f":"MAX(IF(INT(B!$A$3:$A$10000)=$A31,B!#REF!))","v":{"$error":"#REF!"}},{"$f":"MIN(IF(INT(B!$A$3:$A$10000)=$A31,B!#REF!))","v":{"$error":"#REF!"}},null,null,null,null,null,null,null,null,{"$f":"MAX(IF(INT(#REF!)=A31,#REF!))","v":{"$error":"#REF!"}},{"$f":"MIN(IF(INT(#REF!)=$A31,#REF!))","v":{"$error":"#REF!"}},{"$f":"MAX(IF(INT(#REF!)=$A31,#REF!))","v":{"$error":"#REF!"}},{"$f":"MAX(IF(INT(#REF!)=$A31,#REF!))","v":{"$error":"#REF!"}},null,null,null,null,{"$f":"MAX(IF(INT(#REF!)=$A31,#REF!))","v":{"$error":"#REF!"}},{"$f":"MAX(IF(INT(#REF!)=$A31,#REF!))","v":{"$error":"#REF!"}},{"$f":"MAX(IF(INT(#REF!)=$A31,#REF!))","v":{"$error":"#REF!"}},{"$f":"MAX(IF(INT(#REF!)=$A31,#REF!))","v":{"$error":"#REF!"}},{"$f":"MAX(IF(INT(#REF!)=$A31,#REF!))","v":{"$error":"#REF!"}},{"$f":"MAX(IF(INT(#REF!)=$A31,#REF!))","v":{"$error":"#REF!"}},{"$f":"MAX(IF(INT(#REF!)=$A31,#REF!))","v":{"$error":"#REF!"}},{"$f":"MAX(IF(INT(#REF!)=$A31,#REF!))","v":{"$error":"#REF!"}}]
["2023-03-05",null,null,null,null,{"$f":"MAX(IF(INT(A!$A$3:$A$10000)=$A32,A!#REF!))","v":{"$error":"#REF!"}},{"$f":"MIN(IF(INT(A!$A$3:$A$10000)=$A32,A!#REF!))","v":{"$error":"#REF!"}},{"$f":"MAX(IF(INT(A!$A$3:$A$10000)=$A32,A!#REF!))","v":{"$error":"#REF!"}},{"$f":"MIN(IF(INT(A!$A$3:$A$10000)=$A32,A!#REF!))","v":{"$error":"#REF!"}},{"$f":"MAX(IF(INT(B!$A$3:$A$10000)=$A32,B!#REF!))","v":{"$error":"#REF!"}},{"$f":"MIN(IF(INT(B!$A$3:$A$10000)=$A32,B!#REF!))","v":{"$error":"#REF!"}},{"$f":"MAX(IF(INT(B!$A$3:$A$10000)=$A32,B!#REF!))","v":{"$error":"#REF!"}},{"$f":"MIN(IF(INT(B!$A$3:$A$10000)=$A32,B!#REF!))","v":{"$error":"#REF!"}},null,null,null,null,null,null,null,null,{"$f":"MAX(IF(INT(#REF!)=A32,#REF!))","v":{"$error":"#REF!"}},{"$f":"MIN(IF(INT(#REF!)=$A32,#REF!))","v":{"$error":"#REF!"}},{"$f":"MAX(IF(INT(#REF!)=$A32,#REF!))","v":{"$error":"#REF!"}},{"$f":"MAX(IF(INT(#REF!)=$A32,#REF!))","v":{"$error":"#REF!"}},null,null,null,null,{"$f":"MAX(IF(INT(#REF!)=$A32,#REF!))","v":{"$error":"#REF!"}},{"$f":"MAX(IF(INT(#REF!)=$A32,#REF!))","v":{"$error":"#REF!"}},{"$f":"MAX(IF(INT(#REF!)=$A32,#REF!))","v":{"$error":"#REF!"}},{"$f":"MAX(IF(INT(#REF!)=$A32,#REF!))","v":{"$error":"#REF!"}},{"$f":"MAX(IF(INT(#REF!)=$A32,#REF!))","v":{"$error":"#REF!"}},{"$f":"MAX(IF(INT(#REF!)=$A32,#REF!))","v":{"$error":"#REF!"}},{"$f":"MAX(IF(INT(#REF!)=$A32,#REF!))","v":{"$error":"#REF!"}},{"$f":"MAX(IF(INT(#REF!)=$A32,#REF!))","v":{"$error":"#REF!"}}]
["2023-03-04",null,null,null,null,{"$f":"MAX(IF(INT(A!$A$3:$A$10000)=$A33,A!#REF!))","v":0},{"$f":"MIN(IF(INT(A!$A$3:$A$10000)=$A33,A!#REF!))","v":0},{"$f":"MAX(IF(INT(A!$A$3:$A$10000)=$A33,A!#REF!))","v":0},{"$f":"MIN(IF(INT(A!$A$3:$A$10000)=$A33,A!#REF!))","v":0},{"$f":"MAX(IF(INT(B!$A$3:$A$10000)=$A33,B!#REF!))","v":{"$error":"#REF!"}},{"$f":"MIN(IF(INT(B!$A$3:$A$10000)=$A33,B!#REF!))","v":{"$error":"#REF!"}},{"$f":"MAX(IF(INT(B!$A$3:$A$10000)=$A33,B!#REF!))","v":{"$error":"#REF!"}},{"$f":"MIN(IF(INT(B!$A$3:$A$10000)=$A33,B!#REF!))","v":{"$error":"#REF!"}},null,null,null,null,null,null,null,null,{"$f":"MAX(IF(INT(#REF!)=A33,#REF!))","v":{"$error":"#REF!"}},{"$f":"MIN(IF(INT(#REF!)=$A33,#REF!))","v":{"$error":"#REF!"}},{"$f":"MAX(IF(INT(#REF!)=$A33,#REF!))","v":{"$error":"#REF!"}},{"$f":"MAX(IF(INT(#REF!)=$A33,#REF!))","v":{"$error":"#REF!"}},null,null,null,null,{"$f":"MAX(IF(INT(#REF!)=$A33,#REF!))","v":{"$error":"#REF!"}},{"$f":"MAX(IF(INT(#REF!)=$A33,#REF!))","v":{"$error":"#REF!"}},{"$f":"MAX(IF(INT(#REF!)=$A33,#REF!))","v":{"$error":"#REF!"}},{"$f":"MAX(IF(INT(#REF!)=$A33,#REF!))","v":{"$error":"#REF!"}},{"$f":"MAX(IF(INT(#REF!)=$A33,#REF!))","v":{"$error":"#REF!"}},{"$f":"MAX(IF(INT(#REF!)=$A33,#REF!))","v":{"$error":"#REF!"}},{"$f":"MAX(IF(INT(#REF!)=$A33,#REF!))","v":{"$error":"#REF!"}},{"$f":"MAX(IF(INT(#REF!)=$A33,#REF!))","v":{"$error":"#REF!"}}]
["2023-03-03",null,null,null,null,{"$f":"MAX(IF(INT(A!$A$3:$A$10000)=$A34,A!#REF!))","v":0},{"$f":"MIN(IF(INT(A!$A$3:$A$10000)=$A34,A!#REF!))","v":0},{"$f":"MAX(IF(INT(A!$A$3:$A$10000)=$A34,A!#REF!))","v":0},{"$f":"MIN(IF(INT(A!$A$3:$A$10000)=$A34,A!#REF!))","v":0},{"$f":"MAX(IF(INT(B!$A$3:$A$10000)=$A34,B!#REF!))","v":{"$error":"#REF!"}},{"$f":"MIN(IF(INT(B!$A$3:$A$10000)=$A34,B!#REF!))","v":{"$error":"#REF!"}},{"$f":"MAX(IF(INT(B!$A$3:$A$10000)=$A34,B!#REF!))","v":{"$error":"#REF!"}},{"$f":"MIN(IF(INT(B!$A$3:$A$10000)=$A34,B!#REF!))","v":{"$error":"#REF!"}},null,null,null,null,null,null,null,null,{"$f":"MAX(IF(INT(#REF!)=A34,#REF!))","v":{"$error":"#REF!"}},{"$f":"MIN(IF(INT(#REF!)=$A34,#REF!))","v":{"$error":"#REF!"}},{"$f":"MAX(IF(INT(#REF!)=$A34,#REF!))","v":{"$error":"#REF!"}},{"$f":"MAX(IF(INT(#REF!)=$A34,#REF!))","v":{"$error":"#REF!"}},null,null,null,null,{"$f":"MAX(IF(INT(#REF!)=$A34,#REF!))","v":{"$error":"#REF!"}},{"$f":"MAX(IF(INT(#REF!)=$A34,#REF!))","v":{"$error":"#REF!"}},{"$f":"MAX(IF(INT(#REF!)=$A34,#REF!))","v":{"$error":"#REF!"}},{"$f":"MAX(IF(INT(#REF!)=$A34,#REF!))","v":{"$error":"#REF!"}},{"$f":"MAX(IF(INT(#REF!)=$A34,#REF!))","v":{"$error":"#REF!"}},{"$f":"MAX(IF(INT(#REF!)=$A34,#REF!))","v":{"$error":"#REF!"}},{"$f":"MAX(IF(INT(#REF!)=$A34,#REF!))","v":{"$error":"#REF!"}},{"$f":"MAX(IF(INT(#REF!)=$A34,#REF!))","v":{"$error":"#REF!"}}]
["2023-03-02",null,null,null,null,{"$f":"MAX(IF(INT(A!$A$3:$A$10000)=$A35,A!#REF!))","v":0},{"$f":"MIN(IF(INT(A!$A$3:$A$10000)=$A35,A!#REF!))","v":0},{"$f":"MAX(IF(INT(A!$A$3:$A$10000)=$A35,A!#REF!))","v":0},{"$f":"MIN(IF(INT(A!$A$3:$A$10000)=$A35,A!#REF!))","v":0},{"$f":"MAX(IF(INT(B!$A$3:$A$10000)=$A35,B!#REF!))","v":{"$error":"#REF!"}},{"$f":"MIN(IF(INT(B!$A$3:$A$10000)=$A35,B!#REF!))","v":{"$error":"#REF!"}},{"$f":"MAX(IF(INT(B!$A$3:$A$10000)=$A35,B!#REF!))","v":{"$error":"#REF!"}},{"$f":"MIN(IF(INT(B!$A$3:$A$10000)=$A35,B!#REF!))","v":{"$error":"#REF!"}},null,null,null,null,null,null,null,null,{"$f":"MAX(IF(INT(#REF!)=A35,#REF!))","v":{"$error":"#REF!"}},{"$f":"MIN(IF(INT(#REF!)=$A35,#REF!))","v":{"$error":"#REF!"}},{"$f":"MAX(IF(INT(#REF!)=$A35,#REF!))","v":{"$error":"#REF!"}},{"$f":"MAX(IF(INT(#REF!)=$A35,#REF!))","v":{"$error":"#REF!"}},null,null,null,null,{"$f":"MAX(IF(INT(#REF!)=$A35,#REF!))","v":{"$error":"#REF!"}},{"$f":"MAX(IF(INT(#REF!)=$A35,#REF!))","v":{"$error":"#REF!"}},{"$f":"MAX(IF(INT(#REF!)=$A35,#REF!))","v":{"$error":"#REF!"}},{"$f":"MAX(IF(INT(#REF!)=$A35,#REF!))","v":{"$error":"#REF!"}},{"$f":"MAX(IF(INT(#REF!)=$A35,#REF!))","v":{"$error":"#REF!"}},{"$f":"MAX(IF(INT(#REF!)=$A35,#REF!))","v":{"$error":"#REF!"}},{"$f":"MAX(IF(INT(#REF!)=$A35,#REF!))","v":{"$error":"#REF!"}},{"$f":"MAX(IF(INT(#REF!)=$A35,#REF!))","v":{"$error":"#REF!"}}]
["2023-03-01",null,null,null,null,{"$f":"MAX(IF(INT(A!$A$3:$A$10000)=$A36,A!#REF!))","v":0},{"$f":"MIN(IF(INT(A!$A$3:$A$10000)=$A36,A!#REF!))","v":0},{"$f":"MAX(IF(INT(A!$A$3:$A$10000)=$A36,A!#REF!))","v":0},{"$f":"MIN(IF(INT(A!$A$3:$A$10000)=$A36,A!#REF!))","v":0},{"$f":"MAX(IF(INT(B!$A$3:$A$10000)=$A36,B!#REF!))","v":{"$error":"#REF!"}},{"$f":"MIN(IF(INT(B!$A$3:$A$10000)=$A36,B!#REF!))","v":{"$error":"#REF!"}},{"$f":"MAX(IF(INT(B!$A$3:$A$10000)=$A36,B!#REF!))","v":{"$error":"#REF!"}},{"$f":"MIN(IF(INT(B!$A$3:$A$10000)=$A36,B!#REF!))","v":{"$error":"#REF!"}},null,null,null,null,null,null,null,null,{"$f":"MAX(IF(INT(#REF!)=A36,#REF!))","v":{"$error":"#REF!"}},{"$f":"MIN(IF(INT(#REF!)=$A36,#REF!))","v":{"$error":"#REF!"}},{"$f":"MAX(IF(INT(#REF!)=$A36,#REF!))","v":{"$error":"#REF!"}},{"$f":"MAX(IF(INT(#REF!)=$A36,#REF!))","v":{"$error":"#REF!"}},null,null,null,null,{"$f":"MAX(IF(INT(#REF!)=$A36,#REF!))","v":{"$error":"#REF!"}},{"$f":"MAX(IF(INT(#REF!)=$A36,#REF!))","v":{"$error":"#REF!"}},{"$f":"MAX(IF(INT(#REF!)=$A36,#REF!))","v":{"$error":"#REF!"}},{"$f":"MAX(IF(INT(#REF!)=$A36,#REF!))","v":{"$error":"#REF!"}},{"$f":"MAX(IF(INT(#REF!)=$A36,#REF!))","v":{"$error":"#REF!"}},{"$f":"MAX(IF(INT(#REF!)=$A36,#REF!))","v":{"$error":"#REF!"}},{"$f":"MAX(IF(INT(#REF!)=$A36,#REF!))","v":{"$error":"#REF!"}},{"$f":"MAX(IF(INT(#REF!)=$A36,#REF!))","v":{"$error":"#REF!"}}]
["2023-02-28",null,null,null,null,{"$f":"MAX(IF(INT(A!$A$3:$A$10000)=$A37,A!#REF!))","v":0},{"$f":"MIN(IF(INT(A!$A$3:$A$10000)=$A37,A!#REF!))","v":0},{"$f":"MAX(IF(INT(A!$A$3:$A$10000)=$A37,A!#REF!))","v":0},{"$f":"MIN(IF(INT(A!$A$3:$A$10000)=$A37,A!#REF!))","v":0},{"$f":"MAX(IF(INT(B!$A$3:$A$10000)=$A37,B!#REF!))","v":{"$error":"#REF!"}},{"$f":"MIN(IF(INT(B!$A$3:$A$10000)=$A37,B!#REF!))","v":{"$error":"#REF!"}},{"$f":"MAX(IF(INT(B!$A$3:$A$10000)=$A37,B!#REF!))","v":{"$error":"#REF!"}},{"$f":"MIN(IF(INT(B!$A$3:$A$10000)=$A37,B!#REF!))","v":{"$error":"#REF!"}},null,null,null,null,null,null,null,null,{"$f":"MAX(IF(INT(#REF!)=A37,#REF!))","v":{"$error":"#REF!"}},{"$f":"MIN(IF(INT(#REF!)=$A37,#REF!))","v":{"$error":"#REF!"}},{"$f":"MAX(IF(INT(#REF!)=$A37,#REF!))","v":{"$error":"#REF!"}},{"$f":"MAX(IF(INT(#REF!)=$A37,#REF!))","v":{"$error":"#REF!"}},null,null,null,null,{"$f":"MAX(IF(INT(#REF!)=$A37,#REF!))","v":{"$error":"#REF!"}},{"$f":"MAX(IF(INT(#REF!)=$A37,#REF!))","v":{"$error":"#REF!"}},{"$f":"MAX(IF(INT(#REF!)=$A37,#REF!))","v":{"$error":"#REF!"}},{"$f":"MAX(IF(INT(#REF!)=$A37,#REF!))","v":{"$error":"#REF!"}},{"$f":"MAX(IF(INT(#REF!)=$A37,#REF!))","v":{"$error":"#REF!"}},{"$f":"MAX(IF(INT(#REF!)=$A37,#REF!))","v":{"$error":"#REF!"}},{"$f":"MAX(IF(INT(#REF!)=$A37,#REF!))","v":{"$error":"#REF!"}},{"$f":"MAX(IF(INT(#REF!)=$A37,#REF!))","v":{"$error":"#REF!"}}]
["2023-02-27",null,null,null,null,{"$f":"MAX(IF(INT(A!$A$3:$A$10000)=$A38,A!#REF!))","v":0},{"$f":"MIN(IF(INT(A!$A$3:$A$10000)=$A38,A!#REF!))","v":0},{"$f":"MAX(IF(INT(A!$A$3:$A$10000)=$A38,A!#REF!))","v":0},{"$f":"MIN(IF(INT(A!$A$3:$A$10000)=$A38,A!#REF!))","v":0},{"$f":"MAX(IF(INT(B!$A$3:$A$10000)=$A38,B!#REF!))","v":{"$error":"#REF!"}},{"$f":"MIN(IF(INT(B!$A$3:$A$10000)=$A38,B!#REF!))","v":{"$error":"#REF!"}},{"$f":"MAX(IF(INT(B!$A$3:$A$10000)=$A38,B!#REF!))","v":{"$error":"#REF!"}},{"$f":"MIN(IF(INT(B!$A$3:$A$10000)=$A38,B!#REF!))","v":{"$error":"#REF!"}},null,null,null,null,null,null,null,null,{"$f":"MAX(IF(INT(#REF!)=A38,#REF!))","v":{"$error":"#REF!"}},{"$f":"MIN(IF(INT(#REF!)=$A38,#REF!))","v":{"$error":"#REF!"}},{"$f":"MAX(IF(INT(#REF!)=$A38,#REF!))","v":{"$error":"#REF!"}},{"$f":"MAX(IF(INT(#REF!)=$A38,#REF!))","v":{"$error":"#REF!"}},null,null,null,null,{"$f":"MAX(IF(INT(#REF!)=$A38,#REF!))","v":{"$error":"#REF!"}},{"$f":"MAX(IF(INT(#REF!)=$A38,#REF!))","v":{"$error":"#REF!"}},{"$f":"MAX(IF(INT(#REF!)=$A38,#REF!))","v":{"$error":"#REF!"}},{"$f":"MAX(IF(INT(#REF!)=$A38,#REF!))","v":{"$error":"#REF!"}},{"$f":"MAX(IF(INT(#REF!)=$A38,#REF!))","v":{"$error":"#REF!"}},{"$f":"MAX(IF(INT(#REF!)=$A38,#REF!))","v":{"$error":"#REF!"}},{"$f":"MAX(IF(INT(#REF!)=$A38,#REF!))","v":{"$error":"#REF!"}},{"$f":"MAX(IF(INT(#REF!)=$A38,#REF!))","v":{"$error":"#REF!"}}]
["2023-02-26",null,null,null,null,{"$f":"MAX(IF(INT(A!$A$3:$A$10000)=$A39,A!#REF!))","v":{"$error":"#REF!"}},{"$f":"MIN(IF(INT(A!$A$3:$A$10000)=$A39,A!#REF!))","v":{"$error":"#REF!"}},{"$f":"MAX(IF(INT(A!$A$3:$A$10000)=$A39,A!#REF!))","v":{"$error":"#REF!"}},{"$f":"MIN(IF(INT(A!$A$3:$A$10000)=$A39,A!#REF!))","v":{"$error":"#REF!"}},{"$f":"MAX(IF(INT(B!$A$3:$A$10000)=$A39,B!#REF!))","v":{"$error":"#REF!"}},{"$f":"MIN(IF(INT(B!$A$3:$A$10000)=$A39,B!#REF!))","v":{"$error":"#REF!"}},{"$f":"MAX(IF(INT(B!$A$3:$A$10000)=$A39,B!#REF!))","v":{"$error":"#REF!"}},{"$f":"MIN(IF(INT(B!$A$3:$A$10000)=$A39,B!#REF!))","v":{"$error":"#REF!"}},null,null,null,null,null,null,null,null,{"$f":"MAX(IF(INT(#REF!)=A39,#REF!))","v":{"$error":"#REF!"}},{"$f":"MIN(IF(INT(#REF!)=$A39,#REF!))","v":{"$error":"#REF!"}},{"$f":"MAX(IF(INT(#REF!)=$A39,#REF!))","v":{"$error":"#REF!"}},{"$f":"MAX(IF(INT(#REF!)=$A39,#REF!))","v":{"$error":"#REF!"}},null,null,null,null,{"$f":"MAX(IF(INT(#REF!)=$A39,#REF!))","v":{"$error":"#REF!"}},{"$f":"MAX(IF(INT(#REF!)=$A39,#REF!))","v":{"$error":"#REF!"}},{"$f":"MAX(IF(INT(#REF!)=$A39,#REF!))","v":{"$error":"#REF!"}},{"$f":"MAX(IF(INT(#REF!)=$A39,#REF!))","v":{"$error":"#REF!"}},{"$f":"MAX(IF(INT(#REF!)=$A39,#REF!))","v":{"$error":"#REF!"}},{"$f":"MAX(IF(INT(#REF!)=$A39,#REF!))","v":{"$error":"#REF!"}},{"$f":"MAX(IF(INT(#REF!)=$A39,#REF!))","v":{"$error":"#REF!"}},{"$f":"MAX(IF(INT(#REF!)=$A39,#REF!))","v":{"$error":"#REF!"}}]
["2023-02-25",null,null,null,null,{"$f":"MAX(IF(INT(A!$A$3:$A$10000)=$A30,A!#REF!))","v":0},{"$f":"MIN(IF(INT(A!$A$3:$A$10000)=$A30,A!#REF!))","v":0},{"$f":"MAX(IF(INT(A!$A$3:$A$10000)=$A30,A!#REF!))","v":0},{"$f":"MIN(IF(INT(A!$A$3:$A$10000)=$A30,A!#REF!))","v":0},{"$f":"MAX(IF(INT(B!$A$3:$A$10000)=$A30,B!#REF!))","v":{"$error":"#REF!"}},{"$f":"MIN(IF(INT(B!$A$3:$A$10000)=$A30,B!#REF!))","v":{"$error":"#REF!"}},{"$f":"MAX(IF(INT(B!$A$3:$A$10000)=$A30,B!#REF!))","v":{"$error":"#REF!"}},{"$f":"MIN(IF(INT(B!$A$3:$A$10000)=$A30,B!#REF!))","v":{"$error":"#REF!"}},null,null,null,null,null,null,null,null,{"$f":"MAX(IF(INT(#REF!)=A40,#REF!))","v":{"$error":"#REF!"}},{"$f":"MIN(IF(INT(#REF!)=$A30,#REF!))","v":{"$error":"#REF!"}},{"$f":"MAX(IF(INT(#REF!)=$A40,#REF!))","v":{"$error":"#REF!"}},{"$f":"MAX(IF(INT(#REF!)=$A40,#REF!))","v":{"$error":"#REF!"}},null,null,null,null,{"$f":"MAX(IF(INT(#REF!)=$A40,#REF!))","v":{"$error":"#REF!"}},{"$f":"MAX(IF(INT(#REF!)=$A40,#REF!))","v":{"$error":"#REF!"}},{"$f":"MAX(IF(INT(#REF!)=$A40,#REF!))","v":{"$error":"#REF!"}},{"$f":"MAX(IF(INT(#REF!)=$A40,#REF!))","v":{"$error":"#REF!"}},{"$f":"MAX(IF(INT(#REF!)=$A40,#REF!))","v":{"$error":"#REF!"}},{"$f":"MAX(IF(INT(#REF!)=$A40,#REF!))","v":{"$error":"#REF!"}},{"$f":"MAX(IF(INT(#REF!)=$A40,#REF!))","v":{"$error":"#REF!"}},{"$f":"MAX(IF(INT(#REF!)=$A40,#REF!))","v":{"$error":"#REF!"}}]
["2023-02-24",null,null,null,null,{"$f":"MAX(IF(INT(A!$A$3:$A$10000)=$A31,A!#REF!))","v":0},{"$f":"MIN(IF(INT(A!$A$3:$A$10000)=$A31,A!#REF!))","v":0},{"$f":"MAX(IF(INT(A!$A$3:$A$10000)=$A31,A!#REF!))","v":0},{"$f":"MIN(IF(INT(A!$A$3:$A$10000)=$A31,A!#REF!))","v":0},{"$f":"MAX(IF(INT(B!$A$3:$A$10000)=$A31,B!#REF!))","v":{"$error":"#REF!"}},{"$f":"MIN(IF(INT(B!$A$3:$A$10000)=$A31,B!#REF!))","v":{"$error":"#REF!"}},{"$f":"MAX(IF(INT(B!$A$3:$A$10000)=$A31,B!#REF!))","v":{"$error":"#REF!"}},{"$f":"MIN(IF(INT(B!$A$3:$A$10000)=$A31,B!#REF!))","v":{"$error":"#REF!"}},null,null,null,null,null,null,null,null,{"$f":"MAX(IF(INT(#REF!)=A41,#REF!))","v":{"$error":"#REF!"}},{"$f":"MIN(IF(INT(#REF!)=$A31,#REF!))","v":{"$error":"#REF!"}},{"$f":"MAX(IF(INT(#REF!)=$A41,#REF!))","v":{"$error":"#REF!"}},{"$f":"MAX(IF(INT(#REF!)=$A41,#REF!))","v":{"$error":"#REF!"}},null,null,null,null,{"$f":"MAX(IF(INT(#REF!)=$A41,#REF!))","v":{"$error":"#REF!"}},{"$f":"MAX(IF(INT(#REF!)=$A41,#REF!))","v":{"$error":"#REF!"}},{"$f":"MAX(IF(INT(#REF!)=$A41,#REF!))","v":{"$error":"#REF!"}},{"$f":"MAX(IF(INT(#REF!)=$A41,#REF!))","v":{"$error":"#REF!"}},{"$f":"MAX(IF(INT(#REF!)=$A41,#REF!))","v":{"$error":"#REF!"}},{"$f":"MAX(IF(INT(#REF!)=$A41,#REF!))","v":{"$error":"#REF!"}},{"$f":"MAX(IF(INT(#REF!)=$A41,#REF!))","v":{"$error":"#REF!"}},{"$f":"MAX(IF(INT(#REF!)=$A41,#REF!))","v":{"$error":"#REF!"}}]
["2023-02-23",null,null,null,null,{"$f":"MAX(IF(INT(A!$A$3:$A$10000)=$A32,A!#REF!))","v":{"$error":"#REF!"}},{"$f":"MIN(IF(INT(A!$A$3:$A$10000)=$A32,A!#REF!))","v":{"$error":"#REF!"}},{"$f":"MAX(IF(INT(A!$A$3:$A$10000)=$A32,A!#REF!))","v":{"$error":"#REF!"}},{"$f":"MIN(IF(INT(A!$A$3:$A$10000)=$A32,A!#REF!))","v":{"$error":"#REF!"}},{"$f":"MAX(IF(INT(B!$A$3:$A$10000)=$A32,B!#REF!))","v":{"$error":"#REF!"}},{"$f":"MIN(IF(INT(B!$A$3:$A$10000)=$A32,B!#REF!))","v":{"$error":"#REF!"}},{"$f":"MAX(IF(INT(B!$A$3:$A$10000)=$A32,B!#REF!))","v":{"$error":"#REF!"}},{"$f":"MIN(IF(INT(B!$A$3:$A$10000)=$A32,B!#REF!))","v":{"$error":"#REF!"}},null,null,null,null,null,null,null,null,{"$f":"MAX(IF(INT(#REF!)=A42,#REF!))","v":{"$error":"#REF!"}},{"$f":"MIN(IF(INT(#REF!)=$A32,#REF!))","v":{"$error":"#REF!"}},{"$f":"MAX(IF(INT(#REF!)=$A42,#REF!))","v":{"$error":"#REF!"}},{"$f":"MAX(IF(INT(#REF!)=$A42,#REF!))","v":{"$error":"#REF!"}},null,null,null,null,{"$f":"MAX(IF(INT(#REF!)=$A42,#REF!))","v":{"$error":"#REF!"}},{"$f":"MAX(IF(INT(#REF!)=$A42,#REF!))","v":{"$error":"#REF!"}},{"$f":"MAX(IF(INT(#REF!)=$A42,#REF!))","v":{"$error":"#REF!"}},{"$f":"MAX(IF(INT(#REF!)=$A42,#REF!))","v":{"$error":"#REF!"}},{"$f":"MAX(IF(INT(#REF!)=$A42,#REF!))","v":{"$error":"#REF!"}},{"$f":"MAX(IF(INT(#REF!)=$A42,#REF!))","v":{"$error":"#REF!"}},{"$f":"MAX(IF(INT(#REF!)=$A42,#REF!))","v":{"$error":"#REF!"}},{"$f":"MAX(IF(INT(#REF!)=$A42,#REF!))","v":{"$error":"#REF!"}}]
["2023-02-22",null,null,null,null,{"$f":"MAX(IF(INT(A!$A$3:$A$10000)=$A33,A!#REF!))","v":0},{"$f":"MIN(IF(INT(A!$A$3:$A$10000)=$A33,A!#REF!))","v":0},{"$f":"MAX(IF(INT(A!$A$3:$A$10000)=$A33,A!#REF!))","v":0},{"$f":"MIN(IF(INT(A!$A$3:$A$10000)=$A33,A!#REF!))","v":0},{"$f":"MAX(IF(INT(B!$A$3:$A$10000)=$A33,B!#REF!))","v":{"$error":"#REF!"}},{"$f":"MIN(IF(INT(B!$A$3:$A$10000)=$A33,B!#REF!))","v":{"$error":"#REF!"}},{"$f":"MAX(IF(INT(B!$A$3:$A$10000)=$A33,B!#REF!))","v":{"$error":"#REF!"}},{"$f":"MIN(IF(INT(B!$A$3:$A$10000)=$A33,B!#REF!))","v":{"$error":"#REF!"}},null,null,null,null,null,null,null,null,{"$f":"MAX(IF(INT(#REF!)=A43,#REF!))","v":{"$error":"#REF!"}},{"$f":"MIN(IF(INT(#REF!)=$A33,#REF!))","v":{"$error":"#REF!"}},{"$f":"MAX(IF(INT(#REF!)=$A43,#REF!))","v":{"$error":"#REF!"}},{"$f":"MAX(IF(INT(#REF!)=$A43,#REF!))","v":{"$error":"#REF!"}},null,null,null,null,{"$f":"MAX(IF(INT(#REF!)=$A43,#REF!))","v":{"$error":"#REF!"}},{"$f":"MAX(IF(INT(#REF!)=$A43,#REF!))","v":{"$error":"#REF!"}},{"$f":"MAX(IF(INT(#REF!)=$A43,#REF!))","v":{"$error":"#REF!"}},{"$f":"MAX(IF(INT(#REF!)=$A43,#REF!))","v":{"$error":"#REF!"}},{"$f":"MAX(IF(INT(#REF!)=$A43,#REF!))","v":{"$error":"#REF!"}},{"$f":"MAX(IF(INT(#REF!)=$A43,#REF!))","v":{"$error":"#REF!"}},{"$f":"MAX(IF(INT(#REF!)=$A43,#REF!))","v":{"$error":"#REF!"}},{"$f":"MAX(IF(INT(#REF!)=$A43,#REF!))","v":{"$error":"#REF!"}}]
["2023-02-21",null,null,null,null,{"$f":"MAX(IF(INT(A!$A$3:$A$10000)=$A34,A!#REF!))","v":0},{"$f":"MIN(IF(INT(A!$A$3:$A$10000)=$A34,A!#REF!))","v":0},{"$f":"MAX(IF(INT(A!$A$3:$A$10000)=$A34,A!#REF!))","v":0},{"$f":"MIN(IF(INT(A!$A$3:$A$10000)=$A34,A!#REF!))","v":0},{"$f":"MAX(IF(INT(B!$A$3:$A$10000)=$A34,B!#REF!))","v":{"$error":"#REF!"}},{"$f":"MIN(IF(INT(B!$A$3:$A$10000)=$A34,B!#REF!))","v":{"$error":"#REF!"}},{"$f":"MAX(IF(INT(B!$A$3:$A$10000)=$A34,B!#REF!))","v":{"$error":"#REF!"}},{"$f":"MIN(IF(INT(B!$A$3:$A$10000)=$A34,B!#REF!))","v":{"$error":"#REF!"}},null,null,null,null,null,null,null,null,{"$f":"MAX(IF(INT(#REF!)=A44,#REF!))","v":{"$error":"#REF!"}},{"$f":"MIN(IF(INT(#REF!)=$A34,#REF!))","v":{"$error":"#REF!"}},{"$f":"MAX(IF(INT(#REF!)=$A44,#REF!))","v":{"$error":"#REF!"}},{"$f":"MAX(IF(INT(#REF!)=$A44,#REF!))","v":{"$error":"#REF!"}},null,null,null,null,{"$f":"MAX(IF(INT(#REF!)=$A44,#REF!))","v":{"$error":"#REF!"}},{"$f":"MAX(IF(INT(#REF!)=$A44,#REF!))","v":{"$error":"#REF!"}},{"$f":"MAX(IF(INT(#REF!)=$A44,#REF!))","v":{"$error":"#REF!"}},{"$f":"MAX(IF(INT(#REF!)=$A44,#REF!))","v":{"$error":"#REF!"}},{"$f":"MAX(IF(INT(#REF!)=$A44,#REF!))","v":{"$error":"#REF!"}},{"$f":"MAX(IF(INT(#REF!)=$A44,#REF!))","v":{"$error":"#REF!"}},{"$f":"MAX(IF(INT(#REF!)=$A44,#REF!))","v":{"$error":"#REF!"}},{"$f":"MAX(IF(INT(#REF!)=$A44,#REF!))","v":{"$error":"#REF!"}}]
["2023-02-20",null,null,null,null,{"$f":"MAX(IF(INT(A!$A$3:$A$10000)=$A35,A!#REF!))","v":0},{"$f":"MIN(IF(INT(A!$A$3:$A$10000)=$A35,A!#REF!))","v":0},{"$f":"MAX(IF(INT(A!$A$3:$A$10000)=$A35,A!#REF!))","v":0},{"$f":"MIN(IF(INT(A!$A$3:$A$10000)=$A35,A!#REF!))","v":0},{"$f":"MAX(IF(INT(B!$A$3:$A$10000)=$A35,B!#REF!))","v":{"$error":"#REF!"}},{"$f":"MIN(IF(INT(B!$A$3:$A$10000)=$A35,B!#REF!))","v":{"$error":"#REF!"}},{"$f":"MAX(IF(INT(B!$A$3:$A$10000)=$A35,B!#REF!))","v":{"$error":"#REF!"}},{"$f":"MIN(IF(INT(B!$A$3:$A$10000)=$A35,B!#REF!))","v":{"$error":"#REF!"}},null,null,null,null,null,null,null,null,{"$f":"MAX(IF(INT(#REF!)=A45,#REF!))","v":{"$error":"#REF!"}},{"$f":"MIN(IF(INT(#REF!)=$A35,#REF!))","v":{"$error":"#REF!"}},{"$f":"MAX(IF(INT(#REF!)=$A45,#REF!))","v":{"$error":"#REF!"}},{"$f":"MAX(IF(INT(#REF!)=$A45,#REF!))","v":{"$error":"#REF!"}},null,null,null,null,{"$f":"MAX(IF(INT(#REF!)=$A45,#REF!))","v":{"$error":"#REF!"}},{"$f":"MAX(IF(INT(#REF!)=$A45,#REF!))","v":{"$error":"#REF!"}},{"$f":"MAX(IF(INT(#REF!)=$A45,#REF!))","v":{"$error":"#REF!"}},{"$f":"MAX(IF(INT(#REF!)=$A45,#REF!))","v":{"$error":"#REF!"}},{"$f":"MAX(IF(INT(#REF!)=$A45,#REF!))","v":{"$error":"#REF!"}},{"$f":"MAX(IF(INT(#REF!)=$A45,#REF!))","v":{"$error":"#REF!"}},{"$f":"MAX(IF(INT(#REF!)=$A45,#REF!))","v":{"$error":"#REF!"}},{"$f":"MAX(IF(INT(#REF!)=$A45,#REF!))","v":{"$error":"#REF!"}}]
["2023-02-19",null,null,null,null,{"$f":"MAX(IF(INT(A!$A$3:$A$10000)=$A36,A!#REF!))","v":0},{"$f":"MIN(IF(INT(A!$A$3:$A$10000)=$A36,A!#REF!))","v":0},{"$f":"MAX(IF(INT(A!$A$3:$A$10000)=$A36,A!#REF!))","v":0},{"$f":"MIN(IF(INT(A!$A$3:$A$10000)=$A36,A!#REF!))","v":0},{"$f":"MAX(IF(INT(B!$A$3:$A$10000)=$A36,B!#REF!))","v":{"$error":"#REF!"}},{"$f":"MIN(IF(INT(B!$A$3:$A$10000)=$A36,B!#REF!))","v":{"$error":"#REF!"}},{"$f":"MAX(IF(INT(B!$A$3:$A$10000)=$A36,B!#REF!))","v":{"$error":"#REF!"}},{"$f":"MIN(IF(INT(B!$A$3:$A$10000)=$A36,B!#REF!))","v":{"$error":"#REF!"}},null,null,null,null,null,null,null,null,{"$f":"MAX(IF(INT(#REF!)=A46,#REF!))","v":{"$error":"#REF!"}},{"$f":"MIN(IF(INT(#REF!)=$A36,#REF!))","v":{"$error":"#REF!"}},{"$f":"MAX(IF(INT(#REF!)=$A46,#REF!))","v":{"$error":"#REF!"}},{"$f":"MAX(IF(INT(#REF!)=$A46,#REF!))","v":{"$error":"#REF!"}},null,null,null,null,{"$f":"MAX(IF(INT(#REF!)=$A46,#REF!))","v":{"$error":"#REF!"}},{"$f":"MAX(IF(INT(#REF!)=$A46,#REF!))","v":{"$error":"#REF!"}},{"$f":"MAX(IF(INT(#REF!)=$A46,#REF!))","v":{"$error":"#REF!"}},{"$f":"MAX(IF(INT(#REF!)=$A46,#REF!))","v":{"$error":"#REF!"}},{"$f":"MAX(IF(INT(#REF!)=$A46,#REF!))","v":{"$error":"#REF!"}},{"$f":"MAX(IF(INT(#REF!)=$A46,#REF!))","v":{"$error":"#REF!"}},{"$f":"MAX(IF(INT(#REF!)=$A46,#REF!))","v":{"$error":"#REF!"}},{"$f":"MAX(IF(INT(#REF!)=$A46,#REF!))","v":{"$error":"#REF!"}}]
["2023-02-18",null,null,null,null,{"$f":"MAX(IF(INT(A!$A$3:$A$10000)=$A37,A!#REF!))","v":0},{"$f":"MIN(IF(INT(A!$A$3:$A$10000)=$A37,A!#REF!))","v":0},{"$f":"MAX(IF(INT(A!$A$3:$A$10000)=$A37,A!#REF!))","v":0},{"$f":"MIN(IF(INT(A!$A$3:$A$10000)=$A37,A!#REF!))","v":0},{"$f":"MAX(IF(INT(B!$A$3:$A$10000)=$A37,B!#REF!))","v":{"$error":"#REF!"}},{"$f":"MIN(IF(INT(B!$A$3:$A$10000)=$A37,B!#REF!))","v":{"$error":"#REF!"}},{"$f":"MAX(IF(INT(B!$A$3:$A$10000)=$A37,B!#REF!))","v":{"$error":"#REF!"}},{"$f":"MIN(IF(INT(B!$A$3:$A$10000)=$A37,B!#REF!))","v":{"$error":"#REF!"}},null,null,null,null,null,null,null,null,{"$f":"MAX(IF(INT(#REF!)=A47,#REF!))","v":{"$error":"#REF!"}},{"$f":"MIN(IF(INT(#REF!)=$A37,#REF!))","v":{"$error":"#REF!"}},{"$f":"MAX(IF(INT(#REF!)=$A47,#REF!))","v":{"$error":"#REF!"}},{"$f":"MAX(IF(INT(#REF!)=$A47,#REF!))","v":{"$error":"#REF!"}},null,null,null,null,{"$f":"MAX(IF(INT(#REF!)=$A47,#REF!))","v":{"$error":"#REF!"}},{"$f":"MAX(IF(INT(#REF!)=$A47,#REF!))","v":{"$error":"#REF!"}},{"$f":"MAX(IF(INT(#REF!)=$A47,#REF!))","v":{"$error":"#REF!"}},{"$f":"MAX(IF(INT(#REF!)=$A47,#REF!))","v":{"$error":"#REF!"}},{"$f":"MAX(IF(INT(#REF!)=$A47,#REF!))","v":{"$error":"#REF!"}},{"$f":"MAX(IF(INT(#REF!)=$A47,#REF!))","v":{"$error":"#REF!"}},{"$f":"MAX(IF(INT(#REF!)=$A47,#REF!))","v":{"$error":"#REF!"}},{"$f":"MAX(IF(INT(#REF!)=$A47,#REF!))","v":{"$error":"#REF!"}}]
["2023-02-17",null,null,null,null,{"$f":"MAX(IF(INT(A!$A$3:$A$10000)=$A38,A!#REF!))","v":0},{"$f":"MIN(IF(INT(A!$A$3:$A$10000)=$A38,A!#REF!))","v":0},{"$f":"MAX(IF(INT(A!$A$3:$A$10000)=$A38,A!#REF!))","v":0},{"$f":"MIN(IF(INT(A!$A$3:$A$10000)=$A38,A!#REF!))","v":0},{"$f":"MAX(IF(INT(B!$A$3:$A$10000)=$A38,B!#REF!))","v":{"$error":"#REF!"}},{"$f":"MIN(IF(INT(B!$A$3:$A$10000)=$A38,B!#REF!))","v":{"$error":"#REF!"}},{"$f":"MAX(IF(INT(B!$A$3:$A$10000)=$A38,B!#REF!))","v":{"$error":"#REF!"}},{"$f":"MIN(IF(INT(B!$A$3:$A$10000)=$A38,B!#REF!))","v":{"$error":"#REF!"}},null,null,null,null,null,null,null,null,{"$f":"MAX(IF(INT(#REF!)=A48,#REF!))","v":{"$error":"#REF!"}},{"$f":"MIN(IF(INT(#REF!)=$A38,#REF!))","v":{"$error":"#REF!"}},{"$f":"MAX(IF(INT(#REF!)=$A48,#REF!))","v":{"$error":"#REF!"}},{"$f":"MAX(IF(INT(#REF!)=$A48,#REF!))","v":{"$error":"#REF!"}},null,null,null,null,{"$f":"MAX(IF(INT(#REF!)=$A48,#REF!))","v":{"$error":"#REF!"}},{"$f":"MAX(IF(INT(#REF!)=$A48,#REF!))","v":{"$error":"#REF!"}},{"$f":"MAX(IF(INT(#REF!)=$A48,#REF!))","v":{"$error":"#REF!"}},{"$f":"MAX(IF(INT(#REF!)=$A48,#REF!))","v":{"$error":"#REF!"}},{"$f":"MAX(IF(INT(#REF!)=$A48,#REF!))","v":{"$error":"#REF!"}},{"$f":"MAX(IF(INT(#REF!)=$A48,#REF!))","v":{"$error":"#REF!"}},{"$f":"MAX(IF(INT(#REF!)=$A48,#REF!))","v":{"$error":"#REF!"}},{"$f":"MAX(IF(INT(#REF!)=$A48,#REF!))","v":{"$error":"#REF!"}}]
["2023-02-16",null,null,null,null,{"$f":"MAX(IF(INT(A!$A$3:$A$10000)=$A39,A!#REF!))","v":{"$error":"#REF!"}},{"$f":"MIN(IF(INT(A!$A$3:$A$10000)=$A39,A!#REF!))","v":{"$error":"#REF!"}},{"$f":"MAX(IF(INT(A!$A$3:$A$10000)=$A39,A!#REF!))","v":{"$error":"#REF!"}},{"$f":"MIN(IF(INT(A!$A$3:$A$10000)=$A39,A!#REF!))","v":{"$error":"#REF!"}},{"$f":"MAX(IF(INT(B!$A$3:$A$10000)=$A39,B!#REF!))","v":{"$error":"#REF!"}},{"$f":"MIN(IF(INT(B!$A$3:$A$10000)=$A39,B!#REF!))","v":{"$error":"#REF!"}},{"$f":"MAX(IF(INT(B!$A$3:$A$10000)=$A39,B!#REF!))","v":{"$error":"#REF!"}},{"$f":"MIN(IF(INT(B!$A$3:$A$10000)=$A39,B!#REF!))","v":{"$error":"#REF!"}},null,null,null,null,null,null,null,null,{"$f":"MAX(IF(INT(#REF!)=A49,#REF!))","v":{"$error":"#REF!"}},{"$f":"MIN(IF(INT(#REF!)=$A39,#REF!))","v":{"$error":"#REF!"}},{"$f":"MAX(IF(INT(#REF!)=$A49,#REF!))","v":{"$error":"#REF!"}},{"$f":"MAX(IF(INT(#REF!)=$A49,#REF!))","v":{"$error":"#REF!"}},null,null,null,null,{"$f":"MAX(IF(INT(#REF!)=$A49,#REF!))","v":{"$error":"#REF!"}},{"$f":"MAX(IF(INT(#REF!)=$A49,#REF!))","v":{"$error":"#REF!"}},{"$f":"MAX(IF(INT(#REF!)=$A49,#REF!))","v":{"$error":"#REF!"}},{"$f":"MAX(IF(INT(#REF!)=$A49,#REF!))","v":{"$error":"#REF!"}},{"$f":"MAX(IF(INT(#REF!)=$A49,#REF!))","v":{"$error":"#REF!"}},{"$f":"MAX(IF(INT(#REF!)=$A49,#REF!))","v":{"$error":"#REF!"}},{"$f":"MAX(IF(INT(#REF!)=$A49,#REF!))","v":{"$error":"#REF!"}},{"$f":"MAX(IF(INT(#REF!)=$A49,#REF!))","v":{"$error":"#REF!"}}]
["2023-02-15",null,null,null,null,{"$f":"MAX(IF(INT(A!$A$3:$A$10000)=$A50,A!#REF!))","v":0},{"$f":"MIN(IF(INT(A!$A$3:$A$10000)=$A50,A!#REF!))","v":0},{"$f":"MAX(IF(INT(A!$A$3:$A$10000)=$A50,A!#REF!))","v":0},{"$f":"MIN(IF(INT(A!$A$3:$A$10000)=$A50,A!#REF!))","v":0},{"$f":"MAX(IF(INT(B!$A$3:$A$10000)=$A50,B!#REF!))","v":{"$error":"#REF!"}},{"$f":"MIN(IF(INT(B!$A$3:$A$10000)=$A50,B!#REF!))","v":{"$error":"#REF!"}},{"$f":"MAX(IF(INT(B!$A$3:$A$10000)=$A50,B!#REF!))","v":{"$error":"#REF!"}},{"$f":"MIN(IF(INT(B!$A$3:$A$10000)=$A50,B!#REF!))","v":{"$error":"#REF!"}},null,null,null,null,null,null,null,null,{"$f":"MAX(IF(INT(#REF!)=A50,#REF!))","v":{"$error":"#REF!"}},{"$f":"MIN(IF(INT(#REF!)=$A50,#REF!))","v":{"$error":"#REF!"}},{"$f":"MAX(IF(INT(#REF!)=$A50,#REF!))","v":{"$error":"#REF!"}},{"$f":"MAX(IF(INT(#REF!)=$A50,#REF!))","v":{"$error":"#REF!"}},null,null,null,null,{"$f":"MAX(IF(INT(#REF!)=$A50,#REF!))","v":{"$error":"#REF!"}},{"$f":"MAX(IF(INT(#REF!)=$A50,#REF!))","v":{"$error":"#REF!"}},{"$f":"MAX(IF(INT(#REF!)=$A50,#REF!))","v":{"$error":"#REF!"}},{"$f":"MAX(IF(INT(#REF!)=$A50,#REF!))","v":{"$error":"#REF!"}},{"$f":"MAX(IF(INT(#REF!)=$A50,#REF!))","v":{"$error":"#REF!"}},{"$f":"MAX(IF(INT(#REF!)=$A50,#REF!))","v":{"$error":"#REF!"}},{"$f":"MAX(IF(INT(#REF!)=$A50,#REF!))","v":{"$error":"#REF!"}},{"$f":"MAX(IF(INT(#REF!)=$A50,#REF!))","v":{"$error":"#REF!"}}]
["2023-02-14",null,null,null,null,{"$f":"MAX(IF(INT(A!$A$3:$A$10000)=$A51,A!#REF!))","v":0},{"$f":"MIN(IF(INT(A!$A$3:$A$10000)=$A51,A!#REF!))","v":0},{"$f":"MAX(IF(INT(A!$A$3:$A$10000)=$A51,A!#REF!))","v":0},{"$f":"MIN(IF(INT(A!$A$3:$A$10000)=$A51,A!#REF!))","v":0},{"$f":"MAX(IF(INT(B!$A$3:$A$10000)=$A51,B!#REF!))","v":{"$error":"#REF!"}},{"$f":"MIN(IF(INT(B!$A$3:$A$10000)=$A51,B!#REF!))","v":{"$error":"#REF!"}},{"$f":"MAX(IF(INT(B!$A$3:$A$10000)=$A51,B!#REF!))","v":{"$error":"#REF!"}},{"$f":"MIN(IF(INT(B!$A$3:$A$10000)=$A51,B!#REF!))","v":{"$error":"#REF!"}},null,null,null,null,null,null,null,null,{"$f":"MAX(IF(INT(#REF!)=A51,#REF!))","v":{"$error":"#REF!"}},{"$f":"MIN(IF(INT(#REF!)=$A51,#REF!))","v":{"$error":"#REF!"}},{"$f":"MAX(IF(INT(#REF!)=$A51,#REF!))","v":{"$error":"#REF!"}},{"$f":"MAX(IF(INT(#REF!)=$A51,#REF!))","v":{"$error":"#REF!"}},null,null,null,null,{"$f":"MAX(IF(INT(#REF!)=$A51,#REF!))","v":{"$error":"#REF!"}},{"$f":"MAX(IF(INT(#REF!)=$A51,#REF!))","v":{"$error":"#REF!"}},{"$f":"MAX(IF(INT(#REF!)=$A51,#REF!))","v":{"$error":"#REF!"}},{"$f":"MAX(IF(INT(#REF!)=$A51,#REF!))","v":{"$error":"#REF!"}},{"$f":"MAX(IF(INT(#REF!)=$A51,#REF!))","v":{"$error":"#REF!"}},{"$f":"MAX(IF(INT(#REF!)=$A51,#REF!))","v":{"$error":"#REF!"}},{"$f":"MAX(IF(INT(#REF!)=$A51,#REF!))","v":{"$error":"#REF!"}},{"$f":"MAX(IF(INT(#REF!)=$A51,#REF!))","v":{"$error":"#REF!"}}]
["2023-02-13",null,null,null,null,{"$f":"MAX(IF(INT(A!$A$3:$A$10000)=$A52,A!#REF!))","v":0},{"$f":"MIN(IF(INT(A!$A$3:$A$10000)=$A52,A!#REF!))","v":0},{"$f":"MAX(IF(INT(A!$A$3:$A$10000)=$A52,A!#REF!))","v":0},{"$f":"MIN(IF(INT(A!$A$3:$A$10000)=$A52,A!#REF!))","v":0},{"$f":"MAX(IF(INT(B!$A$3:$A$10000)=$A52,B!#REF!))","v":{"$error":"#REF!"}},{"$f":"MIN(IF(INT(B!$A$3:$A$10000)=$A52,B!#REF!))","v":{"$error":"#REF!"}},{"$f":"MAX(IF(INT(B!$A$3:$A$10000)=$A52,B!#REF!))","v":{"$error":"#REF!"}},{"$f":"MIN(IF(INT(B!$A$3:$A$10000)=$A52,B!#REF!))","v":{"$error":"#REF!"}},null,null,null,null,null,null,null,null,{"$f":"MAX(IF(INT(#REF!)=A52,#REF!))","v":{"$error":"#REF!"}},{"$f":"MIN(IF(INT(#REF!)=$A52,#REF!))","v":{"$error":"#REF!"}},{"$f":"MAX(IF(INT(#REF!)=$A52,#REF!))","v":{"$error":"#REF!"}},{"$f":"MAX(IF(INT(#REF!)=$A52,#REF!))","v":{"$error":"#REF!"}},null,null,null,null,{"$f":"MAX(IF(INT(#REF!)=$A52,#REF!))","v":{"$error":"#REF!"}},{"$f":"MAX(IF(INT(#REF!)=$A52,#REF!))","v":{"$error":"#REF!"}},{"$f":"MAX(IF(INT(#REF!)=$A52,#REF!))","v":{"$error":"#REF!"}},{"$f":"MAX(IF(INT(#REF!)=$A52,#REF!))","v":{"$error":"#REF!"}},{"$f":"MAX(IF(INT(#REF!)=$A52,#REF!))","v":{"$error":"#REF!"}},{"$f":"MAX(IF(INT(#REF!)=$A52,#REF!))","v":{"$error":"#REF!"}},{"$f":"MAX(IF(INT(#REF!)=$A52,#REF!))","v":{"$error":"#REF!"}},{"$f":"MAX(IF(INT(#REF!)=$A52,#REF!))","v":{"$error":"#REF!"}}]
["2023-02-12",null,null,null,null,{"$f":"MAX(IF(INT(A!$A$3:$A$10000)=$A53,A!#REF!))","v":{"$error":"#REF!"}},{"$f":"MIN(IF(INT(A!$A$3:$A$10000)=$A53,A!#REF!))","v":{"$error":"#REF!"}},{"$f":"MAX(IF(INT(A!$A$3:$A$10000)=$A53,A!#REF!))","v":{"$error":"#REF!"}},{"$f":"MIN(IF(INT(A!$A$3:$A$10000)=$A53,A!#REF!))","v":{"$error":"#REF!"}},{"$f":"MAX(IF(INT(B!$A$3:$A$10000)=$A53,B!#REF!))","v":{"$error":"#REF!"}},{"$f":"MIN(IF(INT(B!$A$3:$A$10000)=$A53,B!#REF!))","v":{"$error":"#REF!"}},{"$f":"MAX(IF(INT(B!$A$3:$A$10000)=$A53,B!#REF!))","v":{"$error":"#REF!"}},{"$f":"MIN(IF(INT(B!$A$3:$A$10000)=$A53,B!#REF!))","v":{"$error":"#REF!"}},null,null,null,null,null,null,null,null,{"$f":"MAX(IF(INT(#REF!)=A53,#REF!))","v":{"$error":"#REF!"}},{"$f":"MIN(IF(INT(#REF!)=$A53,#REF!))","v":{"$error":"#REF!"}},{"$f":"MAX(IF(INT(#REF!)=$A53,#REF!))","v":{"$error":"#REF!"}},{"$f":"MAX(IF(INT(#REF!)=$A53,#REF!))","v":{"$error":"#REF!"}},null,null,null,null,{"$f":"MAX(IF(INT(#REF!)=$A53,#REF!))","v":{"$error":"#REF!"}},{"$f":"MAX(IF(INT(#REF!)=$A53,#REF!))","v":{"$error":"#REF!"}},{"$f":"MAX(IF(INT(#REF!)=$A53,#REF!))","v":{"$error":"#REF!"}},{"$f":"MAX(IF(INT(#REF!)=$A53,#REF!))","v":{"$error":"#REF!"}},{"$f":"MAX(IF(INT(#REF!)=$A53,#REF!))","v":{"$error":"#REF!"}},{"$f":"MAX(IF(INT(#REF!)=$A53,#REF!))","v":{"$error":"#REF!"}},{"$f":"MAX(IF(INT(#REF!)=$A53,#REF!))","v":{"$error":"#REF!"}},{"$f":"MAX(IF(INT(#REF!)=$A53,#REF!))","v":{"$error":"#REF!"}}]
["2023-02-11",null,null,null,null,{"$f":"MAX(IF(INT(A!$A$3:$A$10000)=$A54,A!#REF!))","v":0},{"$f":"MIN(IF(INT(A!$A$3:$A$10000)=$A54,A!#REF!))","v":0},{"$f":"MAX(IF(INT(A!$A$3:$A$10000)=$A54,A!#REF!))","v":0},{"$f":"MIN(IF(INT(A!$A$3:$A$10000)=$A54,A!#REF!))","v":0},{"$f":"MAX(IF(INT(B!$A$3:$A$10000)=$A54,B!#REF!))","v":{"$error":"#REF!"}},{"$f":"MIN(IF(INT(B!$A$3:$A$10000)=$A54,B!#REF!))","v":{"$error":"#REF!"}},{"$f":"MAX(IF(INT(B!$A$3:$A$10000)=$A54,B!#REF!))","v":{"$error":"#REF!"}},{"$f":"MIN(IF(INT(B!$A$3:$A$10000)=$A54,B!#REF!))","v":{"$error":"#REF!"}},null,null,null,null,null,null,null,null,{"$f":"MAX(IF(INT(#REF!)=A54,#REF!))","v":{"$error":"#REF!"}},{"$f":"MIN(IF(INT(#REF!)=$A54,#REF!))","v":{"$error":"#REF!"}},{"$f":"MAX(IF(INT(#REF!)=$A54,#REF!))","v":{"$error":"#REF!"}},{"$f":"MAX(IF(INT(#REF!)=$A54,#REF!))","v":{"$error":"#REF!"}},null,null,null,null,{"$f":"MAX(IF(INT(#REF!)=$A54,#REF!))","v":{"$error":"#REF!"}},{"$f":"MAX(IF(INT(#REF!)=$A54,#REF!))","v":{"$error":"#REF!"}},{"$f":"MAX(IF(INT(#REF!)=$A54,#REF!))","v":{"$error":"#REF!"}},{"$f":"MAX(IF(INT(#REF!)=$A54,#REF!))","v":{"$error":"#REF!"}},{"$f":"MAX(IF(INT(#REF!)=$A54,#REF!))","v":{"$error":"#REF!"}},{"$f":"MAX(IF(INT(#REF!)=$A54,#REF!))","v":{"$error":"#REF!"}},{"$f":"MAX(IF(INT(#REF!)=$A54,#REF!))","v":{"$error":"#REF!"}},{"$f":"MAX(IF(INT(#REF!)=$A54,#REF!))","v":{"$error":"#REF!"}}]
["2023-02-10",null,null,null,null,{"$f":"MAX(IF(INT(A!$A$3:$A$10000)=$A55,A!#REF!))","v":0},{"$f":"MIN(IF(INT(A!$A$3:$A$10000)=$A55,A!#REF!))","v":0},{"$f":"MAX(IF(INT(A!$A$3:$A$10000)=$A55,A!#REF!))","v":0},{"$f":"MIN(IF(INT(A!$A$3:$A$10000)=$A55,A!#REF!))","v":0},{"$f":"MAX(IF(INT(B!$A$3:$A$10000)=$A55,B!#REF!))","v":{"$error":"#REF!"}},{"$f":"MIN(IF(INT(B!$A$3:$A$10000)=$A55,B!#REF!))","v":{"$error":"#REF!"}},{"$f":"MAX(IF(INT(B!$A$3:$A$10000)=$A55,B!#REF!))","v":{"$error":"#REF!"}},{"$f":"MIN(IF(INT(B!$A$3:$A$10000)=$A55,B!#REF!))","v":{"$error":"#REF!"}},null,null,null,null,null,null,null,null,{"$f":"MAX(IF(INT(#REF!)=A55,#REF!))","v":{"$error":"#REF!"}},{"$f":"MIN(IF(INT(#REF!)=$A55,#REF!))","v":{"$error":"#REF!"}},{"$f":"MAX(IF(INT(#REF!)=$A55,#REF!))","v":{"$error":"#REF!"}},{"$f":"MAX(IF(INT(#REF!)=$A55,#REF!))","v":{"$error":"#REF!"}},null,null,null,null,{"$f":"MAX(IF(INT(#REF!)=$A55,#REF!))","v":{"$error":"#REF!"}},{"$f":"MAX(IF(INT(#REF!)=$A55,#REF!))","v":{"$error":"#REF!"}},{"$f":"MAX(IF(INT(#REF!)=$A55,#REF!))","v":{"$error":"#REF!"}},{"$f":"MAX(IF(INT(#REF!)=$A55,#REF!))","v":{"$error":"#REF!"}},{"$f":"MAX(IF(INT(#REF!)=$A55,#REF!))","v":{"$error":"#REF!"}},{"$f":"MAX(IF(INT(#REF!)=$A55,#REF!))","v":{"$error":"#REF!"}},{"$f":"MAX(IF(INT(#REF!)=$A55,#REF!))","v":{"$error":"#REF!"}},{"$f":"MAX(IF(INT(#REF!)=$A55,#REF!))","v":{"$error":"#REF!"}}]
["2023-02-09",null,null,null,null,{"$f":"MAX(IF(INT(A!$A$3:$A$10000)=$A56,A!#REF!))","v":0},{"$f":"MIN(IF(INT(A!$A$3:$A$10000)=$A56,A!#REF!))","v":0},{"$f":"MAX(IF(INT(A!$A$3:$A$10000)=$A56,A!#REF!))","v":0},{"$f":"MIN(IF(INT(A!$A$3:$A$10000)=$A56,A!#REF!))","v":0},{"$f":"MAX(IF(INT(B!$A$3:$A$10000)=$A56,B!#REF!))","v":{"$error":"#REF!"}},{"$f":"MIN(IF(INT(B!$A$3:$A$10000)=$A56,B!#REF!))","v":{"$error":"#REF!"}},{"$f":"MAX(IF(INT(B!$A$3:$A$10000)=$A56,B!#REF!))","v":{"$error":"#REF!"}},{"$f":"MIN(IF(INT(B!$A$3:$A$10000)=$A56,B!#REF!))","v":{"$error":"#REF!"}},null,null,null,null,null,null,null,null,{"$f":"MAX(IF(INT(#REF!)=A56,#REF!))","v":{"$error":"#REF!"}},{"$f":"MIN(IF(INT(#REF!)=$A56,#REF!))","v":{"$error":"#REF!"}},{"$f":"MAX(IF(INT(#REF!)=$A56,#REF!))","v":{"$error":"#REF!"}},{"$f":"MAX(IF(INT(#REF!)=$A56,#REF!))","v":{"$error":"#REF!"}},null,null,null,null,{"$f":"MAX(IF(INT(#REF!)=$A56,#REF!))","v":{"$error":"#REF!"}},{"$f":"MAX(IF(INT(#REF!)=$A56,#REF!))","v":{"$error":"#REF!"}},{"$f":"MAX(IF(INT(#REF!)=$A56,#REF!))","v":{"$error":"#REF!"}},{"$f":"MAX(IF(INT(#REF!)=$A56,#REF!))","v":{"$error":"#REF!"}},{"$f":"MAX(IF(INT(#REF!)=$A56,#REF!))","v":{"$error":"#REF!"}},{"$f":"MAX(IF(INT(#REF!)=$A56,#REF!))","v":{"$error":"#REF!"}},{"$f":"MAX(IF(INT(#REF!)=$A56,#REF!))","v":{"$error":"#REF!"}},{"$f":"MAX(IF(INT(#REF!)=$A56,#REF!))","v":{"$error":"#REF!"}}]
["2023-02-08",null,null,null,null,{"$f":"MAX(IF(INT(A!$A$3:$A$10000)=$A57,A!#REF!))","v":0},{"$f":"MIN(IF(INT(A!$A$3:$A$10000)=$A57,A!#REF!))","v":0},{"$f":"MAX(IF(INT(A!$A$3:$A$10000)=$A57,A!#REF!))","v":0},{"$f":"MIN(IF(INT(A!$A$3:$A$10000)=$A57,A!#REF!))","v":0},{"$f":"MAX(IF(INT(B!$A$3:$A$10000)=$A57,B!#REF!))","v":{"$error":"#REF!"}},{"$f":"MIN(IF(INT(B!$A$3:$A$10000)=$A57,B!#REF!))","v":{"$error":"#REF!"}},{"$f":"MAX(IF(INT(B!$A$3:$A$10000)=$A57,B!#REF!))","v":{"$error":"#REF!"}},{"$f":"MIN(IF(INT(B!$A$3:$A$10000)=$A57,B!#REF!))","v":{"$error":"#REF!"}},null,null,null,null,null,null,null,null,{"$f":"MAX(IF(INT(#REF!)=A57,#REF!))","v":{"$error":"#REF!"}},{"$f":"MIN(IF(INT(#REF!)=$A57,#REF!))","v":{"$error":"#REF!"}},{"$f":"MAX(IF(INT(#REF!)=$A57,#REF!))","v":{"$error":"#REF!"}},{"$f":"MAX(IF(INT(#REF!)=$A57,#REF!))","v":{"$error":"#REF!"}},null,null,null,null,{"$f":"MAX(IF(INT(#REF!)=$A57,#REF!))","v":{"$error":"#REF!"}},{"$f":"MAX(IF(INT(#REF!)=$A57,#REF!))","v":{"$error":"#REF!"}},{"$f":"MAX(IF(INT(#REF!)=$A57,#REF!))","v":{"$error":"#REF!"}},{"$f":"MAX(IF(INT(#REF!)=$A57,#REF!))","v":{"$error":"#REF!"}},{"$f":"MAX(IF(INT(#REF!)=$A57,#REF!))","v":{"$error":"#REF!"}},{"$f":"MAX(IF(INT(#REF!)=$A57,#REF!))","v":{"$error":"#REF!"}},{"$f":"MAX(IF(INT(#REF!)=$A57,#REF!))","v":{"$error":"#REF!"}},{"$f":"MAX(IF(INT(#REF!)=$A57,#REF!))","v":{"$error":"#REF!"}}]
["2023-02-07",null,null,null,null,{"$f":"MAX(IF(INT(A!$A$3:$A$10000)=$A58,A!#REF!))","v":0},{"$f":"MIN(IF(INT(A!$A$3:$A$10000)=$A58,A!#REF!))","v":0},{"$f":"MAX(IF(INT(A!$A$3:$A$10000)=$A58,A!#REF!))","v":0},{"$f":"MIN(IF(INT(A!$A$3:$A$10000)=$A58,A!#REF!))","v":0},{"$f":"MAX(IF(INT(B!$A$3:$A$10000)=$A58,B!#REF!))","v":{"$error":"#REF!"}},{"$f":"MIN(IF(INT(B!$A$3:$A$10000)=$A58,B!#REF!))","v":{"$error":"#REF!"}},{"$f":"MAX(IF(INT(B!$A$3:$A$10000)=$A58,B!#REF!))","v":{"$error":"#REF!"}},{"$f":"MIN(IF(INT(B!$A$3:$A$10000)=$A58,B!#REF!))","v":{"$error":"#REF!"}},null,null,null,null,null,null,null,null,{"$f":"MAX(IF(INT(#REF!)=A58,#REF!))","v":{"$error":"#REF!"}},{"$f":"MIN(IF(INT(#REF!)=$A58,#REF!))","v":{"$error":"#REF!"}},{"$f":"MAX(IF(INT(#REF!)=$A58,#REF!))","v":{"$error":"#REF!"}},{"$f":"MAX(IF(INT(#REF!)=$A58,#REF!))","v":{"$error":"#REF!"}},null,null,null,null,{"$f":"MAX(IF(INT(#REF!)=$A58,#REF!))","v":{"$error":"#REF!"}},{"$f":"MAX(IF(INT(#REF!)=$A58,#REF!))","v":{"$error":"#REF!"}},{"$f":"MAX(IF(INT(#REF!)=$A58,#REF!))","v":{"$error":"#REF!"}},{"$f":"MAX(IF(INT(#REF!)=$A58,#REF!))","v":{"$error":"#REF!"}},{"$f":"MAX(IF(INT(#REF!)=$A58,#REF!))","v":{"$error":"#REF!"}},{"$f":"MAX(IF(INT(#REF!)=$A58,#REF!))","v":{"$error":"#REF!"}},{"$f":"MAX(IF(INT(#REF!)=$A58,#REF!))","v":{"$error":"#REF!"}},{"$f":"MAX(IF(INT(#REF!)=$A58,#REF!))","v":{"$error":"#REF!"}}]
["2023-02-06",null,null,null,null,{"$f":"MAX(IF(INT(A!$A$3:$A$10000)=$A59,A!#REF!))","v":0},{"$f":"MIN(IF(INT(A!$A$3:$A$10000)=$A59,A!#REF!))","v":0},{"$f":"MAX(IF(INT(A!$A$3:$A$10000)=$A59,A!#REF!))","v":0},{"$f":"MIN(IF(INT(A!$A$3:$A$10000)=$A59,A!#REF!))","v":0},{"$f":"MAX(IF(INT(B!$A$3:$A$10000)=$A59,B!#REF!))","v":{"$error":"#REF!"}},{"$f":"MIN(IF(INT(B!$A$3:$A$10000)=$A59,B!#REF!))","v":{"$error":"#REF!"}},{"$f":"MAX(IF(INT(B!$A$3:$A$10000)=$A59,B!#REF!))","v":{"$error":"#REF!"}},{"$f":"MIN(IF(INT(B!$A$3:$A$10000)=$A59,B!#REF!))","v":{"$error":"#REF!"}},null,null,null,null,null,null,null,null,{"$f":"MAX(IF(INT(#REF!)=A59,#REF!))","v":{"$error":"#REF!"}},{"$f":"MIN(IF(INT(#REF!)=$A59,#REF!))","v":{"$error":"#REF!"}},{"$f":"MAX(IF(INT(#REF!)=$A59,#REF!))","v":{"$error":"#REF!"}},{"$f":"MAX(IF(INT(#REF!)=$A59,#REF!))","v":{"$error":"#REF!"}},null,null,null,null,{"$f":"MAX(IF(INT(#REF!)=$A59,#REF!))","v":{"$error":"#REF!"}},{"$f":"MAX(IF(INT(#REF!)=$A59,#REF!))","v":{"$error":"#REF!"}},{"$f":"MAX(IF(INT(#REF!)=$A59,#REF!))","v":{"$error":"#REF!"}},{"$f":"MAX(IF(INT(#REF!)=$A59,#REF!))","v":{"$error":"#REF!"}},{"$f":"MAX(IF(INT(#REF!)=$A59,#REF!))","v":{"$error":"#REF!"}},{"$f":"MAX(IF(INT(#REF!)=$A59,#REF!))","v":{"$error":"#REF!"}},{"$f":"MAX(IF(INT(#REF!)=$A59,#REF!))","v":{"$error":"#REF!"}},{"$f":"MAX(IF(INT(#REF!)=$A59,#REF!))","v":{"$error":"#REF!"}}]
["2023-02-05",null,null,null,null,{"$f":"MAX(IF(INT(A!$A$3:$A$10000)=$A60,A!#REF!))","v":{"$error":"#REF!"}},{"$f":"MIN(IF(INT(A!$A$3:$A$10000)=$A60,A!#REF!))","v":{"$error":"#REF!"}},{"$f":"MAX(IF(INT(A!$A$3:$A$10000)=$A60,A!#REF!))","v":{"$error":"#REF!"}},{"$f":"MIN(IF(INT(A!$A$3:$A$10000)=$A60,A!#REF!))","v":{"$error":"#REF!"}},{"$f":"MAX(IF(INT(B!$A$3:$A$10000)=$A60,B!#REF!))","v":{"$error":"#REF!"}},{"$f":"MIN(IF(INT(B!$A$3:$A$10000)=$A60,B!#REF!))","v":{"$error":"#REF!"}},{"$f":"MAX(IF(INT(B!$A$3:$A$10000)=$A60,B!#REF!))","v":{"$error":"#REF!"}},{"$f":"MIN(IF(INT(B!$A$3:$A$10000)=$A60,B!#REF!))","v":{"$error":"#REF!"}},null,null,null,null,null,null,null,null,{"$f":"MAX(IF(INT(#REF!)=A60,#REF!))","v":{"$error":"#REF!"}},{"$f":"MIN(IF(INT(#REF!)=$A60,#REF!))","v":{"$error":"#REF!"}},{"$f":"MAX(IF(INT(#REF!)=$A60,#REF!))","v":{"$error":"#REF!"}},{"$f":"MAX(IF(INT(#REF!)=$A60,#REF!))","v":{"$error":"#REF!"}},null,null,null,null,{"$f":"MAX(IF(INT(#REF!)=$A60,#REF!))","v":{"$error":"#REF!"}},{"$f":"MAX(IF(INT(#REF!)=$A60,#REF!))","v":{"$error":"#REF!"}},{"$f":"MAX(IF(INT(#REF!)=$A60,#REF!))","v":{"$error":"#REF!"}},{"$f":"MAX(IF(INT(#REF!)=$A60,#REF!))","v":{"$error":"#REF!"}},{"$f":"MAX(IF(INT(#REF!)=$A60,#REF!))","v":{"$error":"#REF!"}},{"$f":"MAX(IF(INT(#REF!)=$A60,#REF!))","v":{"$error":"#REF!"}},{"$f":"MAX(IF(INT(#REF!)=$A60,#REF!))","v":{"$error":"#REF!"}},{"$f":"MAX(IF(INT(#REF!)=$A60,#REF!))","v":{"$error":"#REF!"}}]
["2023-02-04",null,null,null,null,{"$f":"MAX(IF(INT(A!$A$3:$A$10000)=$A61,A!#REF!))","v":0},{"$f":"MIN(IF(INT(A!$A$3:$A$10000)=$A61,A!#REF!))","v":0},{"$f":"MAX(IF(INT(A!$A$3:$A$10000)=$A61,A!#REF!))","v":0},{"$f":"MIN(IF(INT(A!$A$3:$A$10000)=$A61,A!#REF!))","v":0},{"$f":"MAX(IF(INT(B!$A$3:$A$10000)=$A61,B!#REF!))","v":{"$error":"#REF!"}},{"$f":"MIN(IF(INT(B!$A$3:$A$10000)=$A61,B!#REF!))","v":{"$error":"#REF!"}},{"$f":"MAX(IF(INT(B!$A$3:$A$10000)=$A61,B!#REF!))","v":{"$error":"#REF!"}},{"$f":"MIN(IF(INT(B!$A$3:$A$10000)=$A61,B!#REF!))","v":{"$error":"#REF!"}},null,null,null,null,null,null,null,null,{"$f":"MAX(IF(INT(#REF!)=A61,#REF!))","v":{"$error":"#REF!"}},{"$f":"MIN(IF(INT(#REF!)=$A61,#REF!))","v":{"$error":"#REF!"}},{"$f":"MAX(IF(INT(#REF!)=$A61,#REF!))","v":{"$error":"#REF!"}},{"$f":"MAX(IF(INT(#REF!)=$A61,#REF!))","v":{"$error":"#REF!"}},null,null,null,null,{"$f":"MAX(IF(INT(#REF!)=$A61,#REF!))","v":{"$error":"#REF!"}},{"$f":"MAX(IF(INT(#REF!)=$A61,#REF!))","v":{"$error":"#REF!"}},{"$f":"MAX(IF(INT(#REF!)=$A61,#REF!))","v":{"$error":"#REF!"}},{"$f":"MAX(IF(INT(#REF!)=$A61,#REF!))","v":{"$error":"#REF!"}},{"$f":"MAX(IF(INT(#REF!)=$A61,#REF!))","v":{"$error":"#REF!"}},{"$f":"MAX(IF(INT(#REF!)=$A61,#REF!))","v":{"$error":"#REF!"}},{"$f":"MAX(IF(INT(#REF!)=$A61,#REF!))","v":{"$error":"#REF!"}},{"$f":"MAX(IF(INT(#REF!)=$A61,#REF!))","v":{"$error":"#REF!"}}]
["2023-02-03",null,null,null,null,{"$f":"MAX(IF(INT(A!$A$3:$A$10000)=$A62,A!#REF!))","v":0},{"$f":"MIN(IF(INT(A!$A$3:$A$10000)=$A62,A!#REF!))","v":0},{"$f":"MAX(IF(INT(A!$A$3:$A$10000)=$A62,A!#REF!))","v":0},{"$f":"MIN(IF(INT(A!$A$3:$A$10000)=$A62,A!#REF!))","v":0},{"$f":"MAX(IF(INT(B!$A$3:$A$10000)=$A62,B!#REF!))","v":{"$error":"#REF!"}},{"$f":"MIN(IF(INT(B!$A$3:$A$10000)=$A62,B!#REF!))","v":{"$error":"#REF!"}},{"$f":"MAX(IF(INT(B!$A$3:$A$10000)=$A62,B!#REF!))","v":{"$error":"#REF!"}},{"$f":"MIN(IF(INT(B!$A$3:$A$10000)=$A62,B!#REF!))","v":{"$error":"#REF!"}},null,null,null,null,null,null,null,null,{"$f":"MAX(IF(INT(#REF!)=A62,#REF!))","v":{"$error":"#REF!"}},{"$f":"MIN(IF(INT(#REF!)=$A62,#REF!))","v":{"$error":"#REF!"}},{"$f":"MAX(IF(INT(#REF!)=$A62,#REF!))","v":{"$error":"#REF!"}},{"$f":"MAX(IF(INT(#REF!)=$A62,#REF!))","v":{"$error":"#REF!"}},null,null,null,null,{"$f":"MAX(IF(INT(#REF!)=$A62,#REF!))","v":{"$error":"#REF!"}},{"$f":"MAX(IF(INT(#REF!)=$A62,#REF!))","v":{"$error":"#REF!"}},{"$f":"MAX(IF(INT(#REF!)=$A62,#REF!))","v":{"$error":"#REF!"}},{"$f":"MAX(IF(INT(#REF!)=$A62,#REF!))","v":{"$error":"#REF!"}},{"$f":"MAX(IF(INT(#REF!)=$A62,#REF!))","v":{"$error":"#REF!"}},{"$f":"MAX(IF(INT(#REF!)=$A62,#REF!))","v":{"$error":"#REF!"}},{"$f":"MAX(IF(INT(#REF!)=$A62,#REF!))","v":{"$error":"#REF!"}},{"$f":"MAX(IF(INT(#REF!)=$A62,#REF!))","v":{"$error":"#REF!"}}]
["2023-02-02",null,null,null,null,{"$f":"MAX(IF(INT(A!$A$3:$A$10000)=$A63,A!#REF!))","v":0},{"$f":"MIN(IF(INT(A!$A$3:$A$10000)=$A63,A!#REF!))","v":0},{"$f":"MAX(IF(INT(A!$A$3:$A$10000)=$A63,A!#REF!))","v":0},{"$f":"MIN(IF(INT(A!$A$3:$A$10000)=$A63,A!#REF!))","v":0},{"$f":"MAX(IF(INT(B!$A$3:$A$10000)=$A63,B!#REF!))","v":{"$error":"#REF!"}},{"$f":"MIN(IF(INT(B!$A$3:$A$10000)=$A63,B!#REF!))","v":{"$error":"#REF!"}},{"$f":"MAX(IF(INT(B!$A$3:$A$10000)=$A63,B!#REF!))","v":{"$error":"#REF!"}},{"$f":"MIN(IF(INT(B!$A$3:$A$10000)=$A63,B!#REF!))","v":{"$error":"#REF!"}},null,null,null,null,null,null,null,null,{"$f":"MAX(IF(INT(#REF!)=A63,#REF!))","v":{"$error":"#REF!"}},{"$f":"MIN(IF(INT(#REF!)=$A63,#REF!))","v":{"$error":"#REF!"}},{"$f":"MAX(IF(INT(#REF!)=$A63,#REF!))","v":{"$error":"#REF!"}},{"$f":"MAX(IF(INT(#REF!)=$A63,#REF!))","v":{"$error":"#REF!"}},null,null,null,null,{"$f":"MAX(IF(INT(#REF!)=$A63,#REF!))","v":{"$error":"#REF!"}},{"$f":"MAX(IF(INT(#REF!)=$A63,#REF!))","v":{"$error":"#REF!"}},{"$f":"MAX(IF(INT(#REF!)=$A63,#REF!))","v":{"$error":"#REF!"}},{"$f":"MAX(IF(INT(#REF!)=$A63,#REF!))","v":{"$error":"#REF!"}},{"$f":"MAX(IF(INT(#REF!)=$A63,#REF!))","v":{"$error":"#REF!"}},{"$f":"MAX(IF(INT(#REF!)=$A63,#REF!))","v":{"$error":"#REF!"}},{"$f":"MAX(IF(INT(#REF!)=$A63,#REF!))","v":{"$error":"#REF!"}},{"$f":"MAX(IF(INT(#REF!)=$A63,#REF!))","v":{"$error":"#REF!"}}]
["2023-02-01",null,null,null,null,{"$f":"MAX(IF(INT(A!$A$3:$A$10000)=$A64,A!#REF!))","v":0},{"$f":"MIN(IF(INT(A!$A$3:$A$10000)=$A64,A!#REF!))","v":0},{"$f":"MAX(IF(INT(A!$A$3:$A$10000)=$A64,A!#REF!))","v":0},{"$f":"MIN(IF(INT(A!$A$3:$A$10000)=$A64,A!#REF!))","v":0},{"$f":"MAX(IF(INT(B!$A$3:$A$10000)=$A64,B!#REF!))","v":{"$error":"#REF!"}},{"$f":"MIN(IF(INT(B!$A$3:$A$10000)=$A64,B!#REF!))","v":{"$error":"#REF!"}},{"$f":"MAX(IF(INT(B!$A$3:$A$10000)=$A64,B!#REF!))","v":{"$error":"#REF!"}},{"$f":"MIN(IF(INT(B!$A$3:$A$10000)=$A64,B!#REF!))","v":{"$error":"#REF!"}},null,null,null,null,null,null,null,null,{"$f":"MAX(IF(INT(#REF!)=A64,#REF!))","v":{"$error":"#REF!"}},{"$f":"MIN(IF(INT(#REF!)=$A64,#REF!))","v":{"$error":"#REF!"}},{"$f":"MAX(IF(INT(#REF!)=$A64,#REF!))","v":{"$error":"#REF!"}},{"$f":"MAX(IF(INT(#REF!)=$A64,#REF!))","v":{"$error":"#REF!"}},null,null,null,null,{"$f":"MAX(IF(INT(#REF!)=$A64,#REF!))","v":{"$error":"#REF!"}},{"$f":"MAX(IF(INT(#REF!)=$A64,#REF!))","v":{"$error":"#REF!"}},{"$f":"MAX(IF(INT(#REF!)=$A64,#REF!))","v":{"$error":"#REF!"}},{"$f":"MAX(IF(INT(#REF!)=$A64,#REF!))","v":{"$error":"#REF!"}},{"$f":"MAX(IF(INT(#REF!)=$A64,#REF!))","v":{"$error":"#REF!"}},{"$f":"MAX(IF(INT(#REF!)=$A64,#REF!))","v":{"$error":"#REF!"}},{"$f":"MAX(IF(INT(#REF!)=$A64,#REF!))","v":{"$error":"#REF!"}},{"$f":"MAX(IF(INT(#REF!)=$A64,#REF!))","v":{"$error":"#REF!"}}]
["2023-01-31",null,null,null,null,{"$f":"MAX(IF(INT(A!$A$3:$A$10000)=$A65,A!#REF!))","v":0},{"$f":"MIN(IF(INT(A!$A$3:$A$10000)=$A65,A!#REF!))","v":0},{"$f":"MAX(IF(INT(A!$A$3:$A$10000)=$A65,A!#REF!))","v":0},{"$f":"MIN(IF(INT(A!$A$3:$A$10000)=$A65,A!#REF!))","v":0},{"$f":"MAX(IF(INT(B!$A$3:$A$10000)=$A65,B!#REF!))","v":{"$error":"#REF!"}},{"$f":"MIN(IF(INT(B!$A$3:$A$10000)=$A65,B!#REF!))","v":{"$error":"#REF!"}},{"$f":"MAX(IF(INT(B!$A$3:$A$10000)=$A65,B!#REF!))","v":{"$error":"#REF!"}},{"$f":"MIN(IF(INT(B!$A$3:$A$10000)=$A65,B!#REF!))","v":{"$error":"#REF!"}},null,null,null,null,null,null,null,null,{"$f":"MAX(IF(INT(#REF!)=A65,#REF!))","v":{"$error":"#REF!"}},{"$f":"MIN(IF(INT(#REF!)=$A65,#REF!))","v":{"$error":"#REF!"}},{"$f":"MAX(IF(INT(#REF!)=$A65,#REF!))","v":{"$error":"#REF!"}},{"$f":"MAX(IF(INT(#REF!)=$A65,#REF!))","v":{"$error":"#REF!"}},null,null,null,null,{"$f":"MAX(IF(INT(#REF!)=$A65,#REF!))","v":{"$error":"#REF!"}},{"$f":"MAX(IF(INT(#REF!)=$A65,#REF!))","v":{"$error":"#REF!"}},{"$f":"MAX(IF(INT(#REF!)=$A65,#REF!))","v":{"$error":"#REF!"}},{"$f":"MAX(IF(INT(#REF!)=$A65,#REF!))","v":{"$error":"#REF!"}},{"$f":"MAX(IF(INT(#REF!)=$A65,#REF!))","v":{"$error":"#REF!"}},{"$f":"MAX(IF(INT(#REF!)=$A65,#REF!))","v":{"$error":"#REF!"}},{"$f":"MAX(IF(INT(#REF!)=$A65,#REF!))","v":{"$error":"#REF!"}},{"$f":"MAX(IF(INT(#REF!)=$A65,#REF!))","v":{"$error":"#REF!"}}]
["2023-01-30",null,null,null,null,{"$f":"MAX(IF(INT(A!$A$3:$A$10000)=$A66,A!#REF!))","v":0},{"$f":"MIN(IF(INT(A!$A$3:$A$10000)=$A66,A!#REF!))","v":0},{"$f":"MAX(IF(INT(A!$A$3:$A$10000)=$A66,A!#REF!))","v":0},{"$f":"MIN(IF(INT(A!$A$3:$A$10000)=$A66,A!#REF!))","v":0},{"$f":"MAX(IF(INT(B!$A$3:$A$10000)=$A66,B!#REF!))","v":{"$error":"#REF!"}},{"$f":"MIN(IF(INT(B!$A$3:$A$10000)=$A66,B!#REF!))","v":{"$error":"#REF!"}},{"$f":"MAX(IF(INT(B!$A$3:$A$10000)=$A66,B!#REF!))","v":{"$error":"#REF!"}},{"$f":"MIN(IF(INT(B!$A$3:$A$10000)=$A66,B!#REF!))","v":{"$error":"#REF!"}},null,null,null,null,null,null,null,null,{"$f":"MAX(IF(INT(#REF!)=A66,#REF!))","v":{"$error":"#REF!"}},{"$f":"MIN(IF(INT(#REF!)=$A66,#REF!))","v":{"$error":"#REF!"}},{"$f":"MAX(IF(INT(#REF!)=$A66,#REF!))","v":{"$error":"#REF!"}},{"$f":"MAX(IF(INT(#REF!)=$A66,#REF!))","v":{"$error":"#REF!"}},null,null,null,null,{"$f":"MAX(IF(INT(#REF!)=$A66,#REF!))","v":{"$error":"#REF!"}},{"$f":"MAX(IF(INT(#REF!)=$A66,#REF!))","v":{"$error":"#REF!"}},{"$f":"MAX(IF(INT(#REF!)=$A66,#REF!))","v":{"$error":"#REF!"}},{"$f":"MAX(IF(INT(#REF!)=$A66,#REF!))","v":{"$error":"#REF!"}},{"$f":"MAX(IF(INT(#REF!)=$A66,#REF!))","v":{"$error":"#REF!"}},{"$f":"MAX(IF(INT(#REF!)=$A66,#REF!))","v":{"$error":"#REF!"}},{"$f":"MAX(IF(INT(#REF!)=$A66,#REF!))","v":{"$error":"#REF!"}},{"$f":"MAX(IF(INT(#REF!)=$A66,#REF!))","v":{"$error":"#REF!"}}]
["2023-01-29",null,null,null,null,{"$f":"MAX(IF(INT(A!$A$3:$A$10000)=$A67,A!#REF!))","v":{"$error":"#REF!"}},{"$f":"MIN(IF(INT(A!$A$3:$A$10000)=$A67,A!#REF!))","v":{"$error":"#REF!"}},{"$f":"MAX(IF(INT(A!$A$3:$A$10000)=$A67,A!#REF!))","v":{"$error":"#REF!"}},{"$f":"MIN(IF(INT(A!$A$3:$A$10000)=$A67,A!#REF!))","v":{"$error":"#REF!"}},{"$f":"MAX(IF(INT(B!$A$3:$A$10000)=$A67,B!#REF!))","v":{"$error":"#REF!"}},{"$f":"MIN(IF(INT(B!$A$3:$A$10000)=$A67,B!#REF!))","v":{"$error":"#REF!"}},{"$f":"MAX(IF(INT(B!$A$3:$A$10000)=$A67,B!#REF!))","v":{"$error":"#REF!"}},{"$f":"MIN(IF(INT(B!$A$3:$A$10000)=$A67,B!#REF!))","v":{"$error":"#REF!"}},null,null,null,null,null,null,null,null,{"$f":"MAX(IF(INT(#REF!)=A67,#REF!))","v":{"$error":"#REF!"}},{"$f":"MIN(IF(INT(#REF!)=$A67,#REF!))","v":{"$error":"#REF!"}},{"$f":"MAX(IF(INT(#REF!)=$A67,#REF!))","v":{"$error":"#REF!"}},{"$f":"MAX(IF(INT(#REF!)=$A67,#REF!))","v":{"$error":"#REF!"}},null,null,null,null,{"$f":"MAX(IF(INT(#REF!)=$A67,#REF!))","v":{"$error":"#REF!"}},{"$f":"MAX(IF(INT(#REF!)=$A67,#REF!))","v":{"$error":"#REF!"}},{"$f":"MAX(IF(INT(#REF!)=$A67,#REF!))","v":{"$error":"#REF!"}},{"$f":"MAX(IF(INT(#REF!)=$A67,#REF!))","v":{"$error":"#REF!"}},{"$f":"MAX(IF(INT(#REF!)=$A67,#REF!))","v":{"$error":"#REF!"}},{"$f":"MAX(IF(INT(#REF!)=$A67,#REF!))","v":{"$error":"#REF!"}},{"$f":"MAX(IF(INT(#REF!)=$A67,#REF!))","v":{"$error":"#REF!"}},{"$f":"MAX(IF(INT(#REF!)=$A67,#REF!))","v":{"$error":"#REF!"}}]
["2023-01-28",null,null,null,null,{"$f":"MAX(IF(INT(A!$A$3:$A$10000)=$A68,A!#REF!))","v":0},{"$f":"MIN(IF(INT(A!$A$3:$A$10000)=$A68,A!#REF!))","v":0},{"$f":"MAX(IF(INT(A!$A$3:$A$10000)=$A68,A!#REF!))","v":0},{"$f":"MIN(IF(INT(A!$A$3:$A$10000)=$A68,A!#REF!))","v":0},{"$f":"MAX(IF(INT(B!$A$3:$A$10000)=$A68,B!#REF!))","v":{"$error":"#REF!"}},{"$f":"MIN(IF(INT(B!$A$3:$A$10000)=$A68,B!#REF!))","v":{"$error":"#REF!"}},{"$f":"MAX(IF(INT(B!$A$3:$A$10000)=$A68,B!#REF!))","v":{"$error":"#REF!"}},{"$f":"MIN(IF(INT(B!$A$3:$A$10000)=$A68,B!#REF!))","v":{"$error":"#REF!"}},null,null,null,null,null,null,null,null,{"$f":"MAX(IF(INT(#REF!)=A68,#REF!))","v":{"$error":"#REF!"}},{"$f":"MIN(IF(INT(#REF!)=$A68,#REF!))","v":{"$error":"#REF!"}},{"$f":"MAX(IF(INT(#REF!)=$A68,#REF!))","v":{"$error":"#REF!"}},{"$f":"MAX(IF(INT(#REF!)=$A68,#REF!))","v":{"$error":"#REF!"}},null,null,null,null,{"$f":"MAX(IF(INT(#REF!)=$A68,#REF!))","v":{"$error":"#REF!"}},{"$f":"MAX(IF(INT(#REF!)=$A68,#REF!))","v":{"$error":"#REF!"}},{"$f":"MAX(IF(INT(#REF!)=$A68,#REF!))","v":{"$error":"#REF!"}},{"$f":"MAX(IF(INT(#REF!)=$A68,#REF!))","v":{"$error":"#REF!"}},{"$f":"MAX(IF(INT(#REF!)=$A68,#REF!))","v":{"$error":"#REF!"}},{"$f":"MAX(IF(INT(#REF!)=$A68,#REF!))","v":{"$error":"#REF!"}},{"$f":"MAX(IF(INT(#REF!)=$A68,#REF!))","v":{"$error":"#REF!"}},{"$f":"MAX(IF(INT(#REF!)=$A68,#REF!))","v":{"$error":"#REF!"}}]
["2023-01-27",null,null,null,null,{"$f":"MAX(IF(INT(A!$A$3:$A$10000)=$A69,A!#REF!))","v":0},{"$f":"MIN(IF(INT(A!$A$3:$A$10000)=$A69,A!#REF!))","v":0},{"$f":"MAX(IF(INT(A!$A$3:$A$10000)=$A69,A!#REF!))","v":0},{"$f":"MIN(IF(INT(A!$A$3:$A$10000)=$A69,A!#REF!))","v":0},{"$f":"MAX(IF(INT(B!$A$3:$A$10000)=$A69,B!#REF!))","v":{"$error":"#REF!"}},{"$f":"MIN(IF(INT(B!$A$3:$A$10000)=$A69,B!#REF!))","v":{"$error":"#REF!"}},{"$f":"MAX(IF(INT(B!$A$3:$A$10000)=$A69,B!#REF!))","v":{"$error":"#REF!"}},{"$f":"MIN(IF(INT(B!$A$3:$A$10000)=$A69,B!#REF!))","v":{"$error":"#REF!"}},null,null,null,null,null,null,null,null,{"$f":"MAX(IF(INT(#REF!)=A69,#REF!))","v":{"$error":"#REF!"}},{"$f":"MIN(IF(INT(#REF!)=$A69,#REF!))","v":{"$error":"#REF!"}},{"$f":"MAX(IF(INT(#REF!)=$A69,#REF!))","v":{"$error":"#REF!"}},{"$f":"MAX(IF(INT(#REF!)=$A69,#REF!))","v":{"$error":"#REF!"}},null,null,null,null,{"$f":"MAX(IF(INT(#REF!)=$A69,#REF!))","v":{"$error":"#REF!"}},{"$f":"MAX(IF(INT(#REF!)=$A69,#REF!))","v":{"$error":"#REF!"}},{"$f":"MAX(IF(INT(#REF!)=$A69,#REF!))","v":{"$error":"#REF!"}},{"$f":"MAX(IF(INT(#REF!)=$A69,#REF!))","v":{"$error":"#REF!"}},{"$f":"MAX(IF(INT(#REF!)=$A69,#REF!))","v":{"$error":"#REF!"}},{"$f":"MAX(IF(INT(#REF!)=$A69,#REF!))","v":{"$error":"#REF!"}},{"$f":"MAX(IF(INT(#REF!)=$A69,#REF!))","v":{"$error":"#REF!"}},{"$f":"MAX(IF(INT(#REF!)=$A69,#REF!))","v":{"$error":"#REF!"}}]
["2023-01-26",null,null,null,null,{"$f":"MAX(IF(INT(A!$A$3:$A$10000)=$A70,A!#REF!))","v":0},{"$f":"MIN(IF(INT(A!$A$3:$A$10000)=$A70,A!#REF!))","v":0},{"$f":"MAX(IF(INT(A!$A$3:$A$10000)=$A70,A!#REF!))","v":0},{"$f":"MIN(IF(INT(A!$A$3:$A$10000)=$A70,A!#REF!))","v":0},{"$f":"MAX(IF(INT(B!$A$3:$A$10000)=$A70,B!#REF!))","v":{"$error":"#REF!"}},{"$f":"MIN(IF(INT(B!$A$3:$A$10000)=$A70,B!#REF!))","v":{"$error":"#REF!"}},{"$f":"MAX(IF(INT(B!$A$3:$A$10000)=$A70,B!#REF!))","v":{"$error":"#REF!"}},{"$f":"MIN(IF(INT(B!$A$3:$A$10000)=$A70,B!#REF!))","v":{"$error":"#REF!"}},null,null,null,null,null,null,null,null,{"$f":"MAX(IF(INT(#REF!)=A70,#REF!))","v":{"$error":"#REF!"}},{"$f":"MIN(IF(INT(#REF!)=$A70,#REF!))","v":{"$error":"#REF!"}},{"$f":"MAX(IF(INT(#REF!)=$A70,#REF!))","v":{"$error":"#REF!"}},{"$f":"MAX(IF(INT(#REF!)=$A70,#REF!))","v":{"$error":"#REF!"}},null,null,null,null,{"$f":"MAX(IF(INT(#REF!)=$A70,#REF!))","v":{"$error":"#REF!"}},{"$f":"MAX(IF(INT(#REF!)=$A70,#REF!))","v":{"$error":"#REF!"}},{"$f":"MAX(IF(INT(#REF!)=$A70,#REF!))","v":{"$error":"#REF!"}},{"$f":"MAX(IF(INT(#REF!)=$A70,#REF!))","v":{"$error":"#REF!"}},{"$f":"MAX(IF(INT(#REF!)=$A70,#REF!))","v":{"$error":"#REF!"}},{"$f":"MAX(IF(INT(#REF!)=$A70,#REF!))","v":{"$error":"#REF!"}},{"$f":"MAX(IF(INT(#REF!)=$A70,#REF!))","v":{"$error":"#REF!"}},{"$f":"MAX(IF(INT(#REF!)=$A70,#REF!))","v":{"$error":"#REF!"}}]
["2023-01-25",null,null,null,null,{"$f":"MAX(IF(INT(A!$A$3:$A$10000)=$A71,A!#REF!))","v":0},{"$f":"MIN(IF(INT(A!$A$3:$A$10000)=$A71,A!#REF!))","v":0},{"$f":"MAX(IF(INT(A!$A$3:$A$10000)=$A71,A!#REF!))","v":0},{"$f":"MIN(IF(INT(A!$A$3:$A$10000)=$A71,A!#REF!))","v":0},{"$f":"MAX(IF(INT(B!$A$3:$A$10000)=$A71,B!#REF!))","v":{"$error":"#REF!"}},{"$f":"MIN(IF(INT(B!$A$3:$A$10000)=$A71,B!#REF!))","v":{"$error":"#REF!"}},{"$f":"MAX(IF(INT(B!$A$3:$A$10000)=$A71,B!#REF!))","v":{"$error":"#REF!"}},{"$f":"MIN(IF(INT(B!$A$3:$A$10000)=$A71,B!#REF!))","v":{"$error":"#REF!"}},null,null,null,null,null,null,null,null,{"$f":"MAX(IF(INT(#REF!)=A71,#REF!))","v":{"$error":"#REF!"}},{"$f":"MIN(IF(INT(#REF!)=$A71,#REF!))","v":{"$error":"#REF!"}},{"$f":"MAX(IF(INT(#REF!)=$A71,#REF!))","v":{"$error":"#REF!"}},{"$f":"MAX(IF(INT(#REF!)=$A71,#REF!))","v":{"$error":"#REF!"}},null,null,null,null,{"$f":"MAX(IF(INT(#REF!)=$A71,#REF!))","v":{"$error":"#REF!"}},{"$f":"MAX(IF(INT(#REF!)=$A71,#REF!))","v":{"$error":"#REF!"}},{"$f":"MAX(IF(INT(#REF!)=$A71,#REF!))","v":{"$error":"#REF!"}},{"$f":"MAX(IF(INT(#REF!)=$A71,#REF!))","v":{"$error":"#REF!"}},{"$f":"MAX(IF(INT(#REF!)=$A71,#REF!))","v":{"$error":"#REF!"}},{"$f":"MAX(IF(INT(#REF!)=$A71,#REF!))","v":{"$error":"#REF!"}},{"$f":"MAX(IF(INT(#REF!)=$A71,#REF!))","v":{"$error":"#REF!"}},{"$f":"MAX(IF(INT(#REF!)=$A71,#REF!))","v":{"$error":"#REF!"}}]
["2023-01-24",null,null,null,null,{"$f":"MAX(IF(INT(A!$A$3:$A$10000)=$A72,A!#REF!))","v":0},{"$f":"MIN(IF(INT(A!$A$3:$A$10000)=$A72,A!#REF!))","v":0},{"$f":"MAX(IF(INT(A!$A$3:$A$10000)=$A72,A!#REF!))","v":0},{"$f":"MIN(IF(INT(A!$A$3:$A$10000)=$A72,A!#REF!))","v":0},{"$f":"MAX(IF(INT(B!$A$3:$A$10000)=$A72,B!#REF!))","v":{"$error":"#REF!"}},{"$f":"MIN(IF(INT(B!$A$3:$A$10000)=$A72,B!#REF!))","v":{"$error":"#REF!"}},{"$f":"MAX(IF(INT(B!$A$3:$A$10000)=$A72,B!#REF!))","v":{"$error":"#REF!"}},{"$f":"MIN(IF(INT(B!$A$3:$A$10000)=$A72,B!#REF!))","v":{"$error":"#REF!"}},null,null,null,null,null,null,null,null,{"$f":"MAX(IF(INT(#REF!)=A72,#REF!))","v":{"$error":"#REF!"}},{"$f":"MIN(IF(INT(#REF!)=$A72,#REF!))","v":{"$error":"#REF!"}},{"$f":"MAX(IF(INT(#REF!)=$A72,#REF!))","v":{"$error":"#REF!"}},{"$f":"MAX(IF(INT(#REF!)=$A72,#REF!))","v":{"$error":"#REF!"}},null,null,null,null,{"$f":"MAX(IF(INT(#REF!)=$A72,#REF!))","v":{"$error":"#REF!"}},{"$f":"MAX(IF(INT(#REF!)=$A72,#REF!))","v":{"$error":"#REF!"}},{"$f":"MAX(IF(INT(#REF!)=$A72,#REF!))","v":{"$error":"#REF!"}},{"$f":"MAX(IF(INT(#REF!)=$A72,#REF!))","v":{"$error":"#REF!"}},{"$f":"MAX(IF(INT(#REF!)=$A72,#REF!))","v":{"$error":"#REF!"}},{"$f":"MAX(IF(INT(#REF!)=$A72,#REF!))","v":{"$error":"#REF!"}},{"$f":"MAX(IF(INT(#REF!)=$A72,#REF!))","v":{"$error":"#REF!"}},{"$f":"MAX(IF(INT(#REF!)=$A72,#REF!))","v":{"$error":"#REF!"}}]
["2023-01-23",null,null,null,null,{"$f":"MAX(IF(INT(A!$A$3:$A$10000)=$A73,A!#REF!))","v":0},{"$f":"MIN(IF(INT(A!$A$3:$A$10000)=$A73,A!#REF!))","v":0},{"$f":"MAX(IF(INT(A!$A$3:$A$10000)=$A73,A!#REF!))","v":0},{"$f":"MIN(IF(INT(A!$A$3:$A$10000)=$A73,A!#REF!))","v":0},{"$f":"MAX(IF(INT(B!$A$3:$A$10000)=$A73,B!#REF!))","v":{"$error":"#REF!"}},{"$f":"MIN(IF(INT(B!$A$3:$A$10000)=$A73,B!#REF!))","v":{"$error":"#REF!"}},{"$f":"MAX(IF(INT(B!$A$3:$A$10000)=$A73,B!#REF!))","v":{"$error":"#REF!"}},{"$f":"MIN(IF(INT(B!$A$3:$A$10000)=$A73,B!#REF!))","v":{"$error":"#REF!"}},null,null,null,null,null,null,null,null,{"$f":"MAX(IF(INT(#REF!)=A73,#REF!))","v":{"$error":"#REF!"}},{"$f":"MIN(IF(INT(#REF!)=$A73,#REF!))","v":{"$error":"#REF!"}},{"$f":"MAX(IF(INT(#REF!)=$A73,#REF!))","v":{"$error":"#REF!"}},{"$f":"MAX(IF(INT(#REF!)=$A73,#REF!))","v":{"$error":"#REF!"}},null,null,null,null,{"$f":"MAX(IF(INT(#REF!)=$A73,#REF!))","v":{"$error":"#REF!"}},{"$f":"MAX(IF(INT(#REF!)=$A73,#REF!))","v":{"$error":"#REF!"}},{"$f":"MAX(IF(INT(#REF!)=$A73,#REF!))","v":{"$error":"#REF!"}},{"$f":"MAX(IF(INT(#REF!)=$A73,#REF!))","v":{"$error":"#REF!"}},{"$f":"MAX(IF(INT(#REF!)=$A73,#REF!))","v":{"$error":"#REF!"}},{"$f":"MAX(IF(INT(#REF!)=$A73,#REF!))","v":{"$error":"#REF!"}},{"$f":"MAX(IF(INT(#REF!)=$A73,#REF!))","v":{"$error":"#REF!"}},{"$f":"MAX(IF(INT(#REF!)=$A73,#REF!))","v":{"$error":"#REF!"}}]
["2023-01-22",null,null,null,null,{"$f":"MAX(IF(INT(A!$A$3:$A$10000)=$A74,A!#REF!))","v":{"$error":"#REF!"}},{"$f":"MIN(IF(INT(A!$A$3:$A$10000)=$A74,A!#REF!))","v":{"$error":"#REF!"}},{"$f":"MAX(IF(INT(A!$A$3:$A$10000)=$A74,A!#REF!))","v":{"$error":"#REF!"}},{"$f":"MIN(IF(INT(A!$A$3:$A$10000)=$A74,A!#REF!))","v":{"$error":"#REF!"}},{"$f":"MAX(IF(INT(B!$A$3:$A$10000)=$A74,B!#REF!))","v":{"$error":"#REF!"}},{"$f":"MIN(IF(INT(B!$A$3:$A$10000)=$A74,B!#REF!))","v":{"$error":"#REF!"}},{"$f":"MAX(IF(INT(B!$A$3:$A$10000)=$A74,B!#REF!))","v":{"$error":"#REF!"}},{"$f":"MIN(IF(INT(B!$A$3:$A$10000)=$A74,B!#REF!))","v":{"$error":"#REF!"}},null,null,null,null,null,null,null,null,{"$f":"MAX(IF(INT(#REF!)=A74,#REF!))","v":{"$error":"#REF!"}},{"$f":"MIN(IF(INT(#REF!)=$A74,#REF!))","v":{"$error":"#REF!"}},{"$f":"MAX(IF(INT(#REF!)=$A74,#REF!))","v":{"$error":"#REF!"}},{"$f":"MAX(IF(INT(#REF!)=$A74,#REF!))","v":{"$error":"#REF!"}},null,null,null,null,{"$f":"MAX(IF(INT(#REF!)=$A74,#REF!))","v":{"$error":"#REF!"}},{"$f":"MAX(IF(INT(#REF!)=$A74,#REF!))","v":{"$error":"#REF!"}},{"$f":"MAX(IF(INT(#REF!)=$A74,#REF!))","v":{"$error":"#REF!"}},{"$f":"MAX(IF(INT(#REF!)=$A74,#REF!))","v":{"$error":"#REF!"}},{"$f":"MAX(IF(INT(#REF!)=$A74,#REF!))","v":{"$error":"#REF!"}},{"$f":"MAX(IF(INT(#REF!)=$A74,#REF!))","v":{"$error":"#REF!"}},{"$f":"MAX(IF(INT(#REF!)=$A74,#REF!))","v":{"$error":"#REF!"}},{"$f":"MAX(IF(INT(#REF!)=$A74,#REF!))","v":{"$error":"#REF!"}}]
["2023-01-21",null,null,null,null,{"$f":"MAX(IF(INT(A!$A$3:$A$10000)=$A75,A!#REF!))","v":0},{"$f":"MIN(IF(INT(A!$A$3:$A$10000)=$A75,A!#REF!))","v":0},{"$f":"MAX(IF(INT(A!$A$3:$A$10000)=$A75,A!#REF!))","v":0},{"$f":"MIN(IF(INT(A!$A$3:$A$10000)=$A75,A!#REF!))","v":0},{"$f":"MAX(IF(INT(B!$A$3:$A$10000)=$A75,B!#REF!))","v":{"$error":"#REF!"}},{"$f":"MIN(IF(INT(B!$A$3:$A$10000)=$A75,B!#REF!))","v":{"$error":"#REF!"}},{"$f":"MAX(IF(INT(B!$A$3:$A$10000)=$A75,B!#REF!))","v":{"$error":"#REF!"}},{"$f":"MIN(IF(INT(B!$A$3:$A$10000)=$A75,B!#REF!))","v":{"$error":"#REF!"}},null,null,null,null,null,null,null,null,{"$f":"MAX(IF(INT(#REF!)=A75,#REF!))","v":{"$error":"#REF!"}},{"$f":"MIN(IF(INT(#REF!)=$A75,#REF!))","v":{"$error":"#REF!"}},{"$f":"MAX(IF(INT(#REF!)=$A75,#REF!))","v":{"$error":"#REF!"}},{"$f":"MAX(IF(INT(#REF!)=$A75,#REF!))","v":{"$error":"#REF!"}},null,null,null,null,{"$f":"MAX(IF(INT(#REF!)=$A75,#REF!))","v":{"$error":"#REF!"}},{"$f":"MAX(IF(INT(#REF!)=$A75,#REF!))","v":{"$error":"#REF!"}},{"$f":"MAX(IF(INT(#REF!)=$A75,#REF!))","v":{"$error":"#REF!"}},{"$f":"MAX(IF(INT(#REF!)=$A75,#REF!))","v":{"$error":"#REF!"}},{"$f":"MAX(IF(INT(#REF!)=$A75,#REF!))","v":{"$error":"#REF!"}},{"$f":"MAX(IF(INT(#REF!)=$A75,#REF!))","v":{"$error":"#REF!"}},{"$f":"MAX(IF(INT(#REF!)=$A75,#REF!))","v":{"$error":"#REF!"}},{"$f":"MAX(IF(INT(#REF!)=$A75,#REF!))","v":{"$error":"#REF!"}}]
["2023-01-20",null,null,null,null,{"$f":"MAX(IF(INT(A!$A$3:$A$10000)=$A76,A!#REF!))","v":0},{"$f":"MIN(IF(INT(A!$A$3:$A$10000)=$A76,A!#REF!))","v":0},{"$f":"MAX(IF(INT(A!$A$3:$A$10000)=$A76,A!#REF!))","v":0},{"$f":"MIN(IF(INT(A!$A$3:$A$10000)=$A76,A!#REF!))","v":0},{"$f":"MAX(IF(INT(B!$A$3:$A$10000)=$A76,B!#REF!))","v":{"$error":"#REF!"}},{"$f":"MIN(IF(INT(B!$A$3:$A$10000)=$A76,B!#REF!))","v":{"$error":"#REF!"}},{"$f":"MAX(IF(INT(B!$A$3:$A$10000)=$A76,B!#REF!))","v":{"$error":"#REF!"}},{"$f":"MIN(IF(INT(B!$A$3:$A$10000)=$A76,B!#REF!))","v":{"$error":"#REF!"}},null,null,null,null,null,null,null,null,{"$f":"MAX(IF(INT(#REF!)=A76,#REF!))","v":{"$error":"#REF!"}},{"$f":"MIN(IF(INT(#REF!)=$A76,#REF!))","v":{"$error":"#REF!"}},{"$f":"MAX(IF(INT(#REF!)=$A76,#REF!))","v":{"$error":"#REF!"}},{"$f":"MAX(IF(INT(#REF!)=$A76,#REF!))","v":{"$error":"#REF!"}},null,null,null,null,{"$f":"MAX(IF(INT(#REF!)=$A76,#REF!))","v":{"$error":"#REF!"}},{"$f":"MAX(IF(INT(#REF!)=$A76,#REF!))","v":{"$error":"#REF!"}},{"$f":"MAX(IF(INT(#REF!)=$A76,#REF!))","v":{"$error":"#REF!"}},{"$f":"MAX(IF(INT(#REF!)=$A76,#REF!))","v":{"$error":"#REF!"}},{"$f":"MAX(IF(INT(#REF!)=$A76,#REF!))","v":{"$error":"#REF!"}},{"$f":"MAX(IF(INT(#REF!)=$A76,#REF!))","v":{"$error":"#REF!"}},{"$f":"MAX(IF(INT(#REF!)=$A76,#REF!))","v":{"$error":"#REF!"}},{"$f":"MAX(IF(INT(#REF!)=$A76,#REF!))","v":{"$error":"#REF!"}}]
["2023-01-19",null,null,null,null,{"$f":"MAX(IF(INT(A!$A$3:$A$10000)=$A77,A!#REF!))","v":0},{"$f":"MIN(IF(INT(A!$A$3:$A$10000)=$A77,A!#REF!))","v":0},{"$f":"MAX(IF(INT(A!$A$3:$A$10000)=$A77,A!#REF!))","v":0},{"$f":"MIN(IF(INT(A!$A$3:$A$10000)=$A77,A!#REF!))","v":0},{"$f":"MAX(IF(INT(B!$A$3:$A$10000)=$A77,B!#REF!))","v":{"$error":"#REF!"}},{"$f":"MIN(IF(INT(B!$A$3:$A$10000)=$A77,B!#REF!))","v":{"$error":"#REF!"}},{"$f":"MAX(IF(INT(B!$A$3:$A$10000)=$A77,B!#REF!))","v":{"$error":"#REF!"}},{"$f":"MIN(IF(INT(B!$A$3:$A$10000)=$A77,B!#REF!))","v":{"$error":"#REF!"}},null,null,null,null,null,null,null,null,{"$f":"MAX(IF(INT(#REF!)=A77,#REF!))","v":{"$error":"#REF!"}},{"$f":"MIN(IF(INT(#REF!)=$A77,#REF!))","v":{"$error":"#REF!"}},{"$f":"MAX(IF(INT(#REF!)=$A77,#REF!))","v":{"$error":"#REF!"}},{"$f":"MAX(IF(INT(#REF!)=$A77,#REF!))","v":{"$error":"#REF!"}},null,null,null,null,{"$f":"MAX(IF(INT(#REF!)=$A77,#REF!))","v":{"$error":"#REF!"}},{"$f":"MAX(IF(INT(#REF!)=$A77,#REF!))","v":{"$error":"#REF!"}},{"$f":"MAX(IF(INT(#REF!)=$A77,#REF!))","v":{"$error":"#REF!"}},{"$f":"MAX(IF(INT(#REF!)=$A77,#REF!))","v":{"$error":"#REF!"}},{"$f":"MAX(IF(INT(#REF!)=$A77,#REF!))","v":{"$error":"#REF!"}},{"$f":"MAX(IF(INT(#REF!)=$A77,#REF!))","v":{"$error":"#REF!"}},{"$f":"MAX(IF(INT(#REF!)=$A77,#REF!))","v":{"$error":"#REF!"}},{"$f":"MAX(IF(INT(#REF!)=$A77,#REF!))","v":{"$error":"#REF!"}}]
["2023-01-18",null,null,null,null,{"$f":"MAX(IF(INT(A!$A$3:$A$10000)=$A78,A!#REF!))","v":0},{"$f":"MIN(IF(INT(A!$A$3:$A$10000)=$A78,A!#REF!))","v":0},{"$f":"MAX(IF(INT(A!$A$3:$A$10000)=$A78,A!#REF!))","v":0},{"$f":"MIN(IF(INT(A!$A$3:$A$10000)=$A78,A!#REF!))","v":0},{"$f":"MAX(IF(INT(B!$A$3:$A$10000)=$A78,B!#REF!))","v":{"$error":"#REF!"}},{"$f":"MIN(IF(INT(B!$A$3:$A$10000)=$A78,B!#REF!))","v":{"$error":"#REF!"}},{"$f":"MAX(IF(INT(B!$A$3:$A$10000)=$A78,B!#REF!))","v":{"$error":"#REF!"}},{"$f":"MIN(IF(INT(B!$A$3:$A$10000)=$A78,B!#REF!))","v":{"$error":"#REF!"}},null,null,null,null,null,null,null,null,{"$f":"MAX(IF(INT(#REF!)=A78,#REF!))","v":{"$error":"#REF!"}},{"$f":"MIN(IF(INT(#REF!)=$A78,#REF!))","v":{"$error":"#REF!"}},{"$f":"MAX(IF(INT(#REF!)=$A78,#REF!))","v":{"$error":"#REF!"}},{"$f":"MAX(IF(INT(#REF!)=$A78,#REF!))","v":{"$error":"#REF!"}},null,null,null,null,{"$f":"MAX(IF(INT(#REF!)=$A78,#REF!))","v":{"$error":"#REF!"}},{"$f":"MAX(IF(INT(#REF!)=$A78,#REF!))","v":{"$error":"#REF!"}},{"$f":"MAX(IF(INT(#REF!)=$A78,#REF!))","v":{"$error":"#REF!"}},{"$f":"MAX(IF(INT(#REF!)=$A78,#REF!))","v":{"$error":"#REF!"}},{"$f":"MAX(IF(INT(#REF!)=$A78,#REF!))","v":{"$error":"#REF!"}},{"$f":"MAX(IF(INT(#REF!)=$A78,#REF!))","v":{"$error":"#REF!"}},{"$f":"MAX(IF(INT(#REF!)=$A78,#REF!))","v":{"$error":"#REF!"}},{"$f":"MAX(IF(INT(#REF!)=$A78,#REF!))","v":{"$error":"#REF!"}}]
["2023-01-17",null,null,null,null,{"$f":"MAX(IF(INT(A!$A$3:$A$10000)=$A79,A!#REF!))","v":0},{"$f":"MIN(IF(INT(A!$A$3:$A$10000)=$A79,A!#REF!))","v":0},{"$f":"MAX(IF(INT(A!$A$3:$A$10000)=$A79,A!#REF!))","v":0},{"$f":"MIN(IF(INT(A!$A$3:$A$10000)=$A79,A!#REF!))","v":0},{"$f":"MAX(IF(INT(B!$A$3:$A$10000)=$A79,B!#REF!))","v":{"$error":"#REF!"}},{"$f":"MIN(IF(INT(B!$A$3:$A$10000)=$A79,B!#REF!))","v":{"$error":"#REF!"}},{"$f":"MAX(IF(INT(B!$A$3:$A$10000)=$A79,B!#REF!))","v":{"$error":"#REF!"}},{"$f":"MIN(IF(INT(B!$A$3:$A$10000)=$A79,B!#REF!))","v":{"$error":"#REF!"}},null,null,null,null,null,null,null,null,{"$f":"MAX(IF(INT(#REF!)=A79,#REF!))","v":{"$error":"#REF!"}},{"$f":"MIN(IF(INT(#REF!)=$A79,#REF!))","v":{"$error":"#REF!"}},{"$f":"MAX(IF(INT(#REF!)=$A79,#REF!))","v":{"$error":"#REF!"}},{"$f":"MAX(IF(INT(#REF!)=$A79,#REF!))","v":{"$error":"#REF!"}},null,null,null,null,{"$f":"MAX(IF(INT(#REF!)=$A79,#REF!))","v":{"$error":"#REF!"}},{"$f":"MAX(IF(INT(#REF!)=$A79,#REF!))","v":{"$error":"#REF!"}},{"$f":"MAX(IF(INT(#REF!)=$A79,#REF!))","v":{"$error":"#REF!"}},{"$f":"MAX(IF(INT(#REF!)=$A79,#REF!))","v":{"$error":"#REF!"}},{"$f":"MAX(IF(INT(#REF!)=$A79,#REF!))","v":{"$error":"#REF!"}},{"$f":"MAX(IF(INT(#REF!)=$A79,#REF!))","v":{"$error":"#REF!"}},{"$f":"MAX(IF(INT(#REF!)=$A79,#REF!))","v":{"$error":"#REF!"}},{"$f":"MAX(IF(INT(#REF!)=$A79,#REF!))","v":{"$error":"#REF!"}}]
["2023-01-16",null,null,null,null,{"$f":"MAX(IF(INT(A!$A$3:$A$10000)=$A80,A!#REF!))","v":0},{"$f":"MIN(IF(INT(A!$A$3:$A$10000)=$A80,A!#REF!))","v":0},{"$f":"MAX(IF(INT(A!$A$3:$A$10000)=$A80,A!#REF!))","v":0},{"$f":"MIN(IF(INT(A!$A$3:$A$10000)=$A80,A!#REF!))","v":0},{"$f":"MAX(IF(INT(B!$A$3:$A$10000)=$A80,B!#REF!))","v":{"$error":"#REF!"}},{"$f":"MIN(IF(INT(B!$A$3:$A$10000)=$A80,B!#REF!))","v":{"$error":"#REF!"}},{"$f":"MAX(IF(INT(B!$A$3:$A$10000)=$A80,B!#REF!))","v":{"$error":"#REF!"}},{"$f":"MIN(IF(INT(B!$A$3:$A$10000)=$A80,B!#REF!))","v":{"$error":"#REF!"}},null,null,null,null,null,null,null,null,{"$f":"MAX(IF(INT(#REF!)=A80,#REF!))","v":{"$error":"#REF!"}},{"$f":"MIN(IF(INT(#REF!)=$A80,#REF!))","v":{"$error":"#REF!"}},{"$f":"MAX(IF(INT(#REF!)=$A80,#REF!))","v":{"$error":"#REF!"}},{"$f":"MAX(IF(INT(#REF!)=$A80,#REF!))","v":{"$error":"#REF!"}},null,null,null,null,{"$f":"MAX(IF(INT(#REF!)=$A80,#REF!))","v":{"$error":"#REF!"}},{"$f":"MAX(IF(INT(#REF!)=$A80,#REF!))","v":{"$error":"#REF!"}},{"$f":"MAX(IF(INT(#REF!)=$A80,#REF!))","v":{"$error":"#REF!"}},{"$f":"MAX(IF(INT(#REF!)=$A80,#REF!))","v":{"$error":"#REF!"}},{"$f":"MAX(IF(INT(#REF!)=$A80,#REF!))","v":{"$error":"#REF!"}},{"$f":"MAX(IF(INT(#REF!)=$A80,#REF!))","v":{"$error":"#REF!"}},{"$f":"MAX(IF(INT(#REF!)=$A80,#REF!))","v":{"$error":"#REF!"}},{"$f":"MAX(IF(INT(#REF!)=$A80,#REF!))","v":{"$error":"#REF!"}}]
["2023-01-15",null,null,null,null,{"$f":"MAX(IF(INT(A!$A$3:$A$10000)=$A81,A!#REF!))","v":{"$error":"#REF!"}},{"$f":"MIN(IF(INT(A!$A$3:$A$10000)=$A81,A!#REF!))","v":{"$error":"#REF!"}},{"$f":"MAX(IF(INT(A!$A$3:$A$10000)=$A81,A!#REF!))","v":{"$error":"#REF!"}},{"$f":"MIN(IF(INT(A!$A$3:$A$10000)=$A81,A!#REF!))","v":{"$error":"#REF!"}},{"$f":"MAX(IF(INT(B!$A$3:$A$10000)=$A81,B!#REF!))","v":{"$error":"#REF!"}},{"$f":"MIN(IF(INT(B!$A$3:$A$10000)=$A81,B!#REF!))","v":{"$error":"#REF!"}},{"$f":"MAX(IF(INT(B!$A$3:$A$10000)=$A81,B!#REF!))","v":{"$error":"#REF!"}},{"$f":"MIN(IF(INT(B!$A$3:$A$10000)=$A81,B!#REF!))","v":{"$error":"#REF!"}},null,null,null,null,null,null,null,null,{"$f":"MAX(IF(INT(#REF!)=A81,#REF!))","v":{"$error":"#REF!"}},{"$f":"MIN(IF(INT(#REF!)=$A81,#REF!))","v":{"$error":"#REF!"}},{"$f":"MAX(IF(INT(#REF!)=$A81,#REF!))","v":{"$error":"#REF!"}},{"$f":"MAX(IF(INT(#REF!)=$A81,#REF!))","v":{"$error":"#REF!"}},null,null,null,null,{"$f":"MAX(IF(INT(#REF!)=$A81,#REF!))","v":{"$error":"#REF!"}},{"$f":"MAX(IF(INT(#REF!)=$A81,#REF!))","v":{"$error":"#REF!"}},{"$f":"MAX(IF(INT(#REF!)=$A81,#REF!))","v":{"$error":"#REF!"}},{"$f":"MAX(IF(INT(#REF!)=$A81,#REF!))","v":{"$error":"#REF!"}},{"$f":"MAX(IF(INT(#REF!)=$A81,#REF!))","v":{"$error":"#REF!"}},{"$f":"MAX(IF(INT(#REF!)=$A81,#REF!))","v":{"$error":"#REF!"}},{"$f":"MAX(IF(INT(#REF!)=$A81,#REF!))","v":{"$error":"#REF!"}},{"$f":"MAX(IF(INT(#REF!)=$A81,#REF!))","v":{"$error":"#REF!"}}]
["2023-01-14",null,null,null,null,{"$f":"MAX(IF(INT(A!$A$3:$A$10000)=$A82,A!#REF!))","v":0},{"$f":"MIN(IF(INT(A!$A$3:$A$10000)=$A82,A!#REF!))","v":0},{"$f":"MAX(IF(INT(A!$A$3:$A$10000)=$A82,A!#REF!))","v":0},{"$f":"MIN(IF(INT(A!$A$3:$A$10000)=$A82,A!#REF!))","v":0},{"$f":"MAX(IF(INT(B!$A$3:$A$10000)=$A82,B!#REF!))","v":{"$error":"#REF!"}},{"$f":"MIN(IF(INT(B!$A$3:$A$10000)=$A82,B!#REF!))","v":{"$error":"#REF!"}},{"$f":"MAX(IF(INT(B!$A$3:$A$10000)=$A82,B!#REF!))","v":{"$error":"#REF!"}},{"$f":"MIN(IF(INT(B!$A$3:$A$10000)=$A82,B!#REF!))","v":{"$error":"#REF!"}},null,null,null,null,null,null,null,null,{"$f":"MAX(IF(INT(#REF!)=A82,#REF!))","v":{"$error":"#REF!"}},{"$f":"MIN(IF(INT(#REF!)=$A82,#REF!))","v":{"$error":"#REF!"}},{"$f":"MAX(IF(INT(#REF!)=$A82,#REF!))","v":{"$error":"#REF!"}},{"$f":"MAX(IF(INT(#REF!)=$A82,#REF!))","v":{"$error":"#REF!"}},null,null,null,null,{"$f":"MAX(IF(INT(#REF!)=$A82,#REF!))","v":{"$error":"#REF!"}},{"$f":"MAX(IF(INT(#REF!)=$A82,#REF!))","v":{"$error":"#REF!"}},{"$f":"MAX(IF(INT(#REF!)=$A82,#REF!))","v":{"$error":"#REF!"}},{"$f":"MAX(IF(INT(#REF!)=$A82,#REF!))","v":{"$error":"#REF!"}},{"$f":"MAX(IF(INT(#REF!)=$A82,#REF!))","v":{"$error":"#REF!"}},{"$f":"MAX(IF(INT(#REF!)=$A82,#REF!))","v":{"$error":"#REF!"}},{"$f":"MAX(IF(INT(#REF!)=$A82,#REF!))","v":{"$error":"#REF!"}},{"$f":"MAX(IF(INT(#REF!)=$A82,#REF!))","v":{"$error":"#REF!"}}]
["2023-01-13",null,null,null,null,{"$f":"MAX(IF(INT(A!$A$3:$A$10000)=$A83,A!#REF!))","v":0},{"$f":"MIN(IF(INT(A!$A$3:$A$10000)=$A83,A!#REF!))","v":0},{"$f":"MAX(IF(INT(A!$A$3:$A$10000)=$A83,A!#REF!))","v":0},{"$f":"MIN(IF(INT(A!$A$3:$A$10000)=$A83,A!#REF!))","v":0},{"$f":"MAX(IF(INT(B!$A$3:$A$10000)=$A83,B!#REF!))","v":{"$error":"#REF!"}},{"$f":"MIN(IF(INT(B!$A$3:$A$10000)=$A83,B!#REF!))","v":{"$error":"#REF!"}},{"$f":"MAX(IF(INT(B!$A$3:$A$10000)=$A83,B!#REF!))","v":{"$error":"#REF!"}},{"$f":"MIN(IF(INT(B!$A$3:$A$10000)=$A83,B!#REF!))","v":{"$error":"#REF!"}},null,null,null,null,null,null,null,null,{"$f":"MAX(IF(INT(#REF!)=A83,#REF!))","v":{"$error":"#REF!"}},{"$f":"MIN(IF(INT(#REF!)=$A83,#REF!))","v":{"$error":"#REF!"}},{"$f":"MAX(IF(INT(#REF!)=$A83,#REF!))","v":{"$error":"#REF!"}},{"$f":"MAX(IF(INT(#REF!)=$A83,#REF!))","v":{"$error":"#REF!"}},null,null,null,null,{"$f":"MAX(IF(INT(#REF!)=$A83,#REF!))","v":{"$error":"#REF!"}},{"$f":"MAX(IF(INT(#REF!)=$A83,#REF!))","v":{"$error":"#REF!"}},{"$f":"MAX(IF(INT(#REF!)=$A83,#REF!))","v":{"$error":"#REF!"}},{"$f":"MAX(IF(INT(#REF!)=$A83,#REF!))","v":{"$error":"#REF!"}},{"$f":"MAX(IF(INT(#REF!)=$A83,#REF!))","v":{"$error":"#REF!"}},{"$f":"MAX(IF(INT(#REF!)=$A83,#REF!))","v":{"$error":"#REF!"}},{"$f":"MAX(IF(INT(#REF!)=$A83,#REF!))","v":{"$error":"#REF!"}},{"$f":"MAX(IF(INT(#REF!)=$A83,#REF!))","v":{"$error":"#REF!"}}]
["2023-01-12",null,null,null,null,{"$f":"MAX(IF(INT(A!$A$3:$A$10000)=$A84,A!#REF!))","v":0},{"$f":"MIN(IF(INT(A!$A$3:$A$10000)=$A84,A!#REF!))","v":0},{"$f":"MAX(IF(INT(A!$A$3:$A$10000)=$A84,A!#REF!))","v":0},{"$f":"MIN(IF(INT(A!$A$3:$A$10000)=$A84,A!#REF!))","v":0},{"$f":"MAX(IF(INT(B!$A$3:$A$10000)=$A84,B!#REF!))","v":{"$error":"#REF!"}},{"$f":"MIN(IF(INT(B!$A$3:$A$10000)=$A84,B!#REF!))","v":{"$error":"#REF!"}},{"$f":"MAX(IF(INT(B!$A$3:$A$10000)=$A84,B!#REF!))","v":{"$error":"#REF!"}},{"$f":"MIN(IF(INT(B!$A$3:$A$10000)=$A84,B!#REF!))","v":{"$error":"#REF!"}},null,null,null,null,null,null,null,null,{"$f":"MAX(IF(INT(#REF!)=A84,#REF!))","v":{"$error":"#REF!"}},{"$f":"MIN(IF(INT(#REF!)=$A84,#REF!))","v":{"$error":"#REF!"}},{"$f":"MAX(IF(INT(#REF!)=$A84,#REF!))","v":{"$error":"#REF!"}},{"$f":"MAX(IF(INT(#REF!)=$A84,#REF!))","v":{"$error":"#REF!"}},null,null,null,null,{"$f":"MAX(IF(INT(#REF!)=$A84,#REF!))","v":{"$error":"#REF!"}},{"$f":"MAX(IF(INT(#REF!)=$A84,#REF!))","v":{"$error":"#REF!"}},{"$f":"MAX(IF(INT(#REF!)=$A84,#REF!))","v":{"$error":"#REF!"}},{"$f":"MAX(IF(INT(#REF!)=$A84,#REF!))","v":{"$error":"#REF!"}},{"$f":"MAX(IF(INT(#REF!)=$A84,#REF!))","v":{"$error":"#REF!"}},{"$f":"MAX(IF(INT(#REF!)=$A84,#REF!))","v":{"$error":"#REF!"}},{"$f":"MAX(IF(INT(#REF!)=$A84,#REF!))","v":{"$error":"#REF!"}},{"$f":"MAX(IF(INT(#REF!)=$A84,#REF!))","v":{"$error":"#REF!"}}]
["2023-01-11",null,null,null,null,{"$f":"MAX(IF(INT(A!$A$3:$A$10000)=$A85,A!#REF!))","v":0},{"$f":"MIN(IF(INT(A!$A$3:$A$10000)=$A85,A!#REF!))","v":0},{"$f":"MAX(IF(INT(A!$A$3:$A$10000)=$A85,A!#REF!))","v":0},{"$f":"MIN(IF(INT(A!$A$3:$A$10000)=$A85,A!#REF!))","v":0},{"$f":"MAX(IF(INT(B!$A$3:$A$10000)=$A85,B!#REF!))","v":{"$error":"#REF!"}},{"$f":"MIN(IF(INT(B!$A$3:$A$10000)=$A85,B!#REF!))","v":{"$error":"#REF!"}},{"$f":"MAX(IF(INT(B!$A$3:$A$10000)=$A85,B!#REF!))","v":{"$error":"#REF!"}},{"$f":"MIN(IF(INT(B!$A$3:$A$10000)=$A85,B!#REF!))","v":{"$error":"#REF!"}},null,null,null,null,null,null,null,null,{"$f":"MAX(IF(INT(#REF!)=A85,#REF!))","v":{"$error":"#REF!"}},{"$f":"MIN(IF(INT(#REF!)=$A85,#REF!))","v":{"$error":"#REF!"}},{"$f":"MAX(IF(INT(#REF!)=$A85,#REF!))","v":{"$error":"#REF!"}},{"$f":"MAX(IF(INT(#REF!)=$A85,#REF!))","v":{"$error":"#REF!"}},null,null,null,null,{"$f":"MAX(IF(INT(#REF!)=$A85,#REF!))","v":{"$error":"#REF!"}},{"$f":"MAX(IF(INT(#REF!)=$A85,#REF!))","v":{"$error":"#REF!"}},{"$f":"MAX(IF(INT(#REF!)=$A85,#REF!))","v":{"$error":"#REF!"}},{"$f":"MAX(IF(INT(#REF!)=$A85,#REF!))","v":{"$error":"#REF!"}},{"$f":"MAX(IF(INT(#REF!)=$A85,#REF!))","v":{"$error":"#REF!"}},{"$f":"MAX(IF(INT(#REF!)=$A85,#REF!))","v":{"$error":"#REF!"}},{"$f":"MAX(IF(INT(#REF!)=$A85,#REF!))","v":{"$error":"#REF!"}},{"$f":"MAX(IF(INT(#REF!)=$A85,#REF!))","v":{"$error":"#REF!"}}]
["2023-01-10",null,null,null,null,{"$f":"MAX(IF(INT(A!$A$3:$A$10000)=$A86,A!#REF!))","v":0},{"$f":"MIN(IF(INT(A!$A$3:$A$10000)=$A86,A!#REF!))","v":0},{"$f":"MAX(IF(INT(A!$A$3:$A$10000)=$A86,A!#REF!))","v":0},{"$f":"MIN(IF(INT(A!$A$3:$A$10000)=$A86,A!#REF!))","v":0},{"$f":"MAX(IF(INT(B!$A$3:$A$10000)=$A86,B!#REF!))","v":{"$error":"#REF!"}},{"$f":"MIN(IF(INT(B!$A$3:$A$10000)=$A86,B!#REF!))","v":{"$error":"#REF!"}},{"$f":"MAX(IF(INT(B!$A$3:$A$10000)=$A86,B!#REF!))","v":{"$error":"#REF!"}},{"$f":"MIN(IF(INT(B!$A$3:$A$10000)=$A86,B!#REF!))","v":{"$error":"#REF!"}},null,null,null,null,null,null,null,null,{"$f":"MAX(IF(INT(#REF!)=A86,#REF!))","v":{"$error":"#REF!"}},{"$f":"MIN(IF(INT(#REF!)=$A86,#REF!))","v":{"$error":"#REF!"}},{"$f":"MAX(IF(INT(#REF!)=$A86,#REF!))","v":{"$error":"#REF!"}},{"$f":"MAX(IF(INT(#REF!)=$A86,#REF!))","v":{"$error":"#REF!"}},null,null,null,null,{"$f":"MAX(IF(INT(#REF!)=$A86,#REF!))","v":{"$error":"#REF!"}},{"$f":"MAX(IF(INT(#REF!)=$A86,#REF!))","v":{"$error":"#REF!"}},{"$f":"MAX(IF(INT(#REF!)=$A86,#REF!))","v":{"$error":"#REF!"}},{"$f":"MAX(IF(INT(#REF!)=$A86,#REF!))","v":{"$error":"#REF!"}},{"$f":"MAX(IF(INT(#REF!)=$A86,#REF!))","v":{"$error":"#REF!"}},{"$f":"MAX(IF(INT(#REF!)=$A86,#REF!))","v":{"$error":"#REF!"}},{"$f":"MAX(IF(INT(#REF!)=$A86,#REF!))","v":{"$error":"#REF!"}},{"$f":"MAX(IF(INT(#REF!)=$A86,#REF!))","v":{"$error":"#REF!"}}]
["2023-01-09",null,null,null,null,{"$f":"MAX(IF(INT(A!$A$3:$A$10000)=$A87,A!#REF!))","v":0},{"$f":"MIN(IF(INT(A!$A$3:$A$10000)=$A87,A!#REF!))","v":0},{"$f":"MAX(IF(INT(A!$A$3:$A$10000)=$A87,A!#REF!))","v":0},{"$f":"MIN(IF(INT(A!$A$3:$A$10000)=$A87,A!#REF!))","v":0},{"$f":"MAX(IF(INT(B!$A$3:$A$10000)=$A87,B!#REF!))","v":{"$error":"#REF!"}},{"$f":"MIN(IF(INT(B!$A$3:$A$10000)=$A87,B!#REF!))","v":{"$error":"#REF!"}},{"$f":"MAX(IF(INT(B!$A$3:$A$10000)=$A87,B!#REF!))","v":{"$error":"#REF!"}},{"$f":"MIN(IF(INT(B!$A$3:$A$10000)=$A87,B!#REF!))","v":{"$error":"#REF!"}},null,null,null,null,null,null,null,null,{"$f":"MAX(IF(INT(#REF!)=A87,#REF!))","v":{"$error":"#REF!"}},{"$f":"MIN(IF(INT(#REF!)=$A87,#REF!))","v":{"$error":"#REF!"}},{"$f":"MAX(IF(INT(#REF!)=$A87,#REF!))","v":{"$error":"#REF!"}},{"$f":"MAX(IF(INT(#REF!)=$A87,#REF!))","v":{"$error":"#REF!"}},null,null,null,null,{"$f":"MAX(IF(INT(#REF!)=$A87,#REF!))","v":{"$error":"#REF!"}},{"$f":"MAX(IF(INT(#REF!)=$A87,#REF!))","v":{"$error":"#REF!"}},{"$f":"MAX(IF(INT(#REF!)=$A87,#REF!))","v":{"$error":"#REF!"}},{"$f":"MAX(IF(INT(#REF!)=$A87,#REF!))","v":{"$error":"#REF!"}},{"$f":"MAX(IF(INT(#REF!)=$A87,#REF!))","v":{"$error":"#REF!"}},{"$f":"MAX(IF(INT(#REF!)=$A87,#REF!))","v":{"$error":"#REF!"}},{"$f":"MAX(IF(INT(#REF!)=$A87,#REF!))","v":{"$error":"#REF!"}},{"$f":"MAX(IF(INT(#REF!)=$A87,#REF!))","v":{"$error":"#REF!"}}]
["2023-01-08",null,null,null,null,{"$f":"MAX(IF(INT(A!$A$3:$A$10000)=$A88,A!#REF!))","v":{"$error":"#REF!"}},{"$f":"MIN(IF(INT(A!$A$3:$A$10000)=$A88,A!#REF!))","v":{"$error":"#REF!"}},{"$f":"MAX(IF(INT(A!$A$3:$A$10000)=$A88,A!#REF!))","v":{"$error":"#REF!"}},{"$f":"MIN(IF(INT(A!$A$3:$A$10000)=$A88,A!#REF!))","v":{"$error":"#REF!"}},{"$f":"MAX(IF(INT(B!$A$3:$A$10000)=$A88,B!#REF!))","v":{"$error":"#REF!"}},{"$f":"MIN(IF(INT(B!$A$3:$A$10000)=$A88,B!#REF!))","v":{"$error":"#REF!"}},{"$f":"MAX(IF(INT(B!$A$3:$A$10000)=$A88,B!#REF!))","v":{"$error":"#REF!"}},{"$f":"MIN(IF(INT(B!$A$3:$A$10000)=$A88,B!#REF!))","v":{"$error":"#REF!"}},null,null,null,null,null,null,null,null,{"$f":"MAX(IF(INT(#REF!)=A88,#REF!))","v":{"$error":"#REF!"}},{"$f":"MIN(IF(INT(#REF!)=$A88,#REF!))","v":{"$error":"#REF!"}},{"$f":"MAX(IF(INT(#REF!)=$A88,#REF!))","v":{"$error":"#REF!"}},{"$f":"MAX(IF(INT(#REF!)=$A88,#REF!))","v":{"$error":"#REF!"}},null,null,null,null,{"$f":"MAX(IF(INT(#REF!)=$A88,#REF!))","v":{"$error":"#REF!"}},{"$f":"MAX(IF(INT(#REF!)=$A88,#REF!))","v":{"$error":"#REF!"}},{"$f":"MAX(IF(INT(#REF!)=$A88,#REF!))","v":{"$error":"#REF!"}},{"$f":"MAX(IF(INT(#REF!)=$A88,#REF!))","v":{"$error":"#REF!"}},{"$f":"MAX(IF(INT(#REF!)=$A88,#REF!))","v":{"$error":"#REF!"}},{"$f":"MAX(IF(INT(#REF!)=$A88,#REF!))","v":{"$error":"#REF!"}},{"$f":"MAX(IF(INT(#REF!)=$A88,#REF!))","v":{"$error":"#REF!"}},{"$f":"MAX(IF(INT(#REF!)=$A88,#REF!))","v":{"$error":"#REF!"}}]
["2023-01-07",null,null,null,null,{"$f":"MAX(IF(INT(A!$A$3:$A$10000)=$A89,A!#REF!))","v":0},{"$f":"MIN(IF(INT(A!$A$3:$A$10000)=$A89,A!#REF!))","v":0},{"$f":"MAX(IF(INT(A!$A$3:$A$10000)=$A89,A!#REF!))","v":0},{"$f":"MIN(IF(INT(A!$A$3:$A$10000)=$A89,A!#REF!))","v":0},{"$f":"MAX(IF(INT(B!$A$3:$A$10000)=$A89,B!#REF!))","v":{"$error":"#REF!"}},{"$f":"MIN(IF(INT(B!$A$3:$A$10000)=$A89,B!#REF!))","v":{"$error":"#REF!"}},{"$f":"MAX(IF(INT(B!$A$3:$A$10000)=$A89,B!#REF!))","v":{"$error":"#REF!"}},{"$f":"MIN(IF(INT(B!$A$3:$A$10000)=$A89,B!#REF!))","v":{"$error":"#REF!"}},null,null,null,null,null,null,null,null,{"$f":"MAX(IF(INT(#REF!)=A89,#REF!))","v":{"$error":"#REF!"}},{"$f":"MIN(IF(INT(#REF!)=$A89,#REF!))","v":{"$error":"#REF!"}},{"$f":"MAX(IF(INT(#REF!)=$A89,#REF!))","v":{"$error":"#REF!"}},{"$f":"MAX(IF(INT(#REF!)=$A89,#REF!))","v":{"$error":"#REF!"}},null,null,null,null,{"$f":"MAX(IF(INT(#REF!)=$A89,#REF!))","v":{"$error":"#REF!"}},{"$f":"MAX(IF(INT(#REF!)=$A89,#REF!))","v":{"$error":"#REF!"}},{"$f":"MAX(IF(INT(#REF!)=$A89,#REF!))","v":{"$error":"#REF!"}},{"$f":"MAX(IF(INT(#REF!)=$A89,#REF!))","v":{"$error":"#REF!"}},{"$f":"MAX(IF(INT(#REF!)=$A89,#REF!))","v":{"$error":"#REF!"}},{"$f":"MAX(IF(INT(#REF!)=$A89,#REF!))","v":{"$error":"#REF!"}},{"$f":"MAX(IF(INT(#REF!)=$A89,#REF!))","v":{"$error":"#REF!"}},{"$f":"MAX(IF(INT(#REF!)=$A89,#REF!))","v":{"$error":"#REF!"}}]
["2023-01-06",null,null,null,null,{"$f":"MAX(IF(INT(A!$A$3:$A$10000)=$A90,A!#REF!))","v":0},{"$f":"MIN(IF(INT(A!$A$3:$A$10000)=$A90,A!#REF!))","v":0},{"$f":"MAX(IF(INT(A!$A$3:$A$10000)=$A90,A!#REF!))","v":0},{"$f":"MIN(IF(INT(A!$A$3:$A$10000)=$A90,A!#REF!))","v":0},{"$f":"MAX(IF(INT(B!$A$3:$A$10000)=$A90,B!#REF!))","v":{"$error":"#REF!"}},{"$f":"MIN(IF(INT(B!$A$3:$A$10000)=$A90,B!#REF!))","v":{"$error":"#REF!"}},{"$f":"MAX(IF(INT(B!$A$3:$A$10000)=$A90,B!#REF!))","v":{"$error":"#REF!"}},{"$f":"MIN(IF(INT(B!$A$3:$A$10000)=$A90,B!#REF!))","v":{"$error":"#REF!"}},null,null,null,null,null,null,null,null,{"$f":"MAX(IF(INT(#REF!)=A90,#REF!))","v":{"$error":"#REF!"}},{"$f":"MIN(IF(INT(#REF!)=$A90,#REF!))","v":{"$error":"#REF!"}},{"$f":"MAX(IF(INT(#REF!)=$A90,#REF!))","v":{"$error":"#REF!"}},{"$f":"MAX(IF(INT(#REF!)=$A90,#REF!))","v":{"$error":"#REF!"}},null,null,null,null,{"$f":"MAX(IF(INT(#REF!)=$A90,#REF!))","v":{"$error":"#REF!"}},{"$f":"MAX(IF(INT(#REF!)=$A90,#REF!))","v":{"$error":"#REF!"}},{"$f":"MAX(IF(INT(#REF!)=$A90,#REF!))","v":{"$error":"#REF!"}},{"$f":"MAX(IF(INT(#REF!)=$A90,#REF!))","v":{"$error":"#REF!"}},{"$f":"MAX(IF(INT(#REF!)=$A90,#REF!))","v":{"$error":"#REF!"}},{"$f":"MAX(IF(INT(#REF!)=$A90,#REF!))","v":{"$error":"#REF!"}},{"$f":"MAX(IF(INT(#REF!)=$A90,#REF!))","v":{"$error":"#REF!"}},{"$f":"MAX(IF(INT(#REF!)=$A90,#REF!))","v":{"$error":"#REF!"}}]
["2023-01-05",null,null,null,null,{"$f":"MAX(IF(INT(A!$A$3:$A$10000)=$A91,A!#REF!))","v":0},{"$f":"MIN(IF(INT(A!$A$3:$A$10000)=$A91,A!#REF!))","v":0},{"$f":"MAX(IF(INT(A!$A$3:$A$10000)=$A91,A!#REF!))","v":0},{"$f":"MIN(IF(INT(A!$A$3:$A$10000)=$A91,A!#REF!))","v":0},{"$f":"MAX(IF(INT(B!$A$3:$A$10000)=$A91,B!#REF!))","v":{"$error":"#REF!"}},{"$f":"MIN(IF(INT(B!$A$3:$A$10000)=$A91,B!#REF!))","v":{"$error":"#REF!"}},{"$f":"MAX(IF(INT(B!$A$3:$A$10000)=$A91,B!#REF!))","v":{"$error":"#REF!"}},{"$f":"MIN(IF(INT(B!$A$3:$A$10000)=$A91,B!#REF!))","v":{"$error":"#REF!"}},null,null,null,null,null,null,null,null,{"$f":"MAX(IF(INT(#REF!)=A91,#REF!))","v":{"$error":"#REF!"}},{"$f":"MIN(IF(INT(#REF!)=$A91,#REF!))","v":{"$error":"#REF!"}},{"$f":"MAX(IF(INT(#REF!)=$A91,#REF!))","v":{"$error":"#REF!"}},{"$f":"MAX(IF(INT(#REF!)=$A91,#REF!))","v":{"$error":"#REF!"}},null,null,null,null,{"$f":"MAX(IF(INT(#REF!)=$A91,#REF!))","v":{"$error":"#REF!"}},{"$f":"MAX(IF(INT(#REF!)=$A91,#REF!))","v":{"$error":"#REF!"}},{"$f":"MAX(IF(INT(#REF!)=$A91,#REF!))","v":{"$error":"#REF!"}},{"$f":"MAX(IF(INT(#REF!)=$A91,#REF!))","v":{"$error":"#REF!"}},{"$f":"MAX(IF(INT(#REF!)=$A91,#REF!))","v":{"$error":"#REF!"}},{"$f":"MAX(IF(INT(#REF!)=$A91,#REF!))","v":{"$error":"#REF!"}},{"$f":"MAX(IF(INT(#REF!)=$A91,#REF!))","v":{"$error":"#REF!"}},{"$f":"MAX(IF(INT(#REF!)=$A91,#REF!))","v":{"$error":"#REF!"}}]
["2023-01-04",null,null,null,null,{"$f":"MAX(IF(INT(A!$A$3:$A$10000)=$A92,A!#REF!))","v":0},{"$f":"MIN(IF(INT(A!$A$3:$A$10000)=$A92,A!#REF!))","v":0},{"$f":"MAX(IF(INT(A!$A$3:$A$10000)=$A92,A!#REF!))","v":0},{"$f":"MIN(IF(INT(A!$A$3:$A$10000)=$A92,A!#REF!))","v":0},{"$f":"MAX(IF(INT(B!$A$3:$A$10000)=$A92,B!#REF!))","v":{"$error":"#REF!"}},{"$f":"MIN(IF(INT(B!$A$3:$A$10000)=$A92,B!#REF!))","v":{"$error":"#REF!"}},{"$f":"MAX(IF(INT(B!$A$3:$A$10000)=$A92,B!#REF!))","v":{"$error":"#REF!"}},{"$f":"MIN(IF(INT(B!$A$3:$A$10000)=$A92,B!#REF!))","v":{"$error":"#REF!"}},null,null,null,null,null,null,null,null,{"$f":"MAX(IF(INT(#REF!)=A92,#REF!))","v":{"$error":"#REF!"}},{"$f":"MIN(IF(INT(#REF!)=$A92,#REF!))","v":{"$error":"#REF!"}},{"$f":"MAX(IF(INT(#REF!)=$A92,#REF!))","v":{"$error":"#REF!"}},{"$f":"MAX(IF(INT(#REF!)=$A92,#REF!))","v":{"$error":"#REF!"}},null,null,null,null,{"$f":"MAX(IF(INT(#REF!)=$A92,#REF!))","v":{"$error":"#REF!"}},{"$f":"MAX(IF(INT(#REF!)=$A92,#REF!))","v":{"$error":"#REF!"}},{"$f":"MAX(IF(INT(#REF!)=$A92,#REF!))","v":{"$error":"#REF!"}},{"$f":"MAX(IF(INT(#REF!)=$A92,#REF!))","v":{"$error":"#REF!"}},{"$f":"MAX(IF(INT(#REF!)=$A92,#REF!))","v":{"$error":"#REF!"}},{"$f":"MAX(IF(INT(#REF!)=$A92,#REF!))","v":{"$error":"#REF!"}},{"$f":"MAX(IF(INT(#REF!)=$A92,#REF!))","v":{"$error":"#REF!"}},{"$f":"MAX(IF(INT(#REF!)=$A92,#REF!))","v":{"$error":"#REF!"}}]
["2023-01-03",null,null,null,null,{"$f":"MAX(IF(INT(A!$A$3:$A$10000)=$A93,A!#REF!))","v":0},{"$f":"MIN(IF(INT(A!$A$3:$A$10000)=$A93,A!#REF!))","v":0},{"$f":"MAX(IF(INT(A!$A$3:$A$10000)=$A93,A!#REF!))","v":0},{"$f":"MIN(IF(INT(A!$A$3:$A$10000)=$A93,A!#REF!))","v":0},{"$f":"MAX(IF(INT(B!$A$3:$A$10000)=$A93,B!#REF!))","v":{"$error":"#REF!"}},{"$f":"MIN(IF(INT(B!$A$3:$A$10000)=$A93,B!#REF!))","v":{"$error":"#REF!"}},{"$f":"MAX(IF(INT(B!$A$3:$A$10000)=$A93,B!#REF!))","v":{"$error":"#REF!"}},{"$f":"MIN(IF(INT(B!$A$3:$A$10000)=$A93,B!#REF!))","v":{"$error":"#REF!"}},null,null,null,null,null,null,null,null,{"$f":"MAX(IF(INT(#REF!)=A93,#REF!))","v":{"$error":"#REF!"}},{"$f":"MIN(IF(INT(#REF!)=$A93,#REF!))","v":{"$error":"#REF!"}},{"$f":"MAX(IF(INT(#REF!)=$A93,#REF!))","v":{"$error":"#REF!"}},{"$f":"MAX(IF(INT(#REF!)=$A93,#REF!))","v":{"$error":"#REF!"}},null,null,null,null,{"$f":"MAX(IF(INT(#REF!)=$A93,#REF!))","v":{"$error":"#REF!"}},{"$f":"MAX(IF(INT(#REF!)=$A93,#REF!))","v":{"$error":"#REF!"}},{"$f":"MAX(IF(INT(#REF!)=$A93,#REF!))","v":{"$error":"#REF!"}},{"$f":"MAX(IF(INT(#REF!)=$A93,#REF!))","v":{"$error":"#REF!"}},{"$f":"MAX(IF(INT(#REF!)=$A93,#REF!))","v":{"$error":"#REF!"}},{"$f":"MAX(IF(INT(#REF!)=$A93,#REF!))","v":{"$error":"#REF!"}},{"$f":"MAX(IF(INT(#REF!)=$A93,#REF!))","v":{"$error":"#REF!"}},{"$f":"MAX(IF(INT(#REF!)=$A93,#REF!))","v":{"$error":"#REF!"}}]
["2023-01-02",null,null,null,null,{"$f":"MAX(IF(INT(A!$A$3:$A$10000)=$A94,A!#REF!))","v":0},{"$f":"MIN(IF(INT(A!$A$3:$A$10000)=$A94,A!#REF!))","v":0},{"$f":"MAX(IF(INT(A!$A$3:$A$10000)=$A94,A!#REF!))","v":0},{"$f":"MIN(IF(INT(A!$A$3:$A$10000)=$A94,A!#REF!))","v":0},{"$f":"MAX(IF(INT(B!$A$3:$A$10000)=$A94,B!#REF!))","v":{"$error":"#REF!"}},{"$f":"MIN(IF(INT(B!$A$3:$A$10000)=$A94,B!#REF!))","v":{"$error":"#REF!"}},{"$f":"MAX(IF(INT(B!$A$3:$A$10000)=$A94,B!#REF!))","v":{"$error":"#REF!"}},{"$f":"MIN(IF(INT(B!$A$3:$A$10000)=$A94,B!#REF!))","v":{"$error":"#REF!"}},null,null,null,null,null,null,null,null,{"$f":"MAX(IF(INT(#REF!)=A94,#REF!))","v":{"$error":"#REF!"}},{"$f":"MIN(IF(INT(#REF!)=$A94,#REF!))","v":{"$error":"#REF!"}},{"$f":"MAX(IF(INT(#REF!)=$A94,#REF!))","v":{"$error":"#REF!"}},{"$f":"MAX(IF(INT(#REF!)=$A94,#REF!))","v":{"$error":"#REF!"}},null,null,null,null,{"$f":"MAX(IF(INT(#REF!)=$A94,#REF!))","v":{"$error":"#REF!"}},{"$f":"MAX(IF(INT(#REF!)=$A94,#REF!))","v":{"$error":"#REF!"}},{"$f":"MAX(IF(INT(#REF!)=$A94,#REF!))","v":{"$error":"#REF!"}},{"$f":"MAX(IF(INT(#REF!)=$A94,#REF!))","v":{"$error":"#REF!"}},{"$f":"MAX(IF(INT(#REF!)=$A94,#REF!))","v":{"$error":"#REF!"}},{"$f":"MAX(IF(INT(#REF!)=$A94,#REF!))","v":{"$error":"#REF!"}},{"$f":"MAX(IF(INT(#REF!)=$A94,#REF!))","v":{"$error":"#REF!"}},{"$f":"MAX(IF(INT(#REF!)=$A94,#REF!))","v":{"$error":"#REF!"}}]
["2023-01-01",null,null,null,null,{"$f":"MAX(IF(INT(A!$A$3:$A$10000)=$A95,A!#REF!))","v":{"$error":"#REF!"}},{"$f":"MIN(IF(INT(A!$A$3:$A$10000)=$A95,A!#REF!))","v":{"$error":"#REF!"}},{"$f":"MAX(IF(INT(A!$A$3:$A$10000)=$A95,A!#REF!))","v":{"$error":"#REF!"}},{"$f":"MIN(IF(INT(A!$A$3:$A$10000)=$A95,A!#REF!))","v":{"$error":"#REF!"}},{"$f":"MAX(IF(INT(B!$A$3:$A$10000)=$A95,B!#REF!))","v":{"$error":"#REF!"}},{"$f":"MIN(IF(INT(B!$A$3:$A$10000)=$A95,B!#REF!))","v":{"$error":"#REF!"}},{"$f":"MAX(IF(INT(B!$A$3:$A$10000)=$A95,B!#REF!))","v":{"$error":"#REF!"}},{"$f":"MIN(IF(INT(B!$A$3:$A$10000)=$A95,B!#REF!))","v":{"$error":"#REF!"}},null,null,null,null,null,null,null,null,{"$f":"MAX(IF(INT(#REF!)=A95,#REF!))","v":{"$error":"#REF!"}},{"$f":"MIN(IF(INT(#REF!)=$A95,#REF!))","v":{"$error":"#REF!"}},{"$f":"MAX(IF(INT(#REF!)=$A95,#REF!))","v":{"$error":"#REF!"}},{"$f":"MAX(IF(INT(#REF!)=$A95,#REF!))","v":{"$error":"#REF!"}},null,null,null,null,{"$f":"MAX(IF(INT(#REF!)=$A95,#REF!))","v":{"$error":"#REF!"}},{"$f":"MAX(IF(INT(#REF!)=$A95,#REF!))","v":{"$error":"#REF!"}},{"$f":"MAX(IF(INT(#REF!)=$A95,#REF!))","v":{"$error":"#REF!"}},{"$f":"MAX(IF(INT(#REF!)=$A95,#REF!))","v":{"$error":"#REF!"}},{"$f":"MAX(IF(INT(#REF!)=$A95,#REF!))","v":{"$error":"#REF!"}},{"$f":"MAX(IF(INT(#REF!)=$A95,#REF!))","v":{"$error":"#REF!"}},{"$f":"MAX(IF(INT(#REF!)=$A95,#REF!))","v":{"$error":"#REF!"}},{"$f":"MAX(IF(INT(#REF!)=$A95,#REF!))","v":{"$error":"#REF!"}}]
["2022-12-31",null,null,null,null,{"$f":"MAX(IF(INT(A!$A$3:$A$10000)=$A96,A!#REF!))","v":0},{"$f":"MIN(IF(INT(A!$A$3:$A$10000)=$A96,A!#REF!))","v":0},{"$f":"MAX(IF(INT(A!$A$3:$A$10000)=$A96,A!#REF!))","v":0},{"$f":"MIN(IF(INT(A!$A$3:$A$10000)=$A96,A!#REF!))","v":0},{"$f":"MAX(IF(INT(B!$A$3:$A$10000)=$A96,B!#REF!))","v":{"$error":"#REF!"}},{"$f":"MIN(IF(INT(B!$A$3:$A$10000)=$A96,B!#REF!))","v":{"$error":"#REF!"}},{"$f":"MAX(IF(INT(B!$A$3:$A$10000)=$A96,B!#REF!))","v":{"$error":"#REF!"}},{"$f":"MIN(IF(INT(B!$A$3:$A$10000)=$A96,B!#REF!))","v":{"$error":"#REF!"}},null,null,null,null,null,null,null,null,{"$f":"MAX(IF(INT(#REF!)=A96,#REF!))","v":{"$error":"#REF!"}},{"$f":"MIN(IF(INT(#REF!)=$A96,#REF!))","v":{"$error":"#REF!"}},{"$f":"MAX(IF(INT(#REF!)=$A96,#REF!))","v":{"$error":"#REF!"}},{"$f":"MAX(IF(INT(#REF!)=$A96,#REF!))","v":{"$error":"#REF!"}},null,null,null,null,{"$f":"MAX(IF(INT(#REF!)=$A96,#REF!))","v":{"$error":"#REF!"}},{"$f":"MAX(IF(INT(#REF!)=$A96,#REF!))","v":{"$error":"#REF!"}},{"$f":"MAX(IF(INT(#REF!)=$A96,#REF!))","v":{"$error":"#REF!"}},{"$f":"MAX(IF(INT(#REF!)=$A96,#REF!))","v":{"$error":"#REF!"}},{"$f":"MAX(IF(INT(#REF!)=$A96,#REF!))","v":{"$error":"#REF!"}},{"$f":"MAX(IF(INT(#REF!)=$A96,#REF!))","v":{"$error":"#REF!"}},{"$f":"MAX(IF(INT(#REF!)=$A96,#REF!))","v":{"$error":"#REF!"}},{"$f":"MAX(IF(INT(#REF!)=$A96,#REF!))","v":{"$error":"#REF!"}}]
["2022-12-30",null,null,null,null,{"$f":"MAX(IF(INT(A!$A$3:$A$10000)=$A97,A!#REF!))","v":0},{"$f":"MIN(IF(INT(A!$A$3:$A$10000)=$A97,A!#REF!))","v":0},{"$f":"MAX(IF(INT(A!$A$3:$A$10000)=$A97,A!#REF!))","v":0},{"$f":"MIN(IF(INT(A!$A$3:$A$10000)=$A97,A!#REF!))","v":0},{"$f":"MAX(IF(INT(B!$A$3:$A$10000)=$A97,B!#REF!))","v":{"$error":"#REF!"}},{"$f":"MIN(IF(INT(B!$A$3:$A$10000)=$A97,B!#REF!))","v":{"$error":"#REF!"}},{"$f":"MAX(IF(INT(B!$A$3:$A$10000)=$A97,B!#REF!))","v":{"$error":"#REF!"}},{"$f":"MIN(IF(INT(B!$A$3:$A$10000)=$A97,B!#REF!))","v":{"$error":"#REF!"}},null,null,null,null,null,null,null,null,{"$f":"MAX(IF(INT(#REF!)=A97,#REF!))","v":{"$error":"#REF!"}},{"$f":"MIN(IF(INT(#REF!)=$A97,#REF!))","v":{"$error":"#REF!"}},{"$f":"MAX(IF(INT(#REF!)=$A97,#REF!))","v":{"$error":"#REF!"}},{"$f":"MAX(IF(INT(#REF!)=$A97,#REF!))","v":{"$error":"#REF!"}},null,null,null,null,{"$f":"MAX(IF(INT(#REF!)=$A97,#REF!))","v":{"$error":"#REF!"}},{"$f":"MAX(IF(INT(#REF!)=$A97,#REF!))","v":{"$error":"#REF!"}},{"$f":"MAX(IF(INT(#REF!)=$A97,#REF!))","v":{"$error":"#REF!"}},{"$f":"MAX(IF(INT(#REF!)=$A97,#REF!))","v":{"$error":"#REF!"}},{"$f":"MAX(IF(INT(#REF!)=$A97,#REF!))","v":{"$error":"#REF!"}},{"$f":"MAX(IF(INT(#REF!)=$A97,#REF!))","v":{"$error":"#REF!"}},{"$f":"MAX(IF(INT(#REF!)=$A97,#REF!))","v":{"$error":"#REF!"}},{"$f":"MAX(IF(INT(#REF!)=$A97,#REF!))","v":{"$error":"#REF!"}}]
["2022-12-29",null,null,null,null,{"$f":"MAX(IF(INT(A!$A$3:$A$10000)=$A98,A!#REF!))","v":0},{"$f":"MIN(IF(INT(A!$A$3:$A$10000)=$A98,A!#REF!))","v":0},{"$f":"MAX(IF(INT(A!$A$3:$A$10000)=$A98,A!#REF!))","v":0},{"$f":"MIN(IF(INT(A!$A$3:$A$10000)=$A98,A!#REF!))","v":0},{"$f":"MAX(IF(INT(B!$A$3:$A$10000)=$A98,B!#REF!))","v":{"$error":"#REF!"}},{"$f":"MIN(IF(INT(B!$A$3:$A$10000)=$A98,B!#REF!))","v":{"$error":"#REF!"}},{"$f":"MAX(IF(INT(B!$A$3:$A$10000)=$A98,B!#REF!))","v":{"$error":"#REF!"}},{"$f":"MIN(IF(INT(B!$A$3:$A$10000)=$A98,B!#REF!))","v":{"$error":"#REF!"}},null,null,null,null,null,null,null,null,{"$f":"MAX(IF(INT(#REF!)=A98,#REF!))","v":{"$error":"#REF!"}},{"$f":"MIN(IF(INT(#REF!)=$A98,#REF!))","v":{"$error":"#REF!"}},{"$f":"MAX(IF(INT(#REF!)=$A98,#REF!))","v":{"$error":"#REF!"}},{"$f":"MAX(IF(INT(#REF!)=$A98,#REF!))","v":{"$error":"#REF!"}},null,null,null,null,{"$f":"MAX(IF(INT(#REF!)=$A98,#REF!))","v":{"$error":"#REF!"}},{"$f":"MAX(IF(INT(#REF!)=$A98,#REF!))","v":{"$error":"#REF!"}},{"$f":"MAX(IF(INT(#REF!)=$A98,#REF!))","v":{"$error":"#REF!"}},{"$f":"MAX(IF(INT(#REF!)=$A98,#REF!))","v":{"$error":"#REF!"}},{"$f":"MAX(IF(INT(#REF!)=$A98,#REF!))","v":{"$error":"#REF!"}},{"$f":"MAX(IF(INT(#REF!)=$A98,#REF!))","v":{"$error":"#REF!"}},{"$f":"MAX(IF(INT(#REF!)=$A98,#REF!))","v":{"$error":"#REF!"}},{"$f":"MAX(IF(INT(#REF!)=$A98,#REF!))","v":{"$error":"#REF!"}}]
["2022-12-28",null,null,null,null,{"$f":"MAX(IF(INT(A!$A$3:$A$10000)=$A99,A!#REF!))","v":0},{"$f":"MIN(IF(INT(A!$A$3:$A$10000)=$A99,A!#REF!))","v":0},{"$f":"MAX(IF(INT(A!$A$3:$A$10000)=$A99,A!#REF!))","v":0},{"$f":"MIN(IF(INT(A!$A$3:$A$10000)=$A99,A!#REF!))","v":0},{"$f":"MAX(IF(INT(B!$A$3:$A$10000)=$A99,B!#REF!))","v":{"$error":"#REF!"}},{"$f":"MIN(IF(INT(B!$A$3:$A$10000)=$A99,B!#REF!))","v":{"$error":"#REF!"}},{"$f":"MAX(IF(INT(B!$A$3:$A$10000)=$A99,B!#REF!))","v":{"$error":"#REF!"}},{"$f":"MIN(IF(INT(B!$A$3:$A$10000)=$A99,B!#REF!))","v":{"$error":"#REF!"}},null,null,null,null,null,null,null,null,{"$f":"MAX(IF(INT(#REF!)=A99,#REF!))","v":{"$error":"#REF!"}},{"$f":"MIN(IF(INT(#REF!)=$A99,#REF!))","v":{"$error":"#REF!"}},{"$f":"MAX(IF(INT(#REF!)=$A99,#REF!))","v":{"$error":"#REF!"}},{"$f":"MAX(IF(INT(#REF!)=$A99,#REF!))","v":{"$error":"#REF!"}},null,null,null,null,{"$f":"MAX(IF(INT(#REF!)=$A99,#REF!))","v":{"$error":"#REF!"}},{"$f":"MAX(IF(INT(#REF!)=$A99,#REF!))","v":{"$error":"#REF!"}},{"$f":"MAX(IF(INT(#REF!)=$A99,#REF!))","v":{"$error":"#REF!"}},{"$f":"MAX(IF(INT(#REF!)=$A99,#REF!))","v":{"$error":"#REF!"}},{"$f":"MAX(IF(INT(#REF!)=$A99,#REF!))","v":{"$error":"#REF!"}},{"$f":"MAX(IF(INT(#REF!)=$A99,#REF!))","v":{"$error":"#REF!"}},{"$f":"MAX(IF(INT(#REF!)=$A99,#REF!))","v":{"$error":"#REF!"}},{"$f":"MAX(IF(INT(#REF!)=$A99,#REF!))","v":{"$error":"#REF!"}}]
["2022-12-27",null,null,null,null,{"$f":"MAX(IF(INT(A!$A$3:$A$10000)=$A100,A!#REF!))","v":0},{"$f":"MIN(IF(INT(A!$A$3:$A$10000)=$A100,A!#REF!))","v":0},{"$f":"MAX(IF(INT(A!$A$3:$A$10000)=$A100,A!#REF!))","v":0},{"$f":"MIN(IF(INT(A!$A$3:$A$10000)=$A100,A!#REF!))","v":0},{"$f":"MAX(IF(INT(B!$A$3:$A$10000)=$A100,B!#REF!))","v":{"$error":"#REF!"}},{"$f":"MIN(IF(INT(B!$A$3:$A$10000)=$A100,B!#REF!))","v":{"$error":"#REF!"}},{"$f":"MAX(IF(INT(B!$A$3:$A$10000)=$A100,B!#REF!))","v":{"$error":"#REF!"}},{"$f":"MIN(IF(INT(B!$A$3:$A$10000)=$A100,B!#REF!))","v":{"$error":"#REF!"}},null,null,null,null,null,null,null,null,{"$f":"MAX(IF(INT(#REF!)=A100,#REF!))","v":{"$error":"#REF!"}},{"$f":"MIN(IF(INT(#REF!)=$A100,#REF!))","v":{"$error":"#REF!"}},{"$f":"MAX(IF(INT(#REF!)=$A100,#REF!))","v":{"$error":"#REF!"}},{"$f":"MAX(IF(INT(#REF!)=$A100,#REF!))","v":{"$error":"#REF!"}},null,null,null,null,{"$f":"MAX(IF(INT(#REF!)=$A100,#REF!))","v":{"$error":"#REF!"}},{"$f":"MAX(IF(INT(#REF!)=$A100,#REF!))","v":{"$error":"#REF!"}},{"$f":"MAX(IF(INT(#REF!)=$A100,#REF!))","v":{"$error":"#REF!"}},{"$f":"MAX(IF(INT(#REF!)=$A100,#REF!))","v":{"$error":"#REF!"}},{"$f":"MAX(IF(INT(#REF!)=$A100,#REF!))","v":{"$error":"#REF!"}},{"$f":"MAX(IF(INT(#REF!)=$A100,#REF!))","v":{"$error":"#REF!"}},{"$f":"MAX(IF(INT(#REF!)=$A100,#REF!))","v":{"$error":"#REF!"}},{"$f":"MAX(IF(INT(#REF!)=$A100,#REF!))","v":{"$error":"#REF!"}}]
["2022-12-26",null,null,null,null,{"$f":"MAX(IF(INT(A!$A$3:$A$10000)=$A101,A!#REF!))","v":0},{"$f":"MIN(IF(INT(A!$A$3:$A$10000)=$A101,A!#REF!))","v":0},{"$f":"MAX(IF(INT(A!$A$3:$A$10000)=$A101,A!#REF!))","v":0},{"$f":"MIN(IF(INT(A!$A$3:$A$10000)=$A101,A!#REF!))","v":0},{"$f":"MAX(IF(INT(B!$A$3:$A$10000)=$A101,B!#REF!))","v":{"$error":"#REF!"}},{"$f":"MIN(IF(INT(B!$A$3:$A$10000)=$A101,B!#REF!))","v":{"$error":"#REF!"}},{"$f":"MAX(IF(INT(B!$A$3:$A$10000)=$A101,B!#REF!))","v":{"$error":"#REF!"}},{"$f":"MIN(IF(INT(B!$A$3:$A$10000)=$A101,B!#REF!))","v":{"$error":"#REF!"}},null,null,null,null,null,null,null,null,{"$f":"MAX(IF(INT(#REF!)=A101,#REF!))","v":{"$error":"#REF!"}},{"$f":"MIN(IF(INT(#REF!)=$A101,#REF!))","v":{"$error":"#REF!"}},{"$f":"MAX(IF(INT(#REF!)=$A101,#REF!))","v":{"$error":"#REF!"}},{"$f":"MAX(IF(INT(#REF!)=$A101,#REF!))","v":{"$error":"#REF!"}},null,null,null,null,{"$f":"MAX(IF(INT(#REF!)=$A101,#REF!))","v":{"$error":"#REF!"}},{"$f":"MAX(IF(INT(#REF!)=$A101,#REF!))","v":{"$error":"#REF!"}},{"$f":"MAX(IF(INT(#REF!)=$A101,#REF!))","v":{"$error":"#REF!"}},{"$f":"MAX(IF(INT(#REF!)=$A101,#REF!))","v":{"$error":"#REF!"}},{"$f":"MAX(IF(INT(#REF!)=$A101,#REF!))","v":{"$error":"#REF!"}},{"$f":"MAX(IF(INT(#REF!)=$A101,#REF!))","v":{"$error":"#REF!"}},{"$f":"MAX(IF(INT(#REF!)=$A101,#REF!))","v":{"$error":"#REF!"}},{"$f":"MAX(IF(INT(#REF!)=$A101,#REF!))","v":{"$error":"#REF!"}}]
["2022-12-25",null,null,null,null,{"$f":"MAX(IF(INT(A!$A$3:$A$10000)=$A102,A!#REF!))","v":{"$error":"#REF!"}},{"$f":"MIN(IF(INT(A!$A$3:$A$10000)=$A102,A!#REF!))","v":{"$error":"#REF!"}},{"$f":"MAX(IF(INT(A!$A$3:$A$10000)=$A102,A!#REF!))","v":{"$error":"#REF!"}},{"$f":"MIN(IF(INT(A!$A$3:$A$10000)=$A102,A!#REF!))","v":{"$error":"#REF!"}},{"$f":"MAX(IF(INT(B!$A$3:$A$10000)=$A102,B!#REF!))","v":{"$error":"#REF!"}},{"$f":"MIN(IF(INT(B!$A$3:$A$10000)=$A102,B!#REF!))","v":{"$error":"#REF!"}},{"$f":"MAX(IF(INT(B!$A$3:$A$10000)=$A102,B!#REF!))","v":{"$error":"#REF!"}},{"$f":"MIN(IF(INT(B!$A$3:$A$10000)=$A102,B!#REF!))","v":{"$error":"#REF!"}},null,null,null,null,null,null,null,null,{"$f":"MAX(IF(INT(#REF!)=A102,#REF!))","v":{"$error":"#REF!"}},{"$f":"MIN(IF(INT(#REF!)=$A102,#REF!))","v":{"$error":"#REF!"}},{"$f":"MAX(IF(INT(#REF!)=$A102,#REF!))","v":{"$error":"#REF!"}},{"$f":"MAX(IF(INT(#REF!)=$A102,#REF!))","v":{"$error":"#REF!"}},null,null,null,null,{"$f":"MAX(IF(INT(#REF!)=$A102,#REF!))","v":{"$error":"#REF!"}},{"$f":"MAX(IF(INT(#REF!)=$A102,#REF!))","v":{"$error":"#REF!"}},{"$f":"MAX(IF(INT(#REF!)=$A102,#REF!))","v":{"$error":"#REF!"}},{"$f":"MAX(IF(INT(#REF!)=$A102,#REF!))","v":{"$error":"#REF!"}},{"$f":"MAX(IF(INT(#REF!)=$A102,#REF!))","v":{"$error":"#REF!"}},{"$f":"MAX(IF(INT(#REF!)=$A102,#REF!))","v":{"$error":"#REF!"}},{"$f":"MAX(IF(INT(#REF!)=$A102,#REF!))","v":{"$error":"#REF!"}},{"$f":"MAX(IF(INT(#REF!)=$A102,#REF!))","v":{"$error":"#REF!"}}]
["2022-12-24",null,null,null,null,{"$f":"MAX(IF(INT(A!$A$3:$A$10000)=$A103,A!#REF!))","v":0},{"$f":"MIN(IF(INT(A!$A$3:$A$10000)=$A103,A!#REF!))","v":0},{"$f":"MAX(IF(INT(A!$A$3:$A$10000)=$A103,A!#REF!))","v":0},{"$f":"MIN(IF(INT(A!$A$3:$A$10000)=$A103,A!#REF!))","v":0},{"$f":"MAX(IF(INT(B!$A$3:$A$10000)=$A103,B!#REF!))","v":{"$error":"#REF!"}},{"$f":"MIN(IF(INT(B!$A$3:$A$10000)=$A103,B!#REF!))","v":{"$error":"#REF!"}},{"$f":"MAX(IF(INT(B!$A$3:$A$10000)=$A103,B!#REF!))","v":{"$error":"#REF!"}},{"$f":"MIN(IF(INT(B!$A$3:$A$10000)=$A103,B!#REF!))","v":{"$error":"#REF!"}},null,null,null,null,null,null,null,null,{"$f":"MAX(IF(INT(#REF!)=A103,#REF!))","v":{"$error":"#REF!"}},{"$f":"MIN(IF(INT(#REF!)=$A103,#REF!))","v":{"$error":"#REF!"}},{"$f":"MAX(IF(INT(#REF!)=$A103,#REF!))","v":{"$error":"#REF!"}},{"$f":"MAX(IF(INT(#REF!)=$A103,#REF!))","v":{"$error":"#REF!"}},null,null,null,null,{"$f":"MAX(IF(INT(#REF!)=$A103,#REF!))","v":{"$error":"#REF!"}},{"$f":"MAX(IF(INT(#REF!)=$A103,#REF!))","v":{"$error":"#REF!"}},{"$f":"MAX(IF(INT(#REF!)=$A103,#REF!))","v":{"$error":"#REF!"}},{"$f":"MAX(IF(INT(#REF!)=$A103,#REF!))","v":{"$error":"#REF!"}},{"$f":"MAX(IF(INT(#REF!)=$A103,#REF!))","v":{"$error":"#REF!"}},{"$f":"MAX(IF(INT(#REF!)=$A103,#REF!))","v":{"$error":"#REF!"}},{"$f":"MAX(IF(INT(#REF!)=$A103,#REF!))","v":{"$error":"#REF!"}},{"$f":"MAX(IF(INT(#REF!)=$A103,#REF!))","v":{"$error":"#REF!"}}]
["2022-12-23",null,null,null,null,{"$f":"MAX(IF(INT(A!$A$3:$A$10000)=$A104,A!#REF!))","v":0},{"$f":"MIN(IF(INT(A!$A$3:$A$10000)=$A104,A!#REF!))","v":0},{"$f":"MAX(IF(INT(A!$A$3:$A$10000)=$A104,A!#REF!))","v":0},{"$f":"MIN(IF(INT(A!$A$3:$A$10000)=$A104,A!#REF!))","v":0},{"$f":"MAX(IF(INT(B!$A$3:$A$10000)=$A104,B!#REF!))","v":{"$error":"#REF!"}},{"$f":"MIN(IF(INT(B!$A$3:$A$10000)=$A104,B!#REF!))","v":{"$error":"#REF!"}},{"$f":"MAX(IF(INT(B!$A$3:$A$10000)=$A104,B!#REF!))","v":{"$error":"#REF!"}},{"$f":"MIN(IF(INT(B!$A$3:$A$10000)=$A104,B!#REF!))","v":{"$error":"#REF!"}},null,null,null,null,null,null,null,null,{"$f":"MAX(IF(INT(#REF!)=A104,#REF!))","v":{"$error":"#REF!"}},{"$f":"MIN(IF(INT(#REF!)=$A104,#REF!))","v":{"$error":"#REF!"}},{"$f":"MAX(IF(INT(#REF!)=$A104,#REF!))","v":{"$error":"#REF!"}},{"$f":"MAX(IF(INT(#REF!)=$A104,#REF!))","v":{"$error":"#REF!"}},null,null,null,null,{"$f":"MAX(IF(INT(#REF!)=$A104,#REF!))","v":{"$error":"#REF!"}},{"$f":"MAX(IF(INT(#REF!)=$A104,#REF!))","v":{"$error":"#REF!"}},{"$f":"MAX(IF(INT(#REF!)=$A104,#REF!))","v":{"$error":"#REF!"}},{"$f":"MAX(IF(INT(#REF!)=$A104,#REF!))","v":{"$error":"#REF!"}},{"$f":"MAX(IF(INT(#REF!)=$A104,#REF!))","v":{"$error":"#REF!"}},{"$f":"MAX(IF(INT(#REF!)=$A104,#REF!))","v":{"$error":"#REF!"}},{"$f":"MAX(IF(INT(#REF!)=$A104,#REF!))","v":{"$error":"#REF!"}},{"$f":"MAX(IF(INT(#REF!)=$A104,#REF!))","v":{"$error":"#REF!"}}]
["2022-12-22",null,null,null,null,{"$f":"MAX(IF(INT(A!$A$3:$A$10000)=$A105,A!#REF!))","v":0},{"$f":"MIN(IF(INT(A!$A$3:$A$10000)=$A105,A!#REF!))","v":0},{"$f":"MAX(IF(INT(A!$A$3:$A$10000)=$A105,A!#REF!))","v":0},{"$f":"MIN(IF(INT(A!$A$3:$A$10000)=$A105,A!#REF!))","v":0},{"$f":"MAX(IF(INT(B!$A$3:$A$10000)=$A105,B!#REF!))","v":{"$error":"#REF!"}},{"$f":"MIN(IF(INT(B!$A$3:$A$10000)=$A105,B!#REF!))","v":{"$error":"#REF!"}},{"$f":"MAX(IF(INT(B!$A$3:$A$10000)=$A105,B!#REF!))","v":{"$error":"#REF!"}},{"$f":"MIN(IF(INT(B!$A$3:$A$10000)=$A105,B!#REF!))","v":{"$error":"#REF!"}},null,null,null,null,null,null,null,null,{"$f":"MAX(IF(INT(#REF!)=A105,#REF!))","v":{"$error":"#REF!"}},{"$f":"MIN(IF(INT(#REF!)=$A105,#REF!))","v":{"$error":"#REF!"}},{"$f":"MAX(IF(INT(#REF!)=$A105,#REF!))","v":{"$error":"#REF!"}},{"$f":"MAX(IF(INT(#REF!)=$A105,#REF!))","v":{"$error":"#REF!"}},null,null,null,null,{"$f":"MAX(IF(INT(#REF!)=$A105,#REF!))","v":{"$error":"#REF!"}},{"$f":"MAX(IF(INT(#REF!)=$A105,#REF!))","v":{"$error":"#REF!"}},{"$f":"MAX(IF(INT(#REF!)=$A105,#REF!))","v":{"$error":"#REF!"}},{"$f":"MAX(IF(INT(#REF!)=$A105,#REF!))","v":{"$error":"#REF!"}},{"$f":"MAX(IF(INT(#REF!)=$A105,#REF!))","v":{"$error":"#REF!"}},{"$f":"MAX(IF(INT(#REF!)=$A105,#REF!))","v":{"$error":"#REF!"}},{"$f":"MAX(IF(INT(#REF!)=$A105,#REF!))","v":{"$error":"#REF!"}},{"$f":"MAX(IF(INT(#REF!)=$A105,#REF!))","v":{"$error":"#REF!"}}]
["2022-12-21",null,null,null,null,{"$f":"MAX(IF(INT(A!$A$3:$A$10000)=$A106,A!#REF!))","v":0},{"$f":"MIN(IF(INT(A!$A$3:$A$10000)=$A106,A!#REF!))","v":0},{"$f":"MAX(IF(INT(A!$A$3:$A$10000)=$A106,A!#REF!))","v":0},{"$f":"MIN(IF(INT(A!$A$3:$A$10000)=$A106,A!#REF!))","v":0},{"$f":"MAX(IF(INT(B!$A$3:$A$10000)=$A106,B!#REF!))","v":{"$error":"#REF!"}},{"$f":"MIN(IF(INT(B!$A$3:$A$10000)=$A106,B!#REF!))","v":{"$error":"#REF!"}},{"$f":"MAX(IF(INT(B!$A$3:$A$10000)=$A106,B!#REF!))","v":{"$error":"#REF!"}},{"$f":"MIN(IF(INT(B!$A$3:$A$10000)=$A106,B!#REF!))","v":{"$error":"#REF!"}},null,null,null,null,null,null,null,null,{"$f":"MAX(IF(INT(#REF!)=A106,#REF!))","v":{"$error":"#REF!"}},{"$f":"MIN(IF(INT(#REF!)=$A106,#REF!))","v":{"$error":"#REF!"}},{"$f":"MAX(IF(INT(#REF!)=$A106,#REF!))","v":{"$error":"#REF!"}},{"$f":"MAX(IF(INT(#REF!)=$A106,#REF!))","v":{"$error":"#REF!"}},null,null,null,null,{"$f":"MAX(IF(INT(#REF!)=$A106,#REF!))","v":{"$error":"#REF!"}},{"$f":"MAX(IF(INT(#REF!)=$A106,#REF!))","v":{"$error":"#REF!"}},{"$f":"MAX(IF(INT(#REF!)=$A106,#REF!))","v":{"$error":"#REF!"}},{"$f":"MAX(IF(INT(#REF!)=$A106,#REF!))","v":{"$error":"#REF!"}},{"$f":"MAX(IF(INT(#REF!)=$A106,#REF!))","v":{"$error":"#REF!"}},{"$f":"MAX(IF(INT(#REF!)=$A106,#REF!))","v":{"$error":"#REF!"}},{"$f":"MAX(IF(INT(#REF!)=$A106,#REF!))","v":{"$error":"#REF!"}},{"$f":"MAX(IF(INT(#REF!)=$A106,#REF!))","v":{"$error":"#REF!"}}]
["2022-12-20",null,null,null,null,{"$f":"MAX(IF(INT(A!$A$3:$A$10000)=$A107,A!#REF!))","v":0},{"$f":"MIN(IF(INT(A!$A$3:$A$10000)=$A107,A!#REF!))","v":0},{"$f":"MAX(IF(INT(A!$A$3:$A$10000)=$A107,A!#REF!))","v":0},{"$f":"MIN(IF(INT(A!$A$3:$A$10000)=$A107,A!#REF!))","v":0},{"$f":"MAX(IF(INT(B!$A$3:$A$10000)=$A107,B!#REF!))","v":{"$error":"#REF!"}},{"$f":"MIN(IF(INT(B!$A$3:$A$10000)=$A107,B!#REF!))","v":{"$error":"#REF!"}},{"$f":"MAX(IF(INT(B!$A$3:$A$10000)=$A107,B!#REF!))","v":{"$error":"#REF!"}},{"$f":"MIN(IF(INT(B!$A$3:$A$10000)=$A107,B!#REF!))","v":{"$error":"#REF!"}},null,null,null,null,null,null,null,null,{"$f":"MAX(IF(INT(#REF!)=A107,#REF!))","v":{"$error":"#REF!"}},{"$f":"MIN(IF(INT(#REF!)=$A107,#REF!))","v":{"$error":"#REF!"}},{"$f":"MAX(IF(INT(#REF!)=$A107,#REF!))","v":{"$error":"#REF!"}},{"$f":"MAX(IF(INT(#REF!)=$A107,#REF!))","v":{"$error":"#REF!"}},null,null,null,null,{"$f":"MAX(IF(INT(#REF!)=$A107,#REF!))","v":{"$error":"#REF!"}},{"$f":"MAX(IF(INT(#REF!)=$A107,#REF!))","v":{"$error":"#REF!"}},{"$f":"MAX(IF(INT(#REF!)=$A107,#REF!))","v":{"$error":"#REF!"}},{"$f":"MAX(IF(INT(#REF!)=$A107,#REF!))","v":{"$error":"#REF!"}},{"$f":"MAX(IF(INT(#REF!)=$A107,#REF!))","v":{"$error":"#REF!"}},{"$f":"MAX(IF(INT(#REF!)=$A107,#REF!))","v":{"$error":"#REF!"}},{"$f":"MAX(IF(INT(#REF!)=$A107,#REF!))","v":{"$error":"#REF!"}},{"$f":"MAX(IF(INT(#REF!)=$A107,#REF!))","v":{"$error":"#REF!"}}]
["2022-12-19",null,null,null,null,{"$f":"MAX(IF(INT(A!$A$3:$A$10000)=$A108,A!#REF!))","v":0},{"$f":"MIN(IF(INT(A!$A$3:$A$10000)=$A108,A!#REF!))","v":0},{"$f":"MAX(IF(INT(A!$A$3:$A$10000)=$A108,A!#REF!))","v":0},{"$f":"MIN(IF(INT(A!$A$3:$A$10000)=$A108,A!#REF!))","v":0},{"$f":"MAX(IF(INT(B!$A$3:$A$10000)=$A108,B!#REF!))","v":{"$error":"#REF!"}},{"$f":"MIN(IF(INT(B!$A$3:$A$10000)=$A108,B!#REF!))","v":{"$error":"#REF!"}},{"$f":"MAX(IF(INT(B!$A$3:$A$10000)=$A108,B!#REF!))","v":{"$error":"#REF!"}},{"$f":"MIN(IF(INT(B!$A$3:$A$10000)=$A108,B!#REF!))","v":{"$error":"#REF!"}},null,null,null,null,null,null,null,null,{"$f":"MAX(IF(INT(#REF!)=A108,#REF!))","v":{"$error":"#REF!"}},{"$f":"MIN(IF(INT(#REF!)=$A108,#REF!))","v":{"$error":"#REF!"}},{"$f":"MAX(IF(INT(#REF!)=$A108,#REF!))","v":{"$error":"#REF!"}},{"$f":"MAX(IF(INT(#REF!)=$A108,#REF!))","v":{"$error":"#REF!"}},null,null,null,null,{"$f":"MAX(IF(INT(#REF!)=$A108,#REF!))","v":{"$error":"#REF!"}},{"$f":"MAX(IF(INT(#REF!)=$A108,#REF!))","v":{"$error":"#REF!"}},{"$f":"MAX(IF(INT(#REF!)=$A108,#REF!))","v":{"$error":"#REF!"}},{"$f":"MAX(IF(INT(#REF!)=$A108,#REF!))","v":{"$error":"#REF!"}},{"$f":"MAX(IF(INT(#REF!)=$A108,#REF!))","v":{"$error":"#REF!"}},{"$f":"MAX(IF(INT(#REF!)=$A108,#REF!))","v":{"$error":"#REF!"}},{"$f":"MAX(IF(INT(#REF!)=$A108,#REF!))","v":{"$error":"#REF!"}},{"$f":"MAX(IF(INT(#REF!)=$A108,#REF!))","v":{"$error":"#REF!"}}]
["2022-12-18",null,null,null,null,{"$f":"MAX(IF(INT(A!$A$3:$A$10000)=$A109,A!#REF!))","v":{"$error":"#REF!"}},{"$f":"MIN(IF(INT(A!$A$3:$A$10000)=$A109,A!#REF!))","v":{"$error":"#REF!"}},{"$f":"MAX(IF(INT(A!$A$3:$A$10000)=$A109,A!#REF!))","v":{"$error":"#REF!"}},{"$f":"MIN(IF(INT(A!$A$3:$A$10000)=$A109,A!#REF!))","v":{"$error":"#REF!"}},{"$f":"MAX(IF(INT(B!$A$3:$A$10000)=$A109,B!#REF!))","v":{"$error":"#REF!"}},{"$f":"MIN(IF(INT(B!$A$3:$A$10000)=$A109,B!#REF!))","v":{"$error":"#REF!"}},{"$f":"MAX(IF(INT(B!$A$3:$A$10000)=$A109,B!#REF!))","v":{"$error":"#REF!"}},{"$f":"MIN(IF(INT(B!$A$3:$A$10000)=$A109,B!#REF!))","v":{"$error":"#REF!"}},null,null,null,null,null,null,null,null,{"$f":"MAX(IF(INT(#REF!)=A109,#REF!))","v":{"$error":"#REF!"}},{"$f":"MIN(IF(INT(#REF!)=$A109,#REF!))","v":{"$error":"#REF!"}},{"$f":"MAX(IF(INT(#REF!)=$A109,#REF!))","v":{"$error":"#REF!"}},{"$f":"MAX(IF(INT(#REF!)=$A109,#REF!))","v":{"$error":"#REF!"}},null,null,null,null,{"$f":"MAX(IF(INT(#REF!)=$A109,#REF!))","v":{"$error":"#REF!"}},{"$f":"MAX(IF(INT(#REF!)=$A109,#REF!))","v":{"$error":"#REF!"}},{"$f":"MAX(IF(INT(#REF!)=$A109,#REF!))","v":{"$error":"#REF!"}},{"$f":"MAX(IF(INT(#REF!)=$A109,#REF!))","v":{"$error":"#REF!"}},{"$f":"MAX(IF(INT(#REF!)=$A109,#REF!))","v":{"$error":"#REF!"}},{"$f":"MAX(IF(INT(#REF!)=$A109,#REF!))","v":{"$error":"#REF!"}},{"$f":"MAX(IF(INT(#REF!)=$A109,#REF!))","v":{"$error":"#REF!"}},{"$f":"MAX(IF(INT(#REF!)=$A109,#REF!))","v":{"$error":"#REF!"}}]
["2022-12-17",null,null,null,null,{"$f":"MAX(IF(INT(A!$A$3:$A$10000)=$A110,A!#REF!))","v":0},{"$f":"MIN(IF(INT(A!$A$3:$A$10000)=$A110,A!#REF!))","v":0},{"$f":"MAX(IF(INT(A!$A$3:$A$10000)=$A110,A!#REF!))","v":0},{"$f":"MIN(IF(INT(A!$A$3:$A$10000)=$A110,A!#REF!))","v":0},{"$f":"MAX(IF(INT(B!$A$3:$A$10000)=$A110,B!#REF!))","v":{"$error":"#REF!"}},{"$f":"MIN(IF(INT(B!$A$3:$A$10000)=$A110,B!#REF!))","v":{"$error":"#REF!"}},{"$f":"MAX(IF(INT(B!$A$3:$A$10000)=$A110,B!#REF!))","v":{"$error":"#REF!"}},{"$f":"MIN(IF(INT(B!$A$3:$A$10000)=$A110,B!#REF!))","v":{"$error":"#REF!"}},null,null,null,null,null,null,null,null,{"$f":"MAX(IF(INT(#REF!)=A110,#REF!))","v":{"$error":"#REF!"}},{"$f":"MIN(IF(INT(#REF!)=$A110,#REF!))","v":{"$error":"#REF!"}},{"$f":"MAX(IF(INT(#REF!)=$A110,#REF!))","v":{"$error":"#REF!"}},{"$f":"MAX(IF(INT(#REF!)=$A110,#REF!))","v":{"$error":"#REF!"}},null,null,null,null,{"$f":"MAX(IF(INT(#REF!)=$A110,#REF!))","v":{"$error":"#REF!"}},{"$f":"MAX(IF(INT(#REF!)=$A110,#REF!))","v":{"$error":"#REF!"}},{"$f":"MAX(IF(INT(#REF!)=$A110,#REF!))","v":{"$error":"#REF!"}},{"$f":"MAX(IF(INT(#REF!)=$A110,#REF!))","v":{"$error":"#REF!"}},{"$f":"MAX(IF(INT(#REF!)=$A110,#REF!))","v":{"$error":"#REF!"}},{"$f":"MAX(IF(INT(#REF!)=$A110,#REF!))","v":{"$error":"#REF!"}},{"$f":"MAX(IF(INT(#REF!)=$A110,#REF!))","v":{"$error":"#REF!"}},{"$f":"MAX(IF(INT(#REF!)=$A110,#REF!))","v":{"$error":"#REF!"}}]
["2022-12-16",null,null,null,null,{"$f":"MAX(IF(INT(A!$A$3:$A$10000)=$A111,A!#REF!))","v":0},{"$f":"MIN(IF(INT(A!$A$3:$A$10000)=$A111,A!#REF!))","v":0},{"$f":"MAX(IF(INT(A!$A$3:$A$10000)=$A111,A!#REF!))","v":0},{"$f":"MIN(IF(INT(A!$A$3:$A$10000)=$A111,A!#REF!))","v":0},{"$f":"MAX(IF(INT(B!$A$3:$A$10000)=$A111,B!#REF!))","v":{"$error":"#REF!"}},{"$f":"MIN(IF(INT(B!$A$3:$A$10000)=$A111,B!#REF!))","v":{"$error":"#REF!"}},{"$f":"MAX(IF(INT(B!$A$3:$A$10000)=$A111,B!#REF!))","v":{"$error":"#REF!"}},{"$f":"MIN(IF(INT(B!$A$3:$A$10000)=$A111,B!#REF!))","v":{"$error":"#REF!"}},null,null,null,null,null,null,null,null,{"$f":"MAX(IF(INT(#REF!)=A111,#REF!))","v":{"$error":"#REF!"}},{"$f":"MIN(IF(INT(#REF!)=$A111,#REF!))","v":{"$error":"#REF!"}},{"$f":"MAX(IF(INT(#REF!)=$A111,#REF!))","v":{"$error":"#REF!"}},{"$f":"MAX(IF(INT(#REF!)=$A111,#REF!))","v":{"$error":"#REF!"}},null,null,null,null,{"$f":"MAX(IF(INT(#REF!)=$A111,#REF!))","v":{"$error":"#REF!"}},{"$f":"MAX(IF(INT(#REF!)=$A111,#REF!))","v":{"$error":"#REF!"}},{"$f":"MAX(IF(INT(#REF!)=$A111,#REF!))","v":{"$error":"#REF!"}},{"$f":"MAX(IF(INT(#REF!)=$A111,#REF!))","v":{"$error":"#REF!"}},{"$f":"MAX(IF(INT(#REF!)=$A111,#REF!))","v":{"$error":"#REF!"}},{"$f":"MAX(IF(INT(#REF!)=$A111,#REF!))","v":{"$error":"#REF!"}},{"$f":"MAX(IF(INT(#REF!)=$A111,#REF!))","v":{"$error":"#REF!"}},{"$f":"MAX(IF(INT(#REF!)=$A111,#REF!))","v":{"$error":"#REF!"}}]
["2022-12-15",null,null,null,null,{"$f":"MAX(IF(INT(A!$A$3:$A$10000)=$A112,A!#REF!))","v":0},{"$f":"MIN(IF(INT(A!$A$3:$A$10000)=$A112,A!#REF!))","v":0},{"$f":"MAX(IF(INT(A!$A$3:$A$10000)=$A112,A!#REF!))","v":0},{"$f":"MIN(IF(INT(A!$A$3:$A$10000)=$A112,A!#REF!))","v":0},{"$f":"MAX(IF(INT(B!$A$3:$A$10000)=$A112,B!#REF!))","v":{"$error":"#REF!"}},{"$f":"MIN(IF(INT(B!$A$3:$A$10000)=$A112,B!#REF!))","v":{"$error":"#REF!"}},{"$f":"MAX(IF(INT(B!$A$3:$A$10000)=$A112,B!#REF!))","v":{"$error":"#REF!"}},{"$f":"MIN(IF(INT(B!$A$3:$A$10000)=$A112,B!#REF!))","v":{"$error":"#REF!"}},null,null,null,null,null,null,null,null,{"$f":"MAX(IF(INT(#REF!)=A112,#REF!))","v":{"$error":"#REF!"}},{"$f":"MIN(IF(INT(#REF!)=$A112,#REF!))","v":{"$error":"#REF!"}},{"$f":"MAX(IF(INT(#REF!)=$A112,#REF!))","v":{"$error":"#REF!"}},{"$f":"MAX(IF(INT(#REF!)=$A112,#REF!))","v":{"$error":"#REF!"}},null,null,null,null,{"$f":"MAX(IF(INT(#REF!)=$A112,#REF!))","v":{"$error":"#REF!"}},{"$f":"MAX(IF(INT(#REF!)=$A112,#REF!))","v":{"$error":"#REF!"}},{"$f":"MAX(IF(INT(#REF!)=$A112,#REF!))","v":{"$error":"#REF!"}},{"$f":"MAX(IF(INT(#REF!)=$A112,#REF!))","v":{"$error":"#REF!"}},{"$f":"MAX(IF(INT(#REF!)=$A112,#REF!))","v":{"$error":"#REF!"}},{"$f":"MAX(IF(INT(#REF!)=$A112,#REF!))","v":{"$error":"#REF!"}},{"$f":"MAX(IF(INT(#REF!)=$A112,#REF!))","v":{"$error":"#REF!"}},{"$f":"MAX(IF(INT(#REF!)=$A112,#REF!))","v":{"$error":"#REF!"}}]
["2022-12-14",null,null,null,null,{"$f":"MAX(IF(INT(A!$A$3:$A$10000)=$A113,A!#REF!))","v":0},{"$f":"MIN(IF(INT(A!$A$3:$A$10000)=$A113,A!#REF!))","v":0},{"$f":"MAX(IF(INT(A!$A$3:$A$10000)=$A113,A!#REF!))","v":0},{"$f":"MIN(IF(INT(A!$A$3:$A$10000)=$A113,A!#REF!))","v":0},{"$f":"MAX(IF(INT(B!$A$3:$A$10000)=$A113,B!#REF!))","v":{"$error":"#REF!"}},{"$f":"MIN(IF(INT(B!$A$3:$A$10000)=$A113,B!#REF!))","v":{"$error":"#REF!"}},{"$f":"MAX(IF(INT(B!$A$3:$A$10000)=$A113,B!#REF!))","v":{"$error":"#REF!"}},{"$f":"MIN(IF(INT(B!$A$3:$A$10000)=$A113,B!#REF!))","v":{"$error":"#REF!"}},null,null,null,null,null,null,null,null,{"$f":"MAX(IF(INT(#REF!)=A113,#REF!))","v":{"$error":"#REF!"}},{"$f":"MIN(IF(INT(#REF!)=$A113,#REF!))","v":{"$error":"#REF!"}},{"$f":"MAX(IF(INT(#REF!)=$A113,#REF!))","v":{"$error":"#REF!"}},{"$f":"MAX(IF(INT(#REF!)=$A113,#REF!))","v":{"$error":"#REF!"}},null,null,null,null,{"$f":"MAX(IF(INT(#REF!)=$A113,#REF!))","v":{"$error":"#REF!"}},{"$f":"MAX(IF(INT(#REF!)=$A113,#REF!))","v":{"$error":"#REF!"}},{"$f":"MAX(IF(INT(#REF!)=$A113,#REF!))","v":{"$error":"#REF!"}},{"$f":"MAX(IF(INT(#REF!)=$A113,#REF!))","v":{"$error":"#REF!"}},{"$f":"MAX(IF(INT(#REF!)=$A113,#REF!))","v":{"$error":"#REF!"}},{"$f":"MAX(IF(INT(#REF!)=$A113,#REF!))","v":{"$error":"#REF!"}},{"$f":"MAX(IF(INT(#REF!)=$A113,#REF!))","v":{"$error":"#REF!"}},{"$f":"MAX(IF(INT(#REF!)=$A113,#REF!))","v":{"$error":"#REF!"}}]
["2022-12-13",null,null,null,null,{"$f":"MAX(IF(INT(A!$A$3:$A$10000)=$A114,A!#REF!))","v":0},{"$f":"MIN(IF(INT(A!$A$3:$A$10000)=$A114,A!#REF!))","v":0},{"$f":"MAX(IF(INT(A!$A$3:$A$10000)=$A114,A!#REF!))","v":0},{"$f":"MIN(IF(INT(A!$A$3:$A$10000)=$A114,A!#REF!))","v":0},{"$f":"MAX(IF(INT(B!$A$3:$A$10000)=$A114,B!#REF!))","v":{"$error":"#REF!"}},{"$f":"MIN(IF(INT(B!$A$3:$A$10000)=$A114,B!#REF!))","v":{"$error":"#REF!"}},{"$f":"MAX(IF(INT(B!$A$3:$A$10000)=$A114,B!#REF!))","v":{"$error":"#REF!"}},{"$f":"MIN(IF(INT(B!$A$3:$A$10000)=$A114,B!#REF!))","v":{"$error":"#REF!"}},null,null,null,null,null,null,null,null,{"$f":"MAX(IF(INT(#REF!)=A114,#REF!))","v":{"$error":"#REF!"}},{"$f":"MIN(IF(INT(#REF!)=$A114,#REF!))","v":{"$error":"#REF!"}},{"$f":"MAX(IF(INT(#REF!)=$A114,#REF!))","v":{"$error":"#REF!"}},{"$f":"MAX(IF(INT(#REF!)=$A114,#REF!))","v":{"$error":"#REF!"}},null,null,null,null,{"$f":"MAX(IF(INT(#REF!)=$A114,#REF!))","v":{"$error":"#REF!"}},{"$f":"MAX(IF(INT(#REF!)=$A114,#REF!))","v":{"$error":"#REF!"}},{"$f":"MAX(IF(INT(#REF!)=$A114,#REF!))","v":{"$error":"#REF!"}},{"$f":"MAX(IF(INT(#REF!)=$A114,#REF!))","v":{"$error":"#REF!"}},{"$f":"MAX(IF(INT(#REF!)=$A114,#REF!))","v":{"$error":"#REF!"}},{"$f":"MAX(IF(INT(#REF!)=$A114,#REF!))","v":{"$error":"#REF!"}},{"$f":"MAX(IF(INT(#REF!)=$A114,#REF!))","v":{"$error":"#REF!"}},{"$f":"MAX(IF(INT(#REF!)=$A114,#REF!))","v":{"$error":"#REF!"}}]

{"sheet":"API","index":3,"n_rows":346,"n_cols":3,"rows_kept":346,"cut":false,"hidden":true,"merged":[[0,2,0,11],[1,2,1,11],[9,0,9,1],[8,0,8,1],[0,0,1,0]]}
["Links","Margin",{"$f":"CONCATENATE(\"https://data.binance.com/api/v3/klines?endTime=\",C7,\"&symbol=\",B4,\"&interval=\",B5,\"&startTime=\",C6)","v":"https://data.binance.com/api/v3/klines?endTime=1679081400000&symbol=ATOMUSDT&interval=3m&startTime=1679072400000"}]
[null,"Futuros"]
[null,"Margin","Futuros"]
["Symbol","ATOMUSDT"]
["Interval","3m"]
["StartTime","2023-03-17T17:00:00",{"$f":"(B6-DATE(1970,1,1))*86400000","v":1679072400000.0002}]
["EndTime","2023-03-17T19:30:00",{"$f":"(B7-DATE(1970,1,1))*86400000","v":1679081400000}]
[]
["Mercados"]
["Par (Symbol-USDT)"]
["SPOT"]
["1INCHUSDT"]
["AAVEUSDT"]
["ACAUSDT"]
["ACHUSDT"]
["ACMUSDT"]
["ADAUSDT"]
["ADXUSDT"]
["AGIXUSDT"]
["AGLDUSDT"]
["AKROUSDT"]
["ALCXUSDT"]
["ALGOUSDT"]
["ALICEUSDT"]
["ALPACAUSDT"]
["ALPHAUSDT"]
["ALPINEUSDT"]
["AMBUSDT"]
["AMPUSDT"]
["ANKRUSDT"]
["ANTUSDT"]
["APEUSDT"]
["API3USDT"]
["APTUSDT"]
["ARUSDT"]
["ARDRUSDT"]
["ARPAUSDT"]
["ASRUSDT"]
["ASTRUSDT"]
["ATAUSDT"]
["ATMUSDT"]
["ATOMUSDT"]
["AUCTIONUSDT"]
["AUDUSDT"]
["AUDIOUSDT"]
["AUTOUSDT"]
["AVAUSDT"]
["AVAXUSDT"]
["AXSUSDT"]
["BADGERUSDT"]
["BAKEUSDT"]
["BALUSDT"]
["BANDUSDT"]
["BARUSDT"]
["BATUSDT"]
["BCHUSDT"]
["BELUSDT"]
["BETAUSDT"]
["BETHUSDT"]
["BICOUSDT"]
["BIFIUSDT"]
["BLZUSDT"]
["BNBUSDT"]
["BNTUSDT"]
["BNXUSDT"]
["BONDUSDT"]
["BSWUSDT"]
["BTCUSDT"]
["BTSUSDT"]
["BTTCUSDT"]
["BURGERUSDT"]
["BUSDUSDT"]
["C98USDT"]
["CAKEUSDT"]
["CELOUSDT"]
["CELRUSDT"]
["CFXUSDT"]
["CHESSUSDT"]
["CHRUSDT"]
["CHZUSDT"]
["CITYUSDT"]
["CKBUSDT"]
["CLVUSDT"]
["COCOSUSDT"]
["COMPUSDT"]
["COSUSDT"]
["COTIUSDT"]
["CRVUSDT"]
["CTKUSDT"]
["CTSIUSDT"]
["CTXCUSDT"]
["CVPUSDT"]
["CVXUSDT"]
["DARUSDT"]
["DASHUSDT"]
["DATAUSDT"]
["DCRUSDT"]
["DEGOUSDT"]
["DENTUSDT"]
["DEXEUSDT"]
["DFUSDT"]
["DGBUSDT"]
["DIAUSDT"]
["DOCKUSDT"]
["DODOUSDT"]
["DOGEUSDT"]
["DOTUSDT"]
["DREPUSDT"]
["DUSKUSDT"]
["DYDXUSDT"]
["EGLDUSDT"]
["ELFUSDT"]
["ENJUSDT"]
["ENSUSDT"]
["EOSUSDT"]
["EPXUSDT"]
["ERNUSDT"]
["ETCUSDT"]
["ETHUSDT"]
["EURUSDT"]
["FARMUSDT"]
["FETUSDT"]
["FIDAUSDT"]
["FILUSDT"]
["FIOUSDT"]
["FIROUSDT"]
["FISUSDT"]
["FLMUSDT"]
["FLOWUSDT"]
["FLUXUSDT"]
["FORUSDT"]
["FORTHUSDT"]
["FRONTUSDT"]
["FTMUSDT"]
["FUNUSDT"]
["FXSUSDT"]
["GALUSDT"]
["GALAUSDT"]
["GASUSDT"]
["GBPUSDT"]
["GHSTUSDT"]
["GLMUSDT"]
["GLMRUSDT"]
["GMTUSDT"]
["GMXUSDT"]
["GNOUSDT"]
["GNSUSDT"]
["GRTUSDT"]
["GTCUSDT"]
["HARDUSDT"]
["HBARUSDT"]
["HFTUSDT"]
["HIFIUSDT"]
["HIGHUSDT"]
["HIVEUSDT"]
["HOOKUSDT"]
["HOTUSDT"]
["ICPUSDT"]
["ICXUSDT"]
["IDEXUSDT"]
["ILVUSDT"]
["IMXUSDT"]
["INJUSDT"]
["IOSTUSDT"]
["IOTAUSDT"]
["IOTXUSDT"]
["IRISUSDT"]
["JASMYUSDT"]
["JOEUSDT"]
["JSTUSDT"]
["JUVUSDT"]
["KAVAUSDT"]
["KDAUSDT"]
["KEYUSDT"]
["KLAYUSDT"]
["KMDUSDT"]
["KNCUSDT"]
["KP3RUSDT"]
["KSMUSDT"]
["LAZIOUSDT"]
["LDOUSDT"]
["LEVERUSDT"]
["LINAUSDT"]
["LINKUSDT"]
["LITUSDT"]
["LOKAUSDT"]
["LPTUSDT"]
["LQTYUSDT"]
["LRCUSDT"]
["LSKUSDT"]
["LTCUSDT"]
["LTOUSDT"]
["LUNAUSDT"]
["LUNCUSDT"]
["MAGICUSDT"]
["MANAUSDT"]
["MASKUSDT"]
["MATICUSDT"]
["MBLUSDT"]
["MBOXUSDT"]
["MCUSDT"]
["MDTUSDT"]
["MDXUSDT"]
["MINAUSDT"]
["MKRUSDT"]
["MLNUSDT"]
["MOBUSDT"]
["MOVRUSDT"]
["MTLUSDT"]
["MULTIUSDT"]
["NEARUSDT"]
["NEBLUSDT"]
["NEOUSDT"]
["NEXOUSDT"]
["NKNUSDT"]
["NMRUSDT"]
["NULSUSDT"]
["OCEANUSDT"]
["OGUSDT"]
["OGNUSDT"]
["OMUSDT"]
["OMGUSDT"]
["ONEUSDT"]
["ONGUSDT"]
["ONTUSDT"]
["OOKIUSDT"]
["OPUSDT"]
["ORNUSDT"]
["OSMOUSDT"]
["OXTUSDT"]
["PAXGUSDT"]
["PEOPLEUSDT"]
["PERLUSDT"]
["PERPUSDT"]
["PHAUSDT"]
["PHBUSDT"]
["PLAUSDT"]
["PNTUSDT"]
["POLSUSDT"]
["POLYXUSDT"]
["PONDUSDT"]
["PORTOUSDT"]
["POWRUSDT"]
["PROMUSDT"]
["PROSUSDT"]
["PSGUSDT"]
["PUNDIXUSDT"]
["PYRUSDT"]
["QIUSDT"]
["QKCUSDT"]
["QNTUSDT"]
["QTUMUSDT"]
["QUICKUSDT"]
["RADUSDT"]
["RAREUSDT"]
["RAYUSDT"]
["REEFUSDT"]
["REIUSDT"]
["RENUSDT"]
["REQUSDT"]
["RIFUSDT"]
["RLCUSDT"]
["RNDRUSDT"]
["ROSEUSDT"]
["RPLUSDT"]
["RSRUSDT"]
["RUNEUSDT"]
["RVNUSDT"]
["SANDUSDT"]
["SANTOSUSDT"]
["SCUSDT"]
["SCRTUSDT"]
["SFPUSDT"]
["SHIBUSDT"]
["SKLUSDT"]
["SLPUSDT"]
["SNXUSDT"]
["SOLUSDT"]
["SPELLUSDT"]
["SSVUSDT"]
["STEEMUSDT"]
["STGUSDT"]
["STMXUSDT"]
["STORJUSDT"]
["STPTUSDT"]
["STRAXUSDT"]
["STXUSDT"]
["SUNUSDT"]
["SUPERUSDT"]
["SUSHIUSDT"]
["SXPUSDT"]
["SYNUSDT"]
["SYSUSDT"]
["TUSDT"]
["TFUELUSDT"]
["THETAUSDT"]
["TKOUSDT"]
["TLMUSDT"]
["TOMOUSDT"]
["TRBUSDT"]
["TROYUSDT"]
["TRUUSDT"]
["TRXUSDT"]
["TUSDUSDT"]
["TVKUSDT"]
["TWTUSDT"]
["UFTUSDT"]
["UMAUSDT"]
["UNFIUSDT"]
["UNIUSDT"]
["USDCUSDT"]
["USDPUSDT"]
["USTCUSDT"]
["UTKUSDT"]
["VETUSDT"]
["VGXUSDT"]
["VIBUSDT"]
["VIDTUSDT"]
["VITEUSDT"]
["VOXELUSDT"]
["VTHOUSDT"]
["WANUSDT"]
["WAVESUSDT"]
["WAXPUSDT"]
["WINUSDT"]
["WINGUSDT"]
["WNXMUSDT"]
["WOOUSDT"]
["WRXUSDT"]
["WTCUSDT"]
["XECUSDT"]
["XEMUSDT"]
["XLMUSDT"]
["XMRUSDT"]
["XNOUSDT"]
["XRPUSDT"]
["XTZUSDT"]
["XVGUSDT"]
["XVSUSDT"]
["YFIUSDT"]
["YFIIUSDT"]
["YGGUSDT"]
["ZECUSDT"]
["ZENUSDT"]
["ZILUSDT"]
["ZRXUSDT"]