{"text_format":"1","workbook":"xlsx","n_sheets":7,"sheets":["ToDoList","Client&PIC","CompletedTask","Project Overview","Member Overview","Member Performance","Setup"],"not_rendered":{"charts":0,"images":0,"macros":1,"external_links":1,"defined_names":18,"comments":0,"pivot_tables":0},"unopened":[],"bounds":{"document_bytes":16777216,"sheet_cells":100000,"rows_first":2000,"rows_last":500,"rows_between":2000,"halvings":0,"cell_chars":16384,"cell_head_chars":4096},"cells_cut":0,"cells_raw":0,"read":"whole","date_system":"1900"}

{"sheet":"ToDoList","index":0,"n_rows":125,"n_cols":20,"rows_kept":125,"cut":false,"hidden":false,"merged":[]}
["Project Tracker"]
["Department","Project","Client","Task","  Item/Document","Action","Assigned To","Priority","Estimated Duration (in days)","Estimated Duration (in weeks)","Issue Date","Estimated\nStart","Estimated\nFinish","Actual Start Date","Actual Finish Date","Actual Duration (in days)","Actual Duration (in weeks)","Status","Remarks","Last Updates"]
["Enquiry","Enquiry",{"$f":"VLOOKUP(B3,'Client&PIC'!A:B,2,FALSE)","v":0},"Office - kimmie friend",null,null,"Billy",null,1,{"$f":"IF(G3=\"\",\"\",\"1\")","v":"1"},"2022-10-20T11:00:42",null,null,null,null,{"$f":"IF(OR(R3<>\"Completed\",R3<>\"Make appointment\"), \"\",IF(R3=\"\",\"\",_xlfn.DAYS(O3,N3)+1))","v":""},{"$f":"IF(OR(R3<>\"Completed\",R3<>\"Make appointment\"),\"\",IF(R3=\"\",\"\",ROUNDUP(($O3-$K3)/7,0)))","v":""},"In progress",null,""]
["Enquiry","Enquiry",{"$f":"VLOOKUP(B4,'Client&PIC'!A:B,2,FALSE)","v":0},"Carol Lee",null,null,"Billy",null,null,{"$f":"IF(G4=\"\",\"\",\"1\")","v":"1"},null,null,null,null,null,{"$f":"IF(OR(R4<>\"Completed\",R4<>\"Make appointment\"), \"\",IF(R4=\"\",\"\",_xlfn.DAYS(O4,N4)+1))","v":""},{"$f":"IF(OR(R4<>\"Completed\",R4<>\"Make appointment\"),\"\",IF(R4=\"\",\"\",ROUNDUP(($O4-$K4)/7,0)))","v":""}]
["Admin","Internal",{"$f":"VLOOKUP(B5,'Client&PIC'!A:B,2,FALSE)","v":0},"Promotion items","name card, uniform, designer kit, project kit, phone, letter, cert (if applicable)",null,"Syazwan",null,1,{"$f":"IF(G5=\"\",\"\",\"1\")","v":"1"},null,null,null,null,null,{"$f":"IF(OR(R5<>\"Completed\",R5<>\"Make appointment\"), \"\",IF(R5=\"\",\"\",_xlfn.DAYS(O5,N5)+1))","v":""},{"$f":"IF(OR(R5<>\"Completed\",R5<>\"Make appointment\"),\"\",IF(R5=\"\",\"\",ROUNDUP(($O5-$K5)/7,0)))","v":""},null,null,""]
["Admin","Internal",{"$f":"VLOOKUP(B6,'Client&PIC'!A:B,2,FALSE)","v":0},"Uniform",null,null,"Syazwan",null,1,null,"2022-10-20T11:00:56",null,null,null,null,{"$f":"IF(OR(R6<>\"Completed\",R6<>\"Make appointment\"), \"\",IF(R6=\"\",\"\",_xlfn.DAYS(O6,N6)+1))","v":""},{"$f":"IF(OR(R6<>\"Completed\",R6<>\"Make appointment\"),\"\",IF(R6=\"\",\"\",ROUNDUP(($O6-$K6)/7,0)))","v":""},null,null,""]
["Admin","Internal",{"$f":"VLOOKUP(B7,'Client&PIC'!A:B,2,FALSE)","v":0},"Case Study","Design concept",null,"Amin",null,1,{"$f":"IF(G7=\"\",\"\",\"1\")","v":"1"},"2022-10-20T11:00:57",null,null,"2022-10-25T15:06:32",null,{"$f":"IF(OR(R7<>\"Completed\",R7<>\"Make appointment\"), \"\",IF(R7=\"\",\"\",_xlfn.DAYS(O7,N7)+1))","v":""},{"$f":"IF(OR(R7<>\"Completed\",R7<>\"Make appointment\"),\"\",IF(R7=\"\",\"\",ROUNDUP(($O7-$K7)/7,0)))","v":""},"Ready to check",null,"2022-10-25T15:06:32"]
["Admin","Internal",{"$f":"VLOOKUP(B8,'Client&PIC'!A:B,2,FALSE)","v":0},"Tools & Machines","Prepare tools set for coordinator for Syazwan & Prabha",null,"Prabha",null,1,{"$f":"IF(G8=\"\",\"\",\"1\")","v":"1"},"2022-10-20T11:00:58",null,null,"2022-10-25T15:06:35",null,{"$f":"IF(OR(R8<>\"Completed\",R8<>\"Make appointment\"), \"\",IF(R8=\"\",\"\",_xlfn.DAYS(O8,N8)+1))","v":""},{"$f":"IF(OR(R8<>\"Completed\",R8<>\"Make appointment\"),\"\",IF(R8=\"\",\"\",ROUNDUP(($O8-$K8)/7,0)))","v":""},"Ready to check",null,"2022-10-25T15:06:35"]
["Admin","Internal",{"$f":"VLOOKUP(B9,'Client&PIC'!A:B,2,FALSE)","v":0},"Name card","follow up complaint",null,"Wani",null,null,{"$f":"IF(G9=\"\",\"\",\"1\")","v":"1"},null,null,null,null,null,{"$f":"IF(OR(R9<>\"Completed\",R9<>\"Make appointment\"), \"\",IF(R9=\"\",\"\",_xlfn.DAYS(O9,N9)+1))","v":""},{"$f":"IF(OR(R9<>\"Completed\",R9<>\"Make appointment\"),\"\",IF(R9=\"\",\"\",ROUNDUP(($O9-$K9)/7,0)))","v":""},null,"last update 25/10/22",""]
["Admin","Internal",{"$f":"VLOOKUP(B10,'Client&PIC'!A:B,2,FALSE)","v":0},"Office Improvement","Tinted meeting room","Install diy","Prabha",null,null,{"$f":"IF(G10=\"\",\"\",\"1\")","v":"1"},null,null,null,null,null,{"$f":"IF(OR(R10<>\"Completed\",R10<>\"Make appointment\"), \"\",IF(R10=\"\",\"\",_xlfn.DAYS(O10,N10)+1))","v":""},{"$f":"IF(OR(R10<>\"Completed\",R10<>\"Make appointment\"),\"\",IF(R10=\"\",\"\",ROUNDUP(($O10-$K10)/7,0)))","v":""},null,"Tinted arrived",""]
["Admin","Internal",{"$f":"VLOOKUP(B11,'Client&PIC'!A:B,2,FALSE)","v":0},"Outing",null,null,"Amin",null,null,{"$f":"IF(G11=\"\",\"\",\"1\")","v":"1"},null,null,null,null,null,{"$f":"IF(OR(R11<>\"Completed\",R11<>\"Make appointment\"), \"\",IF(R11=\"\",\"\",_xlfn.DAYS(O11,N11)+1))","v":""},{"$f":"IF(OR(R11<>\"Completed\",R11<>\"Make appointment\"),\"\",IF(R11=\"\",\"\",ROUNDUP(($O11-$K11)/7,0)))","v":""},null,null,""]
["Admin","Internal",{"$f":"VLOOKUP(B12,'Client&PIC'!A:B,2,FALSE)","v":0},"Drawer locker",null,null,"All Designer",null,null,{"$f":"IF(G12=\"\",\"\",\"1\")","v":"1"},null,null,null,null,null,{"$f":"IF(OR(R12<>\"Completed\",R12<>\"Make appointment\"), \"\",IF(R12=\"\",\"\",_xlfn.DAYS(O12,N12)+1))","v":""},{"$f":"IF(OR(R12<>\"Completed\",R12<>\"Make appointment\"),\"\",IF(R12=\"\",\"\",ROUNDUP(($O12-$K12)/7,0)))","v":""},null,null,""]
["Admin","Internal",{"$f":"VLOOKUP(B13,'Client&PIC'!A:B,2,FALSE)","v":0},"Office Improvement","Design work flow & Project work flow",null,"Syazwan","Normal",null,{"$f":"IF(G13=\"\",\"\",\"1\")","v":"1"},null,null,null,"2022-10-25T15:06:44",null,{"$f":"IF(OR(R13<>\"Completed\",R13<>\"Make appointment\"), \"\",IF(R13=\"\",\"\",_xlfn.DAYS(O13,N13)+1))","v":""},{"$f":"IF(OR(R13<>\"Completed\",R13<>\"Make appointment\"),\"\",IF(R13=\"\",\"\",ROUNDUP(($O13-$K13)/7,0)))","v":""},"Ready to check",null,"2022-10-25T15:06:44"]
["Admin","Internal",{"$f":"VLOOKUP(B14,'Client&PIC'!A:B,2,FALSE)","v":0},"Contractor List & Unit Price","kimmie prepare contract",null,"Syazwan","Important",null,{"$f":"IF(G14=\"\",\"\",\"1\")","v":"1"},null,null,null,null,null,{"$f":"IF(OR(R14<>\"Completed\",R14<>\"Make appointment\"), \"\",IF(R14=\"\",\"\",_xlfn.DAYS(O14,N14)+1))","v":""},{"$f":"IF(OR(R14<>\"Completed\",R14<>\"Make appointment\"),\"\",IF(R14=\"\",\"\",ROUNDUP(($O14-$K14)/7,0)))","v":""},"In progress",null,""]
["Admin","Internal",{"$f":"VLOOKUP(B15,'Client&PIC'!A:B,2,FALSE)","v":0},"Taobao special item",null,null,"Wani",null,1,{"$f":"IF(G15=\"\",\"\",\"1\")","v":"1"},"2022-10-20T11:35:57",null,null,null,null,{"$f":"IF(OR(R15<>\"Completed\",R15<>\"Make appointment\"), \"\",IF(R15=\"\",\"\",_xlfn.DAYS(O15,N15)+1))","v":""},{"$f":"IF(OR(R15<>\"Completed\",R15<>\"Make appointment\"),\"\",IF(R15=\"\",\"\",ROUNDUP(($O15-$K15)/7,0)))","v":""},"In progress",null,""]
["Admin","Internal",{"$f":"VLOOKUP(B16,'Client&PIC'!A:B,2,FALSE)","v":0},"PIC - Stationery",null,"record stock and create stationery list","Wani","Normal",null,{"$f":"IF(G16=\"\",\"\",\"1\")","v":"1"},null,null,null,null,null,{"$f":"IF(OR(R16<>\"Completed\",R16<>\"Make appointment\"), \"\",IF(R16=\"\",\"\",_xlfn.DAYS(O16,N16)+1))","v":""},{"$f":"IF(OR(R16<>\"Completed\",R16<>\"Make appointment\"),\"\",IF(R16=\"\",\"\",ROUNDUP(($O16-$K16)/7,0)))","v":""},"In progress",null,"2022-09-07T19:57:20.870"]
["Admin","Internal",{"$f":"VLOOKUP(B17,'Client&PIC'!A:B,2,FALSE)","v":0},"Office Maintenance","Tidy tiles at meeting room",null,"Syazwan",null,null,{"$f":"IF(G17=\"\",\"\",\"1\")","v":"1"},null,null,null,"2022-10-25T15:06:51",null,{"$f":"IF(OR(R17<>\"Completed\",R17<>\"Make appointment\"), \"\",IF(R17=\"\",\"\",_xlfn.DAYS(O17,N17)+1))","v":""},{"$f":"IF(OR(R17<>\"Completed\",R17<>\"Make appointment\"),\"\",IF(R17=\"\",\"\",ROUNDUP(($O17-$K17)/7,0)))","v":""},"Ready to check",null,"2022-10-25T15:06:51"]
["Admin","Internal",{"$f":"VLOOKUP(B18,'Client&PIC'!A:B,2,FALSE)","v":0},"Filing system","Documentation-info","announce","Wani",null,null,{"$f":"IF(G18=\"\",\"\",\"1\")","v":"1"},null,null,null,null,null,{"$f":"IF(OR(R18<>\"Completed\",R18<>\"Make appointment\"), \"\",IF(R18=\"\",\"\",_xlfn.DAYS(O18,N18)+1))","v":""},{"$f":"IF(OR(R18<>\"Completed\",R18<>\"Make Appointment\"),\"\",IF(R18=\"\",\"\",ROUNDUP(($O18-$K18)/7,0)))","v":""}]
["Admin","Internal",{"$f":"VLOOKUP(B19,'Client&PIC'!A:B,2,FALSE)","v":0},"Office System","drawing no","announce","Wani",null,null,{"$f":"IF(G19=\"\",\"\",\"1\")","v":"1"},null,null,null,null,null,{"$f":"IF(OR(R19<>\"Completed\",R19<>\"Make appointment\"), \"\",IF(R19=\"\",\"\",_xlfn.DAYS(O19,N19)+1))","v":""},{"$f":"IF(OR(R19<>\"Completed\",R19<>\"Make Appointment\"),\"\",IF(R19=\"\",\"\",ROUNDUP(($O19-$K19)/7,0)))","v":""}]
["Admin","Internal",{"$f":"VLOOKUP(B20,'Client&PIC'!A:B,2,FALSE)","v":0},"Software","Rename hatching for Autocad",null,"Wani",null,0.5,{"$f":"IF(G20=\"\",\"\",\"1\")","v":"1"},"2022-10-20T11:01:00",null,null,null,null,{"$f":"IF(OR(R20<>\"Completed\",R20<>\"Make appointment\"), \"\",IF(R20=\"\",\"\",_xlfn.DAYS(O20,N20)+1))","v":""},{"$f":"IF(OR(R20<>\"Completed\",R20<>\"Make appointment\"),\"\",IF(R20=\"\",\"\",ROUNDUP(($O20-$K20)/7,0)))","v":""},"In progress",null,"2022-08-18T09:30:22.440"]
["Admin","Internal",{"$f":"VLOOKUP(B21,'Client&PIC'!A:B,2,FALSE)","v":0},"PIC - Tools & Machines","Take dimension: Sink depth and Neon light length",null,"Prabha","Normal",0.5,{"$f":"IF(G21=\"\",\"\",\"1\")","v":"1"},"2022-10-20T11:01:01",null,null,"2022-10-26T11:41:02",null,{"$f":"IF(OR(R21<>\"Completed\",R21<>\"Make appointment\"), \"\",IF(R21=\"\",\"\",_xlfn.DAYS(O21,N21)+1))","v":""},{"$f":"IF(OR(R21<>\"Completed\",R21<>\"Make appointment\"),\"\",IF(R21=\"\",\"\",ROUNDUP(($O21-$K21)/7,0)))","v":""},"Ready to check",null,"2022-10-26T11:41:02"]
["Admin","Internal",{"$f":"VLOOKUP(B22,'Client&PIC'!A:B,2,FALSE)","v":0},"OMM cover design",null,null,"Syazwan",null,null,{"$f":"IF(G22=\"\",\"\",\"1\")","v":"1"},null,null,null,"2022-10-26T11:41:03",null,{"$f":"IF(OR(R22<>\"Completed\",R22<>\"Make appointment\"), \"\",IF(R22=\"\",\"\",_xlfn.DAYS(O22,N22)+1))","v":""},{"$f":"IF(OR(R22<>\"Completed\",R22<>\"Make appointment\"),\"\",IF(R22=\"\",\"\",ROUNDUP(($O22-$K22)/7,0)))","v":""},"Ready to check","Done by Sarah","2022-10-26T11:41:03"]
["Admin","Internal",{"$f":"VLOOKUP(B23,'Client&PIC'!A:B,2,FALSE)","v":0},"PIC - Key Box",null,"to match key and lock","Wani","Normal",null,{"$f":"IF(G23=\"\",\"\",\"1\")","v":"1"},null,null,null,null,null,{"$f":"IF(OR(R23<>\"Completed\",R23<>\"Make appointment\"), \"\",IF(R23=\"\",\"\",_xlfn.DAYS(O23,N23)+1))","v":""},{"$f":"IF(OR(R23<>\"Completed\",R23<>\"Make appointment\"),\"\",IF(R23=\"\",\"\",ROUNDUP(($O23-$K23)/7,0)))","v":""},"In progress",null,""]
["Admin","Internal",{"$f":"VLOOKUP(B24,'Client&PIC'!A:B,2,FALSE)","v":0},"PIC - Calendar",null,null,"Wani","Normal",null,{"$f":"IF(G24=\"\",\"\",\"1\")","v":"1"},null,null,null,null,null,{"$f":"IF(OR(R24<>\"Completed\",R24<>\"Make appointment\"), \"\",IF(R24=\"\",\"\",_xlfn.DAYS(O24,N24)+1))","v":""},{"$f":"IF(OR(R24<>\"Completed\",R24<>\"Make appointment\"),\"\",IF(R24=\"\",\"\",ROUNDUP(($O24-$K24)/7,0)))","v":""},"In progress",null,"2022-08-18T09:31:04.830"]
["Design","Internal",{"$f":"VLOOKUP(B25,'Client&PIC'!A:B,2,FALSE)","v":0},"Tabao Item",null,"available tabao item for propose to client and to put in 3D render","Wani",null,null,{"$f":"IF(G25=\"\",\"\",\"1\")","v":"1"},null,null,null,null,null,{"$f":"IF(OR(R25<>\"Completed\",R25<>\"Make appointment\"), \"\",IF(R25=\"\",\"\",_xlfn.DAYS(O25,N25)+1))","v":""},{"$f":"IF(OR(R25<>\"Completed\",R25<>\"Make appointment\"),\"\",IF(R25=\"\",\"\",ROUNDUP(($O25-$K25)/7,0)))","v":""},"In progress",null,""]
["Admin","Internal",{"$f":"VLOOKUP(B26,'Client&PIC'!A:B,2,FALSE)","v":0},"Contractor List & Unit Price","kimmie prepare contract",null,"Wani","Important",1,{"$f":"IF(G26=\"\",\"\",\"1\")","v":"1"},null,null,null,null,null,{"$f":"IF(OR(R26<>\"Completed\",R26<>\"Make appointment\"), \"\",IF(R26=\"\",\"\",_xlfn.DAYS(O26,N26)+1))","v":""},{"$f":"IF(OR(R26<>\"Completed\",R26<>\"Make appointment\"),\"\",IF(R26=\"\",\"\",ROUNDUP(($O26-$K26)/7,0)))","v":""},null,null,""]
["Admin","Internal",{"$f":"VLOOKUP(B27,'Client&PIC'!A:B,2,FALSE)","v":0},"PIC - PC","check all project filling",null,"Syazwan","Normal",1,{"$f":"IF(G27=\"\",\"\",\"1\")","v":"1"},null,null,null,null,null,{"$f":"IF(OR(R27<>\"Completed\",R27<>\"Make appointment\"), \"\",IF(R27=\"\",\"\",_xlfn.DAYS(O27,N27)+1))","v":""},{"$f":"IF(OR(R27<>\"Completed\",R27<>\"Make appointment\"),\"\",IF(R27=\"\",\"\",ROUNDUP(($O27-$K27)/7,0)))","v":""},null,null,""]
["Admin","Internal",{"$f":"VLOOKUP(B28,'Client&PIC'!A:B,2,FALSE)","v":0},"PIC - PC","check all project filling",null,"Amin","Normal",1,{"$f":"IF(G28=\"\",\"\",\"1\")","v":"1"},null,null,null,null,null,{"$f":"IF(OR(R28<>\"Completed\",R28<>\"Make appointment\"), \"\",IF(R28=\"\",\"\",_xlfn.DAYS(O28,N28)+1))","v":""},{"$f":"IF(OR(R28<>\"Completed\",R28<>\"Make appointment\"),\"\",IF(R28=\"\",\"\",ROUNDUP(($O28-$K28)/7,0)))","v":""},null,null,""]
["IT","Internal",{"$f":"VLOOKUP(B29,'Client&PIC'!A:B,2,FALSE)","v":0},"PIC - PC","pin pinterest on bookmark and sign in",null,"Kimmie","Normal",1,{"$f":"IF(G29=\"\",\"\",\"1\")","v":"1"},null,null,null,"2022-11-01T18:04:58",null,{"$f":"IF(OR(R29<>\"Completed\",R29<>\"Make appointment\"), \"\",IF(R29=\"\",\"\",_xlfn.DAYS(O29,N29)+1))","v":""},{"$f":"IF(OR(R29<>\"Completed\",R29<>\"Make appointment\"),\"\",IF(R29=\"\",\"\",ROUNDUP(($O29-$K29)/7,0)))","v":""},"Ready to check",null,"2022-11-01T18:04:59"]
["Admin","Internal",{"$f":"VLOOKUP(B30,'Client&PIC'!A:B,2,FALSE)","v":0},"Company Property","Laptop","prepare for leader","Kimmie",null,0.5,{"$f":"IF(G30=\"\",\"\",\"1\")","v":"1"},null,null,null,null,null,{"$f":"IF(OR(R30<>\"Completed\",R30<>\"Make appointment\"), \"\",IF(R30=\"\",\"\",_xlfn.DAYS(O30,N30)+1))","v":""},{"$f":"IF(OR(R30<>\"Completed\",R30<>\"Make appointment\"),\"\",IF(R30=\"\",\"\",ROUNDUP(($O30-$K30)/7,0)))","v":""},null,null,""]
["Admin","Internal",{"$f":"VLOOKUP(B31,'Client&PIC'!A:B,2,FALSE)","v":0},"Account Setting","Email account","prepare for leader","Kimmie",null,1,{"$f":"IF(G31=\"\",\"\",\"1\")","v":"1"},null,null,null,null,null,{"$f":"IF(OR(R31<>\"Completed\",R31<>\"Make appointment\"), \"\",IF(R31=\"\",\"\",_xlfn.DAYS(O31,N31)+1))","v":""},{"$f":"IF(OR(R31<>\"Completed\",R31<>\"Make appointment\"),\"\",IF(R31=\"\",\"\",ROUNDUP(($O31-$K31)/7,0)))","v":""},"Ready to check",null,""]
["Admin","Internal",{"$f":"VLOOKUP(B32,'Client&PIC'!A:B,2,FALSE)","v":0},"Case study","malaysia airline, cafeteria",null,"Syazwan",null,1,{"$f":"IF(G32=\"\",\"\",\"1\")","v":"1"},"2022-10-20T11:24:26",null,null,null,null,{"$f":"IF(OR(R32<>\"Completed\",R32<>\"Make appointment\"), \"\",IF(R32=\"\",\"\",_xlfn.DAYS(O32,N32)+1))","v":""},{"$f":"IF(OR(R32<>\"Completed\",R32<>\"Make appointment\"),\"\",IF(R32=\"\",\"\",ROUNDUP(($O32-$K32)/7,0)))","v":""},null,null,""]
["Account","Internal",{"$f":"VLOOKUP(B33,'Client&PIC'!A:B,2,FALSE)","v":0},"call LHDN","Form E",null,"Kimmie",null,1,{"$f":"IF(G33=\"\",\"\",\"1\")","v":"1"},null,null,null,null,null,{"$f":"IF(OR(R33<>\"Completed\",R33<>\"Make appointment\"), \"\",IF(R33=\"\",\"\",_xlfn.DAYS(O33,N33)+1))","v":""},{"$f":"IF(OR(R33<>\"Completed\",R33<>\"Make appointment\"),\"\",IF(R33=\"\",\"\",ROUNDUP(($O33-$K33)/7,0)))","v":""},null,null,""]
["Account","Internal",{"$f":"VLOOKUP(B34,'Client&PIC'!A:B,2,FALSE)","v":0},"call LHDN","Billy Personal",null,"Kimmie",null,1,{"$f":"IF(G34=\"\",\"\",\"1\")","v":"1"},null,null,null,null,null,{"$f":"IF(OR(R34<>\"Completed\",R34<>\"Make appointment\"), \"\",IF(R34=\"\",\"\",_xlfn.DAYS(O34,N34)+1))","v":""},{"$f":"IF(OR(R34<>\"Completed\",R34<>\"Make appointment\"),\"\",IF(R34=\"\",\"\",ROUNDUP(($O34-$K34)/7,0)))","v":""},null,null,""]
["Account","Internal",{"$f":"VLOOKUP(B35,'Client&PIC'!A:B,2,FALSE)","v":0},"call LHDN","employee task declare",null,"Kimmie",null,null,{"$f":"IF(G35=\"\",\"\",\"1\")","v":"1"},null,null,null,null,null,{"$f":"IF(OR(R35<>\"Completed\",R35<>\"Make appointment\"), \"\",IF(R35=\"\",\"\",_xlfn.DAYS(O35,N35)+1))","v":""},{"$f":"IF(OR(R35<>\"Completed\",R35<>\"Make appointment\"),\"\",IF(R35=\"\",\"\",ROUNDUP(($O35-$K35)/7,0)))","v":""},null,null,""]
["Admin","Internal",{"$f":"VLOOKUP(B36,'Client&PIC'!A:B,2,FALSE)","v":0},"Sharing Session",null,null,"Billy",null,null,{"$f":"IF(G36=\"\",\"\",\"1\")","v":"1"},null,null,null,null,null,{"$f":"IF(OR(R36<>\"Completed\",R36<>\"Make appointment\"), \"\",IF(R36=\"\",\"\",_xlfn.DAYS(O36,N36)+1))","v":""},{"$f":"IF(OR(R36<>\"Completed\",R36<>\"Make appointment\"),\"\",IF(R36=\"\",\"\",ROUNDUP(($O36-$K36)/7,0)))","v":""},null,null,""]
["IT","Internal",{"$f":"VLOOKUP(B37,'Client&PIC'!A:B,2,FALSE)","v":0},"Quotation","option function, N258 subtotal or sum",null,"Kimmie",null,null,{"$f":"IF(G37=\"\",\"\",\"1\")","v":"1"},null,null,null,null,null,{"$f":"IF(OR(R37<>\"Completed\",R37<>\"Make appointment\"), \"\",IF(R37=\"\",\"\",_xlfn.DAYS(O37,N37)+1))","v":""},{"$f":"IF(OR(R37<>\"Completed\",R37<>\"Make appointment\"),\"\",IF(R37=\"\",\"\",ROUNDUP(($O37-$K37)/7,0)))","v":""},null,null,""]
["Project","Internal",{"$f":"VLOOKUP(B38,'Client&PIC'!A:B,2,FALSE)","v":0},"PO & LA","must have 1 year defect liability",null,"Kimmie","Normal",null,{"$f":"IF(G38=\"\",\"\",\"1\")","v":"1"},null,null,null,null,null,{"$f":"IF(OR(R38<>\"Completed\",R38<>\"Make appointment\"), \"\",IF(R38=\"\",\"\",_xlfn.DAYS(O38,N38)+1))","v":""},{"$f":"IF(OR(R38<>\"Completed\",R38<>\"Make appointment\"),\"\",IF(R38=\"\",\"\",ROUNDUP(($O38-$K38)/7,0)))","v":""},"Ready to check",null,""]
["Admin","Internal",{"$f":"VLOOKUP(B39,'Client&PIC'!A:B,2,FALSE)","v":0},"Magazine","Layout sample, content",null,"Izzad",null,1,{"$f":"IF(G39=\"\",\"\",\"1\")","v":"1"},null,null,null,null,null,{"$f":"IF(OR(R39<>\"Completed\",R39<>\"Make appointment\"), \"\",IF(R39=\"\",\"\",_xlfn.DAYS(O39,N39)+1))","v":""},{"$f":"IF(OR(R39<>\"Completed\",R39<>\"Make appointment\"),\"\",IF(R39=\"\",\"\",ROUNDUP(($O39-$K39)/7,0)))","v":""},null,null,""]
["Admin","internal",{"$f":"VLOOKUP(B40,'Client&PIC'!A:B,2,FALSE)","v":0},"todolist format",null,"repair issue date and completed","Kimmie","Urgent",null,{"$f":"IF(G40=\"\",\"\",\"1\")","v":"1"},null,null,null,"2022-10-27T10:58:59",null,{"$f":"IF(OR(R40<>\"Completed\",R40<>\"Make appointment\"), \"\",IF(R40=\"\",\"\",_xlfn.DAYS(O40,N40)+1))","v":""},{"$f":"IF(OR(R40<>\"Completed\",R40<>\"Make appointment\"),\"\",IF(R40=\"\",\"\",ROUNDUP(($O40-$K40)/7,0)))","v":""},"Ready to check",null,"2022-10-27T10:58:59"]
["Admin","Internal",{"$f":"VLOOKUP(B41,'Client&PIC'!A:B,2,FALSE)","v":0},"Roy, Ken Chen, Khairi","unit price",null,"Billy",null,null,{"$f":"IF(G41=\"\",\"\",\"1\")","v":"1"},null,null,null,null,null,{"$f":"IF(OR(R41<>\"Completed\",R41<>\"Make appointment\"), \"\",IF(R41=\"\",\"\",_xlfn.DAYS(O41,N41)+1))","v":""},{"$f":"IF(OR(R41<>\"Completed\",R41<>\"Make appointment\"),\"\",IF(R41=\"\",\"\",ROUNDUP(($O41-$K41)/7,0)))","v":""},null,null,""]
["HR","Interview",{"$f":"VLOOKUP(B42,'Client&PIC'!A:B,2,FALSE)","v":0},"2 ID, 1 HR admin account",null,null,"Kimmie","Urgent",null,{"$f":"IF(G42=\"\",\"\",\"1\")","v":"1"},null,null,null,null,null,{"$f":"IF(OR(R42<>\"Completed\",R42<>\"Make appointment\"), \"\",IF(R42=\"\",\"\",_xlfn.DAYS(O42,N42)+1))","v":""},{"$f":"IF(OR(R42<>\"Completed\",R42<>\"Make appointment\"),\"\",IF(R42=\"\",\"\",ROUNDUP(($O42-$K42)/7,0)))","v":""},"In progress","posted on jobstore & myfuturejob & fb",""]
["Design","PRJ1463 Akasa Business Park",{"$f":"VLOOKUP(B43,'Client&PIC'!A:B,2,FALSE)","v":0},"PIC",null,null,"Syazwan",null,null,{"$f":"IF(G43=\"\",\"\",\"1\")","v":"1"},null,null,null,null,null,{"$f":"IF(OR(R43<>\"Completed\",R43<>\"Make appointment\"), \"\",IF(R43=\"\",\"\",_xlfn.DAYS(O43,N43)+1))","v":""},{"$f":"IF(OR(R43<>\"Completed\",R43<>\"Make appointment\"),\"\",IF(R43=\"\",\"\",ROUNDUP(($O43-$K43)/7,0)))","v":""}]
["Enquiry","PRJ1463 Akasa Business Park",{"$f":"VLOOKUP(B44,'Client&PIC'!A:B,2,FALSE)","v":0},"Make appointment",null,null,"Billy",null,null,{"$f":"IF(G44=\"\",\"\",\"1\")","v":"1"},null,null,null,null,null,{"$f":"IF(OR(R44<>\"Completed\",R44<>\"Make appointment\"), \"\",IF(R44=\"\",\"\",_xlfn.DAYS(O44,N44)+1))","v":""},{"$f":"IF(OR(R44<>\"Completed\",R44<>\"Make appointment\"),\"\",IF(R44=\"\",\"\",ROUNDUP(($O44-$K44)/7,0)))","v":""},null,null,""]
["Design","PRJ1463 Akasa Business Park",{"$f":"VLOOKUP(B45,'Client&PIC'!A:B,2,FALSE)","v":0},"Quotation","QT1-01 & QP1-01",null,"Syazwan","Important",null,{"$f":"IF(G45=\"\",\"\",\"1\")","v":"1"},null,null,null,"2022-10-26T11:40:15",null,{"$f":"IF(OR(R45<>\"Completed\",R45<>\"Make appointment\"), \"\",IF(R45=\"\",\"\",_xlfn.DAYS(O45,N45)+1))","v":""},{"$f":"IF(OR(R45<>\"Completed\",R45<>\"Make appointment\"),\"\",IF(R45=\"\",\"\",ROUNDUP(($O45-$K45)/7,0)))","v":""},"Ready to check",null,"2022-10-26T11:40:15"]
["Account","PRJ1354 Sunway Geolake",{"$f":"VLOOKUP(B46,'Client&PIC'!A:B,2,FALSE)","v":"Alan Ling"},"Milestone payment",null,"remind monthly","Kimmie",null,null,{"$f":"IF(G46=\"\",\"\",\"1\")","v":"1"},null,null,null,null,null,{"$f":"IF(OR(R46<>\"Completed\",R46<>\"Make appointment\"), \"\",IF(R46=\"\",\"\",_xlfn.DAYS(O46,N46)+1))","v":""},{"$f":"IF(OR(R46<>\"Completed\",R46<>\"Make appointment\"),\"\",IF(R46=\"\",\"\",ROUNDUP(($O46-$K46)/7,0)))","v":""},null,"last payment 27/10, left 2k & testimonial",""]
["Design","PRJ1465 Eastman Office",{"$f":"VLOOKUP(B47,'Client&PIC'!A:B,2,FALSE)","v":"Alan Loh"},"PIC",null,null,"Syazwan",null,null,{"$f":"IF(G47=\"\",\"\",\"1\")","v":"1"},null,null,null,null,null,{"$f":"IF(OR(R47<>\"Completed\",R47<>\"Make appointment\"), \"\",IF(R47=\"\",\"\",_xlfn.DAYS(O47,N47)+1))","v":""},{"$f":"IF(OR(R47<>\"Completed\",R47<>\"Make appointment\"),\"\",IF(R47=\"\",\"\",ROUNDUP(($O47-$K47)/7,0)))","v":""}]
["Design","PRJ1465 Eastman Office",{"$f":"VLOOKUP(B48,'Client&PIC'!A:B,2,FALSE)","v":"Alan Loh"},"BQ","QT1-01",null,"Izzad",null,1,{"$f":"IF(G48=\"\",\"\",\"1\")","v":"1"},null,null,null,"2022-10-26T11:40:19",null,{"$f":"IF(OR(R48<>\"Completed\",R48<>\"Make appointment\"), \"\",IF(R48=\"\",\"\",_xlfn.DAYS(O48,N48)+1))","v":""},{"$f":"IF(OR(R48<>\"Completed\",R48<>\"Make appointment\"),\"\",IF(R48=\"\",\"\",ROUNDUP(($O48-$K48)/7,0)))","v":""},"Ready to check",null,"2022-10-26T11:40:19"]
["Design","PRJ1465 Eastman Office",{"$f":"VLOOKUP(B49,'Client&PIC'!A:B,2,FALSE)","v":"Alan Loh"},"BQ","QT1-01",null,"Syazwan",null,null,{"$f":"IF(G49=\"\",\"\",\"1\")","v":"1"},null,null,null,null,null,{"$f":"IF(OR(R49<>\"Completed\",R49<>\"Make appointment\"), \"\",IF(R49=\"\",\"\",_xlfn.DAYS(O49,N49)+1))","v":""},{"$f":"IF(OR(R49<>\"Completed\",R49<>\"Make appointment\"),\"\",IF(R49=\"\",\"\",ROUNDUP(($O49-$K49)/7,0)))","v":""},null,null,""]
["Design","PRJ1465 Eastman Office",{"$f":"VLOOKUP(B50,'Client&PIC'!A:B,2,FALSE)","v":"Alan Loh"},"Layout Plan",null,null,null,null,null,{"$f":"IF(G50=\"\",\"\",\"1\")","v":""},null,null,null,null,null,{"$f":"IF(OR(R50<>\"Completed\",R50<>\"Make appointment\"), \"\",IF(R50=\"\",\"\",_xlfn.DAYS(O50,N50)+1))","v":""},{"$f":"IF(OR(R50<>\"Completed\",R50<>\"Make appointment\"),\"\",IF(R50=\"\",\"\",ROUNDUP(($O50-$K50)/7,0)))","v":""}]
["Design","PRJ1465 Eastman Office",{"$f":"VLOOKUP(B51,'Client&PIC'!A:B,2,FALSE)","v":"Alan Loh"},"3D",null,null,null,null,null,{"$f":"IF(G51=\"\",\"\",\"1\")","v":""},null,null,null,null,null,{"$f":"IF(OR(R51<>\"Completed\",R51<>\"Make appointment\"), \"\",IF(R51=\"\",\"\",_xlfn.DAYS(O51,N51)+1))","v":""},{"$f":"IF(OR(R51<>\"Completed\",R51<>\"Make appointment\"),\"\",IF(R51=\"\",\"\",ROUNDUP(($O51-$K51)/7,0)))","v":""}]
["Design","PRJ1465 Eastman Office",{"$f":"VLOOKUP(B52,'Client&PIC'!A:B,2,FALSE)","v":"Alan Loh"},null,null,null,null,null,null,{"$f":"IF(G52=\"\",\"\",\"1\")","v":""},null,null,null,null,null,{"$f":"IF(OR(R52<>\"Completed\",R52<>\"Make appointment\"), \"\",IF(R52=\"\",\"\",_xlfn.DAYS(O52,N52)+1))","v":""},{"$f":"IF(OR(R52<>\"Completed\",R52<>\"Make appointment\"),\"\",IF(R52=\"\",\"\",ROUNDUP(($O52-$K52)/7,0)))","v":""}]
["Project","PRJ1299 Showroom Sri Kembangan",{"$f":"VLOOKUP(B53,'Client&PIC'!A:B,2,FALSE)","v":"Billy Toh"},"Defect & cleaning","Kimmie to set date "," ","Prabha",null,1,{"$f":"IF(G53=\"\",\"\",\"1\")","v":"1"},null,null,null,null,null,{"$f":"IF(OR(R53<>\"Completed\",R53<>\"Make appointment\"), \"\",IF(R53=\"\",\"\",_xlfn.DAYS(O53,N53)+1))","v":""},{"$f":"IF(OR(R53<>\"Completed\",R53<>\"Make appointment\"),\"\",IF(R53=\"\",\"\",ROUNDUP(($O53-$K53)/7,0)))","v":""},null,null,""]
["Design","PRJ1481 Landed House",{"$f":"VLOOKUP(B54,'Client&PIC'!A:B,2,FALSE)","v":"Brandon"},null,"2D1","trace layout","Prabha",null,1,{"$f":"IF(G54=\"\",\"\",\"1\")","v":"1"},"2022-10-20T17:03:32",null,null,null,null,{"$f":"IF(OR(R54<>\"Completed\",R54<>\"Make appointment\"), \"\",IF(R54=\"\",\"\",_xlfn.DAYS(O54,N54)+1))","v":""},{"$f":"IF(OR(R54<>\"Completed\",R54<>\"Make appointment\"),\"\",IF(R54=\"\",\"\",ROUNDUP(($O54-$K54)/7,0)))","v":""},null,null,""]
["Design","PRJ1394 Chen Ann",{"$f":"VLOOKUP(B55,'Client&PIC'!A:B,2,FALSE)","v":"Chen Ann"},"Quotation","QT1-01",null,"Amin",null,1,{"$f":"IF(G55=\"\",\"\",\"1\")","v":"1"},null,null,null,null,null,{"$f":"IF(OR(R55<>\"Completed\",R55<>\"Make appointment\"), \"\",IF(R55=\"\",\"\",_xlfn.DAYS(O55,N55)+1))","v":""},{"$f":"IF(OR(R55<>\"Completed\",R55<>\"Make appointment\"),\"\",IF(R55=\"\",\"\",ROUNDUP(($O55-$K55)/7,0)))","v":""},"In progress",null,"2022-09-28T16:38:07.960"]
["Design","PRJ1394 Chen Ann",{"$f":"VLOOKUP(B56,'Client&PIC'!A:B,2,FALSE)","v":"Chen Ann"},"Architect discussion",null,"Drawing feed back","Amin","Urgent",1,{"$f":"IF(G56=\"\",\"\",\"1\")","v":"1"},null,null,null,null,null,{"$f":"IF(OR(R56<>\"Completed\",R56<>\"Make appointment\"), \"\",IF(R56=\"\",\"\",_xlfn.DAYS(O56,N56)+1))","v":""},{"$f":"IF(OR(R56<>\"Completed\",R56<>\"Make appointment\"),\"\",IF(R56=\"\",\"\",ROUNDUP(($O56-$K56)/7,0)))","v":""},null,null,""]
["Design","PRJ1394 Chen Ann",{"$f":"VLOOKUP(B57,'Client&PIC'!A:B,2,FALSE)","v":"Chen Ann"},"Quotation",null,"Find land surveyor","Amin","Urgent",1,{"$f":"IF(G57=\"\",\"\",\"1\")","v":"1"},null,null,null,null,null,{"$f":"IF(OR(R57<>\"Completed\",R57<>\"Make appointment\"), \"\",IF(R57=\"\",\"\",_xlfn.DAYS(O57,N57)+1))","v":""},{"$f":"IF(OR(R57<>\"Completed\",R57<>\"Make appointment\"),\"\",IF(R57=\"\",\"\",ROUNDUP(($O57-$K57)/7,0)))","v":""},null,null,""]
["Design","PRJ1394 Chen Ann",{"$f":"VLOOKUP(B58,'Client&PIC'!A:B,2,FALSE)","v":"Chen Ann"},"Quotation",null,"direct show 3D & arhitect drawing to contractor to quote","Amin","Urgent",2,{"$f":"IF(G58=\"\",\"\",\"1\")","v":"1"},null,null,null,null,null,{"$f":"IF(OR(R58<>\"Completed\",R58<>\"Make appointment\"), \"\",IF(R58=\"\",\"\",_xlfn.DAYS(O58,N58)+1))","v":""},{"$f":"IF(OR(R58<>\"Completed\",R58<>\"Make appointment\"),\"\",IF(R58=\"\",\"\",ROUNDUP(($O58-$K58)/7,0)))","v":""},null,null,""]
["Design","PRJ1394 Chen Ann",{"$f":"VLOOKUP(B59,'Client&PIC'!A:B,2,FALSE)","v":"Chen Ann"},"3D","Exterior","Follow architect version","Amin",null,1,{"$f":"IF(G59=\"\",\"\",\"1\")","v":"1"},null,null,null,null,null,{"$f":"IF(OR(R59<>\"Completed\",R59<>\"Make appointment\"), \"\",IF(R59=\"\",\"\",_xlfn.DAYS(O59,N59)+1))","v":""},{"$f":"IF(OR(R59<>\"Completed\",R59<>\"Make appointment\"),\"\",IF(R59=\"\",\"\",ROUNDUP(($O59-$K59)/7,0)))","v":""},null,null,""]
["Design","PRJ1394 Chen Ann",{"$f":"VLOOKUP(B60,'Client&PIC'!A:B,2,FALSE)","v":"Chen Ann"},"3D","interior",null,"Amin",null,1,{"$f":"IF(G60=\"\",\"\",\"1\")","v":"1"},null,null,null,null,null,{"$f":"IF(OR(R60<>\"Completed\",R60<>\"Make appointment\"), \"\",IF(R60=\"\",\"\",_xlfn.DAYS(O60,N60)+1))","v":""},{"$f":"IF(OR(R60<>\"Completed\",R60<>\"Make appointment\"),\"\",IF(R60=\"\",\"\",ROUNDUP(($O60-$K60)/7,0)))","v":""},null,null,""]
["Personal","PRJ1394 Chen Ann",{"$f":"VLOOKUP(B61,'Client&PIC'!A:B,2,FALSE)","v":"Chen Ann"},"Management Fee",null,null,"Kimmie",null,null,{"$f":"IF(G61=\"\",\"\",\"1\")","v":"1"},null,"2022-07-25",null,null,null,{"$f":"IF(OR(R61<>\"Completed\",R61<>\"Make appointment\"), \"\",IF(R61=\"\",\"\",_xlfn.DAYS(O61,N61)+1))","v":""},{"$f":"IF(OR(R61<>\"Completed\",R61<>\"Make appointment\"),\"\",IF(R61=\"\",\"\",ROUNDUP(($O61-$K61)/7,0)))","v":""},null,null,""]
["Personal","PRJ1394 Chen Ann",{"$f":"VLOOKUP(B62,'Client&PIC'!A:B,2,FALSE)","v":"Chen Ann"},"Construction loan",null,null,"Kimmie",null,3,{"$f":"IF(G62=\"\",\"\",\"1\")","v":"1"},null,"2022-08-02",null,null,null,{"$f":"IF(OR(R62<>\"Completed\",R62<>\"Make appointment\"), \"\",IF(R62=\"\",\"\",_xlfn.DAYS(O62,N62)+1))","v":""},{"$f":"IF(OR(R62<>\"Completed\",R62<>\"Make appointment\"),\"\",IF(R62=\"\",\"\",ROUNDUP(($O62-$K62)/7,0)))","v":""},null,null,""]
["Design","PRJ1394 Chen Ann",{"$f":"VLOOKUP(B63,'Client&PIC'!A:B,2,FALSE)","v":"Chen Ann"},"Architect drawing",null,"to check drawing","Billy","Urgent",null,{"$f":"IF(G63=\"\",\"\",\"1\")","v":"1"},null,null,null,null,null,{"$f":"IF(OR(R63<>\"Completed\",R63<>\"Make appointment\"), \"\",IF(R63=\"\",\"\",_xlfn.DAYS(O63,N63)+1))","v":""},{"$f":"IF(OR(R63<>\"Completed\",R63<>\"Make appointment\"),\"\",IF(R63=\"\",\"\",ROUNDUP(($O63-$K63)/7,0)))","v":""},null,null,""]
["Project","PRJ1419 Fresenius",{"$f":"VLOOKUP(B64,'Client&PIC'!A:B,2,FALSE)","v":"Chloe"},"Post Mortem",null,null,"Billy","Medium",0.5,{"$f":"IF(G64=\"\",\"\",\"1\")","v":"1"},null,null,null,null,null,{"$f":"IF(OR(R64<>\"Completed\",R64<>\"Make appointment\"), \"\",IF(R64=\"\",\"\",_xlfn.DAYS(O64,N64)+1))","v":""},{"$f":"IF(OR(R64<>\"Completed\",R64<>\"Make appointment\"),\"\",IF(R64=\"\",\"\",ROUNDUP(($O64-$K64)/7,0)))","v":""},null,null,""]
["Project","PRJ1419 Fresenius",{"$f":"VLOOKUP(B65,'Client&PIC'!A:B,2,FALSE)","v":"Chloe"},"Authority submission","Submission record","call vicky","Prabha","Urgent",null,{"$f":"IF(G65=\"\",\"\",\"1\")","v":"1"},null,null,null,null,null,{"$f":"IF(OR(R65<>\"Completed\",R65<>\"Make appointment\"), \"\",IF(R65=\"\",\"\",_xlfn.DAYS(O65,N65)+1))","v":""},{"$f":"IF(OR(R65<>\"Completed\",R65<>\"Make appointment\"),\"\",IF(R65=\"\",\"\",ROUNDUP(($O65-$K65)/7,0)))","v":""},"In progress","Vicky no respond","2022-08-08T10:54:19.770"]
["Project","PRJ1419 Fresenius",{"$f":"VLOOKUP(B66,'Client&PIC'!A:B,2,FALSE)","v":"Chloe"},"Drawing","Office visit","call vicky","Prabha",null,null,{"$f":"IF(G66=\"\",\"\",\"1\")","v":"1"},null,null,null,null,null,{"$f":"IF(OR(R66<>\"Completed\",R66<>\"Make appointment\"), \"\",IF(R66=\"\",\"\",_xlfn.DAYS(O66,N66)+1))","v":""},{"$f":"IF(OR(R66<>\"Completed\",R66<>\"Make appointment\"),\"\",IF(R66=\"\",\"\",ROUNDUP(($O66-$K66)/7,0)))","v":""},null,null,""]
["Account","PRJ1419 Fresenius",{"$f":"VLOOKUP(B67,'Client&PIC'!A:B,2,FALSE)","v":"Chloe"},"Payment to contractor","electrical, general, carpet, carpentry, submission, hvac, signage",null,"Prabha",null,null,{"$f":"IF(G67=\"\",\"\",\"1\")","v":"1"},null,null,null,null,null,{"$f":"IF(OR(R67<>\"Completed\",R67<>\"Make appointment\"), \"\",IF(R67=\"\",\"\",_xlfn.DAYS(O67,N67)+1))","v":""},{"$f":"IF(OR(R67<>\"Completed\",R67<>\"Make appointment\"),\"\",IF(R67=\"\",\"\",ROUNDUP(($O67-$K67)/7,0)))","v":""},null,null,""]
["Account","PRJ1419 Fresenius",{"$f":"VLOOKUP(B68,'Client&PIC'!A:B,2,FALSE)","v":"Chloe"},"Commission","Izzad, Prabha",null,"Prabha",null,null,{"$f":"IF(G68=\"\",\"\",\"1\")","v":"1"},null,null,null,null,null,{"$f":"IF(OR(R68<>\"Completed\",R68<>\"Make appointment\"), \"\",IF(R68=\"\",\"\",_xlfn.DAYS(O68,N68)+1))","v":""},{"$f":"IF(OR(R68<>\"Completed\",R68<>\"Make appointment\"),\"\",IF(R68=\"\",\"\",ROUNDUP(($O68-$K68)/7,0)))","v":""},null,null,""]
["Project","PRJ1419 Fresenius",{"$f":"VLOOKUP(B69,'Client&PIC'!A:B,2,FALSE)","v":"Chloe"},"Warranty Agreement",null,null,"Prabha",null,null,{"$f":"IF(G69=\"\",\"\",\"1\")","v":"1"},null,null,null,"2022-10-26T11:40:41",null,{"$f":"IF(OR(R69<>\"Completed\",R69<>\"Make appointment\"), \"\",IF(R69=\"\",\"\",_xlfn.DAYS(O69,N69)+1))","v":""},{"$f":"IF(OR(R69<>\"Completed\",R69<>\"Make appointment\"),\"\",IF(R69=\"\",\"\",ROUNDUP(($O69-$K69)/7,0)))","v":""},"Ready to check",null,"2022-10-26T11:40:41"]
["Project","PRJ1419 Fresenius",{"$f":"VLOOKUP(B70,'Client&PIC'!A:B,2,FALSE)","v":"Chloe"},"OMM","Intro, content, 3D, material, as built, WS, SPR, HDR & photo, defect, Other doc",null,"Prabha","Important",0.5,{"$f":"IF(G70=\"\",\"\",\"1\")","v":"1"},null,null,null,null,null,{"$f":"IF(OR(R70<>\"Completed\",R70<>\"Make appointment\"), \"\",IF(R70=\"\",\"\",_xlfn.DAYS(O70,N70)+1))","v":""},{"$f":"IF(OR(R70<>\"Completed\",R70<>\"Make appointment\"),\"\",IF(R70=\"\",\"\",ROUNDUP(($O70-$K70)/7,0)))","v":""},"Almost done","Pending architect dwg","2022-08-08T10:59:11.120"]
["Project","PRJ1419 Fresenius",{"$f":"VLOOKUP(B71,'Client&PIC'!A:B,2,FALSE)","v":"Chloe"},"Defects","entrance cove light, 2 way switch, ceiling touch up",null,"Prabha",null,1,{"$f":"IF(G71=\"\",\"\",\"1\")","v":"1"},null,null,null,null,null,{"$f":"IF(OR(R71<>\"Completed\",R71<>\"Make appointment\"), \"\",IF(R71=\"\",\"\",_xlfn.DAYS(O71,N71)+1))","v":""},{"$f":"IF(OR(R71<>\"Completed\",R71<>\"Make appointment\"),\"\",IF(R71=\"\",\"\",ROUNDUP(($O71-$K71)/7,0)))","v":""},null,"end of october - hanging light",""]
["Design","PRJ1466 Fresenius Bukit Jelutong",{"$f":"VLOOKUP(B72,'Client&PIC'!A:B,2,FALSE)","v":"Chloe"},"Quotation","PRJ1466-QR2-01","Admendment, add more work, ask contractor to quote","Prabha",null,2,{"$f":"IF(G72=\"\",\"\",\"1\")","v":"1"},null,null,null,null,null,{"$f":"IF(OR(R72<>\"Completed\",R72<>\"Make appointment\"), \"\",IF(R72=\"\",\"\",_xlfn.DAYS(O72,N72)+1))","v":""},{"$f":"IF(OR(R72<>\"Completed\",R72<>\"Make appointment\"),\"\",IF(R72=\"\",\"\",ROUNDUP(($O72-$K72)/7,0)))","v":""},"In progress",null,"2022-09-28T16:37:59.330"]
["Design","PRJ1345 Sanggul Emas",{"$f":"VLOOKUP(B73,'Client&PIC'!A:B,2,FALSE)","v":"Curine Wong"},"Architech Drawing",null,null,"Billy",null,null,{"$f":"IF(G73=\"\",\"\",\"1\")","v":"1"},null,null,null,null,null,{"$f":"IF(OR(R73<>\"Completed\",R73<>\"Make appointment\"), \"\",IF(R73=\"\",\"\",_xlfn.DAYS(O73,N73)+1))","v":""},{"$f":"IF(OR(R73<>\"Completed\",R73<>\"Make appointment\"),\"\",IF(R73=\"\",\"\",ROUNDUP(($O73-$K73)/7,0)))","v":""},null,null,""]
["Design","PRJ1345 Sanggul Emas",{"$f":"VLOOKUP(B74,'Client&PIC'!A:B,2,FALSE)","v":"Curine Wong"},"C&S",null,null,"Billy",null,null,{"$f":"IF(G74=\"\",\"\",\"1\")","v":"1"},null,null,null,null,null,{"$f":"IF(OR(R74<>\"Completed\",R74<>\"Make appointment\"), \"\",IF(R74=\"\",\"\",_xlfn.DAYS(O74,N74)+1))","v":""},{"$f":"IF(OR(R74<>\"Completed\",R74<>\"Make appointment\"),\"\",IF(R74=\"\",\"\",ROUNDUP(($O74-$K74)/7,0)))","v":""},null,null,""]
["Design","PRJ1345 Sanggul Emas",{"$f":"VLOOKUP(B75,'Client&PIC'!A:B,2,FALSE)","v":"Curine Wong"},"M&E",null,null,"Billy",null,null,{"$f":"IF(G75=\"\",\"\",\"1\")","v":"1"},null,null,null,null,null,{"$f":"IF(OR(R75<>\"Completed\",R75<>\"Make appointment\"), \"\",IF(R75=\"\",\"\",_xlfn.DAYS(O75,N75)+1))","v":""},{"$f":"IF(OR(R75<>\"Completed\",R75<>\"Make appointment\"),\"\",IF(R75=\"\",\"\",ROUNDUP(($O75-$K75)/7,0)))","v":""},null,null,""]
["Project","PRJ1345 Sanggul Emas",{"$f":"VLOOKUP(B76,'Client&PIC'!A:B,2,FALSE)","v":"Curine Wong"},"Defects","Auto gate, CCTV, Signage",null,"Billy",null,null,{"$f":"IF(G76=\"\",\"\",\"1\")","v":"1"},null,null,null,null,null,{"$f":"IF(OR(R76<>\"Completed\",R76<>\"Make appointment\"), \"\",IF(R76=\"\",\"\",_xlfn.DAYS(O76,N76)+1))","v":""},{"$f":"IF(OR(R76<>\"Completed\",R76<>\"Make appointment\"),\"\",IF(R76=\"\",\"\",ROUNDUP(($O76-$K76)/7,0)))","v":""},null,null,""]
["Project","PRJ1345 Sanggul Emas",{"$f":"VLOOKUP(B77,'Client&PIC'!A:B,2,FALSE)","v":"Curine Wong"},"Wong cable",null,null,"Billy",null,null,{"$f":"IF(G77=\"\",\"\",\"1\")","v":"1"},null,"2022-08-03",null,null,null,{"$f":"IF(OR(R77<>\"Completed\",R77<>\"Make appointment\"), \"\",IF(R77=\"\",\"\",_xlfn.DAYS(O77,N77)+1))","v":""},{"$f":"IF(OR(R77<>\"Completed\",R77<>\"Make appointment\"),\"\",IF(R77=\"\",\"\",ROUNDUP(($O77-$K77)/7,0)))","v":""},null,null,""]
["Project","PRJ1345 Sanggul Emas",{"$f":"VLOOKUP(B78,'Client&PIC'!A:B,2,FALSE)","v":"Curine Wong"},"Back charge","Wong, Vincent",null,"Kimmie",null,null,{"$f":"IF(G78=\"\",\"\",\"1\")","v":"1"},null,null,null,null,null,{"$f":"IF(OR(R78<>\"Completed\",R78<>\"Make appointment\"), \"\",IF(R78=\"\",\"\",_xlfn.DAYS(O78,N78)+1))","v":""},{"$f":"IF(OR(R78<>\"Completed\",R78<>\"Make appointment\"),\"\",IF(R78=\"\",\"\",ROUNDUP(($O78-$K78)/7,0)))","v":""},null,null,""]
["Project","PRJ1345 Sanggul Emas",{"$f":"VLOOKUP(B79,'Client&PIC'!A:B,2,FALSE)","v":"Curine Wong"},"QFC","Tar flooring",null,"Kimmie",null,null,{"$f":"IF(G79=\"\",\"\",\"1\")","v":"1"},null,null,null,null,null,{"$f":"IF(OR(R79<>\"Completed\",R79<>\"Make appointment\"), \"\",IF(R79=\"\",\"\",_xlfn.DAYS(O79,N79)+1))","v":""},{"$f":"IF(OR(R79<>\"Completed\",R79<>\"Make appointment\"),\"\",IF(R79=\"\",\"\",ROUNDUP(($O79-$K79)/7,0)))","v":""},null,null,""]
["Project","PRJ1345 Sanggul Emas",{"$f":"VLOOKUP(B80,'Client&PIC'!A:B,2,FALSE)","v":"Curine Wong"},"Payment for contractor","Nick, Hong, Wong, Vincent",null,"Kimmie",null,null,{"$f":"IF(G80=\"\",\"\",\"1\")","v":"1"},null,null,null,null,null,{"$f":"IF(OR(R80<>\"Completed\",R80<>\"Make appointment\"), \"\",IF(R80=\"\",\"\",_xlfn.DAYS(O80,N80)+1))","v":""},{"$f":"IF(OR(R80<>\"Completed\",R80<>\"Make appointment\"),\"\",IF(R80=\"\",\"\",ROUNDUP(($O80-$K80)/7,0)))","v":""},null,null,""]
["Project","PRJ1345 Sanggul Emas",{"$f":"VLOOKUP(B81,'Client&PIC'!A:B,2,FALSE)","v":"Curine Wong"},"Lawyer advise","Wong, Vincent",null,"Kimmie",null,null,{"$f":"IF(G81=\"\",\"\",\"1\")","v":"1"},null,null,null,null,null,{"$f":"IF(OR(R81<>\"Completed\",R81<>\"Make appointment\"), \"\",IF(R81=\"\",\"\",_xlfn.DAYS(O81,N81)+1))","v":""},{"$f":"IF(OR(R81<>\"Completed\",R81<>\"Make appointment\"),\"\",IF(R81=\"\",\"\",ROUNDUP(($O81-$K81)/7,0)))","v":""},null,null,""]
["Project","PRJ1345 Sanggul Emas",{"$f":"VLOOKUP(B82,'Client&PIC'!A:B,2,FALSE)","v":"Curine Wong"},"TNB","client pay deposit, active meter",null,"Kimmie",null,null,{"$f":"IF(G82=\"\",\"\",\"1\")","v":"1"},null,null,null,null,null,{"$f":"IF(OR(R82<>\"Completed\",R82<>\"Make appointment\"), \"\",IF(R82=\"\",\"\",_xlfn.DAYS(O82,N82)+1))","v":""},{"$f":"IF(OR(R82<>\"Completed\",R82<>\"Make appointment\"),\"\",IF(R82=\"\",\"\",ROUNDUP(($O82-$K82)/7,0)))","v":""},null,null,""]
["Project","PRJ1345 Sanggul Emas",{"$f":"VLOOKUP(B83,'Client&PIC'!A:B,2,FALSE)","v":"Curine Wong"},"As built drawing","Architect (done), C&S (extendion & overhead crane) , M&E, Bomba (done), CF (wait TNB)",null,"Amin",null,1,{"$f":"IF(G83=\"\",\"\",\"1\")","v":"1"},null,null,null,null,null,{"$f":"IF(OR(R83<>\"Completed\",R83<>\"Make appointment\"), \"\",IF(R83=\"\",\"\",_xlfn.DAYS(O83,N83)+1))","v":""},{"$f":"IF(OR(R83<>\"Completed\",R83<>\"Make appointment\"),\"\",IF(R83=\"\",\"\",ROUNDUP(($O83-$K83)/7,0)))","v":""},null,null,""]
["Project","PRJ1345 Sanggul Emas",{"$f":"VLOOKUP(B84,'Client&PIC'!A:B,2,FALSE)","v":"Curine Wong"},"As built drawing","Architect (done), C&S (extendion & overhead crane) , M&E, Bomba (done), CF (wait TNB)",null,"Amin",null,1,{"$f":"IF(G84=\"\",\"\",\"1\")","v":"1"},null,null,null,null,null,{"$f":"IF(OR(R84<>\"Completed\",R84<>\"Make appointment\"), \"\",IF(R84=\"\",\"\",_xlfn.DAYS(O84,N84)+1))","v":""},{"$f":"IF(OR(R84<>\"Completed\",R84<>\"Make appointment\"),\"\",IF(R84=\"\",\"\",ROUNDUP(($O84-$K84)/7,0)))","v":""},null,null,""]
["Account","PRJ1345 Sanggul Emas",{"$f":"VLOOKUP(B85,'Client&PIC'!A:B,2,FALSE)","v":"Curine Wong"},"utility deposit claim",null,null,"Amin","Medium",3,{"$f":"IF(G85=\"\",\"\",\"1\")","v":"1"},null,null,null,null,null,{"$f":"IF(OR(R85<>\"Completed\",R85<>\"Make appointment\"), \"\",IF(R85=\"\",\"\",_xlfn.DAYS(O85,N85)+1))","v":""},{"$f":"IF(OR(R85<>\"Completed\",R85<>\"Make appointment\"),\"\",IF(R85=\"\",\"\",ROUNDUP(($O85-$K85)/7,0)))","v":""},"Make appointment","email sent to ariff","2022-09-28T16:01:58.100"]
["Project","PRJ1345 Sanggul Emas",{"$f":"VLOOKUP(B86,'Client&PIC'!A:B,2,FALSE)","v":"Curine Wong"},"VO","wall up VO",null,"Amin",null,1,{"$f":"IF(G86=\"\",\"\",\"1\")","v":"1"},null,null,null,null,null,{"$f":"IF(OR(R86<>\"Completed\",R86<>\"Make appointment\"), \"\",IF(R86=\"\",\"\",_xlfn.DAYS(O86,N86)+1))","v":""},{"$f":"IF(OR(R86<>\"Completed\",R86<>\"Make appointment\"),\"\",IF(R86=\"\",\"\",ROUNDUP(($O86-$K86)/7,0)))","v":""},"Make appointment",null,"2022-09-28T16:02:02.320"]
["Design","PRJ1475 Car park @ sanggul emas",{"$f":"VLOOKUP(B87,'Client&PIC'!A:B,2,FALSE)","v":"Curine Wong"},"Quotation","QT1A & QT1B","propose outlet for discharge water pounding at carpark","Amin",null,1,{"$f":"IF(G87=\"\",\"\",\"1\")","v":"1"},null,null,null,null,null,{"$f":"IF(OR(R87<>\"Completed\",R87<>\"Make appointment\"), \"\",IF(R87=\"\",\"\",_xlfn.DAYS(O87,N87)+1))","v":""},{"$f":"IF(OR(R87<>\"Completed\",R87<>\"Make appointment\"),\"\",IF(R87=\"\",\"\",ROUNDUP(($O87-$K87)/7,0)))","v":""},"In progress",null,"2022-09-28T16:03:48.740"]
["Design","PRJ1475 Car park @ sanggul emas",{"$f":"VLOOKUP(B88,'Client&PIC'!A:B,2,FALSE)","v":"Curine Wong"},"Layout",null,"Copy file from previous sanggul emas project","Amin",null,0.5,{"$f":"IF(G88=\"\",\"\",\"1\")","v":"1"},null,null,null,null,null,{"$f":"IF(OR(R88<>\"Completed\",R88<>\"Make appointment\"), \"\",IF(R88=\"\",\"\",_xlfn.DAYS(O88,N88)+1))","v":""},{"$f":"IF(OR(R88<>\"Completed\",R88<>\"Make appointment\"),\"\",IF(R88=\"\",\"\",ROUNDUP(($O88-$K88)/7,0)))","v":""},"In progress",null,"2022-10-22T14:32:19"]
["Design","PRJ1456 Petai King Velocity",{"$f":"VLOOKUP(B89,'Client&PIC'!A:B,2,FALSE)","v":"Eric Toh"},"3D","Version 3",null,"Izzad",null,1,{"$f":"IF(G89=\"\",\"\",\"1\")","v":"1"},null,null,null,null,null,{"$f":"IF(OR(R89<>\"Completed\",R89<>\"Make appointment\"), \"\",IF(R89=\"\",\"\",_xlfn.DAYS(O89,N89)+1))","v":""},{"$f":"IF(OR(R89<>\"Completed\",R89<>\"Make appointment\"),\"\",IF(R89=\"\",\"\",ROUNDUP(($O89-$K89)/7,0)))","v":""},null,null,""]
["Design","PRJ1456 Petai King Velocity",{"$f":"VLOOKUP(B90,'Client&PIC'!A:B,2,FALSE)","v":"Eric Toh"},"Layout","Version 3",null,"Izzad",null,1,{"$f":"IF(G90=\"\",\"\",\"1\")","v":"1"},null,null,null,null,null,{"$f":"IF(OR(R90<>\"Completed\",R90<>\"Make appointment\"), \"\",IF(R90=\"\",\"\",_xlfn.DAYS(O90,N90)+1))","v":""},{"$f":"IF(OR(R90<>\"Completed\",R90<>\"Make appointment\"),\"\",IF(R90=\"\",\"\",ROUNDUP(($O90-$K90)/7,0)))","v":""},null,null,""]
["Design","PRJ1456 Petai King Velocity",{"$f":"VLOOKUP(B91,'Client&PIC'!A:B,2,FALSE)","v":"Eric Toh"},"Quotation","QT1-02","get subcon to quote","Syazwan",null,null,{"$f":"IF(G91=\"\",\"\",\"1\")","v":"1"},null,null,null,"2022-10-26T11:40:46",null,{"$f":"IF(OR(R91<>\"Completed\",R91<>\"Make appointment\"), \"\",IF(R91=\"\",\"\",_xlfn.DAYS(O91,N91)+1))","v":""},{"$f":"IF(OR(R91<>\"Completed\",R91<>\"Make appointment\"),\"\",IF(R91=\"\",\"\",ROUNDUP(($O91-$K91)/7,0)))","v":""},"Ready to check",null,"2022-10-26T11:40:46"]
["Design","PRJ1456 Petai King Velocity",{"$f":"VLOOKUP(B92,'Client&PIC'!A:B,2,FALSE)","v":"Eric Toh"},"Quotation","QT1-01",null,"Izzad",null,1,{"$f":"IF(G92=\"\",\"\",\"1\")","v":"1"},null,null,null,null,null,{"$f":"IF(OR(R92<>\"Completed\",R92<>\"Make appointment\"), \"\",IF(R92=\"\",\"\",_xlfn.DAYS(O92,N92)+1))","v":""},{"$f":"IF(OR(R92<>\"Completed\",R92<>\"Make appointment\"),\"\",IF(R92=\"\",\"\",ROUNDUP(($O92-$K92)/7,0)))","v":""},null,null,""]
["Design","PRJ1453 Funeral Hall",{"$f":"VLOOKUP(B93,'Client&PIC'!A:B,2,FALSE)","v":"Evon Ong"},"Layout",null,null,"Wani",null,0.5,{"$f":"IF(G93=\"\",\"\",\"1\")","v":"1"},null,null,null,null,null,{"$f":"IF(OR(R93<>\"Completed\",R93<>\"Make appointment\"), \"\",IF(R93=\"\",\"\",_xlfn.DAYS(O93,N93)+1))","v":""},{"$f":"IF(OR(R93<>\"Completed\",R93<>\"Make appointment\"),\"\",IF(R93=\"\",\"\",ROUNDUP(($O93-$K93)/7,0)))","v":""},null,null,""]
["Design","PRJ1453 Funeral Hall",{"$f":"VLOOKUP(B94,'Client&PIC'!A:B,2,FALSE)","v":"Evon Ong"},"DP",null,null,"Wani",null,0.5,{"$f":"IF(G94=\"\",\"\",\"1\")","v":"1"},null,null,null,null,null,{"$f":"IF(OR(R94<>\"Completed\",R94<>\"Make appointment\"), \"\",IF(R94=\"\",\"\",_xlfn.DAYS(O94,N94)+1))","v":""},{"$f":"IF(OR(R94<>\"Completed\",R94<>\"Make appointment\"),\"\",IF(R94=\"\",\"\",ROUNDUP(($O94-$K94)/7,0)))","v":""},null,null,""]
["Design","PRJ1470 SLS Office Senawang",{"$f":"VLOOKUP(B95,'Client&PIC'!A:B,2,FALSE)","v":"Jacky"},"Follow up","DP & Quotation","weekly follow up","Syazwan",null,null,{"$f":"IF(G95=\"\",\"\",\"1\")","v":"1"},null,null,null,null,null,{"$f":"IF(OR(R95<>\"Completed\",R95<>\"Make appointment\"), \"\",IF(R95=\"\",\"\",_xlfn.DAYS(O95,N95)+1))","v":""},{"$f":"IF(OR(R95<>\"Completed\",R95<>\"Make appointment\"),\"\",IF(R95=\"\",\"\",ROUNDUP(($O95-$K95)/7,0)))","v":""}]
["Enquiry","PRJ1471 Bakery Shop",{"$f":"VLOOKUP(B96,'Client&PIC'!A:B,2,FALSE)","v":"Jacqueline"},"Date client",null,null,"Wani",null,null,{"$f":"IF(G96=\"\",\"\",\"1\")","v":"1"},null,null,null,null,null,{"$f":"IF(OR(R96<>\"Completed\",R96<>\"Make appointment\"), \"\",IF(R96=\"\",\"\",_xlfn.DAYS(O96,N96)+1))","v":""},{"$f":"IF(OR(R96<>\"Completed\",R96<>\"Make appointment\"),\"\",IF(R96=\"\",\"\",ROUNDUP(($O96-$K96)/7,0)))","v":""},null,null,""]
["Design","PRJ1458 Fresenius Kabi",{"$f":"VLOOKUP(B97,'Client&PIC'!A:B,2,FALSE)","v":"June"},"Layout","Version 3","Extension design","Amin",null,1,{"$f":"IF(G97=\"\",\"\",\"1\")","v":"1"},null,null,"2022-10-31T18:15:08",null,null,{"$f":"IF(OR(R97<>\"Completed\",R97<>\"Make appointment\"), \"\",IF(R97=\"\",\"\",_xlfn.DAYS(O97,N97)+1))","v":""},{"$f":"IF(OR(R97<>\"Completed\",R97<>\"Make appointment\"),\"\",IF(R97=\"\",\"\",ROUNDUP(($O97-$K97)/7,0)))","v":""},"Make appointment",null,""]
["Design","PRJ1458 Fresenius Kabi",{"$f":"VLOOKUP(B98,'Client&PIC'!A:B,2,FALSE)","v":"June"},"DP","Version 3","Extension design","Amin",null,1,{"$f":"IF(G98=\"\",\"\",\"1\")","v":"1"},null,null,null,null,null,{"$f":"IF(OR(R98<>\"Completed\",R98<>\"Make appointment\"), \"\",IF(R98=\"\",\"\",_xlfn.DAYS(O98,N98)+1))","v":""},{"$f":"IF(OR(R98<>\"Completed\",R98<>\"Make appointment\"),\"\",IF(R98=\"\",\"\",ROUNDUP(($O98-$K98)/7,0)))","v":""},"Make appointment",null,"2022-09-28T16:36:23.980"]
["Design","PRJ1458 Fresenius Kabi",{"$f":"VLOOKUP(B99,'Client&PIC'!A:B,2,FALSE)","v":"June"},"Quotation","QT3","Extension design","Amin","Urgent",1,{"$f":"IF(G99=\"\",\"\",\"1\")","v":"1"},null,null,null,null,null,{"$f":"IF(OR(R99<>\"Completed\",R99<>\"Make appointment\"), \"\",IF(R99=\"\",\"\",_xlfn.DAYS(O99,N99)+1))","v":""},{"$f":"IF(OR(R99<>\"Completed\",R99<>\"Make appointment\"),\"\",IF(R99=\"\",\"\",ROUNDUP(($O99-$K99)/7,0)))","v":""},"In progress",null,"2022-09-28T16:37:49.680"]
["Project","PRJ1372 Ah Yip Tropicana",{"$f":"VLOOKUP(B100,'Client&PIC'!A:B,2,FALSE)","v":"Mr Cheng"},"VO Payment",null,null,"Syazwan",null,1,{"$f":"IF(G100=\"\",\"\",\"1\")","v":"1"},null,null,null,null,null,{"$f":"IF(OR(R100<>\"Completed\",R100<>\"Make appointment\"), \"\",IF(R100=\"\",\"\",_xlfn.DAYS(O100,N100)+1))","v":""},{"$f":"IF(OR(R100<>\"Completed\",R100<>\"Make appointment\"),\"\",IF(R100=\"\",\"\",ROUNDUP(($O100-$K100)/7,0)))","v":""},null,null,""]
["Project","PRJ1434 Ah Yip KL Gateway",{"$f":"VLOOKUP(B101,'Client&PIC'!A:B,2,FALSE)","v":"Mr Cheng"},"Payment","collect payment (5%, 5%)",null,"Syazwan",null,null,{"$f":"IF(G101=\"\",\"\",\"1\")","v":"1"},null,null,null,null,null,{"$f":"IF(OR(R101<>\"Completed\",R101<>\"Make appointment\"), \"\",IF(R101=\"\",\"\",_xlfn.DAYS(O101,N101)+1))","v":""},{"$f":"IF(OR(R101<>\"Completed\",R101<>\"Make appointment\"),\"\",IF(R101=\"\",\"\",ROUNDUP(($O101-$K101)/7,0)))","v":""},null,"remind end of november & dcember",""]
["Project","PRJ1434 Ah Yip KL Gateway",{"$f":"VLOOKUP(B102,'Client&PIC'!A:B,2,FALSE)","v":"Mr Cheng"},"Defects and balance works","rectify on 7/9/22 (8:00PM) pending item for edging of low feature wall termination","Set date with contractors","Prabha",null,1,{"$f":"IF(G102=\"\",\"\",\"1\")","v":"1"},null,null,null,null,null,{"$f":"IF(OR(R102<>\"Completed\",R102<>\"Make appointment\"), \"\",IF(R102=\"\",\"\",_xlfn.DAYS(O102,N102)+1))","v":""},{"$f":"IF(OR(R102<>\"Completed\",R102<>\"Make appointment\"),\"\",IF(R102=\"\",\"\",ROUNDUP(($O102-$K102)/7,0)))","v":""},null,"Almost Done, balance edging tape only estimate 15.10.22",""]
["Project","PRJ1434 Ah Yip KL Gateway",{"$f":"VLOOKUP(B103,'Client&PIC'!A:B,2,FALSE)","v":"Mr Cheng"},"OMM","minimise page",null,"Prabha",null,1,{"$f":"IF(G103=\"\",\"\",\"1\")","v":"1"},null,null,null,null,null,{"$f":"IF(OR(R103<>\"Completed\",R103<>\"Make appointment\"), \"\",IF(R103=\"\",\"\",_xlfn.DAYS(O103,N103)+1))","v":""},{"$f":"IF(OR(R103<>\"Completed\",R103<>\"Make appointment\"),\"\",IF(R103=\"\",\"\",ROUNDUP(($O103-$K103)/7,0)))","v":""},"Pls check comment",null,"2022-09-28T17:37:23.820"]
["Design","PRJ1443 Ah Yip Lowyat",{"$f":"VLOOKUP(B104,'Client&PIC'!A:B,2,FALSE)","v":"Mr Cheng"},"3D","Version 7",null,"Sarah",null,null,{"$f":"IF(G104=\"\",\"\",\"1\")","v":"1"},null,null,null,null,null,{"$f":"IF(OR(R104<>\"Completed\",R104<>\"Make appointment\"), \"\",IF(R104=\"\",\"\",_xlfn.DAYS(O104,N104)+1))","v":""},{"$f":"IF(OR(R104<>\"Completed\",R104<>\"Make appointment\"),\"\",IF(R104=\"\",\"\",ROUNDUP(($O104-$K104)/7,0)))","v":""},null,null,""]
["Design","PRJ1443 Ah Yip Lowyat",{"$f":"VLOOKUP(B105,'Client&PIC'!A:B,2,FALSE)","v":"Mr Cheng"},"Layout Plan","Version 8",null,"Wani","Urgent",1,{"$f":"IF(G105=\"\",\"\",\"1\")","v":"1"},null,null,null,"2022-10-25T15:06:13",null,{"$f":"IF(OR(R105<>\"Completed\",R105<>\"Make appointment\"), \"\",IF(R105=\"\",\"\",_xlfn.DAYS(O105,N105)+1))","v":""},{"$f":"IF(OR(R105<>\"Completed\",R105<>\"Make appointment\"),\"\",IF(R105=\"\",\"\",ROUNDUP(($O105-$K105)/7,0)))","v":""},"Ready to check",null,"2022-10-25T15:06:13"]
["Design","PRJ1443 Ah Yip Lowyat",{"$f":"VLOOKUP(B106,'Client&PIC'!A:B,2,FALSE)","v":"Mr Cheng"},"Purchase item","Version 2",null,"Wani","Urgent",0.5,{"$f":"IF(G106=\"\",\"\",\"1\")","v":"1"},null,null,null,null,null,{"$f":"IF(OR(R106<>\"Completed\",R106<>\"Make appointment\"), \"\",IF(R106=\"\",\"\",_xlfn.DAYS(O106,N106)+1))","v":""},{"$f":"IF(OR(R106<>\"Completed\",R106<>\"Make appointment\"),\"\",IF(R106=\"\",\"\",ROUNDUP(($O106-$K106)/7,0)))","v":""},"Ready to check",null,""]
["Design","PRJ1443 Ah Yip Lowyat",{"$f":"VLOOKUP(B107,'Client&PIC'!A:B,2,FALSE)","v":"Mr Cheng"},"Quotation","QR1-06",null,"Wani","Urgent",0.5,{"$f":"IF(G107=\"\",\"\",\"1\")","v":"1"},null,null,null,null,null,{"$f":"IF(OR(R107<>\"Completed\",R107<>\"Make appointment\"), \"\",IF(R107=\"\",\"\",_xlfn.DAYS(O107,N107)+1))","v":""},{"$f":"IF(OR(R107<>\"Completed\",R107<>\"Make appointment\"),\"\",IF(R107=\"\",\"\",ROUNDUP(($O107-$K107)/7,0)))","v":""},"Ready to check",null,""]
["Design","PRJ1443 Ah Yip Lowyat",{"$f":"VLOOKUP(B108,'Client&PIC'!A:B,2,FALSE)","v":"Mr Cheng"},"3D","V10",null,null,null,null,{"$f":"IF(G108=\"\",\"\",\"1\")","v":""},null,null,null,null,null,{"$f":"IF(OR(R108<>\"Completed\",R108<>\"Make appointment\"), \"\",IF(R108=\"\",\"\",_xlfn.DAYS(O108,N108)+1))","v":""},{"$f":"IF(OR(R108<>\"Completed\",R108<>\"Make appointment\"),\"\",IF(R108=\"\",\"\",ROUNDUP(($O108-$K108)/7,0)))","v":""}]
["Design","PRJ1443 Ah Yip Lowyat",{"$f":"VLOOKUP(B109,'Client&PIC'!A:B,2,FALSE)","v":"Mr Cheng"},"Layout Plan","V10",null,null,null,null,{"$f":"IF(G109=\"\",\"\",\"1\")","v":""},null,null,null,null,null,{"$f":"IF(OR(R109<>\"Completed\",R109<>\"Make appointment\"), \"\",IF(R109=\"\",\"\",_xlfn.DAYS(O109,N109)+1))","v":""},{"$f":"IF(OR(R109<>\"Completed\",R109<>\"Make appointment\"),\"\",IF(R109=\"\",\"\",ROUNDUP(($O109-$K109)/7,0)))","v":""}]
["Design","PRJ1443 Ah Yip Lowyat",{"$f":"VLOOKUP(B110,'Client&PIC'!A:B,2,FALSE)","v":"Mr Cheng"},"Purchase item","V7","audio system",null,null,null,{"$f":"IF(G110=\"\",\"\",\"1\")","v":""},null,null,null,null,null,{"$f":"IF(OR(R110<>\"Completed\",R110<>\"Make appointment\"), \"\",IF(R110=\"\",\"\",_xlfn.DAYS(O110,N110)+1))","v":""},{"$f":"IF(OR(R110<>\"Completed\",R110<>\"Make appointment\"),\"\",IF(R110=\"\",\"\",ROUNDUP(($O110-$K110)/7,0)))","v":""}]
["Design","PRJ1443 Ah Yip Lowyat",{"$f":"VLOOKUP(B111,'Client&PIC'!A:B,2,FALSE)","v":"Mr Cheng"},"Quotation","V7",null,null,null,null,{"$f":"IF(G111=\"\",\"\",\"1\")","v":""},null,null,null,null,null,{"$f":"IF(OR(R111<>\"Completed\",R111<>\"Make appointment\"), \"\",IF(R111=\"\",\"\",_xlfn.DAYS(O111,N111)+1))","v":""},{"$f":"IF(OR(R111<>\"Completed\",R111<>\"Make appointment\"),\"\",IF(R111=\"\",\"\",ROUNDUP(($O111-$K111)/7,0)))","v":""}]
["Design","PRJ1443 Ah Yip Lowyat",{"$f":"VLOOKUP(B112,'Client&PIC'!A:B,2,FALSE)","v":"Mr Cheng"},"Material board","V1",null,"Wani",null,1,{"$f":"IF(G112=\"\",\"\",\"1\")","v":"1"},null,null,null,null,null,{"$f":"IF(OR(R112<>\"Completed\",R112<>\"Make appointment\"), \"\",IF(R112=\"\",\"\",_xlfn.DAYS(O112,N112)+1))","v":""},{"$f":"IF(OR(R112<>\"Completed\",R112<>\"Make appointment\"),\"\",IF(R112=\"\",\"\",ROUNDUP(($O112-$K112)/7,0)))","v":""},"Ready to check",null,""]
["Design","PRJ1464 Ah Yip Hartamas",{"$f":"VLOOKUP(B113,'Client&PIC'!A:B,2,FALSE)","v":"Mr Cheng"},"Layout Plan","V2",null,"Wani",null,null,{"$f":"IF(G113=\"\",\"\",\"1\")","v":"1"},null,null,null,null,null,{"$f":"IF(OR(R113<>\"Completed\",R113<>\"Make appointment\"), \"\",IF(R113=\"\",\"\",_xlfn.DAYS(O113,N113)+1))","v":""},{"$f":"IF(OR(R113<>\"Completed\",R113<>\"Make Appointment\"),\"\",IF(R113=\"\",\"\",ROUNDUP(($O113-$K113)/7,0)))","v":""}]
["Design","PRJ1464 Ah Yip Paradigm Mall",{"$f":"VLOOKUP(B114,'Client&PIC'!A:B,2,FALSE)","v":"Mr Cheng"},"Layout","V1",null,"Wani",null,null,{"$f":"IF(G114=\"\",\"\",\"1\")","v":"1"},null,null,null,null,null,{"$f":"IF(OR(R114<>\"Completed\",R114<>\"Make appointment\"), \"\",IF(R114=\"\",\"\",_xlfn.DAYS(O114,N114)+1))","v":""},{"$f":"IF(OR(R114<>\"Completed\",R114<>\"Make Appointment\"),\"\",IF(R114=\"\",\"\",ROUNDUP(($O114-$K114)/7,0)))","v":""}]
["Design","PRJ1464 Ah Yip Paradigm Mall",{"$f":"VLOOKUP(B115,'Client&PIC'!A:B,2,FALSE)","v":"Mr Cheng"},"3D","V1",null,"Izzad",null,null,{"$f":"IF(G115=\"\",\"\",\"1\")","v":"1"},null,null,null,null,null,{"$f":"IF(OR(R115<>\"Completed\",R115<>\"Make appointment\"), \"\",IF(R115=\"\",\"\",_xlfn.DAYS(O115,N115)+1))","v":""},{"$f":"IF(OR(R115<>\"Completed\",R115<>\"Make Appointment\"),\"\",IF(R115=\"\",\"\",ROUNDUP(($O115-$K115)/7,0)))","v":""}]
["Design","PRJ1464 Ah Yip Paradigm Mall",{"$f":"VLOOKUP(B116,'Client&PIC'!A:B,2,FALSE)","v":"Mr Cheng"},"Layout","V3",null,"Wani",null,null,{"$f":"IF(G116=\"\",\"\",\"1\")","v":"1"},null,null,null,null,null,{"$f":"IF(OR(R116<>\"Completed\",R116<>\"Make appointment\"), \"\",IF(R116=\"\",\"\",_xlfn.DAYS(O116,N116)+1))","v":""},{"$f":"IF(OR(R116<>\"Completed\",R116<>\"Make Appointment\"),\"\",IF(R116=\"\",\"\",ROUNDUP(($O116-$K116)/7,0)))","v":""}]
["Project","PRJ1484 Bungalow @ Jalan Awan Cina",{"$f":"VLOOKUP(B117,'Client&PIC'!A:B,2,FALSE)","v":"Mr Tan"},"Design Fee","QD1",null,"Wani",null,null,{"$f":"IF(G117=\"\",\"\",\"1\")","v":"1"},null,null,null,null,null,{"$f":"IF(OR(R117<>\"Completed\",R117<>\"Make appointment\"), \"\",IF(R117=\"\",\"\",_xlfn.DAYS(O117,N117)+1))","v":""},{"$f":"IF(OR(R117<>\"Completed\",R117<>\"Make appointment\"),\"\",IF(R117=\"\",\"\",ROUNDUP(($O117-$K117)/7,0)))","v":""}]
["Project","PRJ1484 Bungalow @ Jalan Awan Cina",{"$f":"VLOOKUP(B118,'Client&PIC'!A:B,2,FALSE)","v":"Mr Tan"},"Layout","V1A,B",null,"Wani",null,null,{"$f":"IF(G118=\"\",\"\",\"1\")","v":"1"},null,null,null,null,null,{"$f":"IF(OR(R118<>\"Completed\",R118<>\"Make appointment\"), \"\",IF(R118=\"\",\"\",_xlfn.DAYS(O118,N118)+1))","v":""},{"$f":"IF(OR(R118<>\"Completed\",R118<>\"Make appointment\"),\"\",IF(R118=\"\",\"\",ROUNDUP(($O118-$K118)/7,0)))","v":""}]
["Project","PRJ1484 Bungalow @ Jalan Awan Cina",{"$f":"VLOOKUP(B119,'Client&PIC'!A:B,2,FALSE)","v":"Mr Tan"},"Proposal","V1A,B",null,"Wani",null,null,{"$f":"IF(G119=\"\",\"\",\"1\")","v":"1"},null,null,null,null,null,{"$f":"IF(OR(R119<>\"Completed\",R119<>\"Make appointment\"), \"\",IF(R119=\"\",\"\",_xlfn.DAYS(O119,N119)+1))","v":""},{"$f":"IF(OR(R119<>\"Completed\",R119<>\"Make appointment\"),\"\",IF(R119=\"\",\"\",ROUNDUP(($O119-$K119)/7,0)))","v":""}]
["Project","PRJ1484 Bungalow @ Jalan Awan Cina",{"$f":"VLOOKUP(B120,'Client&PIC'!A:B,2,FALSE)","v":"Mr Tan"},"Layout","V1C",null,"Izzad",null,null,{"$f":"IF(G120=\"\",\"\",\"1\")","v":"1"},null,null,null,null,null,{"$f":"IF(OR(R120<>\"Completed\",R120<>\"Make appointment\"), \"\",IF(R120=\"\",\"\",_xlfn.DAYS(O120,N120)+1))","v":""},{"$f":"IF(OR(R120<>\"Completed\",R120<>\"Make appointment\"),\"\",IF(R120=\"\",\"\",ROUNDUP(($O120-$K120)/7,0)))","v":""}]
["Project","PRJ1484 Bungalow @ Jalan Awan Cina",{"$f":"VLOOKUP(B121,'Client&PIC'!A:B,2,FALSE)","v":"Mr Tan"},"Proposal","V1C",null,"Izzad",null,null,{"$f":"IF(G121=\"\",\"\",\"1\")","v":"1"},null,null,null,null,null,{"$f":"IF(OR(R121<>\"Completed\",R121<>\"Make appointment\"), \"\",IF(R121=\"\",\"\",_xlfn.DAYS(O121,N121)+1))","v":""},{"$f":"IF(OR(R121<>\"Completed\",R121<>\"Make appointment\"),\"\",IF(R121=\"\",\"\",ROUNDUP(($O121-$K121)/7,0)))","v":""}]
["Design","PRJ1402 Nizam",{"$f":"VLOOKUP(B122,'Client&PIC'!A:B,2,FALSE)","v":"Nizam"},"DP",null,"Get briefing from Billy","Amin",null,1,{"$f":"IF(G122=\"\",\"\",\"1\")","v":"1"},null,null,null,null,null,{"$f":"IF(OR(R122<>\"Completed\",R122<>\"Make appointment\"), \"\",IF(R122=\"\",\"\",_xlfn.DAYS(O122,N122)+1))","v":""},{"$f":"IF(OR(R122<>\"Completed\",R122<>\"Make appointment\"),\"\",IF(R122=\"\",\"\",ROUNDUP(($O122-$K122)/7,0)))","v":""},null,null,""]
["Design","PRJ1402 Nizam",{"$f":"VLOOKUP(B123,'Client&PIC'!A:B,2,FALSE)","v":"Nizam"},"DP",null,"Get briefing from Billy","Amin",null,1,{"$f":"IF(G123=\"\",\"\",\"1\")","v":"1"},null,null,null,null,null,{"$f":"IF(OR(R123<>\"Completed\",R123<>\"Make appointment\"), \"\",IF(R123=\"\",\"\",_xlfn.DAYS(O123,N123)+1))","v":""},{"$f":"IF(OR(R123<>\"Completed\",R123<>\"Make appointment\"),\"\",IF(R123=\"\",\"\",ROUNDUP(($O123-$K123)/7,0)))","v":""},null,null,""]
["Account","PRJ1431 Shak & Co Setapak",{"$f":"VLOOKUP(B124,'Client&PIC'!A:B,2,FALSE)","v":"Shakira"},"Payment from client",null,"send reminder monthly, issue lowyer letter","Kimmie",null,2,{"$f":"IF(G124=\"\",\"\",\"1\")","v":"1"},"2022-10-28T16:07:37",null,null,null,null,{"$f":"IF(OR(R124<>\"Completed\",R124<>\"Make appointment\"), \"\",IF(R124=\"\",\"\",_xlfn.DAYS(O124,N124)+1))","v":""},{"$f":"IF(OR(R124<>\"Completed\",R124<>\"Make appointment\"),\"\",IF(R124=\"\",\"\",ROUNDUP(($O124-$K124)/7,0)))","v":""},null,"Go to her shop first, if no answer issue lawyer letter",""]
["Design","PRJ1454 Toyota Showroom",{"$f":"VLOOKUP(B125,'Client&PIC'!A:B,2,FALSE)","v":"Sharen"},"PIC",null,null,"Syazwan",null,null,{"$f":"IF(G125=\"\",\"\",\"1\")","v":"1"},null,null,null,null,null,{"$f":"IF(OR(R125<>\"Completed\",R125<>\"Make appointment\"), \"\",IF(R125=\"\",\"\",_xlfn.DAYS(O125,N125)+1))","v":""},{"$f":"IF(OR(R125<>\"Completed\",R125<>\"Make appointment\"),\"\",IF(R125=\"\",\"\",ROUNDUP(($O125-$K125)/7,0)))","v":""}]

{"sheet":"Client&PIC","index":1,"n_rows":35,"n_cols":6,"rows_kept":35,"cut":false,"hidden":false,"merged":[]}
["Client & PIC"]
["Project Name","Client","PIC Name","Executive","Appointment","Document"]
["Enquiry",null,"Billy"]
["Internal",null,"All Designer"]
["Interview",null,"Kimmie"]
["PRJ1299 Showroom Sri Kembangan","Billy Toh"]
["PRJ1345 Sanggul Emas","Curine Wong","Amin"]
["PRJ1354 Sunway Geolake","Alan Ling","Kimmie"]
["PRJ1372 Ah Yip Tropicana","Mr Cheng","Prabha"]
["PRJ1394 Chen Ann","Chen Ann","Amin"]
["PRJ1402 Nizam","Nizam","Amin"]
["PRJ1419 Fresenius","Chloe","Prabha"]
["PRJ1431 Shak & Co Setapak","Shakira","Kimmie"]
["PRJ1434 Ah Yip KL Gateway","Mr Cheng","Syazwan"]
["PRJ1443 Ah Yip Lowyat","Mr Cheng","Syazwan/Amin","Wani"]
["PRJ1453 Funeral Hall","Evon Ong","Wani"]
["PRJ1454 Toyota Showroom","Sharen","Syazwan","Izzad"]
["PRJ1456 Petai King Velocity","Eric Toh","Izzad","Wani"]
["PRJ1457 Setia City Residences","Sharen","Wani"]
["PRJ1458 Fresenius Kabi","June","Amin"]
["PRJ1462 Lalaport","Sin Yee","Amin"]
["PRJ1463 Akasa Business Park",null,"Syazwan"]
["PRJ1464 Ah Yip Hartamas","Mr Cheng","Syazwan"]
["PRJ1464 Ah Yip Paradigm Mall","Mr Cheng","Syazwan"]
["PRJ1465 Eastman Office","Alan Loh","Izzad"]
["PRJ1466 Fresenius Bukit Jelutong","Chloe","Amin"]
["PRJ1470 SLS Office Senawang","Jacky","Syazwan"]
["PRJ1471 Bakery Shop","Jacqueline","Wani"]
["PRJ1472 Flight Management Building @ KLIA","Yusof","Syazwan"]
["PRJ1473 Engineering Complex @ SSZ KLIA ","Yusof","Syazwan"]
["PRJ1474 Advance Kargo Centre @ MAS Kargo KLIA","Yusof","Syazwan"]
["PRJ1475 Car park @ sanggul emas","Curine Wong","Amin"]
["PRJ1478 Synagie Factory @ Shah Alam "]
["PRJ1481 Landed House","Brandon"]
["PRJ1484 Bungalow @ Jalan Awan Cina","Mr Tan","Wani"]

{"sheet":"CompletedTask","index":2,"n_rows":175,"n_cols":20,"rows_kept":175,"cut":false,"hidden":false,"merged":[]}
["Department","Project","Client","Task","  Item/Document","Action","Assigned To","Priority","Estimated Duration (in days)","Estimated Duration (in weeks)",null,"Estimated\nStart","Estimated \nFinish","Actual Start Date",null,"Actual Duration (in days)","Actual Duration (in weeks)","Status","Remarks","Last Updates"]
["Project","PRJ1419 Fresenius",null,"Handover","HDR, PUNCH, QT, DEFECT","sign and email client","Prabha","Urgent","2022-08-01",0.5,null,null,{"$f":"IF(ISBLANK(J2),\"\",IF(J2<1,I2,J2+I2-1))","v":"2022-08-01"},{"$f":"IF(R2=\"Not started\",\"\",IF(R2=\"\",\"\",TODAY()))","v":"2022-11-02"},null,{"$f":"IF(R2<>\"Completed\",\"\",IF(R2=\"\",\"\",_xlfn.DAYS(O2,N2)+1))","v":-44866},{"$f":"IF(R2<>\"Completed\",\"\",IF(R2=\"\",\"\",ROUNDUP(($O2-$I2)/7,0)))","v":-6397},"Completed",null,{"$f":"IF(R2=\"Not started\",\"\",IF(R2<>\"\",IF(AND(T2<>\"\",CELL(\"address\")=ADDRESS(ROW(R2),COLUMN(R2))),NOW(),IF(CELL(\"address\")<>ADDRESS(ROW(R2),COLUMN(R2)),T2,NOW())),\"\"))","v":"2022-08-03T12:16:59.760"}]
["Project","PRJ1372 Ah Yip Tropicana",null,"OMM",null,null,"Syazwan",null,0.5,{"$f":"IF(G3=\"\",\"\",\"1\")","v":"1"},null,null,{"$f":"IF(ISBLANK(I3),\"\",IF(I3<1,K3,K3+I3-1))","v":"00:00:00"},"2022-11-02",null,-44866,-1,"Completed",null,{"$f":"IF(R3=\"Not started\",\"\",IF(R3<>\"\",IF(AND(T3<>\"\",CELL(\"address\")=ADDRESS(ROW(R3),COLUMN(R3))),NOW(),IF(CELL(\"address\")<>ADDRESS(ROW(R3),COLUMN(R3)),T3,NOW())),\"\"))","v":"2022-08-04T10:23:28.870"}]
["Project","PRJ1375 D Latour",null,"Defect","Leakage",null,"Prabha",null,null,{"$f":"IF(G4=\"\",\"\",\"1\")","v":"1"},null,null,"",{"$f":"IF(R4=\"Not started\",\"\",IF(R4=\"\",\"\",TODAY()))","v":"2022-11-02"},null,-44866,0,"Completed",null,{"$f":"IF(R4=\"Not started\",\"\",IF(R4<>\"\",IF(AND(T4<>\"\",CELL(\"address\")=ADDRESS(ROW(R4),COLUMN(R4))),NOW(),IF(CELL(\"address\")<>ADDRESS(ROW(R4),COLUMN(R4)),T4,NOW())),\"\"))","v":"2022-08-04T10:54:22.130"}]
["Enquiry","PRJ1460 SemiD Setia Mayuri",null,"Create project",null,null,"Kimmie",null,0.5,{"$f":"IF(G5=\"\",\"\",\"1\")","v":"1"},null,null,"00:00:00",{"$f":"IF(R5=\"Not started\",\"\",IF(R5=\"\",\"\",TODAY()))","v":"2022-11-02"},null,-44866,-1,"Completed",null,{"$f":"IF(R5=\"Not started\",\"\",IF(R5<>\"\",IF(AND(T5<>\"\",CELL(\"address\")=ADDRESS(ROW(R5),COLUMN(R5))),NOW(),IF(CELL(\"address\")<>ADDRESS(ROW(R5),COLUMN(R5)),T5,NOW())),\"\"))","v":"2022-08-08T11:13:12.740"}]
["Enquiry","PRJ1458 Fresenius Kabi",null,"Create project",null,null,"Syazwan",null,0.5,"1",null,null,"00:00:00","2022-11-02",null,-44866,-1,"Completed",null,{"$f":"IF(R6=\"Not started\",\"\",IF(R6<>\"\",IF(AND(T6<>\"\",CELL(\"address\")=ADDRESS(ROW(R6),COLUMN(R6))),NOW(),IF(CELL(\"address\")<>ADDRESS(ROW(R6),COLUMN(R6)),T6,NOW())),\"\"))","v":"2022-08-08T11:13:46.690"}]
["Enquiry","PRJ1457 Setia City Residences",null,"Create project",null,null,"Wani",null,0.5,"1",null,null,"00:00:00","2022-11-02",null,-44866,-1,"Completed",null,{"$f":"IF(R7=\"Not started\",\"\",IF(R7<>\"\",IF(AND(T7<>\"\",CELL(\"address\")=ADDRESS(ROW(R7),COLUMN(R7))),NOW(),IF(CELL(\"address\")<>ADDRESS(ROW(R7),COLUMN(R7)),T7,NOW())),\"\"))","v":"2022-08-08T11:14:07.310"}]
["Design","PRJ1457 Setia City Residences",null,"Layout","2 option",null,"Wani",null,0.5,"1",null,null,"00:00:00","2022-11-02",null,-44866,-1,"Completed",null,{"$f":"IF(R8=\"Not started\",\"\",IF(R8<>\"\",IF(AND(T8<>\"\",CELL(\"address\")=ADDRESS(ROW(R8),COLUMN(R8))),NOW(),IF(CELL(\"address\")<>ADDRESS(ROW(R8),COLUMN(R8)),T8,NOW())),\"\"))","v":"2022-08-08T10:45:58.670"}]
["Design","PRJ1457 Setia City Residences",null,"Design porposal",null,null,"Wani",null,0.5,"1",null,null,"00:00:00","2022-11-02",null,{"$f":"IF(R9<>\"Completed\",\"\",IF(R9=\"\",\"\",_xlfn.DAYS(O9,N9)+1))","v":-44866},-1,"Completed",null,{"$f":"IF(R9=\"Not started\",\"\",IF(R9<>\"\",IF(AND(T9<>\"\",CELL(\"address\")=ADDRESS(ROW(R9),COLUMN(R9))),NOW(),IF(CELL(\"address\")<>ADDRESS(ROW(R9),COLUMN(R9)),T9,NOW())),\"\"))","v":"2022-08-08T10:45:59.770"}]
["Design","PRJ1454 Toyota Showroom",null,"Layout",null,null,"Amin",null,0.5,"1",null,null,"00:00:00","2022-11-02",null,-44866,-1,"Completed","3 options",{"$f":"IF(R10=\"Not started\",\"\",IF(R10<>\"\",IF(AND(T10<>\"\",CELL(\"address\")=ADDRESS(ROW(R10),COLUMN(R10))),NOW(),IF(CELL(\"address\")<>ADDRESS(ROW(R10),COLUMN(R10)),T10,NOW())),\"\"))","v":"2022-08-08T10:43:07.240"}]
["Design","PRJ1454 Toyota Showroom",null,"DP",null,null,"Amin",null,0.5,"1",null,null,"00:00:00","2022-11-02",null,-44866,-1,"Completed",null,{"$f":"IF(R11=\"Not started\",\"\",IF(R11<>\"\",IF(AND(T11<>\"\",CELL(\"address\")=ADDRESS(ROW(R11),COLUMN(R11))),NOW(),IF(CELL(\"address\")<>ADDRESS(ROW(R11),COLUMN(R11)),T11,NOW())),\"\"))","v":"2022-08-08T10:43:11.150"}]
["Design","PRJ1443 Ah Yip Lowyat",null,"Layout",null,null,"Izzad",null,0,"1",null,null,"00:00:00","2022-11-02",null,-44866,0,"Completed",null,{"$f":"IF(R12=\"Not started\",\"\",IF(R12<>\"\",IF(AND(T12<>\"\",CELL(\"address\")=ADDRESS(ROW(R12),COLUMN(R12))),NOW(),IF(CELL(\"address\")<>ADDRESS(ROW(R12),COLUMN(R12)),T12,NOW())),\"\"))","v":"2022-08-08T11:14:34.870"}]
["Design","PRJ1443 Ah Yip Lowyat",null,"3D",null,null,"Syazwan",null,0.5,"1",null,null,"00:00:00","2022-11-02",null,-44866,-1,"Completed",null,{"$f":"IF(R13=\"Not started\",\"\",IF(R13<>\"\",IF(AND(T13<>\"\",CELL(\"address\")=ADDRESS(ROW(R13),COLUMN(R13))),NOW(),IF(CELL(\"address\")<>ADDRESS(ROW(R13),COLUMN(R13)),T13,NOW())),\"\"))","v":"2022-08-08T11:07:19.770"}]
["Design","PRJ1443 Ah Yip Lowyat",null,"Detail Drawing",null,null,"Wani",null,0,"1",null,"2022-08-03","00:00:00","2022-11-02",null,-44866,0,"Completed",null,{"$f":"IF(R14=\"Not started\",\"\",IF(R14<>\"\",IF(AND(T14<>\"\",CELL(\"address\")=ADDRESS(ROW(R14),COLUMN(R14))),NOW(),IF(CELL(\"address\")<>ADDRESS(ROW(R14),COLUMN(R14)),T14,NOW())),\"\"))","v":"2022-08-08T10:45:52.420"}]
["Design","PRJ1443 Ah Yip Lowyat",null,"Quotation",null,null,"Wani",null,0.5,"1",null,null,"00:00:00","2022-11-02",null,-44866,-1,"Completed",null,{"$f":"IF(R15=\"Not started\",\"\",IF(R15<>\"\",IF(AND(T15<>\"\",CELL(\"address\")=ADDRESS(ROW(R15),COLUMN(R15))),NOW(),IF(CELL(\"address\")<>ADDRESS(ROW(R15),COLUMN(R15)),T15,NOW())),\"\"))","v":"2022-08-08T10:45:53.700"}]
["Design","PRJ1443 Ah Yip Lowyat",null,"Save client comment",null,null,"Wani",null,null,"1",null,null,"","2022-11-02",null,-44866,0,"Completed",null,{"$f":"IF(R16=\"Not started\",\"\",IF(R16<>\"\",IF(AND(T16<>\"\",CELL(\"address\")=ADDRESS(ROW(R16),COLUMN(R16))),NOW(),IF(CELL(\"address\")<>ADDRESS(ROW(R16),COLUMN(R16)),T16,NOW())),\"\"))","v":"2022-08-08T10:46:04.180"}]
["Design","PRJ1434 Ah Yip KL Gateway",null,"3D",null,null,"Syazwan",null,0.5,"1",null,null,"00:00:00","2022-11-02",null,-44866,-1,"Completed",null,{"$f":"IF(R17=\"Not started\",\"\",IF(R17<>\"\",IF(AND(T17<>\"\",CELL(\"address\")=ADDRESS(ROW(R17),COLUMN(R17))),NOW(),IF(CELL(\"address\")<>ADDRESS(ROW(R17),COLUMN(R17)),T17,NOW())),\"\"))","v":"2022-08-08T11:07:22.710"}]
["Design","PRJ1434 Ah Yip KL Gateway",null,"Detail Drawing",null,null,"Wani",null,0.5,"1",null,null,"00:00:00","2022-11-02",null,-44866,-1,"Completed",null,{"$f":"IF(R18=\"Not started\",\"\",IF(R18<>\"\",IF(AND(T18<>\"\",CELL(\"address\")=ADDRESS(ROW(R18),COLUMN(R18))),NOW(),IF(CELL(\"address\")<>ADDRESS(ROW(R18),COLUMN(R18)),T18,NOW())),\"\"))","v":"2022-08-08T10:45:49.240"}]
["Design","PRJ1434 Ah Yip KL Gateway",null,"Quotation",null,null,"Wani",null,0.5,"1",null,null,"00:00:00","2022-11-02",null,-44866,-1,"Completed",null,{"$f":"IF(R19=\"Not started\",\"\",IF(R19<>\"\",IF(AND(T19<>\"\",CELL(\"address\")=ADDRESS(ROW(R19),COLUMN(R19))),NOW(),IF(CELL(\"address\")<>ADDRESS(ROW(R19),COLUMN(R19)),T19,NOW())),\"\"))","v":"2022-08-08T10:45:51.190"}]
["Project","PRJ1434 Ah Yip KL Gateway",null,"submission","WS, WL, Insurance, form, ",null,"All Designer",null,0.5,"1",null,null,"00:00:00","2022-11-02",null,-44866,-1,"Completed",null,{"$f":"IF(R20=\"Not started\",\"\",IF(R20<>\"\",IF(AND(T20<>\"\",CELL(\"address\")=ADDRESS(ROW(R20),COLUMN(R20))),NOW(),IF(CELL(\"address\")<>ADDRESS(ROW(R20),COLUMN(R20)),T20,NOW())),\"\"))","v":"2022-08-08T11:14:45.670"}]
["Account","PRJ1434 Ah Yip KL Gateway",null,"collect payment",null,null,"Syazwan",null,0.5,"1",null,null,"00:00:00","2022-11-02",null,-44866,-1,"Completed","banked in",{"$f":"IF(R21=\"Not started\",\"\",IF(R21<>\"\",IF(AND(T21<>\"\",CELL(\"address\")=ADDRESS(ROW(R21),COLUMN(R21))),NOW(),IF(CELL(\"address\")<>ADDRESS(ROW(R21),COLUMN(R21)),T21,NOW())),\"\"))","v":"2022-08-08T11:15:10.700"}]
["Design","PRJ1434 Ah Yip KL Gateway",null,"Prepare latest dwg",null,null,"Wani",null,null,"1",null,null,"","2022-11-02",null,-44866,0,"Completed",null,{"$f":"IF(R22=\"Not started\",\"\",IF(R22<>\"\",IF(AND(T22<>\"\",CELL(\"address\")=ADDRESS(ROW(R22),COLUMN(R22))),NOW(),IF(CELL(\"address\")<>ADDRESS(ROW(R22),COLUMN(R22)),T22,NOW())),\"\"))","v":"2022-08-08T10:46:03.080"}]
["Project","PRJ1434 Ah Yip KL Gateway",null,"Select contractor",null,null,"Billy",null,0.5,"1",null,null,"00:00:00","2022-11-02",null,-44866,-1,"Completed",null,{"$f":"IF(R23=\"Not started\",\"\",IF(R23<>\"\",IF(AND(T23<>\"\",CELL(\"address\")=ADDRESS(ROW(R23),COLUMN(R23))),NOW(),IF(CELL(\"address\")<>ADDRESS(ROW(R23),COLUMN(R23)),T23,NOW())),\"\"))","v":"2022-08-08T11:16:02.870"}]
["Project","PRJ1419 Fresenius",null,"Handover","HDR, PUNCH, QT, DEFECT","sign and email client","Prabha","Urgent",0.5,"1",null,null,"00:00:00","2022-11-02",null,-44866,-1,"Completed",null,{"$f":"IF(R24=\"Not started\",\"\",IF(R24<>\"\",IF(AND(T24<>\"\",CELL(\"address\")=ADDRESS(ROW(R24),COLUMN(R24))),NOW(),IF(CELL(\"address\")<>ADDRESS(ROW(R24),COLUMN(R24)),T24,NOW())),\"\"))","v":"2022-08-08T10:52:29.470"}]
["Project","PRJ1419 Fresenius",null,"As built drawing",null,null,"Prabha","Urgent",1,"1",null,null,"00:00:00","2022-11-02",null,-44866,-1,"Completed",null,{"$f":"IF(R25=\"Not started\",\"\",IF(R25<>\"\",IF(AND(T25<>\"\",CELL(\"address\")=ADDRESS(ROW(R25),COLUMN(R25))),NOW(),IF(CELL(\"address\")<>ADDRESS(ROW(R25),COLUMN(R25)),T25,NOW())),\"\"))","v":"2022-08-08T10:57:54.010"}]
["Project","PRJ1419 Fresenius",null,"VO to client",null,"ask billy discuss with chloe","Prabha",null,null,"1",null,null,"","2022-11-02",null,-44866,0,"Completed",null,{"$f":"IF(R26=\"Not started\",\"\",IF(R26<>\"\",IF(AND(T26<>\"\",CELL(\"address\")=ADDRESS(ROW(R26),COLUMN(R26))),NOW(),IF(CELL(\"address\")<>ADDRESS(ROW(R26),COLUMN(R26)),T26,NOW())),\"\"))","v":"2022-08-08T10:59:53.020"}]
["Design","PRJ1394 Chen Ann",null,"DP",null,null,"Amin",null,0.5,"1",null,null,"00:00:00","2022-11-02",null,-44866,-1,"Completed",null,{"$f":"IF(R27=\"Not started\",\"\",IF(R27<>\"\",IF(AND(T27<>\"\",CELL(\"address\")=ADDRESS(ROW(R27),COLUMN(R27))),NOW(),IF(CELL(\"address\")<>ADDRESS(ROW(R27),COLUMN(R27)),T27,NOW())),\"\"))","v":"2022-08-08T10:43:30.150"}]
["Design","PRJ1394 Chen Ann",null,"3D",null,null,"Amin",null,2,"1",null,null,"1900-01-01","2022-11-02",null,-44866,-1,"Completed",null,{"$f":"IF(R28=\"Not started\",\"\",IF(R28<>\"\",IF(AND(T28<>\"\",CELL(\"address\")=ADDRESS(ROW(R28),COLUMN(R28))),NOW(),IF(CELL(\"address\")<>ADDRESS(ROW(R28),COLUMN(R28)),T28,NOW())),\"\"))","v":"2022-08-08T10:42:49.910"}]
["Project","PRJ1372 Ah Yip Tropicana",null,"Defect","Defect report",null,"Prabha",null,null,"1",null,null,"","2022-11-02",null,-44866,0,"Completed",null,{"$f":"IF(R29=\"Not started\",\"\",IF(R29<>\"\",IF(AND(T29<>\"\",CELL(\"address\")=ADDRESS(ROW(R29),COLUMN(R29))),NOW(),IF(CELL(\"address\")<>ADDRESS(ROW(R29),COLUMN(R29)),T29,NOW())),\"\"))","v":"2022-08-08T11:03:10.590"}]
["Design","PRJ1460 SemiD Setia Mayuri",null,"Layout",null,null,"Amin",null,0.5,{"$f":"IF(G30=\"\",\"\",\"1\")","v":"1"},null,null,"00:00:00",{"$f":"IF(R30=\"Not started\",\"\",IF(R30=\"\",\"\",TODAY()))","v":"2022-11-02"},null,-44866,-1,"Completed",null,{"$f":"IF(R30=\"Not started\",\"\",IF(R30<>\"\",IF(AND(T30<>\"\",CELL(\"address\")=ADDRESS(ROW(R30),COLUMN(R30))),NOW(),IF(CELL(\"address\")<>ADDRESS(ROW(R30),COLUMN(R30)),T30,NOW())),\"\"))","v":"2022-08-09T15:48:08.410"}]
["Design","PRJ1460 SemiD Setia Mayuri",null,"DP",null,null,"Amin",null,0.5,"1",null,null,"00:00:00","2022-11-02",null,-44866,-1,"Completed",null,{"$f":"IF(R31=\"Not started\",\"\",IF(R31<>\"\",IF(AND(T31<>\"\",CELL(\"address\")=ADDRESS(ROW(R31),COLUMN(R31))),NOW(),IF(CELL(\"address\")<>ADDRESS(ROW(R31),COLUMN(R31)),T31,NOW())),\"\"))","v":"2022-08-09T15:48:15.620"}]
["Enquiry","PRJ1461 Cafeteria Air Keroh",null,"Create project",null,null,"Syazwan",null,0.5,"1",null,null,"00:00:00","2022-11-02",null,-44866,-1,"Completed",null,{"$f":"IF(R32=\"Not started\",\"\",IF(R32<>\"\",IF(AND(T32<>\"\",CELL(\"address\")=ADDRESS(ROW(R32),COLUMN(R32))),NOW(),IF(CELL(\"address\")<>ADDRESS(ROW(R32),COLUMN(R32)),T32,NOW())),\"\"))","v":"00:00:00"}]
["Enquiry","PRJ1459 Malaysia Airline",null,"Create project",null,null,"Syazwan",null,0.5,"1",null,null,"00:00:00","2022-11-02",null,-44866,-1,"Completed",null,{"$f":"IF(R33=\"Not started\",\"\",IF(R33<>\"\",IF(AND(T33<>\"\",CELL(\"address\")=ADDRESS(ROW(R33),COLUMN(R33))),NOW(),IF(CELL(\"address\")<>ADDRESS(ROW(R33),COLUMN(R33)),T33,NOW())),\"\"))","v":"00:00:00"}]
["Project","PRJ1434 Ah Yip KL Gateway",null,"Project awarded","Signed QT, 2D, 3D, MP, CT","file in & email client","Syazwan",null,null,"1",null,null,"","2022-11-02",null,-44866,{"$f":"IF(R34<>\"Completed\",\"\",IF(R34=\"\",\"\",ROUNDUP(($O34-$I34)/7,0)))","v":0},"Completed",null,{"$f":"IF(R34=\"Not started\",\"\",IF(R34<>\"\",IF(AND(T34<>\"\",CELL(\"address\")=ADDRESS(ROW(R34),COLUMN(R34))),NOW(),IF(CELL(\"address\")<>ADDRESS(ROW(R34),COLUMN(R34)),T34,NOW())),\"\"))","v":"00:00:00"}]
["Project","PRJ1434 Ah Yip KL Gateway",null,"Get permit",null,null,"Syazwan",null,0.5,"1",null,null,{"$f":"IF(ISBLANK(I35),\"\",IF(I35<1,K35,K35+I35-1))","v":"00:00:00"},"2022-11-02",null,-44866,-1,"Completed",null,{"$f":"IF(R35=\"Not started\",\"\",IF(R35<>\"\",IF(AND(T35<>\"\",CELL(\"address\")=ADDRESS(ROW(R35),COLUMN(R35))),NOW(),IF(CELL(\"address\")<>ADDRESS(ROW(R35),COLUMN(R35)),T35,NOW())),\"\"))","v":"00:00:00"}]
["Contractor","Electrical Soon",null,"fresenius, lowyat, huan","ask to come office discuss quotation",null,"Wani",null,null,"1",null,null,"","2022-11-02",null,-44866,0,"Completed",null,{"$f":"IF(R36=\"Not started\",\"\",IF(R36<>\"\",IF(AND(T36<>\"\",CELL(\"address\")=ADDRESS(ROW(R36),COLUMN(R36))),NOW(),IF(CELL(\"address\")<>ADDRESS(ROW(R36),COLUMN(R36)),T36,NOW())),\"\"))","v":"00:00:00"}]
["Enquiry","PRJ1459 Malaysia Airline",null,"Tender submission",null,null,"Kimmie",null,null,"1",null,null,"","2022-11-02",null,-44866,0,"Completed",null,{"$f":"IF(R37=\"Not started\",\"\",IF(R37<>\"\",IF(AND(T37<>\"\",CELL(\"address\")=ADDRESS(ROW(R37),COLUMN(R37))),NOW(),IF(CELL(\"address\")<>ADDRESS(ROW(R37),COLUMN(R37)),T37,NOW())),\"\"))","v":"2022-08-12T08:53:37.380"}]
["Project","PRJ1434 Ah Yip KL Gateway",null,"start work preparation","BQ, latest 2D, 3D, MP, Site caution sign, permit",null,"Prabha",null,0.5,"1",null,null,"00:00:00","2022-11-02",null,-44866,-1,"Completed","Permit received",{"$f":"IF(R38=\"Not started\",\"\",IF(R38<>\"\",IF(AND(T38<>\"\",CELL(\"address\")=ADDRESS(ROW(R38),COLUMN(R38))),NOW(),IF(CELL(\"address\")<>ADDRESS(ROW(R38),COLUMN(R38)),T38,NOW())),\"\"))","v":"2022-08-12T08:54:28.360"}]
["Project","PRJ1434 Ah Yip KL Gateway",null,"PO & LA to contractor",null,null,"Kimmie",null,0.5,"1",null,null,"00:00:00","2022-11-02",null,-44866,-1,"Completed","Signed",{"$f":"IF(R39=\"Not started\",\"\",IF(R39<>\"\",IF(AND(T39<>\"\",CELL(\"address\")=ADDRESS(ROW(R39),COLUMN(R39))),NOW(),IF(CELL(\"address\")<>ADDRESS(ROW(R39),COLUMN(R39)),T39,NOW())),\"\"))","v":"2022-08-12T08:54:40.010"}]
["Internal","Morning Task Check List",null,null,null,null,"Wani",null,null,"1",null,null,"","2022-11-02",null,-44866,0,"Completed",null,{"$f":"IF(R40=\"Not started\",\"\",IF(R40<>\"\",IF(AND(T40<>\"\",CELL(\"address\")=ADDRESS(ROW(R40),COLUMN(R40))),NOW(),IF(CELL(\"address\")<>ADDRESS(ROW(R40),COLUMN(R40)),T40,NOW())),\"\"))","v":"2022-08-11T14:37:44.390"}]
["Internal","Filing Soft & Hard Copy",null,null,null,null,"Wani",null,null,"1",null,null,"","2022-11-02",null,-44866,0,"Completed",null,{"$f":"IF(R41=\"Not started\",\"\",IF(R41<>\"\",IF(AND(T41<>\"\",CELL(\"address\")=ADDRESS(ROW(R41),COLUMN(R41))),NOW(),IF(CELL(\"address\")<>ADDRESS(ROW(R41),COLUMN(R41)),T41,NOW())),\"\"))","v":"2022-08-11T14:38:03.080"}]
["Project","PRJ1354 Sunway Geolake",null,"Mgmt defect",null,"ask billy call client first","Prabha",null,0.5,"1",null,null,"00:00:00","2022-11-02",null,-44866,-1,"Completed","client handle by own",{"$f":"IF(R42=\"Not started\",\"\",IF(R42<>\"\",IF(AND(T42<>\"\",CELL(\"address\")=ADDRESS(ROW(R42),COLUMN(R42))),NOW(),IF(CELL(\"address\")<>ADDRESS(ROW(R42),COLUMN(R42)),T42,NOW())),\"\"))","v":"2022-08-12T09:06:30.920"}]
["Project","PRJ1465 Eastman Office",null,"Create project",null,"refer email","Syazwan",null,0.5,{"$f":"IF(G43=\"\",\"\",\"1\")","v":"1"},null,null,"00:00:00",{"$f":"IF(R43=\"Not started\",\"\",IF(R43=\"\",\"\",TODAY()))","v":"2022-11-02"},null,-44866,-1,"Completed","Completed",{"$f":"IF(R43=\"Not started\",\"\",IF(R43<>\"\",IF(AND(T43<>\"\",CELL(\"address\")=ADDRESS(ROW(R43),COLUMN(R43))),NOW(),IF(CELL(\"address\")<>ADDRESS(ROW(R43),COLUMN(R43)),T43,NOW())),\"\"))","v":"00:00:00"}]
["Account","PRJ1345 Sanggul Emas",null,"Milestone payment",null,null,"Kimmie","Medium",null,"1",null,null,"","2022-11-02",null,-44866,0,"Completed","email sent to ariff",{"$f":"IF(R44=\"Not started\",\"\",IF(R44<>\"\",IF(AND(T44<>\"\",CELL(\"address\")=ADDRESS(ROW(R44),COLUMN(R44))),NOW(),IF(CELL(\"address\")<>ADDRESS(ROW(R44),COLUMN(R44)),T44,NOW())),\"\"))","v":"00:00:00"}]
["Project","PRJ1434 Ah Yip KL Gateway",null,"Electrical endorsement",null,"follow up electrician","Prabha","Urgent",0.5,"1",null,null,"00:00:00","2022-11-02",null,-44866,-1,"Completed",null,{"$f":"IF(R45=\"Not started\",\"\",IF(R45<>\"\",IF(AND(T45<>\"\",CELL(\"address\")=ADDRESS(ROW(R45),COLUMN(R45))),NOW(),IF(CELL(\"address\")<>ADDRESS(ROW(R45),COLUMN(R45)),T45,NOW())),\"\"))","v":"00:00:00"}]
["Admin","Internal",null,"Material Library","laminate","ask lamchuan to replenish stock","Wani",null,0.5,"1",null,null,"00:00:00","2022-11-02",null,-44866,-1,"Completed",null,{"$f":"IF(R46=\"Not started\",\"\",IF(R46<>\"\",IF(AND(T46<>\"\",CELL(\"address\")=ADDRESS(ROW(R46),COLUMN(R46))),NOW(),IF(CELL(\"address\")<>ADDRESS(ROW(R46),COLUMN(R46)),T46,NOW())),\"\"))","v":"00:00:00"}]
["Design","PRJ1434 Ah Yip KL Gateway",null,"Graphic design",null,"*provide pantone color for merron","Prabha","Urgent",0.5,"1",null,null,"00:00:00","2022-11-02",null,-44866,-1,"Completed","Completed",{"$f":"IF(R47=\"Not started\",\"\",IF(R47<>\"\",IF(AND(T47<>\"\",CELL(\"address\")=ADDRESS(ROW(R47),COLUMN(R47))),NOW(),IF(CELL(\"address\")<>ADDRESS(ROW(R47),COLUMN(R47)),T47,NOW())),\"\"))","v":"00:00:00"}]
["Design","PRJ1434 Ah Yip KL Gateway",null,"Graphic design",null,"*resize poster beside counter","Prabha","Urgent",0.5,"1",null,null,"00:00:00","2022-11-02",null,-44866,-1,"Completed",null,{"$f":"IF(R48=\"Not started\",\"\",IF(R48<>\"\",IF(AND(T48<>\"\",CELL(\"address\")=ADDRESS(ROW(R48),COLUMN(R48))),NOW(),IF(CELL(\"address\")<>ADDRESS(ROW(R48),COLUMN(R48)),T48,NOW())),\"\"))","v":"00:00:00"}]
["Account","PRJ1434 Ah Yip KL Gateway",null,"2nd payment for kl gateway",null,null,"Syazwan",null,0.5,"1",null,null,"00:00:00","2022-11-02",null,-44866,-1,"Completed","by 16/8/22",{"$f":"IF(R49=\"Not started\",\"\",IF(R49<>\"\",IF(AND(T49<>\"\",CELL(\"address\")=ADDRESS(ROW(R49),COLUMN(R49))),NOW(),IF(CELL(\"address\")<>ADDRESS(ROW(R49),COLUMN(R49)),T49,NOW())),\"\"))","v":"00:00:00"}]
["Project","PRJ1466 Fresenius Bukit Jelutong",null,"aircond installation","site photo",null,"Prabha",null,0.5,"1",null,null,"00:00:00","2022-11-02",null,-44866,-1,"Completed",null,{"$f":"IF(R50=\"Not started\",\"\",IF(R50<>\"\",IF(AND(T50<>\"\",CELL(\"address\")=ADDRESS(ROW(R50),COLUMN(R50))),NOW(),IF(CELL(\"address\")<>ADDRESS(ROW(R50),COLUMN(R50)),T50,NOW())),\"\"))","v":"00:00:00"}]
["Project","PRJ1434 Ah Yip KL Gateway",null,"Carpenter detail",null,"brief & give drawing","Prabha","Urgent",null,{"$f":"IF(G51=\"\",\"\",\"1\")","v":"1"},null,null,"",{"$f":"IF(R51=\"Not started\",\"\",IF(R51=\"\",\"\",TODAY()))","v":"2022-11-02"},null,-44866,0,"Completed",null,{"$f":"IF(R51=\"Not started\",\"\",IF(R51<>\"\",IF(AND(T51<>\"\",CELL(\"address\")=ADDRESS(ROW(R51),COLUMN(R51))),NOW(),IF(CELL(\"address\")<>ADDRESS(ROW(R51),COLUMN(R51)),T51,NOW())),\"\"))","v":"00:00:00"}]
["Project","PRJ1434 Ah Yip KL Gateway",null,"get quotation from contractor","signage price",null,"Prabha","Urgent",0.5,"1",null,null,"00:00:00","2022-11-02",null,-44866,-1,"Completed",null,{"$f":"IF(R52=\"Not started\",\"\",IF(R52<>\"\",IF(AND(T52<>\"\",CELL(\"address\")=ADDRESS(ROW(R52),COLUMN(R52))),NOW(),IF(CELL(\"address\")<>ADDRESS(ROW(R52),COLUMN(R52)),T52,NOW())),\"\"))","v":"00:00:00"}]
["Admin","Internal",null,"Office Improvement","Set calendar ",null,"Kimmie",null,null,"1",null,null,"","2022-11-02",null,-44866,0,"Completed",null,{"$f":"IF(R53=\"Not started\",\"\",IF(R53<>\"\",IF(AND(T53<>\"\",CELL(\"address\")=ADDRESS(ROW(R53),COLUMN(R53))),NOW(),IF(CELL(\"address\")<>ADDRESS(ROW(R53),COLUMN(R53)),T53,NOW())),\"\"))","v":"00:00:00"}]
["Admin","Internal",null,"Company Property","Company Phone & Number & ","prepare for syazwan & amin","Kimmie",null,null,"1",null,null,"","2022-11-02",null,-44866,0,"Completed","waiting izzad passback sim card on the/fri",{"$f":"IF(R54=\"Not started\",\"\",IF(R54<>\"\",IF(AND(T54<>\"\",CELL(\"address\")=ADDRESS(ROW(R54),COLUMN(R54))),NOW(),IF(CELL(\"address\")<>ADDRESS(ROW(R54),COLUMN(R54)),T54,NOW())),\"\"))","v":"00:00:00"}]
["Enquiry","PRJ1467 Japan Restaurant",null,"Waiting for info and create project",null,null,"Syazwan",null,null,"1",null,null,"","2022-11-02",null,-44866,0,"Completed","client cancelled",{"$f":"IF(R55=\"Not started\",\"\",IF(R55<>\"\",IF(AND(T55<>\"\",CELL(\"address\")=ADDRESS(ROW(R55),COLUMN(R55))),NOW(),IF(CELL(\"address\")<>ADDRESS(ROW(R55),COLUMN(R55)),T55,NOW())),\"\"))","v":"00:00:00"}]
["Design","PRJ1459 Malaysia Airline",null,"File in client info","updated bq",null,"Kimmie",null,0.5,"1",null,null,"00:00:00","2022-11-02",null,-44866,-1,"Completed",null,{"$f":"IF(R56=\"Not started\",\"\",IF(R56<>\"\",IF(AND(T56<>\"\",CELL(\"address\")=ADDRESS(ROW(R56),COLUMN(R56))),NOW(),IF(CELL(\"address\")<>ADDRESS(ROW(R56),COLUMN(R56)),T56,NOW())),\"\"))","v":"00:00:00"}]
["Account","PRJ1419 Fresenius",null,"Payment from client",null,null,"Kimmie",null,null,{"$f":"IF(G57=\"\",\"\",\"1\")","v":"1"},null,null,"",{"$f":"IF(R57=\"Not started\",\"\",IF(R57=\"\",\"\",TODAY()))","v":"2022-11-02"},null,-44866,0,"Completed",null,{"$f":"IF(R57=\"Not started\",\"\",IF(R57<>\"\",IF(AND(T57<>\"\",CELL(\"address\")=ADDRESS(ROW(R57),COLUMN(R57))),NOW(),IF(CELL(\"address\")<>ADDRESS(ROW(R57),COLUMN(R57)),T57,NOW())),\"\"))","v":"2022-08-26T09:58:16.770"}]
["Enquiry","PRJ1466 Fresenius Bukit Jelutong",null,"Create project",null,null,"Syazwan",null,0.5,{"$f":"IF(G58=\"\",\"\",\"1\")","v":"1"},null,null,"00:00:00",{"$f":"IF(R58=\"Not started\",\"\",IF(R58=\"\",\"\",TODAY()))","v":"2022-11-02"},null,-44866,-1,"Completed",null,{"$f":"IF(R58=\"Not started\",\"\",IF(R58<>\"\",IF(AND(T58<>\"\",CELL(\"address\")=ADDRESS(ROW(R58),COLUMN(R58))),NOW(),IF(CELL(\"address\")<>ADDRESS(ROW(R58),COLUMN(R58)),T58,NOW())),\"\"))","v":"00:00:00"}]
["Design","PRJ1454 Toyota Kuchai",null,"Layout","option for straight pantry",null,"Amin",null,0.5,{"$f":"IF(G59=\"\",\"\",\"1\")","v":"1"},null,null,"00:00:00",{"$f":"IF(R59=\"Not started\",\"\",IF(R59=\"\",\"\",TODAY()))","v":"2022-11-02"},null,-44866,-1,"Completed",null,{"$f":"IF(R59=\"Not started\",\"\",IF(R59<>\"\",IF(AND(T59<>\"\",CELL(\"address\")=ADDRESS(ROW(R59),COLUMN(R59))),NOW(),IF(CELL(\"address\")<>ADDRESS(ROW(R59),COLUMN(R59)),T59,NOW())),\"\"))","v":"00:00:00"}]
["Design","PRJ1462 Lalaport",null,"Design proposal",null,null,"Amin",null,0.5,{"$f":"IF(G60=\"\",\"\",\"1\")","v":"1"},null,null,"00:00:00",{"$f":"IF(R60=\"Not started\",\"\",IF(R60=\"\",\"\",TODAY()))","v":"2022-11-02"},null,-44866,-1,"Completed",null,{"$f":"IF(R60=\"Not started\",\"\",IF(R60<>\"\",IF(AND(T60<>\"\",CELL(\"address\")=ADDRESS(ROW(R60),COLUMN(R60))),NOW(),IF(CELL(\"address\")<>ADDRESS(ROW(R60),COLUMN(R60)),T60,NOW())),\"\"))","v":"00:00:00"}]
["Design","PRJ1454 Toyota Kuchai",null,"DP","concept by area ","prepare propose design photo for all area (toilet, etc)","Amin",null,null,{"$f":"IF(G61=\"\",\"\",\"1\")","v":"1"},null,null,"",{"$f":"IF(R61=\"Not started\",\"\",IF(R61=\"\",\"\",TODAY()))","v":"2022-11-02"},null,-44866,0,"Completed",null,{"$f":"IF(R61=\"Not started\",\"\",IF(R61<>\"\",IF(AND(T61<>\"\",CELL(\"address\")=ADDRESS(ROW(R61),COLUMN(R61))),NOW(),IF(CELL(\"address\")<>ADDRESS(ROW(R61),COLUMN(R61)),T61,NOW())),\"\"))","v":"00:00:00"}]
["Project","PRJ1465 Eastman Office",null,"Design proposal",null,null,"Izzad",null,0.5,{"$f":"IF(G62=\"\",\"\",\"1\")","v":"1"},null,null,"00:00:00",{"$f":"IF(R62=\"Not started\",\"\",IF(R62=\"\",\"\",TODAY()))","v":"2022-11-02"},null,-44866,-1,"Completed",null,{"$f":"IF(R62=\"Not started\",\"\",IF(R62<>\"\",IF(AND(T62<>\"\",CELL(\"address\")=ADDRESS(ROW(R62),COLUMN(R62))),NOW(),IF(CELL(\"address\")<>ADDRESS(ROW(R62),COLUMN(R62)),T62,NOW())),\"\"))","v":"2022-08-26T10:40:17.150"}]
["Design","PRJ1459 Malaysia Airline",null,"Study project",null,"Wani also to study","Amin",null,1,"1",null,null,"00:00:00","2022-11-02",null,-44866,-1,"Completed","Cancel due to no time",{"$f":"IF(R63=\"Not started\",\"\",IF(R63<>\"\",IF(AND(T63<>\"\",CELL(\"address\")=ADDRESS(ROW(R63),COLUMN(R63))),NOW(),IF(CELL(\"address\")<>ADDRESS(ROW(R63),COLUMN(R63)),T63,NOW())),\"\"))","v":"2022-08-26T10:42:41.510"}]
["Design","PRJ1457 Setia City Residences",null,"Quality inspection","layout x6, quatlity inspection form, inspection tools","submission","All Designer","Urgent",1,{"$f":"IF(G64=\"\",\"\",\"1\")","v":"1"},null,null,"00:00:00",{"$f":"IF(R64=\"Not started\",\"\",IF(R64=\"\",\"\",TODAY()))","v":"2022-11-02"},null,-44866,-1,"Completed","Sent email to client",{"$f":"IF(R64=\"Not started\",\"\",IF(R64<>\"\",IF(AND(T64<>\"\",CELL(\"address\")=ADDRESS(ROW(R64),COLUMN(R64))),NOW(),IF(CELL(\"address\")<>ADDRESS(ROW(R64),COLUMN(R64)),T64,NOW())),\"\"))","v":""}]
["Admin","Internal",null,"Office Maintenance","Clean staircase",null,"Prabha",null,null,"1",null,null,"","2022-11-02",null,-44866,0,"Completed",null,{"$f":"IF(R65=\"Not started\",\"\",IF(R65<>\"\",IF(AND(T65<>\"\",CELL(\"address\")=ADDRESS(ROW(R65),COLUMN(R65))),NOW(),IF(CELL(\"address\")<>ADDRESS(ROW(R65),COLUMN(R65)),T65,NOW())),\"\"))","v":"2022-08-29T10:56:54.320"}]
["Project","PRJ1402 Nizam",null,"Defect","roof leaking, SPC floor crack","call client ask roof still leaking or not","Prabha",null,0.5,"1",null,null,"00:00:00","2022-11-02",null,{"$f":"IF(R66<>\"Completed\",\"\",IF(R66=\"\",\"\",_xlfn.DAYS(O66,N66)+1))","v":-44866},{"$f":"IF(R66<>\"Completed\",\"\",IF(R66=\"\",\"\",ROUNDUP(($O66-$I66)/7,0)))","v":-1},"Completed","client say no leaking",{"$f":"IF(R66=\"Not started\",\"\",IF(R66<>\"\",IF(AND(T66<>\"\",CELL(\"address\")=ADDRESS(ROW(R66),COLUMN(R66))),NOW(),IF(CELL(\"address\")<>ADDRESS(ROW(R66),COLUMN(R66)),T66,NOW())),\"\"))","v":"2022-08-29T11:02:59.560"}]
["Project","PRJ1419 Fresenius",null,"Defect"," Albet on 25/8/22 (morning) & Carpenter",null,"Prabha","Urgent",null,"1",null,null,{"$f":"IF(ISBLANK(I67),\"\",IF(I67<1,K67,K67+I67-1))","v":""},"2022-11-02",null,-44866,0,"Completed",null,{"$f":"IF(R67=\"Not started\",\"\",IF(R67<>\"\",IF(AND(T67<>\"\",CELL(\"address\")=ADDRESS(ROW(R67),COLUMN(R67))),NOW(),IF(CELL(\"address\")<>ADDRESS(ROW(R67),COLUMN(R67)),T67,NOW())),\"\"))","v":"2022-08-29T11:08:11.910"}]
["Project","PRJ1434 Ah Yip KL Gateway",null,"Meeting minute",null,"email client 15/8/22","Syazwan","Urgent",null,"1",null,null,"","2022-11-02",null,-44866,0,"Completed","Completed",{"$f":"IF(R68=\"Not started\",\"\",IF(R68<>\"\",IF(AND(T68<>\"\",CELL(\"address\")=ADDRESS(ROW(R68),COLUMN(R68))),NOW(),IF(CELL(\"address\")<>ADDRESS(ROW(R68),COLUMN(R68)),T68,NOW())),\"\"))","v":"2022-08-29T10:40:48.760"}]
["Project","PRJ1434 Ah Yip KL Gateway",null,"Discussion changes on drawing",null,null,"Syazwan",null,null,"1",null,null,"","2022-11-02",null,-44866,0,"Completed","Completed",{"$f":"IF(R69=\"Not started\",\"\",IF(R69<>\"\",IF(AND(T69<>\"\",CELL(\"address\")=ADDRESS(ROW(R69),COLUMN(R69))),NOW(),IF(CELL(\"address\")<>ADDRESS(ROW(R69),COLUMN(R69)),T69,NOW())),\"\"))","v":"00:00:00"}]
["Design","PRJ1443 Ah Yip Lowyat",null,"Email client","3D",null,"Wani","Urgent",null,"1",null,null,"","2022-11-02",null,-44866,0,"Completed",null,{"$f":"IF(R70=\"Not started\",\"\",IF(R70<>\"\",IF(AND(T70<>\"\",CELL(\"address\")=ADDRESS(ROW(R70),COLUMN(R70))),NOW(),IF(CELL(\"address\")<>ADDRESS(ROW(R70),COLUMN(R70)),T70,NOW())),\"\"))","v":"00:00:00"}]
["Design","PRJ1462 Lalaport",null,"Submission","Submission to management",null,"Amin",null,null,"1",null,null,"","2022-11-02",null,-44866,0,"Completed",null,{"$f":"IF(R71=\"Not started\",\"\",IF(R71<>\"\",IF(AND(T71<>\"\",CELL(\"address\")=ADDRESS(ROW(R71),COLUMN(R71))),NOW(),IF(CELL(\"address\")<>ADDRESS(ROW(R71),COLUMN(R71)),T71,NOW())),\"\"))","v":"00:00:00"}]
["Design","PRJ1454 Toyota Kuchai",null,"3D","Version 1","Show reference picture first","Amin",null,2,"1",null,null,"1900-01-01","2022-11-02",null,-44866,-1,"Completed",null,{"$f":"IF(R72=\"Not started\",\"\",IF(R72<>\"\",IF(AND(T72<>\"\",CELL(\"address\")=ADDRESS(ROW(R72),COLUMN(R72))),NOW(),IF(CELL(\"address\")<>ADDRESS(ROW(R72),COLUMN(R72)),T72,NOW())),\"\"))","v":"2022-09-05T11:24:51.740"}]
["Design","PRJ1454 Toyota Kuchai",null,"Layout","Version 5",null,"Amin",null,null,"1",null,null,"","2022-11-02",null,-44866,0,"Completed",null,{"$f":"IF(R73=\"Not started\",\"\",IF(R73<>\"\",IF(AND(T73<>\"\",CELL(\"address\")=ADDRESS(ROW(R73),COLUMN(R73))),NOW(),IF(CELL(\"address\")<>ADDRESS(ROW(R73),COLUMN(R73)),T73,NOW())),\"\"))","v":"2022-09-05T11:24:56.100"}]
["Project","PRJ1434 Ah Yip KL Gateway",null,"Daily coordinate, refer work schedule, to put date & weekly dependancy works",null,"Daily","Prabha","Urgent",null,"1",null,null,"","2022-11-02",null,-44866,0,"Completed",null,{"$f":"IF(R74=\"Not started\",\"\",IF(R74<>\"\",IF(AND(T74<>\"\",CELL(\"address\")=ADDRESS(ROW(R74),COLUMN(R74))),NOW(),IF(CELL(\"address\")<>ADDRESS(ROW(R74),COLUMN(R74)),T74,NOW())),\"\"))","v":"2022-09-05T11:35:13.850"}]
["Project","PRJ1434 Ah Yip KL Gateway",null,"Cordination","Electrical work","follow up electrician","Prabha","Urgent",null,"1",null,null,"","2022-11-02",null,-44866,0,"Completed",null,{"$f":"IF(R75=\"Not started\",\"\",IF(R75<>\"\",IF(AND(T75<>\"\",CELL(\"address\")=ADDRESS(ROW(R75),COLUMN(R75))),NOW(),IF(CELL(\"address\")<>ADDRESS(ROW(R75),COLUMN(R75)),T75,NOW())),\"\"))","v":"2022-09-05T11:35:19.190"}]
["Project","PRJ1434 Ah Yip KL Gateway",null,"Hand over documents",null,null,"Prabha",null,null,"1",null,null,"","2022-11-02",null,-44866,0,"Completed",null,{"$f":"IF(R76=\"Not started\",\"\",IF(R76<>\"\",IF(AND(T76<>\"\",CELL(\"address\")=ADDRESS(ROW(R76),COLUMN(R76))),NOW(),IF(CELL(\"address\")<>ADDRESS(ROW(R76),COLUMN(R76)),T76,NOW())),\"\"))","v":"2022-09-05T11:37:56.490"}]
["Design","PRJ1434 Ah Yip KL Gateway",null,"Signage confirmation",null,"Get sign from client","syazwan","Urgent",null,"1",null,null,"","2022-11-02",null,-44866,0,"Completed","Drawing on client hand",{"$f":"IF(R77=\"Not started\",\"\",IF(R77<>\"\",IF(AND(T77<>\"\",CELL(\"address\")=ADDRESS(ROW(R77),COLUMN(R77))),NOW(),IF(CELL(\"address\")<>ADDRESS(ROW(R77),COLUMN(R77)),T77,NOW())),\"\"))","v":"2022-09-05T11:37:31.420"}]
["Design","PRJ1469 Toyota Sri Petaling",null,"Layout",null,"Trace back","Wani",null,null,"1",null,null,"","2022-11-02",null,-44866,0,"Completed",null,{"$f":"IF(R78=\"Not started\",\"\",IF(R78<>\"\",IF(AND(T78<>\"\",CELL(\"address\")=ADDRESS(ROW(R78),COLUMN(R78))),NOW(),IF(CELL(\"address\")<>ADDRESS(ROW(R78),COLUMN(R78)),T78,NOW())),\"\"))","v":"2022-09-05T11:31:16.180"}]
["Design","PRJ1422 Huan",null,"Layout",null,null,"Syazwan","Low",0.5,"1",null,null,"00:00:00","2022-11-02",null,-44866,-1,"Completed","Cancelled by client",{"$f":"IF(R79=\"Not started\",\"\",IF(R79<>\"\",IF(AND(T79<>\"\",CELL(\"address\")=ADDRESS(ROW(R79),COLUMN(R79))),NOW(),IF(CELL(\"address\")<>ADDRESS(ROW(R79),COLUMN(R79)),T79,NOW())),\"\"))","v":"2022-09-05T12:00:31.530"}]
["Design","PRJ1422 Huan",null,"3D",null,null,"Syazwan",null,null,"1",null,null,"","2022-11-02",null,-44866,0,"Completed","Cancelled by client",{"$f":"IF(R80=\"Not started\",\"\",IF(R80<>\"\",IF(AND(T80<>\"\",CELL(\"address\")=ADDRESS(ROW(R80),COLUMN(R80))),NOW(),IF(CELL(\"address\")<>ADDRESS(ROW(R80),COLUMN(R80)),T80,NOW())),\"\"))","v":""}]
["Design","PRJ1422 Huan",null,"Detail Drawing",null,null,"Syazwan",null,null,"1",null,null,"","2022-11-02",null,-44866,0,"Completed","Cancelled by client",{"$f":"IF(R81=\"Not started\",\"\",IF(R81<>\"\",IF(AND(T81<>\"\",CELL(\"address\")=ADDRESS(ROW(R81),COLUMN(R81))),NOW(),IF(CELL(\"address\")<>ADDRESS(ROW(R81),COLUMN(R81)),T81,NOW())),\"\"))","v":""}]
["Design","PRJ1422 Huan",null,"Quotation",null,null,"Wani",null,null,"1",null,null,"","2022-11-02",null,-44866,0,"Completed","Cancelled by client",{"$f":"IF(R82=\"Not started\",\"\",IF(R82<>\"\",IF(AND(T82<>\"\",CELL(\"address\")=ADDRESS(ROW(R82),COLUMN(R82))),NOW(),IF(CELL(\"address\")<>ADDRESS(ROW(R82),COLUMN(R82)),T82,NOW())),\"\"))","v":"2022-08-18T09:30:12.120"}]
["Design","PRJ1422 Huan",null,"Authority submission",null,null,"Syazwan",null,null,"1",null,null,"","2022-11-02",null,-44866,0,"Completed","Cancelled by client",{"$f":"IF(R83=\"Not started\",\"\",IF(R83<>\"\",IF(AND(T83<>\"\",CELL(\"address\")=ADDRESS(ROW(R83),COLUMN(R83))),NOW(),IF(CELL(\"address\")<>ADDRESS(ROW(R83),COLUMN(R83)),T83,NOW())),\"\"))","v":""}]
["Design","PRJ1422 Huan",null,"MP",null,null,"Syazwan",null,null,"1",null,null,"","2022-11-02",null,-44866,0,"Completed","Cancelled by client",{"$f":"IF(R84=\"Not started\",\"\",IF(R84<>\"\",IF(AND(T84<>\"\",CELL(\"address\")=ADDRESS(ROW(R84),COLUMN(R84))),NOW(),IF(CELL(\"address\")<>ADDRESS(ROW(R84),COLUMN(R84)),T84,NOW())),\"\"))","v":""}]
["Design","PRJ1422 Huan",null,"QFC","electrical brief done",null,"Syazwan",null,null,"1",null,null,"","2022-11-02",null,-44866,0,"Completed","Cancelled by client",{"$f":"IF(R85=\"Not started\",\"\",IF(R85<>\"\",IF(AND(T85<>\"\",CELL(\"address\")=ADDRESS(ROW(R85),COLUMN(R85))),NOW(),IF(CELL(\"address\")<>ADDRESS(ROW(R85),COLUMN(R85)),T85,NOW())),\"\"))","v":""}]
["Design","PRJ1422 Huan",null,"Update Layout Plan, Lighting & Ceiling plan",null,null,"Amin",null,null,"1",null,null,"","2022-11-02",null,-44866,0,"Completed",null,{"$f":"IF(R86=\"Not started\",\"\",IF(R86<>\"\",IF(AND(T86<>\"\",CELL(\"address\")=ADDRESS(ROW(R86),COLUMN(R86))),NOW(),IF(CELL(\"address\")<>ADDRESS(ROW(R86),COLUMN(R86)),T86,NOW())),\"\"))","v":"2022-09-05T12:01:09.310"}]
["Project","PRJ1434 Ah Yip KL Gateway",null,"Send new table to client office",null,null,"Syazwan",null,null,"1",null,null,"","2022-11-02",null,-44866,0,"Completed",null,{"$f":"IF(R87=\"Not started\",\"\",IF(R87<>\"\",IF(AND(T87<>\"\",CELL(\"address\")=ADDRESS(ROW(R87),COLUMN(R87))),NOW(),IF(CELL(\"address\")<>ADDRESS(ROW(R87),COLUMN(R87)),T87,NOW())),\"\"))","v":"2022-09-05T11:54:23.010"}]
["Design","PRJ1465 Eastman Office",null,"Layout","Electrical, lighting plan",null,"Izzad",null,null,"1",null,null,"","2022-11-02",null,-44866,0,"Completed",null,{"$f":"IF(R88=\"Not started\",\"\",IF(R88<>\"\",IF(AND(T88<>\"\",CELL(\"address\")=ADDRESS(ROW(R88),COLUMN(R88))),NOW(),IF(CELL(\"address\")<>ADDRESS(ROW(R88),COLUMN(R88)),T88,NOW())),\"\"))","v":"2022-09-05T11:57:05.740"}]
["Design","PRJ1465 Eastman Office",null,"3D",null,null,"Izzad",null,null,"1",null,null,"","2022-11-02",null,-44866,0,"Completed",null,{"$f":"IF(R89=\"Not started\",\"\",IF(R89<>\"\",IF(AND(T89<>\"\",CELL(\"address\")=ADDRESS(ROW(R89),COLUMN(R89))),NOW(),IF(CELL(\"address\")<>ADDRESS(ROW(R89),COLUMN(R89)),T89,NOW())),\"\"))","v":"2022-09-05T11:57:12.190"}]
["Design","PRJ1394 Chen Ann",null,"Layout",null,null,"Izzad",null,0.5,"1",null,null,"00:00:00","2022-11-02",null,-44866,-1,"Completed",null,{"$f":"IF(R90=\"Not started\",\"\",IF(R90<>\"\",IF(AND(T90<>\"\",CELL(\"address\")=ADDRESS(ROW(R90),COLUMN(R90))),NOW(),IF(CELL(\"address\")<>ADDRESS(ROW(R90),COLUMN(R90)),T90,NOW())),\"\"))","v":"2022-09-05T12:02:23.420"}]
["Design","PRJ1394 Chen Ann",null,"3D","exterior option 2",null,"Amin",null,2,"1",null,null,"1900-01-01","2022-11-02",null,-44866,-1,"Completed","edit some part in 3D",{"$f":"IF(R91=\"Not started\",\"\",IF(R91<>\"\",IF(AND(T91<>\"\",CELL(\"address\")=ADDRESS(ROW(R91),COLUMN(R91))),NOW(),IF(CELL(\"address\")<>ADDRESS(ROW(R91),COLUMN(R91)),T91,NOW())),\"\"))","v":"2022-09-05T12:02:31.900"}]
["Design","PRJ1456 Petai King Velocity",null,"DP",null,null,"Izzad",null,0.5,"1",null,null,"00:00:00","2022-11-02",null,-44866,-1,"Completed",null,{"$f":"IF(R92=\"Not started\",\"\",IF(R92<>\"\",IF(AND(T92<>\"\",CELL(\"address\")=ADDRESS(ROW(R92),COLUMN(R92))),NOW(),IF(CELL(\"address\")<>ADDRESS(ROW(R92),COLUMN(R92)),T92,NOW())),\"\"))","v":"2022-09-05T12:04:48.800"}]
["Design","PRJ1456 Petai King Velocity",null,"Layout",null,null,"Izzad",null,0.5,"1",null,null,"00:00:00","2022-11-02",null,-44866,-1,"Completed",null,{"$f":"IF(R93=\"Not started\",\"\",IF(R93<>\"\",IF(AND(T93<>\"\",CELL(\"address\")=ADDRESS(ROW(R93),COLUMN(R93))),NOW(),IF(CELL(\"address\")<>ADDRESS(ROW(R93),COLUMN(R93)),T93,NOW())),\"\"))","v":"2022-09-05T12:04:51.380"}]
["Design","PRJ1456 Petai King Velocity",null,"3D",null,null,"Izzad",null,2,"1",null,null,"1900-01-01","2022-11-02",null,-44866,-1,"Completed",null,{"$f":"IF(R94=\"Not started\",\"\",IF(R94<>\"\",IF(AND(T94<>\"\",CELL(\"address\")=ADDRESS(ROW(R94),COLUMN(R94))),NOW(),IF(CELL(\"address\")<>ADDRESS(ROW(R94),COLUMN(R94)),T94,NOW())),\"\"))","v":"2022-09-05T12:04:53.900"}]
["Design","PRJ1456 Petai King Velocity",null,"Detail Drawing",null,null,"Izzad",null,null,"1",null,null,"","2022-11-02",null,-44866,0,"Completed",null,{"$f":"IF(R95=\"Not started\",\"\",IF(R95<>\"\",IF(AND(T95<>\"\",CELL(\"address\")=ADDRESS(ROW(R95),COLUMN(R95))),NOW(),IF(CELL(\"address\")<>ADDRESS(ROW(R95),COLUMN(R95)),T95,NOW())),\"\"))","v":"2022-09-05T12:04:58.780"}]
["Design","PRJ1456 Petai King Velocity",null,"BQ",null,null,"Izzad",null,null,"1",null,null,"","2022-11-02",null,-44866,0,"Completed",null,{"$f":"IF(R96=\"Not started\",\"\",IF(R96<>\"\",IF(AND(T96<>\"\",CELL(\"address\")=ADDRESS(ROW(R96),COLUMN(R96))),NOW(),IF(CELL(\"address\")<>ADDRESS(ROW(R96),COLUMN(R96)),T96,NOW())),\"\"))","v":"2022-09-05T12:05:01.370"}]
["Design","PRJ1456 Petai King Velocity",null,"Hoarding board",null,null,"Izzad",null,null,"1",null,null,"","2022-11-02",null,-44866,0,"Completed",null,{"$f":"IF(R97=\"Not started\",\"\",IF(R97<>\"\",IF(AND(T97<>\"\",CELL(\"address\")=ADDRESS(ROW(R97),COLUMN(R97))),NOW(),IF(CELL(\"address\")<>ADDRESS(ROW(R97),COLUMN(R97)),T97,NOW())),\"\"))","v":"2022-09-05T12:05:07.550"}]
["Admin","Internal",null,"Leaking water dispenser",null,null,"Syazwan",null,null,{"$f":"IF(G98=\"\",\"\",\"1\")","v":"1"},null,null,"",{"$f":"IF(R98=\"Not started\",\"\",IF(R98=\"\",\"\",TODAY()))","v":"2022-11-02"},null,-44866,{"$f":"IF(R98<>\"Completed\",\"\",IF(R98=\"\",\"\",ROUNDUP(($O98-$I98)/7,0)))","v":0},"Completed","Service on 9/7/22 (12:00PM)",{"$f":"IF(R98=\"Not started\",\"\",IF(R98<>\"\",IF(AND(T98<>\"\",CELL(\"address\")=ADDRESS(ROW(R98),COLUMN(R98))),NOW(),IF(CELL(\"address\")<>ADDRESS(ROW(R98),COLUMN(R98)),T98,NOW())),\"\"))","v":"2022-09-07T19:57:04.190"}]
["Account","PRJ1434 Ah Yip KL Gateway",null,"3rd payment for kl gateway",null,"To be bank in","Kimmie","Urgent",0.5,{"$f":"IF(G99=\"\",\"\",\"1\")","v":"1"},null,null,{"$f":"IF(ISBLANK(I99),\"\",IF(I99<1,K99,K99+I99-1))","v":"00:00:00"},{"$f":"IF(R99=\"Not started\",\"\",IF(R99=\"\",\"\",TODAY()))","v":"2022-11-02"},null,-44866,-1,"Completed","by 16/8/22",{"$f":"IF(R99=\"Not started\",\"\",IF(R99<>\"\",IF(AND(T99<>\"\",CELL(\"address\")=ADDRESS(ROW(R99),COLUMN(R99))),NOW(),IF(CELL(\"address\")<>ADDRESS(ROW(R99),COLUMN(R99)),T99,NOW())),\"\"))","v":"2022-09-07T20:00:20.980"}]
["Enquiry","Bakery Shop",null,"Create project","File in client info, get floor plan",null,"Wani",null,0.5,"1",null,null,"00:00:00","2022-11-02",null,-44866,-1,"Completed",null,{"$f":"IF(R100=\"Not started\",\"\",IF(R100<>\"\",IF(AND(T100<>\"\",CELL(\"address\")=ADDRESS(ROW(R100),COLUMN(R100))),NOW(),IF(CELL(\"address\")<>ADDRESS(ROW(R100),COLUMN(R100)),T100,NOW())),\"\"))","v":"2022-09-15T16:33:18.660"}]
["Admin","Internal",null,"Office Maintenance","Repair aircond meetig room","Get quotation from Alex","Prabha",null,null,{"$f":"IF(G101=\"\",\"\",\"1\")","v":"1"},null,null,"",{"$f":"IF(R101=\"Not started\",\"\",IF(R101=\"\",\"\",TODAY()))","v":"2022-11-02"},null,-44866,0,"Completed",null,{"$f":"IF(R101=\"Not started\",\"\",IF(R101<>\"\",IF(AND(T101<>\"\",CELL(\"address\")=ADDRESS(ROW(R101),COLUMN(R101))),NOW(),IF(CELL(\"address\")<>ADDRESS(ROW(R101),COLUMN(R101)),T101,NOW())),\"\"))","v":"2022-09-15T16:23:56.520"}]
["Project","PRJ1372 Ah Yip Tropicana",null,"Defect","Fire door handle loose, DB tictac spoilt, ",null,"Prabha",null,null,"1",null,null,"","2022-11-02",null,-44866,0,"Completed","Completed",{"$f":"IF(R102=\"Not started\",\"\",IF(R102<>\"\",IF(AND(T102<>\"\",CELL(\"address\")=ADDRESS(ROW(R102),COLUMN(R102))),NOW(),IF(CELL(\"address\")<>ADDRESS(ROW(R102),COLUMN(R102)),T102,NOW())),\"\"))","v":"2022-09-15T16:24:27.270"}]
["Design","PRJ1394 Chen Ann",null,"3D","interior",null,"Amin",null,null,"1",null,null,"","2022-11-02",null,-44866,0,"Completed",null,{"$f":"IF(R103=\"Not started\",\"\",IF(R103<>\"\",IF(AND(T103<>\"\",CELL(\"address\")=ADDRESS(ROW(R103),COLUMN(R103))),NOW(),IF(CELL(\"address\")<>ADDRESS(ROW(R103),COLUMN(R103)),T103,NOW())),\"\"))","v":"2022-09-15T16:15:47.550"}]
["Project","PRJ1419 Fresenius",null,"Check contractor VO","carpenry, electrical, general, signage, HVAC","check","Prabha","Urgent",0.5,"1",null,null,"00:00:00","2022-11-02",null,-44866,-1,"Completed","Signage not yet",{"$f":"IF(R104=\"Not started\",\"\",IF(R104<>\"\",IF(AND(T104<>\"\",CELL(\"address\")=ADDRESS(ROW(R104),COLUMN(R104))),NOW(),IF(CELL(\"address\")<>ADDRESS(ROW(R104),COLUMN(R104)),T104,NOW())),\"\"))","v":"2022-09-15T16:25:17.580"}]
["Project","PRJ1419 Fresenius",null,"M&E endorsement",null,null,"Prabha","Urgent",null,"1",null,null,"","2022-11-02",null,-44866,0,"Completed","Borang GHQN received pending plan endorsement only",{"$f":"IF(R105=\"Not started\",\"\",IF(R105<>\"\",IF(AND(T105<>\"\",CELL(\"address\")=ADDRESS(ROW(R105),COLUMN(R105))),NOW(),IF(CELL(\"address\")<>ADDRESS(ROW(R105),COLUMN(R105)),T105,NOW())),\"\"))","v":"2022-09-15T16:25:40.480"}]
["Design","PRJ1453 Funeral Hall",null,"Layout",null,null,"Wani",null,0.5,"1",null,null,"00:00:00","2022-11-02",null,-44866,-1,"Completed",null,{"$f":"IF(R106=\"Not started\",\"\",IF(R106<>\"\",IF(AND(T106<>\"\",CELL(\"address\")=ADDRESS(ROW(R106),COLUMN(R106))),NOW(),IF(CELL(\"address\")<>ADDRESS(ROW(R106),COLUMN(R106)),T106,NOW())),\"\"))","v":"2022-09-15T16:43:00.360"}]
["Design","PRJ1453 Funeral Hall",null,"DP",null,null,"Wani",null,0.5,"1",null,null,"00:00:00","2022-11-02",null,-44866,-1,"Completed",null,{"$f":"IF(R107=\"Not started\",\"\",IF(R107<>\"\",IF(AND(T107<>\"\",CELL(\"address\")=ADDRESS(ROW(R107),COLUMN(R107))),NOW(),IF(CELL(\"address\")<>ADDRESS(ROW(R107),COLUMN(R107)),T107,NOW())),\"\"))","v":"2022-09-15T16:43:07.960"}]
["Design","PRJ1457 Setia City Residences",null,"Quotation","Purchase Item",null,"Wani","Urgent",null,"1",null,null,"","2022-11-02",null,-44866,0,"Completed",null,{"$f":"IF(R108=\"Not started\",\"\",IF(R108<>\"\",IF(AND(T108<>\"\",CELL(\"address\")=ADDRESS(ROW(R108),COLUMN(R108))),NOW(),IF(CELL(\"address\")<>ADDRESS(ROW(R108),COLUMN(R108)),T108,NOW())),\"\"))","v":"2022-09-15T16:44:17.360"}]
["Design","PRJ1460 SemiD Setia Mayuri",null,"File in client info","soft copy & hard copy, site & ref photo",null,"Amin",null,0.5,"1",null,null,"00:00:00","2022-11-02",null,-44866,-1,"Completed","client not reply",{"$f":"IF(R109=\"Not started\",\"\",IF(R109<>\"\",IF(AND(T109<>\"\",CELL(\"address\")=ADDRESS(ROW(R109),COLUMN(R109))),NOW(),IF(CELL(\"address\")<>ADDRESS(ROW(R109),COLUMN(R109)),T109,NOW())),\"\"))","v":"2022-09-15T16:15:26.360"}]
["Design","PRJ1462 Lalaport",null,"Quotation","check reflection price, bollard spray paint price",null,"Amin",null,null,"1",null,null,"","2022-11-02",null,-44866,0,"Completed",null,{"$f":"IF(R110=\"Not started\",\"\",IF(R110<>\"\",IF(AND(T110<>\"\",CELL(\"address\")=ADDRESS(ROW(R110),COLUMN(R110))),NOW(),IF(CELL(\"address\")<>ADDRESS(ROW(R110),COLUMN(R110)),T110,NOW())),\"\"))","v":"2022-09-15T16:13:10.310"}]
["Enquiry","PRJ1463 Akasa Business Park",null,"Make appointment",null,null,"Wani",null,null,"1",null,null,"","2022-11-02",null,-44866,0,"Completed",null,{"$f":"IF(R111=\"Not started\",\"\",IF(R111<>\"\",IF(AND(T111<>\"\",CELL(\"address\")=ADDRESS(ROW(R111),COLUMN(R111))),NOW(),IF(CELL(\"address\")<>ADDRESS(ROW(R111),COLUMN(R111)),T111,NOW())),\"\"))","v":""}]
["Enquiry","PRJ1464 Ah Yip Hartamas",null,"Design proposal",null,null,"Wani",null,0.5,"1",null,null,"00:00:00","2022-11-02",null,-44866,-1,"Completed",null,{"$f":"IF(R112=\"Not started\",\"\",IF(R112<>\"\",IF(AND(T112<>\"\",CELL(\"address\")=ADDRESS(ROW(R112),COLUMN(R112))),NOW(),IF(CELL(\"address\")<>ADDRESS(ROW(R112),COLUMN(R112)),T112,NOW())),\"\"))","v":""}]
["Design","PRJ1465 Eastman Office",null,"Discussion on design",null,null,"Billy",null,null,"1",null,null,"","2022-11-02",null,-44866,0,"Completed",null,{"$f":"IF(R113=\"Not started\",\"\",IF(R113<>\"\",IF(AND(T113<>\"\",CELL(\"address\")=ADDRESS(ROW(R113),COLUMN(R113))),NOW(),IF(CELL(\"address\")<>ADDRESS(ROW(R113),COLUMN(R113)),T113,NOW())),\"\"))","v":"2022-09-15T16:20:21.900"}]
["Design","PRJ1469 Toyota Sri Petaling",null,"DP",null,null,"Wani",null,null,"1",null,null,"","2022-11-02",null,-44866,0,"Completed",null,{"$f":"IF(R114=\"Not started\",\"\",IF(R114<>\"\",IF(AND(T114<>\"\",CELL(\"address\")=ADDRESS(ROW(R114),COLUMN(R114))),NOW(),IF(CELL(\"address\")<>ADDRESS(ROW(R114),COLUMN(R114)),T114,NOW())),\"\"))","v":""}]
["Design","PRJ1470 SLS Office Senawang",null,"DP",null,null,"Wani",null,null,"1",null,null,"","2022-11-02",null,-44866,0,"Completed",null,{"$f":"IF(R115=\"Not started\",\"\",IF(R115<>\"\",IF(AND(T115<>\"\",CELL(\"address\")=ADDRESS(ROW(R115),COLUMN(R115))),NOW(),IF(CELL(\"address\")<>ADDRESS(ROW(R115),COLUMN(R115)),T115,NOW())),\"\"))","v":""}]
["Design","PRJ1470 SLS Office Senawang",null,"Quotation","Rough quote",null,"Wani",null,null,"1",null,null,"","2022-11-02",null,-44866,0,"Completed",null,{"$f":"IF(R116=\"Not started\",\"\",IF(R116<>\"\",IF(AND(T116<>\"\",CELL(\"address\")=ADDRESS(ROW(R116),COLUMN(R116))),NOW(),IF(CELL(\"address\")<>ADDRESS(ROW(R116),COLUMN(R116)),T116,NOW())),\"\"))","v":""}]
["Design","PRJ1462 Lalaport",null,"Quotation","revise quotation & save client comment",null,"Amin",null,null,"1",null,null,"","2022-11-02",null,-44866,0,"Completed",null,{"$f":"IF(R117=\"Not started\",\"\",IF(R117<>\"\",IF(AND(T117<>\"\",CELL(\"address\")=ADDRESS(ROW(R117),COLUMN(R117))),NOW(),IF(CELL(\"address\")<>ADDRESS(ROW(R117),COLUMN(R117)),T117,NOW())),\"\"))","v":"2022-09-15T16:13:17.380"}]
["Design","PRJ1443 Ah Yip Lowyat",null,"Layout Plan",null,null,"Wani",null,0.5,{"$f":"IF(G118=\"\",\"\",\"1\")","v":"1"},null,null,"00:00:00",{"$f":"IF(R118=\"Not started\",\"\",IF(R118=\"\",\"\",TODAY()))","v":"2022-11-02"},null,-44866,-1,"Completed",null,{"$f":"IF(R118=\"Not started\",\"\",IF(R118<>\"\",IF(AND(T118<>\"\",CELL(\"address\")=ADDRESS(ROW(R118),COLUMN(R118))),NOW(),IF(CELL(\"address\")<>ADDRESS(ROW(R118),COLUMN(R118)),T118,NOW())),\"\"))","v":""}]
["Design","PRJ1443 Ah Yip Lowyat",null,"Purchase item",null,null,"Wani",null,0.5,"1",null,null,"00:00:00","2022-11-02",null,-44866,-1,"Completed",null,{"$f":"IF(R119=\"Not started\",\"\",IF(R119<>\"\",IF(AND(T119<>\"\",CELL(\"address\")=ADDRESS(ROW(R119),COLUMN(R119))),NOW(),IF(CELL(\"address\")<>ADDRESS(ROW(R119),COLUMN(R119)),T119,NOW())),\"\"))","v":""}]
["Design","PRJ1443 Ah Yip Lowyat",null,"3D",null,null,"Amin",null,null,"1",null,null,"","2022-11-02",null,-44866,0,"Completed",null,{"$f":"IF(R120=\"Not started\",\"\",IF(R120<>\"\",IF(AND(T120<>\"\",CELL(\"address\")=ADDRESS(ROW(R120),COLUMN(R120))),NOW(),IF(CELL(\"address\")<>ADDRESS(ROW(R120),COLUMN(R120)),T120,NOW())),\"\"))","v":""}]
["Design","PRJ1469 Toyota Sri Petaling",null,"Design fee",null,null,"Wani",null,null,"1",null,null,"","2022-11-02",null,-44866,0,"Completed",null,{"$f":"IF(R121=\"Not started\",\"\",IF(R121<>\"\",IF(AND(T121<>\"\",CELL(\"address\")=ADDRESS(ROW(R121),COLUMN(R121))),NOW(),IF(CELL(\"address\")<>ADDRESS(ROW(R121),COLUMN(R121)),T121,NOW())),\"\"))","v":"2022-09-15T16:43:10.070"}]
["Design","PRJ1454 Toyota Kuchai",null,"3D","Version 2",null,"Amin",null,1.5,"1",null,null,"12:00:00","2022-11-02",null,-44866,-1,"Completed",null,{"$f":"IF(R122=\"Not started\",\"\",IF(R122<>\"\",IF(AND(T122<>\"\",CELL(\"address\")=ADDRESS(ROW(R122),COLUMN(R122))),NOW(),IF(CELL(\"address\")<>ADDRESS(ROW(R122),COLUMN(R122)),T122,NOW())),\"\"))","v":""}]
["Design","PRJ1454 Toyota Kuchai",null,"Layout","Version 6",null,"Amin",null,0.5,"1",null,null,"00:00:00","2022-11-02",null,-44866,-1,"Completed",null,{"$f":"IF(R123=\"Not started\",\"\",IF(R123<>\"\",IF(AND(T123<>\"\",CELL(\"address\")=ADDRESS(ROW(R123),COLUMN(R123))),NOW(),IF(CELL(\"address\")<>ADDRESS(ROW(R123),COLUMN(R123)),T123,NOW())),\"\"))","v":""}]
["Design","PRJ1456 Petai King Velocity",null,"Design discussion with management",null,null,"Izzad",null,null,"1",null,null,"","2022-11-02",null,-44866,0,"Completed",null,{"$f":"IF(R124=\"Not started\",\"\",IF(R124<>\"\",IF(AND(T124<>\"\",CELL(\"address\")=ADDRESS(ROW(R124),COLUMN(R124))),NOW(),IF(CELL(\"address\")<>ADDRESS(ROW(R124),COLUMN(R124)),T124,NOW())),\"\"))","v":"2022-09-15T16:21:39.260"}]
["Project","PRJ1434 Ah Yip KL Gateway",null,"Hand over with management",null,"Ask Ah May available time","Syazwan",null,null,"1",null,null,"2022-09-15","2022-09-15T19:09:20.800",null,-44818,0,"Completed",null,"2022-09-15T19:09:21.540"]
["project","PRJ1434 Ah Yip KL Gateway",null,"VO Checklist","1. Resize poster beside counter (VO)","Daily check","Prabha",null,null,"1",null,null,"2022-09-15","2022-09-15T21:00:47.500",null,"","","cancelled",null,"2022-09-15T21:00:47.730"]
["Account","PRJ1434 Ah Yip KL Gateway",null,"4th Payment",null,"To be bank in","Kimmie","Urgent",null,"1",null,null,"2022-09-15","2022-09-15T21:01:02.670",null,"","","bank in on 9/9",null,"2022-09-15T21:01:02.910"]
["Design","PRJ1458 Fresenius Kabi",null,"Layout",null,null,"Syazwan","Urgent",0.5,"1",null,null,"2022-09-15","2022-09-15T23:50:19.460",null,"","","layout Done",null,"2022-09-15T23:50:19.770"]
["Design","PRJ1458 Fresenius Kabi",null,"DP",null,null,"Syazwan","Urgent",0.5,"1",null,null,"2022-09-15","2022-09-15T23:50:29.720",null,"","","DP Done",null,"2022-09-15T23:50:30.020"]
["Design","PRJ1458 Fresenius Kabi",null,"Quotation","Purchase item, break down item price, new enquiry, 2 options",null,"Syazwan","Urgent",1,"1",null,null,"2022-09-15","2022-09-15T23:50:43.430",null,{"$f":"IF(R130<>\"Completed\",\"\",IF(R130=\"\",\"\",_xlfn.DAYS(O130,N130)+1))","v":""},{"$f":"IF(R130<>\"Completed\",\"\",IF(R130=\"\",\"\",ROUNDUP(($O130-$I130)/7,0)))","v":""},null,null,"2022-09-15T23:50:43.730"]
["Design","PRJ1454 Toyota Kuchai",null,"3D","Version 4","Ammendment","Amin",null,2,"1",null,null,"2022-09-19","2022-09-19T17:01:27.560",null,"","",null,null,"2022-09-19T17:01:28.350"]
["Design","PRJ1454 Toyota Kuchai",null,"Layout","Version 7","Ammendment","Amin",null,0.5,"1",null,null,{"$f":"IF(ISBLANK(I132),\"\",IF(I132<1,K132,K132+I132-1))","v":"00:00:00"},{"$f":"IF(R132=\"Not started\",\"\",IF(R132=\"\",\"\",TODAY()))","v":"2022-11-02"},null,-44866,-1,"Completed",null,{"$f":"IF(R132=\"Not started\",\"\",IF(R132<>\"\",IF(AND(T132<>\"\",CELL(\"address\")=ADDRESS(ROW(R132),COLUMN(R132))),NOW(),IF(CELL(\"address\")<>ADDRESS(ROW(R132),COLUMN(R132)),T132,NOW())),\"\"))","v":"2022-09-19T17:01:36.910"}]
["Design","PRJ1443 Ah Yip Lowyat","Mr. Cheng","3D","Version 6",null,"Amin","Urgent",2,"1",null,null,"2022-09-28","2022-09-28T16:51:58.860",null,{"$f":"IF(S133<>\"Completed\",\"\",IF(S133=\"\",\"\",_xlfn.DAYS(O133,N133)+1))","v":""},{"$f":"IF(S133<>\"Completed\",\"\",IF(S133=\"\",\"\",ROUNDUP(($O133-$I133)/7,0)))","v":""},null,null,"2022-09-28T16:51:59.570"]
["Project","PRJ1419 Fresenius","Chloe","Contractor invoice","HVAC, signage, ","collect","Prabha","Urgent",null,"1",null,null,"2022-09-28","2022-09-28T17:10:00.880",null,"","",null,"Revise quote signage, HVAC Done","2022-09-28T17:10:01.720"]
["Project","PRJ1419 Fresenius","Chloe","Balance job","signage, replace graphic wall printing, acrylic push, column design",null,"Prabha","Urgent",1,"1",null,null,"2022-09-28","2022-09-28T17:10:22.600",null,"","",null,"Poster Defect Done, Arcylic push on 26.9.22.","2022-09-28T17:10:23.390"]
["Project","PRJ1419 Fresenius","Chloe","Defects",null,null,"Prabha",null,null,"1",null,null,"2022-09-28","2022-09-28T17:12:27.280",null,"","",null," Arcylic push on 26.9.22.","2022-09-28T17:12:28.050"]
["Project","PRJ1419 Fresenius","Chloe","Graphic",null,null,"Prabha",null,null,"1",null,null,"2022-09-28","2022-09-28T17:16:24.420",null,"","",null,"Collect signage graphic poster collected","2022-09-28T17:16:25.160"]
["Project","PRJ1466 Fresenius Bukit Jelutong","Chloe","Quotation","site photo","Label in drawing & attach picture, Quotation from contractor.","Prabha",null,0.5,"1",null,null,"2022-09-28","2022-09-28T17:17:47.040",null,"","",null,"done but kimmie to put selling price","2022-09-28T17:17:47.720"]
["Design","PRJ1470 SLS Office Senawang","Jacky Tan","DP","Version 2",null,"Prabha",null,null,"1",null,null,"2022-09-28","2022-09-28T17:23:53.330",null,"","",null,null,"2022-09-28T17:23:53.330"]
["Design","PRJ1470 SLS Office Senawang","Jacky Tan","Quotation","QT2\nQP1",null,"Prabha",null,null,"1",null,null,"2022-09-28","2022-09-28T17:23:59.100",null,"","",null,null,"2022-09-28T17:23:59.790"]
["Project","PRJ1434 Ah Yip KL Gateway","Mr. Cheng","Hand over with management",null,"ask management to email comment handover form","Prabha",null,null,"1",null,null,"2022-09-28","2022-09-28T17:39:52.890",null,"","",null,"Collect with Ah yib HQ staff collected","2022-09-28T17:39:53.550"]
["Design","PRJ1429 Semi D Eng","Mr. Eng","3D",null,null,"Billy",null,null,"1",null,null,{"$f":"IF(ISBLANK(I142),\"\",IF(I142<1,K142,K142+I142-1))","v":""},{"$f":"IF(R142=\"Not started\",\"\",IF(R142=\"\",\"\",TODAY()))","v":"2022-11-02"},null,-44866,{"$f":"IF(R142<>\"Completed\",\"\",IF(R142=\"\",\"\",ROUNDUP(($O142-$I142)/7,0)))","v":0},"Completed","Cancel by client",{"$f":"IF(R142=\"Not started\",\"\",IF(R142<>\"\",IF(AND(T142<>\"\",CELL(\"address\")=ADDRESS(ROW(R142),COLUMN(R142))),NOW(),IF(CELL(\"address\")<>ADDRESS(ROW(R142),COLUMN(R142)),T142,NOW())),\"\"))","v":"2022-09-28T18:42:35.730"}]
["Design","PRJ1429 Semi D Eng","Mr. Eng","Quotation",null,null,"Billy",null,null,"1",null,null,"","2022-11-02",null,-44866,0,"Completed","Cancel by client",{"$f":"IF(R143=\"Not started\",\"\",IF(R143<>\"\",IF(AND(T143<>\"\",CELL(\"address\")=ADDRESS(ROW(R143),COLUMN(R143))),NOW(),IF(CELL(\"address\")<>ADDRESS(ROW(R143),COLUMN(R143)),T143,NOW())),\"\"))","v":"2022-09-28T18:42:40.490"}]
["Design","PRJ1429 Semi D Eng","Mr. Eng","Detail Drawing",null,null,"Billy",null,null,"1",null,null,"","2022-11-02",null,-44866,0,"Completed","Cancel by client",{"$f":"IF(R144=\"Not started\",\"\",IF(R144<>\"\",IF(AND(T144<>\"\",CELL(\"address\")=ADDRESS(ROW(R144),COLUMN(R144))),NOW(),IF(CELL(\"address\")<>ADDRESS(ROW(R144),COLUMN(R144)),T144,NOW())),\"\"))","v":"2022-09-28T18:42:52.510"}]
["Design","PRJ1429 Semi D Eng","Mr. Eng","3D",null,null,"Billy",null,null,"1",null,null,"","2022-11-02",null,-44866,0,"Completed","Cancel by client",{"$f":"IF(R145=\"Not started\",\"\",IF(R145<>\"\",IF(AND(T145<>\"\",CELL(\"address\")=ADDRESS(ROW(R145),COLUMN(R145))),NOW(),IF(CELL(\"address\")<>ADDRESS(ROW(R145),COLUMN(R145)),T145,NOW())),\"\"))","v":"2022-09-28T18:42:57.050"}]
["Design","PRJ1429 Semi D Eng","Mr. Eng","Quotation",null,null,"Billy",null,null,"1",null,null,"","2022-11-02",null,-44866,0,"Completed","Cancel by client",{"$f":"IF(R146=\"Not started\",\"\",IF(R146<>\"\",IF(AND(T146<>\"\",CELL(\"address\")=ADDRESS(ROW(R146),COLUMN(R146))),NOW(),IF(CELL(\"address\")<>ADDRESS(ROW(R146),COLUMN(R146)),T146,NOW())),\"\"))","v":"2022-09-28T18:43:07.850"}]
["Design","PRJ1429 Semi D Eng","Mr. Eng","Detail Drawing",null,null,"Billy",null,null,"1",null,null,"","2022-11-02",null,-44866,0,"Completed","Cancel by client",{"$f":"IF(R147=\"Not started\",\"\",IF(R147<>\"\",IF(AND(T147<>\"\",CELL(\"address\")=ADDRESS(ROW(R147),COLUMN(R147))),NOW(),IF(CELL(\"address\")<>ADDRESS(ROW(R147),COLUMN(R147)),T147,NOW())),\"\"))","v":"2022-09-28T18:43:14.450"}]
["Design","PRJ1454 Toyota Kuchai","Sharen","Call Eugene",null,null,"Syazwan",null,null,"1",null,null,"","2022-11-02",null,-44866,0,"Completed",null,{"$f":"IF(R148=\"Not started\",\"\",IF(R148<>\"\",IF(AND(T148<>\"\",CELL(\"address\")=ADDRESS(ROW(R148),COLUMN(R148))),NOW(),IF(CELL(\"address\")<>ADDRESS(ROW(R148),COLUMN(R148)),T148,NOW())),\"\"))","v":"2022-09-28T18:53:23.260"}]
["Admin","Internal","Office","Name card",null,null,"Wani","Urgent",1,"1",null,null,"2022-09-30","2022-09-30T15:30:45.420",null,"","",null,"2022-09-30T15:30:45.760"]
["IT","internal","Office","renew autocad",null,null,"Kimmie","Urgent",null,"1",null,null,{"$f":"IF(ISBLANK(I150),\"\",IF(I150<1,K150,K150+I150-1))","v":""},{"$f":"IF(R150=\"Not started\",\"\",IF(R150=\"\",\"\",TODAY()))","v":"2022-11-02"},null,-44866,0,"Completed",null,{"$f":"IF(R150=\"Not started\",\"\",IF(R150<>\"\",IF(AND(T150<>\"\",CELL(\"address\")=ADDRESS(ROW(R150),COLUMN(R150))),NOW(),IF(CELL(\"address\")<>ADDRESS(ROW(R150),COLUMN(R150)),T150,NOW())),\"\"))","v":"00:00:00"}]
["Project","PRJ1354 Sunway Geolake","Alan Ling","Mgmt deposit",null,null,"Kimmie",null,null,"1",null,null,{"$f":"IF(ISBLANK(I151),\"\",IF(I151<1,K151,K151+I151-1))","v":""},{"$f":"IF(R151=\"Not started\",\"\",IF(R151=\"\",\"\",TODAY()))","v":"2022-11-02"},null,-44866,0,"Completed","mgmt said 1 month",{"$f":"IF(R151=\"Not started\",\"\",IF(R151<>\"\",IF(AND(T151<>\"\",CELL(\"address\")=ADDRESS(ROW(R151),COLUMN(R151))),NOW(),IF(CELL(\"address\")<>ADDRESS(ROW(R151),COLUMN(R151)),T151,NOW())),\"\"))","v":"2022-10-03T09:20:42.900"}]
["Project","PRJ1419 Fresenius","Chloe","3D","As built 3D",null,"Izzad",null,null,"1",null,null,"2022-10-03","2022-10-03T10:04:03.920",null,"","",null,null,"2022-10-03T10:04:04.760"]
["Design","PRJ1454 Toyota Kuchai","Sharen","Layout","Version 8","Ammendment","Izzad",null,1,"1",null,null,"2022-10-03","2022-10-03T12:49:00.910",null,"","",null,null,"2022-10-03T12:49:01.520"]
["Design","PRJ1454 Toyota Kuchai","Sharen","3D","Version 7","Ammendment","Izzad",null,1,"1",null,null,"2022-10-03","2022-10-03T12:49:17.360",null,"","",null,null,"2022-10-03T12:49:17.980"]
["Project","PRJ1478 Synagie Factory @ Shah Alam ","Kenneth Lee","Quotation",null,null,"Syazwan",null,1,"1",null,null,"2022-10-03","2022-10-03T12:53:52.810",null,"","",null,null,"2022-10-03T12:53:53.500"]
["Project","PRJ1372 Ah Yip Tropicana","Mr. Cheng","Balance",null,null,"Syazwan",null,1,"1",null,null,"2022-10-03","2022-10-03T12:54:10.200",null,"","",null,null,"2022-10-03T12:54:10.880"]
["Project","PRJ1434 Ah Yip KL Gateway","Mr. Cheng","Payment","collect payment (15%, 10%)","by email & whatsapp","Syazwan",null,1,"1",null,null,"2022-10-03","2022-10-03T13:06:27.600",null,"","",null,null,"2022-10-03T13:06:28.230"]
["Enquiry","Confinement Centre",{"$f":"VLOOKUP(B158,'Client&PIC'!A:B,2,FALSE)","v":{"$error":"#N/A"}},null,null,null,"Billy",null,null,{"$f":"IF(G158=\"\",\"\",\"1\")","v":"1"},null,null,{"$f":"IF(ISBLANK(I158),\"\",IF(I158<1,K158,K158+I158-1))","v":""},{"$f":"IF(R158=\"Not started\",\"\",IF(R158=\"\",\"\",TODAY()))","v":"2022-11-02"},null,{"$f":"IF(R158<>\"Completed\",\"\",IF(R158=\"\",\"\",_xlfn.DAYS(O158,N158)+1))","v":-44866},{"$f":"IF(R158<>\"Completed\",\"\",IF(R158=\"\",\"\",ROUNDUP(($O158-$K158)/7,0)))","v":0},"Completed","cancel",{"$f":"IF(R158=\"Not started\",\"\",IF(R158<>\"\",IF(AND(T158<>\"\",CELL(\"address\")=ADDRESS(ROW(R158),COLUMN(R158))),NOW(),IF(CELL(\"address\")<>ADDRESS(ROW(R158),COLUMN(R158)),T158,NOW())),\"\"))","v":"00:00:00"}]
["Admin","Internal",{"$f":"VLOOKUP(B159,'Client&PIC'!A:B,2,FALSE)","v":0},"Monthly Outing","September ",null,"Prabha",null,null,"1",null,null,"","2022-11-02",null,-44866,0,"Completed",null,{"$f":"IF(R159=\"Not started\",\"\",IF(R159<>\"\",IF(AND(T159<>\"\",CELL(\"address\")=ADDRESS(ROW(R159),COLUMN(R159))),NOW(),IF(CELL(\"address\")<>ADDRESS(ROW(R159),COLUMN(R159)),T159,NOW())),\"\"))","v":"00:00:00"}]
["Admin","Internal",{"$f":"VLOOKUP(B160,'Client&PIC'!A:B,2,FALSE)","v":0},"Office Improvement","Quotation format","item price, option must be separate","All Designer",null,null,"1",null,null,"","2022-11-02",null,-44866,0,"Completed",null,{"$f":"IF(R160=\"Not started\",\"\",IF(R160<>\"\",IF(AND(T160<>\"\",CELL(\"address\")=ADDRESS(ROW(R160),COLUMN(R160))),NOW(),IF(CELL(\"address\")<>ADDRESS(ROW(R160),COLUMN(R160)),T160,NOW())),\"\"))","v":"00:00:00"}]
["Admin","Internal",{"$f":"VLOOKUP(B161,'Client&PIC'!A:B,2,FALSE)","v":0},"Tools & Machines","Battery drill charger",null,"Kimmie",null,null,"1",null,null,"","2022-11-02",null,-44866,0,"Completed",null,{"$f":"IF(R161=\"Not started\",\"\",IF(R161<>\"\",IF(AND(T161<>\"\",CELL(\"address\")=ADDRESS(ROW(R161),COLUMN(R161))),NOW(),IF(CELL(\"address\")<>ADDRESS(ROW(R161),COLUMN(R161)),T161,NOW())),\"\"))","v":"00:00:00"}]
["Design","PRJ1454 Toyota Kuchai",{"$f":"VLOOKUP(B162,'Client&PIC'!A:B,2,FALSE)","v":{"$error":"#N/A"}},"Design fee",null,"Pending deposit","Kimmie",null,null,"1",null,null,"","2022-11-02",null,-44866,0,"Completed","to discount",{"$f":"IF(R162=\"Not started\",\"\",IF(R162<>\"\",IF(AND(T162<>\"\",CELL(\"address\")=ADDRESS(ROW(R162),COLUMN(R162))),NOW(),IF(CELL(\"address\")<>ADDRESS(ROW(R162),COLUMN(R162)),T162,NOW())),\"\"))","v":"00:00:00"}]
["Design","PRJ1458 Fresenius Kabi",{"$f":"VLOOKUP(B163,'Client&PIC'!A:B,2,FALSE)","v":"June"},"Info request","Email","request to client necessary layout","Billy",null,1,"1",null,null,"00:00:00","2022-11-02",null,-44866,0,"Completed",null,{"$f":"IF(R163=\"Not started\",\"\",IF(R163<>\"\",IF(AND(T163<>\"\",CELL(\"address\")=ADDRESS(ROW(R163),COLUMN(R163))),NOW(),IF(CELL(\"address\")<>ADDRESS(ROW(R163),COLUMN(R163)),T163,NOW())),\"\"))","v":"00:00:00"}]
["Design","PRJ1472 Flight Management Building @ KLIA",{"$f":"VLOOKUP(B164,'Client&PIC'!A:B,2,FALSE)","v":"Yusof"},"Info request","27/9/2022 deadline",null,"Syazwan","Important",0.5,"1",null,null,"00:00:00","2022-11-02",null,-44866,0,"Completed","short time and cancel",{"$f":"IF(R164=\"Not started\",\"\",IF(R164<>\"\",IF(AND(T164<>\"\",CELL(\"address\")=ADDRESS(ROW(R164),COLUMN(R164))),NOW(),IF(CELL(\"address\")<>ADDRESS(ROW(R164),COLUMN(R164)),T164,NOW())),\"\"))","v":"00:00:00"}]
["Design","PRJ1472 Flight Management Building @ KLIA",{"$f":"VLOOKUP(B165,'Client&PIC'!A:B,2,FALSE)","v":"Yusof"},"Quotation","27/9/2022 deadline",null,"Syazwan","Important",1,"1",null,null,"00:00:00","2022-11-02",null,-44866,0,"Completed","short time and cancel",{"$f":"IF(R165=\"Not started\",\"\",IF(R165<>\"\",IF(AND(T165<>\"\",CELL(\"address\")=ADDRESS(ROW(R165),COLUMN(R165))),NOW(),IF(CELL(\"address\")<>ADDRESS(ROW(R165),COLUMN(R165)),T165,NOW())),\"\"))","v":"00:00:00"}]
["Design","PRJ1473 Engineering Complex @ SSZ KLIA ",{"$f":"VLOOKUP(B166,'Client&PIC'!A:B,2,FALSE)","v":"Yusof"},"Info request","27/9/2022 deadline",null,"Syazwan","Important",0.5,"1",null,null,"00:00:00","2022-11-02",null,-44866,0,"Completed","short time and cancel",{"$f":"IF(R166=\"Not started\",\"\",IF(R166<>\"\",IF(AND(T166<>\"\",CELL(\"address\")=ADDRESS(ROW(R166),COLUMN(R166))),NOW(),IF(CELL(\"address\")<>ADDRESS(ROW(R166),COLUMN(R166)),T166,NOW())),\"\"))","v":"00:00:00"}]
["Design","PRJ1473 Engineering Complex @ SSZ KLIA ",{"$f":"VLOOKUP(B167,'Client&PIC'!A:B,2,FALSE)","v":"Yusof"},"Quotation","27/9/2022 deadline",null,"Syazwan","Important",1,"1",null,null,"00:00:00","2022-11-02",null,-44866,0,"Completed","short time and cancel",{"$f":"IF(R167=\"Not started\",\"\",IF(R167<>\"\",IF(AND(T167<>\"\",CELL(\"address\")=ADDRESS(ROW(R167),COLUMN(R167))),NOW(),IF(CELL(\"address\")<>ADDRESS(ROW(R167),COLUMN(R167)),T167,NOW())),\"\"))","v":"00:00:00"}]
["Design","PRJ1474 Advance Kargo Centre @ MAS Kargo KLIA",{"$f":"VLOOKUP(B168,'Client&PIC'!A:B,2,FALSE)","v":"Yusof"},"Info request","27/9/2022 deadline",null,"Syazwan","Important",0.5,"1",null,null,"00:00:00","2022-11-02",null,-44866,0,"Completed","short time and cancel",{"$f":"IF(R168=\"Not started\",\"\",IF(R168<>\"\",IF(AND(T168<>\"\",CELL(\"address\")=ADDRESS(ROW(R168),COLUMN(R168))),NOW(),IF(CELL(\"address\")<>ADDRESS(ROW(R168),COLUMN(R168)),T168,NOW())),\"\"))","v":"00:00:00"}]
["Design","PRJ1474 Advance Kargo Centre @ MAS Kargo KLIA",{"$f":"VLOOKUP(B169,'Client&PIC'!A:B,2,FALSE)","v":"Yusof"},"Quotation","27/9/2022 deadline",null,"Syazwan","Important",1,"1",null,null,"00:00:00","2022-11-02",null,-44866,0,"Completed","short time and cancel",{"$f":"IF(R169=\"Not started\",\"\",IF(R169<>\"\",IF(AND(T169<>\"\",CELL(\"address\")=ADDRESS(ROW(R169),COLUMN(R169))),NOW(),IF(CELL(\"address\")<>ADDRESS(ROW(R169),COLUMN(R169)),T169,NOW())),\"\"))","v":"00:00:00"}]
["Design","PRJ1465 Eastman Office",{"$f":"VLOOKUP(B170,'Client&PIC'!A:B,2,FALSE)","v":"Alan Loh"},"Discussion on design",null,null,"Billy",null,null,{"$f":"IF(G170=\"\",\"\",\"1\")","v":"1"},null,null,"",null,null,{"$f":"IF(OR(R170<>\"Completed\",R170<>\"Make Appointment\"),\"\",IF(R170=\"\",\"\",_xlfn.DAYS(O170,N170)+1))","v":""},{"$f":"IF(OR(R170<>\"Completed\",R170<>\"Make Appointment\"),\"\",IF(R170=\"\",\"\",ROUNDUP(($O170-$K170)/7,0)))","v":""},"Completed",null,""]
["Design","PRJ1465 Eastman Office",{"$f":"VLOOKUP(B171,'Client&PIC'!A:B,2,FALSE)","v":"Alan Loh"},"Check client comment",null,null,"Billy",null,null,{"$f":"IF(G171=\"\",\"\",\"1\")","v":"1"},null,null,"",null,null,{"$f":"IF(OR(R171<>\"Completed\",R171<>\"Make Appointment\"),\"\",IF(R171=\"\",\"\",_xlfn.DAYS(O171,N171)+1))","v":""},{"$f":"IF(OR(R171<>\"Completed\",R171<>\"Make Appointment\"),\"\",IF(R171=\"\",\"\",ROUNDUP(($O171-$K171)/7,0)))","v":""},"Completed",null,""]
["Design","PRJ1465 Eastman Office",{"$f":"VLOOKUP(B172,'Client&PIC'!A:B,2,FALSE)","v":"Alan Loh"},"Upload","3D, Layout, Electrical & Lighting Plan",null,"Syazwan",null,null,{"$f":"IF(G172=\"\",\"\",\"1\")","v":"1"},null,null,"",null,null,{"$f":"IF(OR(R172<>\"Completed\",R172<>\"Make Appointment\"),\"\",IF(R172=\"\",\"\",_xlfn.DAYS(O172,N172)+1))","v":""},{"$f":"IF(OR(R172<>\"Completed\",R172<>\"Make Appointment\"),\"\",IF(R172=\"\",\"\",ROUNDUP(($O172-$K172)/7,0)))","v":""},"Completed",null,""]
["Enquiry","PRJ1464 Ah Yip Hartamas",{"$f":"VLOOKUP(B173,'Client&PIC'!A:B,2,FALSE)","v":"Mr Cheng"},"Take enquiry",null,"date client","Syazwan",null,null,{"$f":"IF(G173=\"\",\"\",\"1\")","v":"1"},null,null,null,"2022-10-25T15:10:08","2022-10-25T15:10:11",{"$f":"IF(OR(R173<>\"Completed\",R173<>\"Make appointment\"), \"\",IF(R173=\"\",\"\",_xlfn.DAYS(O173,N173)+1))","v":""},{"$f":"IF(OR(R173<>\"Completed\",R173<>\"Make appointment\"),\"\",IF(R173=\"\",\"\",ROUNDUP(($O173-$K173)/7,0)))","v":""},"Completed",null,"2022-10-25T15:10:11"]
["Design","PRJ1464 Ah Yip Hartamas",{"$f":"VLOOKUP(B174,'Client&PIC'!A:B,2,FALSE)","v":"Mr Cheng"},"Layout Plan","Version 1",null,"Wani",null,null,"1","2022-10-20T11:01:00",null,null,"2022-10-25T12:15:26",null,"","","Completed",null,"2022-10-25T12:15:26"]
["Design","PRJ1454 Toyota Showroom",{"$f":"VLOOKUP(B175,'Client&PIC'!A:B,2,FALSE)","v":"Sharen"},"layout",null,null,"Wani","Urgent",1,"1","2022-10-25T13:45:01",null,null,null,null,"","","Completed"]

{"sheet":"Project Overview","index":3,"n_rows":725,"n_cols":10,"rows_kept":725,"cut":false,"hidden":false,"merged":[[0,1,0,9],[0,0,1,0]]}
["Project Name","Status"]
[null,"Not started","Just started","In progress","Almost done","To be checked","Pls check comment","In amendment","To be printed","Completed"]
[{"$f":"_xlfn.UNIQUE(_xlfn._xlws.FILTER(ToDoList!$B$3:$B$9794, ToDoList!$B$3:$B$9794 <> \"\"))","v":"Enquiry"},{"$f":"IF($A3 = \"\", \"\", COUNTIFS(ToDoList!$B:$B, $A3, ToDoList!$R:$R, B$2))","v":0},{"$f":"IF($A3 = \"\", \"\", COUNTIFS(ToDoList!$B:$B, $A3, ToDoList!$R:$R, C$2))","v":0},{"$f":"IF($A3 = \"\", \"\", COUNTIFS(ToDoList!$B:$B, $A3, ToDoList!$R:$R, D$2))","v":1},{"$f":"IF($A3 = \"\", \"\", COUNTIFS(ToDoList!$B:$B, $A3, ToDoList!$R:$R, E$2))","v":0},{"$f":"IF($A3 = \"\", \"\", COUNTIFS(ToDoList!$B:$B, $A3, ToDoList!$R:$R, F$2))","v":0},{"$f":"IF($A3 = \"\", \"\", COUNTIFS(ToDoList!$B:$B, $A3, ToDoList!$R:$R, G$2))","v":0},{"$f":"IF($A3 = \"\", \"\", COUNTIFS(ToDoList!$B:$B, $A3, ToDoList!$R:$R, H$2))","v":0},{"$f":"IF($A3 = \"\", \"\", COUNTIFS(ToDoList!$B:$B, $A3, ToDoList!$R:$R, I$2))","v":0},{"$f":"IF($A3 = \"\", \"\", COUNTIFS(ToDoList!$B:$B, $A3, ToDoList!$R:$R, J$2))","v":0}]
["Internal",{"$f":"IF($A4 = \"\", \"\", COUNTIFS(ToDoList!$B:$B, $A4, ToDoList!$R:$R, B$2))","v":0},{"$f":"IF($A4 = \"\", \"\", COUNTIFS(ToDoList!$B:$B, $A4, ToDoList!$R:$R, C$2))","v":0},{"$f":"IF($A4 = \"\", \"\", COUNTIFS(ToDoList!$B:$B, $A4, ToDoList!$R:$R, D$2))","v":7},{"$f":"IF($A4 = \"\", \"\", COUNTIFS(ToDoList!$B:$B, $A4, ToDoList!$R:$R, E$2))","v":0},{"$f":"IF($A4 = \"\", \"\", COUNTIFS(ToDoList!$B:$B, $A4, ToDoList!$R:$R, F$2))","v":0},{"$f":"IF($A4 = \"\", \"\", COUNTIFS(ToDoList!$B:$B, $A4, ToDoList!$R:$R, G$2))","v":0},{"$f":"IF($A4 = \"\", \"\", COUNTIFS(ToDoList!$B:$B, $A4, ToDoList!$R:$R, H$2))","v":0},{"$f":"IF($A4 = \"\", \"\", COUNTIFS(ToDoList!$B:$B, $A4, ToDoList!$R:$R, I$2))","v":0},{"$f":"IF($A4 = \"\", \"\", COUNTIFS(ToDoList!$B:$B, $A4, ToDoList!$R:$R, J$2))","v":0}]
["Interview",{"$f":"IF($A5 = \"\", \"\", COUNTIFS(ToDoList!$B:$B, $A5, ToDoList!$R:$R, B$2))","v":0},{"$f":"IF($A5 = \"\", \"\", COUNTIFS(ToDoList!$B:$B, $A5, ToDoList!$R:$R, C$2))","v":0},{"$f":"IF($A5 = \"\", \"\", COUNTIFS(ToDoList!$B:$B, $A5, ToDoList!$R:$R, D$2))","v":1},{"$f":"IF($A5 = \"\", \"\", COUNTIFS(ToDoList!$B:$B, $A5, ToDoList!$R:$R, E$2))","v":0},{"$f":"IF($A5 = \"\", \"\", COUNTIFS(ToDoList!$B:$B, $A5, ToDoList!$R:$R, F$2))","v":0},{"$f":"IF($A5 = \"\", \"\", COUNTIFS(ToDoList!$B:$B, $A5, ToDoList!$R:$R, G$2))","v":0},{"$f":"IF($A5 = \"\", \"\", COUNTIFS(ToDoList!$B:$B, $A5, ToDoList!$R:$R, H$2))","v":0},{"$f":"IF($A5 = \"\", \"\", COUNTIFS(ToDoList!$B:$B, $A5, ToDoList!$R:$R, I$2))","v":0},{"$f":"IF($A5 = \"\", \"\", COUNTIFS(ToDoList!$B:$B, $A5, ToDoList!$R:$R, J$2))","v":0}]
["PRJ1463 Akasa Business Park",{"$f":"IF($A6 = \"\", \"\", COUNTIFS(ToDoList!$B:$B, $A6, ToDoList!$R:$R, B$2))","v":0},{"$f":"IF($A6 = \"\", \"\", COUNTIFS(ToDoList!$B:$B, $A6, ToDoList!$R:$R, C$2))","v":0},{"$f":"IF($A6 = \"\", \"\", COUNTIFS(ToDoList!$B:$B, $A6, ToDoList!$R:$R, D$2))","v":0},{"$f":"IF($A6 = \"\", \"\", COUNTIFS(ToDoList!$B:$B, $A6, ToDoList!$R:$R, E$2))","v":0},{"$f":"IF($A6 = \"\", \"\", COUNTIFS(ToDoList!$B:$B, $A6, ToDoList!$R:$R, F$2))","v":0},{"$f":"IF($A6 = \"\", \"\", COUNTIFS(ToDoList!$B:$B, $A6, ToDoList!$R:$R, G$2))","v":0},{"$f":"IF($A6 = \"\", \"\", COUNTIFS(ToDoList!$B:$B, $A6, ToDoList!$R:$R, H$2))","v":0},{"$f":"IF($A6 = \"\", \"\", COUNTIFS(ToDoList!$B:$B, $A6, ToDoList!$R:$R, I$2))","v":0},{"$f":"IF($A6 = \"\", \"\", COUNTIFS(ToDoList!$B:$B, $A6, ToDoList!$R:$R, J$2))","v":0}]
["PRJ1354 Sunway Geolake",{"$f":"IF($A7 = \"\", \"\", COUNTIFS(ToDoList!$B:$B, $A7, ToDoList!$R:$R, B$2))","v":0},{"$f":"IF($A7 = \"\", \"\", COUNTIFS(ToDoList!$B:$B, $A7, ToDoList!$R:$R, C$2))","v":0},{"$f":"IF($A7 = \"\", \"\", COUNTIFS(ToDoList!$B:$B, $A7, ToDoList!$R:$R, D$2))","v":0},{"$f":"IF($A7 = \"\", \"\", COUNTIFS(ToDoList!$B:$B, $A7, ToDoList!$R:$R, E$2))","v":0},{"$f":"IF($A7 = \"\", \"\", COUNTIFS(ToDoList!$B:$B, $A7, ToDoList!$R:$R, F$2))","v":0},{"$f":"IF($A7 = \"\", \"\", COUNTIFS(ToDoList!$B:$B, $A7, ToDoList!$R:$R, G$2))","v":0},{"$f":"IF($A7 = \"\", \"\", COUNTIFS(ToDoList!$B:$B, $A7, ToDoList!$R:$R, H$2))","v":0},{"$f":"IF($A7 = \"\", \"\", COUNTIFS(ToDoList!$B:$B, $A7, ToDoList!$R:$R, I$2))","v":0},{"$f":"IF($A7 = \"\", \"\", COUNTIFS(ToDoList!$B:$B, $A7, ToDoList!$R:$R, J$2))","v":0}]
["PRJ1465 Eastman Office",{"$f":"IF($A8 = \"\", \"\", COUNTIFS(ToDoList!$B:$B, $A8, ToDoList!$R:$R, B$2))","v":0},{"$f":"IF($A8 = \"\", \"\", COUNTIFS(ToDoList!$B:$B, $A8, ToDoList!$R:$R, C$2))","v":0},{"$f":"IF($A8 = \"\", \"\", COUNTIFS(ToDoList!$B:$B, $A8, ToDoList!$R:$R, D$2))","v":0},{"$f":"IF($A8 = \"\", \"\", COUNTIFS(ToDoList!$B:$B, $A8, ToDoList!$R:$R, E$2))","v":0},{"$f":"IF($A8 = \"\", \"\", COUNTIFS(ToDoList!$B:$B, $A8, ToDoList!$R:$R, F$2))","v":0},{"$f":"IF($A8 = \"\", \"\", COUNTIFS(ToDoList!$B:$B, $A8, ToDoList!$R:$R, G$2))","v":0},{"$f":"IF($A8 = \"\", \"\", COUNTIFS(ToDoList!$B:$B, $A8, ToDoList!$R:$R, H$2))","v":0},{"$f":"IF($A8 = \"\", \"\", COUNTIFS(ToDoList!$B:$B, $A8, ToDoList!$R:$R, I$2))","v":0},{"$f":"IF($A8 = \"\", \"\", COUNTIFS(ToDoList!$B:$B, $A8, ToDoList!$R:$R, J$2))","v":0}]
["PRJ1299 Showroom Sri Kembangan",{"$f":"IF($A9 = \"\", \"\", COUNTIFS(ToDoList!$B:$B, $A9, ToDoList!$R:$R, B$2))","v":0},{"$f":"IF($A9 = \"\", \"\", COUNTIFS(ToDoList!$B:$B, $A9, ToDoList!$R:$R, C$2))","v":0},{"$f":"IF($A9 = \"\", \"\", COUNTIFS(ToDoList!$B:$B, $A9, ToDoList!$R:$R, D$2))","v":0},{"$f":"IF($A9 = \"\", \"\", COUNTIFS(ToDoList!$B:$B, $A9, ToDoList!$R:$R, E$2))","v":0},{"$f":"IF($A9 = \"\", \"\", COUNTIFS(ToDoList!$B:$B, $A9, ToDoList!$R:$R, F$2))","v":0},{"$f":"IF($A9 = \"\", \"\", COUNTIFS(ToDoList!$B:$B, $A9, ToDoList!$R:$R, G$2))","v":0},{"$f":"IF($A9 = \"\", \"\", COUNTIFS(ToDoList!$B:$B, $A9, ToDoList!$R:$R, H$2))","v":0},{"$f":"IF($A9 = \"\", \"\", COUNTIFS(ToDoList!$B:$B, $A9, ToDoList!$R:$R, I$2))","v":0},{"$f":"IF($A9 = \"\", \"\", COUNTIFS(ToDoList!$B:$B, $A9, ToDoList!$R:$R, J$2))","v":0}]
["PRJ1481 Landed House",{"$f":"IF($A10 = \"\", \"\", COUNTIFS(ToDoList!$B:$B, $A10, ToDoList!$R:$R, B$2))","v":0},{"$f":"IF($A10 = \"\", \"\", COUNTIFS(ToDoList!$B:$B, $A10, ToDoList!$R:$R, C$2))","v":0},{"$f":"IF($A10 = \"\", \"\", COUNTIFS(ToDoList!$B:$B, $A10, ToDoList!$R:$R, D$2))","v":0},{"$f":"IF($A10 = \"\", \"\", COUNTIFS(ToDoList!$B:$B, $A10, ToDoList!$R:$R, E$2))","v":0},{"$f":"IF($A10 = \"\", \"\", COUNTIFS(ToDoList!$B:$B, $A10, ToDoList!$R:$R, F$2))","v":0},{"$f":"IF($A10 = \"\", \"\", COUNTIFS(ToDoList!$B:$B, $A10, ToDoList!$R:$R, G$2))","v":0},{"$f":"IF($A10 = \"\", \"\", COUNTIFS(ToDoList!$B:$B, $A10, ToDoList!$R:$R, H$2))","v":0},{"$f":"IF($A10 = \"\", \"\", COUNTIFS(ToDoList!$B:$B, $A10, ToDoList!$R:$R, I$2))","v":0},{"$f":"IF($A10 = \"\", \"\", COUNTIFS(ToDoList!$B:$B, $A10, ToDoList!$R:$R, J$2))","v":0}]
["PRJ1394 Chen Ann",{"$f":"IF($A11 = \"\", \"\", COUNTIFS(ToDoList!$B:$B, $A11, ToDoList!$R:$R, B$2))","v":0},{"$f":"IF($A11 = \"\", \"\", COUNTIFS(ToDoList!$B:$B, $A11, ToDoList!$R:$R, C$2))","v":0},{"$f":"IF($A11 = \"\", \"\", COUNTIFS(ToDoList!$B:$B, $A11, ToDoList!$R:$R, D$2))","v":1},{"$f":"IF($A11 = \"\", \"\", COUNTIFS(ToDoList!$B:$B, $A11, ToDoList!$R:$R, E$2))","v":0},{"$f":"IF($A11 = \"\", \"\", COUNTIFS(ToDoList!$B:$B, $A11, ToDoList!$R:$R, F$2))","v":0},{"$f":"IF($A11 = \"\", \"\", COUNTIFS(ToDoList!$B:$B, $A11, ToDoList!$R:$R, G$2))","v":0},{"$f":"IF($A11 = \"\", \"\", COUNTIFS(ToDoList!$B:$B, $A11, ToDoList!$R:$R, H$2))","v":0},{"$f":"IF($A11 = \"\", \"\", COUNTIFS(ToDoList!$B:$B, $A11, ToDoList!$R:$R, I$2))","v":0},{"$f":"IF($A11 = \"\", \"\", COUNTIFS(ToDoList!$B:$B, $A11, ToDoList!$R:$R, J$2))","v":0}]
["PRJ1419 Fresenius",{"$f":"IF($A12 = \"\", \"\", COUNTIFS(ToDoList!$B:$B, $A12, ToDoList!$R:$R, B$2))","v":0},{"$f":"IF($A12 = \"\", \"\", COUNTIFS(ToDoList!$B:$B, $A12, ToDoList!$R:$R, C$2))","v":0},{"$f":"IF($A12 = \"\", \"\", COUNTIFS(ToDoList!$B:$B, $A12, ToDoList!$R:$R, D$2))","v":1},{"$f":"IF($A12 = \"\", \"\", COUNTIFS(ToDoList!$B:$B, $A12, ToDoList!$R:$R, E$2))","v":1},{"$f":"IF($A12 = \"\", \"\", COUNTIFS(ToDoList!$B:$B, $A12, ToDoList!$R:$R, F$2))","v":0},{"$f":"IF($A12 = \"\", \"\", COUNTIFS(ToDoList!$B:$B, $A12, ToDoList!$R:$R, G$2))","v":0},{"$f":"IF($A12 = \"\", \"\", COUNTIFS(ToDoList!$B:$B, $A12, ToDoList!$R:$R, H$2))","v":0},{"$f":"IF($A12 = \"\", \"\", COUNTIFS(ToDoList!$B:$B, $A12, ToDoList!$R:$R, I$2))","v":0},{"$f":"IF($A12 = \"\", \"\", COUNTIFS(ToDoList!$B:$B, $A12, ToDoList!$R:$R, J$2))","v":0}]
["PRJ1466 Fresenius Bukit Jelutong",{"$f":"IF($A13 = \"\", \"\", COUNTIFS(ToDoList!$B:$B, $A13, ToDoList!$R:$R, B$2))","v":0},{"$f":"IF($A13 = \"\", \"\", COUNTIFS(ToDoList!$B:$B, $A13, ToDoList!$R:$R, C$2))","v":0},{"$f":"IF($A13 = \"\", \"\", COUNTIFS(ToDoList!$B:$B, $A13, ToDoList!$R:$R, D$2))","v":1},{"$f":"IF($A13 = \"\", \"\", COUNTIFS(ToDoList!$B:$B, $A13, ToDoList!$R:$R, E$2))","v":0},{"$f":"IF($A13 = \"\", \"\", COUNTIFS(ToDoList!$B:$B, $A13, ToDoList!$R:$R, F$2))","v":0},{"$f":"IF($A13 = \"\", \"\", COUNTIFS(ToDoList!$B:$B, $A13, ToDoList!$R:$R, G$2))","v":0},{"$f":"IF($A13 = \"\", \"\", COUNTIFS(ToDoList!$B:$B, $A13, ToDoList!$R:$R, H$2))","v":0},{"$f":"IF($A13 = \"\", \"\", COUNTIFS(ToDoList!$B:$B, $A13, ToDoList!$R:$R, I$2))","v":0},{"$f":"IF($A13 = \"\", \"\", COUNTIFS(ToDoList!$B:$B, $A13, ToDoList!$R:$R, J$2))","v":0}]
["PRJ1345 Sanggul Emas",{"$f":"IF($A14 = \"\", \"\", COUNTIFS(ToDoList!$B:$B, $A14, ToDoList!$R:$R, B$2))","v":0},{"$f":"IF($A14 = \"\", \"\", COUNTIFS(ToDoList!$B:$B, $A14, ToDoList!$R:$R, C$2))","v":0},{"$f":"IF($A14 = \"\", \"\", COUNTIFS(ToDoList!$B:$B, $A14, ToDoList!$R:$R, D$2))","v":0},{"$f":"IF($A14 = \"\", \"\", COUNTIFS(ToDoList!$B:$B, $A14, ToDoList!$R:$R, E$2))","v":0},{"$f":"IF($A14 = \"\", \"\", COUNTIFS(ToDoList!$B:$B, $A14, ToDoList!$R:$R, F$2))","v":0},{"$f":"IF($A14 = \"\", \"\", COUNTIFS(ToDoList!$B:$B, $A14, ToDoList!$R:$R, G$2))","v":0},{"$f":"IF($A14 = \"\", \"\", COUNTIFS(ToDoList!$B:$B, $A14, ToDoList!$R:$R, H$2))","v":0},{"$f":"IF($A14 = \"\", \"\", COUNTIFS(ToDoList!$B:$B, $A14, ToDoList!$R:$R, I$2))","v":0},{"$f":"IF($A14 = \"\", \"\", COUNTIFS(ToDoList!$B:$B, $A14, ToDoList!$R:$R, J$2))","v":0}]
["PRJ1475 Car park @ sanggul emas",{"$f":"IF($A15 = \"\", \"\", COUNTIFS(ToDoList!$B:$B, $A15, ToDoList!$R:$R, B$2))","v":0},{"$f":"IF($A15 = \"\", \"\", COUNTIFS(ToDoList!$B:$B, $A15, ToDoList!$R:$R, C$2))","v":0},{"$f":"IF($A15 = \"\", \"\", COUNTIFS(ToDoList!$B:$B, $A15, ToDoList!$R:$R, D$2))","v":2},{"$f":"IF($A15 = \"\", \"\", COUNTIFS(ToDoList!$B:$B, $A15, ToDoList!$R:$R, E$2))","v":0},{"$f":"IF($A15 = \"\", \"\", COUNTIFS(ToDoList!$B:$B, $A15, ToDoList!$R:$R, F$2))","v":0},{"$f":"IF($A15 = \"\", \"\", COUNTIFS(ToDoList!$B:$B, $A15, ToDoList!$R:$R, G$2))","v":0},{"$f":"IF($A15 = \"\", \"\", COUNTIFS(ToDoList!$B:$B, $A15, ToDoList!$R:$R, H$2))","v":0},{"$f":"IF($A15 = \"\", \"\", COUNTIFS(ToDoList!$B:$B, $A15, ToDoList!$R:$R, I$2))","v":0},{"$f":"IF($A15 = \"\", \"\", COUNTIFS(ToDoList!$B:$B, $A15, ToDoList!$R:$R, J$2))","v":0}]
["PRJ1456 Petai King Velocity",{"$f":"IF($A16 = \"\", \"\", COUNTIFS(ToDoList!$B:$B, $A16, ToDoList!$R:$R, B$2))","v":0},{"$f":"IF($A16 = \"\", \"\", COUNTIFS(ToDoList!$B:$B, $A16, ToDoList!$R:$R, C$2))","v":0},{"$f":"IF($A16 = \"\", \"\", COUNTIFS(ToDoList!$B:$B, $A16, ToDoList!$R:$R, D$2))","v":0},{"$f":"IF($A16 = \"\", \"\", COUNTIFS(ToDoList!$B:$B, $A16, ToDoList!$R:$R, E$2))","v":0},{"$f":"IF($A16 = \"\", \"\", COUNTIFS(ToDoList!$B:$B, $A16, ToDoList!$R:$R, F$2))","v":0},{"$f":"IF($A16 = \"\", \"\", COUNTIFS(ToDoList!$B:$B, $A16, ToDoList!$R:$R, G$2))","v":0},{"$f":"IF($A16 = \"\", \"\", COUNTIFS(ToDoList!$B:$B, $A16, ToDoList!$R:$R, H$2))","v":0},{"$f":"IF($A16 = \"\", \"\", COUNTIFS(ToDoList!$B:$B, $A16, ToDoList!$R:$R, I$2))","v":0},{"$f":"IF($A16 = \"\", \"\", COUNTIFS(ToDoList!$B:$B, $A16, ToDoList!$R:$R, J$2))","v":0}]
["PRJ1453 Funeral Hall",{"$f":"IF($A17 = \"\", \"\", COUNTIFS(ToDoList!$B:$B, $A17, ToDoList!$R:$R, B$2))","v":0},{"$f":"IF($A17 = \"\", \"\", COUNTIFS(ToDoList!$B:$B, $A17, ToDoList!$R:$R, C$2))","v":0},{"$f":"IF($A17 = \"\", \"\", COUNTIFS(ToDoList!$B:$B, $A17, ToDoList!$R:$R, D$2))","v":0},{"$f":"IF($A17 = \"\", \"\", COUNTIFS(ToDoList!$B:$B, $A17, ToDoList!$R:$R, E$2))","v":0},{"$f":"IF($A17 = \"\", \"\", COUNTIFS(ToDoList!$B:$B, $A17, ToDoList!$R:$R, F$2))","v":0},{"$f":"IF($A17 = \"\", \"\", COUNTIFS(ToDoList!$B:$B, $A17, ToDoList!$R:$R, G$2))","v":0},{"$f":"IF($A17 = \"\", \"\", COUNTIFS(ToDoList!$B:$B, $A17, ToDoList!$R:$R, H$2))","v":0},{"$f":"IF($A17 = \"\", \"\", COUNTIFS(ToDoList!$B:$B, $A17, ToDoList!$R:$R, I$2))","v":0},{"$f":"IF($A17 = \"\", \"\", COUNTIFS(ToDoList!$B:$B, $A17, ToDoList!$R:$R, J$2))","v":0}]
["PRJ1470 SLS Office Senawang",{"$f":"IF($A18 = \"\", \"\", COUNTIFS(ToDoList!$B:$B, $A18, ToDoList!$R:$R, B$2))","v":0},{"$f":"IF($A18 = \"\", \"\", COUNTIFS(ToDoList!$B:$B, $A18, ToDoList!$R:$R, C$2))","v":0},{"$f":"IF($A18 = \"\", \"\", COUNTIFS(ToDoList!$B:$B, $A18, ToDoList!$R:$R, D$2))","v":0},{"$f":"IF($A18 = \"\", \"\", COUNTIFS(ToDoList!$B:$B, $A18, ToDoList!$R:$R, E$2))","v":0},{"$f":"IF($A18 = \"\", \"\", COUNTIFS(ToDoList!$B:$B, $A18, ToDoList!$R:$R, F$2))","v":0},{"$f":"IF($A18 = \"\", \"\", COUNTIFS(ToDoList!$B:$B, $A18, ToDoList!$R:$R, G$2))","v":0},{"$f":"IF($A18 = \"\", \"\", COUNTIFS(ToDoList!$B:$B, $A18, ToDoList!$R:$R, H$2))","v":0},{"$f":"IF($A18 = \"\", \"\", COUNTIFS(ToDoList!$B:$B, $A18, ToDoList!$R:$R, I$2))","v":0},{"$f":"IF($A18 = \"\", \"\", COUNTIFS(ToDoList!$B:$B, $A18, ToDoList!$R:$R, J$2))","v":0}]
["PRJ1471 Bakery Shop",{"$f":"IF($A19 = \"\", \"\", COUNTIFS(ToDoList!$B:$B, $A19, ToDoList!$R:$R, B$2))","v":0},{"$f":"IF($A19 = \"\", \"\", COUNTIFS(ToDoList!$B:$B, $A19, ToDoList!$R:$R, C$2))","v":0},{"$f":"IF($A19 = \"\", \"\", COUNTIFS(ToDoList!$B:$B, $A19, ToDoList!$R:$R, D$2))","v":0},{"$f":"IF($A19 = \"\", \"\", COUNTIFS(ToDoList!$B:$B, $A19, ToDoList!$R:$R, E$2))","v":0},{"$f":"IF($A19 = \"\", \"\", COUNTIFS(ToDoList!$B:$B, $A19, ToDoList!$R:$R, F$2))","v":0},{"$f":"IF($A19 = \"\", \"\", COUNTIFS(ToDoList!$B:$B, $A19, ToDoList!$R:$R, G$2))","v":0},{"$f":"IF($A19 = \"\", \"\", COUNTIFS(ToDoList!$B:$B, $A19, ToDoList!$R:$R, H$2))","v":0},{"$f":"IF($A19 = \"\", \"\", COUNTIFS(ToDoList!$B:$B, $A19, ToDoList!$R:$R, I$2))","v":0},{"$f":"IF($A19 = \"\", \"\", COUNTIFS(ToDoList!$B:$B, $A19, ToDoList!$R:$R, J$2))","v":0}]
["PRJ1458 Fresenius Kabi",{"$f":"IF($A20 = \"\", \"\", COUNTIFS(ToDoList!$B:$B, $A20, ToDoList!$R:$R, B$2))","v":0},{"$f":"IF($A20 = \"\", \"\", COUNTIFS(ToDoList!$B:$B, $A20, ToDoList!$R:$R, C$2))","v":0},{"$f":"IF($A20 = \"\", \"\", COUNTIFS(ToDoList!$B:$B, $A20, ToDoList!$R:$R, D$2))","v":1},{"$f":"IF($A20 = \"\", \"\", COUNTIFS(ToDoList!$B:$B, $A20, ToDoList!$R:$R, E$2))","v":0},{"$f":"IF($A20 = \"\", \"\", COUNTIFS(ToDoList!$B:$B, $A20, ToDoList!$R:$R, F$2))","v":0},{"$f":"IF($A20 = \"\", \"\", COUNTIFS(ToDoList!$B:$B, $A20, ToDoList!$R:$R, G$2))","v":0},{"$f":"IF($A20 = \"\", \"\", COUNTIFS(ToDoList!$B:$B, $A20, ToDoList!$R:$R, H$2))","v":0},{"$f":"IF($A20 = \"\", \"\", COUNTIFS(ToDoList!$B:$B, $A20, ToDoList!$R:$R, I$2))","v":0},{"$f":"IF($A20 = \"\", \"\", COUNTIFS(ToDoList!$B:$B, $A20, ToDoList!$R:$R, J$2))","v":0}]
["PRJ1372 Ah Yip Tropicana",{"$f":"IF($A21 = \"\", \"\", COUNTIFS(ToDoList!$B:$B, $A21, ToDoList!$R:$R, B$2))","v":0},{"$f":"IF($A21 = \"\", \"\", COUNTIFS(ToDoList!$B:$B, $A21, ToDoList!$R:$R, C$2))","v":0},{"$f":"IF($A21 = \"\", \"\", COUNTIFS(ToDoList!$B:$B, $A21, ToDoList!$R:$R, D$2))","v":0},{"$f":"IF($A21 = \"\", \"\", COUNTIFS(ToDoList!$B:$B, $A21, ToDoList!$R:$R, E$2))","v":0},{"$f":"IF($A21 = \"\", \"\", COUNTIFS(ToDoList!$B:$B, $A21, ToDoList!$R:$R, F$2))","v":0},{"$f":"IF($A21 = \"\", \"\", COUNTIFS(ToDoList!$B:$B, $A21, ToDoList!$R:$R, G$2))","v":0},{"$f":"IF($A21 = \"\", \"\", COUNTIFS(ToDoList!$B:$B, $A21, ToDoList!$R:$R, H$2))","v":0},{"$f":"IF($A21 = \"\", \"\", COUNTIFS(ToDoList!$B:$B, $A21, ToDoList!$R:$R, I$2))","v":0},{"$f":"IF($A21 = \"\", \"\", COUNTIFS(ToDoList!$B:$B, $A21, ToDoList!$R:$R, J$2))","v":0}]
["PRJ1434 Ah Yip KL Gateway",{"$f":"IF($A22 = \"\", \"\", COUNTIFS(ToDoList!$B:$B, $A22, ToDoList!$R:$R, B$2))","v":0},{"$f":"IF($A22 = \"\", \"\", COUNTIFS(ToDoList!$B:$B, $A22, ToDoList!$R:$R, C$2))","v":0},{"$f":"IF($A22 = \"\", \"\", COUNTIFS(ToDoList!$B:$B, $A22, ToDoList!$R:$R, D$2))","v":0},{"$f":"IF($A22 = \"\", \"\", COUNTIFS(ToDoList!$B:$B, $A22, ToDoList!$R:$R, E$2))","v":0},{"$f":"IF($A22 = \"\", \"\", COUNTIFS(ToDoList!$B:$B, $A22, ToDoList!$R:$R, F$2))","v":0},{"$f":"IF($A22 = \"\", \"\", COUNTIFS(ToDoList!$B:$B, $A22, ToDoList!$R:$R, G$2))","v":1},{"$f":"IF($A22 = \"\", \"\", COUNTIFS(ToDoList!$B:$B, $A22, ToDoList!$R:$R, H$2))","v":0},{"$f":"IF($A22 = \"\", \"\", COUNTIFS(ToDoList!$B:$B, $A22, ToDoList!$R:$R, I$2))","v":0},{"$f":"IF($A22 = \"\", \"\", COUNTIFS(ToDoList!$B:$B, $A22, ToDoList!$R:$R, J$2))","v":0}]
["PRJ1443 Ah Yip Lowyat",{"$f":"IF($A23 = \"\", \"\", COUNTIFS(ToDoList!$B:$B, $A23, ToDoList!$R:$R, B$2))","v":0},{"$f":"IF($A23 = \"\", \"\", COUNTIFS(ToDoList!$B:$B, $A23, ToDoList!$R:$R, C$2))","v":0},{"$f":"IF($A23 = \"\", \"\", COUNTIFS(ToDoList!$B:$B, $A23, ToDoList!$R:$R, D$2))","v":0},{"$f":"IF($A23 = \"\", \"\", COUNTIFS(ToDoList!$B:$B, $A23, ToDoList!$R:$R, E$2))","v":0},{"$f":"IF($A23 = \"\", \"\", COUNTIFS(ToDoList!$B:$B, $A23, ToDoList!$R:$R, F$2))","v":0},{"$f":"IF($A23 = \"\", \"\", COUNTIFS(ToDoList!$B:$B, $A23, ToDoList!$R:$R, G$2))","v":0},{"$f":"IF($A23 = \"\", \"\", COUNTIFS(ToDoList!$B:$B, $A23, ToDoList!$R:$R, H$2))","v":0},{"$f":"IF($A23 = \"\", \"\", COUNTIFS(ToDoList!$B:$B, $A23, ToDoList!$R:$R, I$2))","v":0},{"$f":"IF($A23 = \"\", \"\", COUNTIFS(ToDoList!$B:$B, $A23, ToDoList!$R:$R, J$2))","v":0}]
["PRJ1464 Ah Yip Hartamas",{"$f":"IF($A24 = \"\", \"\", COUNTIFS(ToDoList!$B:$B, $A24, ToDoList!$R:$R, B$2))","v":0},{"$f":"IF($A24 = \"\", \"\", COUNTIFS(ToDoList!$B:$B, $A24, ToDoList!$R:$R, C$2))","v":0},{"$f":"IF($A24 = \"\", \"\", COUNTIFS(ToDoList!$B:$B, $A24, ToDoList!$R:$R, D$2))","v":0},{"$f":"IF($A24 = \"\", \"\", COUNTIFS(ToDoList!$B:$B, $A24, ToDoList!$R:$R, E$2))","v":0},{"$f":"IF($A24 = \"\", \"\", COUNTIFS(ToDoList!$B:$B, $A24, ToDoList!$R:$R, F$2))","v":0},{"$f":"IF($A24 = \"\", \"\", COUNTIFS(ToDoList!$B:$B, $A24, ToDoList!$R:$R, G$2))","v":0},{"$f":"IF($A24 = \"\", \"\", COUNTIFS(ToDoList!$B:$B, $A24, ToDoList!$R:$R, H$2))","v":0},{"$f":"IF($A24 = \"\", \"\", COUNTIFS(ToDoList!$B:$B, $A24, ToDoList!$R:$R, I$2))","v":0},{"$f":"IF($A24 = \"\", \"\", COUNTIFS(ToDoList!$B:$B, $A24, ToDoList!$R:$R, J$2))","v":0}]
["PRJ1464 Ah Yip Paradigm Mall",{"$f":"IF($A25 = \"\", \"\", COUNTIFS(ToDoList!$B:$B, $A25, ToDoList!$R:$R, B$2))","v":0},{"$f":"IF($A25 = \"\", \"\", COUNTIFS(ToDoList!$B:$B, $A25, ToDoList!$R:$R, C$2))","v":0},{"$f":"IF($A25 = \"\", \"\", COUNTIFS(ToDoList!$B:$B, $A25, ToDoList!$R:$R, D$2))","v":0},{"$f":"IF($A25 = \"\", \"\", COUNTIFS(ToDoList!$B:$B, $A25, ToDoList!$R:$R, E$2))","v":0},{"$f":"IF($A25 = \"\", \"\", COUNTIFS(ToDoList!$B:$B, $A25, ToDoList!$R:$R, F$2))","v":0},{"$f":"IF($A25 = \"\", \"\", COUNTIFS(ToDoList!$B:$B, $A25, ToDoList!$R:$R, G$2))","v":0},{"$f":"IF($A25 = \"\", \"\", COUNTIFS(ToDoList!$B:$B, $A25, ToDoList!$R:$R, H$2))","v":0},{"$f":"IF($A25 = \"\", \"\", COUNTIFS(ToDoList!$B:$B, $A25, ToDoList!$R:$R, I$2))","v":0},{"$f":"IF($A25 = \"\", \"\", COUNTIFS(ToDoList!$B:$B, $A25, ToDoList!$R:$R, J$2))","v":0}]
["PRJ1484 Bungalow @ Jalan Awan Cina",{"$f":"IF($A26 = \"\", \"\", COUNTIFS(ToDoList!$B:$B, $A26, ToDoList!$R:$R, B$2))","v":0},{"$f":"IF($A26 = \"\", \"\", COUNTIFS(ToDoList!$B:$B, $A26, ToDoList!$R:$R, C$2))","v":0},{"$f":"IF($A26 = \"\", \"\", COUNTIFS(ToDoList!$B:$B, $A26, ToDoList!$R:$R, D$2))","v":0},{"$f":"IF($A26 = \"\", \"\", COUNTIFS(ToDoList!$B:$B, $A26, ToDoList!$R:$R, E$2))","v":0},{"$f":"IF($A26 = \"\", \"\", COUNTIFS(ToDoList!$B:$B, $A26, ToDoList!$R:$R, F$2))","v":0},{"$f":"IF($A26 = \"\", \"\", COUNTIFS(ToDoList!$B:$B, $A26, ToDoList!$R:$R, G$2))","v":0},{"$f":"IF($A26 = \"\", \"\", COUNTIFS(ToDoList!$B:$B, $A26, ToDoList!$R:$R, H$2))","v":0},{"$f":"IF($A26 = \"\", \"\", COUNTIFS(ToDoList!$B:$B, $A26, ToDoList!$R:$R, I$2))","v":0},{"$f":"IF($A26 = \"\", \"\", COUNTIFS(ToDoList!$B:$B, $A26, ToDoList!$R:$R, J$2))","v":0}]
["PRJ1402 Nizam",{"$f":"IF($A27 = \"\", \"\", COUNTIFS(ToDoList!$B:$B, $A27, ToDoList!$R:$R, B$2))","v":0},{"$f":"IF($A27 = \"\", \"\", COUNTIFS(ToDoList!$B:$B, $A27, ToDoList!$R:$R, C$2))","v":0},{"$f":"IF($A27 = \"\", \"\", COUNTIFS(ToDoList!$B:$B, $A27, ToDoList!$R:$R, D$2))","v":0},{"$f":"IF($A27 = \"\", \"\", COUNTIFS(ToDoList!$B:$B, $A27, ToDoList!$R:$R, E$2))","v":0},{"$f":"IF($A27 = \"\", \"\", COUNTIFS(ToDoList!$B:$B, $A27, ToDoList!$R:$R, F$2))","v":0},{"$f":"IF($A27 = \"\", \"\", COUNTIFS(ToDoList!$B:$B, $A27, ToDoList!$R:$R, G$2))","v":0},{"$f":"IF($A27 = \"\", \"\", COUNTIFS(ToDoList!$B:$B, $A27, ToDoList!$R:$R, H$2))","v":0},{"$f":"IF($A27 = \"\", \"\", COUNTIFS(ToDoList!$B:$B, $A27, ToDoList!$R:$R, I$2))","v":0},{"$f":"IF($A27 = \"\", \"\", COUNTIFS(ToDoList!$B:$B, $A27, ToDoList!$R:$R, J$2))","v":0}]
["PRJ1431 Shak & Co Setapak",{"$f":"IF($A28 = \"\", \"\", COUNTIFS(ToDoList!$B:$B, $A28, ToDoList!$R:$R, B$2))","v":0},{"$f":"IF($A28 = \"\", \"\", COUNTIFS(ToDoList!$B:$B, $A28, ToDoList!$R:$R, C$2))","v":0},{"$f":"IF($A28 = \"\", \"\", COUNTIFS(ToDoList!$B:$B, $A28, ToDoList!$R:$R, D$2))","v":0},{"$f":"IF($A28 = \"\", \"\", COUNTIFS(ToDoList!$B:$B, $A28, ToDoList!$R:$R, E$2))","v":0},{"$f":"IF($A28 = \"\", \"\", COUNTIFS(ToDoList!$B:$B, $A28, ToDoList!$R:$R, F$2))","v":0},{"$f":"IF($A28 = \"\", \"\", COUNTIFS(ToDoList!$B:$B, $A28, ToDoList!$R:$R, G$2))","v":0},{"$f":"IF($A28 = \"\", \"\", COUNTIFS(ToDoList!$B:$B, $A28, ToDoList!$R:$R, H$2))","v":0},{"$f":"IF($A28 = \"\", \"\", COUNTIFS(ToDoList!$B:$B, $A28, ToDoList!$R:$R, I$2))","v":0},{"$f":"IF($A28 = \"\", \"\", COUNTIFS(ToDoList!$B:$B, $A28, ToDoList!$R:$R, J$2))","v":0}]
["PRJ1454 Toyota Showroom",{"$f":"IF($A29 = \"\", \"\", COUNTIFS(ToDoList!$B:$B, $A29, ToDoList!$R:$R, B$2))","v":0},{"$f":"IF($A29 = \"\", \"\", COUNTIFS(ToDoList!$B:$B, $A29, ToDoList!$R:$R, C$2))","v":0},{"$f":"IF($A29 = \"\", \"\", COUNTIFS(ToDoList!$B:$B, $A29, ToDoList!$R:$R, D$2))","v":0},{"$f":"IF($A29 = \"\", \"\", COUNTIFS(ToDoList!$B:$B, $A29, ToDoList!$R:$R, E$2))","v":0},{"$f":"IF($A29 = \"\", \"\", COUNTIFS(ToDoList!$B:$B, $A29, ToDoList!$R:$R, F$2))","v":0},{"$f":"IF($A29 = \"\", \"\", COUNTIFS(ToDoList!$B:$B, $A29, ToDoList!$R:$R, G$2))","v":0},{"$f":"IF($A29 = \"\", \"\", COUNTIFS(ToDoList!$B:$B, $A29, ToDoList!$R:$R, H$2))","v":0},{"$f":"IF($A29 = \"\", \"\", COUNTIFS(ToDoList!$B:$B, $A29, ToDoList!$R:$R, I$2))","v":0},{"$f":"IF($A29 = \"\", \"\", COUNTIFS(ToDoList!$B:$B, $A29, ToDoList!$R:$R, J$2))","v":0}]
[null,{"$f":"IF($A30 = \"\", \"\", COUNTIFS(ToDoList!$B:$B, $A30, ToDoList!$R:$R, B$2))","v":""},{"$f":"IF($A30 = \"\", \"\", COUNTIFS(ToDoList!$B:$B, $A30, ToDoList!$R:$R, C$2))","v":""},{"$f":"IF($A30 = \"\", \"\", COUNTIFS(ToDoList!$B:$B, $A30, ToDoList!$R:$R, D$2))","v":""},{"$f":"IF($A30 = \"\", \"\", COUNTIFS(ToDoList!$B:$B, $A30, ToDoList!$R:$R, E$2))","v":""},{"$f":"IF($A30 = \"\", \"\", COUNTIFS(ToDoList!$B:$B, $A30, ToDoList!$R:$R, F$2))","v":""},{"$f":"IF($A30 = \"\", \"\", COUNTIFS(ToDoList!$B:$B, $A30, ToDoList!$R:$R, G$2))","v":""},{"$f":"IF($A30 = \"\", \"\", COUNTIFS(ToDoList!$B:$B, $A30, ToDoList!$R:$R, H$2))","v":""},{"$f":"IF($A30 = \"\", \"\", COUNTIFS(ToDoList!$B:$B, $A30, ToDoList!$R:$R, I$2))","v":""},{"$f":"IF($A30 = \"\", \"\", COUNTIFS(ToDoList!$B:$B, $A30, ToDoList!$R:$R, J$2))","v":""}]
[null,{"$f":"IF($A31 = \"\", \"\", COUNTIFS(ToDoList!$B:$B, $A31, ToDoList!$R:$R, B$2))","v":""},{"$f":"IF($A31 = \"\", \"\", COUNTIFS(ToDoList!$B:$B, $A31, ToDoList!$R:$R, C$2))","v":""},{"$f":"IF($A31 = \"\", \"\", COUNTIFS(ToDoList!$B:$B, $A31, ToDoList!$R:$R, D$2))","v":""},{"$f":"IF($A31 = \"\", \"\", COUNTIFS(ToDoList!$B:$B, $A31, ToDoList!$R:$R, E$2))","v":""},{"$f":"IF($A31 = \"\", \"\", COUNTIFS(ToDoList!$B:$B, $A31, ToDoList!$R:$R, F$2))","v":""},{"$f":"IF($A31 = \"\", \"\", COUNTIFS(ToDoList!$B:$B, $A31, ToDoList!$R:$R, G$2))","v":""},{"$f":"IF($A31 = \"\", \"\", COUNTIFS(ToDoList!$B:$B, $A31, ToDoList!$R:$R, H$2))","v":""},{"$f":"IF($A31 = \"\", \"\", COUNTIFS(ToDoList!$B:$B, $A31, ToDoList!$R:$R, I$2))","v":""},{"$f":"IF($A31 = \"\", \"\", COUNTIFS(ToDoList!$B:$B, $A31, ToDoList!$R:$R, J$2))","v":""}]
[null,{"$f":"IF($A32 = \"\", \"\", COUNTIFS(ToDoList!$B:$B, $A32, ToDoList!$R:$R, B$2))","v":""},{"$f":"IF($A32 = \"\", \"\", COUNTIFS(ToDoList!$B:$B, $A32, ToDoList!$R:$R, C$2))","v":""},{"$f":"IF($A32 = \"\", \"\", COUNTIFS(ToDoList!$B:$B, $A32, ToDoList!$R:$R, D$2))","v":""},{"$f":"IF($A32 = \"\", \"\", COUNTIFS(ToDoList!$B:$B, $A32, ToDoList!$R:$R, E$2))","v":""},{"$f":"IF($A32 = \"\", \"\", COUNTIFS(ToDoList!$B:$B, $A32, ToDoList!$R:$R, F$2))","v":""},{"$f":"IF($A32 = \"\", \"\", COUNTIFS(ToDoList!$B:$B, $A32, ToDoList!$R:$R, G$2))","v":""},{"$f":"IF($A32 = \"\", \"\", COUNTIFS(ToDoList!$B:$B, $A32, ToDoList!$R:$R, H$2))","v":""},{"$f":"IF($A32 = \"\", \"\", COUNTIFS(ToDoList!$B:$B, $A32, ToDoList!$R:$R, I$2))","v":""},{"$f":"IF($A32 = \"\", \"\", COUNTIFS(ToDoList!$B:$B, $A32, ToDoList!$R:$R, J$2))","v":""}]
[null,{"$f":"IF($A33 = \"\", \"\", COUNTIFS(ToDoList!$B:$B, $A33, ToDoList!$R:$R, B$2))","v":""},{"$f":"IF($A33 = \"\", \"\", COUNTIFS(ToDoList!$B:$B, $A33, ToDoList!$R:$R, C$2))","v":""},{"$f":"IF($A33 = \"\", \"\", COUNTIFS(ToDoList!$B:$B, $A33, ToDoList!$R:$R, D$2))","v":""},{"$f":"IF($A33 = \"\", \"\", COUNTIFS(ToDoList!$B:$B, $A33, ToDoList!$R:$R, E$2))","v":""},{"$f":"IF($A33 = \"\", \"\", COUNTIFS(ToDoList!$B:$B, $A33, ToDoList!$R:$R, F$2))","v":""},{"$f":"IF($A33 = \"\", \"\", COUNTIFS(ToDoList!$B:$B, $A33, ToDoList!$R:$R, G$2))","v":""},{"$f":"IF($A33 = \"\", \"\", COUNTIFS(ToDoList!$B:$B, $A33, ToDoList!$R:$R, H$2))","v":""},{"$f":"IF($A33 = \"\", \"\", COUNTIFS(ToDoList!$B:$B, $A33, ToDoList!$R:$R, I$2))","v":""},{"$f":"IF($A33 = \"\", \"\", COUNTIFS(ToDoList!$B:$B, $A33, ToDoList!$R:$R, J$2))","v":""}]
[]
[null,{"$f":"IF($A35 = \"\", \"\", COUNTIFS(ToDoList!$B:$B, $A35, ToDoList!$R:$R, B$2))","v":""},{"$f":"IF($A35 = \"\", \"\", COUNTIFS(ToDoList!$B:$B, $A35, ToDoList!$R:$R, C$2))","v":""},{"$f":"IF($A35 = \"\", \"\", COUNTIFS(ToDoList!$B:$B, $A35, ToDoList!$R:$R, D$2))","v":""},{"$f":"IF($A35 = \"\", \"\", COUNTIFS(ToDoList!$B:$B, $A35, ToDoList!$R:$R, E$2))","v":""},{"$f":"IF($A35 = \"\", \"\", COUNTIFS(ToDoList!$B:$B, $A35, ToDoList!$R:$R, F$2))","v":""},{"$f":"IF($A35 = \"\", \"\", COUNTIFS(ToDoList!$B:$B, $A35, ToDoList!$R:$R, G$2))","v":""},{"$f":"IF($A35 = \"\", \"\", COUNTIFS(ToDoList!$B:$B, $A35, ToDoList!$R:$R, H$2))","v":""},{"$f":"IF($A35 = \"\", \"\", COUNTIFS(ToDoList!$B:$B, $A35, ToDoList!$R:$R, I$2))","v":""},{"$f":"IF($A35 = \"\", \"\", COUNTIFS(ToDoList!$B:$B, $A35, ToDoList!$R:$R, J$2))","v":""}]
[]
[null,{"$f":"IF($A37 = \"\", \"\", COUNTIFS(ToDoList!$B:$B, $A37, ToDoList!$R:$R, B$2))","v":""},{"$f":"IF($A37 = \"\", \"\", COUNTIFS(ToDoList!$B:$B, $A37, ToDoList!$R:$R, C$2))","v":""},{"$f":"IF($A37 = \"\", \"\", COUNTIFS(ToDoList!$B:$B, $A37, ToDoList!$R:$R, D$2))","v":""},{"$f":"IF($A37 = \"\", \"\", COUNTIFS(ToDoList!$B:$B, $A37, ToDoList!$R:$R, E$2))","v":""},{"$f":"IF($A37 = \"\", \"\", COUNTIFS(ToDoList!$B:$B, $A37, ToDoList!$R:$R, F$2))","v":""},{"$f":"IF($A37 = \"\", \"\", COUNTIFS(ToDoList!$B:$B, $A37, ToDoList!$R:$R, G$2))","v":""},{"$f":"IF($A37 = \"\", \"\", COUNTIFS(ToDoList!$B:$B, $A37, ToDoList!$R:$R, H$2))","v":""},{"$f":"IF($A37 = \"\", \"\", COUNTIFS(ToDoList!$B:$B, $A37, ToDoList!$R:$R, I$2))","v":""},{"$f":"IF($A37 = \"\", \"\", COUNTIFS(ToDoList!$B:$B, $A37, ToDoList!$R:$R, J$2))","v":""}]
[null,{"$f":"IF($A38 = \"\", \"\", COUNTIFS(ToDoList!$B:$B, $A38, ToDoList!$R:$R, B$2))","v":""},{"$f":"IF($A38 = \"\", \"\", COUNTIFS(ToDoList!$B:$B, $A38, ToDoList!$R:$R, C$2))","v":""},{"$f":"IF($A38 = \"\", \"\", COUNTIFS(ToDoList!$B:$B, $A38, ToDoList!$R:$R, D$2))","v":""},{"$f":"IF($A38 = \"\", \"\", COUNTIFS(ToDoList!$B:$B, $A38, ToDoList!$R:$R, E$2))","v":""},{"$f":"IF($A38 = \"\", \"\", COUNTIFS(ToDoList!$B:$B, $A38, ToDoList!$R:$R, F$2))","v":""},{"$f":"IF($A38 = \"\", \"\", COUNTIFS(ToDoList!$B:$B, $A38, ToDoList!$R:$R, G$2))","v":""},{"$f":"IF($A38 = \"\", \"\", COUNTIFS(ToDoList!$B:$B, $A38, ToDoList!$R:$R, H$2))","v":""},{"$f":"IF($A38 = \"\", \"\", COUNTIFS(ToDoList!$B:$B, $A38, ToDoList!$R:$R, I$2))","v":""},{"$f":"IF($A38 = \"\", \"\", COUNTIFS(ToDoList!$B:$B, $A38, ToDoList!$R:$R, J$2))","v":""}]
[null,{"$f":"IF($A39 = \"\", \"\", COUNTIFS(ToDoList!$B:$B, $A39, ToDoList!$R:$R, B$2))","v":""},{"$f":"IF($A39 = \"\", \"\", COUNTIFS(ToDoList!$B:$B, $A39, ToDoList!$R:$R, C$2))","v":""},{"$f":"IF($A39 = \"\", \"\", COUNTIFS(ToDoList!$B:$B, $A39, ToDoList!$R:$R, D$2))","v":""},{"$f":"IF($A39 = \"\", \"\", COUNTIFS(ToDoList!$B:$B, $A39, ToDoList!$R:$R, E$2))","v":""},{"$f":"IF($A39 = \"\", \"\", COUNTIFS(ToDoList!$B:$B, $A39, ToDoList!$R:$R, F$2))","v":""},{"$f":"IF($A39 = \"\", \"\", COUNTIFS(ToDoList!$B:$B, $A39, ToDoList!$R:$R, G$2))","v":""},{"$f":"IF($A39 = \"\", \"\", COUNTIFS(ToDoList!$B:$B, $A39, ToDoList!$R:$R, H$2))","v":""},{"$f":"IF($A39 = \"\", \"\", COUNTIFS(ToDoList!$B:$B, $A39, ToDoList!$R:$R, I$2))","v":""},{"$f":"IF($A39 = \"\", \"\", COUNTIFS(ToDoList!$B:$B, $A39, ToDoList!$R:$R, J$2))","v":""}]
[null,{"$f":"IF($A40 = \"\", \"\", COUNTIFS(ToDoList!$B:$B, $A40, ToDoList!$R:$R, B$2))","v":""},{"$f":"IF($A40 = \"\", \"\", COUNTIFS(ToDoList!$B:$B, $A40, ToDoList!$R:$R, C$2))","v":""},{"$f":"IF($A40 = \"\", \"\", COUNTIFS(ToDoList!$B:$B, $A40, ToDoList!$R:$R, D$2))","v":""},{"$f":"IF($A40 = \"\", \"\", COUNTIFS(ToDoList!$B:$B, $A40, ToDoList!$R:$R, E$2))","v":""},{"$f":"IF($A40 = \"\", \"\", COUNTIFS(ToDoList!$B:$B, $A40, ToDoList!$R:$R, F$2))","v":""},{"$f":"IF($A40 = \"\", \"\", COUNTIFS(ToDoList!$B:$B, $A40, ToDoList!$R:$R, G$2))","v":""},{"$f":"IF($A40 = \"\", \"\", COUNTIFS(ToDoList!$B:$B, $A40, ToDoList!$R:$R, H$2))","v":""},{"$f":"IF($A40 = \"\", \"\", COUNTIFS(ToDoList!$B:$B, $A40, ToDoList!$R:$R, I$2))","v":""},{"$f":"IF($A40 = \"\", \"\", COUNTIFS(ToDoList!$B:$B, $A40, ToDoList!$R:$R, J$2))","v":""}]
[null,{"$f":"IF($A41 = \"\", \"\", COUNTIFS(ToDoList!$B:$B, $A41, ToDoList!$R:$R, B$2))","v":""},{"$f":"IF($A41 = \"\", \"\", COUNTIFS(ToDoList!$B:$B, $A41, ToDoList!$R:$R, C$2))","v":""},{"$f":"IF($A41 = \"\", \"\", COUNTIFS(ToDoList!$B:$B, $A41, ToDoList!$R:$R, D$2))","v":""},{"$f":"IF($A41 = \"\", \"\", COUNTIFS(ToDoList!$B:$B, $A41, ToDoList!$R:$R, E$2))","v":""},{"$f":"IF($A41 = \"\", \"\", COUNTIFS(ToDoList!$B:$B, $A41, ToDoList!$R:$R, F$2))","v":""},{"$f":"IF($A41 = \"\", \"\", COUNTIFS(ToDoList!$B:$B, $A41, ToDoList!$R:$R, G$2))","v":""},{"$f":"IF($A41 = \"\", \"\", COUNTIFS(ToDoList!$B:$B, $A41, ToDoList!$R:$R, H$2))","v":""},{"$f":"IF($A41 = \"\", \"\", COUNTIFS(ToDoList!$B:$B, $A41, ToDoList!$R:$R, I$2))","v":""},{"$f":"IF($A41 = \"\", \"\", COUNTIFS(ToDoList!$B:$B, $A41, ToDoList!$R:$R, J$2))","v":""}]
[null,{"$f":"IF($A42 = \"\", \"\", COUNTIFS(ToDoList!$B:$B, $A42, ToDoList!$R:$R, B$2))","v":""},{"$f":"IF($A42 = \"\", \"\", COUNTIFS(ToDoList!$B:$B, $A42, ToDoList!$R:$R, C$2))","v":""},{"$f":"IF($A42 = \"\", \"\", COUNTIFS(ToDoList!$B:$B, $A42, ToDoList!$R:$R, D$2))","v":""},{"$f":"IF($A42 = \"\", \"\", COUNTIFS(ToDoList!$B:$B, $A42, ToDoList!$R:$R, E$2))","v":""},{"$f":"IF($A42 = \"\", \"\", COUNTIFS(ToDoList!$B:$B, $A42, ToDoList!$R:$R, F$2))","v":""},{"$f":"IF($A42 = \"\", \"\", COUNTIFS(ToDoList!$B:$B, $A42, ToDoList!$R:$R, G$2))","v":""},{"$f":"IF($A42 = \"\", \"\", COUNTIFS(ToDoList!$B:$B, $A42, ToDoList!$R:$R, H$2))","v":""},{"$f":"IF($A42 = \"\", \"\", COUNTIFS(ToDoList!$B:$B, $A42, ToDoList!$R:$R, I$2))","v":""},{"$f":"IF($A42 = \"\", \"\", COUNTIFS(ToDoList!$B:$B, $A42, ToDoList!$R:$R, J$2))","v":""}]
[null,{"$f":"IF($A43 = \"\", \"\", COUNTIFS(ToDoList!$B:$B, $A43, ToDoList!$R:$R, B$2))","v":""},{"$f":"IF($A43 = \"\", \"\", COUNTIFS(ToDoList!$B:$B, $A43, ToDoList!$R:$R, C$2))","v":""},{"$f":"IF($A43 = \"\", \"\", COUNTIFS(ToDoList!$B:$B, $A43, ToDoList!$R:$R, D$2))","v":""},{"$f":"IF($A43 = \"\", \"\", COUNTIFS(ToDoList!$B:$B, $A43, ToDoList!$R:$R, E$2))","v":""},{"$f":"IF($A43 = \"\", \"\", COUNTIFS(ToDoList!$B:$B, $A43, ToDoList!$R:$R, F$2))","v":""},{"$f":"IF($A43 = \"\", \"\", COUNTIFS(ToDoList!$B:$B, $A43, ToDoList!$R:$R, G$2))","v":""},{"$f":"IF($A43 = \"\", \"\", COUNTIFS(ToDoList!$B:$B, $A43, ToDoList!$R:$R, H$2))","v":""},{"$f":"IF($A43 = \"\", \"\", COUNTIFS(ToDoList!$B:$B, $A43, ToDoList!$R:$R, I$2))","v":""},{"$f":"IF($A43 = \"\", \"\", COUNTIFS(ToDoList!$B:$B, $A43, ToDoList!$R:$R, J$2))","v":""}]
[null,{"$f":"IF($A44 = \"\", \"\", COUNTIFS(ToDoList!$B:$B, $A44, ToDoList!$R:$R, B$2))","v":""},{"$f":"IF($A44 = \"\", \"\", COUNTIFS(ToDoList!$B:$B, $A44, ToDoList!$R:$R, C$2))","v":""},{"$f":"IF($A44 = \"\", \"\", COUNTIFS(ToDoList!$B:$B, $A44, ToDoList!$R:$R, D$2))","v":""},{"$f":"IF($A44 = \"\", \"\", COUNTIFS(ToDoList!$B:$B, $A44, ToDoList!$R:$R, E$2))","v":""},{"$f":"IF($A44 = \"\", \"\", COUNTIFS(ToDoList!$B:$B, $A44, ToDoList!$R:$R, F$2))","v":""},{"$f":"IF($A44 = \"\", \"\", COUNTIFS(ToDoList!$B:$B, $A44, ToDoList!$R:$R, G$2))","v":""},{"$f":"IF($A44 = \"\", \"\", COUNTIFS(ToDoList!$B:$B, $A44, ToDoList!$R:$R, H$2))","v":""},{"$f":"IF($A44 = \"\", \"\", COUNTIFS(ToDoList!$B:$B, $A44, ToDoList!$R:$R, I$2))","v":""},{"$f":"IF($A44 = \"\", \"\", COUNTIFS(ToDoList!$B:$B, $A44, ToDoList!$R:$R, J$2))","v":""}]
[null,{"$f":"IF($A45 = \"\", \"\", COUNTIFS(ToDoList!$B:$B, $A45, ToDoList!$R:$R, B$2))","v":""},{"$f":"IF($A45 = \"\", \"\", COUNTIFS(ToDoList!$B:$B, $A45, ToDoList!$R:$R, C$2))","v":""},{"$f":"IF($A45 = \"\", \"\", COUNTIFS(ToDoList!$B:$B, $A45, ToDoList!$R:$R, D$2))","v":""},{"$f":"IF($A45 = \"\", \"\", COUNTIFS(ToDoList!$B:$B, $A45, ToDoList!$R:$R, E$2))","v":""},{"$f":"IF($A45 = \"\", \"\", COUNTIFS(ToDoList!$B:$B, $A45, ToDoList!$R:$R, F$2))","v":""},{"$f":"IF($A45 = \"\", \"\", COUNTIFS(ToDoList!$B:$B, $A45, ToDoList!$R:$R, G$2))","v":""},{"$f":"IF($A45 = \"\", \"\", COUNTIFS(ToDoList!$B:$B, $A45, ToDoList!$R:$R, H$2))","v":""},{"$f":"IF($A45 = \"\", \"\", COUNTIFS(ToDoList!$B:$B, $A45, ToDoList!$R:$R, I$2))","v":""},{"$f":"IF($A45 = \"\", \"\", COUNTIFS(ToDoList!$B:$B, $A45, ToDoList!$R:$R, J$2))","v":""}]
[null,{"$f":"IF($A46 = \"\", \"\", COUNTIFS(ToDoList!$B:$B, $A46, ToDoList!$R:$R, B$2))","v":""},{"$f":"IF($A46 = \"\", \"\", COUNTIFS(ToDoList!$B:$B, $A46, ToDoList!$R:$R, C$2))","v":""},{"$f":"IF($A46 = \"\", \"\", COUNTIFS(ToDoList!$B:$B, $A46, ToDoList!$R:$R, D$2))","v":""},{"$f":"IF($A46 = \"\", \"\", COUNTIFS(ToDoList!$B:$B, $A46, ToDoList!$R:$R, E$2))","v":""},{"$f":"IF($A46 = \"\", \"\", COUNTIFS(ToDoList!$B:$B, $A46, ToDoList!$R:$R, F$2))","v":""},{"$f":"IF($A46 = \"\", \"\", COUNTIFS(ToDoList!$B:$B, $A46, ToDoList!$R:$R, G$2))","v":""},{"$f":"IF($A46 = \"\", \"\", COUNTIFS(ToDoList!$B:$B, $A46, ToDoList!$R:$R, H$2))","v":""},{"$f":"IF($A46 = \"\", \"\", COUNTIFS(ToDoList!$B:$B, $A46, ToDoList!$R:$R, I$2))","v":""},{"$f":"IF($A46 = \"\", \"\", COUNTIFS(ToDoList!$B:$B, $A46, ToDoList!$R:$R, J$2))","v":""}]
[null,{"$f":"IF($A47 = \"\", \"\", COUNTIFS(ToDoList!$B:$B, $A47, ToDoList!$R:$R, B$2))","v":""},{"$f":"IF($A47 = \"\", \"\", COUNTIFS(ToDoList!$B:$B, $A47, ToDoList!$R:$R, C$2))","v":""},{"$f":"IF($A47 = \"\", \"\", COUNTIFS(ToDoList!$B:$B, $A47, ToDoList!$R:$R, D$2))","v":""},{"$f":"IF($A47 = \"\", \"\", COUNTIFS(ToDoList!$B:$B, $A47, ToDoList!$R:$R, E$2))","v":""},{"$f":"IF($A47 = \"\", \"\", COUNTIFS(ToDoList!$B:$B, $A47, ToDoList!$R:$R, F$2))","v":""},{"$f":"IF($A47 = \"\", \"\", COUNTIFS(ToDoList!$B:$B, $A47, ToDoList!$R:$R, G$2))","v":""},{"$f":"IF($A47 = \"\", \"\", COUNTIFS(ToDoList!$B:$B, $A47, ToDoList!$R:$R, H$2))","v":""},{"$f":"IF($A47 = \"\", \"\", COUNTIFS(ToDoList!$B:$B, $A47, ToDoList!$R:$R, I$2))","v":""},{"$f":"IF($A47 = \"\", \"\", COUNTIFS(ToDoList!$B:$B, $A47, ToDoList!$R:$R, J$2))","v":""}]
[null,{"$f":"IF($A48 = \"\", \"\", COUNTIFS(ToDoList!$B:$B, $A48, ToDoList!$R:$R, B$2))","v":""},{"$f":"IF($A48 = \"\", \"\", COUNTIFS(ToDoList!$B:$B, $A48, ToDoList!$R:$R, C$2))","v":""},{"$f":"IF($A48 = \"\", \"\", COUNTIFS(ToDoList!$B:$B, $A48, ToDoList!$R:$R, D$2))","v":""},{"$f":"IF($A48 = \"\", \"\", COUNTIFS(ToDoList!$B:$B, $A48, ToDoList!$R:$R, E$2))","v":""},{"$f":"IF($A48 = \"\", \"\", COUNTIFS(ToDoList!$B:$B, $A48, ToDoList!$R:$R, F$2))","v":""},{"$f":"IF($A48 = \"\", \"\", COUNTIFS(ToDoList!$B:$B, $A48, ToDoList!$R:$R, G$2))","v":""},{"$f":"IF($A48 = \"\", \"\", COUNTIFS(ToDoList!$B:$B, $A48, ToDoList!$R:$R, H$2))","v":""},{"$f":"IF($A48 = \"\", \"\", COUNTIFS(ToDoList!$B:$B, $A48, ToDoList!$R:$R, I$2))","v":""},{"$f":"IF($A48 = \"\", \"\", COUNTIFS(ToDoList!$B:$B, $A48, ToDoList!$R:$R, J$2))","v":""}]
[null,{"$f":"IF($A49 = \"\", \"\", COUNTIFS(ToDoList!$B:$B, $A49, ToDoList!$R:$R, B$2))","v":""},{"$f":"IF($A49 = \"\", \"\", COUNTIFS(ToDoList!$B:$B, $A49, ToDoList!$R:$R, C$2))","v":""},{"$f":"IF($A49 = \"\", \"\", COUNTIFS(ToDoList!$B:$B, $A49, ToDoList!$R:$R, D$2))","v":""},{"$f":"IF($A49 = \"\", \"\", COUNTIFS(ToDoList!$B:$B, $A49, ToDoList!$R:$R, E$2))","v":""},{"$f":"IF($A49 = \"\", \"\", COUNTIFS(ToDoList!$B:$B, $A49, ToDoList!$R:$R, F$2))","v":""},{"$f":"IF($A49 = \"\", \"\", COUNTIFS(ToDoList!$B:$B, $A49, ToDoList!$R:$R, G$2))","v":""},{"$f":"IF($A49 = \"\", \"\", COUNTIFS(ToDoList!$B:$B, $A49, ToDoList!$R:$R, H$2))","v":""},{"$f":"IF($A49 = \"\", \"\", COUNTIFS(ToDoList!$B:$B, $A49, ToDoList!$R:$R, I$2))","v":""},{"$f":"IF($A49 = \"\", \"\", COUNTIFS(ToDoList!$B:$B, $A49, ToDoList!$R:$R, J$2))","v":""}]
[null,{"$f":"IF($A50 = \"\", \"\", COUNTIFS(ToDoList!$B:$B, $A50, ToDoList!$R:$R, B$2))","v":""},{"$f":"IF($A50 = \"\", \"\", COUNTIFS(ToDoList!$B:$B, $A50, ToDoList!$R:$R, C$2))","v":""},{"$f":"IF($A50 = \"\", \"\", COUNTIFS(ToDoList!$B:$B, $A50, ToDoList!$R:$R, D$2))","v":""},{"$f":"IF($A50 = \"\", \"\", COUNTIFS(ToDoList!$B:$B, $A50, ToDoList!$R:$R, E$2))","v":""},{"$f":"IF($A50 = \"\", \"\", COUNTIFS(ToDoList!$B:$B, $A50, ToDoList!$R:$R, F$2))","v":""},{"$f":"IF($A50 = \"\", \"\", COUNTIFS(ToDoList!$B:$B, $A50, ToDoList!$R:$R, G$2))","v":""},{"$f":"IF($A50 = \"\", \"\", COUNTIFS(ToDoList!$B:$B, $A50, ToDoList!$R:$R, H$2))","v":""},{"$f":"IF($A50 = \"\", \"\", COUNTIFS(ToDoList!$B:$B, $A50, ToDoList!$R:$R, I$2))","v":""},{"$f":"IF($A50 = \"\", \"\", COUNTIFS(ToDoList!$B:$B, $A50, ToDoList!$R:$R, J$2))","v":""}]
[null,{"$f":"IF($A51 = \"\", \"\", COUNTIFS(ToDoList!$B:$B, $A51, ToDoList!$R:$R, B$2))","v":""},{"$f":"IF($A51 = \"\", \"\", COUNTIFS(ToDoList!$B:$B, $A51, ToDoList!$R:$R, C$2))","v":""},{"$f":"IF($A51 = \"\", \"\", COUNTIFS(ToDoList!$B:$B, $A51, ToDoList!$R:$R, D$2))","v":""},{"$f":"IF($A51 = \"\", \"\", COUNTIFS(ToDoList!$B:$B, $A51, ToDoList!$R:$R, E$2))","v":""},{"$f":"IF($A51 = \"\", \"\", COUNTIFS(ToDoList!$B:$B, $A51, ToDoList!$R:$R, F$2))","v":""},{"$f":"IF($A51 = \"\", \"\", COUNTIFS(ToDoList!$B:$B, $A51, ToDoList!$R:$R, G$2))","v":""},{"$f":"IF($A51 = \"\", \"\", COUNTIFS(ToDoList!$B:$B, $A51, ToDoList!$R:$R, H$2))","v":""},{"$f":"IF($A51 = \"\", \"\", COUNTIFS(ToDoList!$B:$B, $A51, ToDoList!$R:$R, I$2))","v":""},{"$f":"IF($A51 = \"\", \"\", COUNTIFS(ToDoList!$B:$B, $A51, ToDoList!$R:$R, J$2))","v":""}]
[null,{"$f":"IF($A52 = \"\", \"\", COUNTIFS(ToDoList!$B:$B, $A52, ToDoList!$R:$R, B$2))","v":""},{"$f":"IF($A52 = \"\", \"\", COUNTIFS(ToDoList!$B:$B, $A52, ToDoList!$R:$R, C$2))","v":""},{"$f":"IF($A52 = \"\", \"\", COUNTIFS(ToDoList!$B:$B, $A52, ToDoList!$R:$R, D$2))","v":""},{"$f":"IF($A52 = \"\", \"\", COUNTIFS(ToDoList!$B:$B, $A52, ToDoList!$R:$R, E$2))","v":""},{"$f":"IF($A52 = \"\", \"\", COUNTIFS(ToDoList!$B:$B, $A52, ToDoList!$R:$R, F$2))","v":""},{"$f":"IF($A52 = \"\", \"\", COUNTIFS(ToDoList!$B:$B, $A52, ToDoList!$R:$R, G$2))","v":""},{"$f":"IF($A52 = \"\", \"\", COUNTIFS(ToDoList!$B:$B, $A52, ToDoList!$R:$R, H$2))","v":""},{"$f":"IF($A52 = \"\", \"\", COUNTIFS(ToDoList!$B:$B, $A52, ToDoList!$R:$R, I$2))","v":""},{"$f":"IF($A52 = \"\", \"\", COUNTIFS(ToDoList!$B:$B, $A52, ToDoList!$R:$R, J$2))","v":""}]
[null,{"$f":"IF($A53 = \"\", \"\", COUNTIFS(ToDoList!$B:$B, $A53, ToDoList!$R:$R, B$2))","v":""},{"$f":"IF($A53 = \"\", \"\", COUNTIFS(ToDoList!$B:$B, $A53, ToDoList!$R:$R, C$2))","v":""},{"$f":"IF($A53 = \"\", \"\", COUNTIFS(ToDoList!$B:$B, $A53, ToDoList!$R:$R, D$2))","v":""},{"$f":"IF($A53 = \"\", \"\", COUNTIFS(ToDoList!$B:$B, $A53, ToDoList!$R:$R, E$2))","v":""},{"$f":"IF($A53 = \"\", \"\", COUNTIFS(ToDoList!$B:$B, $A53, ToDoList!$R:$R, F$2))","v":""},{"$f":"IF($A53 = \"\", \"\", COUNTIFS(ToDoList!$B:$B, $A53, ToDoList!$R:$R, G$2))","v":""},{"$f":"IF($A53 = \"\", \"\", COUNTIFS(ToDoList!$B:$B, $A53, ToDoList!$R:$R, H$2))","v":""},{"$f":"IF($A53 = \"\", \"\", COUNTIFS(ToDoList!$B:$B, $A53, ToDoList!$R:$R, I$2))","v":""},{"$f":"IF($A53 = \"\", \"\", COUNTIFS(ToDoList!$B:$B, $A53, ToDoList!$R:$R, J$2))","v":""}]
[null,{"$f":"IF($A54 = \"\", \"\", COUNTIFS(ToDoList!$B:$B, $A54, ToDoList!$R:$R, B$2))","v":""},{"$f":"IF($A54 = \"\", \"\", COUNTIFS(ToDoList!$B:$B, $A54, ToDoList!$R:$R, C$2))","v":""},{"$f":"IF($A54 = \"\", \"\", COUNTIFS(ToDoList!$B:$B, $A54, ToDoList!$R:$R, D$2))","v":""},{"$f":"IF($A54 = \"\", \"\", COUNTIFS(ToDoList!$B:$B, $A54, ToDoList!$R:$R, E$2))","v":""},{"$f":"IF($A54 = \"\", \"\", COUNTIFS(ToDoList!$B:$B, $A54, ToDoList!$R:$R, F$2))","v":""},{"$f":"IF($A54 = \"\", \"\", COUNTIFS(ToDoList!$B:$B, $A54, ToDoList!$R:$R, G$2))","v":""},{"$f":"IF($A54 = \"\", \"\", COUNTIFS(ToDoList!$B:$B, $A54, ToDoList!$R:$R, H$2))","v":""},{"$f":"IF($A54 = \"\", \"\", COUNTIFS(ToDoList!$B:$B, $A54, ToDoList!$R:$R, I$2))","v":""},{"$f":"IF($A54 = \"\", \"\", COUNTIFS(ToDoList!$B:$B, $A54, ToDoList!$R:$R, J$2))","v":""}]
[null,{"$f":"IF($A55 = \"\", \"\", COUNTIFS(ToDoList!$B:$B, $A55, ToDoList!$R:$R, B$2))","v":""},{"$f":"IF($A55 = \"\", \"\", COUNTIFS(ToDoList!$B:$B, $A55, ToDoList!$R:$R, C$2))","v":""},{"$f":"IF($A55 = \"\", \"\", COUNTIFS(ToDoList!$B:$B, $A55, ToDoList!$R:$R, D$2))","v":""},{"$f":"IF($A55 = \"\", \"\", COUNTIFS(ToDoList!$B:$B, $A55, ToDoList!$R:$R, E$2))","v":""},{"$f":"IF($A55 = \"\", \"\", COUNTIFS(ToDoList!$B:$B, $A55, ToDoList!$R:$R, F$2))","v":""},{"$f":"IF($A55 = \"\", \"\", COUNTIFS(ToDoList!$B:$B, $A55, ToDoList!$R:$R, G$2))","v":""},{"$f":"IF($A55 = \"\", \"\", COUNTIFS(ToDoList!$B:$B, $A55, ToDoList!$R:$R, H$2))","v":""},{"$f":"IF($A55 = \"\", \"\", COUNTIFS(ToDoList!$B:$B, $A55, ToDoList!$R:$R, I$2))","v":""},{"$f":"IF($A55 = \"\", \"\", COUNTIFS(ToDoList!$B:$B, $A55, ToDoList!$R:$R, J$2))","v":""}]
[null,{"$f":"IF($A56 = \"\", \"\", COUNTIFS(ToDoList!$B:$B, $A56, ToDoList!$R:$R, B$2))","v":""},{"$f":"IF($A56 = \"\", \"\", COUNTIFS(ToDoList!$B:$B, $A56, ToDoList!$R:$R, C$2))","v":""},{"$f":"IF($A56 = \"\", \"\", COUNTIFS(ToDoList!$B:$B, $A56, ToDoList!$R:$R, D$2))","v":""},{"$f":"IF($A56 = \"\", \"\", COUNTIFS(ToDoList!$B:$B, $A56, ToDoList!$R:$R, E$2))","v":""},{"$f":"IF($A56 = \"\", \"\", COUNTIFS(ToDoList!$B:$B, $A56, ToDoList!$R:$R, F$2))","v":""},{"$f":"IF($A56 = \"\", \"\", COUNTIFS(ToDoList!$B:$B, $A56, ToDoList!$R:$R, G$2))","v":""},{"$f":"IF($A56 = \"\", \"\", COUNTIFS(ToDoList!$B:$B, $A56, ToDoList!$R:$R, H$2))","v":""},{"$f":"IF($A56 = \"\", \"\", COUNTIFS(ToDoList!$B:$B, $A56, ToDoList!$R:$R, I$2))","v":""},{"$f":"IF($A56 = \"\", \"\", COUNTIFS(ToDoList!$B:$B, $A56, ToDoList!$R:$R, J$2))","v":""}]
[null,{"$f":"IF($A57 = \"\", \"\", COUNTIFS(ToDoList!$B:$B, $A57, ToDoList!$R:$R, B$2))","v":""},{"$f":"IF($A57 = \"\", \"\", COUNTIFS(ToDoList!$B:$B, $A57, ToDoList!$R:$R, C$2))","v":""},{"$f":"IF($A57 = \"\", \"\", COUNTIFS(ToDoList!$B:$B, $A57, ToDoList!$R:$R, D$2))","v":""},{"$f":"IF($A57 = \"\", \"\", COUNTIFS(ToDoList!$B:$B, $A57, ToDoList!$R:$R, E$2))","v":""},{"$f":"IF($A57 = \"\", \"\", COUNTIFS(ToDoList!$B:$B, $A57, ToDoList!$R:$R, F$2))","v":""},{"$f":"IF($A57 = \"\", \"\", COUNTIFS(ToDoList!$B:$B, $A57, ToDoList!$R:$R, G$2))","v":""},{"$f":"IF($A57 = \"\", \"\", COUNTIFS(ToDoList!$B:$B, $A57, ToDoList!$R:$R, H$2))","v":""},{"$f":"IF($A57 = \"\", \"\", COUNTIFS(ToDoList!$B:$B, $A57, ToDoList!$R:$R, I$2))","v":""},{"$f":"IF($A57 = \"\", \"\", COUNTIFS(ToDoList!$B:$B, $A57, ToDoList!$R:$R, J$2))","v":""}]
[null,{"$f":"IF($A58 = \"\", \"\", COUNTIFS(ToDoList!$B:$B, $A58, ToDoList!$R:$R, B$2))","v":""},{"$f":"IF($A58 = \"\", \"\", COUNTIFS(ToDoList!$B:$B, $A58, ToDoList!$R:$R, C$2))","v":""},{"$f":"IF($A58 = \"\", \"\", COUNTIFS(ToDoList!$B:$B, $A58, ToDoList!$R:$R, D$2))","v":""},{"$f":"IF($A58 = \"\", \"\", COUNTIFS(ToDoList!$B:$B, $A58, ToDoList!$R:$R, E$2))","v":""},{"$f":"IF($A58 = \"\", \"\", COUNTIFS(ToDoList!$B:$B, $A58, ToDoList!$R:$R, F$2))","v":""},{"$f":"IF($A58 = \"\", \"\", COUNTIFS(ToDoList!$B:$B, $A58, ToDoList!$R:$R, G$2))","v":""},{"$f":"IF($A58 = \"\", \"\", COUNTIFS(ToDoList!$B:$B, $A58, ToDoList!$R:$R, H$2))","v":""},{"$f":"IF($A58 = \"\", \"\", COUNTIFS(ToDoList!$B:$B, $A58, ToDoList!$R:$R, I$2))","v":""},{"$f":"IF($A58 = \"\", \"\", COUNTIFS(ToDoList!$B:$B, $A58, ToDoList!$R:$R, J$2))","v":""}]
[null,{"$f":"IF($A59 = \"\", \"\", COUNTIFS(ToDoList!$B:$B, $A59, ToDoList!$R:$R, B$2))","v":""},{"$f":"IF($A59 = \"\", \"\", COUNTIFS(ToDoList!$B:$B, $A59, ToDoList!$R:$R, C$2))","v":""},{"$f":"IF($A59 = \"\", \"\", COUNTIFS(ToDoList!$B:$B, $A59, ToDoList!$R:$R, D$2))","v":""},{"$f":"IF($A59 = \"\", \"\", COUNTIFS(ToDoList!$B:$B, $A59, ToDoList!$R:$R, E$2))","v":""},{"$f":"IF($A59 = \"\", \"\", COUNTIFS(ToDoList!$B:$B, $A59, ToDoList!$R:$R, F$2))","v":""},{"$f":"IF($A59 = \"\", \"\", COUNTIFS(ToDoList!$B:$B, $A59, ToDoList!$R:$R, G$2))","v":""},{"$f":"IF($A59 = \"\", \"\", COUNTIFS(ToDoList!$B:$B, $A59, ToDoList!$R:$R, H$2))","v":""},{"$f":"IF($A59 = \"\", \"\", COUNTIFS(ToDoList!$B:$B, $A59, ToDoList!$R:$R, I$2))","v":""},{"$f":"IF($A59 = \"\", \"\", COUNTIFS(ToDoList!$B:$B, $A59, ToDoList!$R:$R, J$2))","v":""}]
[null,{"$f":"IF($A60 = \"\", \"\", COUNTIFS(ToDoList!$B:$B, $A60, ToDoList!$R:$R, B$2))","v":""},{"$f":"IF($A60 = \"\", \"\", COUNTIFS(ToDoList!$B:$B, $A60, ToDoList!$R:$R, C$2))","v":""},{"$f":"IF($A60 = \"\", \"\", COUNTIFS(ToDoList!$B:$B, $A60, ToDoList!$R:$R, D$2))","v":""},{"$f":"IF($A60 = \"\", \"\", COUNTIFS(ToDoList!$B:$B, $A60, ToDoList!$R:$R, E$2))","v":""},{"$f":"IF($A60 = \"\", \"\", COUNTIFS(ToDoList!$B:$B, $A60, ToDoList!$R:$R, F$2))","v":""},{"$f":"IF($A60 = \"\", \"\", COUNTIFS(ToDoList!$B:$B, $A60, ToDoList!$R:$R, G$2))","v":""},{"$f":"IF($A60 = \"\", \"\", COUNTIFS(ToDoList!$B:$B, $A60, ToDoList!$R:$R, H$2))","v":""},{"$f":"IF($A60 = \"\", \"\", COUNTIFS(ToDoList!$B:$B, $A60, ToDoList!$R:$R, I$2))","v":""},{"$f":"IF($A60 = \"\", \"\", COUNTIFS(ToDoList!$B:$B, $A60, ToDoList!$R:$R, J$2))","v":""}]
[null,{"$f":"IF($A61 = \"\", \"\", COUNTIFS(ToDoList!$B:$B, $A61, ToDoList!$R:$R, B$2))","v":""},{"$f":"IF($A61 = \"\", \"\", COUNTIFS(ToDoList!$B:$B, $A61, ToDoList!$R:$R, C$2))","v":""},{"$f":"IF($A61 = \"\", \"\", COUNTIFS(ToDoList!$B:$B, $A61, ToDoList!$R:$R, D$2))","v":""},{"$f":"IF($A61 = \"\", \"\", COUNTIFS(ToDoList!$B:$B, $A61, ToDoList!$R:$R, E$2))","v":""},{"$f":"IF($A61 = \"\", \"\", COUNTIFS(ToDoList!$B:$B, $A61, ToDoList!$R:$R, F$2))","v":""},{"$f":"IF($A61 = \"\", \"\", COUNTIFS(ToDoList!$B:$B, $A61, ToDoList!$R:$R, G$2))","v":""},{"$f":"IF($A61 = \"\", \"\", COUNTIFS(ToDoList!$B:$B, $A61, ToDoList!$R:$R, H$2))","v":""},{"$f":"IF($A61 = \"\", \"\", COUNTIFS(ToDoList!$B:$B, $A61, ToDoList!$R:$R, I$2))","v":""},{"$f":"IF($A61 = \"\", \"\", COUNTIFS(ToDoList!$B:$B, $A61, ToDoList!$R:$R, J$2))","v":""}]
[null,{"$f":"IF($A62 = \"\", \"\", COUNTIFS(ToDoList!$B:$B, $A62, ToDoList!$R:$R, B$2))","v":""},{"$f":"IF($A62 = \"\", \"\", COUNTIFS(ToDoList!$B:$B, $A62, ToDoList!$R:$R, C$2))","v":""},{"$f":"IF($A62 = \"\", \"\", COUNTIFS(ToDoList!$B:$B, $A62, ToDoList!$R:$R, D$2))","v":""},{"$f":"IF($A62 = \"\", \"\", COUNTIFS(ToDoList!$B:$B, $A62, ToDoList!$R:$R, E$2))","v":""},{"$f":"IF($A62 = \"\", \"\", COUNTIFS(ToDoList!$B:$B, $A62, ToDoList!$R:$R, F$2))","v":""},{"$f":"IF($A62 = \"\", \"\", COUNTIFS(ToDoList!$B:$B, $A62, ToDoList!$R:$R, G$2))","v":""},{"$f":"IF($A62 = \"\", \"\", COUNTIFS(ToDoList!$B:$B, $A62, ToDoList!$R:$R, H$2))","v":""},{"$f":"IF($A62 = \"\", \"\", COUNTIFS(ToDoList!$B:$B, $A62, ToDoList!$R:$R, I$2))","v":""},{"$f":"IF($A62 = \"\", \"\", COUNTIFS(ToDoList!$B:$B, $A62, ToDoList!$R:$R, J$2))","v":""}]
[null,{"$f":"IF($A63 = \"\", \"\", COUNTIFS(ToDoList!$B:$B, $A63, ToDoList!$R:$R, B$2))","v":""},{"$f":"IF($A63 = \"\", \"\", COUNTIFS(ToDoList!$B:$B, $A63, ToDoList!$R:$R, C$2))","v":""},{"$f":"IF($A63 = \"\", \"\", COUNTIFS(ToDoList!$B:$B, $A63, ToDoList!$R:$R, D$2))","v":""},{"$f":"IF($A63 = \"\", \"\", COUNTIFS(ToDoList!$B:$B, $A63, ToDoList!$R:$R, E$2))","v":""},{"$f":"IF($A63 = \"\", \"\", COUNTIFS(ToDoList!$B:$B, $A63, ToDoList!$R:$R, F$2))","v":""},{"$f":"IF($A63 = \"\", \"\", COUNTIFS(ToDoList!$B:$B, $A63, ToDoList!$R:$R, G$2))","v":""},{"$f":"IF($A63 = \"\", \"\", COUNTIFS(ToDoList!$B:$B, $A63, ToDoList!$R:$R, H$2))","v":""},{"$f":"IF($A63 = \"\", \"\", COUNTIFS(ToDoList!$B:$B, $A63, ToDoList!$R:$R, I$2))","v":""},{"$f":"IF($A63 = \"\", \"\", COUNTIFS(ToDoList!$B:$B, $A63, ToDoList!$R:$R, J$2))","v":""}]
[null,{"$f":"IF($A64 = \"\", \"\", COUNTIFS(ToDoList!$B:$B, $A64, ToDoList!$R:$R, B$2))","v":""},{"$f":"IF($A64 = \"\", \"\", COUNTIFS(ToDoList!$B:$B, $A64, ToDoList!$R:$R, C$2))","v":""},{"$f":"IF($A64 = \"\", \"\", COUNTIFS(ToDoList!$B:$B, $A64, ToDoList!$R:$R, D$2))","v":""},{"$f":"IF($A64 = \"\", \"\", COUNTIFS(ToDoList!$B:$B, $A64, ToDoList!$R:$R, E$2))","v":""},{"$f":"IF($A64 = \"\", \"\", COUNTIFS(ToDoList!$B:$B, $A64, ToDoList!$R:$R, F$2))","v":""},{"$f":"IF($A64 = \"\", \"\", COUNTIFS(ToDoList!$B:$B, $A64, ToDoList!$R:$R, G$2))","v":""},{"$f":"IF($A64 = \"\", \"\", COUNTIFS(ToDoList!$B:$B, $A64, ToDoList!$R:$R, H$2))","v":""},{"$f":"IF($A64 = \"\", \"\", COUNTIFS(ToDoList!$B:$B, $A64, ToDoList!$R:$R, I$2))","v":""},{"$f":"IF($A64 = \"\", \"\", COUNTIFS(ToDoList!$B:$B, $A64, ToDoList!$R:$R, J$2))","v":""}]
[null,{"$f":"IF($A65 = \"\", \"\", COUNTIFS(ToDoList!$B:$B, $A65, ToDoList!$R:$R, B$2))","v":""},{"$f":"IF($A65 = \"\", \"\", COUNTIFS(ToDoList!$B:$B, $A65, ToDoList!$R:$R, C$2))","v":""},{"$f":"IF($A65 = \"\", \"\", COUNTIFS(ToDoList!$B:$B, $A65, ToDoList!$R:$R, D$2))","v":""},{"$f":"IF($A65 = \"\", \"\", COUNTIFS(ToDoList!$B:$B, $A65, ToDoList!$R:$R, E$2))","v":""},{"$f":"IF($A65 = \"\", \"\", COUNTIFS(ToDoList!$B:$B, $A65, ToDoList!$R:$R, F$2))","v":""},{"$f":"IF($A65 = \"\", \"\", COUNTIFS(ToDoList!$B:$B, $A65, ToDoList!$R:$R, G$2))","v":""},{"$f":"IF($A65 = \"\", \"\", COUNTIFS(ToDoList!$B:$B, $A65, ToDoList!$R:$R, H$2))","v":""},{"$f":"IF($A65 = \"\", \"\", COUNTIFS(ToDoList!$B:$B, $A65, ToDoList!$R:$R, I$2))","v":""},{"$f":"IF($A65 = \"\", \"\", COUNTIFS(ToDoList!$B:$B, $A65, ToDoList!$R:$R, J$2))","v":""}]
[null,{"$f":"IF($A66 = \"\", \"\", COUNTIFS(ToDoList!$B:$B, $A66, ToDoList!$R:$R, B$2))","v":""},{"$f":"IF($A66 = \"\", \"\", COUNTIFS(ToDoList!$B:$B, $A66, ToDoList!$R:$R, C$2))","v":""},{"$f":"IF($A66 = \"\", \"\", COUNTIFS(ToDoList!$B:$B, $A66, ToDoList!$R:$R, D$2))","v":""},{"$f":"IF($A66 = \"\", \"\", COUNTIFS(ToDoList!$B:$B, $A66, ToDoList!$R:$R, E$2))","v":""},{"$f":"IF($A66 = \"\", \"\", COUNTIFS(ToDoList!$B:$B, $A66, ToDoList!$R:$R, F$2))","v":""},{"$f":"IF($A66 = \"\", \"\", COUNTIFS(ToDoList!$B:$B, $A66, ToDoList!$R:$R, G$2))","v":""},{"$f":"IF($A66 = \"\", \"\", COUNTIFS(ToDoList!$B:$B, $A66, ToDoList!$R:$R, H$2))","v":""},{"$f":"IF($A66 = \"\", \"\", COUNTIFS(ToDoList!$B:$B, $A66, ToDoList!$R:$R, I$2))","v":""},{"$f":"IF($A66 = \"\", \"\", COUNTIFS(ToDoList!$B:$B, $A66, ToDoList!$R:$R, J$2))","v":""}]
[null,{"$f":"IF($A67 = \"\", \"\", COUNTIFS(ToDoList!$B:$B, $A67, ToDoList!$R:$R, B$2))","v":""},{"$f":"IF($A67 = \"\", \"\", COUNTIFS(ToDoList!$B:$B, $A67, ToDoList!$R:$R, C$2))","v":""},{"$f":"IF($A67 = \"\", \"\", COUNTIFS(ToDoList!$B:$B, $A67, ToDoList!$R:$R, D$2))","v":""},{"$f":"IF($A67 = \"\", \"\", COUNTIFS(ToDoList!$B:$B, $A67, ToDoList!$R:$R, E$2))","v":""},{"$f":"IF($A67 = \"\", \"\", COUNTIFS(ToDoList!$B:$B, $A67, ToDoList!$R:$R, F$2))","v":""},{"$f":"IF($A67 = \"\", \"\", COUNTIFS(ToDoList!$B:$B, $A67, ToDoList!$R:$R, G$2))","v":""},{"$f":"IF($A67 = \"\", \"\", COUNTIFS(ToDoList!$B:$B, $A67, ToDoList!$R:$R, H$2))","v":""},{"$f":"IF($A67 = \"\", \"\", COUNTIFS(ToDoList!$B:$B, $A67, ToDoList!$R:$R, I$2))","v":""},{"$f":"IF($A67 = \"\", \"\", COUNTIFS(ToDoList!$B:$B, $A67, ToDoList!$R:$R, J$2))","v":""}]
[null,{"$f":"IF($A68 = \"\", \"\", COUNTIFS(ToDoList!$B:$B, $A68, ToDoList!$R:$R, B$2))","v":""},{"$f":"IF($A68 = \"\", \"\", COUNTIFS(ToDoList!$B:$B, $A68, ToDoList!$R:$R, C$2))","v":""},{"$f":"IF($A68 = \"\", \"\", COUNTIFS(ToDoList!$B:$B, $A68, ToDoList!$R:$R, D$2))","v":""},{"$f":"IF($A68 = \"\", \"\", COUNTIFS(ToDoList!$B:$B, $A68, ToDoList!$R:$R, E$2))","v":""},{"$f":"IF($A68 = \"\", \"\", COUNTIFS(ToDoList!$B:$B, $A68, ToDoList!$R:$R, F$2))","v":""},{"$f":"IF($A68 = \"\", \"\", COUNTIFS(ToDoList!$B:$B, $A68, ToDoList!$R:$R, G$2))","v":""},{"$f":"IF($A68 = \"\", \"\", COUNTIFS(ToDoList!$B:$B, $A68, ToDoList!$R:$R, H$2))","v":""},{"$f":"IF($A68 = \"\", \"\", COUNTIFS(ToDoList!$B:$B, $A68, ToDoList!$R:$R, I$2))","v":""},{"$f":"IF($A68 = \"\", \"\", COUNTIFS(ToDoList!$B:$B, $A68, ToDoList!$R:$R, J$2))","v":""}]
[null,{"$f":"IF($A69 = \"\", \"\", COUNTIFS(ToDoList!$B:$B, $A69, ToDoList!$R:$R, B$2))","v":""},{"$f":"IF($A69 = \"\", \"\", COUNTIFS(ToDoList!$B:$B, $A69, ToDoList!$R:$R, C$2))","v":""},{"$f":"IF($A69 = \"\", \"\", COUNTIFS(ToDoList!$B:$B, $A69, ToDoList!$R:$R, D$2))","v":""},{"$f":"IF($A69 = \"\", \"\", COUNTIFS(ToDoList!$B:$B, $A69, ToDoList!$R:$R, E$2))","v":""},{"$f":"IF($A69 = \"\", \"\", COUNTIFS(ToDoList!$B:$B, $A69, ToDoList!$R:$R, F$2))","v":""},{"$f":"IF($A69 = \"\", \"\", COUNTIFS(ToDoList!$B:$B, $A69, ToDoList!$R:$R, G$2))","v":""},{"$f":"IF($A69 = \"\", \"\", COUNTIFS(ToDoList!$B:$B, $A69, ToDoList!$R:$R, H$2))","v":""},{"$f":"IF($A69 = \"\", \"\", COUNTIFS(ToDoList!$B:$B, $A69, ToDoList!$R:$R, I$2))","v":""},{"$f":"IF($A69 = \"\", \"\", COUNTIFS(ToDoList!$B:$B, $A69, ToDoList!$R:$R, J$2))","v":""}]
[null,{"$f":"IF($A70 = \"\", \"\", COUNTIFS(ToDoList!$B:$B, $A70, ToDoList!$R:$R, B$2))","v":""},{"$f":"IF($A70 = \"\", \"\", COUNTIFS(ToDoList!$B:$B, $A70, ToDoList!$R:$R, C$2))","v":""},{"$f":"IF($A70 = \"\", \"\", COUNTIFS(ToDoList!$B:$B, $A70, ToDoList!$R:$R, D$2))","v":""},{"$f":"IF($A70 = \"\", \"\", COUNTIFS(ToDoList!$B:$B, $A70, ToDoList!$R:$R, E$2))","v":""},{"$f":"IF($A70 = \"\", \"\", COUNTIFS(ToDoList!$B:$B, $A70, ToDoList!$R:$R, F$2))","v":""},{"$f":"IF($A70 = \"\", \"\", COUNTIFS(ToDoList!$B:$B, $A70, ToDoList!$R:$R, G$2))","v":""},{"$f":"IF($A70 = \"\", \"\", COUNTIFS(ToDoList!$B:$B, $A70, ToDoList!$R:$R, H$2))","v":""},{"$f":"IF($A70 = \"\", \"\", COUNTIFS(ToDoList!$B:$B, $A70, ToDoList!$R:$R, I$2))","v":""},{"$f":"IF($A70 = \"\", \"\", COUNTIFS(ToDoList!$B:$B, $A70, ToDoList!$R:$R, J$2))","v":""}]
[null,{"$f":"IF($A71 = \"\", \"\", COUNTIFS(ToDoList!$B:$B, $A71, ToDoList!$R:$R, B$2))","v":""},{"$f":"IF($A71 = \"\", \"\", COUNTIFS(ToDoList!$B:$B, $A71, ToDoList!$R:$R, C$2))","v":""},{"$f":"IF($A71 = \"\", \"\", COUNTIFS(ToDoList!$B:$B, $A71, ToDoList!$R:$R, D$2))","v":""},{"$f":"IF($A71 = \"\", \"\", COUNTIFS(ToDoList!$B:$B, $A71, ToDoList!$R:$R, E$2))","v":""},{"$f":"IF($A71 = \"\", \"\", COUNTIFS(ToDoList!$B:$B, $A71, ToDoList!$R:$R, F$2))","v":""},{"$f":"IF($A71 = \"\", \"\", COUNTIFS(ToDoList!$B:$B, $A71, ToDoList!$R:$R, G$2))","v":""},{"$f":"IF($A71 = \"\", \"\", COUNTIFS(ToDoList!$B:$B, $A71, ToDoList!$R:$R, H$2))","v":""},{"$f":"IF($A71 = \"\", \"\", COUNTIFS(ToDoList!$B:$B, $A71, ToDoList!$R:$R, I$2))","v":""},{"$f":"IF($A71 = \"\", \"\", COUNTIFS(ToDoList!$B:$B, $A71, ToDoList!$R:$R, J$2))","v":""}]
[null,{"$f":"IF($A72 = \"\", \"\", COUNTIFS(ToDoList!$B:$B, $A72, ToDoList!$R:$R, B$2))","v":""},{"$f":"IF($A72 = \"\", \"\", COUNTIFS(ToDoList!$B:$B, $A72, ToDoList!$R:$R, C$2))","v":""},{"$f":"IF($A72 = \"\", \"\", COUNTIFS(ToDoList!$B:$B, $A72, ToDoList!$R:$R, D$2))","v":""},{"$f":"IF($A72 = \"\", \"\", COUNTIFS(ToDoList!$B:$B, $A72, ToDoList!$R:$R, E$2))","v":""},{"$f":"IF($A72 = \"\", \"\", COUNTIFS(ToDoList!$B:$B, $A72, ToDoList!$R:$R, F$2))","v":""},{"$f":"IF($A72 = \"\", \"\", COUNTIFS(ToDoList!$B:$B, $A72, ToDoList!$R:$R, G$2))","v":""},{"$f":"IF($A72 = \"\", \"\", COUNTIFS(ToDoList!$B:$B, $A72, ToDoList!$R:$R, H$2))","v":""},{"$f":"IF($A72 = \"\", \"\", COUNTIFS(ToDoList!$B:$B, $A72, ToDoList!$R:$R, I$2))","v":""},{"$f":"IF($A72 = \"\", \"\", COUNTIFS(ToDoList!$B:$B, $A72, ToDoList!$R:$R, J$2))","v":""}]
[null,{"$f":"IF($A73 = \"\", \"\", COUNTIFS(ToDoList!$B:$B, $A73, ToDoList!$R:$R, B$2))","v":""},{"$f":"IF($A73 = \"\", \"\", COUNTIFS(ToDoList!$B:$B, $A73, ToDoList!$R:$R, C$2))","v":""},{"$f":"IF($A73 = \"\", \"\", COUNTIFS(ToDoList!$B:$B, $A73, ToDoList!$R:$R, D$2))","v":""},{"$f":"IF($A73 = \"\", \"\", COUNTIFS(ToDoList!$B:$B, $A73, ToDoList!$R:$R, E$2))","v":""},{"$f":"IF($A73 = \"\", \"\", COUNTIFS(ToDoList!$B:$B, $A73, ToDoList!$R:$R, F$2))","v":""},{"$f":"IF($A73 = \"\", \"\", COUNTIFS(ToDoList!$B:$B, $A73, ToDoList!$R:$R, G$2))","v":""},{"$f":"IF($A73 = \"\", \"\", COUNTIFS(ToDoList!$B:$B, $A73, ToDoList!$R:$R, H$2))","v":""},{"$f":"IF($A73 = \"\", \"\", COUNTIFS(ToDoList!$B:$B, $A73, ToDoList!$R:$R, I$2))","v":""},{"$f":"IF($A73 = \"\", \"\", COUNTIFS(ToDoList!$B:$B, $A73, ToDoList!$R:$R, J$2))","v":""}]
[null,{"$f":"IF($A74 = \"\", \"\", COUNTIFS(ToDoList!$B:$B, $A74, ToDoList!$R:$R, B$2))","v":""},{"$f":"IF($A74 = \"\", \"\", COUNTIFS(ToDoList!$B:$B, $A74, ToDoList!$R:$R, C$2))","v":""},{"$f":"IF($A74 = \"\", \"\", COUNTIFS(ToDoList!$B:$B, $A74, ToDoList!$R:$R, D$2))","v":""},{"$f":"IF($A74 = \"\", \"\", COUNTIFS(ToDoList!$B:$B, $A74, ToDoList!$R:$R, E$2))","v":""},{"$f":"IF($A74 = \"\", \"\", COUNTIFS(ToDoList!$B:$B, $A74, ToDoList!$R:$R, F$2))","v":""},{"$f":"IF($A74 = \"\", \"\", COUNTIFS(ToDoList!$B:$B, $A74, ToDoList!$R:$R, G$2))","v":""},{"$f":"IF($A74 = \"\", \"\", COUNTIFS(ToDoList!$B:$B, $A74, ToDoList!$R:$R, H$2))","v":""},{"$f":"IF($A74 = \"\", \"\", COUNTIFS(ToDoList!$B:$B, $A74, ToDoList!$R:$R, I$2))","v":""},{"$f":"IF($A74 = \"\", \"\", COUNTIFS(ToDoList!$B:$B, $A74, ToDoList!$R:$R, J$2))","v":""}]
[null,{"$f":"IF($A75 = \"\", \"\", COUNTIFS(ToDoList!$B:$B, $A75, ToDoList!$R:$R, B$2))","v":""},{"$f":"IF($A75 = \"\", \"\", COUNTIFS(ToDoList!$B:$B, $A75, ToDoList!$R:$R, C$2))","v":""},{"$f":"IF($A75 = \"\", \"\", COUNTIFS(ToDoList!$B:$B, $A75, ToDoList!$R:$R, D$2))","v":""},{"$f":"IF($A75 = \"\", \"\", COUNTIFS(ToDoList!$B:$B, $A75, ToDoList!$R:$R, E$2))","v":""},{"$f":"IF($A75 = \"\", \"\", COUNTIFS(ToDoList!$B:$B, $A75, ToDoList!$R:$R, F$2))","v":""},{"$f":"IF($A75 = \"\", \"\", COUNTIFS(ToDoList!$B:$B, $A75, ToDoList!$R:$R, G$2))","v":""},{"$f":"IF($A75 = \"\", \"\", COUNTIFS(ToDoList!$B:$B, $A75, ToDoList!$R:$R, H$2))","v":""},{"$f":"IF($A75 = \"\", \"\", COUNTIFS(ToDoList!$B:$B, $A75, ToDoList!$R:$R, I$2))","v":""},{"$f":"IF($A75 = \"\", \"\", COUNTIFS(ToDoList!$B:$B, $A75, ToDoList!$R:$R, J$2))","v":""}]
[null,{"$f":"IF($A76 = \"\", \"\", COUNTIFS(ToDoList!$B:$B, $A76, ToDoList!$R:$R, B$2))","v":""},{"$f":"IF($A76 = \"\", \"\", COUNTIFS(ToDoList!$B:$B, $A76, ToDoList!$R:$R, C$2))","v":""},{"$f":"IF($A76 = \"\", \"\", COUNTIFS(ToDoList!$B:$B, $A76, ToDoList!$R:$R, D$2))","v":""},{"$f":"IF($A76 = \"\", \"\", COUNTIFS(ToDoList!$B:$B, $A76, ToDoList!$R:$R, E$2))","v":""},{"$f":"IF($A76 = \"\", \"\", COUNTIFS(ToDoList!$B:$B, $A76, ToDoList!$R:$R, F$2))","v":""},{"$f":"IF($A76 = \"\", \"\", COUNTIFS(ToDoList!$B:$B, $A76, ToDoList!$R:$R, G$2))","v":""},{"$f":"IF($A76 = \"\", \"\", COUNTIFS(ToDoList!$B:$B, $A76, ToDoList!$R:$R, H$2))","v":""},{"$f":"IF($A76 = \"\", \"\", COUNTIFS(ToDoList!$B:$B, $A76, ToDoList!$R:$R, I$2))","v":""},{"$f":"IF($A76 = \"\", \"\", COUNTIFS(ToDoList!$B:$B, $A76, ToDoList!$R:$R, J$2))","v":""}]
[null,{"$f":"IF($A77 = \"\", \"\", COUNTIFS(ToDoList!$B:$B, $A77, ToDoList!$R:$R, B$2))","v":""},{"$f":"IF($A77 = \"\", \"\", COUNTIFS(ToDoList!$B:$B, $A77, ToDoList!$R:$R, C$2))","v":""},{"$f":"IF($A77 = \"\", \"\", COUNTIFS(ToDoList!$B:$B, $A77, ToDoList!$R:$R, D$2))","v":""},{"$f":"IF($A77 = \"\", \"\", COUNTIFS(ToDoList!$B:$B, $A77, ToDoList!$R:$R, E$2))","v":""},{"$f":"IF($A77 = \"\", \"\", COUNTIFS(ToDoList!$B:$B, $A77, ToDoList!$R:$R, F$2))","v":""},{"$f":"IF($A77 = \"\", \"\", COUNTIFS(ToDoList!$B:$B, $A77, ToDoList!$R:$R, G$2))","v":""},{"$f":"IF($A77 = \"\", \"\", COUNTIFS(ToDoList!$B:$B, $A77, ToDoList!$R:$R, H$2))","v":""},{"$f":"IF($A77 = \"\", \"\", COUNTIFS(ToDoList!$B:$B, $A77, ToDoList!$R:$R, I$2))","v":""},{"$f":"IF($A77 = \"\", \"\", COUNTIFS(ToDoList!$B:$B, $A77, ToDoList!$R:$R, J$2))","v":""}]
[null,{"$f":"IF($A78 = \"\", \"\", COUNTIFS(ToDoList!$B:$B, $A78, ToDoList!$R:$R, B$2))","v":""},{"$f":"IF($A78 = \"\", \"\", COUNTIFS(ToDoList!$B:$B, $A78, ToDoList!$R:$R, C$2))","v":""},{"$f":"IF($A78 = \"\", \"\", COUNTIFS(ToDoList!$B:$B, $A78, ToDoList!$R:$R, D$2))","v":""},{"$f":"IF($A78 = \"\", \"\", COUNTIFS(ToDoList!$B:$B, $A78, ToDoList!$R:$R, E$2))","v":""},{"$f":"IF($A78 = \"\", \"\", COUNTIFS(ToDoList!$B:$B, $A78, ToDoList!$R:$R, F$2))","v":""},{"$f":"IF($A78 = \"\", \"\", COUNTIFS(ToDoList!$B:$B, $A78, ToDoList!$R:$R, G$2))","v":""},{"$f":"IF($A78 = \"\", \"\", COUNTIFS(ToDoList!$B:$B, $A78, ToDoList!$R:$R, H$2))","v":""},{"$f":"IF($A78 = \"\", \"\", COUNTIFS(ToDoList!$B:$B, $A78, ToDoList!$R:$R, I$2))","v":""},{"$f":"IF($A78 = \"\", \"\", COUNTIFS(ToDoList!$B:$B, $A78, ToDoList!$R:$R, J$2))","v":""}]
[null,{"$f":"IF($A79 = \"\", \"\", COUNTIFS(ToDoList!$B:$B, $A79, ToDoList!$R:$R, B$2))","v":""},{"$f":"IF($A79 = \"\", \"\", COUNTIFS(ToDoList!$B:$B, $A79, ToDoList!$R:$R, C$2))","v":""},{"$f":"IF($A79 = \"\", \"\", COUNTIFS(ToDoList!$B:$B, $A79, ToDoList!$R:$R, D$2))","v":""},{"$f":"IF($A79 = \"\", \"\", COUNTIFS(ToDoList!$B:$B, $A79, ToDoList!$R:$R, E$2))","v":""},{"$f":"IF($A79 = \"\", \"\", COUNTIFS(ToDoList!$B:$B, $A79, ToDoList!$R:$R, F$2))","v":""},{"$f":"IF($A79 = \"\", \"\", COUNTIFS(ToDoList!$B:$B, $A79, ToDoList!$R:$R, G$2))","v":""},{"$f":"IF($A79 = \"\", \"\", COUNTIFS(ToDoList!$B:$B, $A79, ToDoList!$R:$R, H$2))","v":""},{"$f":"IF($A79 = \"\", \"\", COUNTIFS(ToDoList!$B:$B, $A79, ToDoList!$R:$R, I$2))","v":""},{"$f":"IF($A79 = \"\", \"\", COUNTIFS(ToDoList!$B:$B, $A79, ToDoList!$R:$R, J$2))","v":""}]
[null,{"$f":"IF($A80 = \"\", \"\", COUNTIFS(ToDoList!$B:$B, $A80, ToDoList!$R:$R, B$2))","v":""},{"$f":"IF($A80 = \"\", \"\", COUNTIFS(ToDoList!$B:$B, $A80, ToDoList!$R:$R, C$2))","v":""},{"$f":"IF($A80 = \"\", \"\", COUNTIFS(ToDoList!$B:$B, $A80, ToDoList!$R:$R, D$2))","v":""},{"$f":"IF($A80 = \"\", \"\", COUNTIFS(ToDoList!$B:$B, $A80, ToDoList!$R:$R, E$2))","v":""},{"$f":"IF($A80 = \"\", \"\", COUNTIFS(ToDoList!$B:$B, $A80, ToDoList!$R:$R, F$2))","v":""},{"$f":"IF($A80 = \"\", \"\", COUNTIFS(ToDoList!$B:$B, $A80, ToDoList!$R:$R, G$2))","v":""},{"$f":"IF($A80 = \"\", \"\", COUNTIFS(ToDoList!$B:$B, $A80, ToDoList!$R:$R, H$2))","v":""},{"$f":"IF($A80 = \"\", \"\", COUNTIFS(ToDoList!$B:$B, $A80, ToDoList!$R:$R, I$2))","v":""},{"$f":"IF($A80 = \"\", \"\", COUNTIFS(ToDoList!$B:$B, $A80, ToDoList!$R:$R, J$2))","v":""}]
[null,{"$f":"IF($A81 = \"\", \"\", COUNTIFS(ToDoList!$B:$B, $A81, ToDoList!$R:$R, B$2))","v":""},{"$f":"IF($A81 = \"\", \"\", COUNTIFS(ToDoList!$B:$B, $A81, ToDoList!$R:$R, C$2))","v":""},{"$f":"IF($A81 = \"\", \"\", COUNTIFS(ToDoList!$B:$B, $A81, ToDoList!$R:$R, D$2))","v":""},{"$f":"IF($A81 = \"\", \"\", COUNTIFS(ToDoList!$B:$B, $A81, ToDoList!$R:$R, E$2))","v":""},{"$f":"IF($A81 = \"\", \"\", COUNTIFS(ToDoList!$B:$B, $A81, ToDoList!$R:$R, F$2))","v":""},{"$f":"IF($A81 = \"\", \"\", COUNTIFS(ToDoList!$B:$B, $A81, ToDoList!$R:$R, G$2))","v":""},{"$f":"IF($A81 = \"\", \"\", COUNTIFS(ToDoList!$B:$B, $A81, ToDoList!$R:$R, H$2))","v":""},{"$f":"IF($A81 = \"\", \"\", COUNTIFS(ToDoList!$B:$B, $A81, ToDoList!$R:$R, I$2))","v":""},{"$f":"IF($A81 = \"\", \"\", COUNTIFS(ToDoList!$B:$B, $A81, ToDoList!$R:$R, J$2))","v":""}]
[null,{"$f":"IF($A82 = \"\", \"\", COUNTIFS(ToDoList!$B:$B, $A82, ToDoList!$R:$R, B$2))","v":""},{"$f":"IF($A82 = \"\", \"\", COUNTIFS(ToDoList!$B:$B, $A82, ToDoList!$R:$R, C$2))","v":""},{"$f":"IF($A82 = \"\", \"\", COUNTIFS(ToDoList!$B:$B, $A82, ToDoList!$R:$R, D$2))","v":""},{"$f":"IF($A82 = \"\", \"\", COUNTIFS(ToDoList!$B:$B, $A82, ToDoList!$R:$R, E$2))","v":""},{"$f":"IF($A82 = \"\", \"\", COUNTIFS(ToDoList!$B:$B, $A82, ToDoList!$R:$R, F$2))","v":""},{"$f":"IF($A82 = \"\", \"\", COUNTIFS(ToDoList!$B:$B, $A82, ToDoList!$R:$R, G$2))","v":""},{"$f":"IF($A82 = \"\", \"\", COUNTIFS(ToDoList!$B:$B, $A82, ToDoList!$R:$R, H$2))","v":""},{"$f":"IF($A82 = \"\", \"\", COUNTIFS(ToDoList!$B:$B, $A82, ToDoList!$R:$R, I$2))","v":""},{"$f":"IF($A82 = \"\", \"\", COUNTIFS(ToDoList!$B:$B, $A82, ToDoList!$R:$R, J$2))","v":""}]
[null,{"$f":"IF($A83 = \"\", \"\", COUNTIFS(ToDoList!$B:$B, $A83, ToDoList!$R:$R, B$2))","v":""},{"$f":"IF($A83 = \"\", \"\", COUNTIFS(ToDoList!$B:$B, $A83, ToDoList!$R:$R, C$2))","v":""},{"$f":"IF($A83 = \"\", \"\", COUNTIFS(ToDoList!$B:$B, $A83, ToDoList!$R:$R, D$2))","v":""},{"$f":"IF($A83 = \"\", \"\", COUNTIFS(ToDoList!$B:$B, $A83, ToDoList!$R:$R, E$2))","v":""},{"$f":"IF($A83 = \"\", \"\", COUNTIFS(ToDoList!$B:$B, $A83, ToDoList!$R:$R, F$2))","v":""},{"$f":"IF($A83 = \"\", \"\", COUNTIFS(ToDoList!$B:$B, $A83, ToDoList!$R:$R, G$2))","v":""},{"$f":"IF($A83 = \"\", \"\", COUNTIFS(ToDoList!$B:$B, $A83, ToDoList!$R:$R, H$2))","v":""},{"$f":"IF($A83 = \"\", \"\", COUNTIFS(ToDoList!$B:$B, $A83, ToDoList!$R:$R, I$2))","v":""},{"$f":"IF($A83 = \"\", \"\", COUNTIFS(ToDoList!$B:$B, $A83, ToDoList!$R:$R, J$2))","v":""}]
[null,{"$f":"IF($A84 = \"\", \"\", COUNTIFS(ToDoList!$B:$B, $A84, ToDoList!$R:$R, B$2))","v":""},{"$f":"IF($A84 = \"\", \"\", COUNTIFS(ToDoList!$B:$B, $A84, ToDoList!$R:$R, C$2))","v":""},{"$f":"IF($A84 = \"\", \"\", COUNTIFS(ToDoList!$B:$B, $A84, ToDoList!$R:$R, D$2))","v":""},{"$f":"IF($A84 = \"\", \"\", COUNTIFS(ToDoList!$B:$B, $A84, ToDoList!$R:$R, E$2))","v":""},{"$f":"IF($A84 = \"\", \"\", COUNTIFS(ToDoList!$B:$B, $A84, ToDoList!$R:$R, F$2))","v":""},{"$f":"IF($A84 = \"\", \"\", COUNTIFS(ToDoList!$B:$B, $A84, ToDoList!$R:$R, G$2))","v":""},{"$f":"IF($A84 = \"\", \"\", COUNTIFS(ToDoList!$B:$B, $A84, ToDoList!$R:$R, H$2))","v":""},{"$f":"IF($A84 = \"\", \"\", COUNTIFS(ToDoList!$B:$B, $A84, ToDoList!$R:$R, I$2))","v":""},{"$f":"IF($A84 = \"\", \"\", COUNTIFS(ToDoList!$B:$B, $A84, ToDoList!$R:$R, J$2))","v":""}]
[null,{"$f":"IF($A85 = \"\", \"\", COUNTIFS(ToDoList!$B:$B, $A85, ToDoList!$R:$R, B$2))","v":""},{"$f":"IF($A85 = \"\", \"\", COUNTIFS(ToDoList!$B:$B, $A85, ToDoList!$R:$R, C$2))","v":""},{"$f":"IF($A85 = \"\", \"\", COUNTIFS(ToDoList!$B:$B, $A85, ToDoList!$R:$R, D$2))","v":""},{"$f":"IF($A85 = \"\", \"\", COUNTIFS(ToDoList!$B:$B, $A85, ToDoList!$R:$R, E$2))","v":""},{"$f":"IF($A85 = \"\", \"\", COUNTIFS(ToDoList!$B:$B, $A85, ToDoList!$R:$R, F$2))","v":""},{"$f":"IF($A85 = \"\", \"\", COUNTIFS(ToDoList!$B:$B, $A85, ToDoList!$R:$R, G$2))","v":""},{"$f":"IF($A85 = \"\", \"\", COUNTIFS(ToDoList!$B:$B, $A85, ToDoList!$R:$R, H$2))","v":""},{"$f":"IF($A85 = \"\", \"\", COUNTIFS(ToDoList!$B:$B, $A85, ToDoList!$R:$R, I$2))","v":""},{"$f":"IF($A85 = \"\", \"\", COUNTIFS(ToDoList!$B:$B, $A85, ToDoList!$R:$R, J$2))","v":""}]
[null,{"$f":"IF($A86 = \"\", \"\", COUNTIFS(ToDoList!$B:$B, $A86, ToDoList!$R:$R, B$2))","v":""},{"$f":"IF($A86 = \"\", \"\", COUNTIFS(ToDoList!$B:$B, $A86, ToDoList!$R:$R, C$2))","v":""},{"$f":"IF($A86 = \"\", \"\", COUNTIFS(ToDoList!$B:$B, $A86, ToDoList!$R:$R, D$2))","v":""},{"$f":"IF($A86 = \"\", \"\", COUNTIFS(ToDoList!$B:$B, $A86, ToDoList!$R:$R, E$2))","v":""},{"$f":"IF($A86 = \"\", \"\", COUNTIFS(ToDoList!$B:$B, $A86, ToDoList!$R:$R, F$2))","v":""},{"$f":"IF($A86 = \"\", \"\", COUNTIFS(ToDoList!$B:$B, $A86, ToDoList!$R:$R, G$2))","v":""},{"$f":"IF($A86 = \"\", \"\", COUNTIFS(ToDoList!$B:$B, $A86, ToDoList!$R:$R, H$2))","v":""},{"$f":"IF($A86 = \"\", \"\", COUNTIFS(ToDoList!$B:$B, $A86, ToDoList!$R:$R, I$2))","v":""},{"$f":"IF($A86 = \"\", \"\", COUNTIFS(ToDoList!$B:$B, $A86, ToDoList!$R:$R, J$2))","v":""}]
[null,{"$f":"IF($A87 = \"\", \"\", COUNTIFS(ToDoList!$B:$B, $A87, ToDoList!$R:$R, B$2))","v":""},{"$f":"IF($A87 = \"\", \"\", COUNTIFS(ToDoList!$B:$B, $A87, ToDoList!$R:$R, C$2))","v":""},{"$f":"IF($A87 = \"\", \"\", COUNTIFS(ToDoList!$B:$B, $A87, ToDoList!$R:$R, D$2))","v":""},{"$f":"IF($A87 = \"\", \"\", COUNTIFS(ToDoList!$B:$B, $A87, ToDoList!$R:$R, E$2))","v":""},{"$f":"IF($A87 = \"\", \"\", COUNTIFS(ToDoList!$B:$B, $A87, ToDoList!$R:$R, F$2))","v":""},{"$f":"IF($A87 = \"\", \"\", COUNTIFS(ToDoList!$B:$B, $A87, ToDoList!$R:$R, G$2))","v":""},{"$f":"IF($A87 = \"\", \"\", COUNTIFS(ToDoList!$B:$B, $A87, ToDoList!$R:$R, H$2))","v":""},{"$f":"IF($A87 = \"\", \"\", COUNTIFS(ToDoList!$B:$B, $A87, ToDoList!$R:$R, I$2))","v":""},{"$f":"IF($A87 = \"\", \"\", COUNTIFS(ToDoList!$B:$B, $A87, ToDoList!$R:$R, J$2))","v":""}]
[null,{"$f":"IF($A88 = \"\", \"\", COUNTIFS(ToDoList!$B:$B, $A88, ToDoList!$R:$R, B$2))","v":""},{"$f":"IF($A88 = \"\", \"\", COUNTIFS(ToDoList!$B:$B, $A88, ToDoList!$R:$R, C$2))","v":""},{"$f":"IF($A88 = \"\", \"\", COUNTIFS(ToDoList!$B:$B, $A88, ToDoList!$R:$R, D$2))","v":""},{"$f":"IF($A88 = \"\", \"\", COUNTIFS(ToDoList!$B:$B, $A88, ToDoList!$R:$R, E$2))","v":""},{"$f":"IF($A88 = \"\", \"\", COUNTIFS(ToDoList!$B:$B, $A88, ToDoList!$R:$R, F$2))","v":""},{"$f":"IF($A88 = \"\", \"\", COUNTIFS(ToDoList!$B:$B, $A88, ToDoList!$R:$R, G$2))","v":""},{"$f":"IF($A88 = \"\", \"\", COUNTIFS(ToDoList!$B:$B, $A88, ToDoList!$R:$R, H$2))","v":""},{"$f":"IF($A88 = \"\", \"\", COUNTIFS(ToDoList!$B:$B, $A88, ToDoList!$R:$R, I$2))","v":""},{"$f":"IF($A88 = \"\", \"\", COUNTIFS(ToDoList!$B:$B, $A88, ToDoList!$R:$R, J$2))","v":""}]
[null,{"$f":"IF($A89 = \"\", \"\", COUNTIFS(ToDoList!$B:$B, $A89, ToDoList!$R:$R, B$2))","v":""},{"$f":"IF($A89 = \"\", \"\", COUNTIFS(ToDoList!$B:$B, $A89, ToDoList!$R:$R, C$2))","v":""},{"$f":"IF($A89 = \"\", \"\", COUNTIFS(ToDoList!$B:$B, $A89, ToDoList!$R:$R, D$2))","v":""},{"$f":"IF($A89 = \"\", \"\", COUNTIFS(ToDoList!$B:$B, $A89, ToDoList!$R:$R, E$2))","v":""},{"$f":"IF($A89 = \"\", \"\", COUNTIFS(ToDoList!$B:$B, $A89, ToDoList!$R:$R, F$2))","v":""},{"$f":"IF($A89 = \"\", \"\", COUNTIFS(ToDoList!$B:$B, $A89, ToDoList!$R:$R, G$2))","v":""},{"$f":"IF($A89 = \"\", \"\", COUNTIFS(ToDoList!$B:$B, $A89, ToDoList!$R:$R, H$2))","v":""},{"$f":"IF($A89 = \"\", \"\", COUNTIFS(ToDoList!$B:$B, $A89, ToDoList!$R:$R, I$2))","v":""},{"$f":"IF($A89 = \"\", \"\", COUNTIFS(ToDoList!$B:$B, $A89, ToDoList!$R:$R, J$2))","v":""}]
[null,{"$f":"IF($A90 = \"\", \"\", COUNTIFS(ToDoList!$B:$B, $A90, ToDoList!$R:$R, B$2))","v":""},{"$f":"IF($A90 = \"\", \"\", COUNTIFS(ToDoList!$B:$B, $A90, ToDoList!$R:$R, C$2))","v":""},{"$f":"IF($A90 = \"\", \"\", COUNTIFS(ToDoList!$B:$B, $A90, ToDoList!$R:$R, D$2))","v":""},{"$f":"IF($A90 = \"\", \"\", COUNTIFS(ToDoList!$B:$B, $A90, ToDoList!$R:$R, E$2))","v":""},{"$f":"IF($A90 = \"\", \"\", COUNTIFS(ToDoList!$B:$B, $A90, ToDoList!$R:$R, F$2))","v":""},{"$f":"IF($A90 = \"\", \"\", COUNTIFS(ToDoList!$B:$B, $A90, ToDoList!$R:$R, G$2))","v":""},{"$f":"IF($A90 = \"\", \"\", COUNTIFS(ToDoList!$B:$B, $A90, ToDoList!$R:$R, H$2))","v":""},{"$f":"IF($A90 = \"\", \"\", COUNTIFS(ToDoList!$B:$B, $A90, ToDoList!$R:$R, I$2))","v":""},{"$f":"IF($A90 = \"\", \"\", COUNTIFS(ToDoList!$B:$B, $A90, ToDoList!$R:$R, J$2))","v":""}]
[null,{"$f":"IF($A91 = \"\", \"\", COUNTIFS(ToDoList!$B:$B, $A91, ToDoList!$R:$R, B$2))","v":""},{"$f":"IF($A91 = \"\", \"\", COUNTIFS(ToDoList!$B:$B, $A91, ToDoList!$R:$R, C$2))","v":""},{"$f":"IF($A91 = \"\", \"\", COUNTIFS(ToDoList!$B:$B, $A91, ToDoList!$R:$R, D$2))","v":""},{"$f":"IF($A91 = \"\", \"\", COUNTIFS(ToDoList!$B:$B, $A91, ToDoList!$R:$R, E$2))","v":""},{"$f":"IF($A91 = \"\", \"\", COUNTIFS(ToDoList!$B:$B, $A91, ToDoList!$R:$R, F$2))","v":""},{"$f":"IF($A91 = \"\", \"\", COUNTIFS(ToDoList!$B:$B, $A91, ToDoList!$R:$R, G$2))","v":""},{"$f":"IF($A91 = \"\", \"\", COUNTIFS(ToDoList!$B:$B, $A91, ToDoList!$R:$R, H$2))","v":""},{"$f":"IF($A91 = \"\", \"\", COUNTIFS(ToDoList!$B:$B, $A91, ToDoList!$R:$R, I$2))","v":""},{"$f":"IF($A91 = \"\", \"\", COUNTIFS(ToDoList!$B:$B, $A91, ToDoList!$R:$R, J$2))","v":""}]
[null,{"$f":"IF($A92 = \"\", \"\", COUNTIFS(ToDoList!$B:$B, $A92, ToDoList!$R:$R, B$2))","v":""},{"$f":"IF($A92 = \"\", \"\", COUNTIFS(ToDoList!$B:$B, $A92, ToDoList!$R:$R, C$2))","v":""},{"$f":"IF($A92 = \"\", \"\", COUNTIFS(ToDoList!$B:$B, $A92, ToDoList!$R:$R, D$2))","v":""},{"$f":"IF($A92 = \"\", \"\", COUNTIFS(ToDoList!$B:$B, $A92, ToDoList!$R:$R, E$2))","v":""},{"$f":"IF($A92 = \"\", \"\", COUNTIFS(ToDoList!$B:$B, $A92, ToDoList!$R:$R, F$2))","v":""},{"$f":"IF($A92 = \"\", \"\", COUNTIFS(ToDoList!$B:$B, $A92, ToDoList!$R:$R, G$2))","v":""},{"$f":"IF($A92 = \"\", \"\", COUNTIFS(ToDoList!$B:$B, $A92, ToDoList!$R:$R, H$2))","v":""},{"$f":"IF($A92 = \"\", \"\", COUNTIFS(ToDoList!$B:$B, $A92, ToDoList!$R:$R, I$2))","v":""},{"$f":"IF($A92 = \"\", \"\", COUNTIFS(ToDoList!$B:$B, $A92, ToDoList!$R:$R, J$2))","v":""}]
[null,{"$f":"IF($A93 = \"\", \"\", COUNTIFS(ToDoList!$B:$B, $A93, ToDoList!$R:$R, B$2))","v":""},{"$f":"IF($A93 = \"\", \"\", COUNTIFS(ToDoList!$B:$B, $A93, ToDoList!$R:$R, C$2))","v":""},{"$f":"IF($A93 = \"\", \"\", COUNTIFS(ToDoList!$B:$B, $A93, ToDoList!$R:$R, D$2))","v":""},{"$f":"IF($A93 = \"\", \"\", COUNTIFS(ToDoList!$B:$B, $A93, ToDoList!$R:$R, E$2))","v":""},{"$f":"IF($A93 = \"\", \"\", COUNTIFS(ToDoList!$B:$B, $A93, ToDoList!$R:$R, F$2))","v":""},{"$f":"IF($A93 = \"\", \"\", COUNTIFS(ToDoList!$B:$B, $A93, ToDoList!$R:$R, G$2))","v":""},{"$f":"IF($A93 = \"\", \"\", COUNTIFS(ToDoList!$B:$B, $A93, ToDoList!$R:$R, H$2))","v":""},{"$f":"IF($A93 = \"\", \"\", COUNTIFS(ToDoList!$B:$B, $A93, ToDoList!$R:$R, I$2))","v":""},{"$f":"IF($A93 = \"\", \"\", COUNTIFS(ToDoList!$B:$B, $A93, ToDoList!$R:$R, J$2))","v":""}]
[null,{"$f":"IF($A94 = \"\", \"\", COUNTIFS(ToDoList!$B:$B, $A94, ToDoList!$R:$R, B$2))","v":""},{"$f":"IF($A94 = \"\", \"\", COUNTIFS(ToDoList!$B:$B, $A94, ToDoList!$R:$R, C$2))","v":""},{"$f":"IF($A94 = \"\", \"\", COUNTIFS(ToDoList!$B:$B, $A94, ToDoList!$R:$R, D$2))","v":""},{"$f":"IF($A94 = \"\", \"\", COUNTIFS(ToDoList!$B:$B, $A94, ToDoList!$R:$R, E$2))","v":""},{"$f":"IF($A94 = \"\", \"\", COUNTIFS(ToDoList!$B:$B, $A94, ToDoList!$R:$R, F$2))","v":""},{"$f":"IF($A94 = \"\", \"\", COUNTIFS(ToDoList!$B:$B, $A94, ToDoList!$R:$R, G$2))","v":""},{"$f":"IF($A94 = \"\", \"\", COUNTIFS(ToDoList!$B:$B, $A94, ToDoList!$R:$R, H$2))","v":""},{"$f":"IF($A94 = \"\", \"\", COUNTIFS(ToDoList!$B:$B, $A94, ToDoList!$R:$R, I$2))","v":""},{"$f":"IF($A94 = \"\", \"\", COUNTIFS(ToDoList!$B:$B, $A94, ToDoList!$R:$R, J$2))","v":""}]
[null,{"$f":"IF($A95 = \"\", \"\", COUNTIFS(ToDoList!$B:$B, $A95, ToDoList!$R:$R, B$2))","v":""},{"$f":"IF($A95 = \"\", \"\", COUNTIFS(ToDoList!$B:$B, $A95, ToDoList!$R:$R, C$2))","v":""},{"$f":"IF($A95 = \"\", \"\", COUNTIFS(ToDoList!$B:$B, $A95, ToDoList!$R:$R, D$2))","v":""},{"$f":"IF($A95 = \"\", \"\", COUNTIFS(ToDoList!$B:$B, $A95, ToDoList!$R:$R, E$2))","v":""},{"$f":"IF($A95 = \"\", \"\", COUNTIFS(ToDoList!$B:$B, $A95, ToDoList!$R:$R, F$2))","v":""},{"$f":"IF($A95 = \"\", \"\", COUNTIFS(ToDoList!$B:$B, $A95, ToDoList!$R:$R, G$2))","v":""},{"$f":"IF($A95 = \"\", \"\", COUNTIFS(ToDoList!$B:$B, $A95, ToDoList!$R:$R, H$2))","v":""},{"$f":"IF($A95 = \"\", \"\", COUNTIFS(ToDoList!$B:$B, $A95, ToDoList!$R:$R, I$2))","v":""},{"$f":"IF($A95 = \"\", \"\", COUNTIFS(ToDoList!$B:$B, $A95, ToDoList!$R:$R, J$2))","v":""}]
[null,{"$f":"IF($A96 = \"\", \"\", COUNTIFS(ToDoList!$B:$B, $A96, ToDoList!$R:$R, B$2))","v":""},{"$f":"IF($A96 = \"\", \"\", COUNTIFS(ToDoList!$B:$B, $A96, ToDoList!$R:$R, C$2))","v":""},{"$f":"IF($A96 = \"\", \"\", COUNTIFS(ToDoList!$B:$B, $A96, ToDoList!$R:$R, D$2))","v":""},{"$f":"IF($A96 = \"\", \"\", COUNTIFS(ToDoList!$B:$B, $A96, ToDoList!$R:$R, E$2))","v":""},{"$f":"IF($A96 = \"\", \"\", COUNTIFS(ToDoList!$B:$B, $A96, ToDoList!$R:$R, F$2))","v":""},{"$f":"IF($A96 = \"\", \"\", COUNTIFS(ToDoList!$B:$B, $A96, ToDoList!$R:$R, G$2))","v":""},{"$f":"IF($A96 = \"\", \"\", COUNTIFS(ToDoList!$B:$B, $A96, ToDoList!$R:$R, H$2))","v":""},{"$f":"IF($A96 = \"\", \"\", COUNTIFS(ToDoList!$B:$B, $A96, ToDoList!$R:$R, I$2))","v":""},{"$f":"IF($A96 = \"\", \"\", COUNTIFS(ToDoList!$B:$B, $A96, ToDoList!$R:$R, J$2))","v":""}]
[null,{"$f":"IF($A97 = \"\", \"\", COUNTIFS(ToDoList!$B:$B, $A97, ToDoList!$R:$R, B$2))","v":""},{"$f":"IF($A97 = \"\", \"\", COUNTIFS(ToDoList!$B:$B, $A97, ToDoList!$R:$R, C$2))","v":""},{"$f":"IF($A97 = \"\", \"\", COUNTIFS(ToDoList!$B:$B, $A97, ToDoList!$R:$R, D$2))","v":""},{"$f":"IF($A97 = \"\", \"\", COUNTIFS(ToDoList!$B:$B, $A97, ToDoList!$R:$R, E$2))","v":""},{"$f":"IF($A97 = \"\", \"\", COUNTIFS(ToDoList!$B:$B, $A97, ToDoList!$R:$R, F$2))","v":""},{"$f":"IF($A97 = \"\", \"\", COUNTIFS(ToDoList!$B:$B, $A97, ToDoList!$R:$R, G$2))","v":""},{"$f":"IF($A97 = \"\", \"\", COUNTIFS(ToDoList!$B:$B, $A97, ToDoList!$R:$R, H$2))","v":""},{"$f":"IF($A97 = \"\", \"\", COUNTIFS(ToDoList!$B:$B, $A97, ToDoList!$R:$R, I$2))","v":""},{"$f":"IF($A97 = \"\", \"\", COUNTIFS(ToDoList!$B:$B, $A97, ToDoList!$R:$R, J$2))","v":""}]
[null,{"$f":"IF($A98 = \"\", \"\", COUNTIFS(ToDoList!$B:$B, $A98, ToDoList!$R:$R, B$2))","v":""},{"$f":"IF($A98 = \"\", \"\", COUNTIFS(ToDoList!$B:$B, $A98, ToDoList!$R:$R, C$2))","v":""},{"$f":"IF($A98 = \"\", \"\", COUNTIFS(ToDoList!$B:$B, $A98, ToDoList!$R:$R, D$2))","v":""},{"$f":"IF($A98 = \"\", \"\", COUNTIFS(ToDoList!$B:$B, $A98, ToDoList!$R:$R, E$2))","v":""},{"$f":"IF($A98 = \"\", \"\", COUNTIFS(ToDoList!$B:$B, $A98, ToDoList!$R:$R, F$2))","v":""},{"$f":"IF($A98 = \"\", \"\", COUNTIFS(ToDoList!$B:$B, $A98, ToDoList!$R:$R, G$2))","v":""},{"$f":"IF($A98 = \"\", \"\", COUNTIFS(ToDoList!$B:$B, $A98, ToDoList!$R:$R, H$2))","v":""},{"$f":"IF($A98 = \"\", \"\", COUNTIFS(ToDoList!$B:$B, $A98, ToDoList!$R:$R, I$2))","v":""},{"$f":"IF($A98 = \"\", \"\", COUNTIFS(ToDoList!$B:$B, $A98, ToDoList!$R:$R, J$2))","v":""}]
[null,{"$f":"IF($A99 = \"\", \"\", COUNTIFS(ToDoList!$B:$B, $A99, ToDoList!$R:$R, B$2))","v":""},{"$f":"IF($A99 = \"\", \"\", COUNTIFS(ToDoList!$B:$B, $A99, ToDoList!$R:$R, C$2))","v":""},{"$f":"IF($A99 = \"\", \"\", COUNTIFS(ToDoList!$B:$B, $A99, ToDoList!$R:$R, D$2))","v":""},{"$f":"IF($A99 = \"\", \"\", COUNTIFS(ToDoList!$B:$B, $A99, ToDoList!$R:$R, E$2))","v":""},{"$f":"IF($A99 = \"\", \"\", COUNTIFS(ToDoList!$B:$B, $A99, ToDoList!$R:$R, F$2))","v":""},{"$f":"IF($A99 = \"\", \"\", COUNTIFS(ToDoList!$B:$B, $A99, ToDoList!$R:$R, G$2))","v":""},{"$f":"IF($A99 = \"\", \"\", COUNTIFS(ToDoList!$B:$B, $A99, ToDoList!$R:$R, H$2))","v":""},{"$f":"IF($A99 = \"\", \"\", COUNTIFS(ToDoList!$B:$B, $A99, ToDoList!$R:$R, I$2))","v":""},{"$f":"IF($A99 = \"\", \"\", COUNTIFS(ToDoList!$B:$B, $A99, ToDoList!$R:$R, J$2))","v":""}]
[null,{"$f":"IF($A100 = \"\", \"\", COUNTIFS(ToDoList!$B:$B, $A100, ToDoList!$R:$R, B$2))","v":""},{"$f":"IF($A100 = \"\", \"\", COUNTIFS(ToDoList!$B:$B, $A100, ToDoList!$R:$R, C$2))","v":""},{"$f":"IF($A100 = \"\", \"\", COUNTIFS(ToDoList!$B:$B, $A100, ToDoList!$R:$R, D$2))","v":""},{"$f":"IF($A100 = \"\", \"\", COUNTIFS(ToDoList!$B:$B, $A100, ToDoList!$R:$R, E$2))","v":""},{"$f":"IF($A100 = \"\", \"\", COUNTIFS(ToDoList!$B:$B, $A100, ToDoList!$R:$R, F$2))","v":""},{"$f":"IF($A100 = \"\", \"\", COUNTIFS(ToDoList!$B:$B, $A100, ToDoList!$R:$R, G$2))","v":""},{"$f":"IF($A100 = \"\", \"\", COUNTIFS(ToDoList!$B:$B, $A100, ToDoList!$R:$R, H$2))","v":""},{"$f":"IF($A100 = \"\", \"\", COUNTIFS(ToDoList!$B:$B, $A100, ToDoList!$R:$R, I$2))","v":""},{"$f":"IF($A100 = \"\", \"\", COUNTIFS(ToDoList!$B:$B, $A100, ToDoList!$R:$R, J$2))","v":""}]
[null,{"$f":"IF($A101 = \"\", \"\", COUNTIFS(ToDoList!$B:$B, $A101, ToDoList!$R:$R, B$2))","v":""},{"$f":"IF($A101 = \"\", \"\", COUNTIFS(ToDoList!$B:$B, $A101, ToDoList!$R:$R, C$2))","v":""},{"$f":"IF($A101 = \"\", \"\", COUNTIFS(ToDoList!$B:$B, $A101, ToDoList!$R:$R, D$2))","v":""},{"$f":"IF($A101 = \"\", \"\", COUNTIFS(ToDoList!$B:$B, $A101, ToDoList!$R:$R, E$2))","v":""},{"$f":"IF($A101 = \"\", \"\", COUNTIFS(ToDoList!$B:$B, $A101, ToDoList!$R:$R, F$2))","v":""},{"$f":"IF($A101 = \"\", \"\", COUNTIFS(ToDoList!$B:$B, $A101, ToDoList!$R:$R, G$2))","v":""},{"$f":"IF($A101 = \"\", \"\", COUNTIFS(ToDoList!$B:$B, $A101, ToDoList!$R:$R, H$2))","v":""},{"$f":"IF($A101 = \"\", \"\", COUNTIFS(ToDoList!$B:$B, $A101, ToDoList!$R:$R, I$2))","v":""},{"$f":"IF($A101 = \"\", \"\", COUNTIFS(ToDoList!$B:$B, $A101, ToDoList!$R:$R, J$2))","v":""}]
[null,{"$f":"IF($A102 = \"\", \"\", COUNTIFS(ToDoList!$B:$B, $A102, ToDoList!$R:$R, B$2))","v":""},{"$f":"IF($A102 = \"\", \"\", COUNTIFS(ToDoList!$B:$B, $A102, ToDoList!$R:$R, C$2))","v":""},{"$f":"IF($A102 = \"\", \"\", COUNTIFS(ToDoList!$B:$B, $A102, ToDoList!$R:$R, D$2))","v":""},{"$f":"IF($A102 = \"\", \"\", COUNTIFS(ToDoList!$B:$B, $A102, ToDoList!$R:$R, E$2))","v":""},{"$f":"IF($A102 = \"\", \"\", COUNTIFS(ToDoList!$B:$B, $A102, ToDoList!$R:$R, F$2))","v":""},{"$f":"IF($A102 = \"\", \"\", COUNTIFS(ToDoList!$B:$B, $A102, ToDoList!$R:$R, G$2))","v":""},{"$f":"IF($A102 = \"\", \"\", COUNTIFS(ToDoList!$B:$B, $A102, ToDoList!$R:$R, H$2))","v":""},{"$f":"IF($A102 = \"\", \"\", COUNTIFS(ToDoList!$B:$B, $A102, ToDoList!$R:$R, I$2))","v":""},{"$f":"IF($A102 = \"\", \"\", COUNTIFS(ToDoList!$B:$B, $A102, ToDoList!$R:$R, J$2))","v":""}]
[null,{"$f":"IF($A103 = \"\", \"\", COUNTIFS(ToDoList!$B:$B, $A103, ToDoList!$R:$R, B$2))","v":""},{"$f":"IF($A103 = \"\", \"\", COUNTIFS(ToDoList!$B:$B, $A103, ToDoList!$R:$R, C$2))","v":""},{"$f":"IF($A103 = \"\", \"\", COUNTIFS(ToDoList!$B:$B, $A103, ToDoList!$R:$R, D$2))","v":""},{"$f":"IF($A103 = \"\", \"\", COUNTIFS(ToDoList!$B:$B, $A103, ToDoList!$R:$R, E$2))","v":""},{"$f":"IF($A103 = \"\", \"\", COUNTIFS(ToDoList!$B:$B, $A103, ToDoList!$R:$R, F$2))","v":""},{"$f":"IF($A103 = \"\", \"\", COUNTIFS(ToDoList!$B:$B, $A103, ToDoList!$R:$R, G$2))","v":""},{"$f":"IF($A103 = \"\", \"\", COUNTIFS(ToDoList!$B:$B, $A103, ToDoList!$R:$R, H$2))","v":""},{"$f":"IF($A103 = \"\", \"\", COUNTIFS(ToDoList!$B:$B, $A103, ToDoList!$R:$R, I$2))","v":""},{"$f":"IF($A103 = \"\", \"\", COUNTIFS(ToDoList!$B:$B, $A103, ToDoList!$R:$R, J$2))","v":""}]
[null,{"$f":"IF($A104 = \"\", \"\", COUNTIFS(ToDoList!$B:$B, $A104, ToDoList!$R:$R, B$2))","v":""},{"$f":"IF($A104 = \"\", \"\", COUNTIFS(ToDoList!$B:$B, $A104, ToDoList!$R:$R, C$2))","v":""},{"$f":"IF($A104 = \"\", \"\", COUNTIFS(ToDoList!$B:$B, $A104, ToDoList!$R:$R, D$2))","v":""},{"$f":"IF($A104 = \"\", \"\", COUNTIFS(ToDoList!$B:$B, $A104, ToDoList!$R:$R, E$2))","v":""},{"$f":"IF($A104 = \"\", \"\", COUNTIFS(ToDoList!$B:$B, $A104, ToDoList!$R:$R, F$2))","v":""},{"$f":"IF($A104 = \"\", \"\", COUNTIFS(ToDoList!$B:$B, $A104, ToDoList!$R:$R, G$2))","v":""},{"$f":"IF($A104 = \"\", \"\", COUNTIFS(ToDoList!$B:$B, $A104, ToDoList!$R:$R, H$2))","v":""},{"$f":"IF($A104 = \"\", \"\", COUNTIFS(ToDoList!$B:$B, $A104, ToDoList!$R:$R, I$2))","v":""},{"$f":"IF($A104 = \"\", \"\", COUNTIFS(ToDoList!$B:$B, $A104, ToDoList!$R:$R, J$2))","v":""}]
[null,{"$f":"IF($A105 = \"\", \"\", COUNTIFS(ToDoList!$B:$B, $A105, ToDoList!$R:$R, B$2))","v":""},{"$f":"IF($A105 = \"\", \"\", COUNTIFS(ToDoList!$B:$B, $A105, ToDoList!$R:$R, C$2))","v":""},{"$f":"IF($A105 = \"\", \"\", COUNTIFS(ToDoList!$B:$B, $A105, ToDoList!$R:$R, D$2))","v":""},{"$f":"IF($A105 = \"\", \"\", COUNTIFS(ToDoList!$B:$B, $A105, ToDoList!$R:$R, E$2))","v":""},{"$f":"IF($A105 = \"\", \"\", COUNTIFS(ToDoList!$B:$B, $A105, ToDoList!$R:$R, F$2))","v":""},{"$f":"IF($A105 = \"\", \"\", COUNTIFS(ToDoList!$B:$B, $A105, ToDoList!$R:$R, G$2))","v":""},{"$f":"IF($A105 = \"\", \"\", COUNTIFS(ToDoList!$B:$B, $A105, ToDoList!$R:$R, H$2))","v":""},{"$f":"IF($A105 = \"\", \"\", COUNTIFS(ToDoList!$B:$B, $A105, ToDoList!$R:$R, I$2))","v":""},{"$f":"IF($A105 = \"\", \"\", COUNTIFS(ToDoList!$B:$B, $A105, ToDoList!$R:$R, J$2))","v":""}]
[null,{"$f":"IF($A106 = \"\", \"\", COUNTIFS(ToDoList!$B:$B, $A106, ToDoList!$R:$R, B$2))","v":""},{"$f":"IF($A106 = \"\", \"\", COUNTIFS(ToDoList!$B:$B, $A106, ToDoList!$R:$R, C$2))","v":""},{"$f":"IF($A106 = \"\", \"\", COUNTIFS(ToDoList!$B:$B, $A106, ToDoList!$R:$R, D$2))","v":""},{"$f":"IF($A106 = \"\", \"\", COUNTIFS(ToDoList!$B:$B, $A106, ToDoList!$R:$R, E$2))","v":""},{"$f":"IF($A106 = \"\", \"\", COUNTIFS(ToDoList!$B:$B, $A106, ToDoList!$R:$R, F$2))","v":""},{"$f":"IF($A106 = \"\", \"\", COUNTIFS(ToDoList!$B:$B, $A106, ToDoList!$R:$R, G$2))","v":""},{"$f":"IF($A106 = \"\", \"\", COUNTIFS(ToDoList!$B:$B, $A106, ToDoList!$R:$R, H$2))","v":""},{"$f":"IF($A106 = \"\", \"\", COUNTIFS(ToDoList!$B:$B, $A106, ToDoList!$R:$R, I$2))","v":""},{"$f":"IF($A106 = \"\", \"\", COUNTIFS(ToDoList!$B:$B, $A106, ToDoList!$R:$R, J$2))","v":""}]
[null,{"$f":"IF($A107 = \"\", \"\", COUNTIFS(ToDoList!$B:$B, $A107, ToDoList!$R:$R, B$2))","v":""},{"$f":"IF($A107 = \"\", \"\", COUNTIFS(ToDoList!$B:$B, $A107, ToDoList!$R:$R, C$2))","v":""},{"$f":"IF($A107 = \"\", \"\", COUNTIFS(ToDoList!$B:$B, $A107, ToDoList!$R:$R, D$2))","v":""},{"$f":"IF($A107 = \"\", \"\", COUNTIFS(ToDoList!$B:$B, $A107, ToDoList!$R:$R, E$2))","v":""},{"$f":"IF($A107 = \"\", \"\", COUNTIFS(ToDoList!$B:$B, $A107, ToDoList!$R:$R, F$2))","v":""},{"$f":"IF($A107 = \"\", \"\", COUNTIFS(ToDoList!$B:$B, $A107, ToDoList!$R:$R, G$2))","v":""},{"$f":"IF($A107 = \"\", \"\", COUNTIFS(ToDoList!$B:$B, $A107, ToDoList!$R:$R, H$2))","v":""},{"$f":"IF($A107 = \"\", \"\", COUNTIFS(ToDoList!$B:$B, $A107, ToDoList!$R:$R, I$2))","v":""},{"$f":"IF($A107 = \"\", \"\", COUNTIFS(ToDoList!$B:$B, $A107, ToDoList!$R:$R, J$2))","v":""}]
[null,{"$f":"IF($A108 = \"\", \"\", COUNTIFS(ToDoList!$B:$B, $A108, ToDoList!$R:$R, B$2))","v":""},{"$f":"IF($A108 = \"\", \"\", COUNTIFS(ToDoList!$B:$B, $A108, ToDoList!$R:$R, C$2))","v":""},{"$f":"IF($A108 = \"\", \"\", COUNTIFS(ToDoList!$B:$B, $A108, ToDoList!$R:$R, D$2))","v":""},{"$f":"IF($A108 = \"\", \"\", COUNTIFS(ToDoList!$B:$B, $A108, ToDoList!$R:$R, E$2))","v":""},{"$f":"IF($A108 = \"\", \"\", COUNTIFS(ToDoList!$B:$B, $A108, ToDoList!$R:$R, F$2))","v":""},{"$f":"IF($A108 = \"\", \"\", COUNTIFS(ToDoList!$B:$B, $A108, ToDoList!$R:$R, G$2))","v":""},{"$f":"IF($A108 = \"\", \"\", COUNTIFS(ToDoList!$B:$B, $A108, ToDoList!$R:$R, H$2))","v":""},{"$f":"IF($A108 = \"\", \"\", COUNTIFS(ToDoList!$B:$B, $A108, ToDoList!$R:$R, I$2))","v":""},{"$f":"IF($A108 = \"\", \"\", COUNTIFS(ToDoList!$B:$B, $A108, ToDoList!$R:$R, J$2))","v":""}]
[null,{"$f":"IF($A109 = \"\", \"\", COUNTIFS(ToDoList!$B:$B, $A109, ToDoList!$R:$R, B$2))","v":""},{"$f":"IF($A109 = \"\", \"\", COUNTIFS(ToDoList!$B:$B, $A109, ToDoList!$R:$R, C$2))","v":""},{"$f":"IF($A109 = \"\", \"\", COUNTIFS(ToDoList!$B:$B, $A109, ToDoList!$R:$R, D$2))","v":""},{"$f":"IF($A109 = \"\", \"\", COUNTIFS(ToDoList!$B:$B, $A109, ToDoList!$R:$R, E$2))","v":""},{"$f":"IF($A109 = \"\", \"\", COUNTIFS(ToDoList!$B:$B, $A109, ToDoList!$R:$R, F$2))","v":""},{"$f":"IF($A109 = \"\", \"\", COUNTIFS(ToDoList!$B:$B, $A109, ToDoList!$R:$R, G$2))","v":""},{"$f":"IF($A109 = \"\", \"\", COUNTIFS(ToDoList!$B:$B, $A109, ToDoList!$R:$R, H$2))","v":""},{"$f":"IF($A109 = \"\", \"\", COUNTIFS(ToDoList!$B:$B, $A109, ToDoList!$R:$R, I$2))","v":""},{"$f":"IF($A109 = \"\", \"\", COUNTIFS(ToDoList!$B:$B, $A109, ToDoList!$R:$R, J$2))","v":""}]
[null,{"$f":"IF($A110 = \"\", \"\", COUNTIFS(ToDoList!$B:$B, $A110, ToDoList!$R:$R, B$2))","v":""},{"$f":"IF($A110 = \"\", \"\", COUNTIFS(ToDoList!$B:$B, $A110, ToDoList!$R:$R, C$2))","v":""},{"$f":"IF($A110 = \"\", \"\", COUNTIFS(ToDoList!$B:$B, $A110, ToDoList!$R:$R, D$2))","v":""},{"$f":"IF($A110 = \"\", \"\", COUNTIFS(ToDoList!$B:$B, $A110, ToDoList!$R:$R, E$2))","v":""},{"$f":"IF($A110 = \"\", \"\", COUNTIFS(ToDoList!$B:$B, $A110, ToDoList!$R:$R, F$2))","v":""},{"$f":"IF($A110 = \"\", \"\", COUNTIFS(ToDoList!$B:$B, $A110, ToDoList!$R:$R, G$2))","v":""},{"$f":"IF($A110 = \"\", \"\", COUNTIFS(ToDoList!$B:$B, $A110, ToDoList!$R:$R, H$2))","v":""},{"$f":"IF($A110 = \"\", \"\", COUNTIFS(ToDoList!$B:$B, $A110, ToDoList!$R:$R, I$2))","v":""},{"$f":"IF($A110 = \"\", \"\", COUNTIFS(ToDoList!$B:$B, $A110, ToDoList!$R:$R, J$2))","v":""}]
[null,{"$f":"IF($A111 = \"\", \"\", COUNTIFS(ToDoList!$B:$B, $A111, ToDoList!$R:$R, B$2))","v":""},{"$f":"IF($A111 = \"\", \"\", COUNTIFS(ToDoList!$B:$B, $A111, ToDoList!$R:$R, C$2))","v":""},{"$f":"IF($A111 = \"\", \"\", COUNTIFS(ToDoList!$B:$B, $A111, ToDoList!$R:$R, D$2))","v":""},{"$f":"IF($A111 = \"\", \"\", COUNTIFS(ToDoList!$B:$B, $A111, ToDoList!$R:$R, E$2))","v":""},{"$f":"IF($A111 = \"\", \"\", COUNTIFS(ToDoList!$B:$B, $A111, ToDoList!$R:$R, F$2))","v":""},{"$f":"IF($A111 = \"\", \"\", COUNTIFS(ToDoList!$B:$B, $A111, ToDoList!$R:$R, G$2))","v":""},{"$f":"IF($A111 = \"\", \"\", COUNTIFS(ToDoList!$B:$B, $A111, ToDoList!$R:$R, H$2))","v":""},{"$f":"IF($A111 = \"\", \"\", COUNTIFS(ToDoList!$B:$B, $A111, ToDoList!$R:$R, I$2))","v":""},{"$f":"IF($A111 = \"\", \"\", COUNTIFS(ToDoList!$B:$B, $A111, ToDoList!$R:$R, J$2))","v":""}]
[null,{"$f":"IF($A112 = \"\", \"\", COUNTIFS(ToDoList!$B:$B, $A112, ToDoList!$R:$R, B$2))","v":""},{"$f":"IF($A112 = \"\", \"\", COUNTIFS(ToDoList!$B:$B, $A112, ToDoList!$R:$R, C$2))","v":""},{"$f":"IF($A112 = \"\", \"\", COUNTIFS(ToDoList!$B:$B, $A112, ToDoList!$R:$R, D$2))","v":""},{"$f":"IF($A112 = \"\", \"\", COUNTIFS(ToDoList!$B:$B, $A112, ToDoList!$R:$R, E$2))","v":""},{"$f":"IF($A112 = \"\", \"\", COUNTIFS(ToDoList!$B:$B, $A112, ToDoList!$R:$R, F$2))","v":""},{"$f":"IF($A112 = \"\", \"\", COUNTIFS(ToDoList!$B:$B, $A112, ToDoList!$R:$R, G$2))","v":""},{"$f":"IF($A112 = \"\", \"\", COUNTIFS(ToDoList!$B:$B, $A112, ToDoList!$R:$R, H$2))","v":""},{"$f":"IF($A112 = \"\", \"\", COUNTIFS(ToDoList!$B:$B, $A112, ToDoList!$R:$R, I$2))","v":""},{"$f":"IF($A112 = \"\", \"\", COUNTIFS(ToDoList!$B:$B, $A112, ToDoList!$R:$R, J$2))","v":""}]
[null,{"$f":"IF($A113 = \"\", \"\", COUNTIFS(ToDoList!$B:$B, $A113, ToDoList!$R:$R, B$2))","v":""},{"$f":"IF($A113 = \"\", \"\", COUNTIFS(ToDoList!$B:$B, $A113, ToDoList!$R:$R, C$2))","v":""},{"$f":"IF($A113 = \"\", \"\", COUNTIFS(ToDoList!$B:$B, $A113, ToDoList!$R:$R, D$2))","v":""},{"$f":"IF($A113 = \"\", \"\", COUNTIFS(ToDoList!$B:$B, $A113, ToDoList!$R:$R, E$2))","v":""},{"$f":"IF($A113 = \"\", \"\", COUNTIFS(ToDoList!$B:$B, $A113, ToDoList!$R:$R, F$2))","v":""},{"$f":"IF($A113 = \"\", \"\", COUNTIFS(ToDoList!$B:$B, $A113, ToDoList!$R:$R, G$2))","v":""},{"$f":"IF($A113 = \"\", \"\", COUNTIFS(ToDoList!$B:$B, $A113, ToDoList!$R:$R, H$2))","v":""},{"$f":"IF($A113 = \"\", \"\", COUNTIFS(ToDoList!$B:$B, $A113, ToDoList!$R:$R, I$2))","v":""},{"$f":"IF($A113 = \"\", \"\", COUNTIFS(ToDoList!$B:$B, $A113, ToDoList!$R:$R, J$2))","v":""}]
[null,{"$f":"IF($A114 = \"\", \"\", COUNTIFS(ToDoList!$B:$B, $A114, ToDoList!$R:$R, B$2))","v":""},{"$f":"IF($A114 = \"\", \"\", COUNTIFS(ToDoList!$B:$B, $A114, ToDoList!$R:$R, C$2))","v":""},{"$f":"IF($A114 = \"\", \"\", COUNTIFS(ToDoList!$B:$B, $A114, ToDoList!$R:$R, D$2))","v":""},{"$f":"IF($A114 = \"\", \"\", COUNTIFS(ToDoList!$B:$B, $A114, ToDoList!$R:$R, E$2))","v":""},{"$f":"IF($A114 = \"\", \"\", COUNTIFS(ToDoList!$B:$B, $A114, ToDoList!$R:$R, F$2))","v":""},{"$f":"IF($A114 = \"\", \"\", COUNTIFS(ToDoList!$B:$B, $A114, ToDoList!$R:$R, G$2))","v":""},{"$f":"IF($A114 = \"\", \"\", COUNTIFS(ToDoList!$B:$B, $A114, ToDoList!$R:$R, H$2))","v":""},{"$f":"IF($A114 = \"\", \"\", COUNTIFS(ToDoList!$B:$B, $A114, ToDoList!$R:$R, I$2))","v":""},{"$f":"IF($A114 = \"\", \"\", COUNTIFS(ToDoList!$B:$B, $A114, ToDoList!$R:$R, J$2))","v":""}]
[null,{"$f":"IF($A115 = \"\", \"\", COUNTIFS(ToDoList!$B:$B, $A115, ToDoList!$R:$R, B$2))","v":""},{"$f":"IF($A115 = \"\", \"\", COUNTIFS(ToDoList!$B:$B, $A115, ToDoList!$R:$R, C$2))","v":""},{"$f":"IF($A115 = \"\", \"\", COUNTIFS(ToDoList!$B:$B, $A115, ToDoList!$R:$R, D$2))","v":""},{"$f":"IF($A115 = \"\", \"\", COUNTIFS(ToDoList!$B:$B, $A115, ToDoList!$R:$R, E$2))","v":""},{"$f":"IF($A115 = \"\", \"\", COUNTIFS(ToDoList!$B:$B, $A115, ToDoList!$R:$R, F$2))","v":""},{"$f":"IF($A115 = \"\", \"\", COUNTIFS(ToDoList!$B:$B, $A115, ToDoList!$R:$R, G$2))","v":""},{"$f":"IF($A115 = \"\", \"\", COUNTIFS(ToDoList!$B:$B, $A115, ToDoList!$R:$R, H$2))","v":""},{"$f":"IF($A115 = \"\", \"\", COUNTIFS(ToDoList!$B:$B, $A115, ToDoList!$R:$R, I$2))","v":""},{"$f":"IF($A115 = \"\", \"\", COUNTIFS(ToDoList!$B:$B, $A115, ToDoList!$R:$R, J$2))","v":""}]
[null,{"$f":"IF($A116 = \"\", \"\", COUNTIFS(ToDoList!$B:$B, $A116, ToDoList!$R:$R, B$2))","v":""},{"$f":"IF($A116 = \"\", \"\", COUNTIFS(ToDoList!$B:$B, $A116, ToDoList!$R:$R, C$2))","v":""},{"$f":"IF($A116 = \"\", \"\", COUNTIFS(ToDoList!$B:$B, $A116, ToDoList!$R:$R, D$2))","v":""},{"$f":"IF($A116 = \"\", \"\", COUNTIFS(ToDoList!$B:$B, $A116, ToDoList!$R:$R, E$2))","v":""},{"$f":"IF($A116 = \"\", \"\", COUNTIFS(ToDoList!$B:$B, $A116, ToDoList!$R:$R, F$2))","v":""},{"$f":"IF($A116 = \"\", \"\", COUNTIFS(ToDoList!$B:$B, $A116, ToDoList!$R:$R, G$2))","v":""},{"$f":"IF($A116 = \"\", \"\", COUNTIFS(ToDoList!$B:$B, $A116, ToDoList!$R:$R, H$2))","v":""},{"$f":"IF($A116 = \"\", \"\", COUNTIFS(ToDoList!$B:$B, $A116, ToDoList!$R:$R, I$2))","v":""},{"$f":"IF($A116 = \"\", \"\", COUNTIFS(ToDoList!$B:$B, $A116, ToDoList!$R:$R, J$2))","v":""}]
[null,{"$f":"IF($A117 = \"\", \"\", COUNTIFS(ToDoList!$B:$B, $A117, ToDoList!$R:$R, B$2))","v":""},{"$f":"IF($A117 = \"\", \"\", COUNTIFS(ToDoList!$B:$B, $A117, ToDoList!$R:$R, C$2))","v":""},{"$f":"IF($A117 = \"\", \"\", COUNTIFS(ToDoList!$B:$B, $A117, ToDoList!$R:$R, D$2))","v":""},{"$f":"IF($A117 = \"\", \"\", COUNTIFS(ToDoList!$B:$B, $A117, ToDoList!$R:$R, E$2))","v":""},{"$f":"IF($A117 = \"\", \"\", COUNTIFS(ToDoList!$B:$B, $A117, ToDoList!$R:$R, F$2))","v":""},{"$f":"IF($A117 = \"\", \"\", COUNTIFS(ToDoList!$B:$B, $A117, ToDoList!$R:$R, G$2))","v":""},{"$f":"IF($A117 = \"\", \"\", COUNTIFS(ToDoList!$B:$B, $A117, ToDoList!$R:$R, H$2))","v":""},{"$f":"IF($A117 = \"\", \"\", COUNTIFS(ToDoList!$B:$B, $A117, ToDoList!$R:$R, I$2))","v":""},{"$f":"IF($A117 = \"\", \"\", COUNTIFS(ToDoList!$B:$B, $A117, ToDoList!$R:$R, J$2))","v":""}]
[null,{"$f":"IF($A118 = \"\", \"\", COUNTIFS(ToDoList!$B:$B, $A118, ToDoList!$R:$R, B$2))","v":""},{"$f":"IF($A118 = \"\", \"\", COUNTIFS(ToDoList!$B:$B, $A118, ToDoList!$R:$R, C$2))","v":""},{"$f":"IF($A118 = \"\", \"\", COUNTIFS(ToDoList!$B:$B, $A118, ToDoList!$R:$R, D$2))","v":""},{"$f":"IF($A118 = \"\", \"\", COUNTIFS(ToDoList!$B:$B, $A118, ToDoList!$R:$R, E$2))","v":""},{"$f":"IF($A118 = \"\", \"\", COUNTIFS(ToDoList!$B:$B, $A118, ToDoList!$R:$R, F$2))","v":""},{"$f":"IF($A118 = \"\", \"\", COUNTIFS(ToDoList!$B:$B, $A118, ToDoList!$R:$R, G$2))","v":""},{"$f":"IF($A118 = \"\", \"\", COUNTIFS(ToDoList!$B:$B, $A118, ToDoList!$R:$R, H$2))","v":""},{"$f":"IF($A118 = \"\", \"\", COUNTIFS(ToDoList!$B:$B, $A118, ToDoList!$R:$R, I$2))","v":""},{"$f":"IF($A118 = \"\", \"\", COUNTIFS(ToDoList!$B:$B, $A118, ToDoList!$R:$R, J$2))","v":""}]
[null,{"$f":"IF($A119 = \"\", \"\", COUNTIFS(ToDoList!$B:$B, $A119, ToDoList!$R:$R, B$2))","v":""},{"$f":"IF($A119 = \"\", \"\", COUNTIFS(ToDoList!$B:$B, $A119, ToDoList!$R:$R, C$2))","v":""},{"$f":"IF($A119 = \"\", \"\", COUNTIFS(ToDoList!$B:$B, $A119, ToDoList!$R:$R, D$2))","v":""},{"$f":"IF($A119 = \"\", \"\", COUNTIFS(ToDoList!$B:$B, $A119, ToDoList!$R:$R, E$2))","v":""},{"$f":"IF($A119 = \"\", \"\", COUNTIFS(ToDoList!$B:$B, $A119, ToDoList!$R:$R, F$2))","v":""},{"$f":"IF($A119 = \"\", \"\", COUNTIFS(ToDoList!$B:$B, $A119, ToDoList!$R:$R, G$2))","v":""},{"$f":"IF($A119 = \"\", \"\", COUNTIFS(ToDoList!$B:$B, $A119, ToDoList!$R:$R, H$2))","v":""},{"$f":"IF($A119 = \"\", \"\", COUNTIFS(ToDoList!$B:$B, $A119, ToDoList!$R:$R, I$2))","v":""},{"$f":"IF($A119 = \"\", \"\", COUNTIFS(ToDoList!$B:$B, $A119, ToDoList!$R:$R, J$2))","v":""}]
[null,{"$f":"IF($A120 = \"\", \"\", COUNTIFS(ToDoList!$B:$B, $A120, ToDoList!$R:$R, B$2))","v":""},{"$f":"IF($A120 = \"\", \"\", COUNTIFS(ToDoList!$B:$B, $A120, ToDoList!$R:$R, C$2))","v":""},{"$f":"IF($A120 = \"\", \"\", COUNTIFS(ToDoList!$B:$B, $A120, ToDoList!$R:$R, D$2))","v":""},{"$f":"IF($A120 = \"\", \"\", COUNTIFS(ToDoList!$B:$B, $A120, ToDoList!$R:$R, E$2))","v":""},{"$f":"IF($A120 = \"\", \"\", COUNTIFS(ToDoList!$B:$B, $A120, ToDoList!$R:$R, F$2))","v":""},{"$f":"IF($A120 = \"\", \"\", COUNTIFS(ToDoList!$B:$B, $A120, ToDoList!$R:$R, G$2))","v":""},{"$f":"IF($A120 = \"\", \"\", COUNTIFS(ToDoList!$B:$B, $A120, ToDoList!$R:$R, H$2))","v":""},{"$f":"IF($A120 = \"\", \"\", COUNTIFS(ToDoList!$B:$B, $A120, ToDoList!$R:$R, I$2))","v":""},{"$f":"IF($A120 = \"\", \"\", COUNTIFS(ToDoList!$B:$B, $A120, ToDoList!$R:$R, J$2))","v":""}]
[null,{"$f":"IF($A121 = \"\", \"\", COUNTIFS(ToDoList!$B:$B, $A121, ToDoList!$R:$R, B$2))","v":""},{"$f":"IF($A121 = \"\", \"\", COUNTIFS(ToDoList!$B:$B, $A121, ToDoList!$R:$R, C$2))","v":""},{"$f":"IF($A121 = \"\", \"\", COUNTIFS(ToDoList!$B:$B, $A121, ToDoList!$R:$R, D$2))","v":""},{"$f":"IF($A121 = \"\", \"\", COUNTIFS(ToDoList!$B:$B, $A121, ToDoList!$R:$R, E$2))","v":""},{"$f":"IF($A121 = \"\", \"\", COUNTIFS(ToDoList!$B:$B, $A121, ToDoList!$R:$R, F$2))","v":""},{"$f":"IF($A121 = \"\", \"\", COUNTIFS(ToDoList!$B:$B, $A121, ToDoList!$R:$R, G$2))","v":""},{"$f":"IF($A121 = \"\", \"\", COUNTIFS(ToDoList!$B:$B, $A121, ToDoList!$R:$R, H$2))","v":""},{"$f":"IF($A121 = \"\", \"\", COUNTIFS(ToDoList!$B:$B, $A121, ToDoList!$R:$R, I$2))","v":""},{"$f":"IF($A121 = \"\", \"\", COUNTIFS(ToDoList!$B:$B, $A121, ToDoList!$R:$R, J$2))","v":""}]
[null,{"$f":"IF($A122 = \"\", \"\", COUNTIFS(ToDoList!$B:$B, $A122, ToDoList!$R:$R, B$2))","v":""},{"$f":"IF($A122 = \"\", \"\", COUNTIFS(ToDoList!$B:$B, $A122, ToDoList!$R:$R, C$2))","v":""},{"$f":"IF($A122 = \"\", \"\", COUNTIFS(ToDoList!$B:$B, $A122, ToDoList!$R:$R, D$2))","v":""},{"$f":"IF($A122 = \"\", \"\", COUNTIFS(ToDoList!$B:$B, $A122, ToDoList!$R:$R, E$2))","v":""},{"$f":"IF($A122 = \"\", \"\", COUNTIFS(ToDoList!$B:$B, $A122, ToDoList!$R:$R, F$2))","v":""},{"$f":"IF($A122 = \"\", \"\", COUNTIFS(ToDoList!$B:$B, $A122, ToDoList!$R:$R, G$2))","v":""},{"$f":"IF($A122 = \"\", \"\", COUNTIFS(ToDoList!$B:$B, $A122, ToDoList!$R:$R, H$2))","v":""},{"$f":"IF($A122 = \"\", \"\", COUNTIFS(ToDoList!$B:$B, $A122, ToDoList!$R:$R, I$2))","v":""},{"$f":"IF($A122 = \"\", \"\", COUNTIFS(ToDoList!$B:$B, $A122, ToDoList!$R:$R, J$2))","v":""}]
[null,{"$f":"IF($A123 = \"\", \"\", COUNTIFS(ToDoList!$B:$B, $A123, ToDoList!$R:$R, B$2))","v":""},{"$f":"IF($A123 = \"\", \"\", COUNTIFS(ToDoList!$B:$B, $A123, ToDoList!$R:$R, C$2))","v":""},{"$f":"IF($A123 = \"\", \"\", COUNTIFS(ToDoList!$B:$B, $A123, ToDoList!$R:$R, D$2))","v":""},{"$f":"IF($A123 = \"\", \"\", COUNTIFS(ToDoList!$B:$B, $A123, ToDoList!$R:$R, E$2))","v":""},{"$f":"IF($A123 = \"\", \"\", COUNTIFS(ToDoList!$B:$B, $A123, ToDoList!$R:$R, F$2))","v":""},{"$f":"IF($A123 = \"\", \"\", COUNTIFS(ToDoList!$B:$B, $A123, ToDoList!$R:$R, G$2))","v":""},{"$f":"IF($A123 = \"\", \"\", COUNTIFS(ToDoList!$B:$B, $A123, ToDoList!$R:$R, H$2))","v":""},{"$f":"IF($A123 = \"\", \"\", COUNTIFS(ToDoList!$B:$B, $A123, ToDoList!$R:$R, I$2))","v":""},{"$f":"IF($A123 = \"\", \"\", COUNTIFS(ToDoList!$B:$B, $A123, ToDoList!$R:$R, J$2))","v":""}]
[null,{"$f":"IF($A124 = \"\", \"\", COUNTIFS(ToDoList!$B:$B, $A124, ToDoList!$R:$R, B$2))","v":""},{"$f":"IF($A124 = \"\", \"\", COUNTIFS(ToDoList!$B:$B, $A124, ToDoList!$R:$R, C$2))","v":""},{"$f":"IF($A124 = \"\", \"\", COUNTIFS(ToDoList!$B:$B, $A124, ToDoList!$R:$R, D$2))","v":""},{"$f":"IF($A124 = \"\", \"\", COUNTIFS(ToDoList!$B:$B, $A124, ToDoList!$R:$R, E$2))","v":""},{"$f":"IF($A124 = \"\", \"\", COUNTIFS(ToDoList!$B:$B, $A124, ToDoList!$R:$R, F$2))","v":""},{"$f":"IF($A124 = \"\", \"\", COUNTIFS(ToDoList!$B:$B, $A124, ToDoList!$R:$R, G$2))","v":""},{"$f":"IF($A124 = \"\", \"\", COUNTIFS(ToDoList!$B:$B, $A124, ToDoList!$R:$R, H$2))","v":""},{"$f":"IF($A124 = \"\", \"\", COUNTIFS(ToDoList!$B:$B, $A124, ToDoList!$R:$R, I$2))","v":""},{"$f":"IF($A124 = \"\", \"\", COUNTIFS(ToDoList!$B:$B, $A124, ToDoList!$R:$R, J$2))","v":""}]
[null,{"$f":"IF($A125 = \"\", \"\", COUNTIFS(ToDoList!$B:$B, $A125, ToDoList!$R:$R, B$2))","v":""},{"$f":"IF($A125 = \"\", \"\", COUNTIFS(ToDoList!$B:$B, $A125, ToDoList!$R:$R, C$2))","v":""},{"$f":"IF($A125 = \"\", \"\", COUNTIFS(ToDoList!$B:$B, $A125, ToDoList!$R:$R, D$2))","v":""},{"$f":"IF($A125 = \"\", \"\", COUNTIFS(ToDoList!$B:$B, $A125, ToDoList!$R:$R, E$2))","v":""},{"$f":"IF($A125 = \"\", \"\", COUNTIFS(ToDoList!$B:$B, $A125, ToDoList!$R:$R, F$2))","v":""},{"$f":"IF($A125 = \"\", \"\", COUNTIFS(ToDoList!$B:$B, $A125, ToDoList!$R:$R, G$2))","v":""},{"$f":"IF($A125 = \"\", \"\", COUNTIFS(ToDoList!$B:$B, $A125, ToDoList!$R:$R, H$2))","v":""},{"$f":"IF($A125 = \"\", \"\", COUNTIFS(ToDoList!$B:$B, $A125, ToDoList!$R:$R, I$2))","v":""},{"$f":"IF($A125 = \"\", \"\", COUNTIFS(ToDoList!$B:$B, $A125, ToDoList!$R:$R, J$2))","v":""}]
[null,{"$f":"IF($A126 = \"\", \"\", COUNTIFS(ToDoList!$B:$B, $A126, ToDoList!$R:$R, B$2))","v":""},{"$f":"IF($A126 = \"\", \"\", COUNTIFS(ToDoList!$B:$B, $A126, ToDoList!$R:$R, C$2))","v":""},{"$f":"IF($A126 = \"\", \"\", COUNTIFS(ToDoList!$B:$B, $A126, ToDoList!$R:$R, D$2))","v":""},{"$f":"IF($A126 = \"\", \"\", COUNTIFS(ToDoList!$B:$B, $A126, ToDoList!$R:$R, E$2))","v":""},{"$f":"IF($A126 = \"\", \"\", COUNTIFS(ToDoList!$B:$B, $A126, ToDoList!$R:$R, F$2))","v":""},{"$f":"IF($A126 = \"\", \"\", COUNTIFS(ToDoList!$B:$B, $A126, ToDoList!$R:$R, G$2))","v":""},{"$f":"IF($A126 = \"\", \"\", COUNTIFS(ToDoList!$B:$B, $A126, ToDoList!$R:$R, H$2))","v":""},{"$f":"IF($A126 = \"\", \"\", COUNTIFS(ToDoList!$B:$B, $A126, ToDoList!$R:$R, I$2))","v":""},{"$f":"IF($A126 = \"\", \"\", COUNTIFS(ToDoList!$B:$B, $A126, ToDoList!$R:$R, J$2))","v":""}]
[null,{"$f":"IF($A127 = \"\", \"\", COUNTIFS(ToDoList!$B:$B, $A127, ToDoList!$R:$R, B$2))","v":""},{"$f":"IF($A127 = \"\", \"\", COUNTIFS(ToDoList!$B:$B, $A127, ToDoList!$R:$R, C$2))","v":""},{"$f":"IF($A127 = \"\", \"\", COUNTIFS(ToDoList!$B:$B, $A127, ToDoList!$R:$R, D$2))","v":""},{"$f":"IF($A127 = \"\", \"\", COUNTIFS(ToDoList!$B:$B, $A127, ToDoList!$R:$R, E$2))","v":""},{"$f":"IF($A127 = \"\", \"\", COUNTIFS(ToDoList!$B:$B, $A127, ToDoList!$R:$R, F$2))","v":""},{"$f":"IF($A127 = \"\", \"\", COUNTIFS(ToDoList!$B:$B, $A127, ToDoList!$R:$R, G$2))","v":""},{"$f":"IF($A127 = \"\", \"\", COUNTIFS(ToDoList!$B:$B, $A127, ToDoList!$R:$R, H$2))","v":""},{"$f":"IF($A127 = \"\", \"\", COUNTIFS(ToDoList!$B:$B, $A127, ToDoList!$R:$R, I$2))","v":""},{"$f":"IF($A127 = \"\", \"\", COUNTIFS(ToDoList!$B:$B, $A127, ToDoList!$R:$R, J$2))","v":""}]
[null,{"$f":"IF($A128 = \"\", \"\", COUNTIFS(ToDoList!$B:$B, $A128, ToDoList!$R:$R, B$2))","v":""},{"$f":"IF($A128 = \"\", \"\", COUNTIFS(ToDoList!$B:$B, $A128, ToDoList!$R:$R, C$2))","v":""},{"$f":"IF($A128 = \"\", \"\", COUNTIFS(ToDoList!$B:$B, $A128, ToDoList!$R:$R, D$2))","v":""},{"$f":"IF($A128 = \"\", \"\", COUNTIFS(ToDoList!$B:$B, $A128, ToDoList!$R:$R, E$2))","v":""},{"$f":"IF($A128 = \"\", \"\", COUNTIFS(ToDoList!$B:$B, $A128, ToDoList!$R:$R, F$2))","v":""},{"$f":"IF($A128 = \"\", \"\", COUNTIFS(ToDoList!$B:$B, $A128, ToDoList!$R:$R, G$2))","v":""},{"$f":"IF($A128 = \"\", \"\", COUNTIFS(ToDoList!$B:$B, $A128, ToDoList!$R:$R, H$2))","v":""},{"$f":"IF($A128 = \"\", \"\", COUNTIFS(ToDoList!$B:$B, $A128, ToDoList!$R:$R, I$2))","v":""},{"$f":"IF($A128 = \"\", \"\", COUNTIFS(ToDoList!$B:$B, $A128, ToDoList!$R:$R, J$2))","v":""}]
[null,{"$f":"IF($A129 = \"\", \"\", COUNTIFS(ToDoList!$B:$B, $A129, ToDoList!$R:$R, B$2))","v":""},{"$f":"IF($A129 = \"\", \"\", COUNTIFS(ToDoList!$B:$B, $A129, ToDoList!$R:$R, C$2))","v":""},{"$f":"IF($A129 = \"\", \"\", COUNTIFS(ToDoList!$B:$B, $A129, ToDoList!$R:$R, D$2))","v":""},{"$f":"IF($A129 = \"\", \"\", COUNTIFS(ToDoList!$B:$B, $A129, ToDoList!$R:$R, E$2))","v":""},{"$f":"IF($A129 = \"\", \"\", COUNTIFS(ToDoList!$B:$B, $A129, ToDoList!$R:$R, F$2))","v":""},{"$f":"IF($A129 = \"\", \"\", COUNTIFS(ToDoList!$B:$B, $A129, ToDoList!$R:$R, G$2))","v":""},{"$f":"IF($A129 = \"\", \"\", COUNTIFS(ToDoList!$B:$B, $A129, ToDoList!$R:$R, H$2))","v":""},{"$f":"IF($A129 = \"\", \"\", COUNTIFS(ToDoList!$B:$B, $A129, ToDoList!$R:$R, I$2))","v":""},{"$f":"IF($A129 = \"\", \"\", COUNTIFS(ToDoList!$B:$B, $A129, ToDoList!$R:$R, J$2))","v":""}]
[null,{"$f":"IF($A130 = \"\", \"\", COUNTIFS(ToDoList!$B:$B, $A130, ToDoList!$R:$R, B$2))","v":""},{"$f":"IF($A130 = \"\", \"\", COUNTIFS(ToDoList!$B:$B, $A130, ToDoList!$R:$R, C$2))","v":""},{"$f":"IF($A130 = \"\", \"\", COUNTIFS(ToDoList!$B:$B, $A130, ToDoList!$R:$R, D$2))","v":""},{"$f":"IF($A130 = \"\", \"\", COUNTIFS(ToDoList!$B:$B, $A130, ToDoList!$R:$R, E$2))","v":""},{"$f":"IF($A130 = \"\", \"\", COUNTIFS(ToDoList!$B:$B, $A130, ToDoList!$R:$R, F$2))","v":""},{"$f":"IF($A130 = \"\", \"\", COUNTIFS(ToDoList!$B:$B, $A130, ToDoList!$R:$R, G$2))","v":""},{"$f":"IF($A130 = \"\", \"\", COUNTIFS(ToDoList!$B:$B, $A130, ToDoList!$R:$R, H$2))","v":""},{"$f":"IF($A130 = \"\", \"\", COUNTIFS(ToDoList!$B:$B, $A130, ToDoList!$R:$R, I$2))","v":""},{"$f":"IF($A130 = \"\", \"\", COUNTIFS(ToDoList!$B:$B, $A130, ToDoList!$R:$R, J$2))","v":""}]
[null,{"$f":"IF($A131 = \"\", \"\", COUNTIFS(ToDoList!$B:$B, $A131, ToDoList!$R:$R, B$2))","v":""},{"$f":"IF($A131 = \"\", \"\", COUNTIFS(ToDoList!$B:$B, $A131, ToDoList!$R:$R, C$2))","v":""},{"$f":"IF($A131 = \"\", \"\", COUNTIFS(ToDoList!$B:$B, $A131, ToDoList!$R:$R, D$2))","v":""},{"$f":"IF($A131 = \"\", \"\", COUNTIFS(ToDoList!$B:$B, $A131, ToDoList!$R:$R, E$2))","v":""},{"$f":"IF($A131 = \"\", \"\", COUNTIFS(ToDoList!$B:$B, $A131, ToDoList!$R:$R, F$2))","v":""},{"$f":"IF($A131 = \"\", \"\", COUNTIFS(ToDoList!$B:$B, $A131, ToDoList!$R:$R, G$2))","v":""},{"$f":"IF($A131 = \"\", \"\", COUNTIFS(ToDoList!$B:$B, $A131, ToDoList!$R:$R, H$2))","v":""},{"$f":"IF($A131 = \"\", \"\", COUNTIFS(ToDoList!$B:$B, $A131, ToDoList!$R:$R, I$2))","v":""},{"$f":"IF($A131 = \"\", \"\", COUNTIFS(ToDoList!$B:$B, $A131, ToDoList!$R:$R, J$2))","v":""}]
[null,{"$f":"IF($A132 = \"\", \"\", COUNTIFS(ToDoList!$B:$B, $A132, ToDoList!$R:$R, B$2))","v":""},{"$f":"IF($A132 = \"\", \"\", COUNTIFS(ToDoList!$B:$B, $A132, ToDoList!$R:$R, C$2))","v":""},{"$f":"IF($A132 = \"\", \"\", COUNTIFS(ToDoList!$B:$B, $A132, ToDoList!$R:$R, D$2))","v":""},{"$f":"IF($A132 = \"\", \"\", COUNTIFS(ToDoList!$B:$B, $A132, ToDoList!$R:$R, E$2))","v":""},{"$f":"IF($A132 = \"\", \"\", COUNTIFS(ToDoList!$B:$B, $A132, ToDoList!$R:$R, F$2))","v":""},{"$f":"IF($A132 = \"\", \"\", COUNTIFS(ToDoList!$B:$B, $A132, ToDoList!$R:$R, G$2))","v":""},{"$f":"IF($A132 = \"\", \"\", COUNTIFS(ToDoList!$B:$B, $A132, ToDoList!$R:$R, H$2))","v":""},{"$f":"IF($A132 = \"\", \"\", COUNTIFS(ToDoList!$B:$B, $A132, ToDoList!$R:$R, I$2))","v":""},{"$f":"IF($A132 = \"\", \"\", COUNTIFS(ToDoList!$B:$B, $A132, ToDoList!$R:$R, J$2))","v":""}]
[null,{"$f":"IF($A133 = \"\", \"\", COUNTIFS(ToDoList!$B:$B, $A133, ToDoList!$R:$R, B$2))","v":""},{"$f":"IF($A133 = \"\", \"\", COUNTIFS(ToDoList!$B:$B, $A133, ToDoList!$R:$R, C$2))","v":""},{"$f":"IF($A133 = \"\", \"\", COUNTIFS(ToDoList!$B:$B, $A133, ToDoList!$R:$R, D$2))","v":""},{"$f":"IF($A133 = \"\", \"\", COUNTIFS(ToDoList!$B:$B, $A133, ToDoList!$R:$R, E$2))","v":""},{"$f":"IF($A133 = \"\", \"\", COUNTIFS(ToDoList!$B:$B, $A133, ToDoList!$R:$R, F$2))","v":""},{"$f":"IF($A133 = \"\", \"\", COUNTIFS(ToDoList!$B:$B, $A133, ToDoList!$R:$R, G$2))","v":""},{"$f":"IF($A133 = \"\", \"\", COUNTIFS(ToDoList!$B:$B, $A133, ToDoList!$R:$R, H$2))","v":""},{"$f":"IF($A133 = \"\", \"\", COUNTIFS(ToDoList!$B:$B, $A133, ToDoList!$R:$R, I$2))","v":""},{"$f":"IF($A133 = \"\", \"\", COUNTIFS(ToDoList!$B:$B, $A133, ToDoList!$R:$R, J$2))","v":""}]
[null,{"$f":"IF($A134 = \"\", \"\", COUNTIFS(ToDoList!$B:$B, $A134, ToDoList!$R:$R, B$2))","v":""},{"$f":"IF($A134 = \"\", \"\", COUNTIFS(ToDoList!$B:$B, $A134, ToDoList!$R:$R, C$2))","v":""},{"$f":"IF($A134 = \"\", \"\", COUNTIFS(ToDoList!$B:$B, $A134, ToDoList!$R:$R, D$2))","v":""},{"$f":"IF($A134 = \"\", \"\", COUNTIFS(ToDoList!$B:$B, $A134, ToDoList!$R:$R, E$2))","v":""},{"$f":"IF($A134 = \"\", \"\", COUNTIFS(ToDoList!$B:$B, $A134, ToDoList!$R:$R, F$2))","v":""},{"$f":"IF($A134 = \"\", \"\", COUNTIFS(ToDoList!$B:$B, $A134, ToDoList!$R:$R, G$2))","v":""},{"$f":"IF($A134 = \"\", \"\", COUNTIFS(ToDoList!$B:$B, $A134, ToDoList!$R:$R, H$2))","v":""},{"$f":"IF($A134 = \"\", \"\", COUNTIFS(ToDoList!$B:$B, $A134, ToDoList!$R:$R, I$2))","v":""},{"$f":"IF($A134 = \"\", \"\", COUNTIFS(ToDoList!$B:$B, $A134, ToDoList!$R:$R, J$2))","v":""}]
[null,{"$f":"IF($A135 = \"\", \"\", COUNTIFS(ToDoList!$B:$B, $A135, ToDoList!$R:$R, B$2))","v":""},{"$f":"IF($A135 = \"\", \"\", COUNTIFS(ToDoList!$B:$B, $A135, ToDoList!$R:$R, C$2))","v":""},{"$f":"IF($A135 = \"\", \"\", COUNTIFS(ToDoList!$B:$B, $A135, ToDoList!$R:$R, D$2))","v":""},{"$f":"IF($A135 = \"\", \"\", COUNTIFS(ToDoList!$B:$B, $A135, ToDoList!$R:$R, E$2))","v":""},{"$f":"IF($A135 = \"\", \"\", COUNTIFS(ToDoList!$B:$B, $A135, ToDoList!$R:$R, F$2))","v":""},{"$f":"IF($A135 = \"\", \"\", COUNTIFS(ToDoList!$B:$B, $A135, ToDoList!$R:$R, G$2))","v":""},{"$f":"IF($A135 = \"\", \"\", COUNTIFS(ToDoList!$B:$B, $A135, ToDoList!$R:$R, H$2))","v":""},{"$f":"IF($A135 = \"\", \"\", COUNTIFS(ToDoList!$B:$B, $A135, ToDoList!$R:$R, I$2))","v":""},{"$f":"IF($A135 = \"\", \"\", COUNTIFS(ToDoList!$B:$B, $A135, ToDoList!$R:$R, J$2))","v":""}]
[null,{"$f":"IF($A136 = \"\", \"\", COUNTIFS(ToDoList!$B:$B, $A136, ToDoList!$R:$R, B$2))","v":""},{"$f":"IF($A136 = \"\", \"\", COUNTIFS(ToDoList!$B:$B, $A136, ToDoList!$R:$R, C$2))","v":""},{"$f":"IF($A136 = \"\", \"\", COUNTIFS(ToDoList!$B:$B, $A136, ToDoList!$R:$R, D$2))","v":""},{"$f":"IF($A136 = \"\", \"\", COUNTIFS(ToDoList!$B:$B, $A136, ToDoList!$R:$R, E$2))","v":""},{"$f":"IF($A136 = \"\", \"\", COUNTIFS(ToDoList!$B:$B, $A136, ToDoList!$R:$R, F$2))","v":""},{"$f":"IF($A136 = \"\", \"\", COUNTIFS(ToDoList!$B:$B, $A136, ToDoList!$R:$R, G$2))","v":""},{"$f":"IF($A136 = \"\", \"\", COUNTIFS(ToDoList!$B:$B, $A136, ToDoList!$R:$R, H$2))","v":""},{"$f":"IF($A136 = \"\", \"\", COUNTIFS(ToDoList!$B:$B, $A136, ToDoList!$R:$R, I$2))","v":""},{"$f":"IF($A136 = \"\", \"\", COUNTIFS(ToDoList!$B:$B, $A136, ToDoList!$R:$R, J$2))","v":""}]
[null,{"$f":"IF($A137 = \"\", \"\", COUNTIFS(ToDoList!$B:$B, $A137, ToDoList!$R:$R, B$2))","v":""},{"$f":"IF($A137 = \"\", \"\", COUNTIFS(ToDoList!$B:$B, $A137, ToDoList!$R:$R, C$2))","v":""},{"$f":"IF($A137 = \"\", \"\", COUNTIFS(ToDoList!$B:$B, $A137, ToDoList!$R:$R, D$2))","v":""},{"$f":"IF($A137 = \"\", \"\", COUNTIFS(ToDoList!$B:$B, $A137, ToDoList!$R:$R, E$2))","v":""},{"$f":"IF($A137 = \"\", \"\", COUNTIFS(ToDoList!$B:$B, $A137, ToDoList!$R:$R, F$2))","v":""},{"$f":"IF($A137 = \"\", \"\", COUNTIFS(ToDoList!$B:$B, $A137, ToDoList!$R:$R, G$2))","v":""},{"$f":"IF($A137 = \"\", \"\", COUNTIFS(ToDoList!$B:$B, $A137, ToDoList!$R:$R, H$2))","v":""},{"$f":"IF($A137 = \"\", \"\", COUNTIFS(ToDoList!$B:$B, $A137, ToDoList!$R:$R, I$2))","v":""},{"$f":"IF($A137 = \"\", \"\", COUNTIFS(ToDoList!$B:$B, $A137, ToDoList!$R:$R, J$2))","v":""}]
[null,{"$f":"IF($A138 = \"\", \"\", COUNTIFS(ToDoList!$B:$B, $A138, ToDoList!$R:$R, B$2))","v":""},{"$f":"IF($A138 = \"\", \"\", COUNTIFS(ToDoList!$B:$B, $A138, ToDoList!$R:$R, C$2))","v":""},{"$f":"IF($A138 = \"\", \"\", COUNTIFS(ToDoList!$B:$B, $A138, ToDoList!$R:$R, D$2))","v":""},{"$f":"IF($A138 = \"\", \"\", COUNTIFS(ToDoList!$B:$B, $A138, ToDoList!$R:$R, E$2))","v":""},{"$f":"IF($A138 = \"\", \"\", COUNTIFS(ToDoList!$B:$B, $A138, ToDoList!$R:$R, F$2))","v":""},{"$f":"IF($A138 = \"\", \"\", COUNTIFS(ToDoList!$B:$B, $A138, ToDoList!$R:$R, G$2))","v":""},{"$f":"IF($A138 = \"\", \"\", COUNTIFS(ToDoList!$B:$B, $A138, ToDoList!$R:$R, H$2))","v":""},{"$f":"IF($A138 = \"\", \"\", COUNTIFS(ToDoList!$B:$B, $A138, ToDoList!$R:$R, I$2))","v":""},{"$f":"IF($A138 = \"\", \"\", COUNTIFS(ToDoList!$B:$B, $A138, ToDoList!$R:$R, J$2))","v":""}]
[null,{"$f":"IF($A139 = \"\", \"\", COUNTIFS(ToDoList!$B:$B, $A139, ToDoList!$R:$R, B$2))","v":""},{"$f":"IF($A139 = \"\", \"\", COUNTIFS(ToDoList!$B:$B, $A139, ToDoList!$R:$R, C$2))","v":""},{"$f":"IF($A139 = \"\", \"\", COUNTIFS(ToDoList!$B:$B, $A139, ToDoList!$R:$R, D$2))","v":""},{"$f":"IF($A139 = \"\", \"\", COUNTIFS(ToDoList!$B:$B, $A139, ToDoList!$R:$R, E$2))","v":""},{"$f":"IF($A139 = \"\", \"\", COUNTIFS(ToDoList!$B:$B, $A139, ToDoList!$R:$R, F$2))","v":""},{"$f":"IF($A139 = \"\", \"\", COUNTIFS(ToDoList!$B:$B, $A139, ToDoList!$R:$R, G$2))","v":""},{"$f":"IF($A139 = \"\", \"\", COUNTIFS(ToDoList!$B:$B, $A139, ToDoList!$R:$R, H$2))","v":""},{"$f":"IF($A139 = \"\", \"\", COUNTIFS(ToDoList!$B:$B, $A139, ToDoList!$R:$R, I$2))","v":""},{"$f":"IF($A139 = \"\", \"\", COUNTIFS(ToDoList!$B:$B, $A139, ToDoList!$R:$R, J$2))","v":""}]
[null,{"$f":"IF($A140 = \"\", \"\", COUNTIFS(ToDoList!$B:$B, $A140, ToDoList!$R:$R, B$2))","v":""},{"$f":"IF($A140 = \"\", \"\", COUNTIFS(ToDoList!$B:$B, $A140, ToDoList!$R:$R, C$2))","v":""},{"$f":"IF($A140 = \"\", \"\", COUNTIFS(ToDoList!$B:$B, $A140, ToDoList!$R:$R, D$2))","v":""},{"$f":"IF($A140 = \"\", \"\", COUNTIFS(ToDoList!$B:$B, $A140, ToDoList!$R:$R, E$2))","v":""},{"$f":"IF($A140 = \"\", \"\", COUNTIFS(ToDoList!$B:$B, $A140, ToDoList!$R:$R, F$2))","v":""},{"$f":"IF($A140 = \"\", \"\", COUNTIFS(ToDoList!$B:$B, $A140, ToDoList!$R:$R, G$2))","v":""},{"$f":"IF($A140 = \"\", \"\", COUNTIFS(ToDoList!$B:$B, $A140, ToDoList!$R:$R, H$2))","v":""},{"$f":"IF($A140 = \"\", \"\", COUNTIFS(ToDoList!$B:$B, $A140, ToDoList!$R:$R, I$2))","v":""},{"$f":"IF($A140 = \"\", \"\", COUNTIFS(ToDoList!$B:$B, $A140, ToDoList!$R:$R, J$2))","v":""}]
[null,{"$f":"IF($A141 = \"\", \"\", COUNTIFS(ToDoList!$B:$B, $A141, ToDoList!$R:$R, B$2))","v":""},{"$f":"IF($A141 = \"\", \"\", COUNTIFS(ToDoList!$B:$B, $A141, ToDoList!$R:$R, C$2))","v":""},{"$f":"IF($A141 = \"\", \"\", COUNTIFS(ToDoList!$B:$B, $A141, ToDoList!$R:$R, D$2))","v":""},{"$f":"IF($A141 = \"\", \"\", COUNTIFS(ToDoList!$B:$B, $A141, ToDoList!$R:$R, E$2))","v":""},{"$f":"IF($A141 = \"\", \"\", COUNTIFS(ToDoList!$B:$B, $A141, ToDoList!$R:$R, F$2))","v":""},{"$f":"IF($A141 = \"\", \"\", COUNTIFS(ToDoList!$B:$B, $A141, ToDoList!$R:$R, G$2))","v":""},{"$f":"IF($A141 = \"\", \"\", COUNTIFS(ToDoList!$B:$B, $A141, ToDoList!$R:$R, H$2))","v":""},{"$f":"IF($A141 = \"\", \"\", COUNTIFS(ToDoList!$B:$B, $A141, ToDoList!$R:$R, I$2))","v":""},{"$f":"IF($A141 = \"\", \"\", COUNTIFS(ToDoList!$B:$B, $A141, ToDoList!$R:$R, J$2))","v":""}]
[null,{"$f":"IF($A142 = \"\", \"\", COUNTIFS(ToDoList!$B:$B, $A142, ToDoList!$R:$R, B$2))","v":""},{"$f":"IF($A142 = \"\", \"\", COUNTIFS(ToDoList!$B:$B, $A142, ToDoList!$R:$R, C$2))","v":""},{"$f":"IF($A142 = \"\", \"\", COUNTIFS(ToDoList!$B:$B, $A142, ToDoList!$R:$R, D$2))","v":""},{"$f":"IF($A142 = \"\", \"\", COUNTIFS(ToDoList!$B:$B, $A142, ToDoList!$R:$R, E$2))","v":""},{"$f":"IF($A142 = \"\", \"\", COUNTIFS(ToDoList!$B:$B, $A142, ToDoList!$R:$R, F$2))","v":""},{"$f":"IF($A142 = \"\", \"\", COUNTIFS(ToDoList!$B:$B, $A142, ToDoList!$R:$R, G$2))","v":""},{"$f":"IF($A142 = \"\", \"\", COUNTIFS(ToDoList!$B:$B, $A142, ToDoList!$R:$R, H$2))","v":""},{"$f":"IF($A142 = \"\", \"\", COUNTIFS(ToDoList!$B:$B, $A142, ToDoList!$R:$R, I$2))","v":""},{"$f":"IF($A142 = \"\", \"\", COUNTIFS(ToDoList!$B:$B, $A142, ToDoList!$R:$R, J$2))","v":""}]
[null,{"$f":"IF($A143 = \"\", \"\", COUNTIFS(ToDoList!$B:$B, $A143, ToDoList!$R:$R, B$2))","v":""},{"$f":"IF($A143 = \"\", \"\", COUNTIFS(ToDoList!$B:$B, $A143, ToDoList!$R:$R, C$2))","v":""},{"$f":"IF($A143 = \"\", \"\", COUNTIFS(ToDoList!$B:$B, $A143, ToDoList!$R:$R, D$2))","v":""},{"$f":"IF($A143 = \"\", \"\", COUNTIFS(ToDoList!$B:$B, $A143, ToDoList!$R:$R, E$2))","v":""},{"$f":"IF($A143 = \"\", \"\", COUNTIFS(ToDoList!$B:$B, $A143, ToDoList!$R:$R, F$2))","v":""},{"$f":"IF($A143 = \"\", \"\", COUNTIFS(ToDoList!$B:$B, $A143, ToDoList!$R:$R, G$2))","v":""},{"$f":"IF($A143 = \"\", \"\", COUNTIFS(ToDoList!$B:$B, $A143, ToDoList!$R:$R, H$2))","v":""},{"$f":"IF($A143 = \"\", \"\", COUNTIFS(ToDoList!$B:$B, $A143, ToDoList!$R:$R, I$2))","v":""},{"$f":"IF($A143 = \"\", \"\", COUNTIFS(ToDoList!$B:$B, $A143, ToDoList!$R:$R, J$2))","v":""}]
[null,{"$f":"IF($A144 = \"\", \"\", COUNTIFS(ToDoList!$B:$B, $A144, ToDoList!$R:$R, B$2))","v":""},{"$f":"IF($A144 = \"\", \"\", COUNTIFS(ToDoList!$B:$B, $A144, ToDoList!$R:$R, C$2))","v":""},{"$f":"IF($A144 = \"\", \"\", COUNTIFS(ToDoList!$B:$B, $A144, ToDoList!$R:$R, D$2))","v":""},{"$f":"IF($A144 = \"\", \"\", COUNTIFS(ToDoList!$B:$B, $A144, ToDoList!$R:$R, E$2))","v":""},{"$f":"IF($A144 = \"\", \"\", COUNTIFS(ToDoList!$B:$B, $A144, ToDoList!$R:$R, F$2))","v":""},{"$f":"IF($A144 = \"\", \"\", COUNTIFS(ToDoList!$B:$B, $A144, ToDoList!$R:$R, G$2))","v":""},{"$f":"IF($A144 = \"\", \"\", COUNTIFS(ToDoList!$B:$B, $A144, ToDoList!$R:$R, H$2))","v":""},{"$f":"IF($A144 = \"\", \"\", COUNTIFS(ToDoList!$B:$B, $A144, ToDoList!$R:$R, I$2))","v":""},{"$f":"IF($A144 = \"\", \"\", COUNTIFS(ToDoList!$B:$B, $A144, ToDoList!$R:$R, J$2))","v":""}]
[null,{"$f":"IF($A145 = \"\", \"\", COUNTIFS(ToDoList!$B:$B, $A145, ToDoList!$R:$R, B$2))","v":""},{"$f":"IF($A145 = \"\", \"\", COUNTIFS(ToDoList!$B:$B, $A145, ToDoList!$R:$R, C$2))","v":""},{"$f":"IF($A145 = \"\", \"\", COUNTIFS(ToDoList!$B:$B, $A145, ToDoList!$R:$R, D$2))","v":""},{"$f":"IF($A145 = \"\", \"\", COUNTIFS(ToDoList!$B:$B, $A145, ToDoList!$R:$R, E$2))","v":""},{"$f":"IF($A145 = \"\", \"\", COUNTIFS(ToDoList!$B:$B, $A145, ToDoList!$R:$R, F$2))","v":""},{"$f":"IF($A145 = \"\", \"\", COUNTIFS(ToDoList!$B:$B, $A145, ToDoList!$R:$R, G$2))","v":""},{"$f":"IF($A145 = \"\", \"\", COUNTIFS(ToDoList!$B:$B, $A145, ToDoList!$R:$R, H$2))","v":""},{"$f":"IF($A145 = \"\", \"\", COUNTIFS(ToDoList!$B:$B, $A145, ToDoList!$R:$R, I$2))","v":""},{"$f":"IF($A145 = \"\", \"\", COUNTIFS(ToDoList!$B:$B, $A145, ToDoList!$R:$R, J$2))","v":""}]
[null,{"$f":"IF($A146 = \"\", \"\", COUNTIFS(ToDoList!$B:$B, $A146, ToDoList!$R:$R, B$2))","v":""},{"$f":"IF($A146 = \"\", \"\", COUNTIFS(ToDoList!$B:$B, $A146, ToDoList!$R:$R, C$2))","v":""},{"$f":"IF($A146 = \"\", \"\", COUNTIFS(ToDoList!$B:$B, $A146, ToDoList!$R:$R, D$2))","v":""},{"$f":"IF($A146 = \"\", \"\", COUNTIFS(ToDoList!$B:$B, $A146, ToDoList!$R:$R, E$2))","v":""},{"$f":"IF($A146 = \"\", \"\", COUNTIFS(ToDoList!$B:$B, $A146, ToDoList!$R:$R, F$2))","v":""},{"$f":"IF($A146 = \"\", \"\", COUNTIFS(ToDoList!$B:$B, $A146, ToDoList!$R:$R, G$2))","v":""},{"$f":"IF($A146 = \"\", \"\", COUNTIFS(ToDoList!$B:$B, $A146, ToDoList!$R:$R, H$2))","v":""},{"$f":"IF($A146 = \"\", \"\", COUNTIFS(ToDoList!$B:$B, $A146, ToDoList!$R:$R, I$2))","v":""},{"$f":"IF($A146 = \"\", \"\", COUNTIFS(ToDoList!$B:$B, $A146, ToDoList!$R:$R, J$2))","v":""}]
[null,{"$f":"IF($A147 = \"\", \"\", COUNTIFS(ToDoList!$B:$B, $A147, ToDoList!$R:$R, B$2))","v":""},{"$f":"IF($A147 = \"\", \"\", COUNTIFS(ToDoList!$B:$B, $A147, ToDoList!$R:$R, C$2))","v":""},{"$f":"IF($A147 = \"\", \"\", COUNTIFS(ToDoList!$B:$B, $A147, ToDoList!$R:$R, D$2))","v":""},{"$f":"IF($A147 = \"\", \"\", COUNTIFS(ToDoList!$B:$B, $A147, ToDoList!$R:$R, E$2))","v":""},{"$f":"IF($A147 = \"\", \"\", COUNTIFS(ToDoList!$B:$B, $A147, ToDoList!$R:$R, F$2))","v":""},{"$f":"IF($A147 = \"\", \"\", COUNTIFS(ToDoList!$B:$B, $A147, ToDoList!$R:$R, G$2))","v":""},{"$f":"IF($A147 = \"\", \"\", COUNTIFS(ToDoList!$B:$B, $A147, ToDoList!$R:$R, H$2))","v":""},{"$f":"IF($A147 = \"\", \"\", COUNTIFS(ToDoList!$B:$B, $A147, ToDoList!$R:$R, I$2))","v":""},{"$f":"IF($A147 = \"\", \"\", COUNTIFS(ToDoList!$B:$B, $A147, ToDoList!$R:$R, J$2))","v":""}]
[null,{"$f":"IF($A148 = \"\", \"\", COUNTIFS(ToDoList!$B:$B, $A148, ToDoList!$R:$R, B$2))","v":""},{"$f":"IF($A148 = \"\", \"\", COUNTIFS(ToDoList!$B:$B, $A148, ToDoList!$R:$R, C$2))","v":""},{"$f":"IF($A148 = \"\", \"\", COUNTIFS(ToDoList!$B:$B, $A148, ToDoList!$R:$R, D$2))","v":""},{"$f":"IF($A148 = \"\", \"\", COUNTIFS(ToDoList!$B:$B, $A148, ToDoList!$R:$R, E$2))","v":""},{"$f":"IF($A148 = \"\", \"\", COUNTIFS(ToDoList!$B:$B, $A148, ToDoList!$R:$R, F$2))","v":""},{"$f":"IF($A148 = \"\", \"\", COUNTIFS(ToDoList!$B:$B, $A148, ToDoList!$R:$R, G$2))","v":""},{"$f":"IF($A148 = \"\", \"\", COUNTIFS(ToDoList!$B:$B, $A148, ToDoList!$R:$R, H$2))","v":""},{"$f":"IF($A148 = \"\", \"\", COUNTIFS(ToDoList!$B:$B, $A148, ToDoList!$R:$R, I$2))","v":""},{"$f":"IF($A148 = \"\", \"\", COUNTIFS(ToDoList!$B:$B, $A148, ToDoList!$R:$R, J$2))","v":""}]
[null,{"$f":"IF($A149 = \"\", \"\", COUNTIFS(ToDoList!$B:$B, $A149, ToDoList!$R:$R, B$2))","v":""},{"$f":"IF($A149 = \"\", \"\", COUNTIFS(ToDoList!$B:$B, $A149, ToDoList!$R:$R, C$2))","v":""},{"$f":"IF($A149 = \"\", \"\", COUNTIFS(ToDoList!$B:$B, $A149, ToDoList!$R:$R, D$2))","v":""},{"$f":"IF($A149 = \"\", \"\", COUNTIFS(ToDoList!$B:$B, $A149, ToDoList!$R:$R, E$2))","v":""},{"$f":"IF($A149 = \"\", \"\", COUNTIFS(ToDoList!$B:$B, $A149, ToDoList!$R:$R, F$2))","v":""},{"$f":"IF($A149 = \"\", \"\", COUNTIFS(ToDoList!$B:$B, $A149, ToDoList!$R:$R, G$2))","v":""},{"$f":"IF($A149 = \"\", \"\", COUNTIFS(ToDoList!$B:$B, $A149, ToDoList!$R:$R, H$2))","v":""},{"$f":"IF($A149 = \"\", \"\", COUNTIFS(ToDoList!$B:$B, $A149, ToDoList!$R:$R, I$2))","v":""},{"$f":"IF($A149 = \"\", \"\", COUNTIFS(ToDoList!$B:$B, $A149, ToDoList!$R:$R, J$2))","v":""}]
[null,{"$f":"IF($A150 = \"\", \"\", COUNTIFS(ToDoList!$B:$B, $A150, ToDoList!$R:$R, B$2))","v":""},{"$f":"IF($A150 = \"\", \"\", COUNTIFS(ToDoList!$B:$B, $A150, ToDoList!$R:$R, C$2))","v":""},{"$f":"IF($A150 = \"\", \"\", COUNTIFS(ToDoList!$B:$B, $A150, ToDoList!$R:$R, D$2))","v":""},{"$f":"IF($A150 = \"\", \"\", COUNTIFS(ToDoList!$B:$B, $A150, ToDoList!$R:$R, E$2))","v":""},{"$f":"IF($A150 = \"\", \"\", COUNTIFS(ToDoList!$B:$B, $A150, ToDoList!$R:$R, F$2))","v":""},{"$f":"IF($A150 = \"\", \"\", COUNTIFS(ToDoList!$B:$B, $A150, ToDoList!$R:$R, G$2))","v":""},{"$f":"IF($A150 = \"\", \"\", COUNTIFS(ToDoList!$B:$B, $A150, ToDoList!$R:$R, H$2))","v":""},{"$f":"IF($A150 = \"\", \"\", COUNTIFS(ToDoList!$B:$B, $A150, ToDoList!$R:$R, I$2))","v":""},{"$f":"IF($A150 = \"\", \"\", COUNTIFS(ToDoList!$B:$B, $A150, ToDoList!$R:$R, J$2))","v":""}]
[null,{"$f":"IF($A151 = \"\", \"\", COUNTIFS(ToDoList!$B:$B, $A151, ToDoList!$R:$R, B$2))","v":""},{"$f":"IF($A151 = \"\", \"\", COUNTIFS(ToDoList!$B:$B, $A151, ToDoList!$R:$R, C$2))","v":""},{"$f":"IF($A151 = \"\", \"\", COUNTIFS(ToDoList!$B:$B, $A151, ToDoList!$R:$R, D$2))","v":""},{"$f":"IF($A151 = \"\", \"\", COUNTIFS(ToDoList!$B:$B, $A151, ToDoList!$R:$R, E$2))","v":""},{"$f":"IF($A151 = \"\", \"\", COUNTIFS(ToDoList!$B:$B, $A151, ToDoList!$R:$R, F$2))","v":""},{"$f":"IF($A151 = \"\", \"\", COUNTIFS(ToDoList!$B:$B, $A151, ToDoList!$R:$R, G$2))","v":""},{"$f":"IF($A151 = \"\", \"\", COUNTIFS(ToDoList!$B:$B, $A151, ToDoList!$R:$R, H$2))","v":""},{"$f":"IF($A151 = \"\", \"\", COUNTIFS(ToDoList!$B:$B, $A151, ToDoList!$R:$R, I$2))","v":""},{"$f":"IF($A151 = \"\", \"\", COUNTIFS(ToDoList!$B:$B, $A151, ToDoList!$R:$R, J$2))","v":""}]
[null,{"$f":"IF($A152 = \"\", \"\", COUNTIFS(ToDoList!$B:$B, $A152, ToDoList!$R:$R, B$2))","v":""},{"$f":"IF($A152 = \"\", \"\", COUNTIFS(ToDoList!$B:$B, $A152, ToDoList!$R:$R, C$2))","v":""},{"$f":"IF($A152 = \"\", \"\", COUNTIFS(ToDoList!$B:$B, $A152, ToDoList!$R:$R, D$2))","v":""},{"$f":"IF($A152 = \"\", \"\", COUNTIFS(ToDoList!$B:$B, $A152, ToDoList!$R:$R, E$2))","v":""},{"$f":"IF($A152 = \"\", \"\", COUNTIFS(ToDoList!$B:$B, $A152, ToDoList!$R:$R, F$2))","v":""},{"$f":"IF($A152 = \"\", \"\", COUNTIFS(ToDoList!$B:$B, $A152, ToDoList!$R:$R, G$2))","v":""},{"$f":"IF($A152 = \"\", \"\", COUNTIFS(ToDoList!$B:$B, $A152, ToDoList!$R:$R, H$2))","v":""},{"$f":"IF($A152 = \"\", \"\", COUNTIFS(ToDoList!$B:$B, $A152, ToDoList!$R:$R, I$2))","v":""},{"$f":"IF($A152 = \"\", \"\", COUNTIFS(ToDoList!$B:$B, $A152, ToDoList!$R:$R, J$2))","v":""}]
[null,{"$f":"IF($A153 = \"\", \"\", COUNTIFS(ToDoList!$B:$B, $A153, ToDoList!$R:$R, B$2))","v":""},{"$f":"IF($A153 = \"\", \"\", COUNTIFS(ToDoList!$B:$B, $A153, ToDoList!$R:$R, C$2))","v":""},{"$f":"IF($A153 = \"\", \"\", COUNTIFS(ToDoList!$B:$B, $A153, ToDoList!$R:$R, D$2))","v":""},{"$f":"IF($A153 = \"\", \"\", COUNTIFS(ToDoList!$B:$B, $A153, ToDoList!$R:$R, E$2))","v":""},{"$f":"IF($A153 = \"\", \"\", COUNTIFS(ToDoList!$B:$B, $A153, ToDoList!$R:$R, F$2))","v":""},{"$f":"IF($A153 = \"\", \"\", COUNTIFS(ToDoList!$B:$B, $A153, ToDoList!$R:$R, G$2))","v":""},{"$f":"IF($A153 = \"\", \"\", COUNTIFS(ToDoList!$B:$B, $A153, ToDoList!$R:$R, H$2))","v":""},{"$f":"IF($A153 = \"\", \"\", COUNTIFS(ToDoList!$B:$B, $A153, ToDoList!$R:$R, I$2))","v":""},{"$f":"IF($A153 = \"\", \"\", COUNTIFS(ToDoList!$B:$B, $A153, ToDoList!$R:$R, J$2))","v":""}]
[null,{"$f":"IF($A154 = \"\", \"\", COUNTIFS(ToDoList!$B:$B, $A154, ToDoList!$R:$R, B$2))","v":""},{"$f":"IF($A154 = \"\", \"\", COUNTIFS(ToDoList!$B:$B, $A154, ToDoList!$R:$R, C$2))","v":""},{"$f":"IF($A154 = \"\", \"\", COUNTIFS(ToDoList!$B:$B, $A154, ToDoList!$R:$R, D$2))","v":""},{"$f":"IF($A154 = \"\", \"\", COUNTIFS(ToDoList!$B:$B, $A154, ToDoList!$R:$R, E$2))","v":""},{"$f":"IF($A154 = \"\", \"\", COUNTIFS(ToDoList!$B:$B, $A154, ToDoList!$R:$R, F$2))","v":""},{"$f":"IF($A154 = \"\", \"\", COUNTIFS(ToDoList!$B:$B, $A154, ToDoList!$R:$R, G$2))","v":""},{"$f":"IF($A154 = \"\", \"\", COUNTIFS(ToDoList!$B:$B, $A154, ToDoList!$R:$R, H$2))","v":""},{"$f":"IF($A154 = \"\", \"\", COUNTIFS(ToDoList!$B:$B, $A154, ToDoList!$R:$R, I$2))","v":""},{"$f":"IF($A154 = \"\", \"\", COUNTIFS(ToDoList!$B:$B, $A154, ToDoList!$R:$R, J$2))","v":""}]
[null,{"$f":"IF($A155 = \"\", \"\", COUNTIFS(ToDoList!$B:$B, $A155, ToDoList!$R:$R, B$2))","v":""},{"$f":"IF($A155 = \"\", \"\", COUNTIFS(ToDoList!$B:$B, $A155, ToDoList!$R:$R, C$2))","v":""},{"$f":"IF($A155 = \"\", \"\", COUNTIFS(ToDoList!$B:$B, $A155, ToDoList!$R:$R, D$2))","v":""},{"$f":"IF($A155 = \"\", \"\", COUNTIFS(ToDoList!$B:$B, $A155, ToDoList!$R:$R, E$2))","v":""},{"$f":"IF($A155 = \"\", \"\", COUNTIFS(ToDoList!$B:$B, $A155, ToDoList!$R:$R, F$2))","v":""},{"$f":"IF($A155 = \"\", \"\", COUNTIFS(ToDoList!$B:$B, $A155, ToDoList!$R:$R, G$2))","v":""},{"$f":"IF($A155 = \"\", \"\", COUNTIFS(ToDoList!$B:$B, $A155, ToDoList!$R:$R, H$2))","v":""},{"$f":"IF($A155 = \"\", \"\", COUNTIFS(ToDoList!$B:$B, $A155, ToDoList!$R:$R, I$2))","v":""},{"$f":"IF($A155 = \"\", \"\", COUNTIFS(ToDoList!$B:$B, $A155, ToDoList!$R:$R, J$2))","v":""}]
[null,{"$f":"IF($A156 = \"\", \"\", COUNTIFS(ToDoList!$B:$B, $A156, ToDoList!$R:$R, B$2))","v":""},{"$f":"IF($A156 = \"\", \"\", COUNTIFS(ToDoList!$B:$B, $A156, ToDoList!$R:$R, C$2))","v":""},{"$f":"IF($A156 = \"\", \"\", COUNTIFS(ToDoList!$B:$B, $A156, ToDoList!$R:$R, D$2))","v":""},{"$f":"IF($A156 = \"\", \"\", COUNTIFS(ToDoList!$B:$B, $A156, ToDoList!$R:$R, E$2))","v":""},{"$f":"IF($A156 = \"\", \"\", COUNTIFS(ToDoList!$B:$B, $A156, ToDoList!$R:$R, F$2))","v":""},{"$f":"IF($A156 = \"\", \"\", COUNTIFS(ToDoList!$B:$B, $A156, ToDoList!$R:$R, G$2))","v":""},{"$f":"IF($A156 = \"\", \"\", COUNTIFS(ToDoList!$B:$B, $A156, ToDoList!$R:$R, H$2))","v":""},{"$f":"IF($A156 = \"\", \"\", COUNTIFS(ToDoList!$B:$B, $A156, ToDoList!$R:$R, I$2))","v":""},{"$f":"IF($A156 = \"\", \"\", COUNTIFS(ToDoList!$B:$B, $A156, ToDoList!$R:$R, J$2))","v":""}]
[null,{"$f":"IF($A157 = \"\", \"\", COUNTIFS(ToDoList!$B:$B, $A157, ToDoList!$R:$R, B$2))","v":""},{"$f":"IF($A157 = \"\", \"\", COUNTIFS(ToDoList!$B:$B, $A157, ToDoList!$R:$R, C$2))","v":""},{"$f":"IF($A157 = \"\", \"\", COUNTIFS(ToDoList!$B:$B, $A157, ToDoList!$R:$R, D$2))","v":""},{"$f":"IF($A157 = \"\", \"\", COUNTIFS(ToDoList!$B:$B, $A157, ToDoList!$R:$R, E$2))","v":""},{"$f":"IF($A157 = \"\", \"\", COUNTIFS(ToDoList!$B:$B, $A157, ToDoList!$R:$R, F$2))","v":""},{"$f":"IF($A157 = \"\", \"\", COUNTIFS(ToDoList!$B:$B, $A157, ToDoList!$R:$R, G$2))","v":""},{"$f":"IF($A157 = \"\", \"\", COUNTIFS(ToDoList!$B:$B, $A157, ToDoList!$R:$R, H$2))","v":""},{"$f":"IF($A157 = \"\", \"\", COUNTIFS(ToDoList!$B:$B, $A157, ToDoList!$R:$R, I$2))","v":""},{"$f":"IF($A157 = \"\", \"\", COUNTIFS(ToDoList!$B:$B, $A157, ToDoList!$R:$R, J$2))","v":""}]
[null,{"$f":"IF($A158 = \"\", \"\", COUNTIFS(ToDoList!$B:$B, $A158, ToDoList!$R:$R, B$2))","v":""},{"$f":"IF($A158 = \"\", \"\", COUNTIFS(ToDoList!$B:$B, $A158, ToDoList!$R:$R, C$2))","v":""},{"$f":"IF($A158 = \"\", \"\", COUNTIFS(ToDoList!$B:$B, $A158, ToDoList!$R:$R, D$2))","v":""},{"$f":"IF($A158 = \"\", \"\", COUNTIFS(ToDoList!$B:$B, $A158, ToDoList!$R:$R, E$2))","v":""},{"$f":"IF($A158 = \"\", \"\", COUNTIFS(ToDoList!$B:$B, $A158, ToDoList!$R:$R, F$2))","v":""},{"$f":"IF($A158 = \"\", \"\", COUNTIFS(ToDoList!$B:$B, $A158, ToDoList!$R:$R, G$2))","v":""},{"$f":"IF($A158 = \"\", \"\", COUNTIFS(ToDoList!$B:$B, $A158, ToDoList!$R:$R, H$2))","v":""},{"$f":"IF($A158 = \"\", \"\", COUNTIFS(ToDoList!$B:$B, $A158, ToDoList!$R:$R, I$2))","v":""},{"$f":"IF($A158 = \"\", \"\", COUNTIFS(ToDoList!$B:$B, $A158, ToDoList!$R:$R, J$2))","v":""}]
[null,{"$f":"IF($A159 = \"\", \"\", COUNTIFS(ToDoList!$B:$B, $A159, ToDoList!$R:$R, B$2))","v":""},{"$f":"IF($A159 = \"\", \"\", COUNTIFS(ToDoList!$B:$B, $A159, ToDoList!$R:$R, C$2))","v":""},{"$f":"IF($A159 = \"\", \"\", COUNTIFS(ToDoList!$B:$B, $A159, ToDoList!$R:$R, D$2))","v":""},{"$f":"IF($A159 = \"\", \"\", COUNTIFS(ToDoList!$B:$B, $A159, ToDoList!$R:$R, E$2))","v":""},{"$f":"IF($A159 = \"\", \"\", COUNTIFS(ToDoList!$B:$B, $A159, ToDoList!$R:$R, F$2))","v":""},{"$f":"IF($A159 = \"\", \"\", COUNTIFS(ToDoList!$B:$B, $A159, ToDoList!$R:$R, G$2))","v":""},{"$f":"IF($A159 = \"\", \"\", COUNTIFS(ToDoList!$B:$B, $A159, ToDoList!$R:$R, H$2))","v":""},{"$f":"IF($A159 = \"\", \"\", COUNTIFS(ToDoList!$B:$B, $A159, ToDoList!$R:$R, I$2))","v":""},{"$f":"IF($A159 = \"\", \"\", COUNTIFS(ToDoList!$B:$B, $A159, ToDoList!$R:$R, J$2))","v":""}]
[null,{"$f":"IF($A160 = \"\", \"\", COUNTIFS(ToDoList!$B:$B, $A160, ToDoList!$R:$R, B$2))","v":""},{"$f":"IF($A160 = \"\", \"\", COUNTIFS(ToDoList!$B:$B, $A160, ToDoList!$R:$R, C$2))","v":""},{"$f":"IF($A160 = \"\", \"\", COUNTIFS(ToDoList!$B:$B, $A160, ToDoList!$R:$R, D$2))","v":""},{"$f":"IF($A160 = \"\", \"\", COUNTIFS(ToDoList!$B:$B, $A160, ToDoList!$R:$R, E$2))","v":""},{"$f":"IF($A160 = \"\", \"\", COUNTIFS(ToDoList!$B:$B, $A160, ToDoList!$R:$R, F$2))","v":""},{"$f":"IF($A160 = \"\", \"\", COUNTIFS(ToDoList!$B:$B, $A160, ToDoList!$R:$R, G$2))","v":""},{"$f":"IF($A160 = \"\", \"\", COUNTIFS(ToDoList!$B:$B, $A160, ToDoList!$R:$R, H$2))","v":""},{"$f":"IF($A160 = \"\", \"\", COUNTIFS(ToDoList!$B:$B, $A160, ToDoList!$R:$R, I$2))","v":""},{"$f":"IF($A160 = \"\", \"\", COUNTIFS(ToDoList!$B:$B, $A160, ToDoList!$R:$R, J$2))","v":""}]
[null,{"$f":"IF($A161 = \"\", \"\", COUNTIFS(ToDoList!$B:$B, $A161, ToDoList!$R:$R, B$2))","v":""},{"$f":"IF($A161 = \"\", \"\", COUNTIFS(ToDoList!$B:$B, $A161, ToDoList!$R:$R, C$2))","v":""},{"$f":"IF($A161 = \"\", \"\", COUNTIFS(ToDoList!$B:$B, $A161, ToDoList!$R:$R, D$2))","v":""},{"$f":"IF($A161 = \"\", \"\", COUNTIFS(ToDoList!$B:$B, $A161, ToDoList!$R:$R, E$2))","v":""},{"$f":"IF($A161 = \"\", \"\", COUNTIFS(ToDoList!$B:$B, $A161, ToDoList!$R:$R, F$2))","v":""},{"$f":"IF($A161 = \"\", \"\", COUNTIFS(ToDoList!$B:$B, $A161, ToDoList!$R:$R, G$2))","v":""},{"$f":"IF($A161 = \"\", \"\", COUNTIFS(ToDoList!$B:$B, $A161, ToDoList!$R:$R, H$2))","v":""},{"$f":"IF($A161 = \"\", \"\", COUNTIFS(ToDoList!$B:$B, $A161, ToDoList!$R:$R, I$2))","v":""},{"$f":"IF($A161 = \"\", \"\", COUNTIFS(ToDoList!$B:$B, $A161, ToDoList!$R:$R, J$2))","v":""}]
[null,{"$f":"IF($A162 = \"\", \"\", COUNTIFS(ToDoList!$B:$B, $A162, ToDoList!$R:$R, B$2))","v":""},{"$f":"IF($A162 = \"\", \"\", COUNTIFS(ToDoList!$B:$B, $A162, ToDoList!$R:$R, C$2))","v":""},{"$f":"IF($A162 = \"\", \"\", COUNTIFS(ToDoList!$B:$B, $A162, ToDoList!$R:$R, D$2))","v":""},{"$f":"IF($A162 = \"\", \"\", COUNTIFS(ToDoList!$B:$B, $A162, ToDoList!$R:$R, E$2))","v":""},{"$f":"IF($A162 = \"\", \"\", COUNTIFS(ToDoList!$B:$B, $A162, ToDoList!$R:$R, F$2))","v":""},{"$f":"IF($A162 = \"\", \"\", COUNTIFS(ToDoList!$B:$B, $A162, ToDoList!$R:$R, G$2))","v":""},{"$f":"IF($A162 = \"\", \"\", COUNTIFS(ToDoList!$B:$B, $A162, ToDoList!$R:$R, H$2))","v":""},{"$f":"IF($A162 = \"\", \"\", COUNTIFS(ToDoList!$B:$B, $A162, ToDoList!$R:$R, I$2))","v":""},{"$f":"IF($A162 = \"\", \"\", COUNTIFS(ToDoList!$B:$B, $A162, ToDoList!$R:$R, J$2))","v":""}]
[null,{"$f":"IF($A163 = \"\", \"\", COUNTIFS(ToDoList!$B:$B, $A163, ToDoList!$R:$R, B$2))","v":""},{"$f":"IF($A163 = \"\", \"\", COUNTIFS(ToDoList!$B:$B, $A163, ToDoList!$R:$R, C$2))","v":""},{"$f":"IF($A163 = \"\", \"\", COUNTIFS(ToDoList!$B:$B, $A163, ToDoList!$R:$R, D$2))","v":""},{"$f":"IF($A163 = \"\", \"\", COUNTIFS(ToDoList!$B:$B, $A163, ToDoList!$R:$R, E$2))","v":""},{"$f":"IF($A163 = \"\", \"\", COUNTIFS(ToDoList!$B:$B, $A163, ToDoList!$R:$R, F$2))","v":""},{"$f":"IF($A163 = \"\", \"\", COUNTIFS(ToDoList!$B:$B, $A163, ToDoList!$R:$R, G$2))","v":""},{"$f":"IF($A163 = \"\", \"\", COUNTIFS(ToDoList!$B:$B, $A163, ToDoList!$R:$R, H$2))","v":""},{"$f":"IF($A163 = \"\", \"\", COUNTIFS(ToDoList!$B:$B, $A163, ToDoList!$R:$R, I$2))","v":""},{"$f":"IF($A163 = \"\", \"\", COUNTIFS(ToDoList!$B:$B, $A163, ToDoList!$R:$R, J$2))","v":""}]
[null,{"$f":"IF($A164 = \"\", \"\", COUNTIFS(ToDoList!$B:$B, $A164, ToDoList!$R:$R, B$2))","v":""},{"$f":"IF($A164 = \"\", \"\", COUNTIFS(ToDoList!$B:$B, $A164, ToDoList!$R:$R, C$2))","v":""},{"$f":"IF($A164 = \"\", \"\", COUNTIFS(ToDoList!$B:$B, $A164, ToDoList!$R:$R, D$2))","v":""},{"$f":"IF($A164 = \"\", \"\", COUNTIFS(ToDoList!$B:$B, $A164, ToDoList!$R:$R, E$2))","v":""},{"$f":"IF($A164 = \"\", \"\", COUNTIFS(ToDoList!$B:$B, $A164, ToDoList!$R:$R, F$2))","v":""},{"$f":"IF($A164 = \"\", \"\", COUNTIFS(ToDoList!$B:$B, $A164, ToDoList!$R:$R, G$2))","v":""},{"$f":"IF($A164 = \"\", \"\", COUNTIFS(ToDoList!$B:$B, $A164, ToDoList!$R:$R, H$2))","v":""},{"$f":"IF($A164 = \"\", \"\", COUNTIFS(ToDoList!$B:$B, $A164, ToDoList!$R:$R, I$2))","v":""},{"$f":"IF($A164 = \"\", \"\", COUNTIFS(ToDoList!$B:$B, $A164, ToDoList!$R:$R, J$2))","v":""}]
[null,{"$f":"IF($A165 = \"\", \"\", COUNTIFS(ToDoList!$B:$B, $A165, ToDoList!$R:$R, B$2))","v":""},{"$f":"IF($A165 = \"\", \"\", COUNTIFS(ToDoList!$B:$B, $A165, ToDoList!$R:$R, C$2))","v":""},{"$f":"IF($A165 = \"\", \"\", COUNTIFS(ToDoList!$B:$B, $A165, ToDoList!$R:$R, D$2))","v":""},{"$f":"IF($A165 = \"\", \"\", COUNTIFS(ToDoList!$B:$B, $A165, ToDoList!$R:$R, E$2))","v":""},{"$f":"IF($A165 = \"\", \"\", COUNTIFS(ToDoList!$B:$B, $A165, ToDoList!$R:$R, F$2))","v":""},{"$f":"IF($A165 = \"\", \"\", COUNTIFS(ToDoList!$B:$B, $A165, ToDoList!$R:$R, G$2))","v":""},{"$f":"IF($A165 = \"\", \"\", COUNTIFS(ToDoList!$B:$B, $A165, ToDoList!$R:$R, H$2))","v":""},{"$f":"IF($A165 = \"\", \"\", COUNTIFS(ToDoList!$B:$B, $A165, ToDoList!$R:$R, I$2))","v":""},{"$f":"IF($A165 = \"\", \"\", COUNTIFS(ToDoList!$B:$B, $A165, ToDoList!$R:$R, J$2))","v":""}]
[null,{"$f":"IF($A166 = \"\", \"\", COUNTIFS(ToDoList!$B:$B, $A166, ToDoList!$R:$R, B$2))","v":""},{"$f":"IF($A166 = \"\", \"\", COUNTIFS(ToDoList!$B:$B, $A166, ToDoList!$R:$R, C$2))","v":""},{"$f":"IF($A166 = \"\", \"\", COUNTIFS(ToDoList!$B:$B, $A166, ToDoList!$R:$R, D$2))","v":""},{"$f":"IF($A166 = \"\", \"\", COUNTIFS(ToDoList!$B:$B, $A166, ToDoList!$R:$R, E$2))","v":""},{"$f":"IF($A166 = \"\", \"\", COUNTIFS(ToDoList!$B:$B, $A166, ToDoList!$R:$R, F$2))","v":""},{"$f":"IF($A166 = \"\", \"\", COUNTIFS(ToDoList!$B:$B, $A166, ToDoList!$R:$R, G$2))","v":""},{"$f":"IF($A166 = \"\", \"\", COUNTIFS(ToDoList!$B:$B, $A166, ToDoList!$R:$R, H$2))","v":""},{"$f":"IF($A166 = \"\", \"\", COUNTIFS(ToDoList!$B:$B, $A166, ToDoList!$R:$R, I$2))","v":""},{"$f":"IF($A166 = \"\", \"\", COUNTIFS(ToDoList!$B:$B, $A166, ToDoList!$R:$R, J$2))","v":""}]
[null,{"$f":"IF($A167 = \"\", \"\", COUNTIFS(ToDoList!$B:$B, $A167, ToDoList!$R:$R, B$2))","v":""},{"$f":"IF($A167 = \"\", \"\", COUNTIFS(ToDoList!$B:$B, $A167, ToDoList!$R:$R, C$2))","v":""},{"$f":"IF($A167 = \"\", \"\", COUNTIFS(ToDoList!$B:$B, $A167, ToDoList!$R:$R, D$2))","v":""},{"$f":"IF($A167 = \"\", \"\", COUNTIFS(ToDoList!$B:$B, $A167, ToDoList!$R:$R, E$2))","v":""},{"$f":"IF($A167 = \"\", \"\", COUNTIFS(ToDoList!$B:$B, $A167, ToDoList!$R:$R, F$2))","v":""},{"$f":"IF($A167 = \"\", \"\", COUNTIFS(ToDoList!$B:$B, $A167, ToDoList!$R:$R, G$2))","v":""},{"$f":"IF($A167 = \"\", \"\", COUNTIFS(ToDoList!$B:$B, $A167, ToDoList!$R:$R, H$2))","v":""},{"$f":"IF($A167 = \"\", \"\", COUNTIFS(ToDoList!$B:$B, $A167, ToDoList!$R:$R, I$2))","v":""},{"$f":"IF($A167 = \"\", \"\", COUNTIFS(ToDoList!$B:$B, $A167, ToDoList!$R:$R, J$2))","v":""}]
[null,{"$f":"IF($A168 = \"\", \"\", COUNTIFS(ToDoList!$B:$B, $A168, ToDoList!$R:$R, B$2))","v":""},{"$f":"IF($A168 = \"\", \"\", COUNTIFS(ToDoList!$B:$B, $A168, ToDoList!$R:$R, C$2))","v":""},{"$f":"IF($A168 = \"\", \"\", COUNTIFS(ToDoList!$B:$B, $A168, ToDoList!$R:$R, D$2))","v":""},{"$f":"IF($A168 = \"\", \"\", COUNTIFS(ToDoList!$B:$B, $A168, ToDoList!$R:$R, E$2))","v":""},{"$f":"IF($A168 = \"\", \"\", COUNTIFS(ToDoList!$B:$B, $A168, ToDoList!$R:$R, F$2))","v":""},{"$f":"IF($A168 = \"\", \"\", COUNTIFS(ToDoList!$B:$B, $A168, ToDoList!$R:$R, G$2))","v":""},{"$f":"IF($A168 = \"\", \"\", COUNTIFS(ToDoList!$B:$B, $A168, ToDoList!$R:$R, H$2))","v":""},{"$f":"IF($A168 = \"\", \"\", COUNTIFS(ToDoList!$B:$B, $A168, ToDoList!$R:$R, I$2))","v":""},{"$f":"IF($A168 = \"\", \"\", COUNTIFS(ToDoList!$B:$B, $A168, ToDoList!$R:$R, J$2))","v":""}]
[null,{"$f":"IF($A169 = \"\", \"\", COUNTIFS(ToDoList!$B:$B, $A169, ToDoList!$R:$R, B$2))","v":""},{"$f":"IF($A169 = \"\", \"\", COUNTIFS(ToDoList!$B:$B, $A169, ToDoList!$R:$R, C$2))","v":""},{"$f":"IF($A169 = \"\", \"\", COUNTIFS(ToDoList!$B:$B, $A169, ToDoList!$R:$R, D$2))","v":""},{"$f":"IF($A169 = \"\", \"\", COUNTIFS(ToDoList!$B:$B, $A169, ToDoList!$R:$R, E$2))","v":""},{"$f":"IF($A169 = \"\", \"\", COUNTIFS(ToDoList!$B:$B, $A169, ToDoList!$R:$R, F$2))","v":""},{"$f":"IF($A169 = \"\", \"\", COUNTIFS(ToDoList!$B:$B, $A169, ToDoList!$R:$R, G$2))","v":""},{"$f":"IF($A169 = \"\", \"\", COUNTIFS(ToDoList!$B:$B, $A169, ToDoList!$R:$R, H$2))","v":""},{"$f":"IF($A169 = \"\", \"\", COUNTIFS(ToDoList!$B:$B, $A169, ToDoList!$R:$R, I$2))","v":""},{"$f":"IF($A169 = \"\", \"\", COUNTIFS(ToDoList!$B:$B, $A169, ToDoList!$R:$R, J$2))","v":""}]
[null,{"$f":"IF($A170 = \"\", \"\", COUNTIFS(ToDoList!$B:$B, $A170, ToDoList!$R:$R, B$2))","v":""},{"$f":"IF($A170 = \"\", \"\", COUNTIFS(ToDoList!$B:$B, $A170, ToDoList!$R:$R, C$2))","v":""},{"$f":"IF($A170 = \"\", \"\", COUNTIFS(ToDoList!$B:$B, $A170, ToDoList!$R:$R, D$2))","v":""},{"$f":"IF($A170 = \"\", \"\", COUNTIFS(ToDoList!$B:$B, $A170, ToDoList!$R:$R, E$2))","v":""},{"$f":"IF($A170 = \"\", \"\", COUNTIFS(ToDoList!$B:$B, $A170, ToDoList!$R:$R, F$2))","v":""},{"$f":"IF($A170 = \"\", \"\", COUNTIFS(ToDoList!$B:$B, $A170, ToDoList!$R:$R, G$2))","v":""},{"$f":"IF($A170 = \"\", \"\", COUNTIFS(ToDoList!$B:$B, $A170, ToDoList!$R:$R, H$2))","v":""},{"$f":"IF($A170 = \"\", \"\", COUNTIFS(ToDoList!$B:$B, $A170, ToDoList!$R:$R, I$2))","v":""},{"$f":"IF($A170 = \"\", \"\", COUNTIFS(ToDoList!$B:$B, $A170, ToDoList!$R:$R, J$2))","v":""}]
[null,{"$f":"IF($A171 = \"\", \"\", COUNTIFS(ToDoList!$B:$B, $A171, ToDoList!$R:$R, B$2))","v":""},{"$f":"IF($A171 = \"\", \"\", COUNTIFS(ToDoList!$B:$B, $A171, ToDoList!$R:$R, C$2))","v":""},{"$f":"IF($A171 = \"\", \"\", COUNTIFS(ToDoList!$B:$B, $A171, ToDoList!$R:$R, D$2))","v":""},{"$f":"IF($A171 = \"\", \"\", COUNTIFS(ToDoList!$B:$B, $A171, ToDoList!$R:$R, E$2))","v":""},{"$f":"IF($A171 = \"\", \"\", COUNTIFS(ToDoList!$B:$B, $A171, ToDoList!$R:$R, F$2))","v":""},{"$f":"IF($A171 = \"\", \"\", COUNTIFS(ToDoList!$B:$B, $A171, ToDoList!$R:$R, G$2))","v":""},{"$f":"IF($A171 = \"\", \"\", COUNTIFS(ToDoList!$B:$B, $A171, ToDoList!$R:$R, H$2))","v":""},{"$f":"IF($A171 = \"\", \"\", COUNTIFS(ToDoList!$B:$B, $A171, ToDoList!$R:$R, I$2))","v":""},{"$f":"IF($A171 = \"\", \"\", COUNTIFS(ToDoList!$B:$B, $A171, ToDoList!$R:$R, J$2))","v":""}]
[null,{"$f":"IF($A172 = \"\", \"\", COUNTIFS(ToDoList!$B:$B, $A172, ToDoList!$R:$R, B$2))","v":""},{"$f":"IF($A172 = \"\", \"\", COUNTIFS(ToDoList!$B:$B, $A172, ToDoList!$R:$R, C$2))","v":""},{"$f":"IF($A172 = \"\", \"\", COUNTIFS(ToDoList!$B:$B, $A172, ToDoList!$R:$R, D$2))","v":""},{"$f":"IF($A172 = \"\", \"\", COUNTIFS(ToDoList!$B:$B, $A172, ToDoList!$R:$R, E$2))","v":""},{"$f":"IF($A172 = \"\", \"\", COUNTIFS(ToDoList!$B:$B, $A172, ToDoList!$R:$R, F$2))","v":""},{"$f":"IF($A172 = \"\", \"\", COUNTIFS(ToDoList!$B:$B, $A172, ToDoList!$R:$R, G$2))","v":""},{"$f":"IF($A172 = \"\", \"\", COUNTIFS(ToDoList!$B:$B, $A172, ToDoList!$R:$R, H$2))","v":""},{"$f":"IF($A172 = \"\", \"\", COUNTIFS(ToDoList!$B:$B, $A172, ToDoList!$R:$R, I$2))","v":""},{"$f":"IF($A172 = \"\", \"\", COUNTIFS(ToDoList!$B:$B, $A172, ToDoList!$R:$R, J$2))","v":""}]
[null,{"$f":"IF($A173 = \"\", \"\", COUNTIFS(ToDoList!$B:$B, $A173, ToDoList!$R:$R, B$2))","v":""},{"$f":"IF($A173 = \"\", \"\", COUNTIFS(ToDoList!$B:$B, $A173, ToDoList!$R:$R, C$2))","v":""},{"$f":"IF($A173 = \"\", \"\", COUNTIFS(ToDoList!$B:$B, $A173, ToDoList!$R:$R, D$2))","v":""},{"$f":"IF($A173 = \"\", \"\", COUNTIFS(ToDoList!$B:$B, $A173, ToDoList!$R:$R, E$2))","v":""},{"$f":"IF($A173 = \"\", \"\", COUNTIFS(ToDoList!$B:$B, $A173, ToDoList!$R:$R, F$2))","v":""},{"$f":"IF($A173 = \"\", \"\", COUNTIFS(ToDoList!$B:$B, $A173, ToDoList!$R:$R, G$2))","v":""},{"$f":"IF($A173 = \"\", \"\", COUNTIFS(ToDoList!$B:$B, $A173, ToDoList!$R:$R, H$2))","v":""},{"$f":"IF($A173 = \"\", \"\", COUNTIFS(ToDoList!$B:$B, $A173, ToDoList!$R:$R, I$2))","v":""},{"$f":"IF($A173 = \"\", \"\", COUNTIFS(ToDoList!$B:$B, $A173, ToDoList!$R:$R, J$2))","v":""}]
[null,{"$f":"IF($A174 = \"\", \"\", COUNTIFS(ToDoList!$B:$B, $A174, ToDoList!$R:$R, B$2))","v":""},{"$f":"IF($A174 = \"\", \"\", COUNTIFS(ToDoList!$B:$B, $A174, ToDoList!$R:$R, C$2))","v":""},{"$f":"IF($A174 = \"\", \"\", COUNTIFS(ToDoList!$B:$B, $A174, ToDoList!$R:$R, D$2))","v":""},{"$f":"IF($A174 = \"\", \"\", COUNTIFS(ToDoList!$B:$B, $A174, ToDoList!$R:$R, E$2))","v":""},{"$f":"IF($A174 = \"\", \"\", COUNTIFS(ToDoList!$B:$B, $A174, ToDoList!$R:$R, F$2))","v":""},{"$f":"IF($A174 = \"\", \"\", COUNTIFS(ToDoList!$B:$B, $A174, ToDoList!$R:$R, G$2))","v":""},{"$f":"IF($A174 = \"\", \"\", COUNTIFS(ToDoList!$B:$B, $A174, ToDoList!$R:$R, H$2))","v":""},{"$f":"IF($A174 = \"\", \"\", COUNTIFS(ToDoList!$B:$B, $A174, ToDoList!$R:$R, I$2))","v":""},{"$f":"IF($A174 = \"\", \"\", COUNTIFS(ToDoList!$B:$B, $A174, ToDoList!$R:$R, J$2))","v":""}]
[null,{"$f":"IF($A175 = \"\", \"\", COUNTIFS(ToDoList!$B:$B, $A175, ToDoList!$R:$R, B$2))","v":""},{"$f":"IF($A175 = \"\", \"\", COUNTIFS(ToDoList!$B:$B, $A175, ToDoList!$R:$R, C$2))","v":""},{"$f":"IF($A175 = \"\", \"\", COUNTIFS(ToDoList!$B:$B, $A175, ToDoList!$R:$R, D$2))","v":""},{"$f":"IF($A175 = \"\", \"\", COUNTIFS(ToDoList!$B:$B, $A175, ToDoList!$R:$R, E$2))","v":""},{"$f":"IF($A175 = \"\", \"\", COUNTIFS(ToDoList!$B:$B, $A175, ToDoList!$R:$R, F$2))","v":""},{"$f":"IF($A175 = \"\", \"\", COUNTIFS(ToDoList!$B:$B, $A175, ToDoList!$R:$R, G$2))","v":""},{"$f":"IF($A175 = \"\", \"\", COUNTIFS(ToDoList!$B:$B, $A175, ToDoList!$R:$R, H$2))","v":""},{"$f":"IF($A175 = \"\", \"\", COUNTIFS(ToDoList!$B:$B, $A175, ToDoList!$R:$R, I$2))","v":""},{"$f":"IF($A175 = \"\", \"\", COUNTIFS(ToDoList!$B:$B, $A175, ToDoList!$R:$R, J$2))","v":""}]
[null,{"$f":"IF($A176 = \"\", \"\", COUNTIFS(ToDoList!$B:$B, $A176, ToDoList!$R:$R, B$2))","v":""},{"$f":"IF($A176 = \"\", \"\", COUNTIFS(ToDoList!$B:$B, $A176, ToDoList!$R:$R, C$2))","v":""},{"$f":"IF($A176 = \"\", \"\", COUNTIFS(ToDoList!$B:$B, $A176, ToDoList!$R:$R, D$2))","v":""},{"$f":"IF($A176 = \"\", \"\", COUNTIFS(ToDoList!$B:$B, $A176, ToDoList!$R:$R, E$2))","v":""},{"$f":"IF($A176 = \"\", \"\", COUNTIFS(ToDoList!$B:$B, $A176, ToDoList!$R:$R, F$2))","v":""},{"$f":"IF($A176 = \"\", \"\", COUNTIFS(ToDoList!$B:$B, $A176, ToDoList!$R:$R, G$2))","v":""},{"$f":"IF($A176 = \"\", \"\", COUNTIFS(ToDoList!$B:$B, $A176, ToDoList!$R:$R, H$2))","v":""},{"$f":"IF($A176 = \"\", \"\", COUNTIFS(ToDoList!$B:$B, $A176, ToDoList!$R:$R, I$2))","v":""},{"$f":"IF($A176 = \"\", \"\", COUNTIFS(ToDoList!$B:$B, $A176, ToDoList!$R:$R, J$2))","v":""}]
[null,{"$f":"IF($A177 = \"\", \"\", COUNTIFS(ToDoList!$B:$B, $A177, ToDoList!$R:$R, B$2))","v":""},{"$f":"IF($A177 = \"\", \"\", COUNTIFS(ToDoList!$B:$B, $A177, ToDoList!$R:$R, C$2))","v":""},{"$f":"IF($A177 = \"\", \"\", COUNTIFS(ToDoList!$B:$B, $A177, ToDoList!$R:$R, D$2))","v":""},{"$f":"IF($A177 = \"\", \"\", COUNTIFS(ToDoList!$B:$B, $A177, ToDoList!$R:$R, E$2))","v":""},{"$f":"IF($A177 = \"\", \"\", COUNTIFS(ToDoList!$B:$B, $A177, ToDoList!$R:$R, F$2))","v":""},{"$f":"IF($A177 = \"\", \"\", COUNTIFS(ToDoList!$B:$B, $A177, ToDoList!$R:$R, G$2))","v":""},{"$f":"IF($A177 = \"\", \"\", COUNTIFS(ToDoList!$B:$B, $A177, ToDoList!$R:$R, H$2))","v":""},{"$f":"IF($A177 = \"\", \"\", COUNTIFS(ToDoList!$B:$B, $A177, ToDoList!$R:$R, I$2))","v":""},{"$f":"IF($A177 = \"\", \"\", COUNTIFS(ToDoList!$B:$B, $A177, ToDoList!$R:$R, J$2))","v":""}]
[null,{"$f":"IF($A178 = \"\", \"\", COUNTIFS(ToDoList!$B:$B, $A178, ToDoList!$R:$R, B$2))","v":""},{"$f":"IF($A178 = \"\", \"\", COUNTIFS(ToDoList!$B:$B, $A178, ToDoList!$R:$R, C$2))","v":""},{"$f":"IF($A178 = \"\", \"\", COUNTIFS(ToDoList!$B:$B, $A178, ToDoList!$R:$R, D$2))","v":""},{"$f":"IF($A178 = \"\", \"\", COUNTIFS(ToDoList!$B:$B, $A178, ToDoList!$R:$R, E$2))","v":""},{"$f":"IF($A178 = \"\", \"\", COUNTIFS(ToDoList!$B:$B, $A178, ToDoList!$R:$R, F$2))","v":""},{"$f":"IF($A178 = \"\", \"\", COUNTIFS(ToDoList!$B:$B, $A178, ToDoList!$R:$R, G$2))","v":""},{"$f":"IF($A178 = \"\", \"\", COUNTIFS(ToDoList!$B:$B, $A178, ToDoList!$R:$R, H$2))","v":""},{"$f":"IF($A178 = \"\", \"\", COUNTIFS(ToDoList!$B:$B, $A178, ToDoList!$R:$R, I$2))","v":""},{"$f":"IF($A178 = \"\", \"\", COUNTIFS(ToDoList!$B:$B, $A178, ToDoList!$R:$R, J$2))","v":""}]
[null,{"$f":"IF($A179 = \"\", \"\", COUNTIFS(ToDoList!$B:$B, $A179, ToDoList!$R:$R, B$2))","v":""},{"$f":"IF($A179 = \"\", \"\", COUNTIFS(ToDoList!$B:$B, $A179, ToDoList!$R:$R, C$2))","v":""},{"$f":"IF($A179 = \"\", \"\", COUNTIFS(ToDoList!$B:$B, $A179, ToDoList!$R:$R, D$2))","v":""},{"$f":"IF($A179 = \"\", \"\", COUNTIFS(ToDoList!$B:$B, $A179, ToDoList!$R:$R, E$2))","v":""},{"$f":"IF($A179 = \"\", \"\", COUNTIFS(ToDoList!$B:$B, $A179, ToDoList!$R:$R, F$2))","v":""},{"$f":"IF($A179 = \"\", \"\", COUNTIFS(ToDoList!$B:$B, $A179, ToDoList!$R:$R, G$2))","v":""},{"$f":"IF($A179 = \"\", \"\", COUNTIFS(ToDoList!$B:$B, $A179, ToDoList!$R:$R, H$2))","v":""},{"$f":"IF($A179 = \"\", \"\", COUNTIFS(ToDoList!$B:$B, $A179, ToDoList!$R:$R, I$2))","v":""},{"$f":"IF($A179 = \"\", \"\", COUNTIFS(ToDoList!$B:$B, $A179, ToDoList!$R:$R, J$2))","v":""}]
[null,{"$f":"IF($A180 = \"\", \"\", COUNTIFS(ToDoList!$B:$B, $A180, ToDoList!$R:$R, B$2))","v":""},{"$f":"IF($A180 = \"\", \"\", COUNTIFS(ToDoList!$B:$B, $A180, ToDoList!$R:$R, C$2))","v":""},{"$f":"IF($A180 = \"\", \"\", COUNTIFS(ToDoList!$B:$B, $A180, ToDoList!$R:$R, D$2))","v":""},{"$f":"IF($A180 = \"\", \"\", COUNTIFS(ToDoList!$B:$B, $A180, ToDoList!$R:$R, E$2))","v":""},{"$f":"IF($A180 = \"\", \"\", COUNTIFS(ToDoList!$B:$B, $A180, ToDoList!$R:$R, F$2))","v":""},{"$f":"IF($A180 = \"\", \"\", COUNTIFS(ToDoList!$B:$B, $A180, ToDoList!$R:$R, G$2))","v":""},{"$f":"IF($A180 = \"\", \"\", COUNTIFS(ToDoList!$B:$B, $A180, ToDoList!$R:$R, H$2))","v":""},{"$f":"IF($A180 = \"\", \"\", COUNTIFS(ToDoList!$B:$B, $A180, ToDoList!$R:$R, I$2))","v":""},{"$f":"IF($A180 = \"\", \"\", COUNTIFS(ToDoList!$B:$B, $A180, ToDoList!$R:$R, J$2))","v":""}]
[null,{"$f":"IF($A181 = \"\", \"\", COUNTIFS(ToDoList!$B:$B, $A181, ToDoList!$R:$R, B$2))","v":""},{"$f":"IF($A181 = \"\", \"\", COUNTIFS(ToDoList!$B:$B, $A181, ToDoList!$R:$R, C$2))","v":""},{"$f":"IF($A181 = \"\", \"\", COUNTIFS(ToDoList!$B:$B, $A181, ToDoList!$R:$R, D$2))","v":""},{"$f":"IF($A181 = \"\", \"\", COUNTIFS(ToDoList!$B:$B, $A181, ToDoList!$R:$R, E$2))","v":""},{"$f":"IF($A181 = \"\", \"\", COUNTIFS(ToDoList!$B:$B, $A181, ToDoList!$R:$R, F$2))","v":""},{"$f":"IF($A181 = \"\", \"\", COUNTIFS(ToDoList!$B:$B, $A181, ToDoList!$R:$R, G$2))","v":""},{"$f":"IF($A181 = \"\", \"\", COUNTIFS(ToDoList!$B:$B, $A181, ToDoList!$R:$R, H$2))","v":""},{"$f":"IF($A181 = \"\", \"\", COUNTIFS(ToDoList!$B:$B, $A181, ToDoList!$R:$R, I$2))","v":""},{"$f":"IF($A181 = \"\", \"\", COUNTIFS(ToDoList!$B:$B, $A181, ToDoList!$R:$R, J$2))","v":""}]
[null,{"$f":"IF($A182 = \"\", \"\", COUNTIFS(ToDoList!$B:$B, $A182, ToDoList!$R:$R, B$2))","v":""},{"$f":"IF($A182 = \"\", \"\", COUNTIFS(ToDoList!$B:$B, $A182, ToDoList!$R:$R, C$2))","v":""},{"$f":"IF($A182 = \"\", \"\", COUNTIFS(ToDoList!$B:$B, $A182, ToDoList!$R:$R, D$2))","v":""},{"$f":"IF($A182 = \"\", \"\", COUNTIFS(ToDoList!$B:$B, $A182, ToDoList!$R:$R, E$2))","v":""},{"$f":"IF($A182 = \"\", \"\", COUNTIFS(ToDoList!$B:$B, $A182, ToDoList!$R:$R, F$2))","v":""},{"$f":"IF($A182 = \"\", \"\", COUNTIFS(ToDoList!$B:$B, $A182, ToDoList!$R:$R, G$2))","v":""},{"$f":"IF($A182 = \"\", \"\", COUNTIFS(ToDoList!$B:$B, $A182, ToDoList!$R:$R, H$2))","v":""},{"$f":"IF($A182 = \"\", \"\", COUNTIFS(ToDoList!$B:$B, $A182, ToDoList!$R:$R, I$2))","v":""},{"$f":"IF($A182 = \"\", \"\", COUNTIFS(ToDoList!$B:$B, $A182, ToDoList!$R:$R, J$2))","v":""}]
[null,{"$f":"IF($A183 = \"\", \"\", COUNTIFS(ToDoList!$B:$B, $A183, ToDoList!$R:$R, B$2))","v":""},{"$f":"IF($A183 = \"\", \"\", COUNTIFS(ToDoList!$B:$B, $A183, ToDoList!$R:$R, C$2))","v":""},{"$f":"IF($A183 = \"\", \"\", COUNTIFS(ToDoList!$B:$B, $A183, ToDoList!$R:$R, D$2))","v":""},{"$f":"IF($A183 = \"\", \"\", COUNTIFS(ToDoList!$B:$B, $A183, ToDoList!$R:$R, E$2))","v":""},{"$f":"IF($A183 = \"\", \"\", COUNTIFS(ToDoList!$B:$B, $A183, ToDoList!$R:$R, F$2))","v":""},{"$f":"IF($A183 = \"\", \"\", COUNTIFS(ToDoList!$B:$B, $A183, ToDoList!$R:$R, G$2))","v":""},{"$f":"IF($A183 = \"\", \"\", COUNTIFS(ToDoList!$B:$B, $A183, ToDoList!$R:$R, H$2))","v":""},{"$f":"IF($A183 = \"\", \"\", COUNTIFS(ToDoList!$B:$B, $A183, ToDoList!$R:$R, I$2))","v":""},{"$f":"IF($A183 = \"\", \"\", COUNTIFS(ToDoList!$B:$B, $A183, ToDoList!$R:$R, J$2))","v":""}]
[null,{"$f":"IF($A184 = \"\", \"\", COUNTIFS(ToDoList!$B:$B, $A184, ToDoList!$R:$R, B$2))","v":""},{"$f":"IF($A184 = \"\", \"\", COUNTIFS(ToDoList!$B:$B, $A184, ToDoList!$R:$R, C$2))","v":""},{"$f":"IF($A184 = \"\", \"\", COUNTIFS(ToDoList!$B:$B, $A184, ToDoList!$R:$R, D$2))","v":""},{"$f":"IF($A184 = \"\", \"\", COUNTIFS(ToDoList!$B:$B, $A184, ToDoList!$R:$R, E$2))","v":""},{"$f":"IF($A184 = \"\", \"\", COUNTIFS(ToDoList!$B:$B, $A184, ToDoList!$R:$R, F$2))","v":""},{"$f":"IF($A184 = \"\", \"\", COUNTIFS(ToDoList!$B:$B, $A184, ToDoList!$R:$R, G$2))","v":""},{"$f":"IF($A184 = \"\", \"\", COUNTIFS(ToDoList!$B:$B, $A184, ToDoList!$R:$R, H$2))","v":""},{"$f":"IF($A184 = \"\", \"\", COUNTIFS(ToDoList!$B:$B, $A184, ToDoList!$R:$R, I$2))","v":""},{"$f":"IF($A184 = \"\", \"\", COUNTIFS(ToDoList!$B:$B, $A184, ToDoList!$R:$R, J$2))","v":""}]
[null,{"$f":"IF($A185 = \"\", \"\", COUNTIFS(ToDoList!$B:$B, $A185, ToDoList!$R:$R, B$2))","v":""},{"$f":"IF($A185 = \"\", \"\", COUNTIFS(ToDoList!$B:$B, $A185, ToDoList!$R:$R, C$2))","v":""},{"$f":"IF($A185 = \"\", \"\", COUNTIFS(ToDoList!$B:$B, $A185, ToDoList!$R:$R, D$2))","v":""},{"$f":"IF($A185 = \"\", \"\", COUNTIFS(ToDoList!$B:$B, $A185, ToDoList!$R:$R, E$2))","v":""},{"$f":"IF($A185 = \"\", \"\", COUNTIFS(ToDoList!$B:$B, $A185, ToDoList!$R:$R, F$2))","v":""},{"$f":"IF($A185 = \"\", \"\", COUNTIFS(ToDoList!$B:$B, $A185, ToDoList!$R:$R, G$2))","v":""},{"$f":"IF($A185 = \"\", \"\", COUNTIFS(ToDoList!$B:$B, $A185, ToDoList!$R:$R, H$2))","v":""},{"$f":"IF($A185 = \"\", \"\", COUNTIFS(ToDoList!$B:$B, $A185, ToDoList!$R:$R, I$2))","v":""},{"$f":"IF($A185 = \"\", \"\", COUNTIFS(ToDoList!$B:$B, $A185, ToDoList!$R:$R, J$2))","v":""}]
[null,{"$f":"IF($A186 = \"\", \"\", COUNTIFS(ToDoList!$B:$B, $A186, ToDoList!$R:$R, B$2))","v":""},{"$f":"IF($A186 = \"\", \"\", COUNTIFS(ToDoList!$B:$B, $A186, ToDoList!$R:$R, C$2))","v":""},{"$f":"IF($A186 = \"\", \"\", COUNTIFS(ToDoList!$B:$B, $A186, ToDoList!$R:$R, D$2))","v":""},{"$f":"IF($A186 = \"\", \"\", COUNTIFS(ToDoList!$B:$B, $A186, ToDoList!$R:$R, E$2))","v":""},{"$f":"IF($A186 = \"\", \"\", COUNTIFS(ToDoList!$B:$B, $A186, ToDoList!$R:$R, F$2))","v":""},{"$f":"IF($A186 = \"\", \"\", COUNTIFS(ToDoList!$B:$B, $A186, ToDoList!$R:$R, G$2))","v":""},{"$f":"IF($A186 = \"\", \"\", COUNTIFS(ToDoList!$B:$B, $A186, ToDoList!$R:$R, H$2))","v":""},{"$f":"IF($A186 = \"\", \"\", COUNTIFS(ToDoList!$B:$B, $A186, ToDoList!$R:$R, I$2))","v":""},{"$f":"IF($A186 = \"\", \"\", COUNTIFS(ToDoList!$B:$B, $A186, ToDoList!$R:$R, J$2))","v":""}]
[null,{"$f":"IF($A187 = \"\", \"\", COUNTIFS(ToDoList!$B:$B, $A187, ToDoList!$R:$R, B$2))","v":""},{"$f":"IF($A187 = \"\", \"\", COUNTIFS(ToDoList!$B:$B, $A187, ToDoList!$R:$R, C$2))","v":""},{"$f":"IF($A187 = \"\", \"\", COUNTIFS(ToDoList!$B:$B, $A187, ToDoList!$R:$R, D$2))","v":""},{"$f":"IF($A187 = \"\", \"\", COUNTIFS(ToDoList!$B:$B, $A187, ToDoList!$R:$R, E$2))","v":""},{"$f":"IF($A187 = \"\", \"\", COUNTIFS(ToDoList!$B:$B, $A187, ToDoList!$R:$R, F$2))","v":""},{"$f":"IF($A187 = \"\", \"\", COUNTIFS(ToDoList!$B:$B, $A187, ToDoList!$R:$R, G$2))","v":""},{"$f":"IF($A187 = \"\", \"\", COUNTIFS(ToDoList!$B:$B, $A187, ToDoList!$R:$R, H$2))","v":""},{"$f":"IF($A187 = \"\", \"\", COUNTIFS(ToDoList!$B:$B, $A187, ToDoList!$R:$R, I$2))","v":""},{"$f":"IF($A187 = \"\", \"\", COUNTIFS(ToDoList!$B:$B, $A187, ToDoList!$R:$R, J$2))","v":""}]
[null,{"$f":"IF($A188 = \"\", \"\", COUNTIFS(ToDoList!$B:$B, $A188, ToDoList!$R:$R, B$2))","v":""},{"$f":"IF($A188 = \"\", \"\", COUNTIFS(ToDoList!$B:$B, $A188, ToDoList!$R:$R, C$2))","v":""},{"$f":"IF($A188 = \"\", \"\", COUNTIFS(ToDoList!$B:$B, $A188, ToDoList!$R:$R, D$2))","v":""},{"$f":"IF($A188 = \"\", \"\", COUNTIFS(ToDoList!$B:$B, $A188, ToDoList!$R:$R, E$2))","v":""},{"$f":"IF($A188 = \"\", \"\", COUNTIFS(ToDoList!$B:$B, $A188, ToDoList!$R:$R, F$2))","v":""},{"$f":"IF($A188 = \"\", \"\", COUNTIFS(ToDoList!$B:$B, $A188, ToDoList!$R:$R, G$2))","v":""},{"$f":"IF($A188 = \"\", \"\", COUNTIFS(ToDoList!$B:$B, $A188, ToDoList!$R:$R, H$2))","v":""},{"$f":"IF($A188 = \"\", \"\", COUNTIFS(ToDoList!$B:$B, $A188, ToDoList!$R:$R, I$2))","v":""},{"$f":"IF($A188 = \"\", \"\", COUNTIFS(ToDoList!$B:$B, $A188, ToDoList!$R:$R, J$2))","v":""}]
[null,{"$f":"IF($A189 = \"\", \"\", COUNTIFS(ToDoList!$B:$B, $A189, ToDoList!$R:$R, B$2))","v":""},{"$f":"IF($A189 = \"\", \"\", COUNTIFS(ToDoList!$B:$B, $A189, ToDoList!$R:$R, C$2))","v":""},{"$f":"IF($A189 = \"\", \"\", COUNTIFS(ToDoList!$B:$B, $A189, ToDoList!$R:$R, D$2))","v":""},{"$f":"IF($A189 = \"\", \"\", COUNTIFS(ToDoList!$B:$B, $A189, ToDoList!$R:$R, E$2))","v":""},{"$f":"IF($A189 = \"\", \"\", COUNTIFS(ToDoList!$B:$B, $A189, ToDoList!$R:$R, F$2))","v":""},{"$f":"IF($A189 = \"\", \"\", COUNTIFS(ToDoList!$B:$B, $A189, ToDoList!$R:$R, G$2))","v":""},{"$f":"IF($A189 = \"\", \"\", COUNTIFS(ToDoList!$B:$B, $A189, ToDoList!$R:$R, H$2))","v":""},{"$f":"IF($A189 = \"\", \"\", COUNTIFS(ToDoList!$B:$B, $A189, ToDoList!$R:$R, I$2))","v":""},{"$f":"IF($A189 = \"\", \"\", COUNTIFS(ToDoList!$B:$B, $A189, ToDoList!$R:$R, J$2))","v":""}]
[null,{"$f":"IF($A190 = \"\", \"\", COUNTIFS(ToDoList!$B:$B, $A190, ToDoList!$R:$R, B$2))","v":""},{"$f":"IF($A190 = \"\", \"\", COUNTIFS(ToDoList!$B:$B, $A190, ToDoList!$R:$R, C$2))","v":""},{"$f":"IF($A190 = \"\", \"\", COUNTIFS(ToDoList!$B:$B, $A190, ToDoList!$R:$R, D$2))","v":""},{"$f":"IF($A190 = \"\", \"\", COUNTIFS(ToDoList!$B:$B, $A190, ToDoList!$R:$R, E$2))","v":""},{"$f":"IF($A190 = \"\", \"\", COUNTIFS(ToDoList!$B:$B, $A190, ToDoList!$R:$R, F$2))","v":""},{"$f":"IF($A190 = \"\", \"\", COUNTIFS(ToDoList!$B:$B, $A190, ToDoList!$R:$R, G$2))","v":""},{"$f":"IF($A190 = \"\", \"\", COUNTIFS(ToDoList!$B:$B, $A190, ToDoList!$R:$R, H$2))","v":""},{"$f":"IF($A190 = \"\", \"\", COUNTIFS(ToDoList!$B:$B, $A190, ToDoList!$R:$R, I$2))","v":""},{"$f":"IF($A190 = \"\", \"\", COUNTIFS(ToDoList!$B:$B, $A190, ToDoList!$R:$R, J$2))","v":""}]
[null,{"$f":"IF($A191 = \"\", \"\", COUNTIFS(ToDoList!$B:$B, $A191, ToDoList!$R:$R, B$2))","v":""},{"$f":"IF($A191 = \"\", \"\", COUNTIFS(ToDoList!$B:$B, $A191, ToDoList!$R:$R, C$2))","v":""},{"$f":"IF($A191 = \"\", \"\", COUNTIFS(ToDoList!$B:$B, $A191, ToDoList!$R:$R, D$2))","v":""},{"$f":"IF($A191 = \"\", \"\", COUNTIFS(ToDoList!$B:$B, $A191, ToDoList!$R:$R, E$2))","v":""},{"$f":"IF($A191 = \"\", \"\", COUNTIFS(ToDoList!$B:$B, $A191, ToDoList!$R:$R, F$2))","v":""},{"$f":"IF($A191 = \"\", \"\", COUNTIFS(ToDoList!$B:$B, $A191, ToDoList!$R:$R, G$2))","v":""},{"$f":"IF($A191 = \"\", \"\", COUNTIFS(ToDoList!$B:$B, $A191, ToDoList!$R:$R, H$2))","v":""},{"$f":"IF($A191 = \"\", \"\", COUNTIFS(ToDoList!$B:$B, $A191, ToDoList!$R:$R, I$2))","v":""},{"$f":"IF($A191 = \"\", \"\", COUNTIFS(ToDoList!$B:$B, $A191, ToDoList!$R:$R, J$2))","v":""}]
[null,{"$f":"IF($A192 = \"\", \"\", COUNTIFS(ToDoList!$B:$B, $A192, ToDoList!$R:$R, B$2))","v":""},{"$f":"IF($A192 = \"\", \"\", COUNTIFS(ToDoList!$B:$B, $A192, ToDoList!$R:$R, C$2))","v":""},{"$f":"IF($A192 = \"\", \"\", COUNTIFS(ToDoList!$B:$B, $A192, ToDoList!$R:$R, D$2))","v":""},{"$f":"IF($A192 = \"\", \"\", COUNTIFS(ToDoList!$B:$B, $A192, ToDoList!$R:$R, E$2))","v":""},{"$f":"IF($A192 = \"\", \"\", COUNTIFS(ToDoList!$B:$B, $A192, ToDoList!$R:$R, F$2))","v":""},{"$f":"IF($A192 = \"\", \"\", COUNTIFS(ToDoList!$B:$B, $A192, ToDoList!$R:$R, G$2))","v":""},{"$f":"IF($A192 = \"\", \"\", COUNTIFS(ToDoList!$B:$B, $A192, ToDoList!$R:$R, H$2))","v":""},{"$f":"IF($A192 = \"\", \"\", COUNTIFS(ToDoList!$B:$B, $A192, ToDoList!$R:$R, I$2))","v":""},{"$f":"IF($A192 = \"\", \"\", COUNTIFS(ToDoList!$B:$B, $A192, ToDoList!$R:$R, J$2))","v":""}]
[null,{"$f":"IF($A193 = \"\", \"\", COUNTIFS(ToDoList!$B:$B, $A193, ToDoList!$R:$R, B$2))","v":""},{"$f":"IF($A193 = \"\", \"\", COUNTIFS(ToDoList!$B:$B, $A193, ToDoList!$R:$R, C$2))","v":""},{"$f":"IF($A193 = \"\", \"\", COUNTIFS(ToDoList!$B:$B, $A193, ToDoList!$R:$R, D$2))","v":""},{"$f":"IF($A193 = \"\", \"\", COUNTIFS(ToDoList!$B:$B, $A193, ToDoList!$R:$R, E$2))","v":""},{"$f":"IF($A193 = \"\", \"\", COUNTIFS(ToDoList!$B:$B, $A193, ToDoList!$R:$R, F$2))","v":""},{"$f":"IF($A193 = \"\", \"\", COUNTIFS(ToDoList!$B:$B, $A193, ToDoList!$R:$R, G$2))","v":""},{"$f":"IF($A193 = \"\", \"\", COUNTIFS(ToDoList!$B:$B, $A193, ToDoList!$R:$R, H$2))","v":""},{"$f":"IF($A193 = \"\", \"\", COUNTIFS(ToDoList!$B:$B, $A193, ToDoList!$R:$R, I$2))","v":""},{"$f":"IF($A193 = \"\", \"\", COUNTIFS(ToDoList!$B:$B, $A193, ToDoList!$R:$R, J$2))","v":""}]
[null,{"$f":"IF($A194 = \"\", \"\", COUNTIFS(ToDoList!$B:$B, $A194, ToDoList!$R:$R, B$2))","v":""},{"$f":"IF($A194 = \"\", \"\", COUNTIFS(ToDoList!$B:$B, $A194, ToDoList!$R:$R, C$2))","v":""},{"$f":"IF($A194 = \"\", \"\", COUNTIFS(ToDoList!$B:$B, $A194, ToDoList!$R:$R, D$2))","v":""},{"$f":"IF($A194 = \"\", \"\", COUNTIFS(ToDoList!$B:$B, $A194, ToDoList!$R:$R, E$2))","v":""},{"$f":"IF($A194 = \"\", \"\", COUNTIFS(ToDoList!$B:$B, $A194, ToDoList!$R:$R, F$2))","v":""},{"$f":"IF($A194 = \"\", \"\", COUNTIFS(ToDoList!$B:$B, $A194, ToDoList!$R:$R, G$2))","v":""},{"$f":"IF($A194 = \"\", \"\", COUNTIFS(ToDoList!$B:$B, $A194, ToDoList!$R:$R, H$2))","v":""},{"$f":"IF($A194 = \"\", \"\", COUNTIFS(ToDoList!$B:$B, $A194, ToDoList!$R:$R, I$2))","v":""},{"$f":"IF($A194 = \"\", \"\", COUNTIFS(ToDoList!$B:$B, $A194, ToDoList!$R:$R, J$2))","v":""}]
[null,{"$f":"IF($A195 = \"\", \"\", COUNTIFS(ToDoList!$B:$B, $A195, ToDoList!$R:$R, B$2))","v":""},{"$f":"IF($A195 = \"\", \"\", COUNTIFS(ToDoList!$B:$B, $A195, ToDoList!$R:$R, C$2))","v":""},{"$f":"IF($A195 = \"\", \"\", COUNTIFS(ToDoList!$B:$B, $A195, ToDoList!$R:$R, D$2))","v":""},{"$f":"IF($A195 = \"\", \"\", COUNTIFS(ToDoList!$B:$B, $A195, ToDoList!$R:$R, E$2))","v":""},{"$f":"IF($A195 = \"\", \"\", COUNTIFS(ToDoList!$B:$B, $A195, ToDoList!$R:$R, F$2))","v":""},{"$f":"IF($A195 = \"\", \"\", COUNTIFS(ToDoList!$B:$B, $A195, ToDoList!$R:$R, G$2))","v":""},{"$f":"IF($A195 = \"\", \"\", COUNTIFS(ToDoList!$B:$B, $A195, ToDoList!$R:$R, H$2))","v":""},{"$f":"IF($A195 = \"\", \"\", COUNTIFS(ToDoList!$B:$B, $A195, ToDoList!$R:$R, I$2))","v":""},{"$f":"IF($A195 = \"\", \"\", COUNTIFS(ToDoList!$B:$B, $A195, ToDoList!$R:$R, J$2))","v":""}]
[null,{"$f":"IF($A196 = \"\", \"\", COUNTIFS(ToDoList!$B:$B, $A196, ToDoList!$R:$R, B$2))","v":""},{"$f":"IF($A196 = \"\", \"\", COUNTIFS(ToDoList!$B:$B, $A196, ToDoList!$R:$R, C$2))","v":""},{"$f":"IF($A196 = \"\", \"\", COUNTIFS(ToDoList!$B:$B, $A196, ToDoList!$R:$R, D$2))","v":""},{"$f":"IF($A196 = \"\", \"\", COUNTIFS(ToDoList!$B:$B, $A196, ToDoList!$R:$R, E$2))","v":""},{"$f":"IF($A196 = \"\", \"\", COUNTIFS(ToDoList!$B:$B, $A196, ToDoList!$R:$R, F$2))","v":""},{"$f":"IF($A196 = \"\", \"\", COUNTIFS(ToDoList!$B:$B, $A196, ToDoList!$R:$R, G$2))","v":""},{"$f":"IF($A196 = \"\", \"\", COUNTIFS(ToDoList!$B:$B, $A196, ToDoList!$R:$R, H$2))","v":""},{"$f":"IF($A196 = \"\", \"\", COUNTIFS(ToDoList!$B:$B, $A196, ToDoList!$R:$R, I$2))","v":""},{"$f":"IF($A196 = \"\", \"\", COUNTIFS(ToDoList!$B:$B, $A196, ToDoList!$R:$R, J$2))","v":""}]
[null,{"$f":"IF($A197 = \"\", \"\", COUNTIFS(ToDoList!$B:$B, $A197, ToDoList!$R:$R, B$2))","v":""},{"$f":"IF($A197 = \"\", \"\", COUNTIFS(ToDoList!$B:$B, $A197, ToDoList!$R:$R, C$2))","v":""},{"$f":"IF($A197 = \"\", \"\", COUNTIFS(ToDoList!$B:$B, $A197, ToDoList!$R:$R, D$2))","v":""},{"$f":"IF($A197 = \"\", \"\", COUNTIFS(ToDoList!$B:$B, $A197, ToDoList!$R:$R, E$2))","v":""},{"$f":"IF($A197 = \"\", \"\", COUNTIFS(ToDoList!$B:$B, $A197, ToDoList!$R:$R, F$2))","v":""},{"$f":"IF($A197 = \"\", \"\", COUNTIFS(ToDoList!$B:$B, $A197, ToDoList!$R:$R, G$2))","v":""},{"$f":"IF($A197 = \"\", \"\", COUNTIFS(ToDoList!$B:$B, $A197, ToDoList!$R:$R, H$2))","v":""},{"$f":"IF($A197 = \"\", \"\", COUNTIFS(ToDoList!$B:$B, $A197, ToDoList!$R:$R, I$2))","v":""},{"$f":"IF($A197 = \"\", \"\", COUNTIFS(ToDoList!$B:$B, $A197, ToDoList!$R:$R, J$2))","v":""}]
[null,{"$f":"IF($A198 = \"\", \"\", COUNTIFS(ToDoList!$B:$B, $A198, ToDoList!$R:$R, B$2))","v":""},{"$f":"IF($A198 = \"\", \"\", COUNTIFS(ToDoList!$B:$B, $A198, ToDoList!$R:$R, C$2))","v":""},{"$f":"IF($A198 = \"\", \"\", COUNTIFS(ToDoList!$B:$B, $A198, ToDoList!$R:$R, D$2))","v":""},{"$f":"IF($A198 = \"\", \"\", COUNTIFS(ToDoList!$B:$B, $A198, ToDoList!$R:$R, E$2))","v":""},{"$f":"IF($A198 = \"\", \"\", COUNTIFS(ToDoList!$B:$B, $A198, ToDoList!$R:$R, F$2))","v":""},{"$f":"IF($A198 = \"\", \"\", COUNTIFS(ToDoList!$B:$B, $A198, ToDoList!$R:$R, G$2))","v":""},{"$f":"IF($A198 = \"\", \"\", COUNTIFS(ToDoList!$B:$B, $A198, ToDoList!$R:$R, H$2))","v":""},{"$f":"IF($A198 = \"\", \"\", COUNTIFS(ToDoList!$B:$B, $A198, ToDoList!$R:$R, I$2))","v":""},{"$f":"IF($A198 = \"\", \"\", COUNTIFS(ToDoList!$B:$B, $A198, ToDoList!$R:$R, J$2))","v":""}]
[null,{"$f":"IF($A199 = \"\", \"\", COUNTIFS(ToDoList!$B:$B, $A199, ToDoList!$R:$R, B$2))","v":""},{"$f":"IF($A199 = \"\", \"\", COUNTIFS(ToDoList!$B:$B, $A199, ToDoList!$R:$R, C$2))","v":""},{"$f":"IF($A199 = \"\", \"\", COUNTIFS(ToDoList!$B:$B, $A199, ToDoList!$R:$R, D$2))","v":""},{"$f":"IF($A199 = \"\", \"\", COUNTIFS(ToDoList!$B:$B, $A199, ToDoList!$R:$R, E$2))","v":""},{"$f":"IF($A199 = \"\", \"\", COUNTIFS(ToDoList!$B:$B, $A199, ToDoList!$R:$R, F$2))","v":""},{"$f":"IF($A199 = \"\", \"\", COUNTIFS(ToDoList!$B:$B, $A199, ToDoList!$R:$R, G$2))","v":""},{"$f":"IF($A199 = \"\", \"\", COUNTIFS(ToDoList!$B:$B, $A199, ToDoList!$R:$R, H$2))","v":""},{"$f":"IF($A199 = \"\", \"\", COUNTIFS(ToDoList!$B:$B, $A199, ToDoList!$R:$R, I$2))","v":""},{"$f":"IF($A199 = \"\", \"\", COUNTIFS(ToDoList!$B:$B, $A199, ToDoList!$R:$R, J$2))","v":""}]
[null,{"$f":"IF($A200 = \"\", \"\", COUNTIFS(ToDoList!$B:$B, $A200, ToDoList!$R:$R, B$2))","v":""},{"$f":"IF($A200 = \"\", \"\", COUNTIFS(ToDoList!$B:$B, $A200, ToDoList!$R:$R, C$2))","v":""},{"$f":"IF($A200 = \"\", \"\", COUNTIFS(ToDoList!$B:$B, $A200, ToDoList!$R:$R, D$2))","v":""},{"$f":"IF($A200 = \"\", \"\", COUNTIFS(ToDoList!$B:$B, $A200, ToDoList!$R:$R, E$2))","v":""},{"$f":"IF($A200 = \"\", \"\", COUNTIFS(ToDoList!$B:$B, $A200, ToDoList!$R:$R, F$2))","v":""},{"$f":"IF($A200 = \"\", \"\", COUNTIFS(ToDoList!$B:$B, $A200, ToDoList!$R:$R, G$2))","v":""},{"$f":"IF($A200 = \"\", \"\", COUNTIFS(ToDoList!$B:$B, $A200, ToDoList!$R:$R, H$2))","v":""},{"$f":"IF($A200 = \"\", \"\", COUNTIFS(ToDoList!$B:$B, $A200, ToDoList!$R:$R, I$2))","v":""},{"$f":"IF($A200 = \"\", \"\", COUNTIFS(ToDoList!$B:$B, $A200, ToDoList!$R:$R, J$2))","v":""}]
[null,{"$f":"IF($A201 = \"\", \"\", COUNTIFS(ToDoList!$B:$B, $A201, ToDoList!$R:$R, B$2))","v":""},{"$f":"IF($A201 = \"\", \"\", COUNTIFS(ToDoList!$B:$B, $A201, ToDoList!$R:$R, C$2))","v":""},{"$f":"IF($A201 = \"\", \"\", COUNTIFS(ToDoList!$B:$B, $A201, ToDoList!$R:$R, D$2))","v":""},{"$f":"IF($A201 = \"\", \"\", COUNTIFS(ToDoList!$B:$B, $A201, ToDoList!$R:$R, E$2))","v":""},{"$f":"IF($A201 = \"\", \"\", COUNTIFS(ToDoList!$B:$B, $A201, ToDoList!$R:$R, F$2))","v":""},{"$f":"IF($A201 = \"\", \"\", COUNTIFS(ToDoList!$B:$B, $A201, ToDoList!$R:$R, G$2))","v":""},{"$f":"IF($A201 = \"\", \"\", COUNTIFS(ToDoList!$B:$B, $A201, ToDoList!$R:$R, H$2))","v":""},{"$f":"IF($A201 = \"\", \"\", COUNTIFS(ToDoList!$B:$B, $A201, ToDoList!$R:$R, I$2))","v":""},{"$f":"IF($A201 = \"\", \"\", COUNTIFS(ToDoList!$B:$B, $A201, ToDoList!$R:$R, J$2))","v":""}]
[null,{"$f":"IF($A202 = \"\", \"\", COUNTIFS(ToDoList!$B:$B, $A202, ToDoList!$R:$R, B$2))","v":""},{"$f":"IF($A202 = \"\", \"\", COUNTIFS(ToDoList!$B:$B, $A202, ToDoList!$R:$R, C$2))","v":""},{"$f":"IF($A202 = \"\", \"\", COUNTIFS(ToDoList!$B:$B, $A202, ToDoList!$R:$R, D$2))","v":""},{"$f":"IF($A202 = \"\", \"\", COUNTIFS(ToDoList!$B:$B, $A202, ToDoList!$R:$R, E$2))","v":""},{"$f":"IF($A202 = \"\", \"\", COUNTIFS(ToDoList!$B:$B, $A202, ToDoList!$R:$R, F$2))","v":""},{"$f":"IF($A202 = \"\", \"\", COUNTIFS(ToDoList!$B:$B, $A202, ToDoList!$R:$R, G$2))","v":""},{"$f":"IF($A202 = \"\", \"\", COUNTIFS(ToDoList!$B:$B, $A202, ToDoList!$R:$R, H$2))","v":""},{"$f":"IF($A202 = \"\", \"\", COUNTIFS(ToDoList!$B:$B, $A202, ToDoList!$R:$R, I$2))","v":""},{"$f":"IF($A202 = \"\", \"\", COUNTIFS(ToDoList!$B:$B, $A202, ToDoList!$R:$R, J$2))","v":""}]
[null,{"$f":"IF($A203 = \"\", \"\", COUNTIFS(ToDoList!$B:$B, $A203, ToDoList!$R:$R, B$2))","v":""},{"$f":"IF($A203 = \"\", \"\", COUNTIFS(ToDoList!$B:$B, $A203, ToDoList!$R:$R, C$2))","v":""},{"$f":"IF($A203 = \"\", \"\", COUNTIFS(ToDoList!$B:$B, $A203, ToDoList!$R:$R, D$2))","v":""},{"$f":"IF($A203 = \"\", \"\", COUNTIFS(ToDoList!$B:$B, $A203, ToDoList!$R:$R, E$2))","v":""},{"$f":"IF($A203 = \"\", \"\", COUNTIFS(ToDoList!$B:$B, $A203, ToDoList!$R:$R, F$2))","v":""},{"$f":"IF($A203 = \"\", \"\", COUNTIFS(ToDoList!$B:$B, $A203, ToDoList!$R:$R, G$2))","v":""},{"$f":"IF($A203 = \"\", \"\", COUNTIFS(ToDoList!$B:$B, $A203, ToDoList!$R:$R, H$2))","v":""},{"$f":"IF($A203 = \"\", \"\", COUNTIFS(ToDoList!$B:$B, $A203, ToDoList!$R:$R, I$2))","v":""},{"$f":"IF($A203 = \"\", \"\", COUNTIFS(ToDoList!$B:$B, $A203, ToDoList!$R:$R, J$2))","v":""}]
[null,{"$f":"IF($A204 = \"\", \"\", COUNTIFS(ToDoList!$B:$B, $A204, ToDoList!$R:$R, B$2))","v":""},{"$f":"IF($A204 = \"\", \"\", COUNTIFS(ToDoList!$B:$B, $A204, ToDoList!$R:$R, C$2))","v":""},{"$f":"IF($A204 = \"\", \"\", COUNTIFS(ToDoList!$B:$B, $A204, ToDoList!$R:$R, D$2))","v":""},{"$f":"IF($A204 = \"\", \"\", COUNTIFS(ToDoList!$B:$B, $A204, ToDoList!$R:$R, E$2))","v":""},{"$f":"IF($A204 = \"\", \"\", COUNTIFS(ToDoList!$B:$B, $A204, ToDoList!$R:$R, F$2))","v":""},{"$f":"IF($A204 = \"\", \"\", COUNTIFS(ToDoList!$B:$B, $A204, ToDoList!$R:$R, G$2))","v":""},{"$f":"IF($A204 = \"\", \"\", COUNTIFS(ToDoList!$B:$B, $A204, ToDoList!$R:$R, H$2))","v":""},{"$f":"IF($A204 = \"\", \"\", COUNTIFS(ToDoList!$B:$B, $A204, ToDoList!$R:$R, I$2))","v":""},{"$f":"IF($A204 = \"\", \"\", COUNTIFS(ToDoList!$B:$B, $A204, ToDoList!$R:$R, J$2))","v":""}]
[null,{"$f":"IF($A205 = \"\", \"\", COUNTIFS(ToDoList!$B:$B, $A205, ToDoList!$R:$R, B$2))","v":""},{"$f":"IF($A205 = \"\", \"\", COUNTIFS(ToDoList!$B:$B, $A205, ToDoList!$R:$R, C$2))","v":""},{"$f":"IF($A205 = \"\", \"\", COUNTIFS(ToDoList!$B:$B, $A205, ToDoList!$R:$R, D$2))","v":""},{"$f":"IF($A205 = \"\", \"\", COUNTIFS(ToDoList!$B:$B, $A205, ToDoList!$R:$R, E$2))","v":""},{"$f":"IF($A205 = \"\", \"\", COUNTIFS(ToDoList!$B:$B, $A205, ToDoList!$R:$R, F$2))","v":""},{"$f":"IF($A205 = \"\", \"\", COUNTIFS(ToDoList!$B:$B, $A205, ToDoList!$R:$R, G$2))","v":""},{"$f":"IF($A205 = \"\", \"\", COUNTIFS(ToDoList!$B:$B, $A205, ToDoList!$R:$R, H$2))","v":""},{"$f":"IF($A205 = \"\", \"\", COUNTIFS(ToDoList!$B:$B, $A205, ToDoList!$R:$R, I$2))","v":""},{"$f":"IF($A205 = \"\", \"\", COUNTIFS(ToDoList!$B:$B, $A205, ToDoList!$R:$R, J$2))","v":""}]
[null,{"$f":"IF($A206 = \"\", \"\", COUNTIFS(ToDoList!$B:$B, $A206, ToDoList!$R:$R, B$2))","v":""},{"$f":"IF($A206 = \"\", \"\", COUNTIFS(ToDoList!$B:$B, $A206, ToDoList!$R:$R, C$2))","v":""},{"$f":"IF($A206 = \"\", \"\", COUNTIFS(ToDoList!$B:$B, $A206, ToDoList!$R:$R, D$2))","v":""},{"$f":"IF($A206 = \"\", \"\", COUNTIFS(ToDoList!$B:$B, $A206, ToDoList!$R:$R, E$2))","v":""},{"$f":"IF($A206 = \"\", \"\", COUNTIFS(ToDoList!$B:$B, $A206, ToDoList!$R:$R, F$2))","v":""},{"$f":"IF($A206 = \"\", \"\", COUNTIFS(ToDoList!$B:$B, $A206, ToDoList!$R:$R, G$2))","v":""},{"$f":"IF($A206 = \"\", \"\", COUNTIFS(ToDoList!$B:$B, $A206, ToDoList!$R:$R, H$2))","v":""},{"$f":"IF($A206 = \"\", \"\", COUNTIFS(ToDoList!$B:$B, $A206, ToDoList!$R:$R, I$2))","v":""},{"$f":"IF($A206 = \"\", \"\", COUNTIFS(ToDoList!$B:$B, $A206, ToDoList!$R:$R, J$2))","v":""}]
[null,{"$f":"IF($A207 = \"\", \"\", COUNTIFS(ToDoList!$B:$B, $A207, ToDoList!$R:$R, B$2))","v":""},{"$f":"IF($A207 = \"\", \"\", COUNTIFS(ToDoList!$B:$B, $A207, ToDoList!$R:$R, C$2))","v":""},{"$f":"IF($A207 = \"\", \"\", COUNTIFS(ToDoList!$B:$B, $A207, ToDoList!$R:$R, D$2))","v":""},{"$f":"IF($A207 = \"\", \"\", COUNTIFS(ToDoList!$B:$B, $A207, ToDoList!$R:$R, E$2))","v":""},{"$f":"IF($A207 = \"\", \"\", COUNTIFS(ToDoList!$B:$B, $A207, ToDoList!$R:$R, F$2))","v":""},{"$f":"IF($A207 = \"\", \"\", COUNTIFS(ToDoList!$B:$B, $A207, ToDoList!$R:$R, G$2))","v":""},{"$f":"IF($A207 = \"\", \"\", COUNTIFS(ToDoList!$B:$B, $A207, ToDoList!$R:$R, H$2))","v":""},{"$f":"IF($A207 = \"\", \"\", COUNTIFS(ToDoList!$B:$B, $A207, ToDoList!$R:$R, I$2))","v":""},{"$f":"IF($A207 = \"\", \"\", COUNTIFS(ToDoList!$B:$B, $A207, ToDoList!$R:$R, J$2))","v":""}]
[null,{"$f":"IF($A208 = \"\", \"\", COUNTIFS(ToDoList!$B:$B, $A208, ToDoList!$R:$R, B$2))","v":""},{"$f":"IF($A208 = \"\", \"\", COUNTIFS(ToDoList!$B:$B, $A208, ToDoList!$R:$R, C$2))","v":""},{"$f":"IF($A208 = \"\", \"\", COUNTIFS(ToDoList!$B:$B, $A208, ToDoList!$R:$R, D$2))","v":""},{"$f":"IF($A208 = \"\", \"\", COUNTIFS(ToDoList!$B:$B, $A208, ToDoList!$R:$R, E$2))","v":""},{"$f":"IF($A208 = \"\", \"\", COUNTIFS(ToDoList!$B:$B, $A208, ToDoList!$R:$R, F$2))","v":""},{"$f":"IF($A208 = \"\", \"\", COUNTIFS(ToDoList!$B:$B, $A208, ToDoList!$R:$R, G$2))","v":""},{"$f":"IF($A208 = \"\", \"\", COUNTIFS(ToDoList!$B:$B, $A208, ToDoList!$R:$R, H$2))","v":""},{"$f":"IF($A208 = \"\", \"\", COUNTIFS(ToDoList!$B:$B, $A208, ToDoList!$R:$R, I$2))","v":""},{"$f":"IF($A208 = \"\", \"\", COUNTIFS(ToDoList!$B:$B, $A208, ToDoList!$R:$R, J$2))","v":""}]
[null,{"$f":"IF($A209 = \"\", \"\", COUNTIFS(ToDoList!$B:$B, $A209, ToDoList!$R:$R, B$2))","v":""},{"$f":"IF($A209 = \"\", \"\", COUNTIFS(ToDoList!$B:$B, $A209, ToDoList!$R:$R, C$2))","v":""},{"$f":"IF($A209 = \"\", \"\", COUNTIFS(ToDoList!$B:$B, $A209, ToDoList!$R:$R, D$2))","v":""},{"$f":"IF($A209 = \"\", \"\", COUNTIFS(ToDoList!$B:$B, $A209, ToDoList!$R:$R, E$2))","v":""},{"$f":"IF($A209 = \"\", \"\", COUNTIFS(ToDoList!$B:$B, $A209, ToDoList!$R:$R, F$2))","v":""},{"$f":"IF($A209 = \"\", \"\", COUNTIFS(ToDoList!$B:$B, $A209, ToDoList!$R:$R, G$2))","v":""},{"$f":"IF($A209 = \"\", \"\", COUNTIFS(ToDoList!$B:$B, $A209, ToDoList!$R:$R, H$2))","v":""},{"$f":"IF($A209 = \"\", \"\", COUNTIFS(ToDoList!$B:$B, $A209, ToDoList!$R:$R, I$2))","v":""},{"$f":"IF($A209 = \"\", \"\", COUNTIFS(ToDoList!$B:$B, $A209, ToDoList!$R:$R, J$2))","v":""}]
[null,{"$f":"IF($A210 = \"\", \"\", COUNTIFS(ToDoList!$B:$B, $A210, ToDoList!$R:$R, B$2))","v":""},{"$f":"IF($A210 = \"\", \"\", COUNTIFS(ToDoList!$B:$B, $A210, ToDoList!$R:$R, C$2))","v":""},{"$f":"IF($A210 = \"\", \"\", COUNTIFS(ToDoList!$B:$B, $A210, ToDoList!$R:$R, D$2))","v":""},{"$f":"IF($A210 = \"\", \"\", COUNTIFS(ToDoList!$B:$B, $A210, ToDoList!$R:$R, E$2))","v":""},{"$f":"IF($A210 = \"\", \"\", COUNTIFS(ToDoList!$B:$B, $A210, ToDoList!$R:$R, F$2))","v":""},{"$f":"IF($A210 = \"\", \"\", COUNTIFS(ToDoList!$B:$B, $A210, ToDoList!$R:$R, G$2))","v":""},{"$f":"IF($A210 = \"\", \"\", COUNTIFS(ToDoList!$B:$B, $A210, ToDoList!$R:$R, H$2))","v":""},{"$f":"IF($A210 = \"\", \"\", COUNTIFS(ToDoList!$B:$B, $A210, ToDoList!$R:$R, I$2))","v":""},{"$f":"IF($A210 = \"\", \"\", COUNTIFS(ToDoList!$B:$B, $A210, ToDoList!$R:$R, J$2))","v":""}]
[null,{"$f":"IF($A211 = \"\", \"\", COUNTIFS(ToDoList!$B:$B, $A211, ToDoList!$R:$R, B$2))","v":""},{"$f":"IF($A211 = \"\", \"\", COUNTIFS(ToDoList!$B:$B, $A211, ToDoList!$R:$R, C$2))","v":""},{"$f":"IF($A211 = \"\", \"\", COUNTIFS(ToDoList!$B:$B, $A211, ToDoList!$R:$R, D$2))","v":""},{"$f":"IF($A211 = \"\", \"\", COUNTIFS(ToDoList!$B:$B, $A211, ToDoList!$R:$R, E$2))","v":""},{"$f":"IF($A211 = \"\", \"\", COUNTIFS(ToDoList!$B:$B, $A211, ToDoList!$R:$R, F$2))","v":""},{"$f":"IF($A211 = \"\", \"\", COUNTIFS(ToDoList!$B:$B, $A211, ToDoList!$R:$R, G$2))","v":""},{"$f":"IF($A211 = \"\", \"\", COUNTIFS(ToDoList!$B:$B, $A211, ToDoList!$R:$R, H$2))","v":""},{"$f":"IF($A211 = \"\", \"\", COUNTIFS(ToDoList!$B:$B, $A211, ToDoList!$R:$R, I$2))","v":""},{"$f":"IF($A211 = \"\", \"\", COUNTIFS(ToDoList!$B:$B, $A211, ToDoList!$R:$R, J$2))","v":""}]
[null,{"$f":"IF($A212 = \"\", \"\", COUNTIFS(ToDoList!$B:$B, $A212, ToDoList!$R:$R, B$2))","v":""},{"$f":"IF($A212 = \"\", \"\", COUNTIFS(ToDoList!$B:$B, $A212, ToDoList!$R:$R, C$2))","v":""},{"$f":"IF($A212 = \"\", \"\", COUNTIFS(ToDoList!$B:$B, $A212, ToDoList!$R:$R, D$2))","v":""},{"$f":"IF($A212 = \"\", \"\", COUNTIFS(ToDoList!$B:$B, $A212, ToDoList!$R:$R, E$2))","v":""},{"$f":"IF($A212 = \"\", \"\", COUNTIFS(ToDoList!$B:$B, $A212, ToDoList!$R:$R, F$2))","v":""},{"$f":"IF($A212 = \"\", \"\", COUNTIFS(ToDoList!$B:$B, $A212, ToDoList!$R:$R, G$2))","v":""},{"$f":"IF($A212 = \"\", \"\", COUNTIFS(ToDoList!$B:$B, $A212, ToDoList!$R:$R, H$2))","v":""},{"$f":"IF($A212 = \"\", \"\", COUNTIFS(ToDoList!$B:$B, $A212, ToDoList!$R:$R, I$2))","v":""},{"$f":"IF($A212 = \"\", \"\", COUNTIFS(ToDoList!$B:$B, $A212, ToDoList!$R:$R, J$2))","v":""}]
[null,{"$f":"IF($A213 = \"\", \"\", COUNTIFS(ToDoList!$B:$B, $A213, ToDoList!$R:$R, B$2))","v":""},{"$f":"IF($A213 = \"\", \"\", COUNTIFS(ToDoList!$B:$B, $A213, ToDoList!$R:$R, C$2))","v":""},{"$f":"IF($A213 = \"\", \"\", COUNTIFS(ToDoList!$B:$B, $A213, ToDoList!$R:$R, D$2))","v":""},{"$f":"IF($A213 = \"\", \"\", COUNTIFS(ToDoList!$B:$B, $A213, ToDoList!$R:$R, E$2))","v":""},{"$f":"IF($A213 = \"\", \"\", COUNTIFS(ToDoList!$B:$B, $A213, ToDoList!$R:$R, F$2))","v":""},{"$f":"IF($A213 = \"\", \"\", COUNTIFS(ToDoList!$B:$B, $A213, ToDoList!$R:$R, G$2))","v":""},{"$f":"IF($A213 = \"\", \"\", COUNTIFS(ToDoList!$B:$B, $A213, ToDoList!$R:$R, H$2))","v":""},{"$f":"IF($A213 = \"\", \"\", COUNTIFS(ToDoList!$B:$B, $A213, ToDoList!$R:$R, I$2))","v":""},{"$f":"IF($A213 = \"\", \"\", COUNTIFS(ToDoList!$B:$B, $A213, ToDoList!$R:$R, J$2))","v":""}]
[null,{"$f":"IF($A214 = \"\", \"\", COUNTIFS(ToDoList!$B:$B, $A214, ToDoList!$R:$R, B$2))","v":""},{"$f":"IF($A214 = \"\", \"\", COUNTIFS(ToDoList!$B:$B, $A214, ToDoList!$R:$R, C$2))","v":""},{"$f":"IF($A214 = \"\", \"\", COUNTIFS(ToDoList!$B:$B, $A214, ToDoList!$R:$R, D$2))","v":""},{"$f":"IF($A214 = \"\", \"\", COUNTIFS(ToDoList!$B:$B, $A214, ToDoList!$R:$R, E$2))","v":""},{"$f":"IF($A214 = \"\", \"\", COUNTIFS(ToDoList!$B:$B, $A214, ToDoList!$R:$R, F$2))","v":""},{"$f":"IF($A214 = \"\", \"\", COUNTIFS(ToDoList!$B:$B, $A214, ToDoList!$R:$R, G$2))","v":""},{"$f":"IF($A214 = \"\", \"\", COUNTIFS(ToDoList!$B:$B, $A214, ToDoList!$R:$R, H$2))","v":""},{"$f":"IF($A214 = \"\", \"\", COUNTIFS(ToDoList!$B:$B, $A214, ToDoList!$R:$R, I$2))","v":""},{"$f":"IF($A214 = \"\", \"\", COUNTIFS(ToDoList!$B:$B, $A214, ToDoList!$R:$R, J$2))","v":""}]
[null,{"$f":"IF($A215 = \"\", \"\", COUNTIFS(ToDoList!$B:$B, $A215, ToDoList!$R:$R, B$2))","v":""},{"$f":"IF($A215 = \"\", \"\", COUNTIFS(ToDoList!$B:$B, $A215, ToDoList!$R:$R, C$2))","v":""},{"$f":"IF($A215 = \"\", \"\", COUNTIFS(ToDoList!$B:$B, $A215, ToDoList!$R:$R, D$2))","v":""},{"$f":"IF($A215 = \"\", \"\", COUNTIFS(ToDoList!$B:$B, $A215, ToDoList!$R:$R, E$2))","v":""},{"$f":"IF($A215 = \"\", \"\", COUNTIFS(ToDoList!$B:$B, $A215, ToDoList!$R:$R, F$2))","v":""},{"$f":"IF($A215 = \"\", \"\", COUNTIFS(ToDoList!$B:$B, $A215, ToDoList!$R:$R, G$2))","v":""},{"$f":"IF($A215 = \"\", \"\", COUNTIFS(ToDoList!$B:$B, $A215, ToDoList!$R:$R, H$2))","v":""},{"$f":"IF($A215 = \"\", \"\", COUNTIFS(ToDoList!$B:$B, $A215, ToDoList!$R:$R, I$2))","v":""},{"$f":"IF($A215 = \"\", \"\", COUNTIFS(ToDoList!$B:$B, $A215, ToDoList!$R:$R, J$2))","v":""}]
[null,{"$f":"IF($A216 = \"\", \"\", COUNTIFS(ToDoList!$B:$B, $A216, ToDoList!$R:$R, B$2))","v":""},{"$f":"IF($A216 = \"\", \"\", COUNTIFS(ToDoList!$B:$B, $A216, ToDoList!$R:$R, C$2))","v":""},{"$f":"IF($A216 = \"\", \"\", COUNTIFS(ToDoList!$B:$B, $A216, ToDoList!$R:$R, D$2))","v":""},{"$f":"IF($A216 = \"\", \"\", COUNTIFS(ToDoList!$B:$B, $A216, ToDoList!$R:$R, E$2))","v":""},{"$f":"IF($A216 = \"\", \"\", COUNTIFS(ToDoList!$B:$B, $A216, ToDoList!$R:$R, F$2))","v":""},{"$f":"IF($A216 = \"\", \"\", COUNTIFS(ToDoList!$B:$B, $A216, ToDoList!$R:$R, G$2))","v":""},{"$f":"IF($A216 = \"\", \"\", COUNTIFS(ToDoList!$B:$B, $A216, ToDoList!$R:$R, H$2))","v":""},{"$f":"IF($A216 = \"\", \"\", COUNTIFS(ToDoList!$B:$B, $A216, ToDoList!$R:$R, I$2))","v":""},{"$f":"IF($A216 = \"\", \"\", COUNTIFS(ToDoList!$B:$B, $A216, ToDoList!$R:$R, J$2))","v":""}]
[null,{"$f":"IF($A217 = \"\", \"\", COUNTIFS(ToDoList!$B:$B, $A217, ToDoList!$R:$R, B$2))","v":""},{"$f":"IF($A217 = \"\", \"\", COUNTIFS(ToDoList!$B:$B, $A217, ToDoList!$R:$R, C$2))","v":""},{"$f":"IF($A217 = \"\", \"\", COUNTIFS(ToDoList!$B:$B, $A217, ToDoList!$R:$R, D$2))","v":""},{"$f":"IF($A217 = \"\", \"\", COUNTIFS(ToDoList!$B:$B, $A217, ToDoList!$R:$R, E$2))","v":""},{"$f":"IF($A217 = \"\", \"\", COUNTIFS(ToDoList!$B:$B, $A217, ToDoList!$R:$R, F$2))","v":""},{"$f":"IF($A217 = \"\", \"\", COUNTIFS(ToDoList!$B:$B, $A217, ToDoList!$R:$R, G$2))","v":""},{"$f":"IF($A217 = \"\", \"\", COUNTIFS(ToDoList!$B:$B, $A217, ToDoList!$R:$R, H$2))","v":""},{"$f":"IF($A217 = \"\", \"\", COUNTIFS(ToDoList!$B:$B, $A217, ToDoList!$R:$R, I$2))","v":""},{"$f":"IF($A217 = \"\", \"\", COUNTIFS(ToDoList!$B:$B, $A217, ToDoList!$R:$R, J$2))","v":""}]
[null,{"$f":"IF($A218 = \"\", \"\", COUNTIFS(ToDoList!$B:$B, $A218, ToDoList!$R:$R, B$2))","v":""},{"$f":"IF($A218 = \"\", \"\", COUNTIFS(ToDoList!$B:$B, $A218, ToDoList!$R:$R, C$2))","v":""},{"$f":"IF($A218 = \"\", \"\", COUNTIFS(ToDoList!$B:$B, $A218, ToDoList!$R:$R, D$2))","v":""},{"$f":"IF($A218 = \"\", \"\", COUNTIFS(ToDoList!$B:$B, $A218, ToDoList!$R:$R, E$2))","v":""},{"$f":"IF($A218 = \"\", \"\", COUNTIFS(ToDoList!$B:$B, $A218, ToDoList!$R:$R, F$2))","v":""},{"$f":"IF($A218 = \"\", \"\", COUNTIFS(ToDoList!$B:$B, $A218, ToDoList!$R:$R, G$2))","v":""},{"$f":"IF($A218 = \"\", \"\", COUNTIFS(ToDoList!$B:$B, $A218, ToDoList!$R:$R, H$2))","v":""},{"$f":"IF($A218 = \"\", \"\", COUNTIFS(ToDoList!$B:$B, $A218, ToDoList!$R:$R, I$2))","v":""},{"$f":"IF($A218 = \"\", \"\", COUNTIFS(ToDoList!$B:$B, $A218, ToDoList!$R:$R, J$2))","v":""}]
[null,{"$f":"IF($A219 = \"\", \"\", COUNTIFS(ToDoList!$B:$B, $A219, ToDoList!$R:$R, B$2))","v":""},{"$f":"IF($A219 = \"\", \"\", COUNTIFS(ToDoList!$B:$B, $A219, ToDoList!$R:$R, C$2))","v":""},{"$f":"IF($A219 = \"\", \"\", COUNTIFS(ToDoList!$B:$B, $A219, ToDoList!$R:$R, D$2))","v":""},{"$f":"IF($A219 = \"\", \"\", COUNTIFS(ToDoList!$B:$B, $A219, ToDoList!$R:$R, E$2))","v":""},{"$f":"IF($A219 = \"\", \"\", COUNTIFS(ToDoList!$B:$B, $A219, ToDoList!$R:$R, F$2))","v":""},{"$f":"IF($A219 = \"\", \"\", COUNTIFS(ToDoList!$B:$B, $A219, ToDoList!$R:$R, G$2))","v":""},{"$f":"IF($A219 = \"\", \"\", COUNTIFS(ToDoList!$B:$B, $A219, ToDoList!$R:$R, H$2))","v":""},{"$f":"IF($A219 = \"\", \"\", COUNTIFS(ToDoList!$B:$B, $A219, ToDoList!$R:$R, I$2))","v":""},{"$f":"IF($A219 = \"\", \"\", COUNTIFS(ToDoList!$B:$B, $A219, ToDoList!$R:$R, J$2))","v":""}]
[null,{"$f":"IF($A220 = \"\", \"\", COUNTIFS(ToDoList!$B:$B, $A220, ToDoList!$R:$R, B$2))","v":""},{"$f":"IF($A220 = \"\", \"\", COUNTIFS(ToDoList!$B:$B, $A220, ToDoList!$R:$R, C$2))","v":""},{"$f":"IF($A220 = \"\", \"\", COUNTIFS(ToDoList!$B:$B, $A220, ToDoList!$R:$R, D$2))","v":""},{"$f":"IF($A220 = \"\", \"\", COUNTIFS(ToDoList!$B:$B, $A220, ToDoList!$R:$R, E$2))","v":""},{"$f":"IF($A220 = \"\", \"\", COUNTIFS(ToDoList!$B:$B, $A220, ToDoList!$R:$R, F$2))","v":""},{"$f":"IF($A220 = \"\", \"\", COUNTIFS(ToDoList!$B:$B, $A220, ToDoList!$R:$R, G$2))","v":""},{"$f":"IF($A220 = \"\", \"\", COUNTIFS(ToDoList!$B:$B, $A220, ToDoList!$R:$R, H$2))","v":""},{"$f":"IF($A220 = \"\", \"\", COUNTIFS(ToDoList!$B:$B, $A220, ToDoList!$R:$R, I$2))","v":""},{"$f":"IF($A220 = \"\", \"\", COUNTIFS(ToDoList!$B:$B, $A220, ToDoList!$R:$R, J$2))","v":""}]
[null,{"$f":"IF($A221 = \"\", \"\", COUNTIFS(ToDoList!$B:$B, $A221, ToDoList!$R:$R, B$2))","v":""},{"$f":"IF($A221 = \"\", \"\", COUNTIFS(ToDoList!$B:$B, $A221, ToDoList!$R:$R, C$2))","v":""},{"$f":"IF($A221 = \"\", \"\", COUNTIFS(ToDoList!$B:$B, $A221, ToDoList!$R:$R, D$2))","v":""},{"$f":"IF($A221 = \"\", \"\", COUNTIFS(ToDoList!$B:$B, $A221, ToDoList!$R:$R, E$2))","v":""},{"$f":"IF($A221 = \"\", \"\", COUNTIFS(ToDoList!$B:$B, $A221, ToDoList!$R:$R, F$2))","v":""},{"$f":"IF($A221 = \"\", \"\", COUNTIFS(ToDoList!$B:$B, $A221, ToDoList!$R:$R, G$2))","v":""},{"$f":"IF($A221 = \"\", \"\", COUNTIFS(ToDoList!$B:$B, $A221, ToDoList!$R:$R, H$2))","v":""},{"$f":"IF($A221 = \"\", \"\", COUNTIFS(ToDoList!$B:$B, $A221, ToDoList!$R:$R, I$2))","v":""},{"$f":"IF($A221 = \"\", \"\", COUNTIFS(ToDoList!$B:$B, $A221, ToDoList!$R:$R, J$2))","v":""}]
[null,{"$f":"IF($A222 = \"\", \"\", COUNTIFS(ToDoList!$B:$B, $A222, ToDoList!$R:$R, B$2))","v":""},{"$f":"IF($A222 = \"\", \"\", COUNTIFS(ToDoList!$B:$B, $A222, ToDoList!$R:$R, C$2))","v":""},{"$f":"IF($A222 = \"\", \"\", COUNTIFS(ToDoList!$B:$B, $A222, ToDoList!$R:$R, D$2))","v":""},{"$f":"IF($A222 = \"\", \"\", COUNTIFS(ToDoList!$B:$B, $A222, ToDoList!$R:$R, E$2))","v":""},{"$f":"IF($A222 = \"\", \"\", COUNTIFS(ToDoList!$B:$B, $A222, ToDoList!$R:$R, F$2))","v":""},{"$f":"IF($A222 = \"\", \"\", COUNTIFS(ToDoList!$B:$B, $A222, ToDoList!$R:$R, G$2))","v":""},{"$f":"IF($A222 = \"\", \"\", COUNTIFS(ToDoList!$B:$B, $A222, ToDoList!$R:$R, H$2))","v":""},{"$f":"IF($A222 = \"\", \"\", COUNTIFS(ToDoList!$B:$B, $A222, ToDoList!$R:$R, I$2))","v":""},{"$f":"IF($A222 = \"\", \"\", COUNTIFS(ToDoList!$B:$B, $A222, ToDoList!$R:$R, J$2))","v":""}]
[null,{"$f":"IF($A223 = \"\", \"\", COUNTIFS(ToDoList!$B:$B, $A223, ToDoList!$R:$R, B$2))","v":""},{"$f":"IF($A223 = \"\", \"\", COUNTIFS(ToDoList!$B:$B, $A223, ToDoList!$R:$R, C$2))","v":""},{"$f":"IF($A223 = \"\", \"\", COUNTIFS(ToDoList!$B:$B, $A223, ToDoList!$R:$R, D$2))","v":""},{"$f":"IF($A223 = \"\", \"\", COUNTIFS(ToDoList!$B:$B, $A223, ToDoList!$R:$R, E$2))","v":""},{"$f":"IF($A223 = \"\", \"\", COUNTIFS(ToDoList!$B:$B, $A223, ToDoList!$R:$R, F$2))","v":""},{"$f":"IF($A223 = \"\", \"\", COUNTIFS(ToDoList!$B:$B, $A223, ToDoList!$R:$R, G$2))","v":""},{"$f":"IF($A223 = \"\", \"\", COUNTIFS(ToDoList!$B:$B, $A223, ToDoList!$R:$R, H$2))","v":""},{"$f":"IF($A223 = \"\", \"\", COUNTIFS(ToDoList!$B:$B, $A223, ToDoList!$R:$R, I$2))","v":""},{"$f":"IF($A223 = \"\", \"\", COUNTIFS(ToDoList!$B:$B, $A223, ToDoList!$R:$R, J$2))","v":""}]
[null,{"$f":"IF($A224 = \"\", \"\", COUNTIFS(ToDoList!$B:$B, $A224, ToDoList!$R:$R, B$2))","v":""},{"$f":"IF($A224 = \"\", \"\", COUNTIFS(ToDoList!$B:$B, $A224, ToDoList!$R:$R, C$2))","v":""},{"$f":"IF($A224 = \"\", \"\", COUNTIFS(ToDoList!$B:$B, $A224, ToDoList!$R:$R, D$2))","v":""},{"$f":"IF($A224 = \"\", \"\", COUNTIFS(ToDoList!$B:$B, $A224, ToDoList!$R:$R, E$2))","v":""},{"$f":"IF($A224 = \"\", \"\", COUNTIFS(ToDoList!$B:$B, $A224, ToDoList!$R:$R, F$2))","v":""},{"$f":"IF($A224 = \"\", \"\", COUNTIFS(ToDoList!$B:$B, $A224, ToDoList!$R:$R, G$2))","v":""},{"$f":"IF($A224 = \"\", \"\", COUNTIFS(ToDoList!$B:$B, $A224, ToDoList!$R:$R, H$2))","v":""},{"$f":"IF($A224 = \"\", \"\", COUNTIFS(ToDoList!$B:$B, $A224, ToDoList!$R:$R, I$2))","v":""},{"$f":"IF($A224 = \"\", \"\", COUNTIFS(ToDoList!$B:$B, $A224, ToDoList!$R:$R, J$2))","v":""}]
[null,{"$f":"IF($A225 = \"\", \"\", COUNTIFS(ToDoList!$B:$B, $A225, ToDoList!$R:$R, B$2))","v":""},{"$f":"IF($A225 = \"\", \"\", COUNTIFS(ToDoList!$B:$B, $A225, ToDoList!$R:$R, C$2))","v":""},{"$f":"IF($A225 = \"\", \"\", COUNTIFS(ToDoList!$B:$B, $A225, ToDoList!$R:$R, D$2))","v":""},{"$f":"IF($A225 = \"\", \"\", COUNTIFS(ToDoList!$B:$B, $A225, ToDoList!$R:$R, E$2))","v":""},{"$f":"IF($A225 = \"\", \"\", COUNTIFS(ToDoList!$B:$B, $A225, ToDoList!$R:$R, F$2))","v":""},{"$f":"IF($A225 = \"\", \"\", COUNTIFS(ToDoList!$B:$B, $A225, ToDoList!$R:$R, G$2))","v":""},{"$f":"IF($A225 = \"\", \"\", COUNTIFS(ToDoList!$B:$B, $A225, ToDoList!$R:$R, H$2))","v":""},{"$f":"IF($A225 = \"\", \"\", COUNTIFS(ToDoList!$B:$B, $A225, ToDoList!$R:$R, I$2))","v":""},{"$f":"IF($A225 = \"\", \"\", COUNTIFS(ToDoList!$B:$B, $A225, ToDoList!$R:$R, J$2))","v":""}]
[null,{"$f":"IF($A226 = \"\", \"\", COUNTIFS(ToDoList!$B:$B, $A226, ToDoList!$R:$R, B$2))","v":""},{"$f":"IF($A226 = \"\", \"\", COUNTIFS(ToDoList!$B:$B, $A226, ToDoList!$R:$R, C$2))","v":""},{"$f":"IF($A226 = \"\", \"\", COUNTIFS(ToDoList!$B:$B, $A226, ToDoList!$R:$R, D$2))","v":""},{"$f":"IF($A226 = \"\", \"\", COUNTIFS(ToDoList!$B:$B, $A226, ToDoList!$R:$R, E$2))","v":""},{"$f":"IF($A226 = \"\", \"\", COUNTIFS(ToDoList!$B:$B, $A226, ToDoList!$R:$R, F$2))","v":""},{"$f":"IF($A226 = \"\", \"\", COUNTIFS(ToDoList!$B:$B, $A226, ToDoList!$R:$R, G$2))","v":""},{"$f":"IF($A226 = \"\", \"\", COUNTIFS(ToDoList!$B:$B, $A226, ToDoList!$R:$R, H$2))","v":""},{"$f":"IF($A226 = \"\", \"\", COUNTIFS(ToDoList!$B:$B, $A226, ToDoList!$R:$R, I$2))","v":""},{"$f":"IF($A226 = \"\", \"\", COUNTIFS(ToDoList!$B:$B, $A226, ToDoList!$R:$R, J$2))","v":""}]
[null,{"$f":"IF($A227 = \"\", \"\", COUNTIFS(ToDoList!$B:$B, $A227, ToDoList!$R:$R, B$2))","v":""},{"$f":"IF($A227 = \"\", \"\", COUNTIFS(ToDoList!$B:$B, $A227, ToDoList!$R:$R, C$2))","v":""},{"$f":"IF($A227 = \"\", \"\", COUNTIFS(ToDoList!$B:$B, $A227, ToDoList!$R:$R, D$2))","v":""},{"$f":"IF($A227 = \"\", \"\", COUNTIFS(ToDoList!$B:$B, $A227, ToDoList!$R:$R, E$2))","v":""},{"$f":"IF($A227 = \"\", \"\", COUNTIFS(ToDoList!$B:$B, $A227, ToDoList!$R:$R, F$2))","v":""},{"$f":"IF($A227 = \"\", \"\", COUNTIFS(ToDoList!$B:$B, $A227, ToDoList!$R:$R, G$2))","v":""},{"$f":"IF($A227 = \"\", \"\", COUNTIFS(ToDoList!$B:$B, $A227, ToDoList!$R:$R, H$2))","v":""},{"$f":"IF($A227 = \"\", \"\", COUNTIFS(ToDoList!$B:$B, $A227, ToDoList!$R:$R, I$2))","v":""},{"$f":"IF($A227 = \"\", \"\", COUNTIFS(ToDoList!$B:$B, $A227, ToDoList!$R:$R, J$2))","v":""}]
[null,{"$f":"IF($A228 = \"\", \"\", COUNTIFS(ToDoList!$B:$B, $A228, ToDoList!$R:$R, B$2))","v":""},{"$f":"IF($A228 = \"\", \"\", COUNTIFS(ToDoList!$B:$B, $A228, ToDoList!$R:$R, C$2))","v":""},{"$f":"IF($A228 = \"\", \"\", COUNTIFS(ToDoList!$B:$B, $A228, ToDoList!$R:$R, D$2))","v":""},{"$f":"IF($A228 = \"\", \"\", COUNTIFS(ToDoList!$B:$B, $A228, ToDoList!$R:$R, E$2))","v":""},{"$f":"IF($A228 = \"\", \"\", COUNTIFS(ToDoList!$B:$B, $A228, ToDoList!$R:$R, F$2))","v":""},{"$f":"IF($A228 = \"\", \"\", COUNTIFS(ToDoList!$B:$B, $A228, ToDoList!$R:$R, G$2))","v":""},{"$f":"IF($A228 = \"\", \"\", COUNTIFS(ToDoList!$B:$B, $A228, ToDoList!$R:$R, H$2))","v":""},{"$f":"IF($A228 = \"\", \"\", COUNTIFS(ToDoList!$B:$B, $A228, ToDoList!$R:$R, I$2))","v":""},{"$f":"IF($A228 = \"\", \"\", COUNTIFS(ToDoList!$B:$B, $A228, ToDoList!$R:$R, J$2))","v":""}]
[null,{"$f":"IF($A229 = \"\", \"\", COUNTIFS(ToDoList!$B:$B, $A229, ToDoList!$R:$R, B$2))","v":""},{"$f":"IF($A229 = \"\", \"\", COUNTIFS(ToDoList!$B:$B, $A229, ToDoList!$R:$R, C$2))","v":""},{"$f":"IF($A229 = \"\", \"\", COUNTIFS(ToDoList!$B:$B, $A229, ToDoList!$R:$R, D$2))","v":""},{"$f":"IF($A229 = \"\", \"\", COUNTIFS(ToDoList!$B:$B, $A229, ToDoList!$R:$R, E$2))","v":""},{"$f":"IF($A229 = \"\", \"\", COUNTIFS(ToDoList!$B:$B, $A229, ToDoList!$R:$R, F$2))","v":""},{"$f":"IF($A229 = \"\", \"\", COUNTIFS(ToDoList!$B:$B, $A229, ToDoList!$R:$R, G$2))","v":""},{"$f":"IF($A229 = \"\", \"\", COUNTIFS(ToDoList!$B:$B, $A229, ToDoList!$R:$R, H$2))","v":""},{"$f":"IF($A229 = \"\", \"\", COUNTIFS(ToDoList!$B:$B, $A229, ToDoList!$R:$R, I$2))","v":""},{"$f":"IF($A229 = \"\", \"\", COUNTIFS(ToDoList!$B:$B, $A229, ToDoList!$R:$R, J$2))","v":""}]
[null,{"$f":"IF($A230 = \"\", \"\", COUNTIFS(ToDoList!$B:$B, $A230, ToDoList!$R:$R, B$2))","v":""},{"$f":"IF($A230 = \"\", \"\", COUNTIFS(ToDoList!$B:$B, $A230, ToDoList!$R:$R, C$2))","v":""},{"$f":"IF($A230 = \"\", \"\", COUNTIFS(ToDoList!$B:$B, $A230, ToDoList!$R:$R, D$2))","v":""},{"$f":"IF($A230 = \"\", \"\", COUNTIFS(ToDoList!$B:$B, $A230, ToDoList!$R:$R, E$2))","v":""},{"$f":"IF($A230 = \"\", \"\", COUNTIFS(ToDoList!$B:$B, $A230, ToDoList!$R:$R, F$2))","v":""},{"$f":"IF($A230 = \"\", \"\", COUNTIFS(ToDoList!$B:$B, $A230, ToDoList!$R:$R, G$2))","v":""},{"$f":"IF($A230 = \"\", \"\", COUNTIFS(ToDoList!$B:$B, $A230, ToDoList!$R:$R, H$2))","v":""},{"$f":"IF($A230 = \"\", \"\", COUNTIFS(ToDoList!$B:$B, $A230, ToDoList!$R:$R, I$2))","v":""},{"$f":"IF($A230 = \"\", \"\", COUNTIFS(ToDoList!$B:$B, $A230, ToDoList!$R:$R, J$2))","v":""}]
[null,{"$f":"IF($A231 = \"\", \"\", COUNTIFS(ToDoList!$B:$B, $A231, ToDoList!$R:$R, B$2))","v":""},{"$f":"IF($A231 = \"\", \"\", COUNTIFS(ToDoList!$B:$B, $A231, ToDoList!$R:$R, C$2))","v":""},{"$f":"IF($A231 = \"\", \"\", COUNTIFS(ToDoList!$B:$B, $A231, ToDoList!$R:$R, D$2))","v":""},{"$f":"IF($A231 = \"\", \"\", COUNTIFS(ToDoList!$B:$B, $A231, ToDoList!$R:$R, E$2))","v":""},{"$f":"IF($A231 = \"\", \"\", COUNTIFS(ToDoList!$B:$B, $A231, ToDoList!$R:$R, F$2))","v":""},{"$f":"IF($A231 = \"\", \"\", COUNTIFS(ToDoList!$B:$B, $A231, ToDoList!$R:$R, G$2))","v":""},{"$f":"IF($A231 = \"\", \"\", COUNTIFS(ToDoList!$B:$B, $A231, ToDoList!$R:$R, H$2))","v":""},{"$f":"IF($A231 = \"\", \"\", COUNTIFS(ToDoList!$B:$B, $A231, ToDoList!$R:$R, I$2))","v":""},{"$f":"IF($A231 = \"\", \"\", COUNTIFS(ToDoList!$B:$B, $A231, ToDoList!$R:$R, J$2))","v":""}]
[null,{"$f":"IF($A232 = \"\", \"\", COUNTIFS(ToDoList!$B:$B, $A232, ToDoList!$R:$R, B$2))","v":""},{"$f":"IF($A232 = \"\", \"\", COUNTIFS(ToDoList!$B:$B, $A232, ToDoList!$R:$R, C$2))","v":""},{"$f":"IF($A232 = \"\", \"\", COUNTIFS(ToDoList!$B:$B, $A232, ToDoList!$R:$R, D$2))","v":""},{"$f":"IF($A232 = \"\", \"\", COUNTIFS(ToDoList!$B:$B, $A232, ToDoList!$R:$R, E$2))","v":""},{"$f":"IF($A232 = \"\", \"\", COUNTIFS(ToDoList!$B:$B, $A232, ToDoList!$R:$R, F$2))","v":""},{"$f":"IF($A232 = \"\", \"\", COUNTIFS(ToDoList!$B:$B, $A232, ToDoList!$R:$R, G$2))","v":""},{"$f":"IF($A232 = \"\", \"\", COUNTIFS(ToDoList!$B:$B, $A232, ToDoList!$R:$R, H$2))","v":""},{"$f":"IF($A232 = \"\", \"\", COUNTIFS(ToDoList!$B:$B, $A232, ToDoList!$R:$R, I$2))","v":""},{"$f":"IF($A232 = \"\", \"\", COUNTIFS(ToDoList!$B:$B, $A232, ToDoList!$R:$R, J$2))","v":""}]
[null,{"$f":"IF($A233 = \"\", \"\", COUNTIFS(ToDoList!$B:$B, $A233, ToDoList!$R:$R, B$2))","v":""},{"$f":"IF($A233 = \"\", \"\", COUNTIFS(ToDoList!$B:$B, $A233, ToDoList!$R:$R, C$2))","v":""},{"$f":"IF($A233 = \"\", \"\", COUNTIFS(ToDoList!$B:$B, $A233, ToDoList!$R:$R, D$2))","v":""},{"$f":"IF($A233 = \"\", \"\", COUNTIFS(ToDoList!$B:$B, $A233, ToDoList!$R:$R, E$2))","v":""},{"$f":"IF($A233 = \"\", \"\", COUNTIFS(ToDoList!$B:$B, $A233, ToDoList!$R:$R, F$2))","v":""},{"$f":"IF($A233 = \"\", \"\", COUNTIFS(ToDoList!$B:$B, $A233, ToDoList!$R:$R, G$2))","v":""},{"$f":"IF($A233 = \"\", \"\", COUNTIFS(ToDoList!$B:$B, $A233, ToDoList!$R:$R, H$2))","v":""},{"$f":"IF($A233 = \"\", \"\", COUNTIFS(ToDoList!$B:$B, $A233, ToDoList!$R:$R, I$2))","v":""},{"$f":"IF($A233 = \"\", \"\", COUNTIFS(ToDoList!$B:$B, $A233, ToDoList!$R:$R, J$2))","v":""}]
[null,{"$f":"IF($A234 = \"\", \"\", COUNTIFS(ToDoList!$B:$B, $A234, ToDoList!$R:$R, B$2))","v":""},{"$f":"IF($A234 = \"\", \"\", COUNTIFS(ToDoList!$B:$B, $A234, ToDoList!$R:$R, C$2))","v":""},{"$f":"IF($A234 = \"\", \"\", COUNTIFS(ToDoList!$B:$B, $A234, ToDoList!$R:$R, D$2))","v":""},{"$f":"IF($A234 = \"\", \"\", COUNTIFS(ToDoList!$B:$B, $A234, ToDoList!$R:$R, E$2))","v":""},{"$f":"IF($A234 = \"\", \"\", COUNTIFS(ToDoList!$B:$B, $A234, ToDoList!$R:$R, F$2))","v":""},{"$f":"IF($A234 = \"\", \"\", COUNTIFS(ToDoList!$B:$B, $A234, ToDoList!$R:$R, G$2))","v":""},{"$f":"IF($A234 = \"\", \"\", COUNTIFS(ToDoList!$B:$B, $A234, ToDoList!$R:$R, H$2))","v":""},{"$f":"IF($A234 = \"\", \"\", COUNTIFS(ToDoList!$B:$B, $A234, ToDoList!$R:$R, I$2))","v":""},{"$f":"IF($A234 = \"\", \"\", COUNTIFS(ToDoList!$B:$B, $A234, ToDoList!$R:$R, J$2))","v":""}]
[null,{"$f":"IF($A235 = \"\", \"\", COUNTIFS(ToDoList!$B:$B, $A235, ToDoList!$R:$R, B$2))","v":""},{"$f":"IF($A235 = \"\", \"\", COUNTIFS(ToDoList!$B:$B, $A235, ToDoList!$R:$R, C$2))","v":""},{"$f":"IF($A235 = \"\", \"\", COUNTIFS(ToDoList!$B:$B, $A235, ToDoList!$R:$R, D$2))","v":""},{"$f":"IF($A235 = \"\", \"\", COUNTIFS(ToDoList!$B:$B, $A235, ToDoList!$R:$R, E$2))","v":""},{"$f":"IF($A235 = \"\", \"\", COUNTIFS(ToDoList!$B:$B, $A235, ToDoList!$R:$R, F$2))","v":""},{"$f":"IF($A235 = \"\", \"\", COUNTIFS(ToDoList!$B:$B, $A235, ToDoList!$R:$R, G$2))","v":""},{"$f":"IF($A235 = \"\", \"\", COUNTIFS(ToDoList!$B:$B, $A235, ToDoList!$R:$R, H$2))","v":""},{"$f":"IF($A235 = \"\", \"\", COUNTIFS(ToDoList!$B:$B, $A235, ToDoList!$R:$R, I$2))","v":""},{"$f":"IF($A235 = \"\", \"\", COUNTIFS(ToDoList!$B:$B, $A235, ToDoList!$R:$R, J$2))","v":""}]
[null,{"$f":"IF($A236 = \"\", \"\", COUNTIFS(ToDoList!$B:$B, $A236, ToDoList!$R:$R, B$2))","v":""},{"$f":"IF($A236 = \"\", \"\", COUNTIFS(ToDoList!$B:$B, $A236, ToDoList!$R:$R, C$2))","v":""},{"$f":"IF($A236 = \"\", \"\", COUNTIFS(ToDoList!$B:$B, $A236, ToDoList!$R:$R, D$2))","v":""},{"$f":"IF($A236 = \"\", \"\", COUNTIFS(ToDoList!$B:$B, $A236, ToDoList!$R:$R, E$2))","v":""},{"$f":"IF($A236 = \"\", \"\", COUNTIFS(ToDoList!$B:$B, $A236, ToDoList!$R:$R, F$2))","v":""},{"$f":"IF($A236 = \"\", \"\", COUNTIFS(ToDoList!$B:$B, $A236, ToDoList!$R:$R, G$2))","v":""},{"$f":"IF($A236 = \"\", \"\", COUNTIFS(ToDoList!$B:$B, $A236, ToDoList!$R:$R, H$2))","v":""},{"$f":"IF($A236 = \"\", \"\", COUNTIFS(ToDoList!$B:$B, $A236, ToDoList!$R:$R, I$2))","v":""},{"$f":"IF($A236 = \"\", \"\", COUNTIFS(ToDoList!$B:$B, $A236, ToDoList!$R:$R, J$2))","v":""}]
[null,{"$f":"IF($A237 = \"\", \"\", COUNTIFS(ToDoList!$B:$B, $A237, ToDoList!$R:$R, B$2))","v":""},{"$f":"IF($A237 = \"\", \"\", COUNTIFS(ToDoList!$B:$B, $A237, ToDoList!$R:$R, C$2))","v":""},{"$f":"IF($A237 = \"\", \"\", COUNTIFS(ToDoList!$B:$B, $A237, ToDoList!$R:$R, D$2))","v":""},{"$f":"IF($A237 = \"\", \"\", COUNTIFS(ToDoList!$B:$B, $A237, ToDoList!$R:$R, E$2))","v":""},{"$f":"IF($A237 = \"\", \"\", COUNTIFS(ToDoList!$B:$B, $A237, ToDoList!$R:$R, F$2))","v":""},{"$f":"IF($A237 = \"\", \"\", COUNTIFS(ToDoList!$B:$B, $A237, ToDoList!$R:$R, G$2))","v":""},{"$f":"IF($A237 = \"\", \"\", COUNTIFS(ToDoList!$B:$B, $A237, ToDoList!$R:$R, H$2))","v":""},{"$f":"IF($A237 = \"\", \"\", COUNTIFS(ToDoList!$B:$B, $A237, ToDoList!$R:$R, I$2))","v":""},{"$f":"IF($A237 = \"\", \"\", COUNTIFS(ToDoList!$B:$B, $A237, ToDoList!$R:$R, J$2))","v":""}]
[null,{"$f":"IF($A238 = \"\", \"\", COUNTIFS(ToDoList!$B:$B, $A238, ToDoList!$R:$R, B$2))","v":""},{"$f":"IF($A238 = \"\", \"\", COUNTIFS(ToDoList!$B:$B, $A238, ToDoList!$R:$R, C$2))","v":""},{"$f":"IF($A238 = \"\", \"\", COUNTIFS(ToDoList!$B:$B, $A238, ToDoList!$R:$R, D$2))","v":""},{"$f":"IF($A238 = \"\", \"\", COUNTIFS(ToDoList!$B:$B, $A238, ToDoList!$R:$R, E$2))","v":""},{"$f":"IF($A238 = \"\", \"\", COUNTIFS(ToDoList!$B:$B, $A238, ToDoList!$R:$R, F$2))","v":""},{"$f":"IF($A238 = \"\", \"\", COUNTIFS(ToDoList!$B:$B, $A238, ToDoList!$R:$R, G$2))","v":""},{"$f":"IF($A238 = \"\", \"\", COUNTIFS(ToDoList!$B:$B, $A238, ToDoList!$R:$R, H$2))","v":""},{"$f":"IF($A238 = \"\", \"\", COUNTIFS(ToDoList!$B:$B, $A238, ToDoList!$R:$R, I$2))","v":""},{"$f":"IF($A238 = \"\", \"\", COUNTIFS(ToDoList!$B:$B, $A238, ToDoList!$R:$R, J$2))","v":""}]
[null,{"$f":"IF($A239 = \"\", \"\", COUNTIFS(ToDoList!$B:$B, $A239, ToDoList!$R:$R, B$2))","v":""},{"$f":"IF($A239 = \"\", \"\", COUNTIFS(ToDoList!$B:$B, $A239, ToDoList!$R:$R, C$2))","v":""},{"$f":"IF($A239 = \"\", \"\", COUNTIFS(ToDoList!$B:$B, $A239, ToDoList!$R:$R, D$2))","v":""},{"$f":"IF($A239 = \"\", \"\", COUNTIFS(ToDoList!$B:$B, $A239, ToDoList!$R:$R, E$2))","v":""},{"$f":"IF($A239 = \"\", \"\", COUNTIFS(ToDoList!$B:$B, $A239, ToDoList!$R:$R, F$2))","v":""},{"$f":"IF($A239 = \"\", \"\", COUNTIFS(ToDoList!$B:$B, $A239, ToDoList!$R:$R, G$2))","v":""},{"$f":"IF($A239 = \"\", \"\", COUNTIFS(ToDoList!$B:$B, $A239, ToDoList!$R:$R, H$2))","v":""},{"$f":"IF($A239 = \"\", \"\", COUNTIFS(ToDoList!$B:$B, $A239, ToDoList!$R:$R, I$2))","v":""},{"$f":"IF($A239 = \"\", \"\", COUNTIFS(ToDoList!$B:$B, $A239, ToDoList!$R:$R, J$2))","v":""}]
[null,{"$f":"IF($A240 = \"\", \"\", COUNTIFS(ToDoList!$B:$B, $A240, ToDoList!$R:$R, B$2))","v":""},{"$f":"IF($A240 = \"\", \"\", COUNTIFS(ToDoList!$B:$B, $A240, ToDoList!$R:$R, C$2))","v":""},{"$f":"IF($A240 = \"\", \"\", COUNTIFS(ToDoList!$B:$B, $A240, ToDoList!$R:$R, D$2))","v":""},{"$f":"IF($A240 = \"\", \"\", COUNTIFS(ToDoList!$B:$B, $A240, ToDoList!$R:$R, E$2))","v":""},{"$f":"IF($A240 = \"\", \"\", COUNTIFS(ToDoList!$B:$B, $A240, ToDoList!$R:$R, F$2))","v":""},{"$f":"IF($A240 = \"\", \"\", COUNTIFS(ToDoList!$B:$B, $A240, ToDoList!$R:$R, G$2))","v":""},{"$f":"IF($A240 = \"\", \"\", COUNTIFS(ToDoList!$B:$B, $A240, ToDoList!$R:$R, H$2))","v":""},{"$f":"IF($A240 = \"\", \"\", COUNTIFS(ToDoList!$B:$B, $A240, ToDoList!$R:$R, I$2))","v":""},{"$f":"IF($A240 = \"\", \"\", COUNTIFS(ToDoList!$B:$B, $A240, ToDoList!$R:$R, J$2))","v":""}]
[null,{"$f":"IF($A241 = \"\", \"\", COUNTIFS(ToDoList!$B:$B, $A241, ToDoList!$R:$R, B$2))","v":""},{"$f":"IF($A241 = \"\", \"\", COUNTIFS(ToDoList!$B:$B, $A241, ToDoList!$R:$R, C$2))","v":""},{"$f":"IF($A241 = \"\", \"\", COUNTIFS(ToDoList!$B:$B, $A241, ToDoList!$R:$R, D$2))","v":""},{"$f":"IF($A241 = \"\", \"\", COUNTIFS(ToDoList!$B:$B, $A241, ToDoList!$R:$R, E$2))","v":""},{"$f":"IF($A241 = \"\", \"\", COUNTIFS(ToDoList!$B:$B, $A241, ToDoList!$R:$R, F$2))","v":""},{"$f":"IF($A241 = \"\", \"\", COUNTIFS(ToDoList!$B:$B, $A241, ToDoList!$R:$R, G$2))","v":""},{"$f":"IF($A241 = \"\", \"\", COUNTIFS(ToDoList!$B:$B, $A241, ToDoList!$R:$R, H$2))","v":""},{"$f":"IF($A241 = \"\", \"\", COUNTIFS(ToDoList!$B:$B, $A241, ToDoList!$R:$R, I$2))","v":""},{"$f":"IF($A241 = \"\", \"\", COUNTIFS(ToDoList!$B:$B, $A241, ToDoList!$R:$R, J$2))","v":""}]
[null,{"$f":"IF($A242 = \"\", \"\", COUNTIFS(ToDoList!$B:$B, $A242, ToDoList!$R:$R, B$2))","v":""},{"$f":"IF($A242 = \"\", \"\", COUNTIFS(ToDoList!$B:$B, $A242, ToDoList!$R:$R, C$2))","v":""},{"$f":"IF($A242 = \"\", \"\", COUNTIFS(ToDoList!$B:$B, $A242, ToDoList!$R:$R, D$2))","v":""},{"$f":"IF($A242 = \"\", \"\", COUNTIFS(ToDoList!$B:$B, $A242, ToDoList!$R:$R, E$2))","v":""},{"$f":"IF($A242 = \"\", \"\", COUNTIFS(ToDoList!$B:$B, $A242, ToDoList!$R:$R, F$2))","v":""},{"$f":"IF($A242 = \"\", \"\", COUNTIFS(ToDoList!$B:$B, $A242, ToDoList!$R:$R, G$2))","v":""},{"$f":"IF($A242 = \"\", \"\", COUNTIFS(ToDoList!$B:$B, $A242, ToDoList!$R:$R, H$2))","v":""},{"$f":"IF($A242 = \"\", \"\", COUNTIFS(ToDoList!$B:$B, $A242, ToDoList!$R:$R, I$2))","v":""},{"$f":"IF($A242 = \"\", \"\", COUNTIFS(ToDoList!$B:$B, $A242, ToDoList!$R:$R, J$2))","v":""}]
[null,{"$f":"IF($A243 = \"\", \"\", COUNTIFS(ToDoList!$B:$B, $A243, ToDoList!$R:$R, B$2))","v":""},{"$f":"IF($A243 = \"\", \"\", COUNTIFS(ToDoList!$B:$B, $A243, ToDoList!$R:$R, C$2))","v":""},{"$f":"IF($A243 = \"\", \"\", COUNTIFS(ToDoList!$B:$B, $A243, ToDoList!$R:$R, D$2))","v":""},{"$f":"IF($A243 = \"\", \"\", COUNTIFS(ToDoList!$B:$B, $A243, ToDoList!$R:$R, E$2))","v":""},{"$f":"IF($A243 = \"\", \"\", COUNTIFS(ToDoList!$B:$B, $A243, ToDoList!$R:$R, F$2))","v":""},{"$f":"IF($A243 = \"\", \"\", COUNTIFS(ToDoList!$B:$B, $A243, ToDoList!$R:$R, G$2))","v":""},{"$f":"IF($A243 = \"\", \"\", COUNTIFS(ToDoList!$B:$B, $A243, ToDoList!$R:$R, H$2))","v":""},{"$f":"IF($A243 = \"\", \"\", COUNTIFS(ToDoList!$B:$B, $A243, ToDoList!$R:$R, I$2))","v":""},{"$f":"IF($A243 = \"\", \"\", COUNTIFS(ToDoList!$B:$B, $A243, ToDoList!$R:$R, J$2))","v":""}]
[null,{"$f":"IF($A244 = \"\", \"\", COUNTIFS(ToDoList!$B:$B, $A244, ToDoList!$R:$R, B$2))","v":""},{"$f":"IF($A244 = \"\", \"\", COUNTIFS(ToDoList!$B:$B, $A244, ToDoList!$R:$R, C$2))","v":""},{"$f":"IF($A244 = \"\", \"\", COUNTIFS(ToDoList!$B:$B, $A244, ToDoList!$R:$R, D$2))","v":""},{"$f":"IF($A244 = \"\", \"\", COUNTIFS(ToDoList!$B:$B, $A244, ToDoList!$R:$R, E$2))","v":""},{"$f":"IF($A244 = \"\", \"\", COUNTIFS(ToDoList!$B:$B, $A244, ToDoList!$R:$R, F$2))","v":""},{"$f":"IF($A244 = \"\", \"\", COUNTIFS(ToDoList!$B:$B, $A244, ToDoList!$R:$R, G$2))","v":""},{"$f":"IF($A244 = \"\", \"\", COUNTIFS(ToDoList!$B:$B, $A244, ToDoList!$R:$R, H$2))","v":""},{"$f":"IF($A244 = \"\", \"\", COUNTIFS(ToDoList!$B:$B, $A244, ToDoList!$R:$R, I$2))","v":""},{"$f":"IF($A244 = \"\", \"\", COUNTIFS(ToDoList!$B:$B, $A244, ToDoList!$R:$R, J$2))","v":""}]
[null,{"$f":"IF($A245 = \"\", \"\", COUNTIFS(ToDoList!$B:$B, $A245, ToDoList!$R:$R, B$2))","v":""},{"$f":"IF($A245 = \"\", \"\", COUNTIFS(ToDoList!$B:$B, $A245, ToDoList!$R:$R, C$2))","v":""},{"$f":"IF($A245 = \"\", \"\", COUNTIFS(ToDoList!$B:$B, $A245, ToDoList!$R:$R, D$2))","v":""},{"$f":"IF($A245 = \"\", \"\", COUNTIFS(ToDoList!$B:$B, $A245, ToDoList!$R:$R, E$2))","v":""},{"$f":"IF($A245 = \"\", \"\", COUNTIFS(ToDoList!$B:$B, $A245, ToDoList!$R:$R, F$2))","v":""},{"$f":"IF($A245 = \"\", \"\", COUNTIFS(ToDoList!$B:$B, $A245, ToDoList!$R:$R, G$2))","v":""},{"$f":"IF($A245 = \"\", \"\", COUNTIFS(ToDoList!$B:$B, $A245, ToDoList!$R:$R, H$2))","v":""},{"$f":"IF($A245 = \"\", \"\", COUNTIFS(ToDoList!$B:$B, $A245, ToDoList!$R:$R, I$2))","v":""},{"$f":"IF($A245 = \"\", \"\", COUNTIFS(ToDoList!$B:$B, $A245, ToDoList!$R:$R, J$2))","v":""}]
[null,{"$f":"IF($A246 = \"\", \"\", COUNTIFS(ToDoList!$B:$B, $A246, ToDoList!$R:$R, B$2))","v":""},{"$f":"IF($A246 = \"\", \"\", COUNTIFS(ToDoList!$B:$B, $A246, ToDoList!$R:$R, C$2))","v":""},{"$f":"IF($A246 = \"\", \"\", COUNTIFS(ToDoList!$B:$B, $A246, ToDoList!$R:$R, D$2))","v":""},{"$f":"IF($A246 = \"\", \"\", COUNTIFS(ToDoList!$B:$B, $A246, ToDoList!$R:$R, E$2))","v":""},{"$f":"IF($A246 = \"\", \"\", COUNTIFS(ToDoList!$B:$B, $A246, ToDoList!$R:$R, F$2))","v":""},{"$f":"IF($A246 = \"\", \"\", COUNTIFS(ToDoList!$B:$B, $A246, ToDoList!$R:$R, G$2))","v":""},{"$f":"IF($A246 = \"\", \"\", COUNTIFS(ToDoList!$B:$B, $A246, ToDoList!$R:$R, H$2))","v":""},{"$f":"IF($A246 = \"\", \"\", COUNTIFS(ToDoList!$B:$B, $A246, ToDoList!$R:$R, I$2))","v":""},{"$f":"IF($A246 = \"\", \"\", COUNTIFS(ToDoList!$B:$B, $A246, ToDoList!$R:$R, J$2))","v":""}]
[null,{"$f":"IF($A247 = \"\", \"\", COUNTIFS(ToDoList!$B:$B, $A247, ToDoList!$R:$R, B$2))","v":""},{"$f":"IF($A247 = \"\", \"\", COUNTIFS(ToDoList!$B:$B, $A247, ToDoList!$R:$R, C$2))","v":""},{"$f":"IF($A247 = \"\", \"\", COUNTIFS(ToDoList!$B:$B, $A247, ToDoList!$R:$R, D$2))","v":""},{"$f":"IF($A247 = \"\", \"\", COUNTIFS(ToDoList!$B:$B, $A247, ToDoList!$R:$R, E$2))","v":""},{"$f":"IF($A247 = \"\", \"\", COUNTIFS(ToDoList!$B:$B, $A247, ToDoList!$R:$R, F$2))","v":""},{"$f":"IF($A247 = \"\", \"\", COUNTIFS(ToDoList!$B:$B, $A247, ToDoList!$R:$R, G$2))","v":""},{"$f":"IF($A247 = \"\", \"\", COUNTIFS(ToDoList!$B:$B, $A247, ToDoList!$R:$R, H$2))","v":""},{"$f":"IF($A247 = \"\", \"\", COUNTIFS(ToDoList!$B:$B, $A247, ToDoList!$R:$R, I$2))","v":""},{"$f":"IF($A247 = \"\", \"\", COUNTIFS(ToDoList!$B:$B, $A247, ToDoList!$R:$R, J$2))","v":""}]
[null,{"$f":"IF($A248 = \"\", \"\", COUNTIFS(ToDoList!$B:$B, $A248, ToDoList!$R:$R, B$2))","v":""},{"$f":"IF($A248 = \"\", \"\", COUNTIFS(ToDoList!$B:$B, $A248, ToDoList!$R:$R, C$2))","v":""},{"$f":"IF($A248 = \"\", \"\", COUNTIFS(ToDoList!$B:$B, $A248, ToDoList!$R:$R, D$2))","v":""},{"$f":"IF($A248 = \"\", \"\", COUNTIFS(ToDoList!$B:$B, $A248, ToDoList!$R:$R, E$2))","v":""},{"$f":"IF($A248 = \"\", \"\", COUNTIFS(ToDoList!$B:$B, $A248, ToDoList!$R:$R, F$2))","v":""},{"$f":"IF($A248 = \"\", \"\", COUNTIFS(ToDoList!$B:$B, $A248, ToDoList!$R:$R, G$2))","v":""},{"$f":"IF($A248 = \"\", \"\", COUNTIFS(ToDoList!$B:$B, $A248, ToDoList!$R:$R, H$2))","v":""},{"$f":"IF($A248 = \"\", \"\", COUNTIFS(ToDoList!$B:$B, $A248, ToDoList!$R:$R, I$2))","v":""},{"$f":"IF($A248 = \"\", \"\", COUNTIFS(ToDoList!$B:$B, $A248, ToDoList!$R:$R, J$2))","v":""}]
[null,{"$f":"IF($A249 = \"\", \"\", COUNTIFS(ToDoList!$B:$B, $A249, ToDoList!$R:$R, B$2))","v":""},{"$f":"IF($A249 = \"\", \"\", COUNTIFS(ToDoList!$B:$B, $A249, ToDoList!$R:$R, C$2))","v":""},{"$f":"IF($A249 = \"\", \"\", COUNTIFS(ToDoList!$B:$B, $A249, ToDoList!$R:$R, D$2))","v":""},{"$f":"IF($A249 = \"\", \"\", COUNTIFS(ToDoList!$B:$B, $A249, ToDoList!$R:$R, E$2))","v":""},{"$f":"IF($A249 = \"\", \"\", COUNTIFS(ToDoList!$B:$B, $A249, ToDoList!$R:$R, F$2))","v":""},{"$f":"IF($A249 = \"\", \"\", COUNTIFS(ToDoList!$B:$B, $A249, ToDoList!$R:$R, G$2))","v":""},{"$f":"IF($A249 = \"\", \"\", COUNTIFS(ToDoList!$B:$B, $A249, ToDoList!$R:$R, H$2))","v":""},{"$f":"IF($A249 = \"\", \"\", COUNTIFS(ToDoList!$B:$B, $A249, ToDoList!$R:$R, I$2))","v":""},{"$f":"IF($A249 = \"\", \"\", COUNTIFS(ToDoList!$B:$B, $A249, ToDoList!$R:$R, J$2))","v":""}]
[null,{"$f":"IF($A250 = \"\", \"\", COUNTIFS(ToDoList!$B:$B, $A250, ToDoList!$R:$R, B$2))","v":""},{"$f":"IF($A250 = \"\", \"\", COUNTIFS(ToDoList!$B:$B, $A250, ToDoList!$R:$R, C$2))","v":""},{"$f":"IF($A250 = \"\", \"\", COUNTIFS(ToDoList!$B:$B, $A250, ToDoList!$R:$R, D$2))","v":""},{"$f":"IF($A250 = \"\", \"\", COUNTIFS(ToDoList!$B:$B, $A250, ToDoList!$R:$R, E$2))","v":""},{"$f":"IF($A250 = \"\", \"\", COUNTIFS(ToDoList!$B:$B, $A250, ToDoList!$R:$R, F$2))","v":""},{"$f":"IF($A250 = \"\", \"\", COUNTIFS(ToDoList!$B:$B, $A250, ToDoList!$R:$R, G$2))","v":""},{"$f":"IF($A250 = \"\", \"\", COUNTIFS(ToDoList!$B:$B, $A250, ToDoList!$R:$R, H$2))","v":""},{"$f":"IF($A250 = \"\", \"\", COUNTIFS(ToDoList!$B:$B, $A250, ToDoList!$R:$R, I$2))","v":""},{"$f":"IF($A250 = \"\", \"\", COUNTIFS(ToDoList!$B:$B, $A250, ToDoList!$R:$R, J$2))","v":""}]
[null,{"$f":"IF($A251 = \"\", \"\", COUNTIFS(ToDoList!$B:$B, $A251, ToDoList!$R:$R, B$2))","v":""},{"$f":"IF($A251 = \"\", \"\", COUNTIFS(ToDoList!$B:$B, $A251, ToDoList!$R:$R, C$2))","v":""},{"$f":"IF($A251 = \"\", \"\", COUNTIFS(ToDoList!$B:$B, $A251, ToDoList!$R:$R, D$2))","v":""},{"$f":"IF($A251 = \"\", \"\", COUNTIFS(ToDoList!$B:$B, $A251, ToDoList!$R:$R, E$2))","v":""},{"$f":"IF($A251 = \"\", \"\", COUNTIFS(ToDoList!$B:$B, $A251, ToDoList!$R:$R, F$2))","v":""},{"$f":"IF($A251 = \"\", \"\", COUNTIFS(ToDoList!$B:$B, $A251, ToDoList!$R:$R, G$2))","v":""},{"$f":"IF($A251 = \"\", \"\", COUNTIFS(ToDoList!$B:$B, $A251, ToDoList!$R:$R, H$2))","v":""},{"$f":"IF($A251 = \"\", \"\", COUNTIFS(ToDoList!$B:$B, $A251, ToDoList!$R:$R, I$2))","v":""},{"$f":"IF($A251 = \"\", \"\", COUNTIFS(ToDoList!$B:$B, $A251, ToDoList!$R:$R, J$2))","v":""}]
[null,{"$f":"IF($A252 = \"\", \"\", COUNTIFS(ToDoList!$B:$B, $A252, ToDoList!$R:$R, B$2))","v":""},{"$f":"IF($A252 = \"\", \"\", COUNTIFS(ToDoList!$B:$B, $A252, ToDoList!$R:$R, C$2))","v":""},{"$f":"IF($A252 = \"\", \"\", COUNTIFS(ToDoList!$B:$B, $A252, ToDoList!$R:$R, D$2))","v":""},{"$f":"IF($A252 = \"\", \"\", COUNTIFS(ToDoList!$B:$B, $A252, ToDoList!$R:$R, E$2))","v":""},{"$f":"IF($A252 = \"\", \"\", COUNTIFS(ToDoList!$B:$B, $A252, ToDoList!$R:$R, F$2))","v":""},{"$f":"IF($A252 = \"\", \"\", COUNTIFS(ToDoList!$B:$B, $A252, ToDoList!$R:$R, G$2))","v":""},{"$f":"IF($A252 = \"\", \"\", COUNTIFS(ToDoList!$B:$B, $A252, ToDoList!$R:$R, H$2))","v":""},{"$f":"IF($A252 = \"\", \"\", COUNTIFS(ToDoList!$B:$B, $A252, ToDoList!$R:$R, I$2))","v":""},{"$f":"IF($A252 = \"\", \"\", COUNTIFS(ToDoList!$B:$B, $A252, ToDoList!$R:$R, J$2))","v":""}]
[null,{"$f":"IF($A253 = \"\", \"\", COUNTIFS(ToDoList!$B:$B, $A253, ToDoList!$R:$R, B$2))","v":""},{"$f":"IF($A253 = \"\", \"\", COUNTIFS(ToDoList!$B:$B, $A253, ToDoList!$R:$R, C$2))","v":""},{"$f":"IF($A253 = \"\", \"\", COUNTIFS(ToDoList!$B:$B, $A253, ToDoList!$R:$R, D$2))","v":""},{"$f":"IF($A253 = \"\", \"\", COUNTIFS(ToDoList!$B:$B, $A253, ToDoList!$R:$R, E$2))","v":""},{"$f":"IF($A253 = \"\", \"\", COUNTIFS(ToDoList!$B:$B, $A253, ToDoList!$R:$R, F$2))","v":""},{"$f":"IF($A253 = \"\", \"\", COUNTIFS(ToDoList!$B:$B, $A253, ToDoList!$R:$R, G$2))","v":""},{"$f":"IF($A253 = \"\", \"\", COUNTIFS(ToDoList!$B:$B, $A253, ToDoList!$R:$R, H$2))","v":""},{"$f":"IF($A253 = \"\", \"\", COUNTIFS(ToDoList!$B:$B, $A253, ToDoList!$R:$R, I$2))","v":""},{"$f":"IF($A253 = \"\", \"\", COUNTIFS(ToDoList!$B:$B, $A253, ToDoList!$R:$R, J$2))","v":""}]
[null,{"$f":"IF($A254 = \"\", \"\", COUNTIFS(ToDoList!$B:$B, $A254, ToDoList!$R:$R, B$2))","v":""},{"$f":"IF($A254 = \"\", \"\", COUNTIFS(ToDoList!$B:$B, $A254, ToDoList!$R:$R, C$2))","v":""},{"$f":"IF($A254 = \"\", \"\", COUNTIFS(ToDoList!$B:$B, $A254, ToDoList!$R:$R, D$2))","v":""},{"$f":"IF($A254 = \"\", \"\", COUNTIFS(ToDoList!$B:$B, $A254, ToDoList!$R:$R, E$2))","v":""},{"$f":"IF($A254 = \"\", \"\", COUNTIFS(ToDoList!$B:$B, $A254, ToDoList!$R:$R, F$2))","v":""},{"$f":"IF($A254 = \"\", \"\", COUNTIFS(ToDoList!$B:$B, $A254, ToDoList!$R:$R, G$2))","v":""},{"$f":"IF($A254 = \"\", \"\", COUNTIFS(ToDoList!$B:$B, $A254, ToDoList!$R:$R, H$2))","v":""},{"$f":"IF($A254 = \"\", \"\", COUNTIFS(ToDoList!$B:$B, $A254, ToDoList!$R:$R, I$2))","v":""},{"$f":"IF($A254 = \"\", \"\", COUNTIFS(ToDoList!$B:$B, $A254, ToDoList!$R:$R, J$2))","v":""}]
[null,{"$f":"IF($A255 = \"\", \"\", COUNTIFS(ToDoList!$B:$B, $A255, ToDoList!$R:$R, B$2))","v":""},{"$f":"IF($A255 = \"\", \"\", COUNTIFS(ToDoList!$B:$B, $A255, ToDoList!$R:$R, C$2))","v":""},{"$f":"IF($A255 = \"\", \"\", COUNTIFS(ToDoList!$B:$B, $A255, ToDoList!$R:$R, D$2))","v":""},{"$f":"IF($A255 = \"\", \"\", COUNTIFS(ToDoList!$B:$B, $A255, ToDoList!$R:$R, E$2))","v":""},{"$f":"IF($A255 = \"\", \"\", COUNTIFS(ToDoList!$B:$B, $A255, ToDoList!$R:$R, F$2))","v":""},{"$f":"IF($A255 = \"\", \"\", COUNTIFS(ToDoList!$B:$B, $A255, ToDoList!$R:$R, G$2))","v":""},{"$f":"IF($A255 = \"\", \"\", COUNTIFS(ToDoList!$B:$B, $A255, ToDoList!$R:$R, H$2))","v":""},{"$f":"IF($A255 = \"\", \"\", COUNTIFS(ToDoList!$B:$B, $A255, ToDoList!$R:$R, I$2))","v":""},{"$f":"IF($A255 = \"\", \"\", COUNTIFS(ToDoList!$B:$B, $A255, ToDoList!$R:$R, J$2))","v":""}]
[null,{"$f":"IF($A256 = \"\", \"\", COUNTIFS(ToDoList!$B:$B, $A256, ToDoList!$R:$R, B$2))","v":""},{"$f":"IF($A256 = \"\", \"\", COUNTIFS(ToDoList!$B:$B, $A256, ToDoList!$R:$R, C$2))","v":""},{"$f":"IF($A256 = \"\", \"\", COUNTIFS(ToDoList!$B:$B, $A256, ToDoList!$R:$R, D$2))","v":""},{"$f":"IF($A256 = \"\", \"\", COUNTIFS(ToDoList!$B:$B, $A256, ToDoList!$R:$R, E$2))","v":""},{"$f":"IF($A256 = \"\", \"\", COUNTIFS(ToDoList!$B:$B, $A256, ToDoList!$R:$R, F$2))","v":""},{"$f":"IF($A256 = \"\", \"\", COUNTIFS(ToDoList!$B:$B, $A256, ToDoList!$R:$R, G$2))","v":""},{"$f":"IF($A256 = \"\", \"\", COUNTIFS(ToDoList!$B:$B, $A256, ToDoList!$R:$R, H$2))","v":""},{"$f":"IF($A256 = \"\", \"\", COUNTIFS(ToDoList!$B:$B, $A256, ToDoList!$R:$R, I$2))","v":""},{"$f":"IF($A256 = \"\", \"\", COUNTIFS(ToDoList!$B:$B, $A256, ToDoList!$R:$R, J$2))","v":""}]
[null,{"$f":"IF($A257 = \"\", \"\", COUNTIFS(ToDoList!$B:$B, $A257, ToDoList!$R:$R, B$2))","v":""},{"$f":"IF($A257 = \"\", \"\", COUNTIFS(ToDoList!$B:$B, $A257, ToDoList!$R:$R, C$2))","v":""},{"$f":"IF($A257 = \"\", \"\", COUNTIFS(ToDoList!$B:$B, $A257, ToDoList!$R:$R, D$2))","v":""},{"$f":"IF($A257 = \"\", \"\", COUNTIFS(ToDoList!$B:$B, $A257, ToDoList!$R:$R, E$2))","v":""},{"$f":"IF($A257 = \"\", \"\", COUNTIFS(ToDoList!$B:$B, $A257, ToDoList!$R:$R, F$2))","v":""},{"$f":"IF($A257 = \"\", \"\", COUNTIFS(ToDoList!$B:$B, $A257, ToDoList!$R:$R, G$2))","v":""},{"$f":"IF($A257 = \"\", \"\", COUNTIFS(ToDoList!$B:$B, $A257, ToDoList!$R:$R, H$2))","v":""},{"$f":"IF($A257 = \"\", \"\", COUNTIFS(ToDoList!$B:$B, $A257, ToDoList!$R:$R, I$2))","v":""},{"$f":"IF($A257 = \"\", \"\", COUNTIFS(ToDoList!$B:$B, $A257, ToDoList!$R:$R, J$2))","v":""}]
[null,{"$f":"IF($A258 = \"\", \"\", COUNTIFS(ToDoList!$B:$B, $A258, ToDoList!$R:$R, B$2))","v":""},{"$f":"IF($A258 = \"\", \"\", COUNTIFS(ToDoList!$B:$B, $A258, ToDoList!$R:$R, C$2))","v":""},{"$f":"IF($A258 = \"\", \"\", COUNTIFS(ToDoList!$B:$B, $A258, ToDoList!$R:$R, D$2))","v":""},{"$f":"IF($A258 = \"\", \"\", COUNTIFS(ToDoList!$B:$B, $A258, ToDoList!$R:$R, E$2))","v":""},{"$f":"IF($A258 = \"\", \"\", COUNTIFS(ToDoList!$B:$B, $A258, ToDoList!$R:$R, F$2))","v":""},{"$f":"IF($A258 = \"\", \"\", COUNTIFS(ToDoList!$B:$B, $A258, ToDoList!$R:$R, G$2))","v":""},{"$f":"IF($A258 = \"\", \"\", COUNTIFS(ToDoList!$B:$B, $A258, ToDoList!$R:$R, H$2))","v":""},{"$f":"IF($A258 = \"\", \"\", COUNTIFS(ToDoList!$B:$B, $A258, ToDoList!$R:$R, I$2))","v":""},{"$f":"IF($A258 = \"\", \"\", COUNTIFS(ToDoList!$B:$B, $A258, ToDoList!$R:$R, J$2))","v":""}]
[null,{"$f":"IF($A259 = \"\", \"\", COUNTIFS(ToDoList!$B:$B, $A259, ToDoList!$R:$R, B$2))","v":""},{"$f":"IF($A259 = \"\", \"\", COUNTIFS(ToDoList!$B:$B, $A259, ToDoList!$R:$R, C$2))","v":""},{"$f":"IF($A259 = \"\", \"\", COUNTIFS(ToDoList!$B:$B, $A259, ToDoList!$R:$R, D$2))","v":""},{"$f":"IF($A259 = \"\", \"\", COUNTIFS(ToDoList!$B:$B, $A259, ToDoList!$R:$R, E$2))","v":""},{"$f":"IF($A259 = \"\", \"\", COUNTIFS(ToDoList!$B:$B, $A259, ToDoList!$R:$R, F$2))","v":""},{"$f":"IF($A259 = \"\", \"\", COUNTIFS(ToDoList!$B:$B, $A259, ToDoList!$R:$R, G$2))","v":""},{"$f":"IF($A259 = \"\", \"\", COUNTIFS(ToDoList!$B:$B, $A259, ToDoList!$R:$R, H$2))","v":""},{"$f":"IF($A259 = \"\", \"\", COUNTIFS(ToDoList!$B:$B, $A259, ToDoList!$R:$R, I$2))","v":""},{"$f":"IF($A259 = \"\", \"\", COUNTIFS(ToDoList!$B:$B, $A259, ToDoList!$R:$R, J$2))","v":""}]
[null,{"$f":"IF($A260 = \"\", \"\", COUNTIFS(ToDoList!$B:$B, $A260, ToDoList!$R:$R, B$2))","v":""},{"$f":"IF($A260 = \"\", \"\", COUNTIFS(ToDoList!$B:$B, $A260, ToDoList!$R:$R, C$2))","v":""},{"$f":"IF($A260 = \"\", \"\", COUNTIFS(ToDoList!$B:$B, $A260, ToDoList!$R:$R, D$2))","v":""},{"$f":"IF($A260 = \"\", \"\", COUNTIFS(ToDoList!$B:$B, $A260, ToDoList!$R:$R, E$2))","v":""},{"$f":"IF($A260 = \"\", \"\", COUNTIFS(ToDoList!$B:$B, $A260, ToDoList!$R:$R, F$2))","v":""},{"$f":"IF($A260 = \"\", \"\", COUNTIFS(ToDoList!$B:$B, $A260, ToDoList!$R:$R, G$2))","v":""},{"$f":"IF($A260 = \"\", \"\", COUNTIFS(ToDoList!$B:$B, $A260, ToDoList!$R:$R, H$2))","v":""},{"$f":"IF($A260 = \"\", \"\", COUNTIFS(ToDoList!$B:$B, $A260, ToDoList!$R:$R, I$2))","v":""},{"$f":"IF($A260 = \"\", \"\", COUNTIFS(ToDoList!$B:$B, $A260, ToDoList!$R:$R, J$2))","v":""}]
[null,{"$f":"IF($A261 = \"\", \"\", COUNTIFS(ToDoList!$B:$B, $A261, ToDoList!$R:$R, B$2))","v":""},{"$f":"IF($A261 = \"\", \"\", COUNTIFS(ToDoList!$B:$B, $A261, ToDoList!$R:$R, C$2))","v":""},{"$f":"IF($A261 = \"\", \"\", COUNTIFS(ToDoList!$B:$B, $A261, ToDoList!$R:$R, D$2))","v":""},{"$f":"IF($A261 = \"\", \"\", COUNTIFS(ToDoList!$B:$B, $A261, ToDoList!$R:$R, E$2))","v":""},{"$f":"IF($A261 = \"\", \"\", COUNTIFS(ToDoList!$B:$B, $A261, ToDoList!$R:$R, F$2))","v":""},{"$f":"IF($A261 = \"\", \"\", COUNTIFS(ToDoList!$B:$B, $A261, ToDoList!$R:$R, G$2))","v":""},{"$f":"IF($A261 = \"\", \"\", COUNTIFS(ToDoList!$B:$B, $A261, ToDoList!$R:$R, H$2))","v":""},{"$f":"IF($A261 = \"\", \"\", COUNTIFS(ToDoList!$B:$B, $A261, ToDoList!$R:$R, I$2))","v":""},{"$f":"IF($A261 = \"\", \"\", COUNTIFS(ToDoList!$B:$B, $A261, ToDoList!$R:$R, J$2))","v":""}]
[null,{"$f":"IF($A262 = \"\", \"\", COUNTIFS(ToDoList!$B:$B, $A262, ToDoList!$R:$R, B$2))","v":""},{"$f":"IF($A262 = \"\", \"\", COUNTIFS(ToDoList!$B:$B, $A262, ToDoList!$R:$R, C$2))","v":""},{"$f":"IF($A262 = \"\", \"\", COUNTIFS(ToDoList!$B:$B, $A262, ToDoList!$R:$R, D$2))","v":""},{"$f":"IF($A262 = \"\", \"\", COUNTIFS(ToDoList!$B:$B, $A262, ToDoList!$R:$R, E$2))","v":""},{"$f":"IF($A262 = \"\", \"\", COUNTIFS(ToDoList!$B:$B, $A262, ToDoList!$R:$R, F$2))","v":""},{"$f":"IF($A262 = \"\", \"\", COUNTIFS(ToDoList!$B:$B, $A262, ToDoList!$R:$R, G$2))","v":""},{"$f":"IF($A262 = \"\", \"\", COUNTIFS(ToDoList!$B:$B, $A262, ToDoList!$R:$R, H$2))","v":""},{"$f":"IF($A262 = \"\", \"\", COUNTIFS(ToDoList!$B:$B, $A262, ToDoList!$R:$R, I$2))","v":""},{"$f":"IF($A262 = \"\", \"\", COUNTIFS(ToDoList!$B:$B, $A262, ToDoList!$R:$R, J$2))","v":""}]
[null,{"$f":"IF($A263 = \"\", \"\", COUNTIFS(ToDoList!$B:$B, $A263, ToDoList!$R:$R, B$2))","v":""},{"$f":"IF($A263 = \"\", \"\", COUNTIFS(ToDoList!$B:$B, $A263, ToDoList!$R:$R, C$2))","v":""},{"$f":"IF($A263 = \"\", \"\", COUNTIFS(ToDoList!$B:$B, $A263, ToDoList!$R:$R, D$2))","v":""},{"$f":"IF($A263 = \"\", \"\", COUNTIFS(ToDoList!$B:$B, $A263, ToDoList!$R:$R, E$2))","v":""},{"$f":"IF($A263 = \"\", \"\", COUNTIFS(ToDoList!$B:$B, $A263, ToDoList!$R:$R, F$2))","v":""},{"$f":"IF($A263 = \"\", \"\", COUNTIFS(ToDoList!$B:$B, $A263, ToDoList!$R:$R, G$2))","v":""},{"$f":"IF($A263 = \"\", \"\", COUNTIFS(ToDoList!$B:$B, $A263, ToDoList!$R:$R, H$2))","v":""},{"$f":"IF($A263 = \"\", \"\", COUNTIFS(ToDoList!$B:$B, $A263, ToDoList!$R:$R, I$2))","v":""},{"$f":"IF($A263 = \"\", \"\", COUNTIFS(ToDoList!$B:$B, $A263, ToDoList!$R:$R, J$2))","v":""}]
[null,{"$f":"IF($A264 = \"\", \"\", COUNTIFS(ToDoList!$B:$B, $A264, ToDoList!$R:$R, B$2))","v":""},{"$f":"IF($A264 = \"\", \"\", COUNTIFS(ToDoList!$B:$B, $A264, ToDoList!$R:$R, C$2))","v":""},{"$f":"IF($A264 = \"\", \"\", COUNTIFS(ToDoList!$B:$B, $A264, ToDoList!$R:$R, D$2))","v":""},{"$f":"IF($A264 = \"\", \"\", COUNTIFS(ToDoList!$B:$B, $A264, ToDoList!$R:$R, E$2))","v":""},{"$f":"IF($A264 = \"\", \"\", COUNTIFS(ToDoList!$B:$B, $A264, ToDoList!$R:$R, F$2))","v":""},{"$f":"IF($A264 = \"\", \"\", COUNTIFS(ToDoList!$B:$B, $A264, ToDoList!$R:$R, G$2))","v":""},{"$f":"IF($A264 = \"\", \"\", COUNTIFS(ToDoList!$B:$B, $A264, ToDoList!$R:$R, H$2))","v":""},{"$f":"IF($A264 = \"\", \"\", COUNTIFS(ToDoList!$B:$B, $A264, ToDoList!$R:$R, I$2))","v":""},{"$f":"IF($A264 = \"\", \"\", COUNTIFS(ToDoList!$B:$B, $A264, ToDoList!$R:$R, J$2))","v":""}]
[null,{"$f":"IF($A265 = \"\", \"\", COUNTIFS(ToDoList!$B:$B, $A265, ToDoList!$R:$R, B$2))","v":""},{"$f":"IF($A265 = \"\", \"\", COUNTIFS(ToDoList!$B:$B, $A265, ToDoList!$R:$R, C$2))","v":""},{"$f":"IF($A265 = \"\", \"\", COUNTIFS(ToDoList!$B:$B, $A265, ToDoList!$R:$R, D$2))","v":""},{"$f":"IF($A265 = \"\", \"\", COUNTIFS(ToDoList!$B:$B, $A265, ToDoList!$R:$R, E$2))","v":""},{"$f":"IF($A265 = \"\", \"\", COUNTIFS(ToDoList!$B:$B, $A265, ToDoList!$R:$R, F$2))","v":""},{"$f":"IF($A265 = \"\", \"\", COUNTIFS(ToDoList!$B:$B, $A265, ToDoList!$R:$R, G$2))","v":""},{"$f":"IF($A265 = \"\", \"\", COUNTIFS(ToDoList!$B:$B, $A265, ToDoList!$R:$R, H$2))","v":""},{"$f":"IF($A265 = \"\", \"\", COUNTIFS(ToDoList!$B:$B, $A265, ToDoList!$R:$R, I$2))","v":""},{"$f":"IF($A265 = \"\", \"\", COUNTIFS(ToDoList!$B:$B, $A265, ToDoList!$R:$R, J$2))","v":""}]
[null,{"$f":"IF($A266 = \"\", \"\", COUNTIFS(ToDoList!$B:$B, $A266, ToDoList!$R:$R, B$2))","v":""},{"$f":"IF($A266 = \"\", \"\", COUNTIFS(ToDoList!$B:$B, $A266, ToDoList!$R:$R, C$2))","v":""},{"$f":"IF($A266 = \"\", \"\", COUNTIFS(ToDoList!$B:$B, $A266, ToDoList!$R:$R, D$2))","v":""},{"$f":"IF($A266 = \"\", \"\", COUNTIFS(ToDoList!$B:$B, $A266, ToDoList!$R:$R, E$2))","v":""},{"$f":"IF($A266 = \"\", \"\", COUNTIFS(ToDoList!$B:$B, $A266, ToDoList!$R:$R, F$2))","v":""},{"$f":"IF($A266 = \"\", \"\", COUNTIFS(ToDoList!$B:$B, $A266, ToDoList!$R:$R, G$2))","v":""},{"$f":"IF($A266 = \"\", \"\", COUNTIFS(ToDoList!$B:$B, $A266, ToDoList!$R:$R, H$2))","v":""},{"$f":"IF($A266 = \"\", \"\", COUNTIFS(ToDoList!$B:$B, $A266, ToDoList!$R:$R, I$2))","v":""},{"$f":"IF($A266 = \"\", \"\", COUNTIFS(ToDoList!$B:$B, $A266, ToDoList!$R:$R, J$2))","v":""}]
[null,{"$f":"IF($A267 = \"\", \"\", COUNTIFS(ToDoList!$B:$B, $A267, ToDoList!$R:$R, B$2))","v":""},{"$f":"IF($A267 = \"\", \"\", COUNTIFS(ToDoList!$B:$B, $A267, ToDoList!$R:$R, C$2))","v":""},{"$f":"IF($A267 = \"\", \"\", COUNTIFS(ToDoList!$B:$B, $A267, ToDoList!$R:$R, D$2))","v":""},{"$f":"IF($A267 = \"\", \"\", COUNTIFS(ToDoList!$B:$B, $A267, ToDoList!$R:$R, E$2))","v":""},{"$f":"IF($A267 = \"\", \"\", COUNTIFS(ToDoList!$B:$B, $A267, ToDoList!$R:$R, F$2))","v":""},{"$f":"IF($A267 = \"\", \"\", COUNTIFS(ToDoList!$B:$B, $A267, ToDoList!$R:$R, G$2))","v":""},{"$f":"IF($A267 = \"\", \"\", COUNTIFS(ToDoList!$B:$B, $A267, ToDoList!$R:$R, H$2))","v":""},{"$f":"IF($A267 = \"\", \"\", COUNTIFS(ToDoList!$B:$B, $A267, ToDoList!$R:$R, I$2))","v":""},{"$f":"IF($A267 = \"\", \"\", COUNTIFS(ToDoList!$B:$B, $A267, ToDoList!$R:$R, J$2))","v":""}]
[null,{"$f":"IF($A268 = \"\", \"\", COUNTIFS(ToDoList!$B:$B, $A268, ToDoList!$R:$R, B$2))","v":""},{"$f":"IF($A268 = \"\", \"\", COUNTIFS(ToDoList!$B:$B, $A268, ToDoList!$R:$R, C$2))","v":""},{"$f":"IF($A268 = \"\", \"\", COUNTIFS(ToDoList!$B:$B, $A268, ToDoList!$R:$R, D$2))","v":""},{"$f":"IF($A268 = \"\", \"\", COUNTIFS(ToDoList!$B:$B, $A268, ToDoList!$R:$R, E$2))","v":""},{"$f":"IF($A268 = \"\", \"\", COUNTIFS(ToDoList!$B:$B, $A268, ToDoList!$R:$R, F$2))","v":""},{"$f":"IF($A268 = \"\", \"\", COUNTIFS(ToDoList!$B:$B, $A268, ToDoList!$R:$R, G$2))","v":""},{"$f":"IF($A268 = \"\", \"\", COUNTIFS(ToDoList!$B:$B, $A268, ToDoList!$R:$R, H$2))","v":""},{"$f":"IF($A268 = \"\", \"\", COUNTIFS(ToDoList!$B:$B, $A268, ToDoList!$R:$R, I$2))","v":""},{"$f":"IF($A268 = \"\", \"\", COUNTIFS(ToDoList!$B:$B, $A268, ToDoList!$R:$R, J$2))","v":""}]
[null,{"$f":"IF($A269 = \"\", \"\", COUNTIFS(ToDoList!$B:$B, $A269, ToDoList!$R:$R, B$2))","v":""},{"$f":"IF($A269 = \"\", \"\", COUNTIFS(ToDoList!$B:$B, $A269, ToDoList!$R:$R, C$2))","v":""},{"$f":"IF($A269 = \"\", \"\", COUNTIFS(ToDoList!$B:$B, $A269, ToDoList!$R:$R, D$2))","v":""},{"$f":"IF($A269 = \"\", \"\", COUNTIFS(ToDoList!$B:$B, $A269, ToDoList!$R:$R, E$2))","v":""},{"$f":"IF($A269 = \"\", \"\", COUNTIFS(ToDoList!$B:$B, $A269, ToDoList!$R:$R, F$2))","v":""},{"$f":"IF($A269 = \"\", \"\", COUNTIFS(ToDoList!$B:$B, $A269, ToDoList!$R:$R, G$2))","v":""},{"$f":"IF($A269 = \"\", \"\", COUNTIFS(ToDoList!$B:$B, $A269, ToDoList!$R:$R, H$2))","v":""},{"$f":"IF($A269 = \"\", \"\", COUNTIFS(ToDoList!$B:$B, $A269, ToDoList!$R:$R, I$2))","v":""},{"$f":"IF($A269 = \"\", \"\", COUNTIFS(ToDoList!$B:$B, $A269, ToDoList!$R:$R, J$2))","v":""}]
[null,{"$f":"IF($A270 = \"\", \"\", COUNTIFS(ToDoList!$B:$B, $A270, ToDoList!$R:$R, B$2))","v":""},{"$f":"IF($A270 = \"\", \"\", COUNTIFS(ToDoList!$B:$B, $A270, ToDoList!$R:$R, C$2))","v":""},{"$f":"IF($A270 = \"\", \"\", COUNTIFS(ToDoList!$B:$B, $A270, ToDoList!$R:$R, D$2))","v":""},{"$f":"IF($A270 = \"\", \"\", COUNTIFS(ToDoList!$B:$B, $A270, ToDoList!$R:$R, E$2))","v":""},{"$f":"IF($A270 = \"\", \"\", COUNTIFS(ToDoList!$B:$B, $A270, ToDoList!$R:$R, F$2))","v":""},{"$f":"IF($A270 = \"\", \"\", COUNTIFS(ToDoList!$B:$B, $A270, ToDoList!$R:$R, G$2))","v":""},{"$f":"IF($A270 = \"\", \"\", COUNTIFS(ToDoList!$B:$B, $A270, ToDoList!$R:$R, H$2))","v":""},{"$f":"IF($A270 = \"\", \"\", COUNTIFS(ToDoList!$B:$B, $A270, ToDoList!$R:$R, I$2))","v":""},{"$f":"IF($A270 = \"\", \"\", COUNTIFS(ToDoList!$B:$B, $A270, ToDoList!$R:$R, J$2))","v":""}]
[null,{"$f":"IF($A271 = \"\", \"\", COUNTIFS(ToDoList!$B:$B, $A271, ToDoList!$R:$R, B$2))","v":""},{"$f":"IF($A271 = \"\", \"\", COUNTIFS(ToDoList!$B:$B, $A271, ToDoList!$R:$R, C$2))","v":""},{"$f":"IF($A271 = \"\", \"\", COUNTIFS(ToDoList!$B:$B, $A271, ToDoList!$R:$R, D$2))","v":""},{"$f":"IF($A271 = \"\", \"\", COUNTIFS(ToDoList!$B:$B, $A271, ToDoList!$R:$R, E$2))","v":""},{"$f":"IF($A271 = \"\", \"\", COUNTIFS(ToDoList!$B:$B, $A271, ToDoList!$R:$R, F$2))","v":""},{"$f":"IF($A271 = \"\", \"\", COUNTIFS(ToDoList!$B:$B, $A271, ToDoList!$R:$R, G$2))","v":""},{"$f":"IF($A271 = \"\", \"\", COUNTIFS(ToDoList!$B:$B, $A271, ToDoList!$R:$R, H$2))","v":""},{"$f":"IF($A271 = \"\", \"\", COUNTIFS(ToDoList!$B:$B, $A271, ToDoList!$R:$R, I$2))","v":""},{"$f":"IF($A271 = \"\", \"\", COUNTIFS(ToDoList!$B:$B, $A271, ToDoList!$R:$R, J$2))","v":""}]
[null,{"$f":"IF($A272 = \"\", \"\", COUNTIFS(ToDoList!$B:$B, $A272, ToDoList!$R:$R, B$2))","v":""},{"$f":"IF($A272 = \"\", \"\", COUNTIFS(ToDoList!$B:$B, $A272, ToDoList!$R:$R, C$2))","v":""},{"$f":"IF($A272 = \"\", \"\", COUNTIFS(ToDoList!$B:$B, $A272, ToDoList!$R:$R, D$2))","v":""},{"$f":"IF($A272 = \"\", \"\", COUNTIFS(ToDoList!$B:$B, $A272, ToDoList!$R:$R, E$2))","v":""},{"$f":"IF($A272 = \"\", \"\", COUNTIFS(ToDoList!$B:$B, $A272, ToDoList!$R:$R, F$2))","v":""},{"$f":"IF($A272 = \"\", \"\", COUNTIFS(ToDoList!$B:$B, $A272, ToDoList!$R:$R, G$2))","v":""},{"$f":"IF($A272 = \"\", \"\", COUNTIFS(ToDoList!$B:$B, $A272, ToDoList!$R:$R, H$2))","v":""},{"$f":"IF($A272 = \"\", \"\", COUNTIFS(ToDoList!$B:$B, $A272, ToDoList!$R:$R, I$2))","v":""},{"$f":"IF($A272 = \"\", \"\", COUNTIFS(ToDoList!$B:$B, $A272, ToDoList!$R:$R, J$2))","v":""}]
[null,{"$f":"IF($A273 = \"\", \"\", COUNTIFS(ToDoList!$B:$B, $A273, ToDoList!$R:$R, B$2))","v":""},{"$f":"IF($A273 = \"\", \"\", COUNTIFS(ToDoList!$B:$B, $A273, ToDoList!$R:$R, C$2))","v":""},{"$f":"IF($A273 = \"\", \"\", COUNTIFS(ToDoList!$B:$B, $A273, ToDoList!$R:$R, D$2))","v":""},{"$f":"IF($A273 = \"\", \"\", COUNTIFS(ToDoList!$B:$B, $A273, ToDoList!$R:$R, E$2))","v":""},{"$f":"IF($A273 = \"\", \"\", COUNTIFS(ToDoList!$B:$B, $A273, ToDoList!$R:$R, F$2))","v":""},{"$f":"IF($A273 = \"\", \"\", COUNTIFS(ToDoList!$B:$B, $A273, ToDoList!$R:$R, G$2))","v":""},{"$f":"IF($A273 = \"\", \"\", COUNTIFS(ToDoList!$B:$B, $A273, ToDoList!$R:$R, H$2))","v":""},{"$f":"IF($A273 = \"\", \"\", COUNTIFS(ToDoList!$B:$B, $A273, ToDoList!$R:$R, I$2))","v":""},{"$f":"IF($A273 = \"\", \"\", COUNTIFS(ToDoList!$B:$B, $A273, ToDoList!$R:$R, J$2))","v":""}]
[null,{"$f":"IF($A274 = \"\", \"\", COUNTIFS(ToDoList!$B:$B, $A274, ToDoList!$R:$R, B$2))","v":""},{"$f":"IF($A274 = \"\", \"\", COUNTIFS(ToDoList!$B:$B, $A274, ToDoList!$R:$R, C$2))","v":""},{"$f":"IF($A274 = \"\", \"\", COUNTIFS(ToDoList!$B:$B, $A274, ToDoList!$R:$R, D$2))","v":""},{"$f":"IF($A274 = \"\", \"\", COUNTIFS(ToDoList!$B:$B, $A274, ToDoList!$R:$R, E$2))","v":""},{"$f":"IF($A274 = \"\", \"\", COUNTIFS(ToDoList!$B:$B, $A274, ToDoList!$R:$R, F$2))","v":""},{"$f":"IF($A274 = \"\", \"\", COUNTIFS(ToDoList!$B:$B, $A274, ToDoList!$R:$R, G$2))","v":""},{"$f":"IF($A274 = \"\", \"\", COUNTIFS(ToDoList!$B:$B, $A274, ToDoList!$R:$R, H$2))","v":""},{"$f":"IF($A274 = \"\", \"\", COUNTIFS(ToDoList!$B:$B, $A274, ToDoList!$R:$R, I$2))","v":""},{"$f":"IF($A274 = \"\", \"\", COUNTIFS(ToDoList!$B:$B, $A274, ToDoList!$R:$R, J$2))","v":""}]
[null,{"$f":"IF($A275 = \"\", \"\", COUNTIFS(ToDoList!$B:$B, $A275, ToDoList!$R:$R, B$2))","v":""},{"$f":"IF($A275 = \"\", \"\", COUNTIFS(ToDoList!$B:$B, $A275, ToDoList!$R:$R, C$2))","v":""},{"$f":"IF($A275 = \"\", \"\", COUNTIFS(ToDoList!$B:$B, $A275, ToDoList!$R:$R, D$2))","v":""},{"$f":"IF($A275 = \"\", \"\", COUNTIFS(ToDoList!$B:$B, $A275, ToDoList!$R:$R, E$2))","v":""},{"$f":"IF($A275 = \"\", \"\", COUNTIFS(ToDoList!$B:$B, $A275, ToDoList!$R:$R, F$2))","v":""},{"$f":"IF($A275 = \"\", \"\", COUNTIFS(ToDoList!$B:$B, $A275, ToDoList!$R:$R, G$2))","v":""},{"$f":"IF($A275 = \"\", \"\", COUNTIFS(ToDoList!$B:$B, $A275, ToDoList!$R:$R, H$2))","v":""},{"$f":"IF($A275 = \"\", \"\", COUNTIFS(ToDoList!$B:$B, $A275, ToDoList!$R:$R, I$2))","v":""},{"$f":"IF($A275 = \"\", \"\", COUNTIFS(ToDoList!$B:$B, $A275, ToDoList!$R:$R, J$2))","v":""}]
[null,{"$f":"IF($A276 = \"\", \"\", COUNTIFS(ToDoList!$B:$B, $A276, ToDoList!$R:$R, B$2))","v":""},{"$f":"IF($A276 = \"\", \"\", COUNTIFS(ToDoList!$B:$B, $A276, ToDoList!$R:$R, C$2))","v":""},{"$f":"IF($A276 = \"\", \"\", COUNTIFS(ToDoList!$B:$B, $A276, ToDoList!$R:$R, D$2))","v":""},{"$f":"IF($A276 = \"\", \"\", COUNTIFS(ToDoList!$B:$B, $A276, ToDoList!$R:$R, E$2))","v":""},{"$f":"IF($A276 = \"\", \"\", COUNTIFS(ToDoList!$B:$B, $A276, ToDoList!$R:$R, F$2))","v":""},{"$f":"IF($A276 = \"\", \"\", COUNTIFS(ToDoList!$B:$B, $A276, ToDoList!$R:$R, G$2))","v":""},{"$f":"IF($A276 = \"\", \"\", COUNTIFS(ToDoList!$B:$B, $A276, ToDoList!$R:$R, H$2))","v":""},{"$f":"IF($A276 = \"\", \"\", COUNTIFS(ToDoList!$B:$B, $A276, ToDoList!$R:$R, I$2))","v":""},{"$f":"IF($A276 = \"\", \"\", COUNTIFS(ToDoList!$B:$B, $A276, ToDoList!$R:$R, J$2))","v":""}]
[null,{"$f":"IF($A277 = \"\", \"\", COUNTIFS(ToDoList!$B:$B, $A277, ToDoList!$R:$R, B$2))","v":""},{"$f":"IF($A277 = \"\", \"\", COUNTIFS(ToDoList!$B:$B, $A277, ToDoList!$R:$R, C$2))","v":""},{"$f":"IF($A277 = \"\", \"\", COUNTIFS(ToDoList!$B:$B, $A277, ToDoList!$R:$R, D$2))","v":""},{"$f":"IF($A277 = \"\", \"\", COUNTIFS(ToDoList!$B:$B, $A277, ToDoList!$R:$R, E$2))","v":""},{"$f":"IF($A277 = \"\", \"\", COUNTIFS(ToDoList!$B:$B, $A277, ToDoList!$R:$R, F$2))","v":""},{"$f":"IF($A277 = \"\", \"\", COUNTIFS(ToDoList!$B:$B, $A277, ToDoList!$R:$R, G$2))","v":""},{"$f":"IF($A277 = \"\", \"\", COUNTIFS(ToDoList!$B:$B, $A277, ToDoList!$R:$R, H$2))","v":""},{"$f":"IF($A277 = \"\", \"\", COUNTIFS(ToDoList!$B:$B, $A277, ToDoList!$R:$R, I$2))","v":""},{"$f":"IF($A277 = \"\", \"\", COUNTIFS(ToDoList!$B:$B, $A277, ToDoList!$R:$R, J$2))","v":""}]
[null,{"$f":"IF($A278 = \"\", \"\", COUNTIFS(ToDoList!$B:$B, $A278, ToDoList!$R:$R, B$2))","v":""},{"$f":"IF($A278 = \"\", \"\", COUNTIFS(ToDoList!$B:$B, $A278, ToDoList!$R:$R, C$2))","v":""},{"$f":"IF($A278 = \"\", \"\", COUNTIFS(ToDoList!$B:$B, $A278, ToDoList!$R:$R, D$2))","v":""},{"$f":"IF($A278 = \"\", \"\", COUNTIFS(ToDoList!$B:$B, $A278, ToDoList!$R:$R, E$2))","v":""},{"$f":"IF($A278 = \"\", \"\", COUNTIFS(ToDoList!$B:$B, $A278, ToDoList!$R:$R, F$2))","v":""},{"$f":"IF($A278 = \"\", \"\", COUNTIFS(ToDoList!$B:$B, $A278, ToDoList!$R:$R, G$2))","v":""},{"$f":"IF($A278 = \"\", \"\", COUNTIFS(ToDoList!$B:$B, $A278, ToDoList!$R:$R, H$2))","v":""},{"$f":"IF($A278 = \"\", \"\", COUNTIFS(ToDoList!$B:$B, $A278, ToDoList!$R:$R, I$2))","v":""},{"$f":"IF($A278 = \"\", \"\", COUNTIFS(ToDoList!$B:$B, $A278, ToDoList!$R:$R, J$2))","v":""}]
[null,{"$f":"IF($A279 = \"\", \"\", COUNTIFS(ToDoList!$B:$B, $A279, ToDoList!$R:$R, B$2))","v":""},{"$f":"IF($A279 = \"\", \"\", COUNTIFS(ToDoList!$B:$B, $A279, ToDoList!$R:$R, C$2))","v":""},{"$f":"IF($A279 = \"\", \"\", COUNTIFS(ToDoList!$B:$B, $A279, ToDoList!$R:$R, D$2))","v":""},{"$f":"IF($A279 = \"\", \"\", COUNTIFS(ToDoList!$B:$B, $A279, ToDoList!$R:$R, E$2))","v":""},{"$f":"IF($A279 = \"\", \"\", COUNTIFS(ToDoList!$B:$B, $A279, ToDoList!$R:$R, F$2))","v":""},{"$f":"IF($A279 = \"\", \"\", COUNTIFS(ToDoList!$B:$B, $A279, ToDoList!$R:$R, G$2))","v":""},{"$f":"IF($A279 = \"\", \"\", COUNTIFS(ToDoList!$B:$B, $A279, ToDoList!$R:$R, H$2))","v":""},{"$f":"IF($A279 = \"\", \"\", COUNTIFS(ToDoList!$B:$B, $A279, ToDoList!$R:$R, I$2))","v":""},{"$f":"IF($A279 = \"\", \"\", COUNTIFS(ToDoList!$B:$B, $A279, ToDoList!$R:$R, J$2))","v":""}]
[null,{"$f":"IF($A280 = \"\", \"\", COUNTIFS(ToDoList!$B:$B, $A280, ToDoList!$R:$R, B$2))","v":""},{"$f":"IF($A280 = \"\", \"\", COUNTIFS(ToDoList!$B:$B, $A280, ToDoList!$R:$R, C$2))","v":""},{"$f":"IF($A280 = \"\", \"\", COUNTIFS(ToDoList!$B:$B, $A280, ToDoList!$R:$R, D$2))","v":""},{"$f":"IF($A280 = \"\", \"\", COUNTIFS(ToDoList!$B:$B, $A280, ToDoList!$R:$R, E$2))","v":""},{"$f":"IF($A280 = \"\", \"\", COUNTIFS(ToDoList!$B:$B, $A280, ToDoList!$R:$R, F$2))","v":""},{"$f":"IF($A280 = \"\", \"\", COUNTIFS(ToDoList!$B:$B, $A280, ToDoList!$R:$R, G$2))","v":""},{"$f":"IF($A280 = \"\", \"\", COUNTIFS(ToDoList!$B:$B, $A280, ToDoList!$R:$R, H$2))","v":""},{"$f":"IF($A280 = \"\", \"\", COUNTIFS(ToDoList!$B:$B, $A280, ToDoList!$R:$R, I$2))","v":""},{"$f":"IF($A280 = \"\", \"\", COUNTIFS(ToDoList!$B:$B, $A280, ToDoList!$R:$R, J$2))","v":""}]
[null,{"$f":"IF($A281 = \"\", \"\", COUNTIFS(ToDoList!$B:$B, $A281, ToDoList!$R:$R, B$2))","v":""},{"$f":"IF($A281 = \"\", \"\", COUNTIFS(ToDoList!$B:$B, $A281, ToDoList!$R:$R, C$2))","v":""},{"$f":"IF($A281 = \"\", \"\", COUNTIFS(ToDoList!$B:$B, $A281, ToDoList!$R:$R, D$2))","v":""},{"$f":"IF($A281 = \"\", \"\", COUNTIFS(ToDoList!$B:$B, $A281, ToDoList!$R:$R, E$2))","v":""},{"$f":"IF($A281 = \"\", \"\", COUNTIFS(ToDoList!$B:$B, $A281, ToDoList!$R:$R, F$2))","v":""},{"$f":"IF($A281 = \"\", \"\", COUNTIFS(ToDoList!$B:$B, $A281, ToDoList!$R:$R, G$2))","v":""},{"$f":"IF($A281 = \"\", \"\", COUNTIFS(ToDoList!$B:$B, $A281, ToDoList!$R:$R, H$2))","v":""},{"$f":"IF($A281 = \"\", \"\", COUNTIFS(ToDoList!$B:$B, $A281, ToDoList!$R:$R, I$2))","v":""},{"$f":"IF($A281 = \"\", \"\", COUNTIFS(ToDoList!$B:$B, $A281, ToDoList!$R:$R, J$2))","v":""}]
[null,{"$f":"IF($A282 = \"\", \"\", COUNTIFS(ToDoList!$B:$B, $A282, ToDoList!$R:$R, B$2))","v":""},{"$f":"IF($A282 = \"\", \"\", COUNTIFS(ToDoList!$B:$B, $A282, ToDoList!$R:$R, C$2))","v":""},{"$f":"IF($A282 = \"\", \"\", COUNTIFS(ToDoList!$B:$B, $A282, ToDoList!$R:$R, D$2))","v":""},{"$f":"IF($A282 = \"\", \"\", COUNTIFS(ToDoList!$B:$B, $A282, ToDoList!$R:$R, E$2))","v":""},{"$f":"IF($A282 = \"\", \"\", COUNTIFS(ToDoList!$B:$B, $A282, ToDoList!$R:$R, F$2))","v":""},{"$f":"IF($A282 = \"\", \"\", COUNTIFS(ToDoList!$B:$B, $A282, ToDoList!$R:$R, G$2))","v":""},{"$f":"IF($A282 = \"\", \"\", COUNTIFS(ToDoList!$B:$B, $A282, ToDoList!$R:$R, H$2))","v":""},{"$f":"IF($A282 = \"\", \"\", COUNTIFS(ToDoList!$B:$B, $A282, ToDoList!$R:$R, I$2))","v":""},{"$f":"IF($A282 = \"\", \"\", COUNTIFS(ToDoList!$B:$B, $A282, ToDoList!$R:$R, J$2))","v":""}]
[null,{"$f":"IF($A283 = \"\", \"\", COUNTIFS(ToDoList!$B:$B, $A283, ToDoList!$R:$R, B$2))","v":""},{"$f":"IF($A283 = \"\", \"\", COUNTIFS(ToDoList!$B:$B, $A283, ToDoList!$R:$R, C$2))","v":""},{"$f":"IF($A283 = \"\", \"\", COUNTIFS(ToDoList!$B:$B, $A283, ToDoList!$R:$R, D$2))","v":""},{"$f":"IF($A283 = \"\", \"\", COUNTIFS(ToDoList!$B:$B, $A283, ToDoList!$R:$R, E$2))","v":""},{"$f":"IF($A283 = \"\", \"\", COUNTIFS(ToDoList!$B:$B, $A283, ToDoList!$R:$R, F$2))","v":""},{"$f":"IF($A283 = \"\", \"\", COUNTIFS(ToDoList!$B:$B, $A283, ToDoList!$R:$R, G$2))","v":""},{"$f":"IF($A283 = \"\", \"\", COUNTIFS(ToDoList!$B:$B, $A283, ToDoList!$R:$R, H$2))","v":""},{"$f":"IF($A283 = \"\", \"\", COUNTIFS(ToDoList!$B:$B, $A283, ToDoList!$R:$R, I$2))","v":""},{"$f":"IF($A283 = \"\", \"\", COUNTIFS(ToDoList!$B:$B, $A283, ToDoList!$R:$R, J$2))","v":""}]
[null,{"$f":"IF($A284 = \"\", \"\", COUNTIFS(ToDoList!$B:$B, $A284, ToDoList!$R:$R, B$2))","v":""},{"$f":"IF($A284 = \"\", \"\", COUNTIFS(ToDoList!$B:$B, $A284, ToDoList!$R:$R, C$2))","v":""},{"$f":"IF($A284 = \"\", \"\", COUNTIFS(ToDoList!$B:$B, $A284, ToDoList!$R:$R, D$2))","v":""},{"$f":"IF($A284 = \"\", \"\", COUNTIFS(ToDoList!$B:$B, $A284, ToDoList!$R:$R, E$2))","v":""},{"$f":"IF($A284 = \"\", \"\", COUNTIFS(ToDoList!$B:$B, $A284, ToDoList!$R:$R, F$2))","v":""},{"$f":"IF($A284 = \"\", \"\", COUNTIFS(ToDoList!$B:$B, $A284, ToDoList!$R:$R, G$2))","v":""},{"$f":"IF($A284 = \"\", \"\", COUNTIFS(ToDoList!$B:$B, $A284, ToDoList!$R:$R, H$2))","v":""},{"$f":"IF($A284 = \"\", \"\", COUNTIFS(ToDoList!$B:$B, $A284, ToDoList!$R:$R, I$2))","v":""},{"$f":"IF($A284 = \"\", \"\", COUNTIFS(ToDoList!$B:$B, $A284, ToDoList!$R:$R, J$2))","v":""}]
[null,{"$f":"IF($A285 = \"\", \"\", COUNTIFS(ToDoList!$B:$B, $A285, ToDoList!$R:$R, B$2))","v":""},{"$f":"IF($A285 = \"\", \"\", COUNTIFS(ToDoList!$B:$B, $A285, ToDoList!$R:$R, C$2))","v":""},{"$f":"IF($A285 = \"\", \"\", COUNTIFS(ToDoList!$B:$B, $A285, ToDoList!$R:$R, D$2))","v":""},{"$f":"IF($A285 = \"\", \"\", COUNTIFS(ToDoList!$B:$B, $A285, ToDoList!$R:$R, E$2))","v":""},{"$f":"IF($A285 = \"\", \"\", COUNTIFS(ToDoList!$B:$B, $A285, ToDoList!$R:$R, F$2))","v":""},{"$f":"IF($A285 = \"\", \"\", COUNTIFS(ToDoList!$B:$B, $A285, ToDoList!$R:$R, G$2))","v":""},{"$f":"IF($A285 = \"\", \"\", COUNTIFS(ToDoList!$B:$B, $A285, ToDoList!$R:$R, H$2))","v":""},{"$f":"IF($A285 = \"\", \"\", COUNTIFS(ToDoList!$B:$B, $A285, ToDoList!$R:$R, I$2))","v":""},{"$f":"IF($A285 = \"\", \"\", COUNTIFS(ToDoList!$B:$B, $A285, ToDoList!$R:$R, J$2))","v":""}]
[null,{"$f":"IF($A286 = \"\", \"\", COUNTIFS(ToDoList!$B:$B, $A286, ToDoList!$R:$R, B$2))","v":""},{"$f":"IF($A286 = \"\", \"\", COUNTIFS(ToDoList!$B:$B, $A286, ToDoList!$R:$R, C$2))","v":""},{"$f":"IF($A286 = \"\", \"\", COUNTIFS(ToDoList!$B:$B, $A286, ToDoList!$R:$R, D$2))","v":""},{"$f":"IF($A286 = \"\", \"\", COUNTIFS(ToDoList!$B:$B, $A286, ToDoList!$R:$R, E$2))","v":""},{"$f":"IF($A286 = \"\", \"\", COUNTIFS(ToDoList!$B:$B, $A286, ToDoList!$R:$R, F$2))","v":""},{"$f":"IF($A286 = \"\", \"\", COUNTIFS(ToDoList!$B:$B, $A286, ToDoList!$R:$R, G$2))","v":""},{"$f":"IF($A286 = \"\", \"\", COUNTIFS(ToDoList!$B:$B, $A286, ToDoList!$R:$R, H$2))","v":""},{"$f":"IF($A286 = \"\", \"\", COUNTIFS(ToDoList!$B:$B, $A286, ToDoList!$R:$R, I$2))","v":""},{"$f":"IF($A286 = \"\", \"\", COUNTIFS(ToDoList!$B:$B, $A286, ToDoList!$R:$R, J$2))","v":""}]
[null,{"$f":"IF($A287 = \"\", \"\", COUNTIFS(ToDoList!$B:$B, $A287, ToDoList!$R:$R, B$2))","v":""},{"$f":"IF($A287 = \"\", \"\", COUNTIFS(ToDoList!$B:$B, $A287, ToDoList!$R:$R, C$2))","v":""},{"$f":"IF($A287 = \"\", \"\", COUNTIFS(ToDoList!$B:$B, $A287, ToDoList!$R:$R, D$2))","v":""},{"$f":"IF($A287 = \"\", \"\", COUNTIFS(ToDoList!$B:$B, $A287, ToDoList!$R:$R, E$2))","v":""},{"$f":"IF($A287 = \"\", \"\", COUNTIFS(ToDoList!$B:$B, $A287, ToDoList!$R:$R, F$2))","v":""},{"$f":"IF($A287 = \"\", \"\", COUNTIFS(ToDoList!$B:$B, $A287, ToDoList!$R:$R, G$2))","v":""},{"$f":"IF($A287 = \"\", \"\", COUNTIFS(ToDoList!$B:$B, $A287, ToDoList!$R:$R, H$2))","v":""},{"$f":"IF($A287 = \"\", \"\", COUNTIFS(ToDoList!$B:$B, $A287, ToDoList!$R:$R, I$2))","v":""},{"$f":"IF($A287 = \"\", \"\", COUNTIFS(ToDoList!$B:$B, $A287, ToDoList!$R:$R, J$2))","v":""}]
[null,{"$f":"IF($A288 = \"\", \"\", COUNTIFS(ToDoList!$B:$B, $A288, ToDoList!$R:$R, B$2))","v":""},{"$f":"IF($A288 = \"\", \"\", COUNTIFS(ToDoList!$B:$B, $A288, ToDoList!$R:$R, C$2))","v":""},{"$f":"IF($A288 = \"\", \"\", COUNTIFS(ToDoList!$B:$B, $A288, ToDoList!$R:$R, D$2))","v":""},{"$f":"IF($A288 = \"\", \"\", COUNTIFS(ToDoList!$B:$B, $A288, ToDoList!$R:$R, E$2))","v":""},{"$f":"IF($A288 = \"\", \"\", COUNTIFS(ToDoList!$B:$B, $A288, ToDoList!$R:$R, F$2))","v":""},{"$f":"IF($A288 = \"\", \"\", COUNTIFS(ToDoList!$B:$B, $A288, ToDoList!$R:$R, G$2))","v":""},{"$f":"IF($A288 = \"\", \"\", COUNTIFS(ToDoList!$B:$B, $A288, ToDoList!$R:$R, H$2))","v":""},{"$f":"IF($A288 = \"\", \"\", COUNTIFS(ToDoList!$B:$B, $A288, ToDoList!$R:$R, I$2))","v":""},{"$f":"IF($A288 = \"\", \"\", COUNTIFS(ToDoList!$B:$B, $A288, ToDoList!$R:$R, J$2))","v":""}]
[null,{"$f":"IF($A289 = \"\", \"\", COUNTIFS(ToDoList!$B:$B, $A289, ToDoList!$R:$R, B$2))","v":""},{"$f":"IF($A289 = \"\", \"\", COUNTIFS(ToDoList!$B:$B, $A289, ToDoList!$R:$R, C$2))","v":""},{"$f":"IF($A289 = \"\", \"\", COUNTIFS(ToDoList!$B:$B, $A289, ToDoList!$R:$R, D$2))","v":""},{"$f":"IF($A289 = \"\", \"\", COUNTIFS(ToDoList!$B:$B, $A289, ToDoList!$R:$R, E$2))","v":""},{"$f":"IF($A289 = \"\", \"\", COUNTIFS(ToDoList!$B:$B, $A289, ToDoList!$R:$R, F$2))","v":""},{"$f":"IF($A289 = \"\", \"\", COUNTIFS(ToDoList!$B:$B, $A289, ToDoList!$R:$R, G$2))","v":""},{"$f":"IF($A289 = \"\", \"\", COUNTIFS(ToDoList!$B:$B, $A289, ToDoList!$R:$R, H$2))","v":""},{"$f":"IF($A289 = \"\", \"\", COUNTIFS(ToDoList!$B:$B, $A289, ToDoList!$R:$R, I$2))","v":""},{"$f":"IF($A289 = \"\", \"\", COUNTIFS(ToDoList!$B:$B, $A289, ToDoList!$R:$R, J$2))","v":""}]
[null,{"$f":"IF($A290 = \"\", \"\", COUNTIFS(ToDoList!$B:$B, $A290, ToDoList!$R:$R, B$2))","v":""},{"$f":"IF($A290 = \"\", \"\", COUNTIFS(ToDoList!$B:$B, $A290, ToDoList!$R:$R, C$2))","v":""},{"$f":"IF($A290 = \"\", \"\", COUNTIFS(ToDoList!$B:$B, $A290, ToDoList!$R:$R, D$2))","v":""},{"$f":"IF($A290 = \"\", \"\", COUNTIFS(ToDoList!$B:$B, $A290, ToDoList!$R:$R, E$2))","v":""},{"$f":"IF($A290 = \"\", \"\", COUNTIFS(ToDoList!$B:$B, $A290, ToDoList!$R:$R, F$2))","v":""},{"$f":"IF($A290 = \"\", \"\", COUNTIFS(ToDoList!$B:$B, $A290, ToDoList!$R:$R, G$2))","v":""},{"$f":"IF($A290 = \"\", \"\", COUNTIFS(ToDoList!$B:$B, $A290, ToDoList!$R:$R, H$2))","v":""},{"$f":"IF($A290 = \"\", \"\", COUNTIFS(ToDoList!$B:$B, $A290, ToDoList!$R:$R, I$2))","v":""},{"$f":"IF($A290 = \"\", \"\", COUNTIFS(ToDoList!$B:$B, $A290, ToDoList!$R:$R, J$2))","v":""}]
[null,{"$f":"IF($A291 = \"\", \"\", COUNTIFS(ToDoList!$B:$B, $A291, ToDoList!$R:$R, B$2))","v":""},{"$f":"IF($A291 = \"\", \"\", COUNTIFS(ToDoList!$B:$B, $A291, ToDoList!$R:$R, C$2))","v":""},{"$f":"IF($A291 = \"\", \"\", COUNTIFS(ToDoList!$B:$B, $A291, ToDoList!$R:$R, D$2))","v":""},{"$f":"IF($A291 = \"\", \"\", COUNTIFS(ToDoList!$B:$B, $A291, ToDoList!$R:$R, E$2))","v":""},{"$f":"IF($A291 = \"\", \"\", COUNTIFS(ToDoList!$B:$B, $A291, ToDoList!$R:$R, F$2))","v":""},{"$f":"IF($A291 = \"\", \"\", COUNTIFS(ToDoList!$B:$B, $A291, ToDoList!$R:$R, G$2))","v":""},{"$f":"IF($A291 = \"\", \"\", COUNTIFS(ToDoList!$B:$B, $A291, ToDoList!$R:$R, H$2))","v":""},{"$f":"IF($A291 = \"\", \"\", COUNTIFS(ToDoList!$B:$B, $A291, ToDoList!$R:$R, I$2))","v":""},{"$f":"IF($A291 = \"\", \"\", COUNTIFS(ToDoList!$B:$B, $A291, ToDoList!$R:$R, J$2))","v":""}]
[null,{"$f":"IF($A292 = \"\", \"\", COUNTIFS(ToDoList!$B:$B, $A292, ToDoList!$R:$R, B$2))","v":""},{"$f":"IF($A292 = \"\", \"\", COUNTIFS(ToDoList!$B:$B, $A292, ToDoList!$R:$R, C$2))","v":""},{"$f":"IF($A292 = \"\", \"\", COUNTIFS(ToDoList!$B:$B, $A292, ToDoList!$R:$R, D$2))","v":""},{"$f":"IF($A292 = \"\", \"\", COUNTIFS(ToDoList!$B:$B, $A292, ToDoList!$R:$R, E$2))","v":""},{"$f":"IF($A292 = \"\", \"\", COUNTIFS(ToDoList!$B:$B, $A292, ToDoList!$R:$R, F$2))","v":""},{"$f":"IF($A292 = \"\", \"\", COUNTIFS(ToDoList!$B:$B, $A292, ToDoList!$R:$R, G$2))","v":""},{"$f":"IF($A292 = \"\", \"\", COUNTIFS(ToDoList!$B:$B, $A292, ToDoList!$R:$R, H$2))","v":""},{"$f":"IF($A292 = \"\", \"\", COUNTIFS(ToDoList!$B:$B, $A292, ToDoList!$R:$R, I$2))","v":""},{"$f":"IF($A292 = \"\", \"\", COUNTIFS(ToDoList!$B:$B, $A292, ToDoList!$R:$R, J$2))","v":""}]
[null,{"$f":"IF($A293 = \"\", \"\", COUNTIFS(ToDoList!$B:$B, $A293, ToDoList!$R:$R, B$2))","v":""},{"$f":"IF($A293 = \"\", \"\", COUNTIFS(ToDoList!$B:$B, $A293, ToDoList!$R:$R, C$2))","v":""},{"$f":"IF($A293 = \"\", \"\", COUNTIFS(ToDoList!$B:$B, $A293, ToDoList!$R:$R, D$2))","v":""},{"$f":"IF($A293 = \"\", \"\", COUNTIFS(ToDoList!$B:$B, $A293, ToDoList!$R:$R, E$2))","v":""},{"$f":"IF($A293 = \"\", \"\", COUNTIFS(ToDoList!$B:$B, $A293, ToDoList!$R:$R, F$2))","v":""},{"$f":"IF($A293 = \"\", \"\", COUNTIFS(ToDoList!$B:$B, $A293, ToDoList!$R:$R, G$2))","v":""},{"$f":"IF($A293 = \"\", \"\", COUNTIFS(ToDoList!$B:$B, $A293, ToDoList!$R:$R, H$2))","v":""},{"$f":"IF($A293 = \"\", \"\", COUNTIFS(ToDoList!$B:$B, $A293, ToDoList!$R:$R, I$2))","v":""},{"$f":"IF($A293 = \"\", \"\", COUNTIFS(ToDoList!$B:$B, $A293, ToDoList!$R:$R, J$2))","v":""}]
[null,{"$f":"IF($A294 = \"\", \"\", COUNTIFS(ToDoList!$B:$B, $A294, ToDoList!$R:$R, B$2))","v":""},{"$f":"IF($A294 = \"\", \"\", COUNTIFS(ToDoList!$B:$B, $A294, ToDoList!$R:$R, C$2))","v":""},{"$f":"IF($A294 = \"\", \"\", COUNTIFS(ToDoList!$B:$B, $A294, ToDoList!$R:$R, D$2))","v":""},{"$f":"IF($A294 = \"\", \"\", COUNTIFS(ToDoList!$B:$B, $A294, ToDoList!$R:$R, E$2))","v":""},{"$f":"IF($A294 = \"\", \"\", COUNTIFS(ToDoList!$B:$B, $A294, ToDoList!$R:$R, F$2))","v":""},{"$f":"IF($A294 = \"\", \"\", COUNTIFS(ToDoList!$B:$B, $A294, ToDoList!$R:$R, G$2))","v":""},{"$f":"IF($A294 = \"\", \"\", COUNTIFS(ToDoList!$B:$B, $A294, ToDoList!$R:$R, H$2))","v":""},{"$f":"IF($A294 = \"\", \"\", COUNTIFS(ToDoList!$B:$B, $A294, ToDoList!$R:$R, I$2))","v":""},{"$f":"IF($A294 = \"\", \"\", COUNTIFS(ToDoList!$B:$B, $A294, ToDoList!$R:$R, J$2))","v":""}]
[null,{"$f":"IF($A295 = \"\", \"\", COUNTIFS(ToDoList!$B:$B, $A295, ToDoList!$R:$R, B$2))","v":""},{"$f":"IF($A295 = \"\", \"\", COUNTIFS(ToDoList!$B:$B, $A295, ToDoList!$R:$R, C$2))","v":""},{"$f":"IF($A295 = \"\", \"\", COUNTIFS(ToDoList!$B:$B, $A295, ToDoList!$R:$R, D$2))","v":""},{"$f":"IF($A295 = \"\", \"\", COUNTIFS(ToDoList!$B:$B, $A295, ToDoList!$R:$R, E$2))","v":""},{"$f":"IF($A295 = \"\", \"\", COUNTIFS(ToDoList!$B:$B, $A295, ToDoList!$R:$R, F$2))","v":""},{"$f":"IF($A295 = \"\", \"\", COUNTIFS(ToDoList!$B:$B, $A295, ToDoList!$R:$R, G$2))","v":""},{"$f":"IF($A295 = \"\", \"\", COUNTIFS(ToDoList!$B:$B, $A295, ToDoList!$R:$R, H$2))","v":""},{"$f":"IF($A295 = \"\", \"\", COUNTIFS(ToDoList!$B:$B, $A295, ToDoList!$R:$R, I$2))","v":""},{"$f":"IF($A295 = \"\", \"\", COUNTIFS(ToDoList!$B:$B, $A295, ToDoList!$R:$R, J$2))","v":""}]
[null,{"$f":"IF($A296 = \"\", \"\", COUNTIFS(ToDoList!$B:$B, $A296, ToDoList!$R:$R, B$2))","v":""},{"$f":"IF($A296 = \"\", \"\", COUNTIFS(ToDoList!$B:$B, $A296, ToDoList!$R:$R, C$2))","v":""},{"$f":"IF($A296 = \"\", \"\", COUNTIFS(ToDoList!$B:$B, $A296, ToDoList!$R:$R, D$2))","v":""},{"$f":"IF($A296 = \"\", \"\", COUNTIFS(ToDoList!$B:$B, $A296, ToDoList!$R:$R, E$2))","v":""},{"$f":"IF($A296 = \"\", \"\", COUNTIFS(ToDoList!$B:$B, $A296, ToDoList!$R:$R, F$2))","v":""},{"$f":"IF($A296 = \"\", \"\", COUNTIFS(ToDoList!$B:$B, $A296, ToDoList!$R:$R, G$2))","v":""},{"$f":"IF($A296 = \"\", \"\", COUNTIFS(ToDoList!$B:$B, $A296, ToDoList!$R:$R, H$2))","v":""},{"$f":"IF($A296 = \"\", \"\", COUNTIFS(ToDoList!$B:$B, $A296, ToDoList!$R:$R, I$2))","v":""},{"$f":"IF($A296 = \"\", \"\", COUNTIFS(ToDoList!$B:$B, $A296, ToDoList!$R:$R, J$2))","v":""}]
[null,{"$f":"IF($A297 = \"\", \"\", COUNTIFS(ToDoList!$B:$B, $A297, ToDoList!$R:$R, B$2))","v":""},{"$f":"IF($A297 = \"\", \"\", COUNTIFS(ToDoList!$B:$B, $A297, ToDoList!$R:$R, C$2))","v":""},{"$f":"IF($A297 = \"\", \"\", COUNTIFS(ToDoList!$B:$B, $A297, ToDoList!$R:$R, D$2))","v":""},{"$f":"IF($A297 = \"\", \"\", COUNTIFS(ToDoList!$B:$B, $A297, ToDoList!$R:$R, E$2))","v":""},{"$f":"IF($A297 = \"\", \"\", COUNTIFS(ToDoList!$B:$B, $A297, ToDoList!$R:$R, F$2))","v":""},{"$f":"IF($A297 = \"\", \"\", COUNTIFS(ToDoList!$B:$B, $A297, ToDoList!$R:$R, G$2))","v":""},{"$f":"IF($A297 = \"\", \"\", COUNTIFS(ToDoList!$B:$B, $A297, ToDoList!$R:$R, H$2))","v":""},{"$f":"IF($A297 = \"\", \"\", COUNTIFS(ToDoList!$B:$B, $A297, ToDoList!$R:$R, I$2))","v":""},{"$f":"IF($A297 = \"\", \"\", COUNTIFS(ToDoList!$B:$B, $A297, ToDoList!$R:$R, J$2))","v":""}]
[null,{"$f":"IF($A298 = \"\", \"\", COUNTIFS(ToDoList!$B:$B, $A298, ToDoList!$R:$R, B$2))","v":""},{"$f":"IF($A298 = \"\", \"\", COUNTIFS(ToDoList!$B:$B, $A298, ToDoList!$R:$R, C$2))","v":""},{"$f":"IF($A298 = \"\", \"\", COUNTIFS(ToDoList!$B:$B, $A298, ToDoList!$R:$R, D$2))","v":""},{"$f":"IF($A298 = \"\", \"\", COUNTIFS(ToDoList!$B:$B, $A298, ToDoList!$R:$R, E$2))","v":""},{"$f":"IF($A298 = \"\", \"\", COUNTIFS(ToDoList!$B:$B, $A298, ToDoList!$R:$R, F$2))","v":""},{"$f":"IF($A298 = \"\", \"\", COUNTIFS(ToDoList!$B:$B, $A298, ToDoList!$R:$R, G$2))","v":""},{"$f":"IF($A298 = \"\", \"\", COUNTIFS(ToDoList!$B:$B, $A298, ToDoList!$R:$R, H$2))","v":""},{"$f":"IF($A298 = \"\", \"\", COUNTIFS(ToDoList!$B:$B, $A298, ToDoList!$R:$R, I$2))","v":""},{"$f":"IF($A298 = \"\", \"\", COUNTIFS(ToDoList!$B:$B, $A298, ToDoList!$R:$R, J$2))","v":""}]
[null,{"$f":"IF($A299 = \"\", \"\", COUNTIFS(ToDoList!$B:$B, $A299, ToDoList!$R:$R, B$2))","v":""},{"$f":"IF($A299 = \"\", \"\", COUNTIFS(ToDoList!$B:$B, $A299, ToDoList!$R:$R, C$2))","v":""},{"$f":"IF($A299 = \"\", \"\", COUNTIFS(ToDoList!$B:$B, $A299, ToDoList!$R:$R, D$2))","v":""},{"$f":"IF($A299 = \"\", \"\", COUNTIFS(ToDoList!$B:$B, $A299, ToDoList!$R:$R, E$2))","v":""},{"$f":"IF($A299 = \"\", \"\", COUNTIFS(ToDoList!$B:$B, $A299, ToDoList!$R:$R, F$2))","v":""},{"$f":"IF($A299 = \"\", \"\", COUNTIFS(ToDoList!$B:$B, $A299, ToDoList!$R:$R, G$2))","v":""},{"$f":"IF($A299 = \"\", \"\", COUNTIFS(ToDoList!$B:$B, $A299, ToDoList!$R:$R, H$2))","v":""},{"$f":"IF($A299 = \"\", \"\", COUNTIFS(ToDoList!$B:$B, $A299, ToDoList!$R:$R, I$2))","v":""},{"$f":"IF($A299 = \"\", \"\", COUNTIFS(ToDoList!$B:$B, $A299, ToDoList!$R:$R, J$2))","v":""}]
[null,{"$f":"IF($A300 = \"\", \"\", COUNTIFS(ToDoList!$B:$B, $A300, ToDoList!$R:$R, B$2))","v":""},{"$f":"IF($A300 = \"\", \"\", COUNTIFS(ToDoList!$B:$B, $A300, ToDoList!$R:$R, C$2))","v":""},{"$f":"IF($A300 = \"\", \"\", COUNTIFS(ToDoList!$B:$B, $A300, ToDoList!$R:$R, D$2))","v":""},{"$f":"IF($A300 = \"\", \"\", COUNTIFS(ToDoList!$B:$B, $A300, ToDoList!$R:$R, E$2))","v":""},{"$f":"IF($A300 = \"\", \"\", COUNTIFS(ToDoList!$B:$B, $A300, ToDoList!$R:$R, F$2))","v":""},{"$f":"IF($A300 = \"\", \"\", COUNTIFS(ToDoList!$B:$B, $A300, ToDoList!$R:$R, G$2))","v":""},{"$f":"IF($A300 = \"\", \"\", COUNTIFS(ToDoList!$B:$B, $A300, ToDoList!$R:$R, H$2))","v":""},{"$f":"IF($A300 = \"\", \"\", COUNTIFS(ToDoList!$B:$B, $A300, ToDoList!$R:$R, I$2))","v":""},{"$f":"IF($A300 = \"\", \"\", COUNTIFS(ToDoList!$B:$B, $A300, ToDoList!$R:$R, J$2))","v":""}]
[null,{"$f":"IF($A301 = \"\", \"\", COUNTIFS(ToDoList!$B:$B, $A301, ToDoList!$R:$R, B$2))","v":""},{"$f":"IF($A301 = \"\", \"\", COUNTIFS(ToDoList!$B:$B, $A301, ToDoList!$R:$R, C$2))","v":""},{"$f":"IF($A301 = \"\", \"\", COUNTIFS(ToDoList!$B:$B, $A301, ToDoList!$R:$R, D$2))","v":""},{"$f":"IF($A301 = \"\", \"\", COUNTIFS(ToDoList!$B:$B, $A301, ToDoList!$R:$R, E$2))","v":""},{"$f":"IF($A301 = \"\", \"\", COUNTIFS(ToDoList!$B:$B, $A301, ToDoList!$R:$R, F$2))","v":""},{"$f":"IF($A301 = \"\", \"\", COUNTIFS(ToDoList!$B:$B, $A301, ToDoList!$R:$R, G$2))","v":""},{"$f":"IF($A301 = \"\", \"\", COUNTIFS(ToDoList!$B:$B, $A301, ToDoList!$R:$R, H$2))","v":""},{"$f":"IF($A301 = \"\", \"\", COUNTIFS(ToDoList!$B:$B, $A301, ToDoList!$R:$R, I$2))","v":""},{"$f":"IF($A301 = \"\", \"\", COUNTIFS(ToDoList!$B:$B, $A301, ToDoList!$R:$R, J$2))","v":""}]
[null,{"$f":"IF($A302 = \"\", \"\", COUNTIFS(ToDoList!$B:$B, $A302, ToDoList!$R:$R, B$2))","v":""},{"$f":"IF($A302 = \"\", \"\", COUNTIFS(ToDoList!$B:$B, $A302, ToDoList!$R:$R, C$2))","v":""},{"$f":"IF($A302 = \"\", \"\", COUNTIFS(ToDoList!$B:$B, $A302, ToDoList!$R:$R, D$2))","v":""},{"$f":"IF($A302 = \"\", \"\", COUNTIFS(ToDoList!$B:$B, $A302, ToDoList!$R:$R, E$2))","v":""},{"$f":"IF($A302 = \"\", \"\", COUNTIFS(ToDoList!$B:$B, $A302, ToDoList!$R:$R, F$2))","v":""},{"$f":"IF($A302 = \"\", \"\", COUNTIFS(ToDoList!$B:$B, $A302, ToDoList!$R:$R, G$2))","v":""},{"$f":"IF($A302 = \"\", \"\", COUNTIFS(ToDoList!$B:$B, $A302, ToDoList!$R:$R, H$2))","v":""},{"$f":"IF($A302 = \"\", \"\", COUNTIFS(ToDoList!$B:$B, $A302, ToDoList!$R:$R, I$2))","v":""},{"$f":"IF($A302 = \"\", \"\", COUNTIFS(ToDoList!$B:$B, $A302, ToDoList!$R:$R, J$2))","v":""}]
[null,{"$f":"IF($A303 = \"\", \"\", COUNTIFS(ToDoList!$B:$B, $A303, ToDoList!$R:$R, B$2))","v":""},{"$f":"IF($A303 = \"\", \"\", COUNTIFS(ToDoList!$B:$B, $A303, ToDoList!$R:$R, C$2))","v":""},{"$f":"IF($A303 = \"\", \"\", COUNTIFS(ToDoList!$B:$B, $A303, ToDoList!$R:$R, D$2))","v":""},{"$f":"IF($A303 = \"\", \"\", COUNTIFS(ToDoList!$B:$B, $A303, ToDoList!$R:$R, E$2))","v":""},{"$f":"IF($A303 = \"\", \"\", COUNTIFS(ToDoList!$B:$B, $A303, ToDoList!$R:$R, F$2))","v":""},{"$f":"IF($A303 = \"\", \"\", COUNTIFS(ToDoList!$B:$B, $A303, ToDoList!$R:$R, G$2))","v":""},{"$f":"IF($A303 = \"\", \"\", COUNTIFS(ToDoList!$B:$B, $A303, ToDoList!$R:$R, H$2))","v":""},{"$f":"IF($A303 = \"\", \"\", COUNTIFS(ToDoList!$B:$B, $A303, ToDoList!$R:$R, I$2))","v":""},{"$f":"IF($A303 = \"\", \"\", COUNTIFS(ToDoList!$B:$B, $A303, ToDoList!$R:$R, J$2))","v":""}]
[null,{"$f":"IF($A304 = \"\", \"\", COUNTIFS(ToDoList!$B:$B, $A304, ToDoList!$R:$R, B$2))","v":""},{"$f":"IF($A304 = \"\", \"\", COUNTIFS(ToDoList!$B:$B, $A304, ToDoList!$R:$R, C$2))","v":""},{"$f":"IF($A304 = \"\", \"\", COUNTIFS(ToDoList!$B:$B, $A304, ToDoList!$R:$R, D$2))","v":""},{"$f":"IF($A304 = \"\", \"\", COUNTIFS(ToDoList!$B:$B, $A304, ToDoList!$R:$R, E$2))","v":""},{"$f":"IF($A304 = \"\", \"\", COUNTIFS(ToDoList!$B:$B, $A304, ToDoList!$R:$R, F$2))","v":""},{"$f":"IF($A304 = \"\", \"\", COUNTIFS(ToDoList!$B:$B, $A304, ToDoList!$R:$R, G$2))","v":""},{"$f":"IF($A304 = \"\", \"\", COUNTIFS(ToDoList!$B:$B, $A304, ToDoList!$R:$R, H$2))","v":""},{"$f":"IF($A304 = \"\", \"\", COUNTIFS(ToDoList!$B:$B, $A304, ToDoList!$R:$R, I$2))","v":""},{"$f":"IF($A304 = \"\", \"\", COUNTIFS(ToDoList!$B:$B, $A304, ToDoList!$R:$R, J$2))","v":""}]
[null,{"$f":"IF($A305 = \"\", \"\", COUNTIFS(ToDoList!$B:$B, $A305, ToDoList!$R:$R, B$2))","v":""},{"$f":"IF($A305 = \"\", \"\", COUNTIFS(ToDoList!$B:$B, $A305, ToDoList!$R:$R, C$2))","v":""},{"$f":"IF($A305 = \"\", \"\", COUNTIFS(ToDoList!$B:$B, $A305, ToDoList!$R:$R, D$2))","v":""},{"$f":"IF($A305 = \"\", \"\", COUNTIFS(ToDoList!$B:$B, $A305, ToDoList!$R:$R, E$2))","v":""},{"$f":"IF($A305 = \"\", \"\", COUNTIFS(ToDoList!$B:$B, $A305, ToDoList!$R:$R, F$2))","v":""},{"$f":"IF($A305 = \"\", \"\", COUNTIFS(ToDoList!$B:$B, $A305, ToDoList!$R:$R, G$2))","v":""},{"$f":"IF($A305 = \"\", \"\", COUNTIFS(ToDoList!$B:$B, $A305, ToDoList!$R:$R, H$2))","v":""},{"$f":"IF($A305 = \"\", \"\", COUNTIFS(ToDoList!$B:$B, $A305, ToDoList!$R:$R, I$2))","v":""},{"$f":"IF($A305 = \"\", \"\", COUNTIFS(ToDoList!$B:$B, $A305, ToDoList!$R:$R, J$2))","v":""}]
[null,{"$f":"IF($A306 = \"\", \"\", COUNTIFS(ToDoList!$B:$B, $A306, ToDoList!$R:$R, B$2))","v":""},{"$f":"IF($A306 = \"\", \"\", COUNTIFS(ToDoList!$B:$B, $A306, ToDoList!$R:$R, C$2))","v":""},{"$f":"IF($A306 = \"\", \"\", COUNTIFS(ToDoList!$B:$B, $A306, ToDoList!$R:$R, D$2))","v":""},{"$f":"IF($A306 = \"\", \"\", COUNTIFS(ToDoList!$B:$B, $A306, ToDoList!$R:$R, E$2))","v":""},{"$f":"IF($A306 = \"\", \"\", COUNTIFS(ToDoList!$B:$B, $A306, ToDoList!$R:$R, F$2))","v":""},{"$f":"IF($A306 = \"\", \"\", COUNTIFS(ToDoList!$B:$B, $A306, ToDoList!$R:$R, G$2))","v":""},{"$f":"IF($A306 = \"\", \"\", COUNTIFS(ToDoList!$B:$B, $A306, ToDoList!$R:$R, H$2))","v":""},{"$f":"IF($A306 = \"\", \"\", COUNTIFS(ToDoList!$B:$B, $A306, ToDoList!$R:$R, I$2))","v":""},{"$f":"IF($A306 = \"\", \"\", COUNTIFS(ToDoList!$B:$B, $A306, ToDoList!$R:$R, J$2))","v":""}]
[null,{"$f":"IF($A307 = \"\", \"\", COUNTIFS(ToDoList!$B:$B, $A307, ToDoList!$R:$R, B$2))","v":""},{"$f":"IF($A307 = \"\", \"\", COUNTIFS(ToDoList!$B:$B, $A307, ToDoList!$R:$R, C$2))","v":""},{"$f":"IF($A307 = \"\", \"\", COUNTIFS(ToDoList!$B:$B, $A307, ToDoList!$R:$R, D$2))","v":""},{"$f":"IF($A307 = \"\", \"\", COUNTIFS(ToDoList!$B:$B, $A307, ToDoList!$R:$R, E$2))","v":""},{"$f":"IF($A307 = \"\", \"\", COUNTIFS(ToDoList!$B:$B, $A307, ToDoList!$R:$R, F$2))","v":""},{"$f":"IF($A307 = \"\", \"\", COUNTIFS(ToDoList!$B:$B, $A307, ToDoList!$R:$R, G$2))","v":""},{"$f":"IF($A307 = \"\", \"\", COUNTIFS(ToDoList!$B:$B, $A307, ToDoList!$R:$R, H$2))","v":""},{"$f":"IF($A307 = \"\", \"\", COUNTIFS(ToDoList!$B:$B, $A307, ToDoList!$R:$R, I$2))","v":""},{"$f":"IF($A307 = \"\", \"\", COUNTIFS(ToDoList!$B:$B, $A307, ToDoList!$R:$R, J$2))","v":""}]
[null,{"$f":"IF($A308 = \"\", \"\", COUNTIFS(ToDoList!$B:$B, $A308, ToDoList!$R:$R, B$2))","v":""},{"$f":"IF($A308 = \"\", \"\", COUNTIFS(ToDoList!$B:$B, $A308, ToDoList!$R:$R, C$2))","v":""},{"$f":"IF($A308 = \"\", \"\", COUNTIFS(ToDoList!$B:$B, $A308, ToDoList!$R:$R, D$2))","v":""},{"$f":"IF($A308 = \"\", \"\", COUNTIFS(ToDoList!$B:$B, $A308, ToDoList!$R:$R, E$2))","v":""},{"$f":"IF($A308 = \"\", \"\", COUNTIFS(ToDoList!$B:$B, $A308, ToDoList!$R:$R, F$2))","v":""},{"$f":"IF($A308 = \"\", \"\", COUNTIFS(ToDoList!$B:$B, $A308, ToDoList!$R:$R, G$2))","v":""},{"$f":"IF($A308 = \"\", \"\", COUNTIFS(ToDoList!$B:$B, $A308, ToDoList!$R:$R, H$2))","v":""},{"$f":"IF($A308 = \"\", \"\", COUNTIFS(ToDoList!$B:$B, $A308, ToDoList!$R:$R, I$2))","v":""},{"$f":"IF($A308 = \"\", \"\", COUNTIFS(ToDoList!$B:$B, $A308, ToDoList!$R:$R, J$2))","v":""}]
[null,{"$f":"IF($A309 = \"\", \"\", COUNTIFS(ToDoList!$B:$B, $A309, ToDoList!$R:$R, B$2))","v":""},{"$f":"IF($A309 = \"\", \"\", COUNTIFS(ToDoList!$B:$B, $A309, ToDoList!$R:$R, C$2))","v":""},{"$f":"IF($A309 = \"\", \"\", COUNTIFS(ToDoList!$B:$B, $A309, ToDoList!$R:$R, D$2))","v":""},{"$f":"IF($A309 = \"\", \"\", COUNTIFS(ToDoList!$B:$B, $A309, ToDoList!$R:$R, E$2))","v":""},{"$f":"IF($A309 = \"\", \"\", COUNTIFS(ToDoList!$B:$B, $A309, ToDoList!$R:$R, F$2))","v":""},{"$f":"IF($A309 = \"\", \"\", COUNTIFS(ToDoList!$B:$B, $A309, ToDoList!$R:$R, G$2))","v":""},{"$f":"IF($A309 = \"\", \"\", COUNTIFS(ToDoList!$B:$B, $A309, ToDoList!$R:$R, H$2))","v":""},{"$f":"IF($A309 = \"\", \"\", COUNTIFS(ToDoList!$B:$B, $A309, ToDoList!$R:$R, I$2))","v":""},{"$f":"IF($A309 = \"\", \"\", COUNTIFS(ToDoList!$B:$B, $A309, ToDoList!$R:$R, J$2))","v":""}]
[null,{"$f":"IF($A310 = \"\", \"\", COUNTIFS(ToDoList!$B:$B, $A310, ToDoList!$R:$R, B$2))","v":""},{"$f":"IF($A310 = \"\", \"\", COUNTIFS(ToDoList!$B:$B, $A310, ToDoList!$R:$R, C$2))","v":""},{"$f":"IF($A310 = \"\", \"\", COUNTIFS(ToDoList!$B:$B, $A310, ToDoList!$R:$R, D$2))","v":""},{"$f":"IF($A310 = \"\", \"\", COUNTIFS(ToDoList!$B:$B, $A310, ToDoList!$R:$R, E$2))","v":""},{"$f":"IF($A310 = \"\", \"\", COUNTIFS(ToDoList!$B:$B, $A310, ToDoList!$R:$R, F$2))","v":""},{"$f":"IF($A310 = \"\", \"\", COUNTIFS(ToDoList!$B:$B, $A310, ToDoList!$R:$R, G$2))","v":""},{"$f":"IF($A310 = \"\", \"\", COUNTIFS(ToDoList!$B:$B, $A310, ToDoList!$R:$R, H$2))","v":""},{"$f":"IF($A310 = \"\", \"\", COUNTIFS(ToDoList!$B:$B, $A310, ToDoList!$R:$R, I$2))","v":""},{"$f":"IF($A310 = \"\", \"\", COUNTIFS(ToDoList!$B:$B, $A310, ToDoList!$R:$R, J$2))","v":""}]
[null,{"$f":"IF($A311 = \"\", \"\", COUNTIFS(ToDoList!$B:$B, $A311, ToDoList!$R:$R, B$2))","v":""},{"$f":"IF($A311 = \"\", \"\", COUNTIFS(ToDoList!$B:$B, $A311, ToDoList!$R:$R, C$2))","v":""},{"$f":"IF($A311 = \"\", \"\", COUNTIFS(ToDoList!$B:$B, $A311, ToDoList!$R:$R, D$2))","v":""},{"$f":"IF($A311 = \"\", \"\", COUNTIFS(ToDoList!$B:$B, $A311, ToDoList!$R:$R, E$2))","v":""},{"$f":"IF($A311 = \"\", \"\", COUNTIFS(ToDoList!$B:$B, $A311, ToDoList!$R:$R, F$2))","v":""},{"$f":"IF($A311 = \"\", \"\", COUNTIFS(ToDoList!$B:$B, $A311, ToDoList!$R:$R, G$2))","v":""},{"$f":"IF($A311 = \"\", \"\", COUNTIFS(ToDoList!$B:$B, $A311, ToDoList!$R:$R, H$2))","v":""},{"$f":"IF($A311 = \"\", \"\", COUNTIFS(ToDoList!$B:$B, $A311, ToDoList!$R:$R, I$2))","v":""},{"$f":"IF($A311 = \"\", \"\", COUNTIFS(ToDoList!$B:$B, $A311, ToDoList!$R:$R, J$2))","v":""}]
[null,{"$f":"IF($A312 = \"\", \"\", COUNTIFS(ToDoList!$B:$B, $A312, ToDoList!$R:$R, B$2))","v":""},{"$f":"IF($A312 = \"\", \"\", COUNTIFS(ToDoList!$B:$B, $A312, ToDoList!$R:$R, C$2))","v":""},{"$f":"IF($A312 = \"\", \"\", COUNTIFS(ToDoList!$B:$B, $A312, ToDoList!$R:$R, D$2))","v":""},{"$f":"IF($A312 = \"\", \"\", COUNTIFS(ToDoList!$B:$B, $A312, ToDoList!$R:$R, E$2))","v":""},{"$f":"IF($A312 = \"\", \"\", COUNTIFS(ToDoList!$B:$B, $A312, ToDoList!$R:$R, F$2))","v":""},{"$f":"IF($A312 = \"\", \"\", COUNTIFS(ToDoList!$B:$B, $A312, ToDoList!$R:$R, G$2))","v":""},{"$f":"IF($A312 = \"\", \"\", COUNTIFS(ToDoList!$B:$B, $A312, ToDoList!$R:$R, H$2))","v":""},{"$f":"IF($A312 = \"\", \"\", COUNTIFS(ToDoList!$B:$B, $A312, ToDoList!$R:$R, I$2))","v":""},{"$f":"IF($A312 = \"\", \"\", COUNTIFS(ToDoList!$B:$B, $A312, ToDoList!$R:$R, J$2))","v":""}]
[null,{"$f":"IF($A313 = \"\", \"\", COUNTIFS(ToDoList!$B:$B, $A313, ToDoList!$R:$R, B$2))","v":""},{"$f":"IF($A313 = \"\", \"\", COUNTIFS(ToDoList!$B:$B, $A313, ToDoList!$R:$R, C$2))","v":""},{"$f":"IF($A313 = \"\", \"\", COUNTIFS(ToDoList!$B:$B, $A313, ToDoList!$R:$R, D$2))","v":""},{"$f":"IF($A313 = \"\", \"\", COUNTIFS(ToDoList!$B:$B, $A313, ToDoList!$R:$R, E$2))","v":""},{"$f":"IF($A313 = \"\", \"\", COUNTIFS(ToDoList!$B:$B, $A313, ToDoList!$R:$R, F$2))","v":""},{"$f":"IF($A313 = \"\", \"\", COUNTIFS(ToDoList!$B:$B, $A313, ToDoList!$R:$R, G$2))","v":""},{"$f":"IF($A313 = \"\", \"\", COUNTIFS(ToDoList!$B:$B, $A313, ToDoList!$R:$R, H$2))","v":""},{"$f":"IF($A313 = \"\", \"\", COUNTIFS(ToDoList!$B:$B, $A313, ToDoList!$R:$R, I$2))","v":""},{"$f":"IF($A313 = \"\", \"\", COUNTIFS(ToDoList!$B:$B, $A313, ToDoList!$R:$R, J$2))","v":""}]
[null,{"$f":"IF($A314 = \"\", \"\", COUNTIFS(ToDoList!$B:$B, $A314, ToDoList!$R:$R, B$2))","v":""},{"$f":"IF($A314 = \"\", \"\", COUNTIFS(ToDoList!$B:$B, $A314, ToDoList!$R:$R, C$2))","v":""},{"$f":"IF($A314 = \"\", \"\", COUNTIFS(ToDoList!$B:$B, $A314, ToDoList!$R:$R, D$2))","v":""},{"$f":"IF($A314 = \"\", \"\", COUNTIFS(ToDoList!$B:$B, $A314, ToDoList!$R:$R, E$2))","v":""},{"$f":"IF($A314 = \"\", \"\", COUNTIFS(ToDoList!$B:$B, $A314, ToDoList!$R:$R, F$2))","v":""},{"$f":"IF($A314 = \"\", \"\", COUNTIFS(ToDoList!$B:$B, $A314, ToDoList!$R:$R, G$2))","v":""},{"$f":"IF($A314 = \"\", \"\", COUNTIFS(ToDoList!$B:$B, $A314, ToDoList!$R:$R, H$2))","v":""},{"$f":"IF($A314 = \"\", \"\", COUNTIFS(ToDoList!$B:$B, $A314, ToDoList!$R:$R, I$2))","v":""},{"$f":"IF($A314 = \"\", \"\", COUNTIFS(ToDoList!$B:$B, $A314, ToDoList!$R:$R, J$2))","v":""}]
[null,{"$f":"IF($A315 = \"\", \"\", COUNTIFS(ToDoList!$B:$B, $A315, ToDoList!$R:$R, B$2))","v":""},{"$f":"IF($A315 = \"\", \"\", COUNTIFS(ToDoList!$B:$B, $A315, ToDoList!$R:$R, C$2))","v":""},{"$f":"IF($A315 = \"\", \"\", COUNTIFS(ToDoList!$B:$B, $A315, ToDoList!$R:$R, D$2))","v":""},{"$f":"IF($A315 = \"\", \"\", COUNTIFS(ToDoList!$B:$B, $A315, ToDoList!$R:$R, E$2))","v":""},{"$f":"IF($A315 = \"\", \"\", COUNTIFS(ToDoList!$B:$B, $A315, ToDoList!$R:$R, F$2))","v":""},{"$f":"IF($A315 = \"\", \"\", COUNTIFS(ToDoList!$B:$B, $A315, ToDoList!$R:$R, G$2))","v":""},{"$f":"IF($A315 = \"\", \"\", COUNTIFS(ToDoList!$B:$B, $A315, ToDoList!$R:$R, H$2))","v":""},{"$f":"IF($A315 = \"\", \"\", COUNTIFS(ToDoList!$B:$B, $A315, ToDoList!$R:$R, I$2))","v":""},{"$f":"IF($A315 = \"\", \"\", COUNTIFS(ToDoList!$B:$B, $A315, ToDoList!$R:$R, J$2))","v":""}]
[null,{"$f":"IF($A316 = \"\", \"\", COUNTIFS(ToDoList!$B:$B, $A316, ToDoList!$R:$R, B$2))","v":""},{"$f":"IF($A316 = \"\", \"\", COUNTIFS(ToDoList!$B:$B, $A316, ToDoList!$R:$R, C$2))","v":""},{"$f":"IF($A316 = \"\", \"\", COUNTIFS(ToDoList!$B:$B, $A316, ToDoList!$R:$R, D$2))","v":""},{"$f":"IF($A316 = \"\", \"\", COUNTIFS(ToDoList!$B:$B, $A316, ToDoList!$R:$R, E$2))","v":""},{"$f":"IF($A316 = \"\", \"\", COUNTIFS(ToDoList!$B:$B, $A316, ToDoList!$R:$R, F$2))","v":""},{"$f":"IF($A316 = \"\", \"\", COUNTIFS(ToDoList!$B:$B, $A316, ToDoList!$R:$R, G$2))","v":""},{"$f":"IF($A316 = \"\", \"\", COUNTIFS(ToDoList!$B:$B, $A316, ToDoList!$R:$R, H$2))","v":""},{"$f":"IF($A316 = \"\", \"\", COUNTIFS(ToDoList!$B:$B, $A316, ToDoList!$R:$R, I$2))","v":""},{"$f":"IF($A316 = \"\", \"\", COUNTIFS(ToDoList!$B:$B, $A316, ToDoList!$R:$R, J$2))","v":""}]
[null,{"$f":"IF($A317 = \"\", \"\", COUNTIFS(ToDoList!$B:$B, $A317, ToDoList!$R:$R, B$2))","v":""},{"$f":"IF($A317 = \"\", \"\", COUNTIFS(ToDoList!$B:$B, $A317, ToDoList!$R:$R, C$2))","v":""},{"$f":"IF($A317 = \"\", \"\", COUNTIFS(ToDoList!$B:$B, $A317, ToDoList!$R:$R, D$2))","v":""},{"$f":"IF($A317 = \"\", \"\", COUNTIFS(ToDoList!$B:$B, $A317, ToDoList!$R:$R, E$2))","v":""},{"$f":"IF($A317 = \"\", \"\", COUNTIFS(ToDoList!$B:$B, $A317, ToDoList!$R:$R, F$2))","v":""},{"$f":"IF($A317 = \"\", \"\", COUNTIFS(ToDoList!$B:$B, $A317, ToDoList!$R:$R, G$2))","v":""},{"$f":"IF($A317 = \"\", \"\", COUNTIFS(ToDoList!$B:$B, $A317, ToDoList!$R:$R, H$2))","v":""},{"$f":"IF($A317 = \"\", \"\", COUNTIFS(ToDoList!$B:$B, $A317, ToDoList!$R:$R, I$2))","v":""},{"$f":"IF($A317 = \"\", \"\", COUNTIFS(ToDoList!$B:$B, $A317, ToDoList!$R:$R, J$2))","v":""}]
[null,{"$f":"IF($A318 = \"\", \"\", COUNTIFS(ToDoList!$B:$B, $A318, ToDoList!$R:$R, B$2))","v":""},{"$f":"IF($A318 = \"\", \"\", COUNTIFS(ToDoList!$B:$B, $A318, ToDoList!$R:$R, C$2))","v":""},{"$f":"IF($A318 = \"\", \"\", COUNTIFS(ToDoList!$B:$B, $A318, ToDoList!$R:$R, D$2))","v":""},{"$f":"IF($A318 = \"\", \"\", COUNTIFS(ToDoList!$B:$B, $A318, ToDoList!$R:$R, E$2))","v":""},{"$f":"IF($A318 = \"\", \"\", COUNTIFS(ToDoList!$B:$B, $A318, ToDoList!$R:$R, F$2))","v":""},{"$f":"IF($A318 = \"\", \"\", COUNTIFS(ToDoList!$B:$B, $A318, ToDoList!$R:$R, G$2))","v":""},{"$f":"IF($A318 = \"\", \"\", COUNTIFS(ToDoList!$B:$B, $A318, ToDoList!$R:$R, H$2))","v":""},{"$f":"IF($A318 = \"\", \"\", COUNTIFS(ToDoList!$B:$B, $A318, ToDoList!$R:$R, I$2))","v":""},{"$f":"IF($A318 = \"\", \"\", COUNTIFS(ToDoList!$B:$B, $A318, ToDoList!$R:$R, J$2))","v":""}]
[null,{"$f":"IF($A319 = \"\", \"\", COUNTIFS(ToDoList!$B:$B, $A319, ToDoList!$R:$R, B$2))","v":""},{"$f":"IF($A319 = \"\", \"\", COUNTIFS(ToDoList!$B:$B, $A319, ToDoList!$R:$R, C$2))","v":""},{"$f":"IF($A319 = \"\", \"\", COUNTIFS(ToDoList!$B:$B, $A319, ToDoList!$R:$R, D$2))","v":""},{"$f":"IF($A319 = \"\", \"\", COUNTIFS(ToDoList!$B:$B, $A319, ToDoList!$R:$R, E$2))","v":""},{"$f":"IF($A319 = \"\", \"\", COUNTIFS(ToDoList!$B:$B, $A319, ToDoList!$R:$R, F$2))","v":""},{"$f":"IF($A319 = \"\", \"\", COUNTIFS(ToDoList!$B:$B, $A319, ToDoList!$R:$R, G$2))","v":""},{"$f":"IF($A319 = \"\", \"\", COUNTIFS(ToDoList!$B:$B, $A319, ToDoList!$R:$R, H$2))","v":""},{"$f":"IF($A319 = \"\", \"\", COUNTIFS(ToDoList!$B:$B, $A319, ToDoList!$R:$R, I$2))","v":""},{"$f":"IF($A319 = \"\", \"\", COUNTIFS(ToDoList!$B:$B, $A319, ToDoList!$R:$R, J$2))","v":""}]
[null,{"$f":"IF($A320 = \"\", \"\", COUNTIFS(ToDoList!$B:$B, $A320, ToDoList!$R:$R, B$2))","v":""},{"$f":"IF($A320 = \"\", \"\", COUNTIFS(ToDoList!$B:$B, $A320, ToDoList!$R:$R, C$2))","v":""},{"$f":"IF($A320 = \"\", \"\", COUNTIFS(ToDoList!$B:$B, $A320, ToDoList!$R:$R, D$2))","v":""},{"$f":"IF($A320 = \"\", \"\", COUNTIFS(ToDoList!$B:$B, $A320, ToDoList!$R:$R, E$2))","v":""},{"$f":"IF($A320 = \"\", \"\", COUNTIFS(ToDoList!$B:$B, $A320, ToDoList!$R:$R, F$2))","v":""},{"$f":"IF($A320 = \"\", \"\", COUNTIFS(ToDoList!$B:$B, $A320, ToDoList!$R:$R, G$2))","v":""},{"$f":"IF($A320 = \"\", \"\", COUNTIFS(ToDoList!$B:$B, $A320, ToDoList!$R:$R, H$2))","v":""},{"$f":"IF($A320 = \"\", \"\", COUNTIFS(ToDoList!$B:$B, $A320, ToDoList!$R:$R, I$2))","v":""},{"$f":"IF($A320 = \"\", \"\", COUNTIFS(ToDoList!$B:$B, $A320, ToDoList!$R:$R, J$2))","v":""}]
[null,{"$f":"IF($A321 = \"\", \"\", COUNTIFS(ToDoList!$B:$B, $A321, ToDoList!$R:$R, B$2))","v":""},{"$f":"IF($A321 = \"\", \"\", COUNTIFS(ToDoList!$B:$B, $A321, ToDoList!$R:$R, C$2))","v":""},{"$f":"IF($A321 = \"\", \"\", COUNTIFS(ToDoList!$B:$B, $A321, ToDoList!$R:$R, D$2))","v":""},{"$f":"IF($A321 = \"\", \"\", COUNTIFS(ToDoList!$B:$B, $A321, ToDoList!$R:$R, E$2))","v":""},{"$f":"IF($A321 = \"\", \"\", COUNTIFS(ToDoList!$B:$B, $A321, ToDoList!$R:$R, F$2))","v":""},{"$f":"IF($A321 = \"\", \"\", COUNTIFS(ToDoList!$B:$B, $A321, ToDoList!$R:$R, G$2))","v":""},{"$f":"IF($A321 = \"\", \"\", COUNTIFS(ToDoList!$B:$B, $A321, ToDoList!$R:$R, H$2))","v":""},{"$f":"IF($A321 = \"\", \"\", COUNTIFS(ToDoList!$B:$B, $A321, ToDoList!$R:$R, I$2))","v":""},{"$f":"IF($A321 = \"\", \"\", COUNTIFS(ToDoList!$B:$B, $A321, ToDoList!$R:$R, J$2))","v":""}]
[null,{"$f":"IF($A322 = \"\", \"\", COUNTIFS(ToDoList!$B:$B, $A322, ToDoList!$R:$R, B$2))","v":""},{"$f":"IF($A322 = \"\", \"\", COUNTIFS(ToDoList!$B:$B, $A322, ToDoList!$R:$R, C$2))","v":""},{"$f":"IF($A322 = \"\", \"\", COUNTIFS(ToDoList!$B:$B, $A322, ToDoList!$R:$R, D$2))","v":""},{"$f":"IF($A322 = \"\", \"\", COUNTIFS(ToDoList!$B:$B, $A322, ToDoList!$R:$R, E$2))","v":""},{"$f":"IF($A322 = \"\", \"\", COUNTIFS(ToDoList!$B:$B, $A322, ToDoList!$R:$R, F$2))","v":""},{"$f":"IF($A322 = \"\", \"\", COUNTIFS(ToDoList!$B:$B, $A322, ToDoList!$R:$R, G$2))","v":""},{"$f":"IF($A322 = \"\", \"\", COUNTIFS(ToDoList!$B:$B, $A322, ToDoList!$R:$R, H$2))","v":""},{"$f":"IF($A322 = \"\", \"\", COUNTIFS(ToDoList!$B:$B, $A322, ToDoList!$R:$R, I$2))","v":""},{"$f":"IF($A322 = \"\", \"\", COUNTIFS(ToDoList!$B:$B, $A322, ToDoList!$R:$R, J$2))","v":""}]
[null,{"$f":"IF($A323 = \"\", \"\", COUNTIFS(ToDoList!$B:$B, $A323, ToDoList!$R:$R, B$2))","v":""},{"$f":"IF($A323 = \"\", \"\", COUNTIFS(ToDoList!$B:$B, $A323, ToDoList!$R:$R, C$2))","v":""},{"$f":"IF($A323 = \"\", \"\", COUNTIFS(ToDoList!$B:$B, $A323, ToDoList!$R:$R, D$2))","v":""},{"$f":"IF($A323 = \"\", \"\", COUNTIFS(ToDoList!$B:$B, $A323, ToDoList!$R:$R, E$2))","v":""},{"$f":"IF($A323 = \"\", \"\", COUNTIFS(ToDoList!$B:$B, $A323, ToDoList!$R:$R, F$2))","v":""},{"$f":"IF($A323 = \"\", \"\", COUNTIFS(ToDoList!$B:$B, $A323, ToDoList!$R:$R, G$2))","v":""},{"$f":"IF($A323 = \"\", \"\", COUNTIFS(ToDoList!$B:$B, $A323, ToDoList!$R:$R, H$2))","v":""},{"$f":"IF($A323 = \"\", \"\", COUNTIFS(ToDoList!$B:$B, $A323, ToDoList!$R:$R, I$2))","v":""},{"$f":"IF($A323 = \"\", \"\", COUNTIFS(ToDoList!$B:$B, $A323, ToDoList!$R:$R, J$2))","v":""}]
[null,{"$f":"IF($A324 = \"\", \"\", COUNTIFS(ToDoList!$B:$B, $A324, ToDoList!$R:$R, B$2))","v":""},{"$f":"IF($A324 = \"\", \"\", COUNTIFS(ToDoList!$B:$B, $A324, ToDoList!$R:$R, C$2))","v":""},{"$f":"IF($A324 = \"\", \"\", COUNTIFS(ToDoList!$B:$B, $A324, ToDoList!$R:$R, D$2))","v":""},{"$f":"IF($A324 = \"\", \"\", COUNTIFS(ToDoList!$B:$B, $A324, ToDoList!$R:$R, E$2))","v":""},{"$f":"IF($A324 = \"\", \"\", COUNTIFS(ToDoList!$B:$B, $A324, ToDoList!$R:$R, F$2))","v":""},{"$f":"IF($A324 = \"\", \"\", COUNTIFS(ToDoList!$B:$B, $A324, ToDoList!$R:$R, G$2))","v":""},{"$f":"IF($A324 = \"\", \"\", COUNTIFS(ToDoList!$B:$B, $A324, ToDoList!$R:$R, H$2))","v":""},{"$f":"IF($A324 = \"\", \"\", COUNTIFS(ToDoList!$B:$B, $A324, ToDoList!$R:$R, I$2))","v":""},{"$f":"IF($A324 = \"\", \"\", COUNTIFS(ToDoList!$B:$B, $A324, ToDoList!$R:$R, J$2))","v":""}]
[null,{"$f":"IF($A325 = \"\", \"\", COUNTIFS(ToDoList!$B:$B, $A325, ToDoList!$R:$R, B$2))","v":""},{"$f":"IF($A325 = \"\", \"\", COUNTIFS(ToDoList!$B:$B, $A325, ToDoList!$R:$R, C$2))","v":""},{"$f":"IF($A325 = \"\", \"\", COUNTIFS(ToDoList!$B:$B, $A325, ToDoList!$R:$R, D$2))","v":""},{"$f":"IF($A325 = \"\", \"\", COUNTIFS(ToDoList!$B:$B, $A325, ToDoList!$R:$R, E$2))","v":""},{"$f":"IF($A325 = \"\", \"\", COUNTIFS(ToDoList!$B:$B, $A325, ToDoList!$R:$R, F$2))","v":""},{"$f":"IF($A325 = \"\", \"\", COUNTIFS(ToDoList!$B:$B, $A325, ToDoList!$R:$R, G$2))","v":""},{"$f":"IF($A325 = \"\", \"\", COUNTIFS(ToDoList!$B:$B, $A325, ToDoList!$R:$R, H$2))","v":""},{"$f":"IF($A325 = \"\", \"\", COUNTIFS(ToDoList!$B:$B, $A325, ToDoList!$R:$R, I$2))","v":""},{"$f":"IF($A325 = \"\", \"\", COUNTIFS(ToDoList!$B:$B, $A325, ToDoList!$R:$R, J$2))","v":""}]
[null,{"$f":"IF($A326 = \"\", \"\", COUNTIFS(ToDoList!$B:$B, $A326, ToDoList!$R:$R, B$2))","v":""},{"$f":"IF($A326 = \"\", \"\", COUNTIFS(ToDoList!$B:$B, $A326, ToDoList!$R:$R, C$2))","v":""},{"$f":"IF($A326 = \"\", \"\", COUNTIFS(ToDoList!$B:$B, $A326, ToDoList!$R:$R, D$2))","v":""},{"$f":"IF($A326 = \"\", \"\", COUNTIFS(ToDoList!$B:$B, $A326, ToDoList!$R:$R, E$2))","v":""},{"$f":"IF($A326 = \"\", \"\", COUNTIFS(ToDoList!$B:$B, $A326, ToDoList!$R:$R, F$2))","v":""},{"$f":"IF($A326 = \"\", \"\", COUNTIFS(ToDoList!$B:$B, $A326, ToDoList!$R:$R, G$2))","v":""},{"$f":"IF($A326 = \"\", \"\", COUNTIFS(ToDoList!$B:$B, $A326, ToDoList!$R:$R, H$2))","v":""},{"$f":"IF($A326 = \"\", \"\", COUNTIFS(ToDoList!$B:$B, $A326, ToDoList!$R:$R, I$2))","v":""},{"$f":"IF($A326 = \"\", \"\", COUNTIFS(ToDoList!$B:$B, $A326, ToDoList!$R:$R, J$2))","v":""}]
[null,{"$f":"IF($A327 = \"\", \"\", COUNTIFS(ToDoList!$B:$B, $A327, ToDoList!$R:$R, B$2))","v":""},{"$f":"IF($A327 = \"\", \"\", COUNTIFS(ToDoList!$B:$B, $A327, ToDoList!$R:$R, C$2))","v":""},{"$f":"IF($A327 = \"\", \"\", COUNTIFS(ToDoList!$B:$B, $A327, ToDoList!$R:$R, D$2))","v":""},{"$f":"IF($A327 = \"\", \"\", COUNTIFS(ToDoList!$B:$B, $A327, ToDoList!$R:$R, E$2))","v":""},{"$f":"IF($A327 = \"\", \"\", COUNTIFS(ToDoList!$B:$B, $A327, ToDoList!$R:$R, F$2))","v":""},{"$f":"IF($A327 = \"\", \"\", COUNTIFS(ToDoList!$B:$B, $A327, ToDoList!$R:$R, G$2))","v":""},{"$f":"IF($A327 = \"\", \"\", COUNTIFS(ToDoList!$B:$B, $A327, ToDoList!$R:$R, H$2))","v":""},{"$f":"IF($A327 = \"\", \"\", COUNTIFS(ToDoList!$B:$B, $A327, ToDoList!$R:$R, I$2))","v":""},{"$f":"IF($A327 = \"\", \"\", COUNTIFS(ToDoList!$B:$B, $A327, ToDoList!$R:$R, J$2))","v":""}]
[null,{"$f":"IF($A328 = \"\", \"\", COUNTIFS(ToDoList!$B:$B, $A328, ToDoList!$R:$R, B$2))","v":""},{"$f":"IF($A328 = \"\", \"\", COUNTIFS(ToDoList!$B:$B, $A328, ToDoList!$R:$R, C$2))","v":""},{"$f":"IF($A328 = \"\", \"\", COUNTIFS(ToDoList!$B:$B, $A328, ToDoList!$R:$R, D$2))","v":""},{"$f":"IF($A328 = \"\", \"\", COUNTIFS(ToDoList!$B:$B, $A328, ToDoList!$R:$R, E$2))","v":""},{"$f":"IF($A328 = \"\", \"\", COUNTIFS(ToDoList!$B:$B, $A328, ToDoList!$R:$R, F$2))","v":""},{"$f":"IF($A328 = \"\", \"\", COUNTIFS(ToDoList!$B:$B, $A328, ToDoList!$R:$R, G$2))","v":""},{"$f":"IF($A328 = \"\", \"\", COUNTIFS(ToDoList!$B:$B, $A328, ToDoList!$R:$R, H$2))","v":""},{"$f":"IF($A328 = \"\", \"\", COUNTIFS(ToDoList!$B:$B, $A328, ToDoList!$R:$R, I$2))","v":""},{"$f":"IF($A328 = \"\", \"\", COUNTIFS(ToDoList!$B:$B, $A328, ToDoList!$R:$R, J$2))","v":""}]
[null,{"$f":"IF($A329 = \"\", \"\", COUNTIFS(ToDoList!$B:$B, $A329, ToDoList!$R:$R, B$2))","v":""},{"$f":"IF($A329 = \"\", \"\", COUNTIFS(ToDoList!$B:$B, $A329, ToDoList!$R:$R, C$2))","v":""},{"$f":"IF($A329 = \"\", \"\", COUNTIFS(ToDoList!$B:$B, $A329, ToDoList!$R:$R, D$2))","v":""},{"$f":"IF($A329 = \"\", \"\", COUNTIFS(ToDoList!$B:$B, $A329, ToDoList!$R:$R, E$2))","v":""},{"$f":"IF($A329 = \"\", \"\", COUNTIFS(ToDoList!$B:$B, $A329, ToDoList!$R:$R, F$2))","v":""},{"$f":"IF($A329 = \"\", \"\", COUNTIFS(ToDoList!$B:$B, $A329, ToDoList!$R:$R, G$2))","v":""},{"$f":"IF($A329 = \"\", \"\", COUNTIFS(ToDoList!$B:$B, $A329, ToDoList!$R:$R, H$2))","v":""},{"$f":"IF($A329 = \"\", \"\", COUNTIFS(ToDoList!$B:$B, $A329, ToDoList!$R:$R, I$2))","v":""},{"$f":"IF($A329 = \"\", \"\", COUNTIFS(ToDoList!$B:$B, $A329, ToDoList!$R:$R, J$2))","v":""}]
[null,{"$f":"IF($A330 = \"\", \"\", COUNTIFS(ToDoList!$B:$B, $A330, ToDoList!$R:$R, B$2))","v":""},{"$f":"IF($A330 = \"\", \"\", COUNTIFS(ToDoList!$B:$B, $A330, ToDoList!$R:$R, C$2))","v":""},{"$f":"IF($A330 = \"\", \"\", COUNTIFS(ToDoList!$B:$B, $A330, ToDoList!$R:$R, D$2))","v":""},{"$f":"IF($A330 = \"\", \"\", COUNTIFS(ToDoList!$B:$B, $A330, ToDoList!$R:$R, E$2))","v":""},{"$f":"IF($A330 = \"\", \"\", COUNTIFS(ToDoList!$B:$B, $A330, ToDoList!$R:$R, F$2))","v":""},{"$f":"IF($A330 = \"\", \"\", COUNTIFS(ToDoList!$B:$B, $A330, ToDoList!$R:$R, G$2))","v":""},{"$f":"IF($A330 = \"\", \"\", COUNTIFS(ToDoList!$B:$B, $A330, ToDoList!$R:$R, H$2))","v":""},{"$f":"IF($A330 = \"\", \"\", COUNTIFS(ToDoList!$B:$B, $A330, ToDoList!$R:$R, I$2))","v":""},{"$f":"IF($A330 = \"\", \"\", COUNTIFS(ToDoList!$B:$B, $A330, ToDoList!$R:$R, J$2))","v":""}]
[null,{"$f":"IF($A331 = \"\", \"\", COUNTIFS(ToDoList!$B:$B, $A331, ToDoList!$R:$R, B$2))","v":""},{"$f":"IF($A331 = \"\", \"\", COUNTIFS(ToDoList!$B:$B, $A331, ToDoList!$R:$R, C$2))","v":""},{"$f":"IF($A331 = \"\", \"\", COUNTIFS(ToDoList!$B:$B, $A331, ToDoList!$R:$R, D$2))","v":""},{"$f":"IF($A331 = \"\", \"\", COUNTIFS(ToDoList!$B:$B, $A331, ToDoList!$R:$R, E$2))","v":""},{"$f":"IF($A331 = \"\", \"\", COUNTIFS(ToDoList!$B:$B, $A331, ToDoList!$R:$R, F$2))","v":""},{"$f":"IF($A331 = \"\", \"\", COUNTIFS(ToDoList!$B:$B, $A331, ToDoList!$R:$R, G$2))","v":""},{"$f":"IF($A331 = \"\", \"\", COUNTIFS(ToDoList!$B:$B, $A331, ToDoList!$R:$R, H$2))","v":""},{"$f":"IF($A331 = \"\", \"\", COUNTIFS(ToDoList!$B:$B, $A331, ToDoList!$R:$R, I$2))","v":""},{"$f":"IF($A331 = \"\", \"\", COUNTIFS(ToDoList!$B:$B, $A331, ToDoList!$R:$R, J$2))","v":""}]
[null,{"$f":"IF($A332 = \"\", \"\", COUNTIFS(ToDoList!$B:$B, $A332, ToDoList!$R:$R, B$2))","v":""},{"$f":"IF($A332 = \"\", \"\", COUNTIFS(ToDoList!$B:$B, $A332, ToDoList!$R:$R, C$2))","v":""},{"$f":"IF($A332 = \"\", \"\", COUNTIFS(ToDoList!$B:$B, $A332, ToDoList!$R:$R, D$2))","v":""},{"$f":"IF($A332 = \"\", \"\", COUNTIFS(ToDoList!$B:$B, $A332, ToDoList!$R:$R, E$2))","v":""},{"$f":"IF($A332 = \"\", \"\", COUNTIFS(ToDoList!$B:$B, $A332, ToDoList!$R:$R, F$2))","v":""},{"$f":"IF($A332 = \"\", \"\", COUNTIFS(ToDoList!$B:$B, $A332, ToDoList!$R:$R, G$2))","v":""},{"$f":"IF($A332 = \"\", \"\", COUNTIFS(ToDoList!$B:$B, $A332, ToDoList!$R:$R, H$2))","v":""},{"$f":"IF($A332 = \"\", \"\", COUNTIFS(ToDoList!$B:$B, $A332, ToDoList!$R:$R, I$2))","v":""},{"$f":"IF($A332 = \"\", \"\", COUNTIFS(ToDoList!$B:$B, $A332, ToDoList!$R:$R, J$2))","v":""}]
[null,{"$f":"IF($A333 = \"\", \"\", COUNTIFS(ToDoList!$B:$B, $A333, ToDoList!$R:$R, B$2))","v":""},{"$f":"IF($A333 = \"\", \"\", COUNTIFS(ToDoList!$B:$B, $A333, ToDoList!$R:$R, C$2))","v":""},{"$f":"IF($A333 = \"\", \"\", COUNTIFS(ToDoList!$B:$B, $A333, ToDoList!$R:$R, D$2))","v":""},{"$f":"IF($A333 = \"\", \"\", COUNTIFS(ToDoList!$B:$B, $A333, ToDoList!$R:$R, E$2))","v":""},{"$f":"IF($A333 = \"\", \"\", COUNTIFS(ToDoList!$B:$B, $A333, ToDoList!$R:$R, F$2))","v":""},{"$f":"IF($A333 = \"\", \"\", COUNTIFS(ToDoList!$B:$B, $A333, ToDoList!$R:$R, G$2))","v":""},{"$f":"IF($A333 = \"\", \"\", COUNTIFS(ToDoList!$B:$B, $A333, ToDoList!$R:$R, H$2))","v":""},{"$f":"IF($A333 = \"\", \"\", COUNTIFS(ToDoList!$B:$B, $A333, ToDoList!$R:$R, I$2))","v":""},{"$f":"IF($A333 = \"\", \"\", COUNTIFS(ToDoList!$B:$B, $A333, ToDoList!$R:$R, J$2))","v":""}]
[null,{"$f":"IF($A334 = \"\", \"\", COUNTIFS(ToDoList!$B:$B, $A334, ToDoList!$R:$R, B$2))","v":""},{"$f":"IF($A334 = \"\", \"\", COUNTIFS(ToDoList!$B:$B, $A334, ToDoList!$R:$R, C$2))","v":""},{"$f":"IF($A334 = \"\", \"\", COUNTIFS(ToDoList!$B:$B, $A334, ToDoList!$R:$R, D$2))","v":""},{"$f":"IF($A334 = \"\", \"\", COUNTIFS(ToDoList!$B:$B, $A334, ToDoList!$R:$R, E$2))","v":""},{"$f":"IF($A334 = \"\", \"\", COUNTIFS(ToDoList!$B:$B, $A334, ToDoList!$R:$R, F$2))","v":""},{"$f":"IF($A334 = \"\", \"\", COUNTIFS(ToDoList!$B:$B, $A334, ToDoList!$R:$R, G$2))","v":""},{"$f":"IF($A334 = \"\", \"\", COUNTIFS(ToDoList!$B:$B, $A334, ToDoList!$R:$R, H$2))","v":""},{"$f":"IF($A334 = \"\", \"\", COUNTIFS(ToDoList!$B:$B, $A334, ToDoList!$R:$R, I$2))","v":""},{"$f":"IF($A334 = \"\", \"\", COUNTIFS(ToDoList!$B:$B, $A334, ToDoList!$R:$R, J$2))","v":""}]
[null,{"$f":"IF($A335 = \"\", \"\", COUNTIFS(ToDoList!$B:$B, $A335, ToDoList!$R:$R, B$2))","v":""},{"$f":"IF($A335 = \"\", \"\", COUNTIFS(ToDoList!$B:$B, $A335, ToDoList!$R:$R, C$2))","v":""},{"$f":"IF($A335 = \"\", \"\", COUNTIFS(ToDoList!$B:$B, $A335, ToDoList!$R:$R, D$2))","v":""},{"$f":"IF($A335 = \"\", \"\", COUNTIFS(ToDoList!$B:$B, $A335, ToDoList!$R:$R, E$2))","v":""},{"$f":"IF($A335 = \"\", \"\", COUNTIFS(ToDoList!$B:$B, $A335, ToDoList!$R:$R, F$2))","v":""},{"$f":"IF($A335 = \"\", \"\", COUNTIFS(ToDoList!$B:$B, $A335, ToDoList!$R:$R, G$2))","v":""},{"$f":"IF($A335 = \"\", \"\", COUNTIFS(ToDoList!$B:$B, $A335, ToDoList!$R:$R, H$2))","v":""},{"$f":"IF($A335 = \"\", \"\", COUNTIFS(ToDoList!$B:$B, $A335, ToDoList!$R:$R, I$2))","v":""},{"$f":"IF($A335 = \"\", \"\", COUNTIFS(ToDoList!$B:$B, $A335, ToDoList!$R:$R, J$2))","v":""}]
[null,{"$f":"IF($A336 = \"\", \"\", COUNTIFS(ToDoList!$B:$B, $A336, ToDoList!$R:$R, B$2))","v":""},{"$f":"IF($A336 = \"\", \"\", COUNTIFS(ToDoList!$B:$B, $A336, ToDoList!$R:$R, C$2))","v":""},{"$f":"IF($A336 = \"\", \"\", COUNTIFS(ToDoList!$B:$B, $A336, ToDoList!$R:$R, D$2))","v":""},{"$f":"IF($A336 = \"\", \"\", COUNTIFS(ToDoList!$B:$B, $A336, ToDoList!$R:$R, E$2))","v":""},{"$f":"IF($A336 = \"\", \"\", COUNTIFS(ToDoList!$B:$B, $A336, ToDoList!$R:$R, F$2))","v":""},{"$f":"IF($A336 = \"\", \"\", COUNTIFS(ToDoList!$B:$B, $A336, ToDoList!$R:$R, G$2))","v":""},{"$f":"IF($A336 = \"\", \"\", COUNTIFS(ToDoList!$B:$B, $A336, ToDoList!$R:$R, H$2))","v":""},{"$f":"IF($A336 = \"\", \"\", COUNTIFS(ToDoList!$B:$B, $A336, ToDoList!$R:$R, I$2))","v":""},{"$f":"IF($A336 = \"\", \"\", COUNTIFS(ToDoList!$B:$B, $A336, ToDoList!$R:$R, J$2))","v":""}]
[null,{"$f":"IF($A337 = \"\", \"\", COUNTIFS(ToDoList!$B:$B, $A337, ToDoList!$R:$R, B$2))","v":""},{"$f":"IF($A337 = \"\", \"\", COUNTIFS(ToDoList!$B:$B, $A337, ToDoList!$R:$R, C$2))","v":""},{"$f":"IF($A337 = \"\", \"\", COUNTIFS(ToDoList!$B:$B, $A337, ToDoList!$R:$R, D$2))","v":""},{"$f":"IF($A337 = \"\", \"\", COUNTIFS(ToDoList!$B:$B, $A337, ToDoList!$R:$R, E$2))","v":""},{"$f":"IF($A337 = \"\", \"\", COUNTIFS(ToDoList!$B:$B, $A337, ToDoList!$R:$R, F$2))","v":""},{"$f":"IF($A337 = \"\", \"\", COUNTIFS(ToDoList!$B:$B, $A337, ToDoList!$R:$R, G$2))","v":""},{"$f":"IF($A337 = \"\", \"\", COUNTIFS(ToDoList!$B:$B, $A337, ToDoList!$R:$R, H$2))","v":""},{"$f":"IF($A337 = \"\", \"\", COUNTIFS(ToDoList!$B:$B, $A337, ToDoList!$R:$R, I$2))","v":""},{"$f":"IF($A337 = \"\", \"\", COUNTIFS(ToDoList!$B:$B, $A337, ToDoList!$R:$R, J$2))","v":""}]
[null,{"$f":"IF($A338 = \"\", \"\", COUNTIFS(ToDoList!$B:$B, $A338, ToDoList!$R:$R, B$2))","v":""},{"$f":"IF($A338 = \"\", \"\", COUNTIFS(ToDoList!$B:$B, $A338, ToDoList!$R:$R, C$2))","v":""},{"$f":"IF($A338 = \"\", \"\", COUNTIFS(ToDoList!$B:$B, $A338, ToDoList!$R:$R, D$2))","v":""},{"$f":"IF($A338 = \"\", \"\", COUNTIFS(ToDoList!$B:$B, $A338, ToDoList!$R:$R, E$2))","v":""},{"$f":"IF($A338 = \"\", \"\", COUNTIFS(ToDoList!$B:$B, $A338, ToDoList!$R:$R, F$2))","v":""},{"$f":"IF($A338 = \"\", \"\", COUNTIFS(ToDoList!$B:$B, $A338, ToDoList!$R:$R, G$2))","v":""},{"$f":"IF($A338 = \"\", \"\", COUNTIFS(ToDoList!$B:$B, $A338, ToDoList!$R:$R, H$2))","v":""},{"$f":"IF($A338 = \"\", \"\", COUNTIFS(ToDoList!$B:$B, $A338, ToDoList!$R:$R, I$2))","v":""},{"$f":"IF($A338 = \"\", \"\", COUNTIFS(ToDoList!$B:$B, $A338, ToDoList!$R:$R, J$2))","v":""}]
[null,{"$f":"IF($A339 = \"\", \"\", COUNTIFS(ToDoList!$B:$B, $A339, ToDoList!$R:$R, B$2))","v":""},{"$f":"IF($A339 = \"\", \"\", COUNTIFS(ToDoList!$B:$B, $A339, ToDoList!$R:$R, C$2))","v":""},{"$f":"IF($A339 = \"\", \"\", COUNTIFS(ToDoList!$B:$B, $A339, ToDoList!$R:$R, D$2))","v":""},{"$f":"IF($A339 = \"\", \"\", COUNTIFS(ToDoList!$B:$B, $A339, ToDoList!$R:$R, E$2))","v":""},{"$f":"IF($A339 = \"\", \"\", COUNTIFS(ToDoList!$B:$B, $A339, ToDoList!$R:$R, F$2))","v":""},{"$f":"IF($A339 = \"\", \"\", COUNTIFS(ToDoList!$B:$B, $A339, ToDoList!$R:$R, G$2))","v":""},{"$f":"IF($A339 = \"\", \"\", COUNTIFS(ToDoList!$B:$B, $A339, ToDoList!$R:$R, H$2))","v":""},{"$f":"IF($A339 = \"\", \"\", COUNTIFS(ToDoList!$B:$B, $A339, ToDoList!$R:$R, I$2))","v":""},{"$f":"IF($A339 = \"\", \"\", COUNTIFS(ToDoList!$B:$B, $A339, ToDoList!$R:$R, J$2))","v":""}]
[null,{"$f":"IF($A340 = \"\", \"\", COUNTIFS(ToDoList!$B:$B, $A340, ToDoList!$R:$R, B$2))","v":""},{"$f":"IF($A340 = \"\", \"\", COUNTIFS(ToDoList!$B:$B, $A340, ToDoList!$R:$R, C$2))","v":""},{"$f":"IF($A340 = \"\", \"\", COUNTIFS(ToDoList!$B:$B, $A340, ToDoList!$R:$R, D$2))","v":""},{"$f":"IF($A340 = \"\", \"\", COUNTIFS(ToDoList!$B:$B, $A340, ToDoList!$R:$R, E$2))","v":""},{"$f":"IF($A340 = \"\", \"\", COUNTIFS(ToDoList!$B:$B, $A340, ToDoList!$R:$R, F$2))","v":""},{"$f":"IF($A340 = \"\", \"\", COUNTIFS(ToDoList!$B:$B, $A340, ToDoList!$R:$R, G$2))","v":""},{"$f":"IF($A340 = \"\", \"\", COUNTIFS(ToDoList!$B:$B, $A340, ToDoList!$R:$R, H$2))","v":""},{"$f":"IF($A340 = \"\", \"\", COUNTIFS(ToDoList!$B:$B, $A340, ToDoList!$R:$R, I$2))","v":""},{"$f":"IF($A340 = \"\", \"\", COUNTIFS(ToDoList!$B:$B, $A340, ToDoList!$R:$R, J$2))","v":""}]
[null,{"$f":"IF($A341 = \"\", \"\", COUNTIFS(ToDoList!$B:$B, $A341, ToDoList!$R:$R, B$2))","v":""},{"$f":"IF($A341 = \"\", \"\", COUNTIFS(ToDoList!$B:$B, $A341, ToDoList!$R:$R, C$2))","v":""},{"$f":"IF($A341 = \"\", \"\", COUNTIFS(ToDoList!$B:$B, $A341, ToDoList!$R:$R, D$2))","v":""},{"$f":"IF($A341 = \"\", \"\", COUNTIFS(ToDoList!$B:$B, $A341, ToDoList!$R:$R, E$2))","v":""},{"$f":"IF($A341 = \"\", \"\", COUNTIFS(ToDoList!$B:$B, $A341, ToDoList!$R:$R, F$2))","v":""},{"$f":"IF($A341 = \"\", \"\", COUNTIFS(ToDoList!$B:$B, $A341, ToDoList!$R:$R, G$2))","v":""},{"$f":"IF($A341 = \"\", \"\", COUNTIFS(ToDoList!$B:$B, $A341, ToDoList!$R:$R, H$2))","v":""},{"$f":"IF($A341 = \"\", \"\", COUNTIFS(ToDoList!$B:$B, $A341, ToDoList!$R:$R, I$2))","v":""},{"$f":"IF($A341 = \"\", \"\", COUNTIFS(ToDoList!$B:$B, $A341, ToDoList!$R:$R, J$2))","v":""}]
[null,{"$f":"IF($A342 = \"\", \"\", COUNTIFS(ToDoList!$B:$B, $A342, ToDoList!$R:$R, B$2))","v":""},{"$f":"IF($A342 = \"\", \"\", COUNTIFS(ToDoList!$B:$B, $A342, ToDoList!$R:$R, C$2))","v":""},{"$f":"IF($A342 = \"\", \"\", COUNTIFS(ToDoList!$B:$B, $A342, ToDoList!$R:$R, D$2))","v":""},{"$f":"IF($A342 = \"\", \"\", COUNTIFS(ToDoList!$B:$B, $A342, ToDoList!$R:$R, E$2))","v":""},{"$f":"IF($A342 = \"\", \"\", COUNTIFS(ToDoList!$B:$B, $A342, ToDoList!$R:$R, F$2))","v":""},{"$f":"IF($A342 = \"\", \"\", COUNTIFS(ToDoList!$B:$B, $A342, ToDoList!$R:$R, G$2))","v":""},{"$f":"IF($A342 = \"\", \"\", COUNTIFS(ToDoList!$B:$B, $A342, ToDoList!$R:$R, H$2))","v":""},{"$f":"IF($A342 = \"\", \"\", COUNTIFS(ToDoList!$B:$B, $A342, ToDoList!$R:$R, I$2))","v":""},{"$f":"IF($A342 = \"\", \"\", COUNTIFS(ToDoList!$B:$B, $A342, ToDoList!$R:$R, J$2))","v":""}]
[null,{"$f":"IF($A343 = \"\", \"\", COUNTIFS(ToDoList!$B:$B, $A343, ToDoList!$R:$R, B$2))","v":""},{"$f":"IF($A343 = \"\", \"\", COUNTIFS(ToDoList!$B:$B, $A343, ToDoList!$R:$R, C$2))","v":""},{"$f":"IF($A343 = \"\", \"\", COUNTIFS(ToDoList!$B:$B, $A343, ToDoList!$R:$R, D$2))","v":""},{"$f":"IF($A343 = \"\", \"\", COUNTIFS(ToDoList!$B:$B, $A343, ToDoList!$R:$R, E$2))","v":""},{"$f":"IF($A343 = \"\", \"\", COUNTIFS(ToDoList!$B:$B, $A343, ToDoList!$R:$R, F$2))","v":""},{"$f":"IF($A343 = \"\", \"\", COUNTIFS(ToDoList!$B:$B, $A343, ToDoList!$R:$R, G$2))","v":""},{"$f":"IF($A343 = \"\", \"\", COUNTIFS(ToDoList!$B:$B, $A343, ToDoList!$R:$R, H$2))","v":""},{"$f":"IF($A343 = \"\", \"\", COUNTIFS(ToDoList!$B:$B, $A343, ToDoList!$R:$R, I$2))","v":""},{"$f":"IF($A343 = \"\", \"\", COUNTIFS(ToDoList!$B:$B, $A343, ToDoList!$R:$R, J$2))","v":""}]
[null,{"$f":"IF($A344 = \"\", \"\", COUNTIFS(ToDoList!$B:$B, $A344, ToDoList!$R:$R, B$2))","v":""},{"$f":"IF($A344 = \"\", \"\", COUNTIFS(ToDoList!$B:$B, $A344, ToDoList!$R:$R, C$2))","v":""},{"$f":"IF($A344 = \"\", \"\", COUNTIFS(ToDoList!$B:$B, $A344, ToDoList!$R:$R, D$2))","v":""},{"$f":"IF($A344 = \"\", \"\", COUNTIFS(ToDoList!$B:$B, $A344, ToDoList!$R:$R, E$2))","v":""},{"$f":"IF($A344 = \"\", \"\", COUNTIFS(ToDoList!$B:$B, $A344, ToDoList!$R:$R, F$2))","v":""},{"$f":"IF($A344 = \"\", \"\", COUNTIFS(ToDoList!$B:$B, $A344, ToDoList!$R:$R, G$2))","v":""},{"$f":"IF($A344 = \"\", \"\", COUNTIFS(ToDoList!$B:$B, $A344, ToDoList!$R:$R, H$2))","v":""},{"$f":"IF($A344 = \"\", \"\", COUNTIFS(ToDoList!$B:$B, $A344, ToDoList!$R:$R, I$2))","v":""},{"$f":"IF($A344 = \"\", \"\", COUNTIFS(ToDoList!$B:$B, $A344, ToDoList!$R:$R, J$2))","v":""}]
[null,{"$f":"IF($A345 = \"\", \"\", COUNTIFS(ToDoList!$B:$B, $A345, ToDoList!$R:$R, B$2))","v":""},{"$f":"IF($A345 = \"\", \"\", COUNTIFS(ToDoList!$B:$B, $A345, ToDoList!$R:$R, C$2))","v":""},{"$f":"IF($A345 = \"\", \"\", COUNTIFS(ToDoList!$B:$B, $A345, ToDoList!$R:$R, D$2))","v":""},{"$f":"IF($A345 = \"\", \"\", COUNTIFS(ToDoList!$B:$B, $A345, ToDoList!$R:$R, E$2))","v":""},{"$f":"IF($A345 = \"\", \"\", COUNTIFS(ToDoList!$B:$B, $A345, ToDoList!$R:$R, F$2))","v":""},{"$f":"IF($A345 = \"\", \"\", COUNTIFS(ToDoList!$B:$B, $A345, ToDoList!$R:$R, G$2))","v":""},{"$f":"IF($A345 = \"\", \"\", COUNTIFS(ToDoList!$B:$B, $A345, ToDoList!$R:$R, H$2))","v":""},{"$f":"IF($A345 = \"\", \"\", COUNTIFS(ToDoList!$B:$B, $A345, ToDoList!$R:$R, I$2))","v":""},{"$f":"IF($A345 = \"\", \"\", COUNTIFS(ToDoList!$B:$B, $A345, ToDoList!$R:$R, J$2))","v":""}]
[null,{"$f":"IF($A346 = \"\", \"\", COUNTIFS(ToDoList!$B:$B, $A346, ToDoList!$R:$R, B$2))","v":""},{"$f":"IF($A346 = \"\", \"\", COUNTIFS(ToDoList!$B:$B, $A346, ToDoList!$R:$R, C$2))","v":""},{"$f":"IF($A346 = \"\", \"\", COUNTIFS(ToDoList!$B:$B, $A346, ToDoList!$R:$R, D$2))","v":""},{"$f":"IF($A346 = \"\", \"\", COUNTIFS(ToDoList!$B:$B, $A346, ToDoList!$R:$R, E$2))","v":""},{"$f":"IF($A346 = \"\", \"\", COUNTIFS(ToDoList!$B:$B, $A346, ToDoList!$R:$R, F$2))","v":""},{"$f":"IF($A346 = \"\", \"\", COUNTIFS(ToDoList!$B:$B, $A346, ToDoList!$R:$R, G$2))","v":""},{"$f":"IF($A346 = \"\", \"\", COUNTIFS(ToDoList!$B:$B, $A346, ToDoList!$R:$R, H$2))","v":""},{"$f":"IF($A346 = \"\", \"\", COUNTIFS(ToDoList!$B:$B, $A346, ToDoList!$R:$R, I$2))","v":""},{"$f":"IF($A346 = \"\", \"\", COUNTIFS(ToDoList!$B:$B, $A346, ToDoList!$R:$R, J$2))","v":""}]
[null,{"$f":"IF($A347 = \"\", \"\", COUNTIFS(ToDoList!$B:$B, $A347, ToDoList!$R:$R, B$2))","v":""},{"$f":"IF($A347 = \"\", \"\", COUNTIFS(ToDoList!$B:$B, $A347, ToDoList!$R:$R, C$2))","v":""},{"$f":"IF($A347 = \"\", \"\", COUNTIFS(ToDoList!$B:$B, $A347, ToDoList!$R:$R, D$2))","v":""},{"$f":"IF($A347 = \"\", \"\", COUNTIFS(ToDoList!$B:$B, $A347, ToDoList!$R:$R, E$2))","v":""},{"$f":"IF($A347 = \"\", \"\", COUNTIFS(ToDoList!$B:$B, $A347, ToDoList!$R:$R, F$2))","v":""},{"$f":"IF($A347 = \"\", \"\", COUNTIFS(ToDoList!$B:$B, $A347, ToDoList!$R:$R, G$2))","v":""},{"$f":"IF($A347 = \"\", \"\", COUNTIFS(ToDoList!$B:$B, $A347, ToDoList!$R:$R, H$2))","v":""},{"$f":"IF($A347 = \"\", \"\", COUNTIFS(ToDoList!$B:$B, $A347, ToDoList!$R:$R, I$2))","v":""},{"$f":"IF($A347 = \"\", \"\", COUNTIFS(ToDoList!$B:$B, $A347, ToDoList!$R:$R, J$2))","v":""}]
[null,{"$f":"IF($A348 = \"\", \"\", COUNTIFS(ToDoList!$B:$B, $A348, ToDoList!$R:$R, B$2))","v":""},{"$f":"IF($A348 = \"\", \"\", COUNTIFS(ToDoList!$B:$B, $A348, ToDoList!$R:$R, C$2))","v":""},{"$f":"IF($A348 = \"\", \"\", COUNTIFS(ToDoList!$B:$B, $A348, ToDoList!$R:$R, D$2))","v":""},{"$f":"IF($A348 = \"\", \"\", COUNTIFS(ToDoList!$B:$B, $A348, ToDoList!$R:$R, E$2))","v":""},{"$f":"IF($A348 = \"\", \"\", COUNTIFS(ToDoList!$B:$B, $A348, ToDoList!$R:$R, F$2))","v":""},{"$f":"IF($A348 = \"\", \"\", COUNTIFS(ToDoList!$B:$B, $A348, ToDoList!$R:$R, G$2))","v":""},{"$f":"IF($A348 = \"\", \"\", COUNTIFS(ToDoList!$B:$B, $A348, ToDoList!$R:$R, H$2))","v":""},{"$f":"IF($A348 = \"\", \"\", COUNTIFS(ToDoList!$B:$B, $A348, ToDoList!$R:$R, I$2))","v":""},{"$f":"IF($A348 = \"\", \"\", COUNTIFS(ToDoList!$B:$B, $A348, ToDoList!$R:$R, J$2))","v":""}]
[null,{"$f":"IF($A349 = \"\", \"\", COUNTIFS(ToDoList!$B:$B, $A349, ToDoList!$R:$R, B$2))","v":""},{"$f":"IF($A349 = \"\", \"\", COUNTIFS(ToDoList!$B:$B, $A349, ToDoList!$R:$R, C$2))","v":""},{"$f":"IF($A349 = \"\", \"\", COUNTIFS(ToDoList!$B:$B, $A349, ToDoList!$R:$R, D$2))","v":""},{"$f":"IF($A349 = \"\", \"\", COUNTIFS(ToDoList!$B:$B, $A349, ToDoList!$R:$R, E$2))","v":""},{"$f":"IF($A349 = \"\", \"\", COUNTIFS(ToDoList!$B:$B, $A349, ToDoList!$R:$R, F$2))","v":""},{"$f":"IF($A349 = \"\", \"\", COUNTIFS(ToDoList!$B:$B, $A349, ToDoList!$R:$R, G$2))","v":""},{"$f":"IF($A349 = \"\", \"\", COUNTIFS(ToDoList!$B:$B, $A349, ToDoList!$R:$R, H$2))","v":""},{"$f":"IF($A349 = \"\", \"\", COUNTIFS(ToDoList!$B:$B, $A349, ToDoList!$R:$R, I$2))","v":""},{"$f":"IF($A349 = \"\", \"\", COUNTIFS(ToDoList!$B:$B, $A349, ToDoList!$R:$R, J$2))","v":""}]
[null,{"$f":"IF($A350 = \"\", \"\", COUNTIFS(ToDoList!$B:$B, $A350, ToDoList!$R:$R, B$2))","v":""},{"$f":"IF($A350 = \"\", \"\", COUNTIFS(ToDoList!$B:$B, $A350, ToDoList!$R:$R, C$2))","v":""},{"$f":"IF($A350 = \"\", \"\", COUNTIFS(ToDoList!$B:$B, $A350, ToDoList!$R:$R, D$2))","v":""},{"$f":"IF($A350 = \"\", \"\", COUNTIFS(ToDoList!$B:$B, $A350, ToDoList!$R:$R, E$2))","v":""},{"$f":"IF($A350 = \"\", \"\", COUNTIFS(ToDoList!$B:$B, $A350, ToDoList!$R:$R, F$2))","v":""},{"$f":"IF($A350 = \"\", \"\", COUNTIFS(ToDoList!$B:$B, $A350, ToDoList!$R:$R, G$2))","v":""},{"$f":"IF($A350 = \"\", \"\", COUNTIFS(ToDoList!$B:$B, $A350, ToDoList!$R:$R, H$2))","v":""},{"$f":"IF($A350 = \"\", \"\", COUNTIFS(ToDoList!$B:$B, $A350, ToDoList!$R:$R, I$2))","v":""},{"$f":"IF($A350 = \"\", \"\", COUNTIFS(ToDoList!$B:$B, $A350, ToDoList!$R:$R, J$2))","v":""}]
[null,{"$f":"IF($A351 = \"\", \"\", COUNTIFS(ToDoList!$B:$B, $A351, ToDoList!$R:$R, B$2))","v":""},{"$f":"IF($A351 = \"\", \"\", COUNTIFS(ToDoList!$B:$B, $A351, ToDoList!$R:$R, C$2))","v":""},{"$f":"IF($A351 = \"\", \"\", COUNTIFS(ToDoList!$B:$B, $A351, ToDoList!$R:$R, D$2))","v":""},{"$f":"IF($A351 = \"\", \"\", COUNTIFS(ToDoList!$B:$B, $A351, ToDoList!$R:$R, E$2))","v":""},{"$f":"IF($A351 = \"\", \"\", COUNTIFS(ToDoList!$B:$B, $A351, ToDoList!$R:$R, F$2))","v":""},{"$f":"IF($A351 = \"\", \"\", COUNTIFS(ToDoList!$B:$B, $A351, ToDoList!$R:$R, G$2))","v":""},{"$f":"IF($A351 = \"\", \"\", COUNTIFS(ToDoList!$B:$B, $A351, ToDoList!$R:$R, H$2))","v":""},{"$f":"IF($A351 = \"\", \"\", COUNTIFS(ToDoList!$B:$B, $A351, ToDoList!$R:$R, I$2))","v":""},{"$f":"IF($A351 = \"\", \"\", COUNTIFS(ToDoList!$B:$B, $A351, ToDoList!$R:$R, J$2))","v":""}]
[null,{"$f":"IF($A352 = \"\", \"\", COUNTIFS(ToDoList!$B:$B, $A352, ToDoList!$R:$R, B$2))","v":""},{"$f":"IF($A352 = \"\", \"\", COUNTIFS(ToDoList!$B:$B, $A352, ToDoList!$R:$R, C$2))","v":""},{"$f":"IF($A352 = \"\", \"\", COUNTIFS(ToDoList!$B:$B, $A352, ToDoList!$R:$R, D$2))","v":""},{"$f":"IF($A352 = \"\", \"\", COUNTIFS(ToDoList!$B:$B, $A352, ToDoList!$R:$R, E$2))","v":""},{"$f":"IF($A352 = \"\", \"\", COUNTIFS(ToDoList!$B:$B, $A352, ToDoList!$R:$R, F$2))","v":""},{"$f":"IF($A352 = \"\", \"\", COUNTIFS(ToDoList!$B:$B, $A352, ToDoList!$R:$R, G$2))","v":""},{"$f":"IF($A352 = \"\", \"\", COUNTIFS(ToDoList!$B:$B, $A352, ToDoList!$R:$R, H$2))","v":""},{"$f":"IF($A352 = \"\", \"\", COUNTIFS(ToDoList!$B:$B, $A352, ToDoList!$R:$R, I$2))","v":""},{"$f":"IF($A352 = \"\", \"\", COUNTIFS(ToDoList!$B:$B, $A352, ToDoList!$R:$R, J$2))","v":""}]
[null,{"$f":"IF($A353 = \"\", \"\", COUNTIFS(ToDoList!$B:$B, $A353, ToDoList!$R:$R, B$2))","v":""},{"$f":"IF($A353 = \"\", \"\", COUNTIFS(ToDoList!$B:$B, $A353, ToDoList!$R:$R, C$2))","v":""},{"$f":"IF($A353 = \"\", \"\", COUNTIFS(ToDoList!$B:$B, $A353, ToDoList!$R:$R, D$2))","v":""},{"$f":"IF($A353 = \"\", \"\", COUNTIFS(ToDoList!$B:$B, $A353, ToDoList!$R:$R, E$2))","v":""},{"$f":"IF($A353 = \"\", \"\", COUNTIFS(ToDoList!$B:$B, $A353, ToDoList!$R:$R, F$2))","v":""},{"$f":"IF($A353 = \"\", \"\", COUNTIFS(ToDoList!$B:$B, $A353, ToDoList!$R:$R, G$2))","v":""},{"$f":"IF($A353 = \"\", \"\", COUNTIFS(ToDoList!$B:$B, $A353, ToDoList!$R:$R, H$2))","v":""},{"$f":"IF($A353 = \"\", \"\", COUNTIFS(ToDoList!$B:$B, $A353, ToDoList!$R:$R, I$2))","v":""},{"$f":"IF($A353 = \"\", \"\", COUNTIFS(ToDoList!$B:$B, $A353, ToDoList!$R:$R, J$2))","v":""}]
[null,{"$f":"IF($A354 = \"\", \"\", COUNTIFS(ToDoList!$B:$B, $A354, ToDoList!$R:$R, B$2))","v":""},{"$f":"IF($A354 = \"\", \"\", COUNTIFS(ToDoList!$B:$B, $A354, ToDoList!$R:$R, C$2))","v":""},{"$f":"IF($A354 = \"\", \"\", COUNTIFS(ToDoList!$B:$B, $A354, ToDoList!$R:$R, D$2))","v":""},{"$f":"IF($A354 = \"\", \"\", COUNTIFS(ToDoList!$B:$B, $A354, ToDoList!$R:$R, E$2))","v":""},{"$f":"IF($A354 = \"\", \"\", COUNTIFS(ToDoList!$B:$B, $A354, ToDoList!$R:$R, F$2))","v":""},{"$f":"IF($A354 = \"\", \"\", COUNTIFS(ToDoList!$B:$B, $A354, ToDoList!$R:$R, G$2))","v":""},{"$f":"IF($A354 = \"\", \"\", COUNTIFS(ToDoList!$B:$B, $A354, ToDoList!$R:$R, H$2))","v":""},{"$f":"IF($A354 = \"\", \"\", COUNTIFS(ToDoList!$B:$B, $A354, ToDoList!$R:$R, I$2))","v":""},{"$f":"IF($A354 = \"\", \"\", COUNTIFS(ToDoList!$B:$B, $A354, ToDoList!$R:$R, J$2))","v":""}]
[null,{"$f":"IF($A355 = \"\", \"\", COUNTIFS(ToDoList!$B:$B, $A355, ToDoList!$R:$R, B$2))","v":""},{"$f":"IF($A355 = \"\", \"\", COUNTIFS(ToDoList!$B:$B, $A355, ToDoList!$R:$R, C$2))","v":""},{"$f":"IF($A355 = \"\", \"\", COUNTIFS(ToDoList!$B:$B, $A355, ToDoList!$R:$R, D$2))","v":""},{"$f":"IF($A355 = \"\", \"\", COUNTIFS(ToDoList!$B:$B, $A355, ToDoList!$R:$R, E$2))","v":""},{"$f":"IF($A355 = \"\", \"\", COUNTIFS(ToDoList!$B:$B, $A355, ToDoList!$R:$R, F$2))","v":""},{"$f":"IF($A355 = \"\", \"\", COUNTIFS(ToDoList!$B:$B, $A355, ToDoList!$R:$R, G$2))","v":""},{"$f":"IF($A355 = \"\", \"\", COUNTIFS(ToDoList!$B:$B, $A355, ToDoList!$R:$R, H$2))","v":""},{"$f":"IF($A355 = \"\", \"\", COUNTIFS(ToDoList!$B:$B, $A355, ToDoList!$R:$R, I$2))","v":""},{"$f":"IF($A355 = \"\", \"\", COUNTIFS(ToDoList!$B:$B, $A355, ToDoList!$R:$R, J$2))","v":""}]
[null,{"$f":"IF($A356 = \"\", \"\", COUNTIFS(ToDoList!$B:$B, $A356, ToDoList!$R:$R, B$2))","v":""},{"$f":"IF($A356 = \"\", \"\", COUNTIFS(ToDoList!$B:$B, $A356, ToDoList!$R:$R, C$2))","v":""},{"$f":"IF($A356 = \"\", \"\", COUNTIFS(ToDoList!$B:$B, $A356, ToDoList!$R:$R, D$2))","v":""},{"$f":"IF($A356 = \"\", \"\", COUNTIFS(ToDoList!$B:$B, $A356, ToDoList!$R:$R, E$2))","v":""},{"$f":"IF($A356 = \"\", \"\", COUNTIFS(ToDoList!$B:$B, $A356, ToDoList!$R:$R, F$2))","v":""},{"$f":"IF($A356 = \"\", \"\", COUNTIFS(ToDoList!$B:$B, $A356, ToDoList!$R:$R, G$2))","v":""},{"$f":"IF($A356 = \"\", \"\", COUNTIFS(ToDoList!$B:$B, $A356, ToDoList!$R:$R, H$2))","v":""},{"$f":"IF($A356 = \"\", \"\", COUNTIFS(ToDoList!$B:$B, $A356, ToDoList!$R:$R, I$2))","v":""},{"$f":"IF($A356 = \"\", \"\", COUNTIFS(ToDoList!$B:$B, $A356, ToDoList!$R:$R, J$2))","v":""}]
[null,{"$f":"IF($A357 = \"\", \"\", COUNTIFS(ToDoList!$B:$B, $A357, ToDoList!$R:$R, B$2))","v":""},{"$f":"IF($A357 = \"\", \"\", COUNTIFS(ToDoList!$B:$B, $A357, ToDoList!$R:$R, C$2))","v":""},{"$f":"IF($A357 = \"\", \"\", COUNTIFS(ToDoList!$B:$B, $A357, ToDoList!$R:$R, D$2))","v":""},{"$f":"IF($A357 = \"\", \"\", COUNTIFS(ToDoList!$B:$B, $A357, ToDoList!$R:$R, E$2))","v":""},{"$f":"IF($A357 = \"\", \"\", COUNTIFS(ToDoList!$B:$B, $A357, ToDoList!$R:$R, F$2))","v":""},{"$f":"IF($A357 = \"\", \"\", COUNTIFS(ToDoList!$B:$B, $A357, ToDoList!$R:$R, G$2))","v":""},{"$f":"IF($A357 = \"\", \"\", COUNTIFS(ToDoList!$B:$B, $A357, ToDoList!$R:$R, H$2))","v":""},{"$f":"IF($A357 = \"\", \"\", COUNTIFS(ToDoList!$B:$B, $A357, ToDoList!$R:$R, I$2))","v":""},{"$f":"IF($A357 = \"\", \"\", COUNTIFS(ToDoList!$B:$B, $A357, ToDoList!$R:$R, J$2))","v":""}]
[null,{"$f":"IF($A358 = \"\", \"\", COUNTIFS(ToDoList!$B:$B, $A358, ToDoList!$R:$R, B$2))","v":""},{"$f":"IF($A358 = \"\", \"\", COUNTIFS(ToDoList!$B:$B, $A358, ToDoList!$R:$R, C$2))","v":""},{"$f":"IF($A358 = \"\", \"\", COUNTIFS(ToDoList!$B:$B, $A358, ToDoList!$R:$R, D$2))","v":""},{"$f":"IF($A358 = \"\", \"\", COUNTIFS(ToDoList!$B:$B, $A358, ToDoList!$R:$R, E$2))","v":""},{"$f":"IF($A358 = \"\", \"\", COUNTIFS(ToDoList!$B:$B, $A358, ToDoList!$R:$R, F$2))","v":""},{"$f":"IF($A358 = \"\", \"\", COUNTIFS(ToDoList!$B:$B, $A358, ToDoList!$R:$R, G$2))","v":""},{"$f":"IF($A358 = \"\", \"\", COUNTIFS(ToDoList!$B:$B, $A358, ToDoList!$R:$R, H$2))","v":""},{"$f":"IF($A358 = \"\", \"\", COUNTIFS(ToDoList!$B:$B, $A358, ToDoList!$R:$R, I$2))","v":""},{"$f":"IF($A358 = \"\", \"\", COUNTIFS(ToDoList!$B:$B, $A358, ToDoList!$R:$R, J$2))","v":""}]
[null,{"$f":"IF($A359 = \"\", \"\", COUNTIFS(ToDoList!$B:$B, $A359, ToDoList!$R:$R, B$2))","v":""},{"$f":"IF($A359 = \"\", \"\", COUNTIFS(ToDoList!$B:$B, $A359, ToDoList!$R:$R, C$2))","v":""},{"$f":"IF($A359 = \"\", \"\", COUNTIFS(ToDoList!$B:$B, $A359, ToDoList!$R:$R, D$2))","v":""},{"$f":"IF($A359 = \"\", \"\", COUNTIFS(ToDoList!$B:$B, $A359, ToDoList!$R:$R, E$2))","v":""},{"$f":"IF($A359 = \"\", \"\", COUNTIFS(ToDoList!$B:$B, $A359, ToDoList!$R:$R, F$2))","v":""},{"$f":"IF($A359 = \"\", \"\", COUNTIFS(ToDoList!$B:$B, $A359, ToDoList!$R:$R, G$2))","v":""},{"$f":"IF($A359 = \"\", \"\", COUNTIFS(ToDoList!$B:$B, $A359, ToDoList!$R:$R, H$2))","v":""},{"$f":"IF($A359 = \"\", \"\", COUNTIFS(ToDoList!$B:$B, $A359, ToDoList!$R:$R, I$2))","v":""},{"$f":"IF($A359 = \"\", \"\", COUNTIFS(ToDoList!$B:$B, $A359, ToDoList!$R:$R, J$2))","v":""}]
[null,{"$f":"IF($A360 = \"\", \"\", COUNTIFS(ToDoList!$B:$B, $A360, ToDoList!$R:$R, B$2))","v":""},{"$f":"IF($A360 = \"\", \"\", COUNTIFS(ToDoList!$B:$B, $A360, ToDoList!$R:$R, C$2))","v":""},{"$f":"IF($A360 = \"\", \"\", COUNTIFS(ToDoList!$B:$B, $A360, ToDoList!$R:$R, D$2))","v":""},{"$f":"IF($A360 = \"\", \"\", COUNTIFS(ToDoList!$B:$B, $A360, ToDoList!$R:$R, E$2))","v":""},{"$f":"IF($A360 = \"\", \"\", COUNTIFS(ToDoList!$B:$B, $A360, ToDoList!$R:$R, F$2))","v":""},{"$f":"IF($A360 = \"\", \"\", COUNTIFS(ToDoList!$B:$B, $A360, ToDoList!$R:$R, G$2))","v":""},{"$f":"IF($A360 = \"\", \"\", COUNTIFS(ToDoList!$B:$B, $A360, ToDoList!$R:$R, H$2))","v":""},{"$f":"IF($A360 = \"\", \"\", COUNTIFS(ToDoList!$B:$B, $A360, ToDoList!$R:$R, I$2))","v":""},{"$f":"IF($A360 = \"\", \"\", COUNTIFS(ToDoList!$B:$B, $A360, ToDoList!$R:$R, J$2))","v":""}]
[null,{"$f":"IF($A361 = \"\", \"\", COUNTIFS(ToDoList!$B:$B, $A361, ToDoList!$R:$R, B$2))","v":""},{"$f":"IF($A361 = \"\", \"\", COUNTIFS(ToDoList!$B:$B, $A361, ToDoList!$R:$R, C$2))","v":""},{"$f":"IF($A361 = \"\", \"\", COUNTIFS(ToDoList!$B:$B, $A361, ToDoList!$R:$R, D$2))","v":""},{"$f":"IF($A361 = \"\", \"\", COUNTIFS(ToDoList!$B:$B, $A361, ToDoList!$R:$R, E$2))","v":""},{"$f":"IF($A361 = \"\", \"\", COUNTIFS(ToDoList!$B:$B, $A361, ToDoList!$R:$R, F$2))","v":""},{"$f":"IF($A361 = \"\", \"\", COUNTIFS(ToDoList!$B:$B, $A361, ToDoList!$R:$R, G$2))","v":""},{"$f":"IF($A361 = \"\", \"\", COUNTIFS(ToDoList!$B:$B, $A361, ToDoList!$R:$R, H$2))","v":""},{"$f":"IF($A361 = \"\", \"\", COUNTIFS(ToDoList!$B:$B, $A361, ToDoList!$R:$R, I$2))","v":""},{"$f":"IF($A361 = \"\", \"\", COUNTIFS(ToDoList!$B:$B, $A361, ToDoList!$R:$R, J$2))","v":""}]
[null,{"$f":"IF($A362 = \"\", \"\", COUNTIFS(ToDoList!$B:$B, $A362, ToDoList!$R:$R, B$2))","v":""},{"$f":"IF($A362 = \"\", \"\", COUNTIFS(ToDoList!$B:$B, $A362, ToDoList!$R:$R, C$2))","v":""},{"$f":"IF($A362 = \"\", \"\", COUNTIFS(ToDoList!$B:$B, $A362, ToDoList!$R:$R, D$2))","v":""},{"$f":"IF($A362 = \"\", \"\", COUNTIFS(ToDoList!$B:$B, $A362, ToDoList!$R:$R, E$2))","v":""},{"$f":"IF($A362 = \"\", \"\", COUNTIFS(ToDoList!$B:$B, $A362, ToDoList!$R:$R, F$2))","v":""},{"$f":"IF($A362 = \"\", \"\", COUNTIFS(ToDoList!$B:$B, $A362, ToDoList!$R:$R, G$2))","v":""},{"$f":"IF($A362 = \"\", \"\", COUNTIFS(ToDoList!$B:$B, $A362, ToDoList!$R:$R, H$2))","v":""},{"$f":"IF($A362 = \"\", \"\", COUNTIFS(ToDoList!$B:$B, $A362, ToDoList!$R:$R, I$2))","v":""},{"$f":"IF($A362 = \"\", \"\", COUNTIFS(ToDoList!$B:$B, $A362, ToDoList!$R:$R, J$2))","v":""}]
[null,{"$f":"IF($A363 = \"\", \"\", COUNTIFS(ToDoList!$B:$B, $A363, ToDoList!$R:$R, B$2))","v":""},{"$f":"IF($A363 = \"\", \"\", COUNTIFS(ToDoList!$B:$B, $A363, ToDoList!$R:$R, C$2))","v":""},{"$f":"IF($A363 = \"\", \"\", COUNTIFS(ToDoList!$B:$B, $A363, ToDoList!$R:$R, D$2))","v":""},{"$f":"IF($A363 = \"\", \"\", COUNTIFS(ToDoList!$B:$B, $A363, ToDoList!$R:$R, E$2))","v":""},{"$f":"IF($A363 = \"\", \"\", COUNTIFS(ToDoList!$B:$B, $A363, ToDoList!$R:$R, F$2))","v":""},{"$f":"IF($A363 = \"\", \"\", COUNTIFS(ToDoList!$B:$B, $A363, ToDoList!$R:$R, G$2))","v":""},{"$f":"IF($A363 = \"\", \"\", COUNTIFS(ToDoList!$B:$B, $A363, ToDoList!$R:$R, H$2))","v":""},{"$f":"IF($A363 = \"\", \"\", COUNTIFS(ToDoList!$B:$B, $A363, ToDoList!$R:$R, I$2))","v":""},{"$f":"IF($A363 = \"\", \"\", COUNTIFS(ToDoList!$B:$B, $A363, ToDoList!$R:$R, J$2))","v":""}]
[null,{"$f":"IF($A364 = \"\", \"\", COUNTIFS(ToDoList!$B:$B, $A364, ToDoList!$R:$R, B$2))","v":""},{"$f":"IF($A364 = \"\", \"\", COUNTIFS(ToDoList!$B:$B, $A364, ToDoList!$R:$R, C$2))","v":""},{"$f":"IF($A364 = \"\", \"\", COUNTIFS(ToDoList!$B:$B, $A364, ToDoList!$R:$R, D$2))","v":""},{"$f":"IF($A364 = \"\", \"\", COUNTIFS(ToDoList!$B:$B, $A364, ToDoList!$R:$R, E$2))","v":""},{"$f":"IF($A364 = \"\", \"\", COUNTIFS(ToDoList!$B:$B, $A364, ToDoList!$R:$R, F$2))","v":""},{"$f":"IF($A364 = \"\", \"\", COUNTIFS(ToDoList!$B:$B, $A364, ToDoList!$R:$R, G$2))","v":""},{"$f":"IF($A364 = \"\", \"\", COUNTIFS(ToDoList!$B:$B, $A364, ToDoList!$R:$R, H$2))","v":""},{"$f":"IF($A364 = \"\", \"\", COUNTIFS(ToDoList!$B:$B, $A364, ToDoList!$R:$R, I$2))","v":""},{"$f":"IF($A364 = \"\", \"\", COUNTIFS(ToDoList!$B:$B, $A364, ToDoList!$R:$R, J$2))","v":""}]
[null,{"$f":"IF($A365 = \"\", \"\", COUNTIFS(ToDoList!$B:$B, $A365, ToDoList!$R:$R, B$2))","v":""},{"$f":"IF($A365 = \"\", \"\", COUNTIFS(ToDoList!$B:$B, $A365, ToDoList!$R:$R, C$2))","v":""},{"$f":"IF($A365 = \"\", \"\", COUNTIFS(ToDoList!$B:$B, $A365, ToDoList!$R:$R, D$2))","v":""},{"$f":"IF($A365 = \"\", \"\", COUNTIFS(ToDoList!$B:$B, $A365, ToDoList!$R:$R, E$2))","v":""},{"$f":"IF($A365 = \"\", \"\", COUNTIFS(ToDoList!$B:$B, $A365, ToDoList!$R:$R, F$2))","v":""},{"$f":"IF($A365 = \"\", \"\", COUNTIFS(ToDoList!$B:$B, $A365, ToDoList!$R:$R, G$2))","v":""},{"$f":"IF($A365 = \"\", \"\", COUNTIFS(ToDoList!$B:$B, $A365, ToDoList!$R:$R, H$2))","v":""},{"$f":"IF($A365 = \"\", \"\", COUNTIFS(ToDoList!$B:$B, $A365, ToDoList!$R:$R, I$2))","v":""},{"$f":"IF($A365 = \"\", \"\", COUNTIFS(ToDoList!$B:$B, $A365, ToDoList!$R:$R, J$2))","v":""}]
[null,{"$f":"IF($A366 = \"\", \"\", COUNTIFS(ToDoList!$B:$B, $A366, ToDoList!$R:$R, B$2))","v":""},{"$f":"IF($A366 = \"\", \"\", COUNTIFS(ToDoList!$B:$B, $A366, ToDoList!$R:$R, C$2))","v":""},{"$f":"IF($A366 = \"\", \"\", COUNTIFS(ToDoList!$B:$B, $A366, ToDoList!$R:$R, D$2))","v":""},{"$f":"IF($A366 = \"\", \"\", COUNTIFS(ToDoList!$B:$B, $A366, ToDoList!$R:$R, E$2))","v":""},{"$f":"IF($A366 = \"\", \"\", COUNTIFS(ToDoList!$B:$B, $A366, ToDoList!$R:$R, F$2))","v":""},{"$f":"IF($A366 = \"\", \"\", COUNTIFS(ToDoList!$B:$B, $A366, ToDoList!$R:$R, G$2))","v":""},{"$f":"IF($A366 = \"\", \"\", COUNTIFS(ToDoList!$B:$B, $A366, ToDoList!$R:$R, H$2))","v":""},{"$f":"IF($A366 = \"\", \"\", COUNTIFS(ToDoList!$B:$B, $A366, ToDoList!$R:$R, I$2))","v":""},{"$f":"IF($A366 = \"\", \"\", COUNTIFS(ToDoList!$B:$B, $A366, ToDoList!$R:$R, J$2))","v":""}]
[null,{"$f":"IF($A367 = \"\", \"\", COUNTIFS(ToDoList!$B:$B, $A367, ToDoList!$R:$R, B$2))","v":""},{"$f":"IF($A367 = \"\", \"\", COUNTIFS(ToDoList!$B:$B, $A367, ToDoList!$R:$R, C$2))","v":""},{"$f":"IF($A367 = \"\", \"\", COUNTIFS(ToDoList!$B:$B, $A367, ToDoList!$R:$R, D$2))","v":""},{"$f":"IF($A367 = \"\", \"\", COUNTIFS(ToDoList!$B:$B, $A367, ToDoList!$R:$R, E$2))","v":""},{"$f":"IF($A367 = \"\", \"\", COUNTIFS(ToDoList!$B:$B, $A367, ToDoList!$R:$R, F$2))","v":""},{"$f":"IF($A367 = \"\", \"\", COUNTIFS(ToDoList!$B:$B, $A367, ToDoList!$R:$R, G$2))","v":""},{"$f":"IF($A367 = \"\", \"\", COUNTIFS(ToDoList!$B:$B, $A367, ToDoList!$R:$R, H$2))","v":""},{"$f":"IF($A367 = \"\", \"\", COUNTIFS(ToDoList!$B:$B, $A367, ToDoList!$R:$R, I$2))","v":""},{"$f":"IF($A367 = \"\", \"\", COUNTIFS(ToDoList!$B:$B, $A367, ToDoList!$R:$R, J$2))","v":""}]
[null,{"$f":"IF($A368 = \"\", \"\", COUNTIFS(ToDoList!$B:$B, $A368, ToDoList!$R:$R, B$2))","v":""},{"$f":"IF($A368 = \"\", \"\", COUNTIFS(ToDoList!$B:$B, $A368, ToDoList!$R:$R, C$2))","v":""},{"$f":"IF($A368 = \"\", \"\", COUNTIFS(ToDoList!$B:$B, $A368, ToDoList!$R:$R, D$2))","v":""},{"$f":"IF($A368 = \"\", \"\", COUNTIFS(ToDoList!$B:$B, $A368, ToDoList!$R:$R, E$2))","v":""},{"$f":"IF($A368 = \"\", \"\", COUNTIFS(ToDoList!$B:$B, $A368, ToDoList!$R:$R, F$2))","v":""},{"$f":"IF($A368 = \"\", \"\", COUNTIFS(ToDoList!$B:$B, $A368, ToDoList!$R:$R, G$2))","v":""},{"$f":"IF($A368 = \"\", \"\", COUNTIFS(ToDoList!$B:$B, $A368, ToDoList!$R:$R, H$2))","v":""},{"$f":"IF($A368 = \"\", \"\", COUNTIFS(ToDoList!$B:$B, $A368, ToDoList!$R:$R, I$2))","v":""},{"$f":"IF($A368 = \"\", \"\", COUNTIFS(ToDoList!$B:$B, $A368, ToDoList!$R:$R, J$2))","v":""}]
[null,{"$f":"IF($A369 = \"\", \"\", COUNTIFS(ToDoList!$B:$B, $A369, ToDoList!$R:$R, B$2))","v":""},{"$f":"IF($A369 = \"\", \"\", COUNTIFS(ToDoList!$B:$B, $A369, ToDoList!$R:$R, C$2))","v":""},{"$f":"IF($A369 = \"\", \"\", COUNTIFS(ToDoList!$B:$B, $A369, ToDoList!$R:$R, D$2))","v":""},{"$f":"IF($A369 = \"\", \"\", COUNTIFS(ToDoList!$B:$B, $A369, ToDoList!$R:$R, E$2))","v":""},{"$f":"IF($A369 = \"\", \"\", COUNTIFS(ToDoList!$B:$B, $A369, ToDoList!$R:$R, F$2))","v":""},{"$f":"IF($A369 = \"\", \"\", COUNTIFS(ToDoList!$B:$B, $A369, ToDoList!$R:$R, G$2))","v":""},{"$f":"IF($A369 = \"\", \"\", COUNTIFS(ToDoList!$B:$B, $A369, ToDoList!$R:$R, H$2))","v":""},{"$f":"IF($A369 = \"\", \"\", COUNTIFS(ToDoList!$B:$B, $A369, ToDoList!$R:$R, I$2))","v":""},{"$f":"IF($A369 = \"\", \"\", COUNTIFS(ToDoList!$B:$B, $A369, ToDoList!$R:$R, J$2))","v":""}]
[null,{"$f":"IF($A370 = \"\", \"\", COUNTIFS(ToDoList!$B:$B, $A370, ToDoList!$R:$R, B$2))","v":""},{"$f":"IF($A370 = \"\", \"\", COUNTIFS(ToDoList!$B:$B, $A370, ToDoList!$R:$R, C$2))","v":""},{"$f":"IF($A370 = \"\", \"\", COUNTIFS(ToDoList!$B:$B, $A370, ToDoList!$R:$R, D$2))","v":""},{"$f":"IF($A370 = \"\", \"\", COUNTIFS(ToDoList!$B:$B, $A370, ToDoList!$R:$R, E$2))","v":""},{"$f":"IF($A370 = \"\", \"\", COUNTIFS(ToDoList!$B:$B, $A370, ToDoList!$R:$R, F$2))","v":""},{"$f":"IF($A370 = \"\", \"\", COUNTIFS(ToDoList!$B:$B, $A370, ToDoList!$R:$R, G$2))","v":""},{"$f":"IF($A370 = \"\", \"\", COUNTIFS(ToDoList!$B:$B, $A370, ToDoList!$R:$R, H$2))","v":""},{"$f":"IF($A370 = \"\", \"\", COUNTIFS(ToDoList!$B:$B, $A370, ToDoList!$R:$R, I$2))","v":""},{"$f":"IF($A370 = \"\", \"\", COUNTIFS(ToDoList!$B:$B, $A370, ToDoList!$R:$R, J$2))","v":""}]
[null,{"$f":"IF($A371 = \"\", \"\", COUNTIFS(ToDoList!$B:$B, $A371, ToDoList!$R:$R, B$2))","v":""},{"$f":"IF($A371 = \"\", \"\", COUNTIFS(ToDoList!$B:$B, $A371, ToDoList!$R:$R, C$2))","v":""},{"$f":"IF($A371 = \"\", \"\", COUNTIFS(ToDoList!$B:$B, $A371, ToDoList!$R:$R, D$2))","v":""},{"$f":"IF($A371 = \"\", \"\", COUNTIFS(ToDoList!$B:$B, $A371, ToDoList!$R:$R, E$2))","v":""},{"$f":"IF($A371 = \"\", \"\", COUNTIFS(ToDoList!$B:$B, $A371, ToDoList!$R:$R, F$2))","v":""},{"$f":"IF($A371 = \"\", \"\", COUNTIFS(ToDoList!$B:$B, $A371, ToDoList!$R:$R, G$2))","v":""},{"$f":"IF($A371 = \"\", \"\", COUNTIFS(ToDoList!$B:$B, $A371, ToDoList!$R:$R, H$2))","v":""},{"$f":"IF($A371 = \"\", \"\", COUNTIFS(ToDoList!$B:$B, $A371, ToDoList!$R:$R, I$2))","v":""},{"$f":"IF($A371 = \"\", \"\", COUNTIFS(ToDoList!$B:$B, $A371, ToDoList!$R:$R, J$2))","v":""}]
[null,{"$f":"IF($A372 = \"\", \"\", COUNTIFS(ToDoList!$B:$B, $A372, ToDoList!$R:$R, B$2))","v":""},{"$f":"IF($A372 = \"\", \"\", COUNTIFS(ToDoList!$B:$B, $A372, ToDoList!$R:$R, C$2))","v":""},{"$f":"IF($A372 = \"\", \"\", COUNTIFS(ToDoList!$B:$B, $A372, ToDoList!$R:$R, D$2))","v":""},{"$f":"IF($A372 = \"\", \"\", COUNTIFS(ToDoList!$B:$B, $A372, ToDoList!$R:$R, E$2))","v":""},{"$f":"IF($A372 = \"\", \"\", COUNTIFS(ToDoList!$B:$B, $A372, ToDoList!$R:$R, F$2))","v":""},{"$f":"IF($A372 = \"\", \"\", COUNTIFS(ToDoList!$B:$B, $A372, ToDoList!$R:$R, G$2))","v":""},{"$f":"IF($A372 = \"\", \"\", COUNTIFS(ToDoList!$B:$B, $A372, ToDoList!$R:$R, H$2))","v":""},{"$f":"IF($A372 = \"\", \"\", COUNTIFS(ToDoList!$B:$B, $A372, ToDoList!$R:$R, I$2))","v":""},{"$f":"IF($A372 = \"\", \"\", COUNTIFS(ToDoList!$B:$B, $A372, ToDoList!$R:$R, J$2))","v":""}]
[null,{"$f":"IF($A373 = \"\", \"\", COUNTIFS(ToDoList!$B:$B, $A373, ToDoList!$R:$R, B$2))","v":""},{"$f":"IF($A373 = \"\", \"\", COUNTIFS(ToDoList!$B:$B, $A373, ToDoList!$R:$R, C$2))","v":""},{"$f":"IF($A373 = \"\", \"\", COUNTIFS(ToDoList!$B:$B, $A373, ToDoList!$R:$R, D$2))","v":""},{"$f":"IF($A373 = \"\", \"\", COUNTIFS(ToDoList!$B:$B, $A373, ToDoList!$R:$R, E$2))","v":""},{"$f":"IF($A373 = \"\", \"\", COUNTIFS(ToDoList!$B:$B, $A373, ToDoList!$R:$R, F$2))","v":""},{"$f":"IF($A373 = \"\", \"\", COUNTIFS(ToDoList!$B:$B, $A373, ToDoList!$R:$R, G$2))","v":""},{"$f":"IF($A373 = \"\", \"\", COUNTIFS(ToDoList!$B:$B, $A373, ToDoList!$R:$R, H$2))","v":""},{"$f":"IF($A373 = \"\", \"\", COUNTIFS(ToDoList!$B:$B, $A373, ToDoList!$R:$R, I$2))","v":""},{"$f":"IF($A373 = \"\", \"\", COUNTIFS(ToDoList!$B:$B, $A373, ToDoList!$R:$R, J$2))","v":""}]
[null,{"$f":"IF($A374 = \"\", \"\", COUNTIFS(ToDoList!$B:$B, $A374, ToDoList!$R:$R, B$2))","v":""},{"$f":"IF($A374 = \"\", \"\", COUNTIFS(ToDoList!$B:$B, $A374, ToDoList!$R:$R, C$2))","v":""},{"$f":"IF($A374 = \"\", \"\", COUNTIFS(ToDoList!$B:$B, $A374, ToDoList!$R:$R, D$2))","v":""},{"$f":"IF($A374 = \"\", \"\", COUNTIFS(ToDoList!$B:$B, $A374, ToDoList!$R:$R, E$2))","v":""},{"$f":"IF($A374 = \"\", \"\", COUNTIFS(ToDoList!$B:$B, $A374, ToDoList!$R:$R, F$2))","v":""},{"$f":"IF($A374 = \"\", \"\", COUNTIFS(ToDoList!$B:$B, $A374, ToDoList!$R:$R, G$2))","v":""},{"$f":"IF($A374 = \"\", \"\", COUNTIFS(ToDoList!$B:$B, $A374, ToDoList!$R:$R, H$2))","v":""},{"$f":"IF($A374 = \"\", \"\", COUNTIFS(ToDoList!$B:$B, $A374, ToDoList!$R:$R, I$2))","v":""},{"$f":"IF($A374 = \"\", \"\", COUNTIFS(ToDoList!$B:$B, $A374, ToDoList!$R:$R, J$2))","v":""}]
[null,{"$f":"IF($A375 = \"\", \"\", COUNTIFS(ToDoList!$B:$B, $A375, ToDoList!$R:$R, B$2))","v":""},{"$f":"IF($A375 = \"\", \"\", COUNTIFS(ToDoList!$B:$B, $A375, ToDoList!$R:$R, C$2))","v":""},{"$f":"IF($A375 = \"\", \"\", COUNTIFS(ToDoList!$B:$B, $A375, ToDoList!$R:$R, D$2))","v":""},{"$f":"IF($A375 = \"\", \"\", COUNTIFS(ToDoList!$B:$B, $A375, ToDoList!$R:$R, E$2))","v":""},{"$f":"IF($A375 = \"\", \"\", COUNTIFS(ToDoList!$B:$B, $A375, ToDoList!$R:$R, F$2))","v":""},{"$f":"IF($A375 = \"\", \"\", COUNTIFS(ToDoList!$B:$B, $A375, ToDoList!$R:$R, G$2))","v":""},{"$f":"IF($A375 = \"\", \"\", COUNTIFS(ToDoList!$B:$B, $A375, ToDoList!$R:$R, H$2))","v":""},{"$f":"IF($A375 = \"\", \"\", COUNTIFS(ToDoList!$B:$B, $A375, ToDoList!$R:$R, I$2))","v":""},{"$f":"IF($A375 = \"\", \"\", COUNTIFS(ToDoList!$B:$B, $A375, ToDoList!$R:$R, J$2))","v":""}]
[null,{"$f":"IF($A376 = \"\", \"\", COUNTIFS(ToDoList!$B:$B, $A376, ToDoList!$R:$R, B$2))","v":""},{"$f":"IF($A376 = \"\", \"\", COUNTIFS(ToDoList!$B:$B, $A376, ToDoList!$R:$R, C$2))","v":""},{"$f":"IF($A376 = \"\", \"\", COUNTIFS(ToDoList!$B:$B, $A376, ToDoList!$R:$R, D$2))","v":""},{"$f":"IF($A376 = \"\", \"\", COUNTIFS(ToDoList!$B:$B, $A376, ToDoList!$R:$R, E$2))","v":""},{"$f":"IF($A376 = \"\", \"\", COUNTIFS(ToDoList!$B:$B, $A376, ToDoList!$R:$R, F$2))","v":""},{"$f":"IF($A376 = \"\", \"\", COUNTIFS(ToDoList!$B:$B, $A376, ToDoList!$R:$R, G$2))","v":""},{"$f":"IF($A376 = \"\", \"\", COUNTIFS(ToDoList!$B:$B, $A376, ToDoList!$R:$R, H$2))","v":""},{"$f":"IF($A376 = \"\", \"\", COUNTIFS(ToDoList!$B:$B, $A376, ToDoList!$R:$R, I$2))","v":""},{"$f":"IF($A376 = \"\", \"\", COUNTIFS(ToDoList!$B:$B, $A376, ToDoList!$R:$R, J$2))","v":""}]
[null,{"$f":"IF($A377 = \"\", \"\", COUNTIFS(ToDoList!$B:$B, $A377, ToDoList!$R:$R, B$2))","v":""},{"$f":"IF($A377 = \"\", \"\", COUNTIFS(ToDoList!$B:$B, $A377, ToDoList!$R:$R, C$2))","v":""},{"$f":"IF($A377 = \"\", \"\", COUNTIFS(ToDoList!$B:$B, $A377, ToDoList!$R:$R, D$2))","v":""},{"$f":"IF($A377 = \"\", \"\", COUNTIFS(ToDoList!$B:$B, $A377, ToDoList!$R:$R, E$2))","v":""},{"$f":"IF($A377 = \"\", \"\", COUNTIFS(ToDoList!$B:$B, $A377, ToDoList!$R:$R, F$2))","v":""},{"$f":"IF($A377 = \"\", \"\", COUNTIFS(ToDoList!$B:$B, $A377, ToDoList!$R:$R, G$2))","v":""},{"$f":"IF($A377 = \"\", \"\", COUNTIFS(ToDoList!$B:$B, $A377, ToDoList!$R:$R, H$2))","v":""},{"$f":"IF($A377 = \"\", \"\", COUNTIFS(ToDoList!$B:$B, $A377, ToDoList!$R:$R, I$2))","v":""},{"$f":"IF($A377 = \"\", \"\", COUNTIFS(ToDoList!$B:$B, $A377, ToDoList!$R:$R, J$2))","v":""}]
[null,{"$f":"IF($A378 = \"\", \"\", COUNTIFS(ToDoList!$B:$B, $A378, ToDoList!$R:$R, B$2))","v":""},{"$f":"IF($A378 = \"\", \"\", COUNTIFS(ToDoList!$B:$B, $A378, ToDoList!$R:$R, C$2))","v":""},{"$f":"IF($A378 = \"\", \"\", COUNTIFS(ToDoList!$B:$B, $A378, ToDoList!$R:$R, D$2))","v":""},{"$f":"IF($A378 = \"\", \"\", COUNTIFS(ToDoList!$B:$B, $A378, ToDoList!$R:$R, E$2))","v":""},{"$f":"IF($A378 = \"\", \"\", COUNTIFS(ToDoList!$B:$B, $A378, ToDoList!$R:$R, F$2))","v":""},{"$f":"IF($A378 = \"\", \"\", COUNTIFS(ToDoList!$B:$B, $A378, ToDoList!$R:$R, G$2))","v":""},{"$f":"IF($A378 = \"\", \"\", COUNTIFS(ToDoList!$B:$B, $A378, ToDoList!$R:$R, H$2))","v":""},{"$f":"IF($A378 = \"\", \"\", COUNTIFS(ToDoList!$B:$B, $A378, ToDoList!$R:$R, I$2))","v":""},{"$f":"IF($A378 = \"\", \"\", COUNTIFS(ToDoList!$B:$B, $A378, ToDoList!$R:$R, J$2))","v":""}]
[null,{"$f":"IF($A379 = \"\", \"\", COUNTIFS(ToDoList!$B:$B, $A379, ToDoList!$R:$R, B$2))","v":""},{"$f":"IF($A379 = \"\", \"\", COUNTIFS(ToDoList!$B:$B, $A379, ToDoList!$R:$R, C$2))","v":""},{"$f":"IF($A379 = \"\", \"\", COUNTIFS(ToDoList!$B:$B, $A379, ToDoList!$R:$R, D$2))","v":""},{"$f":"IF($A379 = \"\", \"\", COUNTIFS(ToDoList!$B:$B, $A379, ToDoList!$R:$R, E$2))","v":""},{"$f":"IF($A379 = \"\", \"\", COUNTIFS(ToDoList!$B:$B, $A379, ToDoList!$R:$R, F$2))","v":""},{"$f":"IF($A379 = \"\", \"\", COUNTIFS(ToDoList!$B:$B, $A379, ToDoList!$R:$R, G$2))","v":""},{"$f":"IF($A379 = \"\", \"\", COUNTIFS(ToDoList!$B:$B, $A379, ToDoList!$R:$R, H$2))","v":""},{"$f":"IF($A379 = \"\", \"\", COUNTIFS(ToDoList!$B:$B, $A379, ToDoList!$R:$R, I$2))","v":""},{"$f":"IF($A379 = \"\", \"\", COUNTIFS(ToDoList!$B:$B, $A379, ToDoList!$R:$R, J$2))","v":""}]
[null,{"$f":"IF($A380 = \"\", \"\", COUNTIFS(ToDoList!$B:$B, $A380, ToDoList!$R:$R, B$2))","v":""},{"$f":"IF($A380 = \"\", \"\", COUNTIFS(ToDoList!$B:$B, $A380, ToDoList!$R:$R, C$2))","v":""},{"$f":"IF($A380 = \"\", \"\", COUNTIFS(ToDoList!$B:$B, $A380, ToDoList!$R:$R, D$2))","v":""},{"$f":"IF($A380 = \"\", \"\", COUNTIFS(ToDoList!$B:$B, $A380, ToDoList!$R:$R, E$2))","v":""},{"$f":"IF($A380 = \"\", \"\", COUNTIFS(ToDoList!$B:$B, $A380, ToDoList!$R:$R, F$2))","v":""},{"$f":"IF($A380 = \"\", \"\", COUNTIFS(ToDoList!$B:$B, $A380, ToDoList!$R:$R, G$2))","v":""},{"$f":"IF($A380 = \"\", \"\", COUNTIFS(ToDoList!$B:$B, $A380, ToDoList!$R:$R, H$2))","v":""},{"$f":"IF($A380 = \"\", \"\", COUNTIFS(ToDoList!$B:$B, $A380, ToDoList!$R:$R, I$2))","v":""},{"$f":"IF($A380 = \"\", \"\", COUNTIFS(ToDoList!$B:$B, $A380, ToDoList!$R:$R, J$2))","v":""}]
[null,{"$f":"IF($A381 = \"\", \"\", COUNTIFS(ToDoList!$B:$B, $A381, ToDoList!$R:$R, B$2))","v":""},{"$f":"IF($A381 = \"\", \"\", COUNTIFS(ToDoList!$B:$B, $A381, ToDoList!$R:$R, C$2))","v":""},{"$f":"IF($A381 = \"\", \"\", COUNTIFS(ToDoList!$B:$B, $A381, ToDoList!$R:$R, D$2))","v":""},{"$f":"IF($A381 = \"\", \"\", COUNTIFS(ToDoList!$B:$B, $A381, ToDoList!$R:$R, E$2))","v":""},{"$f":"IF($A381 = \"\", \"\", COUNTIFS(ToDoList!$B:$B, $A381, ToDoList!$R:$R, F$2))","v":""},{"$f":"IF($A381 = \"\", \"\", COUNTIFS(ToDoList!$B:$B, $A381, ToDoList!$R:$R, G$2))","v":""},{"$f":"IF($A381 = \"\", \"\", COUNTIFS(ToDoList!$B:$B, $A381, ToDoList!$R:$R, H$2))","v":""},{"$f":"IF($A381 = \"\", \"\", COUNTIFS(ToDoList!$B:$B, $A381, ToDoList!$R:$R, I$2))","v":""},{"$f":"IF($A381 = \"\", \"\", COUNTIFS(ToDoList!$B:$B, $A381, ToDoList!$R:$R, J$2))","v":""}]
[null,{"$f":"IF($A382 = \"\", \"\", COUNTIFS(ToDoList!$B:$B, $A382, ToDoList!$R:$R, B$2))","v":""},{"$f":"IF($A382 = \"\", \"\", COUNTIFS(ToDoList!$B:$B, $A382, ToDoList!$R:$R, C$2))","v":""},{"$f":"IF($A382 = \"\", \"\", COUNTIFS(ToDoList!$B:$B, $A382, ToDoList!$R:$R, D$2))","v":""},{"$f":"IF($A382 = \"\", \"\", COUNTIFS(ToDoList!$B:$B, $A382, ToDoList!$R:$R, E$2))","v":""},{"$f":"IF($A382 = \"\", \"\", COUNTIFS(ToDoList!$B:$B, $A382, ToDoList!$R:$R, F$2))","v":""},{"$f":"IF($A382 = \"\", \"\", COUNTIFS(ToDoList!$B:$B, $A382, ToDoList!$R:$R, G$2))","v":""},{"$f":"IF($A382 = \"\", \"\", COUNTIFS(ToDoList!$B:$B, $A382, ToDoList!$R:$R, H$2))","v":""},{"$f":"IF($A382 = \"\", \"\", COUNTIFS(ToDoList!$B:$B, $A382, ToDoList!$R:$R, I$2))","v":""},{"$f":"IF($A382 = \"\", \"\", COUNTIFS(ToDoList!$B:$B, $A382, ToDoList!$R:$R, J$2))","v":""}]
[null,{"$f":"IF($A383 = \"\", \"\", COUNTIFS(ToDoList!$B:$B, $A383, ToDoList!$R:$R, B$2))","v":""},{"$f":"IF($A383 = \"\", \"\", COUNTIFS(ToDoList!$B:$B, $A383, ToDoList!$R:$R, C$2))","v":""},{"$f":"IF($A383 = \"\", \"\", COUNTIFS(ToDoList!$B:$B, $A383, ToDoList!$R:$R, D$2))","v":""},{"$f":"IF($A383 = \"\", \"\", COUNTIFS(ToDoList!$B:$B, $A383, ToDoList!$R:$R, E$2))","v":""},{"$f":"IF($A383 = \"\", \"\", COUNTIFS(ToDoList!$B:$B, $A383, ToDoList!$R:$R, F$2))","v":""},{"$f":"IF($A383 = \"\", \"\", COUNTIFS(ToDoList!$B:$B, $A383, ToDoList!$R:$R, G$2))","v":""},{"$f":"IF($A383 = \"\", \"\", COUNTIFS(ToDoList!$B:$B, $A383, ToDoList!$R:$R, H$2))","v":""},{"$f":"IF($A383 = \"\", \"\", COUNTIFS(ToDoList!$B:$B, $A383, ToDoList!$R:$R, I$2))","v":""},{"$f":"IF($A383 = \"\", \"\", COUNTIFS(ToDoList!$B:$B, $A383, ToDoList!$R:$R, J$2))","v":""}]
[null,{"$f":"IF($A384 = \"\", \"\", COUNTIFS(ToDoList!$B:$B, $A384, ToDoList!$R:$R, B$2))","v":""},{"$f":"IF($A384 = \"\", \"\", COUNTIFS(ToDoList!$B:$B, $A384, ToDoList!$R:$R, C$2))","v":""},{"$f":"IF($A384 = \"\", \"\", COUNTIFS(ToDoList!$B:$B, $A384, ToDoList!$R:$R, D$2))","v":""},{"$f":"IF($A384 = \"\", \"\", COUNTIFS(ToDoList!$B:$B, $A384, ToDoList!$R:$R, E$2))","v":""},{"$f":"IF($A384 = \"\", \"\", COUNTIFS(ToDoList!$B:$B, $A384, ToDoList!$R:$R, F$2))","v":""},{"$f":"IF($A384 = \"\", \"\", COUNTIFS(ToDoList!$B:$B, $A384, ToDoList!$R:$R, G$2))","v":""},{"$f":"IF($A384 = \"\", \"\", COUNTIFS(ToDoList!$B:$B, $A384, ToDoList!$R:$R, H$2))","v":""},{"$f":"IF($A384 = \"\", \"\", COUNTIFS(ToDoList!$B:$B, $A384, ToDoList!$R:$R, I$2))","v":""},{"$f":"IF($A384 = \"\", \"\", COUNTIFS(ToDoList!$B:$B, $A384, ToDoList!$R:$R, J$2))","v":""}]
[null,{"$f":"IF($A385 = \"\", \"\", COUNTIFS(ToDoList!$B:$B, $A385, ToDoList!$R:$R, B$2))","v":""},{"$f":"IF($A385 = \"\", \"\", COUNTIFS(ToDoList!$B:$B, $A385, ToDoList!$R:$R, C$2))","v":""},{"$f":"IF($A385 = \"\", \"\", COUNTIFS(ToDoList!$B:$B, $A385, ToDoList!$R:$R, D$2))","v":""},{"$f":"IF($A385 = \"\", \"\", COUNTIFS(ToDoList!$B:$B, $A385, ToDoList!$R:$R, E$2))","v":""},{"$f":"IF($A385 = \"\", \"\", COUNTIFS(ToDoList!$B:$B, $A385, ToDoList!$R:$R, F$2))","v":""},{"$f":"IF($A385 = \"\", \"\", COUNTIFS(ToDoList!$B:$B, $A385, ToDoList!$R:$R, G$2))","v":""},{"$f":"IF($A385 = \"\", \"\", COUNTIFS(ToDoList!$B:$B, $A385, ToDoList!$R:$R, H$2))","v":""},{"$f":"IF($A385 = \"\", \"\", COUNTIFS(ToDoList!$B:$B, $A385, ToDoList!$R:$R, I$2))","v":""},{"$f":"IF($A385 = \"\", \"\", COUNTIFS(ToDoList!$B:$B, $A385, ToDoList!$R:$R, J$2))","v":""}]
[null,{"$f":"IF($A386 = \"\", \"\", COUNTIFS(ToDoList!$B:$B, $A386, ToDoList!$R:$R, B$2))","v":""},{"$f":"IF($A386 = \"\", \"\", COUNTIFS(ToDoList!$B:$B, $A386, ToDoList!$R:$R, C$2))","v":""},{"$f":"IF($A386 = \"\", \"\", COUNTIFS(ToDoList!$B:$B, $A386, ToDoList!$R:$R, D$2))","v":""},{"$f":"IF($A386 = \"\", \"\", COUNTIFS(ToDoList!$B:$B, $A386, ToDoList!$R:$R, E$2))","v":""},{"$f":"IF($A386 = \"\", \"\", COUNTIFS(ToDoList!$B:$B, $A386, ToDoList!$R:$R, F$2))","v":""},{"$f":"IF($A386 = \"\", \"\", COUNTIFS(ToDoList!$B:$B, $A386, ToDoList!$R:$R, G$2))","v":""},{"$f":"IF($A386 = \"\", \"\", COUNTIFS(ToDoList!$B:$B, $A386, ToDoList!$R:$R, H$2))","v":""},{"$f":"IF($A386 = \"\", \"\", COUNTIFS(ToDoList!$B:$B, $A386, ToDoList!$R:$R, I$2))","v":""},{"$f":"IF($A386 = \"\", \"\", COUNTIFS(ToDoList!$B:$B, $A386, ToDoList!$R:$R, J$2))","v":""}]
[null,{"$f":"IF($A387 = \"\", \"\", COUNTIFS(ToDoList!$B:$B, $A387, ToDoList!$R:$R, B$2))","v":""},{"$f":"IF($A387 = \"\", \"\", COUNTIFS(ToDoList!$B:$B, $A387, ToDoList!$R:$R, C$2))","v":""},{"$f":"IF($A387 = \"\", \"\", COUNTIFS(ToDoList!$B:$B, $A387, ToDoList!$R:$R, D$2))","v":""},{"$f":"IF($A387 = \"\", \"\", COUNTIFS(ToDoList!$B:$B, $A387, ToDoList!$R:$R, E$2))","v":""},{"$f":"IF($A387 = \"\", \"\", COUNTIFS(ToDoList!$B:$B, $A387, ToDoList!$R:$R, F$2))","v":""},{"$f":"IF($A387 = \"\", \"\", COUNTIFS(ToDoList!$B:$B, $A387, ToDoList!$R:$R, G$2))","v":""},{"$f":"IF($A387 = \"\", \"\", COUNTIFS(ToDoList!$B:$B, $A387, ToDoList!$R:$R, H$2))","v":""},{"$f":"IF($A387 = \"\", \"\", COUNTIFS(ToDoList!$B:$B, $A387, ToDoList!$R:$R, I$2))","v":""},{"$f":"IF($A387 = \"\", \"\", COUNTIFS(ToDoList!$B:$B, $A387, ToDoList!$R:$R, J$2))","v":""}]
[null,{"$f":"IF($A388 = \"\", \"\", COUNTIFS(ToDoList!$B:$B, $A388, ToDoList!$R:$R, B$2))","v":""},{"$f":"IF($A388 = \"\", \"\", COUNTIFS(ToDoList!$B:$B, $A388, ToDoList!$R:$R, C$2))","v":""},{"$f":"IF($A388 = \"\", \"\", COUNTIFS(ToDoList!$B:$B, $A388, ToDoList!$R:$R, D$2))","v":""},{"$f":"IF($A388 = \"\", \"\", COUNTIFS(ToDoList!$B:$B, $A388, ToDoList!$R:$R, E$2))","v":""},{"$f":"IF($A388 = \"\", \"\", COUNTIFS(ToDoList!$B:$B, $A388, ToDoList!$R:$R, F$2))","v":""},{"$f":"IF($A388 = \"\", \"\", COUNTIFS(ToDoList!$B:$B, $A388, ToDoList!$R:$R, G$2))","v":""},{"$f":"IF($A388 = \"\", \"\", COUNTIFS(ToDoList!$B:$B, $A388, ToDoList!$R:$R, H$2))","v":""},{"$f":"IF($A388 = \"\", \"\", COUNTIFS(ToDoList!$B:$B, $A388, ToDoList!$R:$R, I$2))","v":""},{"$f":"IF($A388 = \"\", \"\", COUNTIFS(ToDoList!$B:$B, $A388, ToDoList!$R:$R, J$2))","v":""}]
[null,{"$f":"IF($A389 = \"\", \"\", COUNTIFS(ToDoList!$B:$B, $A389, ToDoList!$R:$R, B$2))","v":""},{"$f":"IF($A389 = \"\", \"\", COUNTIFS(ToDoList!$B:$B, $A389, ToDoList!$R:$R, C$2))","v":""},{"$f":"IF($A389 = \"\", \"\", COUNTIFS(ToDoList!$B:$B, $A389, ToDoList!$R:$R, D$2))","v":""},{"$f":"IF($A389 = \"\", \"\", COUNTIFS(ToDoList!$B:$B, $A389, ToDoList!$R:$R, E$2))","v":""},{"$f":"IF($A389 = \"\", \"\", COUNTIFS(ToDoList!$B:$B, $A389, ToDoList!$R:$R, F$2))","v":""},{"$f":"IF($A389 = \"\", \"\", COUNTIFS(ToDoList!$B:$B, $A389, ToDoList!$R:$R, G$2))","v":""},{"$f":"IF($A389 = \"\", \"\", COUNTIFS(ToDoList!$B:$B, $A389, ToDoList!$R:$R, H$2))","v":""},{"$f":"IF($A389 = \"\", \"\", COUNTIFS(ToDoList!$B:$B, $A389, ToDoList!$R:$R, I$2))","v":""},{"$f":"IF($A389 = \"\", \"\", COUNTIFS(ToDoList!$B:$B, $A389, ToDoList!$R:$R, J$2))","v":""}]
[null,{"$f":"IF($A390 = \"\", \"\", COUNTIFS(ToDoList!$B:$B, $A390, ToDoList!$R:$R, B$2))","v":""},{"$f":"IF($A390 = \"\", \"\", COUNTIFS(ToDoList!$B:$B, $A390, ToDoList!$R:$R, C$2))","v":""},{"$f":"IF($A390 = \"\", \"\", COUNTIFS(ToDoList!$B:$B, $A390, ToDoList!$R:$R, D$2))","v":""},{"$f":"IF($A390 = \"\", \"\", COUNTIFS(ToDoList!$B:$B, $A390, ToDoList!$R:$R, E$2))","v":""},{"$f":"IF($A390 = \"\", \"\", COUNTIFS(ToDoList!$B:$B, $A390, ToDoList!$R:$R, F$2))","v":""},{"$f":"IF($A390 = \"\", \"\", COUNTIFS(ToDoList!$B:$B, $A390, ToDoList!$R:$R, G$2))","v":""},{"$f":"IF($A390 = \"\", \"\", COUNTIFS(ToDoList!$B:$B, $A390, ToDoList!$R:$R, H$2))","v":""},{"$f":"IF($A390 = \"\", \"\", COUNTIFS(ToDoList!$B:$B, $A390, ToDoList!$R:$R, I$2))","v":""},{"$f":"IF($A390 = \"\", \"\", COUNTIFS(ToDoList!$B:$B, $A390, ToDoList!$R:$R, J$2))","v":""}]
[null,{"$f":"IF($A391 = \"\", \"\", COUNTIFS(ToDoList!$B:$B, $A391, ToDoList!$R:$R, B$2))","v":""},{"$f":"IF($A391 = \"\", \"\", COUNTIFS(ToDoList!$B:$B, $A391, ToDoList!$R:$R, C$2))","v":""},{"$f":"IF($A391 = \"\", \"\", COUNTIFS(ToDoList!$B:$B, $A391, ToDoList!$R:$R, D$2))","v":""},{"$f":"IF($A391 = \"\", \"\", COUNTIFS(ToDoList!$B:$B, $A391, ToDoList!$R:$R, E$2))","v":""},{"$f":"IF($A391 = \"\", \"\", COUNTIFS(ToDoList!$B:$B, $A391, ToDoList!$R:$R, F$2))","v":""},{"$f":"IF($A391 = \"\", \"\", COUNTIFS(ToDoList!$B:$B, $A391, ToDoList!$R:$R, G$2))","v":""},{"$f":"IF($A391 = \"\", \"\", COUNTIFS(ToDoList!$B:$B, $A391, ToDoList!$R:$R, H$2))","v":""},{"$f":"IF($A391 = \"\", \"\", COUNTIFS(ToDoList!$B:$B, $A391, ToDoList!$R:$R, I$2))","v":""},{"$f":"IF($A391 = \"\", \"\", COUNTIFS(ToDoList!$B:$B, $A391, ToDoList!$R:$R, J$2))","v":""}]
[null,{"$f":"IF($A392 = \"\", \"\", COUNTIFS(ToDoList!$B:$B, $A392, ToDoList!$R:$R, B$2))","v":""},{"$f":"IF($A392 = \"\", \"\", COUNTIFS(ToDoList!$B:$B, $A392, ToDoList!$R:$R, C$2))","v":""},{"$f":"IF($A392 = \"\", \"\", COUNTIFS(ToDoList!$B:$B, $A392, ToDoList!$R:$R, D$2))","v":""},{"$f":"IF($A392 = \"\", \"\", COUNTIFS(ToDoList!$B:$B, $A392, ToDoList!$R:$R, E$2))","v":""},{"$f":"IF($A392 = \"\", \"\", COUNTIFS(ToDoList!$B:$B, $A392, ToDoList!$R:$R, F$2))","v":""},{"$f":"IF($A392 = \"\", \"\", COUNTIFS(ToDoList!$B:$B, $A392, ToDoList!$R:$R, G$2))","v":""},{"$f":"IF($A392 = \"\", \"\", COUNTIFS(ToDoList!$B:$B, $A392, ToDoList!$R:$R, H$2))","v":""},{"$f":"IF($A392 = \"\", \"\", COUNTIFS(ToDoList!$B:$B, $A392, ToDoList!$R:$R, I$2))","v":""},{"$f":"IF($A392 = \"\", \"\", COUNTIFS(ToDoList!$B:$B, $A392, ToDoList!$R:$R, J$2))","v":""}]
[null,{"$f":"IF($A393 = \"\", \"\", COUNTIFS(ToDoList!$B:$B, $A393, ToDoList!$R:$R, B$2))","v":""},{"$f":"IF($A393 = \"\", \"\", COUNTIFS(ToDoList!$B:$B, $A393, ToDoList!$R:$R, C$2))","v":""},{"$f":"IF($A393 = \"\", \"\", COUNTIFS(ToDoList!$B:$B, $A393, ToDoList!$R:$R, D$2))","v":""},{"$f":"IF($A393 = \"\", \"\", COUNTIFS(ToDoList!$B:$B, $A393, ToDoList!$R:$R, E$2))","v":""},{"$f":"IF($A393 = \"\", \"\", COUNTIFS(ToDoList!$B:$B, $A393, ToDoList!$R:$R, F$2))","v":""},{"$f":"IF($A393 = \"\", \"\", COUNTIFS(ToDoList!$B:$B, $A393, ToDoList!$R:$R, G$2))","v":""},{"$f":"IF($A393 = \"\", \"\", COUNTIFS(ToDoList!$B:$B, $A393, ToDoList!$R:$R, H$2))","v":""},{"$f":"IF($A393 = \"\", \"\", COUNTIFS(ToDoList!$B:$B, $A393, ToDoList!$R:$R, I$2))","v":""},{"$f":"IF($A393 = \"\", \"\", COUNTIFS(ToDoList!$B:$B, $A393, ToDoList!$R:$R, J$2))","v":""}]
[null,{"$f":"IF($A394 = \"\", \"\", COUNTIFS(ToDoList!$B:$B, $A394, ToDoList!$R:$R, B$2))","v":""},{"$f":"IF($A394 = \"\", \"\", COUNTIFS(ToDoList!$B:$B, $A394, ToDoList!$R:$R, C$2))","v":""},{"$f":"IF($A394 = \"\", \"\", COUNTIFS(ToDoList!$B:$B, $A394, ToDoList!$R:$R, D$2))","v":""},{"$f":"IF($A394 = \"\", \"\", COUNTIFS(ToDoList!$B:$B, $A394, ToDoList!$R:$R, E$2))","v":""},{"$f":"IF($A394 = \"\", \"\", COUNTIFS(ToDoList!$B:$B, $A394, ToDoList!$R:$R, F$2))","v":""},{"$f":"IF($A394 = \"\", \"\", COUNTIFS(ToDoList!$B:$B, $A394, ToDoList!$R:$R, G$2))","v":""},{"$f":"IF($A394 = \"\", \"\", COUNTIFS(ToDoList!$B:$B, $A394, ToDoList!$R:$R, H$2))","v":""},{"$f":"IF($A394 = \"\", \"\", COUNTIFS(ToDoList!$B:$B, $A394, ToDoList!$R:$R, I$2))","v":""},{"$f":"IF($A394 = \"\", \"\", COUNTIFS(ToDoList!$B:$B, $A394, ToDoList!$R:$R, J$2))","v":""}]
[null,{"$f":"IF($A395 = \"\", \"\", COUNTIFS(ToDoList!$B:$B, $A395, ToDoList!$R:$R, B$2))","v":""},{"$f":"IF($A395 = \"\", \"\", COUNTIFS(ToDoList!$B:$B, $A395, ToDoList!$R:$R, C$2))","v":""},{"$f":"IF($A395 = \"\", \"\", COUNTIFS(ToDoList!$B:$B, $A395, ToDoList!$R:$R, D$2))","v":""},{"$f":"IF($A395 = \"\", \"\", COUNTIFS(ToDoList!$B:$B, $A395, ToDoList!$R:$R, E$2))","v":""},{"$f":"IF($A395 = \"\", \"\", COUNTIFS(ToDoList!$B:$B, $A395, ToDoList!$R:$R, F$2))","v":""},{"$f":"IF($A395 = \"\", \"\", COUNTIFS(ToDoList!$B:$B, $A395, ToDoList!$R:$R, G$2))","v":""},{"$f":"IF($A395 = \"\", \"\", COUNTIFS(ToDoList!$B:$B, $A395, ToDoList!$R:$R, H$2))","v":""},{"$f":"IF($A395 = \"\", \"\", COUNTIFS(ToDoList!$B:$B, $A395, ToDoList!$R:$R, I$2))","v":""},{"$f":"IF($A395 = \"\", \"\", COUNTIFS(ToDoList!$B:$B, $A395, ToDoList!$R:$R, J$2))","v":""}]
[null,{"$f":"IF($A396 = \"\", \"\", COUNTIFS(ToDoList!$B:$B, $A396, ToDoList!$R:$R, B$2))","v":""},{"$f":"IF($A396 = \"\", \"\", COUNTIFS(ToDoList!$B:$B, $A396, ToDoList!$R:$R, C$2))","v":""},{"$f":"IF($A396 = \"\", \"\", COUNTIFS(ToDoList!$B:$B, $A396, ToDoList!$R:$R, D$2))","v":""},{"$f":"IF($A396 = \"\", \"\", COUNTIFS(ToDoList!$B:$B, $A396, ToDoList!$R:$R, E$2))","v":""},{"$f":"IF($A396 = \"\", \"\", COUNTIFS(ToDoList!$B:$B, $A396, ToDoList!$R:$R, F$2))","v":""},{"$f":"IF($A396 = \"\", \"\", COUNTIFS(ToDoList!$B:$B, $A396, ToDoList!$R:$R, G$2))","v":""},{"$f":"IF($A396 = \"\", \"\", COUNTIFS(ToDoList!$B:$B, $A396, ToDoList!$R:$R, H$2))","v":""},{"$f":"IF($A396 = \"\", \"\", COUNTIFS(ToDoList!$B:$B, $A396, ToDoList!$R:$R, I$2))","v":""},{"$f":"IF($A396 = \"\", \"\", COUNTIFS(ToDoList!$B:$B, $A396, ToDoList!$R:$R, J$2))","v":""}]
[null,{"$f":"IF($A397 = \"\", \"\", COUNTIFS(ToDoList!$B:$B, $A397, ToDoList!$R:$R, B$2))","v":""},{"$f":"IF($A397 = \"\", \"\", COUNTIFS(ToDoList!$B:$B, $A397, ToDoList!$R:$R, C$2))","v":""},{"$f":"IF($A397 = \"\", \"\", COUNTIFS(ToDoList!$B:$B, $A397, ToDoList!$R:$R, D$2))","v":""},{"$f":"IF($A397 = \"\", \"\", COUNTIFS(ToDoList!$B:$B, $A397, ToDoList!$R:$R, E$2))","v":""},{"$f":"IF($A397 = \"\", \"\", COUNTIFS(ToDoList!$B:$B, $A397, ToDoList!$R:$R, F$2))","v":""},{"$f":"IF($A397 = \"\", \"\", COUNTIFS(ToDoList!$B:$B, $A397, ToDoList!$R:$R, G$2))","v":""},{"$f":"IF($A397 = \"\", \"\", COUNTIFS(ToDoList!$B:$B, $A397, ToDoList!$R:$R, H$2))","v":""},{"$f":"IF($A397 = \"\", \"\", COUNTIFS(ToDoList!$B:$B, $A397, ToDoList!$R:$R, I$2))","v":""},{"$f":"IF($A397 = \"\", \"\", COUNTIFS(ToDoList!$B:$B, $A397, ToDoList!$R:$R, J$2))","v":""}]
[null,{"$f":"IF($A398 = \"\", \"\", COUNTIFS(ToDoList!$B:$B, $A398, ToDoList!$R:$R, B$2))","v":""},{"$f":"IF($A398 = \"\", \"\", COUNTIFS(ToDoList!$B:$B, $A398, ToDoList!$R:$R, C$2))","v":""},{"$f":"IF($A398 = \"\", \"\", COUNTIFS(ToDoList!$B:$B, $A398, ToDoList!$R:$R, D$2))","v":""},{"$f":"IF($A398 = \"\", \"\", COUNTIFS(ToDoList!$B:$B, $A398, ToDoList!$R:$R, E$2))","v":""},{"$f":"IF($A398 = \"\", \"\", COUNTIFS(ToDoList!$B:$B, $A398, ToDoList!$R:$R, F$2))","v":""},{"$f":"IF($A398 = \"\", \"\", COUNTIFS(ToDoList!$B:$B, $A398, ToDoList!$R:$R, G$2))","v":""},{"$f":"IF($A398 = \"\", \"\", COUNTIFS(ToDoList!$B:$B, $A398, ToDoList!$R:$R, H$2))","v":""},{"$f":"IF($A398 = \"\", \"\", COUNTIFS(ToDoList!$B:$B, $A398, ToDoList!$R:$R, I$2))","v":""},{"$f":"IF($A398 = \"\", \"\", COUNTIFS(ToDoList!$B:$B, $A398, ToDoList!$R:$R, J$2))","v":""}]
[null,{"$f":"IF($A399 = \"\", \"\", COUNTIFS(ToDoList!$B:$B, $A399, ToDoList!$R:$R, B$2))","v":""},{"$f":"IF($A399 = \"\", \"\", COUNTIFS(ToDoList!$B:$B, $A399, ToDoList!$R:$R, C$2))","v":""},{"$f":"IF($A399 = \"\", \"\", COUNTIFS(ToDoList!$B:$B, $A399, ToDoList!$R:$R, D$2))","v":""},{"$f":"IF($A399 = \"\", \"\", COUNTIFS(ToDoList!$B:$B, $A399, ToDoList!$R:$R, E$2))","v":""},{"$f":"IF($A399 = \"\", \"\", COUNTIFS(ToDoList!$B:$B, $A399, ToDoList!$R:$R, F$2))","v":""},{"$f":"IF($A399 = \"\", \"\", COUNTIFS(ToDoList!$B:$B, $A399, ToDoList!$R:$R, G$2))","v":""},{"$f":"IF($A399 = \"\", \"\", COUNTIFS(ToDoList!$B:$B, $A399, ToDoList!$R:$R, H$2))","v":""},{"$f":"IF($A399 = \"\", \"\", COUNTIFS(ToDoList!$B:$B, $A399, ToDoList!$R:$R, I$2))","v":""},{"$f":"IF($A399 = \"\", \"\", COUNTIFS(ToDoList!$B:$B, $A399, ToDoList!$R:$R, J$2))","v":""}]
[null,{"$f":"IF($A400 = \"\", \"\", COUNTIFS(ToDoList!$B:$B, $A400, ToDoList!$R:$R, B$2))","v":""},{"$f":"IF($A400 = \"\", \"\", COUNTIFS(ToDoList!$B:$B, $A400, ToDoList!$R:$R, C$2))","v":""},{"$f":"IF($A400 = \"\", \"\", COUNTIFS(ToDoList!$B:$B, $A400, ToDoList!$R:$R, D$2))","v":""},{"$f":"IF($A400 = \"\", \"\", COUNTIFS(ToDoList!$B:$B, $A400, ToDoList!$R:$R, E$2))","v":""},{"$f":"IF($A400 = \"\", \"\", COUNTIFS(ToDoList!$B:$B, $A400, ToDoList!$R:$R, F$2))","v":""},{"$f":"IF($A400 = \"\", \"\", COUNTIFS(ToDoList!$B:$B, $A400, ToDoList!$R:$R, G$2))","v":""},{"$f":"IF($A400 = \"\", \"\", COUNTIFS(ToDoList!$B:$B, $A400, ToDoList!$R:$R, H$2))","v":""},{"$f":"IF($A400 = \"\", \"\", COUNTIFS(ToDoList!$B:$B, $A400, ToDoList!$R:$R, I$2))","v":""},{"$f":"IF($A400 = \"\", \"\", COUNTIFS(ToDoList!$B:$B, $A400, ToDoList!$R:$R, J$2))","v":""}]
[null,{"$f":"IF($A401 = \"\", \"\", COUNTIFS(ToDoList!$B:$B, $A401, ToDoList!$R:$R, B$2))","v":""},{"$f":"IF($A401 = \"\", \"\", COUNTIFS(ToDoList!$B:$B, $A401, ToDoList!$R:$R, C$2))","v":""},{"$f":"IF($A401 = \"\", \"\", COUNTIFS(ToDoList!$B:$B, $A401, ToDoList!$R:$R, D$2))","v":""},{"$f":"IF($A401 = \"\", \"\", COUNTIFS(ToDoList!$B:$B, $A401, ToDoList!$R:$R, E$2))","v":""},{"$f":"IF($A401 = \"\", \"\", COUNTIFS(ToDoList!$B:$B, $A401, ToDoList!$R:$R, F$2))","v":""},{"$f":"IF($A401 = \"\", \"\", COUNTIFS(ToDoList!$B:$B, $A401, ToDoList!$R:$R, G$2))","v":""},{"$f":"IF($A401 = \"\", \"\", COUNTIFS(ToDoList!$B:$B, $A401, ToDoList!$R:$R, H$2))","v":""},{"$f":"IF($A401 = \"\", \"\", COUNTIFS(ToDoList!$B:$B, $A401, ToDoList!$R:$R, I$2))","v":""},{"$f":"IF($A401 = \"\", \"\", COUNTIFS(ToDoList!$B:$B, $A401, ToDoList!$R:$R, J$2))","v":""}]
[null,{"$f":"IF($A402 = \"\", \"\", COUNTIFS(ToDoList!$B:$B, $A402, ToDoList!$R:$R, B$2))","v":""},{"$f":"IF($A402 = \"\", \"\", COUNTIFS(ToDoList!$B:$B, $A402, ToDoList!$R:$R, C$2))","v":""},{"$f":"IF($A402 = \"\", \"\", COUNTIFS(ToDoList!$B:$B, $A402, ToDoList!$R:$R, D$2))","v":""},{"$f":"IF($A402 = \"\", \"\", COUNTIFS(ToDoList!$B:$B, $A402, ToDoList!$R:$R, E$2))","v":""},{"$f":"IF($A402 = \"\", \"\", COUNTIFS(ToDoList!$B:$B, $A402, ToDoList!$R:$R, F$2))","v":""},{"$f":"IF($A402 = \"\", \"\", COUNTIFS(ToDoList!$B:$B, $A402, ToDoList!$R:$R, G$2))","v":""},{"$f":"IF($A402 = \"\", \"\", COUNTIFS(ToDoList!$B:$B, $A402, ToDoList!$R:$R, H$2))","v":""},{"$f":"IF($A402 = \"\", \"\", COUNTIFS(ToDoList!$B:$B, $A402, ToDoList!$R:$R, I$2))","v":""},{"$f":"IF($A402 = \"\", \"\", COUNTIFS(ToDoList!$B:$B, $A402, ToDoList!$R:$R, J$2))","v":""}]
[null,{"$f":"IF($A403 = \"\", \"\", COUNTIFS(ToDoList!$B:$B, $A403, ToDoList!$R:$R, B$2))","v":""},{"$f":"IF($A403 = \"\", \"\", COUNTIFS(ToDoList!$B:$B, $A403, ToDoList!$R:$R, C$2))","v":""},{"$f":"IF($A403 = \"\", \"\", COUNTIFS(ToDoList!$B:$B, $A403, ToDoList!$R:$R, D$2))","v":""},{"$f":"IF($A403 = \"\", \"\", COUNTIFS(ToDoList!$B:$B, $A403, ToDoList!$R:$R, E$2))","v":""},{"$f":"IF($A403 = \"\", \"\", COUNTIFS(ToDoList!$B:$B, $A403, ToDoList!$R:$R, F$2))","v":""},{"$f":"IF($A403 = \"\", \"\", COUNTIFS(ToDoList!$B:$B, $A403, ToDoList!$R:$R, G$2))","v":""},{"$f":"IF($A403 = \"\", \"\", COUNTIFS(ToDoList!$B:$B, $A403, ToDoList!$R:$R, H$2))","v":""},{"$f":"IF($A403 = \"\", \"\", COUNTIFS(ToDoList!$B:$B, $A403, ToDoList!$R:$R, I$2))","v":""},{"$f":"IF($A403 = \"\", \"\", COUNTIFS(ToDoList!$B:$B, $A403, ToDoList!$R:$R, J$2))","v":""}]
[null,{"$f":"IF($A404 = \"\", \"\", COUNTIFS(ToDoList!$B:$B, $A404, ToDoList!$R:$R, B$2))","v":""},{"$f":"IF($A404 = \"\", \"\", COUNTIFS(ToDoList!$B:$B, $A404, ToDoList!$R:$R, C$2))","v":""},{"$f":"IF($A404 = \"\", \"\", COUNTIFS(ToDoList!$B:$B, $A404, ToDoList!$R:$R, D$2))","v":""},{"$f":"IF($A404 = \"\", \"\", COUNTIFS(ToDoList!$B:$B, $A404, ToDoList!$R:$R, E$2))","v":""},{"$f":"IF($A404 = \"\", \"\", COUNTIFS(ToDoList!$B:$B, $A404, ToDoList!$R:$R, F$2))","v":""},{"$f":"IF($A404 = \"\", \"\", COUNTIFS(ToDoList!$B:$B, $A404, ToDoList!$R:$R, G$2))","v":""},{"$f":"IF($A404 = \"\", \"\", COUNTIFS(ToDoList!$B:$B, $A404, ToDoList!$R:$R, H$2))","v":""},{"$f":"IF($A404 = \"\", \"\", COUNTIFS(ToDoList!$B:$B, $A404, ToDoList!$R:$R, I$2))","v":""},{"$f":"IF($A404 = \"\", \"\", COUNTIFS(ToDoList!$B:$B, $A404, ToDoList!$R:$R, J$2))","v":""}]
[null,{"$f":"IF($A405 = \"\", \"\", COUNTIFS(ToDoList!$B:$B, $A405, ToDoList!$R:$R, B$2))","v":""},{"$f":"IF($A405 = \"\", \"\", COUNTIFS(ToDoList!$B:$B, $A405, ToDoList!$R:$R, C$2))","v":""},{"$f":"IF($A405 = \"\", \"\", COUNTIFS(ToDoList!$B:$B, $A405, ToDoList!$R:$R, D$2))","v":""},{"$f":"IF($A405 = \"\", \"\", COUNTIFS(ToDoList!$B:$B, $A405, ToDoList!$R:$R, E$2))","v":""},{"$f":"IF($A405 = \"\", \"\", COUNTIFS(ToDoList!$B:$B, $A405, ToDoList!$R:$R, F$2))","v":""},{"$f":"IF($A405 = \"\", \"\", COUNTIFS(ToDoList!$B:$B, $A405, ToDoList!$R:$R, G$2))","v":""},{"$f":"IF($A405 = \"\", \"\", COUNTIFS(ToDoList!$B:$B, $A405, ToDoList!$R:$R, H$2))","v":""},{"$f":"IF($A405 = \"\", \"\", COUNTIFS(ToDoList!$B:$B, $A405, ToDoList!$R:$R, I$2))","v":""},{"$f":"IF($A405 = \"\", \"\", COUNTIFS(ToDoList!$B:$B, $A405, ToDoList!$R:$R, J$2))","v":""}]
[null,{"$f":"IF($A406 = \"\", \"\", COUNTIFS(ToDoList!$B:$B, $A406, ToDoList!$R:$R, B$2))","v":""},{"$f":"IF($A406 = \"\", \"\", COUNTIFS(ToDoList!$B:$B, $A406, ToDoList!$R:$R, C$2))","v":""},{"$f":"IF($A406 = \"\", \"\", COUNTIFS(ToDoList!$B:$B, $A406, ToDoList!$R:$R, D$2))","v":""},{"$f":"IF($A406 = \"\", \"\", COUNTIFS(ToDoList!$B:$B, $A406, ToDoList!$R:$R, E$2))","v":""},{"$f":"IF($A406 = \"\", \"\", COUNTIFS(ToDoList!$B:$B, $A406, ToDoList!$R:$R, F$2))","v":""},{"$f":"IF($A406 = \"\", \"\", COUNTIFS(ToDoList!$B:$B, $A406, ToDoList!$R:$R, G$2))","v":""},{"$f":"IF($A406 = \"\", \"\", COUNTIFS(ToDoList!$B:$B, $A406, ToDoList!$R:$R, H$2))","v":""},{"$f":"IF($A406 = \"\", \"\", COUNTIFS(ToDoList!$B:$B, $A406, ToDoList!$R:$R, I$2))","v":""},{"$f":"IF($A406 = \"\", \"\", COUNTIFS(ToDoList!$B:$B, $A406, ToDoList!$R:$R, J$2))","v":""}]
[null,{"$f":"IF($A407 = \"\", \"\", COUNTIFS(ToDoList!$B:$B, $A407, ToDoList!$R:$R, B$2))","v":""},{"$f":"IF($A407 = \"\", \"\", COUNTIFS(ToDoList!$B:$B, $A407, ToDoList!$R:$R, C$2))","v":""},{"$f":"IF($A407 = \"\", \"\", COUNTIFS(ToDoList!$B:$B, $A407, ToDoList!$R:$R, D$2))","v":""},{"$f":"IF($A407 = \"\", \"\", COUNTIFS(ToDoList!$B:$B, $A407, ToDoList!$R:$R, E$2))","v":""},{"$f":"IF($A407 = \"\", \"\", COUNTIFS(ToDoList!$B:$B, $A407, ToDoList!$R:$R, F$2))","v":""},{"$f":"IF($A407 = \"\", \"\", COUNTIFS(ToDoList!$B:$B, $A407, ToDoList!$R:$R, G$2))","v":""},{"$f":"IF($A407 = \"\", \"\", COUNTIFS(ToDoList!$B:$B, $A407, ToDoList!$R:$R, H$2))","v":""},{"$f":"IF($A407 = \"\", \"\", COUNTIFS(ToDoList!$B:$B, $A407, ToDoList!$R:$R, I$2))","v":""},{"$f":"IF($A407 = \"\", \"\", COUNTIFS(ToDoList!$B:$B, $A407, ToDoList!$R:$R, J$2))","v":""}]
[null,{"$f":"IF($A408 = \"\", \"\", COUNTIFS(ToDoList!$B:$B, $A408, ToDoList!$R:$R, B$2))","v":""},{"$f":"IF($A408 = \"\", \"\", COUNTIFS(ToDoList!$B:$B, $A408, ToDoList!$R:$R, C$2))","v":""},{"$f":"IF($A408 = \"\", \"\", COUNTIFS(ToDoList!$B:$B, $A408, ToDoList!$R:$R, D$2))","v":""},{"$f":"IF($A408 = \"\", \"\", COUNTIFS(ToDoList!$B:$B, $A408, ToDoList!$R:$R, E$2))","v":""},{"$f":"IF($A408 = \"\", \"\", COUNTIFS(ToDoList!$B:$B, $A408, ToDoList!$R:$R, F$2))","v":""},{"$f":"IF($A408 = \"\", \"\", COUNTIFS(ToDoList!$B:$B, $A408, ToDoList!$R:$R, G$2))","v":""},{"$f":"IF($A408 = \"\", \"\", COUNTIFS(ToDoList!$B:$B, $A408, ToDoList!$R:$R, H$2))","v":""},{"$f":"IF($A408 = \"\", \"\", COUNTIFS(ToDoList!$B:$B, $A408, ToDoList!$R:$R, I$2))","v":""},{"$f":"IF($A408 = \"\", \"\", COUNTIFS(ToDoList!$B:$B, $A408, ToDoList!$R:$R, J$2))","v":""}]
[null,{"$f":"IF($A409 = \"\", \"\", COUNTIFS(ToDoList!$B:$B, $A409, ToDoList!$R:$R, B$2))","v":""},{"$f":"IF($A409 = \"\", \"\", COUNTIFS(ToDoList!$B:$B, $A409, ToDoList!$R:$R, C$2))","v":""},{"$f":"IF($A409 = \"\", \"\", COUNTIFS(ToDoList!$B:$B, $A409, ToDoList!$R:$R, D$2))","v":""},{"$f":"IF($A409 = \"\", \"\", COUNTIFS(ToDoList!$B:$B, $A409, ToDoList!$R:$R, E$2))","v":""},{"$f":"IF($A409 = \"\", \"\", COUNTIFS(ToDoList!$B:$B, $A409, ToDoList!$R:$R, F$2))","v":""},{"$f":"IF($A409 = \"\", \"\", COUNTIFS(ToDoList!$B:$B, $A409, ToDoList!$R:$R, G$2))","v":""},{"$f":"IF($A409 = \"\", \"\", COUNTIFS(ToDoList!$B:$B, $A409, ToDoList!$R:$R, H$2))","v":""},{"$f":"IF($A409 = \"\", \"\", COUNTIFS(ToDoList!$B:$B, $A409, ToDoList!$R:$R, I$2))","v":""},{"$f":"IF($A409 = \"\", \"\", COUNTIFS(ToDoList!$B:$B, $A409, ToDoList!$R:$R, J$2))","v":""}]
[null,{"$f":"IF($A410 = \"\", \"\", COUNTIFS(ToDoList!$B:$B, $A410, ToDoList!$R:$R, B$2))","v":""},{"$f":"IF($A410 = \"\", \"\", COUNTIFS(ToDoList!$B:$B, $A410, ToDoList!$R:$R, C$2))","v":""},{"$f":"IF($A410 = \"\", \"\", COUNTIFS(ToDoList!$B:$B, $A410, ToDoList!$R:$R, D$2))","v":""},{"$f":"IF($A410 = \"\", \"\", COUNTIFS(ToDoList!$B:$B, $A410, ToDoList!$R:$R, E$2))","v":""},{"$f":"IF($A410 = \"\", \"\", COUNTIFS(ToDoList!$B:$B, $A410, ToDoList!$R:$R, F$2))","v":""},{"$f":"IF($A410 = \"\", \"\", COUNTIFS(ToDoList!$B:$B, $A410, ToDoList!$R:$R, G$2))","v":""},{"$f":"IF($A410 = \"\", \"\", COUNTIFS(ToDoList!$B:$B, $A410, ToDoList!$R:$R, H$2))","v":""},{"$f":"IF($A410 = \"\", \"\", COUNTIFS(ToDoList!$B:$B, $A410, ToDoList!$R:$R, I$2))","v":""},{"$f":"IF($A410 = \"\", \"\", COUNTIFS(ToDoList!$B:$B, $A410, ToDoList!$R:$R, J$2))","v":""}]
[null,{"$f":"IF($A411 = \"\", \"\", COUNTIFS(ToDoList!$B:$B, $A411, ToDoList!$R:$R, B$2))","v":""},{"$f":"IF($A411 = \"\", \"\", COUNTIFS(ToDoList!$B:$B, $A411, ToDoList!$R:$R, C$2))","v":""},{"$f":"IF($A411 = \"\", \"\", COUNTIFS(ToDoList!$B:$B, $A411, ToDoList!$R:$R, D$2))","v":""},{"$f":"IF($A411 = \"\", \"\", COUNTIFS(ToDoList!$B:$B, $A411, ToDoList!$R:$R, E$2))","v":""},{"$f":"IF($A411 = \"\", \"\", COUNTIFS(ToDoList!$B:$B, $A411, ToDoList!$R:$R, F$2))","v":""},{"$f":"IF($A411 = \"\", \"\", COUNTIFS(ToDoList!$B:$B, $A411, ToDoList!$R:$R, G$2))","v":""},{"$f":"IF($A411 = \"\", \"\", COUNTIFS(ToDoList!$B:$B, $A411, ToDoList!$R:$R, H$2))","v":""},{"$f":"IF($A411 = \"\", \"\", COUNTIFS(ToDoList!$B:$B, $A411, ToDoList!$R:$R, I$2))","v":""},{"$f":"IF($A411 = \"\", \"\", COUNTIFS(ToDoList!$B:$B, $A411, ToDoList!$R:$R, J$2))","v":""}]
[null,{"$f":"IF($A412 = \"\", \"\", COUNTIFS(ToDoList!$B:$B, $A412, ToDoList!$R:$R, B$2))","v":""},{"$f":"IF($A412 = \"\", \"\", COUNTIFS(ToDoList!$B:$B, $A412, ToDoList!$R:$R, C$2))","v":""},{"$f":"IF($A412 = \"\", \"\", COUNTIFS(ToDoList!$B:$B, $A412, ToDoList!$R:$R, D$2))","v":""},{"$f":"IF($A412 = \"\", \"\", COUNTIFS(ToDoList!$B:$B, $A412, ToDoList!$R:$R, E$2))","v":""},{"$f":"IF($A412 = \"\", \"\", COUNTIFS(ToDoList!$B:$B, $A412, ToDoList!$R:$R, F$2))","v":""},{"$f":"IF($A412 = \"\", \"\", COUNTIFS(ToDoList!$B:$B, $A412, ToDoList!$R:$R, G$2))","v":""},{"$f":"IF($A412 = \"\", \"\", COUNTIFS(ToDoList!$B:$B, $A412, ToDoList!$R:$R, H$2))","v":""},{"$f":"IF($A412 = \"\", \"\", COUNTIFS(ToDoList!$B:$B, $A412, ToDoList!$R:$R, I$2))","v":""},{"$f":"IF($A412 = \"\", \"\", COUNTIFS(ToDoList!$B:$B, $A412, ToDoList!$R:$R, J$2))","v":""}]
[null,{"$f":"IF($A413 = \"\", \"\", COUNTIFS(ToDoList!$B:$B, $A413, ToDoList!$R:$R, B$2))","v":""},{"$f":"IF($A413 = \"\", \"\", COUNTIFS(ToDoList!$B:$B, $A413, ToDoList!$R:$R, C$2))","v":""},{"$f":"IF($A413 = \"\", \"\", COUNTIFS(ToDoList!$B:$B, $A413, ToDoList!$R:$R, D$2))","v":""},{"$f":"IF($A413 = \"\", \"\", COUNTIFS(ToDoList!$B:$B, $A413, ToDoList!$R:$R, E$2))","v":""},{"$f":"IF($A413 = \"\", \"\", COUNTIFS(ToDoList!$B:$B, $A413, ToDoList!$R:$R, F$2))","v":""},{"$f":"IF($A413 = \"\", \"\", COUNTIFS(ToDoList!$B:$B, $A413, ToDoList!$R:$R, G$2))","v":""},{"$f":"IF($A413 = \"\", \"\", COUNTIFS(ToDoList!$B:$B, $A413, ToDoList!$R:$R, H$2))","v":""},{"$f":"IF($A413 = \"\", \"\", COUNTIFS(ToDoList!$B:$B, $A413, ToDoList!$R:$R, I$2))","v":""},{"$f":"IF($A413 = \"\", \"\", COUNTIFS(ToDoList!$B:$B, $A413, ToDoList!$R:$R, J$2))","v":""}]
[null,{"$f":"IF($A414 = \"\", \"\", COUNTIFS(ToDoList!$B:$B, $A414, ToDoList!$R:$R, B$2))","v":""},{"$f":"IF($A414 = \"\", \"\", COUNTIFS(ToDoList!$B:$B, $A414, ToDoList!$R:$R, C$2))","v":""},{"$f":"IF($A414 = \"\", \"\", COUNTIFS(ToDoList!$B:$B, $A414, ToDoList!$R:$R, D$2))","v":""},{"$f":"IF($A414 = \"\", \"\", COUNTIFS(ToDoList!$B:$B, $A414, ToDoList!$R:$R, E$2))","v":""},{"$f":"IF($A414 = \"\", \"\", COUNTIFS(ToDoList!$B:$B, $A414, ToDoList!$R:$R, F$2))","v":""},{"$f":"IF($A414 = \"\", \"\", COUNTIFS(ToDoList!$B:$B, $A414, ToDoList!$R:$R, G$2))","v":""},{"$f":"IF($A414 = \"\", \"\", COUNTIFS(ToDoList!$B:$B, $A414, ToDoList!$R:$R, H$2))","v":""},{"$f":"IF($A414 = \"\", \"\", COUNTIFS(ToDoList!$B:$B, $A414, ToDoList!$R:$R, I$2))","v":""},{"$f":"IF($A414 = \"\", \"\", COUNTIFS(ToDoList!$B:$B, $A414, ToDoList!$R:$R, J$2))","v":""}]
[null,{"$f":"IF($A415 = \"\", \"\", COUNTIFS(ToDoList!$B:$B, $A415, ToDoList!$R:$R, B$2))","v":""},{"$f":"IF($A415 = \"\", \"\", COUNTIFS(ToDoList!$B:$B, $A415, ToDoList!$R:$R, C$2))","v":""},{"$f":"IF($A415 = \"\", \"\", COUNTIFS(ToDoList!$B:$B, $A415, ToDoList!$R:$R, D$2))","v":""},{"$f":"IF($A415 = \"\", \"\", COUNTIFS(ToDoList!$B:$B, $A415, ToDoList!$R:$R, E$2))","v":""},{"$f":"IF($A415 = \"\", \"\", COUNTIFS(ToDoList!$B:$B, $A415, ToDoList!$R:$R, F$2))","v":""},{"$f":"IF($A415 = \"\", \"\", COUNTIFS(ToDoList!$B:$B, $A415, ToDoList!$R:$R, G$2))","v":""},{"$f":"IF($A415 = \"\", \"\", COUNTIFS(ToDoList!$B:$B, $A415, ToDoList!$R:$R, H$2))","v":""},{"$f":"IF($A415 = \"\", \"\", COUNTIFS(ToDoList!$B:$B, $A415, ToDoList!$R:$R, I$2))","v":""},{"$f":"IF($A415 = \"\", \"\", COUNTIFS(ToDoList!$B:$B, $A415, ToDoList!$R:$R, J$2))","v":""}]
[null,{"$f":"IF($A416 = \"\", \"\", COUNTIFS(ToDoList!$B:$B, $A416, ToDoList!$R:$R, B$2))","v":""},{"$f":"IF($A416 = \"\", \"\", COUNTIFS(ToDoList!$B:$B, $A416, ToDoList!$R:$R, C$2))","v":""},{"$f":"IF($A416 = \"\", \"\", COUNTIFS(ToDoList!$B:$B, $A416, ToDoList!$R:$R, D$2))","v":""},{"$f":"IF($A416 = \"\", \"\", COUNTIFS(ToDoList!$B:$B, $A416, ToDoList!$R:$R, E$2))","v":""},{"$f":"IF($A416 = \"\", \"\", COUNTIFS(ToDoList!$B:$B, $A416, ToDoList!$R:$R, F$2))","v":""},{"$f":"IF($A416 = \"\", \"\", COUNTIFS(ToDoList!$B:$B, $A416, ToDoList!$R:$R, G$2))","v":""},{"$f":"IF($A416 = \"\", \"\", COUNTIFS(ToDoList!$B:$B, $A416, ToDoList!$R:$R, H$2))","v":""},{"$f":"IF($A416 = \"\", \"\", COUNTIFS(ToDoList!$B:$B, $A416, ToDoList!$R:$R, I$2))","v":""},{"$f":"IF($A416 = \"\", \"\", COUNTIFS(ToDoList!$B:$B, $A416, ToDoList!$R:$R, J$2))","v":""}]
[null,{"$f":"IF($A417 = \"\", \"\", COUNTIFS(ToDoList!$B:$B, $A417, ToDoList!$R:$R, B$2))","v":""},{"$f":"IF($A417 = \"\", \"\", COUNTIFS(ToDoList!$B:$B, $A417, ToDoList!$R:$R, C$2))","v":""},{"$f":"IF($A417 = \"\", \"\", COUNTIFS(ToDoList!$B:$B, $A417, ToDoList!$R:$R, D$2))","v":""},{"$f":"IF($A417 = \"\", \"\", COUNTIFS(ToDoList!$B:$B, $A417, ToDoList!$R:$R, E$2))","v":""},{"$f":"IF($A417 = \"\", \"\", COUNTIFS(ToDoList!$B:$B, $A417, ToDoList!$R:$R, F$2))","v":""},{"$f":"IF($A417 = \"\", \"\", COUNTIFS(ToDoList!$B:$B, $A417, ToDoList!$R:$R, G$2))","v":""},{"$f":"IF($A417 = \"\", \"\", COUNTIFS(ToDoList!$B:$B, $A417, ToDoList!$R:$R, H$2))","v":""},{"$f":"IF($A417 = \"\", \"\", COUNTIFS(ToDoList!$B:$B, $A417, ToDoList!$R:$R, I$2))","v":""},{"$f":"IF($A417 = \"\", \"\", COUNTIFS(ToDoList!$B:$B, $A417, ToDoList!$R:$R, J$2))","v":""}]
[null,{"$f":"IF($A418 = \"\", \"\", COUNTIFS(ToDoList!$B:$B, $A418, ToDoList!$R:$R, B$2))","v":""},{"$f":"IF($A418 = \"\", \"\", COUNTIFS(ToDoList!$B:$B, $A418, ToDoList!$R:$R, C$2))","v":""},{"$f":"IF($A418 = \"\", \"\", COUNTIFS(ToDoList!$B:$B, $A418, ToDoList!$R:$R, D$2))","v":""},{"$f":"IF($A418 = \"\", \"\", COUNTIFS(ToDoList!$B:$B, $A418, ToDoList!$R:$R, E$2))","v":""},{"$f":"IF($A418 = \"\", \"\", COUNTIFS(ToDoList!$B:$B, $A418, ToDoList!$R:$R, F$2))","v":""},{"$f":"IF($A418 = \"\", \"\", COUNTIFS(ToDoList!$B:$B, $A418, ToDoList!$R:$R, G$2))","v":""},{"$f":"IF($A418 = \"\", \"\", COUNTIFS(ToDoList!$B:$B, $A418, ToDoList!$R:$R, H$2))","v":""},{"$f":"IF($A418 = \"\", \"\", COUNTIFS(ToDoList!$B:$B, $A418, ToDoList!$R:$R, I$2))","v":""},{"$f":"IF($A418 = \"\", \"\", COUNTIFS(ToDoList!$B:$B, $A418, ToDoList!$R:$R, J$2))","v":""}]
[null,{"$f":"IF($A419 = \"\", \"\", COUNTIFS(ToDoList!$B:$B, $A419, ToDoList!$R:$R, B$2))","v":""},{"$f":"IF($A419 = \"\", \"\", COUNTIFS(ToDoList!$B:$B, $A419, ToDoList!$R:$R, C$2))","v":""},{"$f":"IF($A419 = \"\", \"\", COUNTIFS(ToDoList!$B:$B, $A419, ToDoList!$R:$R, D$2))","v":""},{"$f":"IF($A419 = \"\", \"\", COUNTIFS(ToDoList!$B:$B, $A419, ToDoList!$R:$R, E$2))","v":""},{"$f":"IF($A419 = \"\", \"\", COUNTIFS(ToDoList!$B:$B, $A419, ToDoList!$R:$R, F$2))","v":""},{"$f":"IF($A419 = \"\", \"\", COUNTIFS(ToDoList!$B:$B, $A419, ToDoList!$R:$R, G$2))","v":""},{"$f":"IF($A419 = \"\", \"\", COUNTIFS(ToDoList!$B:$B, $A419, ToDoList!$R:$R, H$2))","v":""},{"$f":"IF($A419 = \"\", \"\", COUNTIFS(ToDoList!$B:$B, $A419, ToDoList!$R:$R, I$2))","v":""},{"$f":"IF($A419 = \"\", \"\", COUNTIFS(ToDoList!$B:$B, $A419, ToDoList!$R:$R, J$2))","v":""}]
[null,{"$f":"IF($A420 = \"\", \"\", COUNTIFS(ToDoList!$B:$B, $A420, ToDoList!$R:$R, B$2))","v":""},{"$f":"IF($A420 = \"\", \"\", COUNTIFS(ToDoList!$B:$B, $A420, ToDoList!$R:$R, C$2))","v":""},{"$f":"IF($A420 = \"\", \"\", COUNTIFS(ToDoList!$B:$B, $A420, ToDoList!$R:$R, D$2))","v":""},{"$f":"IF($A420 = \"\", \"\", COUNTIFS(ToDoList!$B:$B, $A420, ToDoList!$R:$R, E$2))","v":""},{"$f":"IF($A420 = \"\", \"\", COUNTIFS(ToDoList!$B:$B, $A420, ToDoList!$R:$R, F$2))","v":""},{"$f":"IF($A420 = \"\", \"\", COUNTIFS(ToDoList!$B:$B, $A420, ToDoList!$R:$R, G$2))","v":""},{"$f":"IF($A420 = \"\", \"\", COUNTIFS(ToDoList!$B:$B, $A420, ToDoList!$R:$R, H$2))","v":""},{"$f":"IF($A420 = \"\", \"\", COUNTIFS(ToDoList!$B:$B, $A420, ToDoList!$R:$R, I$2))","v":""},{"$f":"IF($A420 = \"\", \"\", COUNTIFS(ToDoList!$B:$B, $A420, ToDoList!$R:$R, J$2))","v":""}]
[null,{"$f":"IF($A421 = \"\", \"\", COUNTIFS(ToDoList!$B:$B, $A421, ToDoList!$R:$R, B$2))","v":""},{"$f":"IF($A421 = \"\", \"\", COUNTIFS(ToDoList!$B:$B, $A421, ToDoList!$R:$R, C$2))","v":""},{"$f":"IF($A421 = \"\", \"\", COUNTIFS(ToDoList!$B:$B, $A421, ToDoList!$R:$R, D$2))","v":""},{"$f":"IF($A421 = \"\", \"\", COUNTIFS(ToDoList!$B:$B, $A421, ToDoList!$R:$R, E$2))","v":""},{"$f":"IF($A421 = \"\", \"\", COUNTIFS(ToDoList!$B:$B, $A421, ToDoList!$R:$R, F$2))","v":""},{"$f":"IF($A421 = \"\", \"\", COUNTIFS(ToDoList!$B:$B, $A421, ToDoList!$R:$R, G$2))","v":""},{"$f":"IF($A421 = \"\", \"\", COUNTIFS(ToDoList!$B:$B, $A421, ToDoList!$R:$R, H$2))","v":""},{"$f":"IF($A421 = \"\", \"\", COUNTIFS(ToDoList!$B:$B, $A421, ToDoList!$R:$R, I$2))","v":""},{"$f":"IF($A421 = \"\", \"\", COUNTIFS(ToDoList!$B:$B, $A421, ToDoList!$R:$R, J$2))","v":""}]
[null,{"$f":"IF($A422 = \"\", \"\", COUNTIFS(ToDoList!$B:$B, $A422, ToDoList!$R:$R, B$2))","v":""},{"$f":"IF($A422 = \"\", \"\", COUNTIFS(ToDoList!$B:$B, $A422, ToDoList!$R:$R, C$2))","v":""},{"$f":"IF($A422 = \"\", \"\", COUNTIFS(ToDoList!$B:$B, $A422, ToDoList!$R:$R, D$2))","v":""},{"$f":"IF($A422 = \"\", \"\", COUNTIFS(ToDoList!$B:$B, $A422, ToDoList!$R:$R, E$2))","v":""},{"$f":"IF($A422 = \"\", \"\", COUNTIFS(ToDoList!$B:$B, $A422, ToDoList!$R:$R, F$2))","v":""},{"$f":"IF($A422 = \"\", \"\", COUNTIFS(ToDoList!$B:$B, $A422, ToDoList!$R:$R, G$2))","v":""},{"$f":"IF($A422 = \"\", \"\", COUNTIFS(ToDoList!$B:$B, $A422, ToDoList!$R:$R, H$2))","v":""},{"$f":"IF($A422 = \"\", \"\", COUNTIFS(ToDoList!$B:$B, $A422, ToDoList!$R:$R, I$2))","v":""},{"$f":"IF($A422 = \"\", \"\", COUNTIFS(ToDoList!$B:$B, $A422, ToDoList!$R:$R, J$2))","v":""}]
[null,{"$f":"IF($A423 = \"\", \"\", COUNTIFS(ToDoList!$B:$B, $A423, ToDoList!$R:$R, B$2))","v":""},{"$f":"IF($A423 = \"\", \"\", COUNTIFS(ToDoList!$B:$B, $A423, ToDoList!$R:$R, C$2))","v":""},{"$f":"IF($A423 = \"\", \"\", COUNTIFS(ToDoList!$B:$B, $A423, ToDoList!$R:$R, D$2))","v":""},{"$f":"IF($A423 = \"\", \"\", COUNTIFS(ToDoList!$B:$B, $A423, ToDoList!$R:$R, E$2))","v":""},{"$f":"IF($A423 = \"\", \"\", COUNTIFS(ToDoList!$B:$B, $A423, ToDoList!$R:$R, F$2))","v":""},{"$f":"IF($A423 = \"\", \"\", COUNTIFS(ToDoList!$B:$B, $A423, ToDoList!$R:$R, G$2))","v":""},{"$f":"IF($A423 = \"\", \"\", COUNTIFS(ToDoList!$B:$B, $A423, ToDoList!$R:$R, H$2))","v":""},{"$f":"IF($A423 = \"\", \"\", COUNTIFS(ToDoList!$B:$B, $A423, ToDoList!$R:$R, I$2))","v":""},{"$f":"IF($A423 = \"\", \"\", COUNTIFS(ToDoList!$B:$B, $A423, ToDoList!$R:$R, J$2))","v":""}]
[null,{"$f":"IF($A424 = \"\", \"\", COUNTIFS(ToDoList!$B:$B, $A424, ToDoList!$R:$R, B$2))","v":""},{"$f":"IF($A424 = \"\", \"\", COUNTIFS(ToDoList!$B:$B, $A424, ToDoList!$R:$R, C$2))","v":""},{"$f":"IF($A424 = \"\", \"\", COUNTIFS(ToDoList!$B:$B, $A424, ToDoList!$R:$R, D$2))","v":""},{"$f":"IF($A424 = \"\", \"\", COUNTIFS(ToDoList!$B:$B, $A424, ToDoList!$R:$R, E$2))","v":""},{"$f":"IF($A424 = \"\", \"\", COUNTIFS(ToDoList!$B:$B, $A424, ToDoList!$R:$R, F$2))","v":""},{"$f":"IF($A424 = \"\", \"\", COUNTIFS(ToDoList!$B:$B, $A424, ToDoList!$R:$R, G$2))","v":""},{"$f":"IF($A424 = \"\", \"\", COUNTIFS(ToDoList!$B:$B, $A424, ToDoList!$R:$R, H$2))","v":""},{"$f":"IF($A424 = \"\", \"\", COUNTIFS(ToDoList!$B:$B, $A424, ToDoList!$R:$R, I$2))","v":""},{"$f":"IF($A424 = \"\", \"\", COUNTIFS(ToDoList!$B:$B, $A424, ToDoList!$R:$R, J$2))","v":""}]
[null,{"$f":"IF($A425 = \"\", \"\", COUNTIFS(ToDoList!$B:$B, $A425, ToDoList!$R:$R, B$2))","v":""},{"$f":"IF($A425 = \"\", \"\", COUNTIFS(ToDoList!$B:$B, $A425, ToDoList!$R:$R, C$2))","v":""},{"$f":"IF($A425 = \"\", \"\", COUNTIFS(ToDoList!$B:$B, $A425, ToDoList!$R:$R, D$2))","v":""},{"$f":"IF($A425 = \"\", \"\", COUNTIFS(ToDoList!$B:$B, $A425, ToDoList!$R:$R, E$2))","v":""},{"$f":"IF($A425 = \"\", \"\", COUNTIFS(ToDoList!$B:$B, $A425, ToDoList!$R:$R, F$2))","v":""},{"$f":"IF($A425 = \"\", \"\", COUNTIFS(ToDoList!$B:$B, $A425, ToDoList!$R:$R, G$2))","v":""},{"$f":"IF($A425 = \"\", \"\", COUNTIFS(ToDoList!$B:$B, $A425, ToDoList!$R:$R, H$2))","v":""},{"$f":"IF($A425 = \"\", \"\", COUNTIFS(ToDoList!$B:$B, $A425, ToDoList!$R:$R, I$2))","v":""},{"$f":"IF($A425 = \"\", \"\", COUNTIFS(ToDoList!$B:$B, $A425, ToDoList!$R:$R, J$2))","v":""}]
[null,{"$f":"IF($A426 = \"\", \"\", COUNTIFS(ToDoList!$B:$B, $A426, ToDoList!$R:$R, B$2))","v":""},{"$f":"IF($A426 = \"\", \"\", COUNTIFS(ToDoList!$B:$B, $A426, ToDoList!$R:$R, C$2))","v":""},{"$f":"IF($A426 = \"\", \"\", COUNTIFS(ToDoList!$B:$B, $A426, ToDoList!$R:$R, D$2))","v":""},{"$f":"IF($A426 = \"\", \"\", COUNTIFS(ToDoList!$B:$B, $A426, ToDoList!$R:$R, E$2))","v":""},{"$f":"IF($A426 = \"\", \"\", COUNTIFS(ToDoList!$B:$B, $A426, ToDoList!$R:$R, F$2))","v":""},{"$f":"IF($A426 = \"\", \"\", COUNTIFS(ToDoList!$B:$B, $A426, ToDoList!$R:$R, G$2))","v":""},{"$f":"IF($A426 = \"\", \"\", COUNTIFS(ToDoList!$B:$B, $A426, ToDoList!$R:$R, H$2))","v":""},{"$f":"IF($A426 = \"\", \"\", COUNTIFS(ToDoList!$B:$B, $A426, ToDoList!$R:$R, I$2))","v":""},{"$f":"IF($A426 = \"\", \"\", COUNTIFS(ToDoList!$B:$B, $A426, ToDoList!$R:$R, J$2))","v":""}]
[null,{"$f":"IF($A427 = \"\", \"\", COUNTIFS(ToDoList!$B:$B, $A427, ToDoList!$R:$R, B$2))","v":""},{"$f":"IF($A427 = \"\", \"\", COUNTIFS(ToDoList!$B:$B, $A427, ToDoList!$R:$R, C$2))","v":""},{"$f":"IF($A427 = \"\", \"\", COUNTIFS(ToDoList!$B:$B, $A427, ToDoList!$R:$R, D$2))","v":""},{"$f":"IF($A427 = \"\", \"\", COUNTIFS(ToDoList!$B:$B, $A427, ToDoList!$R:$R, E$2))","v":""},{"$f":"IF($A427 = \"\", \"\", COUNTIFS(ToDoList!$B:$B, $A427, ToDoList!$R:$R, F$2))","v":""},{"$f":"IF($A427 = \"\", \"\", COUNTIFS(ToDoList!$B:$B, $A427, ToDoList!$R:$R, G$2))","v":""},{"$f":"IF($A427 = \"\", \"\", COUNTIFS(ToDoList!$B:$B, $A427, ToDoList!$R:$R, H$2))","v":""},{"$f":"IF($A427 = \"\", \"\", COUNTIFS(ToDoList!$B:$B, $A427, ToDoList!$R:$R, I$2))","v":""},{"$f":"IF($A427 = \"\", \"\", COUNTIFS(ToDoList!$B:$B, $A427, ToDoList!$R:$R, J$2))","v":""}]
[null,{"$f":"IF($A428 = \"\", \"\", COUNTIFS(ToDoList!$B:$B, $A428, ToDoList!$R:$R, B$2))","v":""},{"$f":"IF($A428 = \"\", \"\", COUNTIFS(ToDoList!$B:$B, $A428, ToDoList!$R:$R, C$2))","v":""},{"$f":"IF($A428 = \"\", \"\", COUNTIFS(ToDoList!$B:$B, $A428, ToDoList!$R:$R, D$2))","v":""},{"$f":"IF($A428 = \"\", \"\", COUNTIFS(ToDoList!$B:$B, $A428, ToDoList!$R:$R, E$2))","v":""},{"$f":"IF($A428 = \"\", \"\", COUNTIFS(ToDoList!$B:$B, $A428, ToDoList!$R:$R, F$2))","v":""},{"$f":"IF($A428 = \"\", \"\", COUNTIFS(ToDoList!$B:$B, $A428, ToDoList!$R:$R, G$2))","v":""},{"$f":"IF($A428 = \"\", \"\", COUNTIFS(ToDoList!$B:$B, $A428, ToDoList!$R:$R, H$2))","v":""},{"$f":"IF($A428 = \"\", \"\", COUNTIFS(ToDoList!$B:$B, $A428, ToDoList!$R:$R, I$2))","v":""},{"$f":"IF($A428 = \"\", \"\", COUNTIFS(ToDoList!$B:$B, $A428, ToDoList!$R:$R, J$2))","v":""}]
[null,{"$f":"IF($A429 = \"\", \"\", COUNTIFS(ToDoList!$B:$B, $A429, ToDoList!$R:$R, B$2))","v":""},{"$f":"IF($A429 = \"\", \"\", COUNTIFS(ToDoList!$B:$B, $A429, ToDoList!$R:$R, C$2))","v":""},{"$f":"IF($A429 = \"\", \"\", COUNTIFS(ToDoList!$B:$B, $A429, ToDoList!$R:$R, D$2))","v":""},{"$f":"IF($A429 = \"\", \"\", COUNTIFS(ToDoList!$B:$B, $A429, ToDoList!$R:$R, E$2))","v":""},{"$f":"IF($A429 = \"\", \"\", COUNTIFS(ToDoList!$B:$B, $A429, ToDoList!$R:$R, F$2))","v":""},{"$f":"IF($A429 = \"\", \"\", COUNTIFS(ToDoList!$B:$B, $A429, ToDoList!$R:$R, G$2))","v":""},{"$f":"IF($A429 = \"\", \"\", COUNTIFS(ToDoList!$B:$B, $A429, ToDoList!$R:$R, H$2))","v":""},{"$f":"IF($A429 = \"\", \"\", COUNTIFS(ToDoList!$B:$B, $A429, ToDoList!$R:$R, I$2))","v":""},{"$f":"IF($A429 = \"\", \"\", COUNTIFS(ToDoList!$B:$B, $A429, ToDoList!$R:$R, J$2))","v":""}]
[null,{"$f":"IF($A430 = \"\", \"\", COUNTIFS(ToDoList!$B:$B, $A430, ToDoList!$R:$R, B$2))","v":""},{"$f":"IF($A430 = \"\", \"\", COUNTIFS(ToDoList!$B:$B, $A430, ToDoList!$R:$R, C$2))","v":""},{"$f":"IF($A430 = \"\", \"\", COUNTIFS(ToDoList!$B:$B, $A430, ToDoList!$R:$R, D$2))","v":""},{"$f":"IF($A430 = \"\", \"\", COUNTIFS(ToDoList!$B:$B, $A430, ToDoList!$R:$R, E$2))","v":""},{"$f":"IF($A430 = \"\", \"\", COUNTIFS(ToDoList!$B:$B, $A430, ToDoList!$R:$R, F$2))","v":""},{"$f":"IF($A430 = \"\", \"\", COUNTIFS(ToDoList!$B:$B, $A430, ToDoList!$R:$R, G$2))","v":""},{"$f":"IF($A430 = \"\", \"\", COUNTIFS(ToDoList!$B:$B, $A430, ToDoList!$R:$R, H$2))","v":""},{"$f":"IF($A430 = \"\", \"\", COUNTIFS(ToDoList!$B:$B, $A430, ToDoList!$R:$R, I$2))","v":""},{"$f":"IF($A430 = \"\", \"\", COUNTIFS(ToDoList!$B:$B, $A430, ToDoList!$R:$R, J$2))","v":""}]
[null,{"$f":"IF($A431 = \"\", \"\", COUNTIFS(ToDoList!$B:$B, $A431, ToDoList!$R:$R, B$2))","v":""},{"$f":"IF($A431 = \"\", \"\", COUNTIFS(ToDoList!$B:$B, $A431, ToDoList!$R:$R, C$2))","v":""},{"$f":"IF($A431 = \"\", \"\", COUNTIFS(ToDoList!$B:$B, $A431, ToDoList!$R:$R, D$2))","v":""},{"$f":"IF($A431 = \"\", \"\", COUNTIFS(ToDoList!$B:$B, $A431, ToDoList!$R:$R, E$2))","v":""},{"$f":"IF($A431 = \"\", \"\", COUNTIFS(ToDoList!$B:$B, $A431, ToDoList!$R:$R, F$2))","v":""},{"$f":"IF($A431 = \"\", \"\", COUNTIFS(ToDoList!$B:$B, $A431, ToDoList!$R:$R, G$2))","v":""},{"$f":"IF($A431 = \"\", \"\", COUNTIFS(ToDoList!$B:$B, $A431, ToDoList!$R:$R, H$2))","v":""},{"$f":"IF($A431 = \"\", \"\", COUNTIFS(ToDoList!$B:$B, $A431, ToDoList!$R:$R, I$2))","v":""},{"$f":"IF($A431 = \"\", \"\", COUNTIFS(ToDoList!$B:$B, $A431, ToDoList!$R:$R, J$2))","v":""}]
[null,{"$f":"IF($A432 = \"\", \"\", COUNTIFS(ToDoList!$B:$B, $A432, ToDoList!$R:$R, B$2))","v":""},{"$f":"IF($A432 = \"\", \"\", COUNTIFS(ToDoList!$B:$B, $A432, ToDoList!$R:$R, C$2))","v":""},{"$f":"IF($A432 = \"\", \"\", COUNTIFS(ToDoList!$B:$B, $A432, ToDoList!$R:$R, D$2))","v":""},{"$f":"IF($A432 = \"\", \"\", COUNTIFS(ToDoList!$B:$B, $A432, ToDoList!$R:$R, E$2))","v":""},{"$f":"IF($A432 = \"\", \"\", COUNTIFS(ToDoList!$B:$B, $A432, ToDoList!$R:$R, F$2))","v":""},{"$f":"IF($A432 = \"\", \"\", COUNTIFS(ToDoList!$B:$B, $A432, ToDoList!$R:$R, G$2))","v":""},{"$f":"IF($A432 = \"\", \"\", COUNTIFS(ToDoList!$B:$B, $A432, ToDoList!$R:$R, H$2))","v":""},{"$f":"IF($A432 = \"\", \"\", COUNTIFS(ToDoList!$B:$B, $A432, ToDoList!$R:$R, I$2))","v":""},{"$f":"IF($A432 = \"\", \"\", COUNTIFS(ToDoList!$B:$B, $A432, ToDoList!$R:$R, J$2))","v":""}]
[null,{"$f":"IF($A433 = \"\", \"\", COUNTIFS(ToDoList!$B:$B, $A433, ToDoList!$R:$R, B$2))","v":""},{"$f":"IF($A433 = \"\", \"\", COUNTIFS(ToDoList!$B:$B, $A433, ToDoList!$R:$R, C$2))","v":""},{"$f":"IF($A433 = \"\", \"\", COUNTIFS(ToDoList!$B:$B, $A433, ToDoList!$R:$R, D$2))","v":""},{"$f":"IF($A433 = \"\", \"\", COUNTIFS(ToDoList!$B:$B, $A433, ToDoList!$R:$R, E$2))","v":""},{"$f":"IF($A433 = \"\", \"\", COUNTIFS(ToDoList!$B:$B, $A433, ToDoList!$R:$R, F$2))","v":""},{"$f":"IF($A433 = \"\", \"\", COUNTIFS(ToDoList!$B:$B, $A433, ToDoList!$R:$R, G$2))","v":""},{"$f":"IF($A433 = \"\", \"\", COUNTIFS(ToDoList!$B:$B, $A433, ToDoList!$R:$R, H$2))","v":""},{"$f":"IF($A433 = \"\", \"\", COUNTIFS(ToDoList!$B:$B, $A433, ToDoList!$R:$R, I$2))","v":""},{"$f":"IF($A433 = \"\", \"\", COUNTIFS(ToDoList!$B:$B, $A433, ToDoList!$R:$R, J$2))","v":""}]
[null,{"$f":"IF($A434 = \"\", \"\", COUNTIFS(ToDoList!$B:$B, $A434, ToDoList!$R:$R, B$2))","v":""},{"$f":"IF($A434 = \"\", \"\", COUNTIFS(ToDoList!$B:$B, $A434, ToDoList!$R:$R, C$2))","v":""},{"$f":"IF($A434 = \"\", \"\", COUNTIFS(ToDoList!$B:$B, $A434, ToDoList!$R:$R, D$2))","v":""},{"$f":"IF($A434 = \"\", \"\", COUNTIFS(ToDoList!$B:$B, $A434, ToDoList!$R:$R, E$2))","v":""},{"$f":"IF($A434 = \"\", \"\", COUNTIFS(ToDoList!$B:$B, $A434, ToDoList!$R:$R, F$2))","v":""},{"$f":"IF($A434 = \"\", \"\", COUNTIFS(ToDoList!$B:$B, $A434, ToDoList!$R:$R, G$2))","v":""},{"$f":"IF($A434 = \"\", \"\", COUNTIFS(ToDoList!$B:$B, $A434, ToDoList!$R:$R, H$2))","v":""},{"$f":"IF($A434 = \"\", \"\", COUNTIFS(ToDoList!$B:$B, $A434, ToDoList!$R:$R, I$2))","v":""},{"$f":"IF($A434 = \"\", \"\", COUNTIFS(ToDoList!$B:$B, $A434, ToDoList!$R:$R, J$2))","v":""}]
[null,{"$f":"IF($A435 = \"\", \"\", COUNTIFS(ToDoList!$B:$B, $A435, ToDoList!$R:$R, B$2))","v":""},{"$f":"IF($A435 = \"\", \"\", COUNTIFS(ToDoList!$B:$B, $A435, ToDoList!$R:$R, C$2))","v":""},{"$f":"IF($A435 = \"\", \"\", COUNTIFS(ToDoList!$B:$B, $A435, ToDoList!$R:$R, D$2))","v":""},{"$f":"IF($A435 = \"\", \"\", COUNTIFS(ToDoList!$B:$B, $A435, ToDoList!$R:$R, E$2))","v":""},{"$f":"IF($A435 = \"\", \"\", COUNTIFS(ToDoList!$B:$B, $A435, ToDoList!$R:$R, F$2))","v":""},{"$f":"IF($A435 = \"\", \"\", COUNTIFS(ToDoList!$B:$B, $A435, ToDoList!$R:$R, G$2))","v":""},{"$f":"IF($A435 = \"\", \"\", COUNTIFS(ToDoList!$B:$B, $A435, ToDoList!$R:$R, H$2))","v":""},{"$f":"IF($A435 = \"\", \"\", COUNTIFS(ToDoList!$B:$B, $A435, ToDoList!$R:$R, I$2))","v":""},{"$f":"IF($A435 = \"\", \"\", COUNTIFS(ToDoList!$B:$B, $A435, ToDoList!$R:$R, J$2))","v":""}]
[null,{"$f":"IF($A436 = \"\", \"\", COUNTIFS(ToDoList!$B:$B, $A436, ToDoList!$R:$R, B$2))","v":""},{"$f":"IF($A436 = \"\", \"\", COUNTIFS(ToDoList!$B:$B, $A436, ToDoList!$R:$R, C$2))","v":""},{"$f":"IF($A436 = \"\", \"\", COUNTIFS(ToDoList!$B:$B, $A436, ToDoList!$R:$R, D$2))","v":""},{"$f":"IF($A436 = \"\", \"\", COUNTIFS(ToDoList!$B:$B, $A436, ToDoList!$R:$R, E$2))","v":""},{"$f":"IF($A436 = \"\", \"\", COUNTIFS(ToDoList!$B:$B, $A436, ToDoList!$R:$R, F$2))","v":""},{"$f":"IF($A436 = \"\", \"\", COUNTIFS(ToDoList!$B:$B, $A436, ToDoList!$R:$R, G$2))","v":""},{"$f":"IF($A436 = \"\", \"\", COUNTIFS(ToDoList!$B:$B, $A436, ToDoList!$R:$R, H$2))","v":""},{"$f":"IF($A436 = \"\", \"\", COUNTIFS(ToDoList!$B:$B, $A436, ToDoList!$R:$R, I$2))","v":""},{"$f":"IF($A436 = \"\", \"\", COUNTIFS(ToDoList!$B:$B, $A436, ToDoList!$R:$R, J$2))","v":""}]
[null,{"$f":"IF($A437 = \"\", \"\", COUNTIFS(ToDoList!$B:$B, $A437, ToDoList!$R:$R, B$2))","v":""},{"$f":"IF($A437 = \"\", \"\", COUNTIFS(ToDoList!$B:$B, $A437, ToDoList!$R:$R, C$2))","v":""},{"$f":"IF($A437 = \"\", \"\", COUNTIFS(ToDoList!$B:$B, $A437, ToDoList!$R:$R, D$2))","v":""},{"$f":"IF($A437 = \"\", \"\", COUNTIFS(ToDoList!$B:$B, $A437, ToDoList!$R:$R, E$2))","v":""},{"$f":"IF($A437 = \"\", \"\", COUNTIFS(ToDoList!$B:$B, $A437, ToDoList!$R:$R, F$2))","v":""},{"$f":"IF($A437 = \"\", \"\", COUNTIFS(ToDoList!$B:$B, $A437, ToDoList!$R:$R, G$2))","v":""},{"$f":"IF($A437 = \"\", \"\", COUNTIFS(ToDoList!$B:$B, $A437, ToDoList!$R:$R, H$2))","v":""},{"$f":"IF($A437 = \"\", \"\", COUNTIFS(ToDoList!$B:$B, $A437, ToDoList!$R:$R, I$2))","v":""},{"$f":"IF($A437 = \"\", \"\", COUNTIFS(ToDoList!$B:$B, $A437, ToDoList!$R:$R, J$2))","v":""}]
[null,{"$f":"IF($A438 = \"\", \"\", COUNTIFS(ToDoList!$B:$B, $A438, ToDoList!$R:$R, B$2))","v":""},{"$f":"IF($A438 = \"\", \"\", COUNTIFS(ToDoList!$B:$B, $A438, ToDoList!$R:$R, C$2))","v":""},{"$f":"IF($A438 = \"\", \"\", COUNTIFS(ToDoList!$B:$B, $A438, ToDoList!$R:$R, D$2))","v":""},{"$f":"IF($A438 = \"\", \"\", COUNTIFS(ToDoList!$B:$B, $A438, ToDoList!$R:$R, E$2))","v":""},{"$f":"IF($A438 = \"\", \"\", COUNTIFS(ToDoList!$B:$B, $A438, ToDoList!$R:$R, F$2))","v":""},{"$f":"IF($A438 = \"\", \"\", COUNTIFS(ToDoList!$B:$B, $A438, ToDoList!$R:$R, G$2))","v":""},{"$f":"IF($A438 = \"\", \"\", COUNTIFS(ToDoList!$B:$B, $A438, ToDoList!$R:$R, H$2))","v":""},{"$f":"IF($A438 = \"\", \"\", COUNTIFS(ToDoList!$B:$B, $A438, ToDoList!$R:$R, I$2))","v":""},{"$f":"IF($A438 = \"\", \"\", COUNTIFS(ToDoList!$B:$B, $A438, ToDoList!$R:$R, J$2))","v":""}]
[null,{"$f":"IF($A439 = \"\", \"\", COUNTIFS(ToDoList!$B:$B, $A439, ToDoList!$R:$R, B$2))","v":""},{"$f":"IF($A439 = \"\", \"\", COUNTIFS(ToDoList!$B:$B, $A439, ToDoList!$R:$R, C$2))","v":""},{"$f":"IF($A439 = \"\", \"\", COUNTIFS(ToDoList!$B:$B, $A439, ToDoList!$R:$R, D$2))","v":""},{"$f":"IF($A439 = \"\", \"\", COUNTIFS(ToDoList!$B:$B, $A439, ToDoList!$R:$R, E$2))","v":""},{"$f":"IF($A439 = \"\", \"\", COUNTIFS(ToDoList!$B:$B, $A439, ToDoList!$R:$R, F$2))","v":""},{"$f":"IF($A439 = \"\", \"\", COUNTIFS(ToDoList!$B:$B, $A439, ToDoList!$R:$R, G$2))","v":""},{"$f":"IF($A439 = \"\", \"\", COUNTIFS(ToDoList!$B:$B, $A439, ToDoList!$R:$R, H$2))","v":""},{"$f":"IF($A439 = \"\", \"\", COUNTIFS(ToDoList!$B:$B, $A439, ToDoList!$R:$R, I$2))","v":""},{"$f":"IF($A439 = \"\", \"\", COUNTIFS(ToDoList!$B:$B, $A439, ToDoList!$R:$R, J$2))","v":""}]
[null,{"$f":"IF($A440 = \"\", \"\", COUNTIFS(ToDoList!$B:$B, $A440, ToDoList!$R:$R, B$2))","v":""},{"$f":"IF($A440 = \"\", \"\", COUNTIFS(ToDoList!$B:$B, $A440, ToDoList!$R:$R, C$2))","v":""},{"$f":"IF($A440 = \"\", \"\", COUNTIFS(ToDoList!$B:$B, $A440, ToDoList!$R:$R, D$2))","v":""},{"$f":"IF($A440 = \"\", \"\", COUNTIFS(ToDoList!$B:$B, $A440, ToDoList!$R:$R, E$2))","v":""},{"$f":"IF($A440 = \"\", \"\", COUNTIFS(ToDoList!$B:$B, $A440, ToDoList!$R:$R, F$2))","v":""},{"$f":"IF($A440 = \"\", \"\", COUNTIFS(ToDoList!$B:$B, $A440, ToDoList!$R:$R, G$2))","v":""},{"$f":"IF($A440 = \"\", \"\", COUNTIFS(ToDoList!$B:$B, $A440, ToDoList!$R:$R, H$2))","v":""},{"$f":"IF($A440 = \"\", \"\", COUNTIFS(ToDoList!$B:$B, $A440, ToDoList!$R:$R, I$2))","v":""},{"$f":"IF($A440 = \"\", \"\", COUNTIFS(ToDoList!$B:$B, $A440, ToDoList!$R:$R, J$2))","v":""}]
[null,{"$f":"IF($A441 = \"\", \"\", COUNTIFS(ToDoList!$B:$B, $A441, ToDoList!$R:$R, B$2))","v":""},{"$f":"IF($A441 = \"\", \"\", COUNTIFS(ToDoList!$B:$B, $A441, ToDoList!$R:$R, C$2))","v":""},{"$f":"IF($A441 = \"\", \"\", COUNTIFS(ToDoList!$B:$B, $A441, ToDoList!$R:$R, D$2))","v":""},{"$f":"IF($A441 = \"\", \"\", COUNTIFS(ToDoList!$B:$B, $A441, ToDoList!$R:$R, E$2))","v":""},{"$f":"IF($A441 = \"\", \"\", COUNTIFS(ToDoList!$B:$B, $A441, ToDoList!$R:$R, F$2))","v":""},{"$f":"IF($A441 = \"\", \"\", COUNTIFS(ToDoList!$B:$B, $A441, ToDoList!$R:$R, G$2))","v":""},{"$f":"IF($A441 = \"\", \"\", COUNTIFS(ToDoList!$B:$B, $A441, ToDoList!$R:$R, H$2))","v":""},{"$f":"IF($A441 = \"\", \"\", COUNTIFS(ToDoList!$B:$B, $A441, ToDoList!$R:$R, I$2))","v":""},{"$f":"IF($A441 = \"\", \"\", COUNTIFS(ToDoList!$B:$B, $A441, ToDoList!$R:$R, J$2))","v":""}]
[null,{"$f":"IF($A442 = \"\", \"\", COUNTIFS(ToDoList!$B:$B, $A442, ToDoList!$R:$R, B$2))","v":""},{"$f":"IF($A442 = \"\", \"\", COUNTIFS(ToDoList!$B:$B, $A442, ToDoList!$R:$R, C$2))","v":""},{"$f":"IF($A442 = \"\", \"\", COUNTIFS(ToDoList!$B:$B, $A442, ToDoList!$R:$R, D$2))","v":""},{"$f":"IF($A442 = \"\", \"\", COUNTIFS(ToDoList!$B:$B, $A442, ToDoList!$R:$R, E$2))","v":""},{"$f":"IF($A442 = \"\", \"\", COUNTIFS(ToDoList!$B:$B, $A442, ToDoList!$R:$R, F$2))","v":""},{"$f":"IF($A442 = \"\", \"\", COUNTIFS(ToDoList!$B:$B, $A442, ToDoList!$R:$R, G$2))","v":""},{"$f":"IF($A442 = \"\", \"\", COUNTIFS(ToDoList!$B:$B, $A442, ToDoList!$R:$R, H$2))","v":""},{"$f":"IF($A442 = \"\", \"\", COUNTIFS(ToDoList!$B:$B, $A442, ToDoList!$R:$R, I$2))","v":""},{"$f":"IF($A442 = \"\", \"\", COUNTIFS(ToDoList!$B:$B, $A442, ToDoList!$R:$R, J$2))","v":""}]
[null,{"$f":"IF($A443 = \"\", \"\", COUNTIFS(ToDoList!$B:$B, $A443, ToDoList!$R:$R, B$2))","v":""},{"$f":"IF($A443 = \"\", \"\", COUNTIFS(ToDoList!$B:$B, $A443, ToDoList!$R:$R, C$2))","v":""},{"$f":"IF($A443 = \"\", \"\", COUNTIFS(ToDoList!$B:$B, $A443, ToDoList!$R:$R, D$2))","v":""},{"$f":"IF($A443 = \"\", \"\", COUNTIFS(ToDoList!$B:$B, $A443, ToDoList!$R:$R, E$2))","v":""},{"$f":"IF($A443 = \"\", \"\", COUNTIFS(ToDoList!$B:$B, $A443, ToDoList!$R:$R, F$2))","v":""},{"$f":"IF($A443 = \"\", \"\", COUNTIFS(ToDoList!$B:$B, $A443, ToDoList!$R:$R, G$2))","v":""},{"$f":"IF($A443 = \"\", \"\", COUNTIFS(ToDoList!$B:$B, $A443, ToDoList!$R:$R, H$2))","v":""},{"$f":"IF($A443 = \"\", \"\", COUNTIFS(ToDoList!$B:$B, $A443, ToDoList!$R:$R, I$2))","v":""},{"$f":"IF($A443 = \"\", \"\", COUNTIFS(ToDoList!$B:$B, $A443, ToDoList!$R:$R, J$2))","v":""}]
[null,{"$f":"IF($A444 = \"\", \"\", COUNTIFS(ToDoList!$B:$B, $A444, ToDoList!$R:$R, B$2))","v":""},{"$f":"IF($A444 = \"\", \"\", COUNTIFS(ToDoList!$B:$B, $A444, ToDoList!$R:$R, C$2))","v":""},{"$f":"IF($A444 = \"\", \"\", COUNTIFS(ToDoList!$B:$B, $A444, ToDoList!$R:$R, D$2))","v":""},{"$f":"IF($A444 = \"\", \"\", COUNTIFS(ToDoList!$B:$B, $A444, ToDoList!$R:$R, E$2))","v":""},{"$f":"IF($A444 = \"\", \"\", COUNTIFS(ToDoList!$B:$B, $A444, ToDoList!$R:$R, F$2))","v":""},{"$f":"IF($A444 = \"\", \"\", COUNTIFS(ToDoList!$B:$B, $A444, ToDoList!$R:$R, G$2))","v":""},{"$f":"IF($A444 = \"\", \"\", COUNTIFS(ToDoList!$B:$B, $A444, ToDoList!$R:$R, H$2))","v":""},{"$f":"IF($A444 = \"\", \"\", COUNTIFS(ToDoList!$B:$B, $A444, ToDoList!$R:$R, I$2))","v":""},{"$f":"IF($A444 = \"\", \"\", COUNTIFS(ToDoList!$B:$B, $A444, ToDoList!$R:$R, J$2))","v":""}]
[null,{"$f":"IF($A445 = \"\", \"\", COUNTIFS(ToDoList!$B:$B, $A445, ToDoList!$R:$R, B$2))","v":""},{"$f":"IF($A445 = \"\", \"\", COUNTIFS(ToDoList!$B:$B, $A445, ToDoList!$R:$R, C$2))","v":""},{"$f":"IF($A445 = \"\", \"\", COUNTIFS(ToDoList!$B:$B, $A445, ToDoList!$R:$R, D$2))","v":""},{"$f":"IF($A445 = \"\", \"\", COUNTIFS(ToDoList!$B:$B, $A445, ToDoList!$R:$R, E$2))","v":""},{"$f":"IF($A445 = \"\", \"\", COUNTIFS(ToDoList!$B:$B, $A445, ToDoList!$R:$R, F$2))","v":""},{"$f":"IF($A445 = \"\", \"\", COUNTIFS(ToDoList!$B:$B, $A445, ToDoList!$R:$R, G$2))","v":""},{"$f":"IF($A445 = \"\", \"\", COUNTIFS(ToDoList!$B:$B, $A445, ToDoList!$R:$R, H$2))","v":""},{"$f":"IF($A445 = \"\", \"\", COUNTIFS(ToDoList!$B:$B, $A445, ToDoList!$R:$R, I$2))","v":""},{"$f":"IF($A445 = \"\", \"\", COUNTIFS(ToDoList!$B:$B, $A445, ToDoList!$R:$R, J$2))","v":""}]
[null,{"$f":"IF($A446 = \"\", \"\", COUNTIFS(ToDoList!$B:$B, $A446, ToDoList!$R:$R, B$2))","v":""},{"$f":"IF($A446 = \"\", \"\", COUNTIFS(ToDoList!$B:$B, $A446, ToDoList!$R:$R, C$2))","v":""},{"$f":"IF($A446 = \"\", \"\", COUNTIFS(ToDoList!$B:$B, $A446, ToDoList!$R:$R, D$2))","v":""},{"$f":"IF($A446 = \"\", \"\", COUNTIFS(ToDoList!$B:$B, $A446, ToDoList!$R:$R, E$2))","v":""},{"$f":"IF($A446 = \"\", \"\", COUNTIFS(ToDoList!$B:$B, $A446, ToDoList!$R:$R, F$2))","v":""},{"$f":"IF($A446 = \"\", \"\", COUNTIFS(ToDoList!$B:$B, $A446, ToDoList!$R:$R, G$2))","v":""},{"$f":"IF($A446 = \"\", \"\", COUNTIFS(ToDoList!$B:$B, $A446, ToDoList!$R:$R, H$2))","v":""},{"$f":"IF($A446 = \"\", \"\", COUNTIFS(ToDoList!$B:$B, $A446, ToDoList!$R:$R, I$2))","v":""},{"$f":"IF($A446 = \"\", \"\", COUNTIFS(ToDoList!$B:$B, $A446, ToDoList!$R:$R, J$2))","v":""}]
[null,{"$f":"IF($A447 = \"\", \"\", COUNTIFS(ToDoList!$B:$B, $A447, ToDoList!$R:$R, B$2))","v":""},{"$f":"IF($A447 = \"\", \"\", COUNTIFS(ToDoList!$B:$B, $A447, ToDoList!$R:$R, C$2))","v":""},{"$f":"IF($A447 = \"\", \"\", COUNTIFS(ToDoList!$B:$B, $A447, ToDoList!$R:$R, D$2))","v":""},{"$f":"IF($A447 = \"\", \"\", COUNTIFS(ToDoList!$B:$B, $A447, ToDoList!$R:$R, E$2))","v":""},{"$f":"IF($A447 = \"\", \"\", COUNTIFS(ToDoList!$B:$B, $A447, ToDoList!$R:$R, F$2))","v":""},{"$f":"IF($A447 = \"\", \"\", COUNTIFS(ToDoList!$B:$B, $A447, ToDoList!$R:$R, G$2))","v":""},{"$f":"IF($A447 = \"\", \"\", COUNTIFS(ToDoList!$B:$B, $A447, ToDoList!$R:$R, H$2))","v":""},{"$f":"IF($A447 = \"\", \"\", COUNTIFS(ToDoList!$B:$B, $A447, ToDoList!$R:$R, I$2))","v":""},{"$f":"IF($A447 = \"\", \"\", COUNTIFS(ToDoList!$B:$B, $A447, ToDoList!$R:$R, J$2))","v":""}]
[null,{"$f":"IF($A448 = \"\", \"\", COUNTIFS(ToDoList!$B:$B, $A448, ToDoList!$R:$R, B$2))","v":""},{"$f":"IF($A448 = \"\", \"\", COUNTIFS(ToDoList!$B:$B, $A448, ToDoList!$R:$R, C$2))","v":""},{"$f":"IF($A448 = \"\", \"\", COUNTIFS(ToDoList!$B:$B, $A448, ToDoList!$R:$R, D$2))","v":""},{"$f":"IF($A448 = \"\", \"\", COUNTIFS(ToDoList!$B:$B, $A448, ToDoList!$R:$R, E$2))","v":""},{"$f":"IF($A448 = \"\", \"\", COUNTIFS(ToDoList!$B:$B, $A448, ToDoList!$R:$R, F$2))","v":""},{"$f":"IF($A448 = \"\", \"\", COUNTIFS(ToDoList!$B:$B, $A448, ToDoList!$R:$R, G$2))","v":""},{"$f":"IF($A448 = \"\", \"\", COUNTIFS(ToDoList!$B:$B, $A448, ToDoList!$R:$R, H$2))","v":""},{"$f":"IF($A448 = \"\", \"\", COUNTIFS(ToDoList!$B:$B, $A448, ToDoList!$R:$R, I$2))","v":""},{"$f":"IF($A448 = \"\", \"\", COUNTIFS(ToDoList!$B:$B, $A448, ToDoList!$R:$R, J$2))","v":""}]
[null,{"$f":"IF($A449 = \"\", \"\", COUNTIFS(ToDoList!$B:$B, $A449, ToDoList!$R:$R, B$2))","v":""},{"$f":"IF($A449 = \"\", \"\", COUNTIFS(ToDoList!$B:$B, $A449, ToDoList!$R:$R, C$2))","v":""},{"$f":"IF($A449 = \"\", \"\", COUNTIFS(ToDoList!$B:$B, $A449, ToDoList!$R:$R, D$2))","v":""},{"$f":"IF($A449 = \"\", \"\", COUNTIFS(ToDoList!$B:$B, $A449, ToDoList!$R:$R, E$2))","v":""},{"$f":"IF($A449 = \"\", \"\", COUNTIFS(ToDoList!$B:$B, $A449, ToDoList!$R:$R, F$2))","v":""},{"$f":"IF($A449 = \"\", \"\", COUNTIFS(ToDoList!$B:$B, $A449, ToDoList!$R:$R, G$2))","v":""},{"$f":"IF($A449 = \"\", \"\", COUNTIFS(ToDoList!$B:$B, $A449, ToDoList!$R:$R, H$2))","v":""},{"$f":"IF($A449 = \"\", \"\", COUNTIFS(ToDoList!$B:$B, $A449, ToDoList!$R:$R, I$2))","v":""},{"$f":"IF($A449 = \"\", \"\", COUNTIFS(ToDoList!$B:$B, $A449, ToDoList!$R:$R, J$2))","v":""}]
[null,{"$f":"IF($A450 = \"\", \"\", COUNTIFS(ToDoList!$B:$B, $A450, ToDoList!$R:$R, B$2))","v":""},{"$f":"IF($A450 = \"\", \"\", COUNTIFS(ToDoList!$B:$B, $A450, ToDoList!$R:$R, C$2))","v":""},{"$f":"IF($A450 = \"\", \"\", COUNTIFS(ToDoList!$B:$B, $A450, ToDoList!$R:$R, D$2))","v":""},{"$f":"IF($A450 = \"\", \"\", COUNTIFS(ToDoList!$B:$B, $A450, ToDoList!$R:$R, E$2))","v":""},{"$f":"IF($A450 = \"\", \"\", COUNTIFS(ToDoList!$B:$B, $A450, ToDoList!$R:$R, F$2))","v":""},{"$f":"IF($A450 = \"\", \"\", COUNTIFS(ToDoList!$B:$B, $A450, ToDoList!$R:$R, G$2))","v":""},{"$f":"IF($A450 = \"\", \"\", COUNTIFS(ToDoList!$B:$B, $A450, ToDoList!$R:$R, H$2))","v":""},{"$f":"IF($A450 = \"\", \"\", COUNTIFS(ToDoList!$B:$B, $A450, ToDoList!$R:$R, I$2))","v":""},{"$f":"IF($A450 = \"\", \"\", COUNTIFS(ToDoList!$B:$B, $A450, ToDoList!$R:$R, J$2))","v":""}]
[null,{"$f":"IF($A451 = \"\", \"\", COUNTIFS(ToDoList!$B:$B, $A451, ToDoList!$R:$R, B$2))","v":""},{"$f":"IF($A451 = \"\", \"\", COUNTIFS(ToDoList!$B:$B, $A451, ToDoList!$R:$R, C$2))","v":""},{"$f":"IF($A451 = \"\", \"\", COUNTIFS(ToDoList!$B:$B, $A451, ToDoList!$R:$R, D$2))","v":""},{"$f":"IF($A451 = \"\", \"\", COUNTIFS(ToDoList!$B:$B, $A451, ToDoList!$R:$R, E$2))","v":""},{"$f":"IF($A451 = \"\", \"\", COUNTIFS(ToDoList!$B:$B, $A451, ToDoList!$R:$R, F$2))","v":""},{"$f":"IF($A451 = \"\", \"\", COUNTIFS(ToDoList!$B:$B, $A451, ToDoList!$R:$R, G$2))","v":""},{"$f":"IF($A451 = \"\", \"\", COUNTIFS(ToDoList!$B:$B, $A451, ToDoList!$R:$R, H$2))","v":""},{"$f":"IF($A451 = \"\", \"\", COUNTIFS(ToDoList!$B:$B, $A451, ToDoList!$R:$R, I$2))","v":""},{"$f":"IF($A451 = \"\", \"\", COUNTIFS(ToDoList!$B:$B, $A451, ToDoList!$R:$R, J$2))","v":""}]
[null,{"$f":"IF($A452 = \"\", \"\", COUNTIFS(ToDoList!$B:$B, $A452, ToDoList!$R:$R, B$2))","v":""},{"$f":"IF($A452 = \"\", \"\", COUNTIFS(ToDoList!$B:$B, $A452, ToDoList!$R:$R, C$2))","v":""},{"$f":"IF($A452 = \"\", \"\", COUNTIFS(ToDoList!$B:$B, $A452, ToDoList!$R:$R, D$2))","v":""},{"$f":"IF($A452 = \"\", \"\", COUNTIFS(ToDoList!$B:$B, $A452, ToDoList!$R:$R, E$2))","v":""},{"$f":"IF($A452 = \"\", \"\", COUNTIFS(ToDoList!$B:$B, $A452, ToDoList!$R:$R, F$2))","v":""},{"$f":"IF($A452 = \"\", \"\", COUNTIFS(ToDoList!$B:$B, $A452, ToDoList!$R:$R, G$2))","v":""},{"$f":"IF($A452 = \"\", \"\", COUNTIFS(ToDoList!$B:$B, $A452, ToDoList!$R:$R, H$2))","v":""},{"$f":"IF($A452 = \"\", \"\", COUNTIFS(ToDoList!$B:$B, $A452, ToDoList!$R:$R, I$2))","v":""},{"$f":"IF($A452 = \"\", \"\", COUNTIFS(ToDoList!$B:$B, $A452, ToDoList!$R:$R, J$2))","v":""}]
[null,{"$f":"IF($A453 = \"\", \"\", COUNTIFS(ToDoList!$B:$B, $A453, ToDoList!$R:$R, B$2))","v":""},{"$f":"IF($A453 = \"\", \"\", COUNTIFS(ToDoList!$B:$B, $A453, ToDoList!$R:$R, C$2))","v":""},{"$f":"IF($A453 = \"\", \"\", COUNTIFS(ToDoList!$B:$B, $A453, ToDoList!$R:$R, D$2))","v":""},{"$f":"IF($A453 = \"\", \"\", COUNTIFS(ToDoList!$B:$B, $A453, ToDoList!$R:$R, E$2))","v":""},{"$f":"IF($A453 = \"\", \"\", COUNTIFS(ToDoList!$B:$B, $A453, ToDoList!$R:$R, F$2))","v":""},{"$f":"IF($A453 = \"\", \"\", COUNTIFS(ToDoList!$B:$B, $A453, ToDoList!$R:$R, G$2))","v":""},{"$f":"IF($A453 = \"\", \"\", COUNTIFS(ToDoList!$B:$B, $A453, ToDoList!$R:$R, H$2))","v":""},{"$f":"IF($A453 = \"\", \"\", COUNTIFS(ToDoList!$B:$B, $A453, ToDoList!$R:$R, I$2))","v":""},{"$f":"IF($A453 = \"\", \"\", COUNTIFS(ToDoList!$B:$B, $A453, ToDoList!$R:$R, J$2))","v":""}]
[null,{"$f":"IF($A454 = \"\", \"\", COUNTIFS(ToDoList!$B:$B, $A454, ToDoList!$R:$R, B$2))","v":""},{"$f":"IF($A454 = \"\", \"\", COUNTIFS(ToDoList!$B:$B, $A454, ToDoList!$R:$R, C$2))","v":""},{"$f":"IF($A454 = \"\", \"\", COUNTIFS(ToDoList!$B:$B, $A454, ToDoList!$R:$R, D$2))","v":""},{"$f":"IF($A454 = \"\", \"\", COUNTIFS(ToDoList!$B:$B, $A454, ToDoList!$R:$R, E$2))","v":""},{"$f":"IF($A454 = \"\", \"\", COUNTIFS(ToDoList!$B:$B, $A454, ToDoList!$R:$R, F$2))","v":""},{"$f":"IF($A454 = \"\", \"\", COUNTIFS(ToDoList!$B:$B, $A454, ToDoList!$R:$R, G$2))","v":""},{"$f":"IF($A454 = \"\", \"\", COUNTIFS(ToDoList!$B:$B, $A454, ToDoList!$R:$R, H$2))","v":""},{"$f":"IF($A454 = \"\", \"\", COUNTIFS(ToDoList!$B:$B, $A454, ToDoList!$R:$R, I$2))","v":""},{"$f":"IF($A454 = \"\", \"\", COUNTIFS(ToDoList!$B:$B, $A454, ToDoList!$R:$R, J$2))","v":""}]
[null,{"$f":"IF($A455 = \"\", \"\", COUNTIFS(ToDoList!$B:$B, $A455, ToDoList!$R:$R, B$2))","v":""},{"$f":"IF($A455 = \"\", \"\", COUNTIFS(ToDoList!$B:$B, $A455, ToDoList!$R:$R, C$2))","v":""},{"$f":"IF($A455 = \"\", \"\", COUNTIFS(ToDoList!$B:$B, $A455, ToDoList!$R:$R, D$2))","v":""},{"$f":"IF($A455 = \"\", \"\", COUNTIFS(ToDoList!$B:$B, $A455, ToDoList!$R:$R, E$2))","v":""},{"$f":"IF($A455 = \"\", \"\", COUNTIFS(ToDoList!$B:$B, $A455, ToDoList!$R:$R, F$2))","v":""},{"$f":"IF($A455 = \"\", \"\", COUNTIFS(ToDoList!$B:$B, $A455, ToDoList!$R:$R, G$2))","v":""},{"$f":"IF($A455 = \"\", \"\", COUNTIFS(ToDoList!$B:$B, $A455, ToDoList!$R:$R, H$2))","v":""},{"$f":"IF($A455 = \"\", \"\", COUNTIFS(ToDoList!$B:$B, $A455, ToDoList!$R:$R, I$2))","v":""},{"$f":"IF($A455 = \"\", \"\", COUNTIFS(ToDoList!$B:$B, $A455, ToDoList!$R:$R, J$2))","v":""}]
[null,{"$f":"IF($A456 = \"\", \"\", COUNTIFS(ToDoList!$B:$B, $A456, ToDoList!$R:$R, B$2))","v":""},{"$f":"IF($A456 = \"\", \"\", COUNTIFS(ToDoList!$B:$B, $A456, ToDoList!$R:$R, C$2))","v":""},{"$f":"IF($A456 = \"\", \"\", COUNTIFS(ToDoList!$B:$B, $A456, ToDoList!$R:$R, D$2))","v":""},{"$f":"IF($A456 = \"\", \"\", COUNTIFS(ToDoList!$B:$B, $A456, ToDoList!$R:$R, E$2))","v":""},{"$f":"IF($A456 = \"\", \"\", COUNTIFS(ToDoList!$B:$B, $A456, ToDoList!$R:$R, F$2))","v":""},{"$f":"IF($A456 = \"\", \"\", COUNTIFS(ToDoList!$B:$B, $A456, ToDoList!$R:$R, G$2))","v":""},{"$f":"IF($A456 = \"\", \"\", COUNTIFS(ToDoList!$B:$B, $A456, ToDoList!$R:$R, H$2))","v":""},{"$f":"IF($A456 = \"\", \"\", COUNTIFS(ToDoList!$B:$B, $A456, ToDoList!$R:$R, I$2))","v":""},{"$f":"IF($A456 = \"\", \"\", COUNTIFS(ToDoList!$B:$B, $A456, ToDoList!$R:$R, J$2))","v":""}]
[null,{"$f":"IF($A457 = \"\", \"\", COUNTIFS(ToDoList!$B:$B, $A457, ToDoList!$R:$R, B$2))","v":""},{"$f":"IF($A457 = \"\", \"\", COUNTIFS(ToDoList!$B:$B, $A457, ToDoList!$R:$R, C$2))","v":""},{"$f":"IF($A457 = \"\", \"\", COUNTIFS(ToDoList!$B:$B, $A457, ToDoList!$R:$R, D$2))","v":""},{"$f":"IF($A457 = \"\", \"\", COUNTIFS(ToDoList!$B:$B, $A457, ToDoList!$R:$R, E$2))","v":""},{"$f":"IF($A457 = \"\", \"\", COUNTIFS(ToDoList!$B:$B, $A457, ToDoList!$R:$R, F$2))","v":""},{"$f":"IF($A457 = \"\", \"\", COUNTIFS(ToDoList!$B:$B, $A457, ToDoList!$R:$R, G$2))","v":""},{"$f":"IF($A457 = \"\", \"\", COUNTIFS(ToDoList!$B:$B, $A457, ToDoList!$R:$R, H$2))","v":""},{"$f":"IF($A457 = \"\", \"\", COUNTIFS(ToDoList!$B:$B, $A457, ToDoList!$R:$R, I$2))","v":""},{"$f":"IF($A457 = \"\", \"\", COUNTIFS(ToDoList!$B:$B, $A457, ToDoList!$R:$R, J$2))","v":""}]
[null,{"$f":"IF($A458 = \"\", \"\", COUNTIFS(ToDoList!$B:$B, $A458, ToDoList!$R:$R, B$2))","v":""},{"$f":"IF($A458 = \"\", \"\", COUNTIFS(ToDoList!$B:$B, $A458, ToDoList!$R:$R, C$2))","v":""},{"$f":"IF($A458 = \"\", \"\", COUNTIFS(ToDoList!$B:$B, $A458, ToDoList!$R:$R, D$2))","v":""},{"$f":"IF($A458 = \"\", \"\", COUNTIFS(ToDoList!$B:$B, $A458, ToDoList!$R:$R, E$2))","v":""},{"$f":"IF($A458 = \"\", \"\", COUNTIFS(ToDoList!$B:$B, $A458, ToDoList!$R:$R, F$2))","v":""},{"$f":"IF($A458 = \"\", \"\", COUNTIFS(ToDoList!$B:$B, $A458, ToDoList!$R:$R, G$2))","v":""},{"$f":"IF($A458 = \"\", \"\", COUNTIFS(ToDoList!$B:$B, $A458, ToDoList!$R:$R, H$2))","v":""},{"$f":"IF($A458 = \"\", \"\", COUNTIFS(ToDoList!$B:$B, $A458, ToDoList!$R:$R, I$2))","v":""},{"$f":"IF($A458 = \"\", \"\", COUNTIFS(ToDoList!$B:$B, $A458, ToDoList!$R:$R, J$2))","v":""}]
[null,{"$f":"IF($A459 = \"\", \"\", COUNTIFS(ToDoList!$B:$B, $A459, ToDoList!$R:$R, B$2))","v":""},{"$f":"IF($A459 = \"\", \"\", COUNTIFS(ToDoList!$B:$B, $A459, ToDoList!$R:$R, C$2))","v":""},{"$f":"IF($A459 = \"\", \"\", COUNTIFS(ToDoList!$B:$B, $A459, ToDoList!$R:$R, D$2))","v":""},{"$f":"IF($A459 = \"\", \"\", COUNTIFS(ToDoList!$B:$B, $A459, ToDoList!$R:$R, E$2))","v":""},{"$f":"IF($A459 = \"\", \"\", COUNTIFS(ToDoList!$B:$B, $A459, ToDoList!$R:$R, F$2))","v":""},{"$f":"IF($A459 = \"\", \"\", COUNTIFS(ToDoList!$B:$B, $A459, ToDoList!$R:$R, G$2))","v":""},{"$f":"IF($A459 = \"\", \"\", COUNTIFS(ToDoList!$B:$B, $A459, ToDoList!$R:$R, H$2))","v":""},{"$f":"IF($A459 = \"\", \"\", COUNTIFS(ToDoList!$B:$B, $A459, ToDoList!$R:$R, I$2))","v":""},{"$f":"IF($A459 = \"\", \"\", COUNTIFS(ToDoList!$B:$B, $A459, ToDoList!$R:$R, J$2))","v":""}]
[null,{"$f":"IF($A460 = \"\", \"\", COUNTIFS(ToDoList!$B:$B, $A460, ToDoList!$R:$R, B$2))","v":""},{"$f":"IF($A460 = \"\", \"\", COUNTIFS(ToDoList!$B:$B, $A460, ToDoList!$R:$R, C$2))","v":""},{"$f":"IF($A460 = \"\", \"\", COUNTIFS(ToDoList!$B:$B, $A460, ToDoList!$R:$R, D$2))","v":""},{"$f":"IF($A460 = \"\", \"\", COUNTIFS(ToDoList!$B:$B, $A460, ToDoList!$R:$R, E$2))","v":""},{"$f":"IF($A460 = \"\", \"\", COUNTIFS(ToDoList!$B:$B, $A460, ToDoList!$R:$R, F$2))","v":""},{"$f":"IF($A460 = \"\", \"\", COUNTIFS(ToDoList!$B:$B, $A460, ToDoList!$R:$R, G$2))","v":""},{"$f":"IF($A460 = \"\", \"\", COUNTIFS(ToDoList!$B:$B, $A460, ToDoList!$R:$R, H$2))","v":""},{"$f":"IF($A460 = \"\", \"\", COUNTIFS(ToDoList!$B:$B, $A460, ToDoList!$R:$R, I$2))","v":""},{"$f":"IF($A460 = \"\", \"\", COUNTIFS(ToDoList!$B:$B, $A460, ToDoList!$R:$R, J$2))","v":""}]
[null,{"$f":"IF($A461 = \"\", \"\", COUNTIFS(ToDoList!$B:$B, $A461, ToDoList!$R:$R, B$2))","v":""},{"$f":"IF($A461 = \"\", \"\", COUNTIFS(ToDoList!$B:$B, $A461, ToDoList!$R:$R, C$2))","v":""},{"$f":"IF($A461 = \"\", \"\", COUNTIFS(ToDoList!$B:$B, $A461, ToDoList!$R:$R, D$2))","v":""},{"$f":"IF($A461 = \"\", \"\", COUNTIFS(ToDoList!$B:$B, $A461, ToDoList!$R:$R, E$2))","v":""},{"$f":"IF($A461 = \"\", \"\", COUNTIFS(ToDoList!$B:$B, $A461, ToDoList!$R:$R, F$2))","v":""},{"$f":"IF($A461 = \"\", \"\", COUNTIFS(ToDoList!$B:$B, $A461, ToDoList!$R:$R, G$2))","v":""},{"$f":"IF($A461 = \"\", \"\", COUNTIFS(ToDoList!$B:$B, $A461, ToDoList!$R:$R, H$2))","v":""},{"$f":"IF($A461 = \"\", \"\", COUNTIFS(ToDoList!$B:$B, $A461, ToDoList!$R:$R, I$2))","v":""},{"$f":"IF($A461 = \"\", \"\", COUNTIFS(ToDoList!$B:$B, $A461, ToDoList!$R:$R, J$2))","v":""}]
[null,{"$f":"IF($A462 = \"\", \"\", COUNTIFS(ToDoList!$B:$B, $A462, ToDoList!$R:$R, B$2))","v":""},{"$f":"IF($A462 = \"\", \"\", COUNTIFS(ToDoList!$B:$B, $A462, ToDoList!$R:$R, C$2))","v":""},{"$f":"IF($A462 = \"\", \"\", COUNTIFS(ToDoList!$B:$B, $A462, ToDoList!$R:$R, D$2))","v":""},{"$f":"IF($A462 = \"\", \"\", COUNTIFS(ToDoList!$B:$B, $A462, ToDoList!$R:$R, E$2))","v":""},{"$f":"IF($A462 = \"\", \"\", COUNTIFS(ToDoList!$B:$B, $A462, ToDoList!$R:$R, F$2))","v":""},{"$f":"IF($A462 = \"\", \"\", COUNTIFS(ToDoList!$B:$B, $A462, ToDoList!$R:$R, G$2))","v":""},{"$f":"IF($A462 = \"\", \"\", COUNTIFS(ToDoList!$B:$B, $A462, ToDoList!$R:$R, H$2))","v":""},{"$f":"IF($A462 = \"\", \"\", COUNTIFS(ToDoList!$B:$B, $A462, ToDoList!$R:$R, I$2))","v":""},{"$f":"IF($A462 = \"\", \"\", COUNTIFS(ToDoList!$B:$B, $A462, ToDoList!$R:$R, J$2))","v":""}]
[null,{"$f":"IF($A463 = \"\", \"\", COUNTIFS(ToDoList!$B:$B, $A463, ToDoList!$R:$R, B$2))","v":""},{"$f":"IF($A463 = \"\", \"\", COUNTIFS(ToDoList!$B:$B, $A463, ToDoList!$R:$R, C$2))","v":""},{"$f":"IF($A463 = \"\", \"\", COUNTIFS(ToDoList!$B:$B, $A463, ToDoList!$R:$R, D$2))","v":""},{"$f":"IF($A463 = \"\", \"\", COUNTIFS(ToDoList!$B:$B, $A463, ToDoList!$R:$R, E$2))","v":""},{"$f":"IF($A463 = \"\", \"\", COUNTIFS(ToDoList!$B:$B, $A463, ToDoList!$R:$R, F$2))","v":""},{"$f":"IF($A463 = \"\", \"\", COUNTIFS(ToDoList!$B:$B, $A463, ToDoList!$R:$R, G$2))","v":""},{"$f":"IF($A463 = \"\", \"\", COUNTIFS(ToDoList!$B:$B, $A463, ToDoList!$R:$R, H$2))","v":""},{"$f":"IF($A463 = \"\", \"\", COUNTIFS(ToDoList!$B:$B, $A463, ToDoList!$R:$R, I$2))","v":""},{"$f":"IF($A463 = \"\", \"\", COUNTIFS(ToDoList!$B:$B, $A463, ToDoList!$R:$R, J$2))","v":""}]
[null,{"$f":"IF($A464 = \"\", \"\", COUNTIFS(ToDoList!$B:$B, $A464, ToDoList!$R:$R, B$2))","v":""},{"$f":"IF($A464 = \"\", \"\", COUNTIFS(ToDoList!$B:$B, $A464, ToDoList!$R:$R, C$2))","v":""},{"$f":"IF($A464 = \"\", \"\", COUNTIFS(ToDoList!$B:$B, $A464, ToDoList!$R:$R, D$2))","v":""},{"$f":"IF($A464 = \"\", \"\", COUNTIFS(ToDoList!$B:$B, $A464, ToDoList!$R:$R, E$2))","v":""},{"$f":"IF($A464 = \"\", \"\", COUNTIFS(ToDoList!$B:$B, $A464, ToDoList!$R:$R, F$2))","v":""},{"$f":"IF($A464 = \"\", \"\", COUNTIFS(ToDoList!$B:$B, $A464, ToDoList!$R:$R, G$2))","v":""},{"$f":"IF($A464 = \"\", \"\", COUNTIFS(ToDoList!$B:$B, $A464, ToDoList!$R:$R, H$2))","v":""},{"$f":"IF($A464 = \"\", \"\", COUNTIFS(ToDoList!$B:$B, $A464, ToDoList!$R:$R, I$2))","v":""},{"$f":"IF($A464 = \"\", \"\", COUNTIFS(ToDoList!$B:$B, $A464, ToDoList!$R:$R, J$2))","v":""}]
[null,{"$f":"IF($A465 = \"\", \"\", COUNTIFS(ToDoList!$B:$B, $A465, ToDoList!$R:$R, B$2))","v":""},{"$f":"IF($A465 = \"\", \"\", COUNTIFS(ToDoList!$B:$B, $A465, ToDoList!$R:$R, C$2))","v":""},{"$f":"IF($A465 = \"\", \"\", COUNTIFS(ToDoList!$B:$B, $A465, ToDoList!$R:$R, D$2))","v":""},{"$f":"IF($A465 = \"\", \"\", COUNTIFS(ToDoList!$B:$B, $A465, ToDoList!$R:$R, E$2))","v":""},{"$f":"IF($A465 = \"\", \"\", COUNTIFS(ToDoList!$B:$B, $A465, ToDoList!$R:$R, F$2))","v":""},{"$f":"IF($A465 = \"\", \"\", COUNTIFS(ToDoList!$B:$B, $A465, ToDoList!$R:$R, G$2))","v":""},{"$f":"IF($A465 = \"\", \"\", COUNTIFS(ToDoList!$B:$B, $A465, ToDoList!$R:$R, H$2))","v":""},{"$f":"IF($A465 = \"\", \"\", COUNTIFS(ToDoList!$B:$B, $A465, ToDoList!$R:$R, I$2))","v":""},{"$f":"IF($A465 = \"\", \"\", COUNTIFS(ToDoList!$B:$B, $A465, ToDoList!$R:$R, J$2))","v":""}]
[null,{"$f":"IF($A466 = \"\", \"\", COUNTIFS(ToDoList!$B:$B, $A466, ToDoList!$R:$R, B$2))","v":""},{"$f":"IF($A466 = \"\", \"\", COUNTIFS(ToDoList!$B:$B, $A466, ToDoList!$R:$R, C$2))","v":""},{"$f":"IF($A466 = \"\", \"\", COUNTIFS(ToDoList!$B:$B, $A466, ToDoList!$R:$R, D$2))","v":""},{"$f":"IF($A466 = \"\", \"\", COUNTIFS(ToDoList!$B:$B, $A466, ToDoList!$R:$R, E$2))","v":""},{"$f":"IF($A466 = \"\", \"\", COUNTIFS(ToDoList!$B:$B, $A466, ToDoList!$R:$R, F$2))","v":""},{"$f":"IF($A466 = \"\", \"\", COUNTIFS(ToDoList!$B:$B, $A466, ToDoList!$R:$R, G$2))","v":""},{"$f":"IF($A466 = \"\", \"\", COUNTIFS(ToDoList!$B:$B, $A466, ToDoList!$R:$R, H$2))","v":""},{"$f":"IF($A466 = \"\", \"\", COUNTIFS(ToDoList!$B:$B, $A466, ToDoList!$R:$R, I$2))","v":""},{"$f":"IF($A466 = \"\", \"\", COUNTIFS(ToDoList!$B:$B, $A466, ToDoList!$R:$R, J$2))","v":""}]
[null,{"$f":"IF($A467 = \"\", \"\", COUNTIFS(ToDoList!$B:$B, $A467, ToDoList!$R:$R, B$2))","v":""},{"$f":"IF($A467 = \"\", \"\", COUNTIFS(ToDoList!$B:$B, $A467, ToDoList!$R:$R, C$2))","v":""},{"$f":"IF($A467 = \"\", \"\", COUNTIFS(ToDoList!$B:$B, $A467, ToDoList!$R:$R, D$2))","v":""},{"$f":"IF($A467 = \"\", \"\", COUNTIFS(ToDoList!$B:$B, $A467, ToDoList!$R:$R, E$2))","v":""},{"$f":"IF($A467 = \"\", \"\", COUNTIFS(ToDoList!$B:$B, $A467, ToDoList!$R:$R, F$2))","v":""},{"$f":"IF($A467 = \"\", \"\", COUNTIFS(ToDoList!$B:$B, $A467, ToDoList!$R:$R, G$2))","v":""},{"$f":"IF($A467 = \"\", \"\", COUNTIFS(ToDoList!$B:$B, $A467, ToDoList!$R:$R, H$2))","v":""},{"$f":"IF($A467 = \"\", \"\", COUNTIFS(ToDoList!$B:$B, $A467, ToDoList!$R:$R, I$2))","v":""},{"$f":"IF($A467 = \"\", \"\", COUNTIFS(ToDoList!$B:$B, $A467, ToDoList!$R:$R, J$2))","v":""}]
[null,{"$f":"IF($A468 = \"\", \"\", COUNTIFS(ToDoList!$B:$B, $A468, ToDoList!$R:$R, B$2))","v":""},{"$f":"IF($A468 = \"\", \"\", COUNTIFS(ToDoList!$B:$B, $A468, ToDoList!$R:$R, C$2))","v":""},{"$f":"IF($A468 = \"\", \"\", COUNTIFS(ToDoList!$B:$B, $A468, ToDoList!$R:$R, D$2))","v":""},{"$f":"IF($A468 = \"\", \"\", COUNTIFS(ToDoList!$B:$B, $A468, ToDoList!$R:$R, E$2))","v":""},{"$f":"IF($A468 = \"\", \"\", COUNTIFS(ToDoList!$B:$B, $A468, ToDoList!$R:$R, F$2))","v":""},{"$f":"IF($A468 = \"\", \"\", COUNTIFS(ToDoList!$B:$B, $A468, ToDoList!$R:$R, G$2))","v":""},{"$f":"IF($A468 = \"\", \"\", COUNTIFS(ToDoList!$B:$B, $A468, ToDoList!$R:$R, H$2))","v":""},{"$f":"IF($A468 = \"\", \"\", COUNTIFS(ToDoList!$B:$B, $A468, ToDoList!$R:$R, I$2))","v":""},{"$f":"IF($A468 = \"\", \"\", COUNTIFS(ToDoList!$B:$B, $A468, ToDoList!$R:$R, J$2))","v":""}]
[null,{"$f":"IF($A469 = \"\", \"\", COUNTIFS(ToDoList!$B:$B, $A469, ToDoList!$R:$R, B$2))","v":""},{"$f":"IF($A469 = \"\", \"\", COUNTIFS(ToDoList!$B:$B, $A469, ToDoList!$R:$R, C$2))","v":""},{"$f":"IF($A469 = \"\", \"\", COUNTIFS(ToDoList!$B:$B, $A469, ToDoList!$R:$R, D$2))","v":""},{"$f":"IF($A469 = \"\", \"\", COUNTIFS(ToDoList!$B:$B, $A469, ToDoList!$R:$R, E$2))","v":""},{"$f":"IF($A469 = \"\", \"\", COUNTIFS(ToDoList!$B:$B, $A469, ToDoList!$R:$R, F$2))","v":""},{"$f":"IF($A469 = \"\", \"\", COUNTIFS(ToDoList!$B:$B, $A469, ToDoList!$R:$R, G$2))","v":""},{"$f":"IF($A469 = \"\", \"\", COUNTIFS(ToDoList!$B:$B, $A469, ToDoList!$R:$R, H$2))","v":""},{"$f":"IF($A469 = \"\", \"\", COUNTIFS(ToDoList!$B:$B, $A469, ToDoList!$R:$R, I$2))","v":""},{"$f":"IF($A469 = \"\", \"\", COUNTIFS(ToDoList!$B:$B, $A469, ToDoList!$R:$R, J$2))","v":""}]
[null,{"$f":"IF($A470 = \"\", \"\", COUNTIFS(ToDoList!$B:$B, $A470, ToDoList!$R:$R, B$2))","v":""},{"$f":"IF($A470 = \"\", \"\", COUNTIFS(ToDoList!$B:$B, $A470, ToDoList!$R:$R, C$2))","v":""},{"$f":"IF($A470 = \"\", \"\", COUNTIFS(ToDoList!$B:$B, $A470, ToDoList!$R:$R, D$2))","v":""},{"$f":"IF($A470 = \"\", \"\", COUNTIFS(ToDoList!$B:$B, $A470, ToDoList!$R:$R, E$2))","v":""},{"$f":"IF($A470 = \"\", \"\", COUNTIFS(ToDoList!$B:$B, $A470, ToDoList!$R:$R, F$2))","v":""},{"$f":"IF($A470 = \"\", \"\", COUNTIFS(ToDoList!$B:$B, $A470, ToDoList!$R:$R, G$2))","v":""},{"$f":"IF($A470 = \"\", \"\", COUNTIFS(ToDoList!$B:$B, $A470, ToDoList!$R:$R, H$2))","v":""},{"$f":"IF($A470 = \"\", \"\", COUNTIFS(ToDoList!$B:$B, $A470, ToDoList!$R:$R, I$2))","v":""},{"$f":"IF($A470 = \"\", \"\", COUNTIFS(ToDoList!$B:$B, $A470, ToDoList!$R:$R, J$2))","v":""}]
[null,{"$f":"IF($A471 = \"\", \"\", COUNTIFS(ToDoList!$B:$B, $A471, ToDoList!$R:$R, B$2))","v":""},{"$f":"IF($A471 = \"\", \"\", COUNTIFS(ToDoList!$B:$B, $A471, ToDoList!$R:$R, C$2))","v":""},{"$f":"IF($A471 = \"\", \"\", COUNTIFS(ToDoList!$B:$B, $A471, ToDoList!$R:$R, D$2))","v":""},{"$f":"IF($A471 = \"\", \"\", COUNTIFS(ToDoList!$B:$B, $A471, ToDoList!$R:$R, E$2))","v":""},{"$f":"IF($A471 = \"\", \"\", COUNTIFS(ToDoList!$B:$B, $A471, ToDoList!$R:$R, F$2))","v":""},{"$f":"IF($A471 = \"\", \"\", COUNTIFS(ToDoList!$B:$B, $A471, ToDoList!$R:$R, G$2))","v":""},{"$f":"IF($A471 = \"\", \"\", COUNTIFS(ToDoList!$B:$B, $A471, ToDoList!$R:$R, H$2))","v":""},{"$f":"IF($A471 = \"\", \"\", COUNTIFS(ToDoList!$B:$B, $A471, ToDoList!$R:$R, I$2))","v":""},{"$f":"IF($A471 = \"\", \"\", COUNTIFS(ToDoList!$B:$B, $A471, ToDoList!$R:$R, J$2))","v":""}]
[null,{"$f":"IF($A472 = \"\", \"\", COUNTIFS(ToDoList!$B:$B, $A472, ToDoList!$R:$R, B$2))","v":""},{"$f":"IF($A472 = \"\", \"\", COUNTIFS(ToDoList!$B:$B, $A472, ToDoList!$R:$R, C$2))","v":""},{"$f":"IF($A472 = \"\", \"\", COUNTIFS(ToDoList!$B:$B, $A472, ToDoList!$R:$R, D$2))","v":""},{"$f":"IF($A472 = \"\", \"\", COUNTIFS(ToDoList!$B:$B, $A472, ToDoList!$R:$R, E$2))","v":""},{"$f":"IF($A472 = \"\", \"\", COUNTIFS(ToDoList!$B:$B, $A472, ToDoList!$R:$R, F$2))","v":""},{"$f":"IF($A472 = \"\", \"\", COUNTIFS(ToDoList!$B:$B, $A472, ToDoList!$R:$R, G$2))","v":""},{"$f":"IF($A472 = \"\", \"\", COUNTIFS(ToDoList!$B:$B, $A472, ToDoList!$R:$R, H$2))","v":""},{"$f":"IF($A472 = \"\", \"\", COUNTIFS(ToDoList!$B:$B, $A472, ToDoList!$R:$R, I$2))","v":""},{"$f":"IF($A472 = \"\", \"\", COUNTIFS(ToDoList!$B:$B, $A472, ToDoList!$R:$R, J$2))","v":""}]
[null,{"$f":"IF($A473 = \"\", \"\", COUNTIFS(ToDoList!$B:$B, $A473, ToDoList!$R:$R, B$2))","v":""},{"$f":"IF($A473 = \"\", \"\", COUNTIFS(ToDoList!$B:$B, $A473, ToDoList!$R:$R, C$2))","v":""},{"$f":"IF($A473 = \"\", \"\", COUNTIFS(ToDoList!$B:$B, $A473, ToDoList!$R:$R, D$2))","v":""},{"$f":"IF($A473 = \"\", \"\", COUNTIFS(ToDoList!$B:$B, $A473, ToDoList!$R:$R, E$2))","v":""},{"$f":"IF($A473 = \"\", \"\", COUNTIFS(ToDoList!$B:$B, $A473, ToDoList!$R:$R, F$2))","v":""},{"$f":"IF($A473 = \"\", \"\", COUNTIFS(ToDoList!$B:$B, $A473, ToDoList!$R:$R, G$2))","v":""},{"$f":"IF($A473 = \"\", \"\", COUNTIFS(ToDoList!$B:$B, $A473, ToDoList!$R:$R, H$2))","v":""},{"$f":"IF($A473 = \"\", \"\", COUNTIFS(ToDoList!$B:$B, $A473, ToDoList!$R:$R, I$2))","v":""},{"$f":"IF($A473 = \"\", \"\", COUNTIFS(ToDoList!$B:$B, $A473, ToDoList!$R:$R, J$2))","v":""}]
[null,{"$f":"IF($A474 = \"\", \"\", COUNTIFS(ToDoList!$B:$B, $A474, ToDoList!$R:$R, B$2))","v":""},{"$f":"IF($A474 = \"\", \"\", COUNTIFS(ToDoList!$B:$B, $A474, ToDoList!$R:$R, C$2))","v":""},{"$f":"IF($A474 = \"\", \"\", COUNTIFS(ToDoList!$B:$B, $A474, ToDoList!$R:$R, D$2))","v":""},{"$f":"IF($A474 = \"\", \"\", COUNTIFS(ToDoList!$B:$B, $A474, ToDoList!$R:$R, E$2))","v":""},{"$f":"IF($A474 = \"\", \"\", COUNTIFS(ToDoList!$B:$B, $A474, ToDoList!$R:$R, F$2))","v":""},{"$f":"IF($A474 = \"\", \"\", COUNTIFS(ToDoList!$B:$B, $A474, ToDoList!$R:$R, G$2))","v":""},{"$f":"IF($A474 = \"\", \"\", COUNTIFS(ToDoList!$B:$B, $A474, ToDoList!$R:$R, H$2))","v":""},{"$f":"IF($A474 = \"\", \"\", COUNTIFS(ToDoList!$B:$B, $A474, ToDoList!$R:$R, I$2))","v":""},{"$f":"IF($A474 = \"\", \"\", COUNTIFS(ToDoList!$B:$B, $A474, ToDoList!$R:$R, J$2))","v":""}]
[null,{"$f":"IF($A475 = \"\", \"\", COUNTIFS(ToDoList!$B:$B, $A475, ToDoList!$R:$R, B$2))","v":""},{"$f":"IF($A475 = \"\", \"\", COUNTIFS(ToDoList!$B:$B, $A475, ToDoList!$R:$R, C$2))","v":""},{"$f":"IF($A475 = \"\", \"\", COUNTIFS(ToDoList!$B:$B, $A475, ToDoList!$R:$R, D$2))","v":""},{"$f":"IF($A475 = \"\", \"\", COUNTIFS(ToDoList!$B:$B, $A475, ToDoList!$R:$R, E$2))","v":""},{"$f":"IF($A475 = \"\", \"\", COUNTIFS(ToDoList!$B:$B, $A475, ToDoList!$R:$R, F$2))","v":""},{"$f":"IF($A475 = \"\", \"\", COUNTIFS(ToDoList!$B:$B, $A475, ToDoList!$R:$R, G$2))","v":""},{"$f":"IF($A475 = \"\", \"\", COUNTIFS(ToDoList!$B:$B, $A475, ToDoList!$R:$R, H$2))","v":""},{"$f":"IF($A475 = \"\", \"\", COUNTIFS(ToDoList!$B:$B, $A475, ToDoList!$R:$R, I$2))","v":""},{"$f":"IF($A475 = \"\", \"\", COUNTIFS(ToDoList!$B:$B, $A475, ToDoList!$R:$R, J$2))","v":""}]
[null,{"$f":"IF($A476 = \"\", \"\", COUNTIFS(ToDoList!$B:$B, $A476, ToDoList!$R:$R, B$2))","v":""},{"$f":"IF($A476 = \"\", \"\", COUNTIFS(ToDoList!$B:$B, $A476, ToDoList!$R:$R, C$2))","v":""},{"$f":"IF($A476 = \"\", \"\", COUNTIFS(ToDoList!$B:$B, $A476, ToDoList!$R:$R, D$2))","v":""},{"$f":"IF($A476 = \"\", \"\", COUNTIFS(ToDoList!$B:$B, $A476, ToDoList!$R:$R, E$2))","v":""},{"$f":"IF($A476 = \"\", \"\", COUNTIFS(ToDoList!$B:$B, $A476, ToDoList!$R:$R, F$2))","v":""},{"$f":"IF($A476 = \"\", \"\", COUNTIFS(ToDoList!$B:$B, $A476, ToDoList!$R:$R, G$2))","v":""},{"$f":"IF($A476 = \"\", \"\", COUNTIFS(ToDoList!$B:$B, $A476, ToDoList!$R:$R, H$2))","v":""},{"$f":"IF($A476 = \"\", \"\", COUNTIFS(ToDoList!$B:$B, $A476, ToDoList!$R:$R, I$2))","v":""},{"$f":"IF($A476 = \"\", \"\", COUNTIFS(ToDoList!$B:$B, $A476, ToDoList!$R:$R, J$2))","v":""}]
[null,{"$f":"IF($A477 = \"\", \"\", COUNTIFS(ToDoList!$B:$B, $A477, ToDoList!$R:$R, B$2))","v":""},{"$f":"IF($A477 = \"\", \"\", COUNTIFS(ToDoList!$B:$B, $A477, ToDoList!$R:$R, C$2))","v":""},{"$f":"IF($A477 = \"\", \"\", COUNTIFS(ToDoList!$B:$B, $A477, ToDoList!$R:$R, D$2))","v":""},{"$f":"IF($A477 = \"\", \"\", COUNTIFS(ToDoList!$B:$B, $A477, ToDoList!$R:$R, E$2))","v":""},{"$f":"IF($A477 = \"\", \"\", COUNTIFS(ToDoList!$B:$B, $A477, ToDoList!$R:$R, F$2))","v":""},{"$f":"IF($A477 = \"\", \"\", COUNTIFS(ToDoList!$B:$B, $A477, ToDoList!$R:$R, G$2))","v":""},{"$f":"IF($A477 = \"\", \"\", COUNTIFS(ToDoList!$B:$B, $A477, ToDoList!$R:$R, H$2))","v":""},{"$f":"IF($A477 = \"\", \"\", COUNTIFS(ToDoList!$B:$B, $A477, ToDoList!$R:$R, I$2))","v":""},{"$f":"IF($A477 = \"\", \"\", COUNTIFS(ToDoList!$B:$B, $A477, ToDoList!$R:$R, J$2))","v":""}]
[null,{"$f":"IF($A478 = \"\", \"\", COUNTIFS(ToDoList!$B:$B, $A478, ToDoList!$R:$R, B$2))","v":""},{"$f":"IF($A478 = \"\", \"\", COUNTIFS(ToDoList!$B:$B, $A478, ToDoList!$R:$R, C$2))","v":""},{"$f":"IF($A478 = \"\", \"\", COUNTIFS(ToDoList!$B:$B, $A478, ToDoList!$R:$R, D$2))","v":""},{"$f":"IF($A478 = \"\", \"\", COUNTIFS(ToDoList!$B:$B, $A478, ToDoList!$R:$R, E$2))","v":""},{"$f":"IF($A478 = \"\", \"\", COUNTIFS(ToDoList!$B:$B, $A478, ToDoList!$R:$R, F$2))","v":""},{"$f":"IF($A478 = \"\", \"\", COUNTIFS(ToDoList!$B:$B, $A478, ToDoList!$R:$R, G$2))","v":""},{"$f":"IF($A478 = \"\", \"\", COUNTIFS(ToDoList!$B:$B, $A478, ToDoList!$R:$R, H$2))","v":""},{"$f":"IF($A478 = \"\", \"\", COUNTIFS(ToDoList!$B:$B, $A478, ToDoList!$R:$R, I$2))","v":""},{"$f":"IF($A478 = \"\", \"\", COUNTIFS(ToDoList!$B:$B, $A478, ToDoList!$R:$R, J$2))","v":""}]
[null,{"$f":"IF($A479 = \"\", \"\", COUNTIFS(ToDoList!$B:$B, $A479, ToDoList!$R:$R, B$2))","v":""},{"$f":"IF($A479 = \"\", \"\", COUNTIFS(ToDoList!$B:$B, $A479, ToDoList!$R:$R, C$2))","v":""},{"$f":"IF($A479 = \"\", \"\", COUNTIFS(ToDoList!$B:$B, $A479, ToDoList!$R:$R, D$2))","v":""},{"$f":"IF($A479 = \"\", \"\", COUNTIFS(ToDoList!$B:$B, $A479, ToDoList!$R:$R, E$2))","v":""},{"$f":"IF($A479 = \"\", \"\", COUNTIFS(ToDoList!$B:$B, $A479, ToDoList!$R:$R, F$2))","v":""},{"$f":"IF($A479 = \"\", \"\", COUNTIFS(ToDoList!$B:$B, $A479, ToDoList!$R:$R, G$2))","v":""},{"$f":"IF($A479 = \"\", \"\", COUNTIFS(ToDoList!$B:$B, $A479, ToDoList!$R:$R, H$2))","v":""},{"$f":"IF($A479 = \"\", \"\", COUNTIFS(ToDoList!$B:$B, $A479, ToDoList!$R:$R, I$2))","v":""},{"$f":"IF($A479 = \"\", \"\", COUNTIFS(ToDoList!$B:$B, $A479, ToDoList!$R:$R, J$2))","v":""}]
[null,{"$f":"IF($A480 = \"\", \"\", COUNTIFS(ToDoList!$B:$B, $A480, ToDoList!$R:$R, B$2))","v":""},{"$f":"IF($A480 = \"\", \"\", COUNTIFS(ToDoList!$B:$B, $A480, ToDoList!$R:$R, C$2))","v":""},{"$f":"IF($A480 = \"\", \"\", COUNTIFS(ToDoList!$B:$B, $A480, ToDoList!$R:$R, D$2))","v":""},{"$f":"IF($A480 = \"\", \"\", COUNTIFS(ToDoList!$B:$B, $A480, ToDoList!$R:$R, E$2))","v":""},{"$f":"IF($A480 = \"\", \"\", COUNTIFS(ToDoList!$B:$B, $A480, ToDoList!$R:$R, F$2))","v":""},{"$f":"IF($A480 = \"\", \"\", COUNTIFS(ToDoList!$B:$B, $A480, ToDoList!$R:$R, G$2))","v":""},{"$f":"IF($A480 = \"\", \"\", COUNTIFS(ToDoList!$B:$B, $A480, ToDoList!$R:$R, H$2))","v":""},{"$f":"IF($A480 = \"\", \"\", COUNTIFS(ToDoList!$B:$B, $A480, ToDoList!$R:$R, I$2))","v":""},{"$f":"IF($A480 = \"\", \"\", COUNTIFS(ToDoList!$B:$B, $A480, ToDoList!$R:$R, J$2))","v":""}]
[null,{"$f":"IF($A481 = \"\", \"\", COUNTIFS(ToDoList!$B:$B, $A481, ToDoList!$R:$R, B$2))","v":""},{"$f":"IF($A481 = \"\", \"\", COUNTIFS(ToDoList!$B:$B, $A481, ToDoList!$R:$R, C$2))","v":""},{"$f":"IF($A481 = \"\", \"\", COUNTIFS(ToDoList!$B:$B, $A481, ToDoList!$R:$R, D$2))","v":""},{"$f":"IF($A481 = \"\", \"\", COUNTIFS(ToDoList!$B:$B, $A481, ToDoList!$R:$R, E$2))","v":""},{"$f":"IF($A481 = \"\", \"\", COUNTIFS(ToDoList!$B:$B, $A481, ToDoList!$R:$R, F$2))","v":""},{"$f":"IF($A481 = \"\", \"\", COUNTIFS(ToDoList!$B:$B, $A481, ToDoList!$R:$R, G$2))","v":""},{"$f":"IF($A481 = \"\", \"\", COUNTIFS(ToDoList!$B:$B, $A481, ToDoList!$R:$R, H$2))","v":""},{"$f":"IF($A481 = \"\", \"\", COUNTIFS(ToDoList!$B:$B, $A481, ToDoList!$R:$R, I$2))","v":""},{"$f":"IF($A481 = \"\", \"\", COUNTIFS(ToDoList!$B:$B, $A481, ToDoList!$R:$R, J$2))","v":""}]
[null,{"$f":"IF($A482 = \"\", \"\", COUNTIFS(ToDoList!$B:$B, $A482, ToDoList!$R:$R, B$2))","v":""},{"$f":"IF($A482 = \"\", \"\", COUNTIFS(ToDoList!$B:$B, $A482, ToDoList!$R:$R, C$2))","v":""},{"$f":"IF($A482 = \"\", \"\", COUNTIFS(ToDoList!$B:$B, $A482, ToDoList!$R:$R, D$2))","v":""},{"$f":"IF($A482 = \"\", \"\", COUNTIFS(ToDoList!$B:$B, $A482, ToDoList!$R:$R, E$2))","v":""},{"$f":"IF($A482 = \"\", \"\", COUNTIFS(ToDoList!$B:$B, $A482, ToDoList!$R:$R, F$2))","v":""},{"$f":"IF($A482 = \"\", \"\", COUNTIFS(ToDoList!$B:$B, $A482, ToDoList!$R:$R, G$2))","v":""},{"$f":"IF($A482 = \"\", \"\", COUNTIFS(ToDoList!$B:$B, $A482, ToDoList!$R:$R, H$2))","v":""},{"$f":"IF($A482 = \"\", \"\", COUNTIFS(ToDoList!$B:$B, $A482, ToDoList!$R:$R, I$2))","v":""},{"$f":"IF($A482 = \"\", \"\", COUNTIFS(ToDoList!$B:$B, $A482, ToDoList!$R:$R, J$2))","v":""}]
[null,{"$f":"IF($A483 = \"\", \"\", COUNTIFS(ToDoList!$B:$B, $A483, ToDoList!$R:$R, B$2))","v":""},{"$f":"IF($A483 = \"\", \"\", COUNTIFS(ToDoList!$B:$B, $A483, ToDoList!$R:$R, C$2))","v":""},{"$f":"IF($A483 = \"\", \"\", COUNTIFS(ToDoList!$B:$B, $A483, ToDoList!$R:$R, D$2))","v":""},{"$f":"IF($A483 = \"\", \"\", COUNTIFS(ToDoList!$B:$B, $A483, ToDoList!$R:$R, E$2))","v":""},{"$f":"IF($A483 = \"\", \"\", COUNTIFS(ToDoList!$B:$B, $A483, ToDoList!$R:$R, F$2))","v":""},{"$f":"IF($A483 = \"\", \"\", COUNTIFS(ToDoList!$B:$B, $A483, ToDoList!$R:$R, G$2))","v":""},{"$f":"IF($A483 = \"\", \"\", COUNTIFS(ToDoList!$B:$B, $A483, ToDoList!$R:$R, H$2))","v":""},{"$f":"IF($A483 = \"\", \"\", COUNTIFS(ToDoList!$B:$B, $A483, ToDoList!$R:$R, I$2))","v":""},{"$f":"IF($A483 = \"\", \"\", COUNTIFS(ToDoList!$B:$B, $A483, ToDoList!$R:$R, J$2))","v":""}]
[null,{"$f":"IF($A484 = \"\", \"\", COUNTIFS(ToDoList!$B:$B, $A484, ToDoList!$R:$R, B$2))","v":""},{"$f":"IF($A484 = \"\", \"\", COUNTIFS(ToDoList!$B:$B, $A484, ToDoList!$R:$R, C$2))","v":""},{"$f":"IF($A484 = \"\", \"\", COUNTIFS(ToDoList!$B:$B, $A484, ToDoList!$R:$R, D$2))","v":""},{"$f":"IF($A484 = \"\", \"\", COUNTIFS(ToDoList!$B:$B, $A484, ToDoList!$R:$R, E$2))","v":""},{"$f":"IF($A484 = \"\", \"\", COUNTIFS(ToDoList!$B:$B, $A484, ToDoList!$R:$R, F$2))","v":""},{"$f":"IF($A484 = \"\", \"\", COUNTIFS(ToDoList!$B:$B, $A484, ToDoList!$R:$R, G$2))","v":""},{"$f":"IF($A484 = \"\", \"\", COUNTIFS(ToDoList!$B:$B, $A484, ToDoList!$R:$R, H$2))","v":""},{"$f":"IF($A484 = \"\", \"\", COUNTIFS(ToDoList!$B:$B, $A484, ToDoList!$R:$R, I$2))","v":""},{"$f":"IF($A484 = \"\", \"\", COUNTIFS(ToDoList!$B:$B, $A484, ToDoList!$R:$R, J$2))","v":""}]
[null,{"$f":"IF($A485 = \"\", \"\", COUNTIFS(ToDoList!$B:$B, $A485, ToDoList!$R:$R, B$2))","v":""},{"$f":"IF($A485 = \"\", \"\", COUNTIFS(ToDoList!$B:$B, $A485, ToDoList!$R:$R, C$2))","v":""},{"$f":"IF($A485 = \"\", \"\", COUNTIFS(ToDoList!$B:$B, $A485, ToDoList!$R:$R, D$2))","v":""},{"$f":"IF($A485 = \"\", \"\", COUNTIFS(ToDoList!$B:$B, $A485, ToDoList!$R:$R, E$2))","v":""},{"$f":"IF($A485 = \"\", \"\", COUNTIFS(ToDoList!$B:$B, $A485, ToDoList!$R:$R, F$2))","v":""},{"$f":"IF($A485 = \"\", \"\", COUNTIFS(ToDoList!$B:$B, $A485, ToDoList!$R:$R, G$2))","v":""},{"$f":"IF($A485 = \"\", \"\", COUNTIFS(ToDoList!$B:$B, $A485, ToDoList!$R:$R, H$2))","v":""},{"$f":"IF($A485 = \"\", \"\", COUNTIFS(ToDoList!$B:$B, $A485, ToDoList!$R:$R, I$2))","v":""},{"$f":"IF($A485 = \"\", \"\", COUNTIFS(ToDoList!$B:$B, $A485, ToDoList!$R:$R, J$2))","v":""}]
[null,{"$f":"IF($A486 = \"\", \"\", COUNTIFS(ToDoList!$B:$B, $A486, ToDoList!$R:$R, B$2))","v":""},{"$f":"IF($A486 = \"\", \"\", COUNTIFS(ToDoList!$B:$B, $A486, ToDoList!$R:$R, C$2))","v":""},{"$f":"IF($A486 = \"\", \"\", COUNTIFS(ToDoList!$B:$B, $A486, ToDoList!$R:$R, D$2))","v":""},{"$f":"IF($A486 = \"\", \"\", COUNTIFS(ToDoList!$B:$B, $A486, ToDoList!$R:$R, E$2))","v":""},{"$f":"IF($A486 = \"\", \"\", COUNTIFS(ToDoList!$B:$B, $A486, ToDoList!$R:$R, F$2))","v":""},{"$f":"IF($A486 = \"\", \"\", COUNTIFS(ToDoList!$B:$B, $A486, ToDoList!$R:$R, G$2))","v":""},{"$f":"IF($A486 = \"\", \"\", COUNTIFS(ToDoList!$B:$B, $A486, ToDoList!$R:$R, H$2))","v":""},{"$f":"IF($A486 = \"\", \"\", COUNTIFS(ToDoList!$B:$B, $A486, ToDoList!$R:$R, I$2))","v":""},{"$f":"IF($A486 = \"\", \"\", COUNTIFS(ToDoList!$B:$B, $A486, ToDoList!$R:$R, J$2))","v":""}]
[null,{"$f":"IF($A487 = \"\", \"\", COUNTIFS(ToDoList!$B:$B, $A487, ToDoList!$R:$R, B$2))","v":""},{"$f":"IF($A487 = \"\", \"\", COUNTIFS(ToDoList!$B:$B, $A487, ToDoList!$R:$R, C$2))","v":""},{"$f":"IF($A487 = \"\", \"\", COUNTIFS(ToDoList!$B:$B, $A487, ToDoList!$R:$R, D$2))","v":""},{"$f":"IF($A487 = \"\", \"\", COUNTIFS(ToDoList!$B:$B, $A487, ToDoList!$R:$R, E$2))","v":""},{"$f":"IF($A487 = \"\", \"\", COUNTIFS(ToDoList!$B:$B, $A487, ToDoList!$R:$R, F$2))","v":""},{"$f":"IF($A487 = \"\", \"\", COUNTIFS(ToDoList!$B:$B, $A487, ToDoList!$R:$R, G$2))","v":""},{"$f":"IF($A487 = \"\", \"\", COUNTIFS(ToDoList!$B:$B, $A487, ToDoList!$R:$R, H$2))","v":""},{"$f":"IF($A487 = \"\", \"\", COUNTIFS(ToDoList!$B:$B, $A487, ToDoList!$R:$R, I$2))","v":""},{"$f":"IF($A487 = \"\", \"\", COUNTIFS(ToDoList!$B:$B, $A487, ToDoList!$R:$R, J$2))","v":""}]
[null,{"$f":"IF($A488 = \"\", \"\", COUNTIFS(ToDoList!$B:$B, $A488, ToDoList!$R:$R, B$2))","v":""},{"$f":"IF($A488 = \"\", \"\", COUNTIFS(ToDoList!$B:$B, $A488, ToDoList!$R:$R, C$2))","v":""},{"$f":"IF($A488 = \"\", \"\", COUNTIFS(ToDoList!$B:$B, $A488, ToDoList!$R:$R, D$2))","v":""},{"$f":"IF($A488 = \"\", \"\", COUNTIFS(ToDoList!$B:$B, $A488, ToDoList!$R:$R, E$2))","v":""},{"$f":"IF($A488 = \"\", \"\", COUNTIFS(ToDoList!$B:$B, $A488, ToDoList!$R:$R, F$2))","v":""},{"$f":"IF($A488 = \"\", \"\", COUNTIFS(ToDoList!$B:$B, $A488, ToDoList!$R:$R, G$2))","v":""},{"$f":"IF($A488 = \"\", \"\", COUNTIFS(ToDoList!$B:$B, $A488, ToDoList!$R:$R, H$2))","v":""},{"$f":"IF($A488 = \"\", \"\", COUNTIFS(ToDoList!$B:$B, $A488, ToDoList!$R:$R, I$2))","v":""},{"$f":"IF($A488 = \"\", \"\", COUNTIFS(ToDoList!$B:$B, $A488, ToDoList!$R:$R, J$2))","v":""}]
[null,{"$f":"IF($A489 = \"\", \"\", COUNTIFS(ToDoList!$B:$B, $A489, ToDoList!$R:$R, B$2))","v":""},{"$f":"IF($A489 = \"\", \"\", COUNTIFS(ToDoList!$B:$B, $A489, ToDoList!$R:$R, C$2))","v":""},{"$f":"IF($A489 = \"\", \"\", COUNTIFS(ToDoList!$B:$B, $A489, ToDoList!$R:$R, D$2))","v":""},{"$f":"IF($A489 = \"\", \"\", COUNTIFS(ToDoList!$B:$B, $A489, ToDoList!$R:$R, E$2))","v":""},{"$f":"IF($A489 = \"\", \"\", COUNTIFS(ToDoList!$B:$B, $A489, ToDoList!$R:$R, F$2))","v":""},{"$f":"IF($A489 = \"\", \"\", COUNTIFS(ToDoList!$B:$B, $A489, ToDoList!$R:$R, G$2))","v":""},{"$f":"IF($A489 = \"\", \"\", COUNTIFS(ToDoList!$B:$B, $A489, ToDoList!$R:$R, H$2))","v":""},{"$f":"IF($A489 = \"\", \"\", COUNTIFS(ToDoList!$B:$B, $A489, ToDoList!$R:$R, I$2))","v":""},{"$f":"IF($A489 = \"\", \"\", COUNTIFS(ToDoList!$B:$B, $A489, ToDoList!$R:$R, J$2))","v":""}]
[null,{"$f":"IF($A490 = \"\", \"\", COUNTIFS(ToDoList!$B:$B, $A490, ToDoList!$R:$R, B$2))","v":""},{"$f":"IF($A490 = \"\", \"\", COUNTIFS(ToDoList!$B:$B, $A490, ToDoList!$R:$R, C$2))","v":""},{"$f":"IF($A490 = \"\", \"\", COUNTIFS(ToDoList!$B:$B, $A490, ToDoList!$R:$R, D$2))","v":""},{"$f":"IF($A490 = \"\", \"\", COUNTIFS(ToDoList!$B:$B, $A490, ToDoList!$R:$R, E$2))","v":""},{"$f":"IF($A490 = \"\", \"\", COUNTIFS(ToDoList!$B:$B, $A490, ToDoList!$R:$R, F$2))","v":""},{"$f":"IF($A490 = \"\", \"\", COUNTIFS(ToDoList!$B:$B, $A490, ToDoList!$R:$R, G$2))","v":""},{"$f":"IF($A490 = \"\", \"\", COUNTIFS(ToDoList!$B:$B, $A490, ToDoList!$R:$R, H$2))","v":""},{"$f":"IF($A490 = \"\", \"\", COUNTIFS(ToDoList!$B:$B, $A490, ToDoList!$R:$R, I$2))","v":""},{"$f":"IF($A490 = \"\", \"\", COUNTIFS(ToDoList!$B:$B, $A490, ToDoList!$R:$R, J$2))","v":""}]
[null,{"$f":"IF($A491 = \"\", \"\", COUNTIFS(ToDoList!$B:$B, $A491, ToDoList!$R:$R, B$2))","v":""},{"$f":"IF($A491 = \"\", \"\", COUNTIFS(ToDoList!$B:$B, $A491, ToDoList!$R:$R, C$2))","v":""},{"$f":"IF($A491 = \"\", \"\", COUNTIFS(ToDoList!$B:$B, $A491, ToDoList!$R:$R, D$2))","v":""},{"$f":"IF($A491 = \"\", \"\", COUNTIFS(ToDoList!$B:$B, $A491, ToDoList!$R:$R, E$2))","v":""},{"$f":"IF($A491 = \"\", \"\", COUNTIFS(ToDoList!$B:$B, $A491, ToDoList!$R:$R, F$2))","v":""},{"$f":"IF($A491 = \"\", \"\", COUNTIFS(ToDoList!$B:$B, $A491, ToDoList!$R:$R, G$2))","v":""},{"$f":"IF($A491 = \"\", \"\", COUNTIFS(ToDoList!$B:$B, $A491, ToDoList!$R:$R, H$2))","v":""},{"$f":"IF($A491 = \"\", \"\", COUNTIFS(ToDoList!$B:$B, $A491, ToDoList!$R:$R, I$2))","v":""},{"$f":"IF($A491 = \"\", \"\", COUNTIFS(ToDoList!$B:$B, $A491, ToDoList!$R:$R, J$2))","v":""}]
[null,{"$f":"IF($A492 = \"\", \"\", COUNTIFS(ToDoList!$B:$B, $A492, ToDoList!$R:$R, B$2))","v":""},{"$f":"IF($A492 = \"\", \"\", COUNTIFS(ToDoList!$B:$B, $A492, ToDoList!$R:$R, C$2))","v":""},{"$f":"IF($A492 = \"\", \"\", COUNTIFS(ToDoList!$B:$B, $A492, ToDoList!$R:$R, D$2))","v":""},{"$f":"IF($A492 = \"\", \"\", COUNTIFS(ToDoList!$B:$B, $A492, ToDoList!$R:$R, E$2))","v":""},{"$f":"IF($A492 = \"\", \"\", COUNTIFS(ToDoList!$B:$B, $A492, ToDoList!$R:$R, F$2))","v":""},{"$f":"IF($A492 = \"\", \"\", COUNTIFS(ToDoList!$B:$B, $A492, ToDoList!$R:$R, G$2))","v":""},{"$f":"IF($A492 = \"\", \"\", COUNTIFS(ToDoList!$B:$B, $A492, ToDoList!$R:$R, H$2))","v":""},{"$f":"IF($A492 = \"\", \"\", COUNTIFS(ToDoList!$B:$B, $A492, ToDoList!$R:$R, I$2))","v":""},{"$f":"IF($A492 = \"\", \"\", COUNTIFS(ToDoList!$B:$B, $A492, ToDoList!$R:$R, J$2))","v":""}]
[null,{"$f":"IF($A493 = \"\", \"\", COUNTIFS(ToDoList!$B:$B, $A493, ToDoList!$R:$R, B$2))","v":""},{"$f":"IF($A493 = \"\", \"\", COUNTIFS(ToDoList!$B:$B, $A493, ToDoList!$R:$R, C$2))","v":""},{"$f":"IF($A493 = \"\", \"\", COUNTIFS(ToDoList!$B:$B, $A493, ToDoList!$R:$R, D$2))","v":""},{"$f":"IF($A493 = \"\", \"\", COUNTIFS(ToDoList!$B:$B, $A493, ToDoList!$R:$R, E$2))","v":""},{"$f":"IF($A493 = \"\", \"\", COUNTIFS(ToDoList!$B:$B, $A493, ToDoList!$R:$R, F$2))","v":""},{"$f":"IF($A493 = \"\", \"\", COUNTIFS(ToDoList!$B:$B, $A493, ToDoList!$R:$R, G$2))","v":""},{"$f":"IF($A493 = \"\", \"\", COUNTIFS(ToDoList!$B:$B, $A493, ToDoList!$R:$R, H$2))","v":""},{"$f":"IF($A493 = \"\", \"\", COUNTIFS(ToDoList!$B:$B, $A493, ToDoList!$R:$R, I$2))","v":""},{"$f":"IF($A493 = \"\", \"\", COUNTIFS(ToDoList!$B:$B, $A493, ToDoList!$R:$R, J$2))","v":""}]
[null,{"$f":"IF($A494 = \"\", \"\", COUNTIFS(ToDoList!$B:$B, $A494, ToDoList!$R:$R, B$2))","v":""},{"$f":"IF($A494 = \"\", \"\", COUNTIFS(ToDoList!$B:$B, $A494, ToDoList!$R:$R, C$2))","v":""},{"$f":"IF($A494 = \"\", \"\", COUNTIFS(ToDoList!$B:$B, $A494, ToDoList!$R:$R, D$2))","v":""},{"$f":"IF($A494 = \"\", \"\", COUNTIFS(ToDoList!$B:$B, $A494, ToDoList!$R:$R, E$2))","v":""},{"$f":"IF($A494 = \"\", \"\", COUNTIFS(ToDoList!$B:$B, $A494, ToDoList!$R:$R, F$2))","v":""},{"$f":"IF($A494 = \"\", \"\", COUNTIFS(ToDoList!$B:$B, $A494, ToDoList!$R:$R, G$2))","v":""},{"$f":"IF($A494 = \"\", \"\", COUNTIFS(ToDoList!$B:$B, $A494, ToDoList!$R:$R, H$2))","v":""},{"$f":"IF($A494 = \"\", \"\", COUNTIFS(ToDoList!$B:$B, $A494, ToDoList!$R:$R, I$2))","v":""},{"$f":"IF($A494 = \"\", \"\", COUNTIFS(ToDoList!$B:$B, $A494, ToDoList!$R:$R, J$2))","v":""}]
[null,{"$f":"IF($A495 = \"\", \"\", COUNTIFS(ToDoList!$B:$B, $A495, ToDoList!$R:$R, B$2))","v":""},{"$f":"IF($A495 = \"\", \"\", COUNTIFS(ToDoList!$B:$B, $A495, ToDoList!$R:$R, C$2))","v":""},{"$f":"IF($A495 = \"\", \"\", COUNTIFS(ToDoList!$B:$B, $A495, ToDoList!$R:$R, D$2))","v":""},{"$f":"IF($A495 = \"\", \"\", COUNTIFS(ToDoList!$B:$B, $A495, ToDoList!$R:$R, E$2))","v":""},{"$f":"IF($A495 = \"\", \"\", COUNTIFS(ToDoList!$B:$B, $A495, ToDoList!$R:$R, F$2))","v":""},{"$f":"IF($A495 = \"\", \"\", COUNTIFS(ToDoList!$B:$B, $A495, ToDoList!$R:$R, G$2))","v":""},{"$f":"IF($A495 = \"\", \"\", COUNTIFS(ToDoList!$B:$B, $A495, ToDoList!$R:$R, H$2))","v":""},{"$f":"IF($A495 = \"\", \"\", COUNTIFS(ToDoList!$B:$B, $A495, ToDoList!$R:$R, I$2))","v":""},{"$f":"IF($A495 = \"\", \"\", COUNTIFS(ToDoList!$B:$B, $A495, ToDoList!$R:$R, J$2))","v":""}]
[null,{"$f":"IF($A496 = \"\", \"\", COUNTIFS(ToDoList!$B:$B, $A496, ToDoList!$R:$R, B$2))","v":""},{"$f":"IF($A496 = \"\", \"\", COUNTIFS(ToDoList!$B:$B, $A496, ToDoList!$R:$R, C$2))","v":""},{"$f":"IF($A496 = \"\", \"\", COUNTIFS(ToDoList!$B:$B, $A496, ToDoList!$R:$R, D$2))","v":""},{"$f":"IF($A496 = \"\", \"\", COUNTIFS(ToDoList!$B:$B, $A496, ToDoList!$R:$R, E$2))","v":""},{"$f":"IF($A496 = \"\", \"\", COUNTIFS(ToDoList!$B:$B, $A496, ToDoList!$R:$R, F$2))","v":""},{"$f":"IF($A496 = \"\", \"\", COUNTIFS(ToDoList!$B:$B, $A496, ToDoList!$R:$R, G$2))","v":""},{"$f":"IF($A496 = \"\", \"\", COUNTIFS(ToDoList!$B:$B, $A496, ToDoList!$R:$R, H$2))","v":""},{"$f":"IF($A496 = \"\", \"\", COUNTIFS(ToDoList!$B:$B, $A496, ToDoList!$R:$R, I$2))","v":""},{"$f":"IF($A496 = \"\", \"\", COUNTIFS(ToDoList!$B:$B, $A496, ToDoList!$R:$R, J$2))","v":""}]
[null,{"$f":"IF($A497 = \"\", \"\", COUNTIFS(ToDoList!$B:$B, $A497, ToDoList!$R:$R, B$2))","v":""},{"$f":"IF($A497 = \"\", \"\", COUNTIFS(ToDoList!$B:$B, $A497, ToDoList!$R:$R, C$2))","v":""},{"$f":"IF($A497 = \"\", \"\", COUNTIFS(ToDoList!$B:$B, $A497, ToDoList!$R:$R, D$2))","v":""},{"$f":"IF($A497 = \"\", \"\", COUNTIFS(ToDoList!$B:$B, $A497, ToDoList!$R:$R, E$2))","v":""},{"$f":"IF($A497 = \"\", \"\", COUNTIFS(ToDoList!$B:$B, $A497, ToDoList!$R:$R, F$2))","v":""},{"$f":"IF($A497 = \"\", \"\", COUNTIFS(ToDoList!$B:$B, $A497, ToDoList!$R:$R, G$2))","v":""},{"$f":"IF($A497 = \"\", \"\", COUNTIFS(ToDoList!$B:$B, $A497, ToDoList!$R:$R, H$2))","v":""},{"$f":"IF($A497 = \"\", \"\", COUNTIFS(ToDoList!$B:$B, $A497, ToDoList!$R:$R, I$2))","v":""},{"$f":"IF($A497 = \"\", \"\", COUNTIFS(ToDoList!$B:$B, $A497, ToDoList!$R:$R, J$2))","v":""}]
[null,{"$f":"IF($A498 = \"\", \"\", COUNTIFS(ToDoList!$B:$B, $A498, ToDoList!$R:$R, B$2))","v":""},{"$f":"IF($A498 = \"\", \"\", COUNTIFS(ToDoList!$B:$B, $A498, ToDoList!$R:$R, C$2))","v":""},{"$f":"IF($A498 = \"\", \"\", COUNTIFS(ToDoList!$B:$B, $A498, ToDoList!$R:$R, D$2))","v":""},{"$f":"IF($A498 = \"\", \"\", COUNTIFS(ToDoList!$B:$B, $A498, ToDoList!$R:$R, E$2))","v":""},{"$f":"IF($A498 = \"\", \"\", COUNTIFS(ToDoList!$B:$B, $A498, ToDoList!$R:$R, F$2))","v":""},{"$f":"IF($A498 = \"\", \"\", COUNTIFS(ToDoList!$B:$B, $A498, ToDoList!$R:$R, G$2))","v":""},{"$f":"IF($A498 = \"\", \"\", COUNTIFS(ToDoList!$B:$B, $A498, ToDoList!$R:$R, H$2))","v":""},{"$f":"IF($A498 = \"\", \"\", COUNTIFS(ToDoList!$B:$B, $A498, ToDoList!$R:$R, I$2))","v":""},{"$f":"IF($A498 = \"\", \"\", COUNTIFS(ToDoList!$B:$B, $A498, ToDoList!$R:$R, J$2))","v":""}]
[null,{"$f":"IF($A499 = \"\", \"\", COUNTIFS(ToDoList!$B:$B, $A499, ToDoList!$R:$R, B$2))","v":""},{"$f":"IF($A499 = \"\", \"\", COUNTIFS(ToDoList!$B:$B, $A499, ToDoList!$R:$R, C$2))","v":""},{"$f":"IF($A499 = \"\", \"\", COUNTIFS(ToDoList!$B:$B, $A499, ToDoList!$R:$R, D$2))","v":""},{"$f":"IF($A499 = \"\", \"\", COUNTIFS(ToDoList!$B:$B, $A499, ToDoList!$R:$R, E$2))","v":""},{"$f":"IF($A499 = \"\", \"\", COUNTIFS(ToDoList!$B:$B, $A499, ToDoList!$R:$R, F$2))","v":""},{"$f":"IF($A499 = \"\", \"\", COUNTIFS(ToDoList!$B:$B, $A499, ToDoList!$R:$R, G$2))","v":""},{"$f":"IF($A499 = \"\", \"\", COUNTIFS(ToDoList!$B:$B, $A499, ToDoList!$R:$R, H$2))","v":""},{"$f":"IF($A499 = \"\", \"\", COUNTIFS(ToDoList!$B:$B, $A499, ToDoList!$R:$R, I$2))","v":""},{"$f":"IF($A499 = \"\", \"\", COUNTIFS(ToDoList!$B:$B, $A499, ToDoList!$R:$R, J$2))","v":""}]
[null,{"$f":"IF($A500 = \"\", \"\", COUNTIFS(ToDoList!$B:$B, $A500, ToDoList!$R:$R, B$2))","v":""},{"$f":"IF($A500 = \"\", \"\", COUNTIFS(ToDoList!$B:$B, $A500, ToDoList!$R:$R, C$2))","v":""},{"$f":"IF($A500 = \"\", \"\", COUNTIFS(ToDoList!$B:$B, $A500, ToDoList!$R:$R, D$2))","v":""},{"$f":"IF($A500 = \"\", \"\", COUNTIFS(ToDoList!$B:$B, $A500, ToDoList!$R:$R, E$2))","v":""},{"$f":"IF($A500 = \"\", \"\", COUNTIFS(ToDoList!$B:$B, $A500, ToDoList!$R:$R, F$2))","v":""},{"$f":"IF($A500 = \"\", \"\", COUNTIFS(ToDoList!$B:$B, $A500, ToDoList!$R:$R, G$2))","v":""},{"$f":"IF($A500 = \"\", \"\", COUNTIFS(ToDoList!$B:$B, $A500, ToDoList!$R:$R, H$2))","v":""},{"$f":"IF($A500 = \"\", \"\", COUNTIFS(ToDoList!$B:$B, $A500, ToDoList!$R:$R, I$2))","v":""},{"$f":"IF($A500 = \"\", \"\", COUNTIFS(ToDoList!$B:$B, $A500, ToDoList!$R:$R, J$2))","v":""}]
[null,{"$f":"IF($A501 = \"\", \"\", COUNTIFS(ToDoList!$B:$B, $A501, ToDoList!$R:$R, B$2))","v":""},{"$f":"IF($A501 = \"\", \"\", COUNTIFS(ToDoList!$B:$B, $A501, ToDoList!$R:$R, C$2))","v":""},{"$f":"IF($A501 = \"\", \"\", COUNTIFS(ToDoList!$B:$B, $A501, ToDoList!$R:$R, D$2))","v":""},{"$f":"IF($A501 = \"\", \"\", COUNTIFS(ToDoList!$B:$B, $A501, ToDoList!$R:$R, E$2))","v":""},{"$f":"IF($A501 = \"\", \"\", COUNTIFS(ToDoList!$B:$B, $A501, ToDoList!$R:$R, F$2))","v":""},{"$f":"IF($A501 = \"\", \"\", COUNTIFS(ToDoList!$B:$B, $A501, ToDoList!$R:$R, G$2))","v":""},{"$f":"IF($A501 = \"\", \"\", COUNTIFS(ToDoList!$B:$B, $A501, ToDoList!$R:$R, H$2))","v":""},{"$f":"IF($A501 = \"\", \"\", COUNTIFS(ToDoList!$B:$B, $A501, ToDoList!$R:$R, I$2))","v":""},{"$f":"IF($A501 = \"\", \"\", COUNTIFS(ToDoList!$B:$B, $A501, ToDoList!$R:$R, J$2))","v":""}]
[null,{"$f":"IF($A502 = \"\", \"\", COUNTIFS(ToDoList!$B:$B, $A502, ToDoList!$R:$R, B$2))","v":""},{"$f":"IF($A502 = \"\", \"\", COUNTIFS(ToDoList!$B:$B, $A502, ToDoList!$R:$R, C$2))","v":""},{"$f":"IF($A502 = \"\", \"\", COUNTIFS(ToDoList!$B:$B, $A502, ToDoList!$R:$R, D$2))","v":""},{"$f":"IF($A502 = \"\", \"\", COUNTIFS(ToDoList!$B:$B, $A502, ToDoList!$R:$R, E$2))","v":""},{"$f":"IF($A502 = \"\", \"\", COUNTIFS(ToDoList!$B:$B, $A502, ToDoList!$R:$R, F$2))","v":""},{"$f":"IF($A502 = \"\", \"\", COUNTIFS(ToDoList!$B:$B, $A502, ToDoList!$R:$R, G$2))","v":""},{"$f":"IF($A502 = \"\", \"\", COUNTIFS(ToDoList!$B:$B, $A502, ToDoList!$R:$R, H$2))","v":""},{"$f":"IF($A502 = \"\", \"\", COUNTIFS(ToDoList!$B:$B, $A502, ToDoList!$R:$R, I$2))","v":""},{"$f":"IF($A502 = \"\", \"\", COUNTIFS(ToDoList!$B:$B, $A502, ToDoList!$R:$R, J$2))","v":""}]
[null,{"$f":"IF($A503 = \"\", \"\", COUNTIFS(ToDoList!$B:$B, $A503, ToDoList!$R:$R, B$2))","v":""},{"$f":"IF($A503 = \"\", \"\", COUNTIFS(ToDoList!$B:$B, $A503, ToDoList!$R:$R, C$2))","v":""},{"$f":"IF($A503 = \"\", \"\", COUNTIFS(ToDoList!$B:$B, $A503, ToDoList!$R:$R, D$2))","v":""},{"$f":"IF($A503 = \"\", \"\", COUNTIFS(ToDoList!$B:$B, $A503, ToDoList!$R:$R, E$2))","v":""},{"$f":"IF($A503 = \"\", \"\", COUNTIFS(ToDoList!$B:$B, $A503, ToDoList!$R:$R, F$2))","v":""},{"$f":"IF($A503 = \"\", \"\", COUNTIFS(ToDoList!$B:$B, $A503, ToDoList!$R:$R, G$2))","v":""},{"$f":"IF($A503 = \"\", \"\", COUNTIFS(ToDoList!$B:$B, $A503, ToDoList!$R:$R, H$2))","v":""},{"$f":"IF($A503 = \"\", \"\", COUNTIFS(ToDoList!$B:$B, $A503, ToDoList!$R:$R, I$2))","v":""},{"$f":"IF($A503 = \"\", \"\", COUNTIFS(ToDoList!$B:$B, $A503, ToDoList!$R:$R, J$2))","v":""}]
[null,{"$f":"IF($A504 = \"\", \"\", COUNTIFS(ToDoList!$B:$B, $A504, ToDoList!$R:$R, B$2))","v":""},{"$f":"IF($A504 = \"\", \"\", COUNTIFS(ToDoList!$B:$B, $A504, ToDoList!$R:$R, C$2))","v":""},{"$f":"IF($A504 = \"\", \"\", COUNTIFS(ToDoList!$B:$B, $A504, ToDoList!$R:$R, D$2))","v":""},{"$f":"IF($A504 = \"\", \"\", COUNTIFS(ToDoList!$B:$B, $A504, ToDoList!$R:$R, E$2))","v":""},{"$f":"IF($A504 = \"\", \"\", COUNTIFS(ToDoList!$B:$B, $A504, ToDoList!$R:$R, F$2))","v":""},{"$f":"IF($A504 = \"\", \"\", COUNTIFS(ToDoList!$B:$B, $A504, ToDoList!$R:$R, G$2))","v":""},{"$f":"IF($A504 = \"\", \"\", COUNTIFS(ToDoList!$B:$B, $A504, ToDoList!$R:$R, H$2))","v":""},{"$f":"IF($A504 = \"\", \"\", COUNTIFS(ToDoList!$B:$B, $A504, ToDoList!$R:$R, I$2))","v":""},{"$f":"IF($A504 = \"\", \"\", COUNTIFS(ToDoList!$B:$B, $A504, ToDoList!$R:$R, J$2))","v":""}]
[null,{"$f":"IF($A505 = \"\", \"\", COUNTIFS(ToDoList!$B:$B, $A505, ToDoList!$R:$R, B$2))","v":""},{"$f":"IF($A505 = \"\", \"\", COUNTIFS(ToDoList!$B:$B, $A505, ToDoList!$R:$R, C$2))","v":""},{"$f":"IF($A505 = \"\", \"\", COUNTIFS(ToDoList!$B:$B, $A505, ToDoList!$R:$R, D$2))","v":""},{"$f":"IF($A505 = \"\", \"\", COUNTIFS(ToDoList!$B:$B, $A505, ToDoList!$R:$R, E$2))","v":""},{"$f":"IF($A505 = \"\", \"\", COUNTIFS(ToDoList!$B:$B, $A505, ToDoList!$R:$R, F$2))","v":""},{"$f":"IF($A505 = \"\", \"\", COUNTIFS(ToDoList!$B:$B, $A505, ToDoList!$R:$R, G$2))","v":""},{"$f":"IF($A505 = \"\", \"\", COUNTIFS(ToDoList!$B:$B, $A505, ToDoList!$R:$R, H$2))","v":""},{"$f":"IF($A505 = \"\", \"\", COUNTIFS(ToDoList!$B:$B, $A505, ToDoList!$R:$R, I$2))","v":""},{"$f":"IF($A505 = \"\", \"\", COUNTIFS(ToDoList!$B:$B, $A505, ToDoList!$R:$R, J$2))","v":""}]
[null,{"$f":"IF($A506 = \"\", \"\", COUNTIFS(ToDoList!$B:$B, $A506, ToDoList!$R:$R, B$2))","v":""},{"$f":"IF($A506 = \"\", \"\", COUNTIFS(ToDoList!$B:$B, $A506, ToDoList!$R:$R, C$2))","v":""},{"$f":"IF($A506 = \"\", \"\", COUNTIFS(ToDoList!$B:$B, $A506, ToDoList!$R:$R, D$2))","v":""},{"$f":"IF($A506 = \"\", \"\", COUNTIFS(ToDoList!$B:$B, $A506, ToDoList!$R:$R, E$2))","v":""},{"$f":"IF($A506 = \"\", \"\", COUNTIFS(ToDoList!$B:$B, $A506, ToDoList!$R:$R, F$2))","v":""},{"$f":"IF($A506 = \"\", \"\", COUNTIFS(ToDoList!$B:$B, $A506, ToDoList!$R:$R, G$2))","v":""},{"$f":"IF($A506 = \"\", \"\", COUNTIFS(ToDoList!$B:$B, $A506, ToDoList!$R:$R, H$2))","v":""},{"$f":"IF($A506 = \"\", \"\", COUNTIFS(ToDoList!$B:$B, $A506, ToDoList!$R:$R, I$2))","v":""},{"$f":"IF($A506 = \"\", \"\", COUNTIFS(ToDoList!$B:$B, $A506, ToDoList!$R:$R, J$2))","v":""}]
[null,{"$f":"IF($A507 = \"\", \"\", COUNTIFS(ToDoList!$B:$B, $A507, ToDoList!$R:$R, B$2))","v":""},{"$f":"IF($A507 = \"\", \"\", COUNTIFS(ToDoList!$B:$B, $A507, ToDoList!$R:$R, C$2))","v":""},{"$f":"IF($A507 = \"\", \"\", COUNTIFS(ToDoList!$B:$B, $A507, ToDoList!$R:$R, D$2))","v":""},{"$f":"IF($A507 = \"\", \"\", COUNTIFS(ToDoList!$B:$B, $A507, ToDoList!$R:$R, E$2))","v":""},{"$f":"IF($A507 = \"\", \"\", COUNTIFS(ToDoList!$B:$B, $A507, ToDoList!$R:$R, F$2))","v":""},{"$f":"IF($A507 = \"\", \"\", COUNTIFS(ToDoList!$B:$B, $A507, ToDoList!$R:$R, G$2))","v":""},{"$f":"IF($A507 = \"\", \"\", COUNTIFS(ToDoList!$B:$B, $A507, ToDoList!$R:$R, H$2))","v":""},{"$f":"IF($A507 = \"\", \"\", COUNTIFS(ToDoList!$B:$B, $A507, ToDoList!$R:$R, I$2))","v":""},{"$f":"IF($A507 = \"\", \"\", COUNTIFS(ToDoList!$B:$B, $A507, ToDoList!$R:$R, J$2))","v":""}]
[null,{"$f":"IF($A508 = \"\", \"\", COUNTIFS(ToDoList!$B:$B, $A508, ToDoList!$R:$R, B$2))","v":""},{"$f":"IF($A508 = \"\", \"\", COUNTIFS(ToDoList!$B:$B, $A508, ToDoList!$R:$R, C$2))","v":""},{"$f":"IF($A508 = \"\", \"\", COUNTIFS(ToDoList!$B:$B, $A508, ToDoList!$R:$R, D$2))","v":""},{"$f":"IF($A508 = \"\", \"\", COUNTIFS(ToDoList!$B:$B, $A508, ToDoList!$R:$R, E$2))","v":""},{"$f":"IF($A508 = \"\", \"\", COUNTIFS(ToDoList!$B:$B, $A508, ToDoList!$R:$R, F$2))","v":""},{"$f":"IF($A508 = \"\", \"\", COUNTIFS(ToDoList!$B:$B, $A508, ToDoList!$R:$R, G$2))","v":""},{"$f":"IF($A508 = \"\", \"\", COUNTIFS(ToDoList!$B:$B, $A508, ToDoList!$R:$R, H$2))","v":""},{"$f":"IF($A508 = \"\", \"\", COUNTIFS(ToDoList!$B:$B, $A508, ToDoList!$R:$R, I$2))","v":""},{"$f":"IF($A508 = \"\", \"\", COUNTIFS(ToDoList!$B:$B, $A508, ToDoList!$R:$R, J$2))","v":""}]
[null,{"$f":"IF($A509 = \"\", \"\", COUNTIFS(ToDoList!$B:$B, $A509, ToDoList!$R:$R, B$2))","v":""},{"$f":"IF($A509 = \"\", \"\", COUNTIFS(ToDoList!$B:$B, $A509, ToDoList!$R:$R, C$2))","v":""},{"$f":"IF($A509 = \"\", \"\", COUNTIFS(ToDoList!$B:$B, $A509, ToDoList!$R:$R, D$2))","v":""},{"$f":"IF($A509 = \"\", \"\", COUNTIFS(ToDoList!$B:$B, $A509, ToDoList!$R:$R, E$2))","v":""},{"$f":"IF($A509 = \"\", \"\", COUNTIFS(ToDoList!$B:$B, $A509, ToDoList!$R:$R, F$2))","v":""},{"$f":"IF($A509 = \"\", \"\", COUNTIFS(ToDoList!$B:$B, $A509, ToDoList!$R:$R, G$2))","v":""},{"$f":"IF($A509 = \"\", \"\", COUNTIFS(ToDoList!$B:$B, $A509, ToDoList!$R:$R, H$2))","v":""},{"$f":"IF($A509 = \"\", \"\", COUNTIFS(ToDoList!$B:$B, $A509, ToDoList!$R:$R, I$2))","v":""},{"$f":"IF($A509 = \"\", \"\", COUNTIFS(ToDoList!$B:$B, $A509, ToDoList!$R:$R, J$2))","v":""}]
[null,{"$f":"IF($A510 = \"\", \"\", COUNTIFS(ToDoList!$B:$B, $A510, ToDoList!$R:$R, B$2))","v":""},{"$f":"IF($A510 = \"\", \"\", COUNTIFS(ToDoList!$B:$B, $A510, ToDoList!$R:$R, C$2))","v":""},{"$f":"IF($A510 = \"\", \"\", COUNTIFS(ToDoList!$B:$B, $A510, ToDoList!$R:$R, D$2))","v":""},{"$f":"IF($A510 = \"\", \"\", COUNTIFS(ToDoList!$B:$B, $A510, ToDoList!$R:$R, E$2))","v":""},{"$f":"IF($A510 = \"\", \"\", COUNTIFS(ToDoList!$B:$B, $A510, ToDoList!$R:$R, F$2))","v":""},{"$f":"IF($A510 = \"\", \"\", COUNTIFS(ToDoList!$B:$B, $A510, ToDoList!$R:$R, G$2))","v":""},{"$f":"IF($A510 = \"\", \"\", COUNTIFS(ToDoList!$B:$B, $A510, ToDoList!$R:$R, H$2))","v":""},{"$f":"IF($A510 = \"\", \"\", COUNTIFS(ToDoList!$B:$B, $A510, ToDoList!$R:$R, I$2))","v":""},{"$f":"IF($A510 = \"\", \"\", COUNTIFS(ToDoList!$B:$B, $A510, ToDoList!$R:$R, J$2))","v":""}]
[null,{"$f":"IF($A511 = \"\", \"\", COUNTIFS(ToDoList!$B:$B, $A511, ToDoList!$R:$R, B$2))","v":""},{"$f":"IF($A511 = \"\", \"\", COUNTIFS(ToDoList!$B:$B, $A511, ToDoList!$R:$R, C$2))","v":""},{"$f":"IF($A511 = \"\", \"\", COUNTIFS(ToDoList!$B:$B, $A511, ToDoList!$R:$R, D$2))","v":""},{"$f":"IF($A511 = \"\", \"\", COUNTIFS(ToDoList!$B:$B, $A511, ToDoList!$R:$R, E$2))","v":""},{"$f":"IF($A511 = \"\", \"\", COUNTIFS(ToDoList!$B:$B, $A511, ToDoList!$R:$R, F$2))","v":""},{"$f":"IF($A511 = \"\", \"\", COUNTIFS(ToDoList!$B:$B, $A511, ToDoList!$R:$R, G$2))","v":""},{"$f":"IF($A511 = \"\", \"\", COUNTIFS(ToDoList!$B:$B, $A511, ToDoList!$R:$R, H$2))","v":""},{"$f":"IF($A511 = \"\", \"\", COUNTIFS(ToDoList!$B:$B, $A511, ToDoList!$R:$R, I$2))","v":""},{"$f":"IF($A511 = \"\", \"\", COUNTIFS(ToDoList!$B:$B, $A511, ToDoList!$R:$R, J$2))","v":""}]
[null,{"$f":"IF($A512 = \"\", \"\", COUNTIFS(ToDoList!$B:$B, $A512, ToDoList!$R:$R, B$2))","v":""},{"$f":"IF($A512 = \"\", \"\", COUNTIFS(ToDoList!$B:$B, $A512, ToDoList!$R:$R, C$2))","v":""},{"$f":"IF($A512 = \"\", \"\", COUNTIFS(ToDoList!$B:$B, $A512, ToDoList!$R:$R, D$2))","v":""},{"$f":"IF($A512 = \"\", \"\", COUNTIFS(ToDoList!$B:$B, $A512, ToDoList!$R:$R, E$2))","v":""},{"$f":"IF($A512 = \"\", \"\", COUNTIFS(ToDoList!$B:$B, $A512, ToDoList!$R:$R, F$2))","v":""},{"$f":"IF($A512 = \"\", \"\", COUNTIFS(ToDoList!$B:$B, $A512, ToDoList!$R:$R, G$2))","v":""},{"$f":"IF($A512 = \"\", \"\", COUNTIFS(ToDoList!$B:$B, $A512, ToDoList!$R:$R, H$2))","v":""},{"$f":"IF($A512 = \"\", \"\", COUNTIFS(ToDoList!$B:$B, $A512, ToDoList!$R:$R, I$2))","v":""},{"$f":"IF($A512 = \"\", \"\", COUNTIFS(ToDoList!$B:$B, $A512, ToDoList!$R:$R, J$2))","v":""}]
[null,{"$f":"IF($A513 = \"\", \"\", COUNTIFS(ToDoList!$B:$B, $A513, ToDoList!$R:$R, B$2))","v":""},{"$f":"IF($A513 = \"\", \"\", COUNTIFS(ToDoList!$B:$B, $A513, ToDoList!$R:$R, C$2))","v":""},{"$f":"IF($A513 = \"\", \"\", COUNTIFS(ToDoList!$B:$B, $A513, ToDoList!$R:$R, D$2))","v":""},{"$f":"IF($A513 = \"\", \"\", COUNTIFS(ToDoList!$B:$B, $A513, ToDoList!$R:$R, E$2))","v":""},{"$f":"IF($A513 = \"\", \"\", COUNTIFS(ToDoList!$B:$B, $A513, ToDoList!$R:$R, F$2))","v":""},{"$f":"IF($A513 = \"\", \"\", COUNTIFS(ToDoList!$B:$B, $A513, ToDoList!$R:$R, G$2))","v":""},{"$f":"IF($A513 = \"\", \"\", COUNTIFS(ToDoList!$B:$B, $A513, ToDoList!$R:$R, H$2))","v":""},{"$f":"IF($A513 = \"\", \"\", COUNTIFS(ToDoList!$B:$B, $A513, ToDoList!$R:$R, I$2))","v":""},{"$f":"IF($A513 = \"\", \"\", COUNTIFS(ToDoList!$B:$B, $A513, ToDoList!$R:$R, J$2))","v":""}]
[null,{"$f":"IF($A514 = \"\", \"\", COUNTIFS(ToDoList!$B:$B, $A514, ToDoList!$R:$R, B$2))","v":""},{"$f":"IF($A514 = \"\", \"\", COUNTIFS(ToDoList!$B:$B, $A514, ToDoList!$R:$R, C$2))","v":""},{"$f":"IF($A514 = \"\", \"\", COUNTIFS(ToDoList!$B:$B, $A514, ToDoList!$R:$R, D$2))","v":""},{"$f":"IF($A514 = \"\", \"\", COUNTIFS(ToDoList!$B:$B, $A514, ToDoList!$R:$R, E$2))","v":""},{"$f":"IF($A514 = \"\", \"\", COUNTIFS(ToDoList!$B:$B, $A514, ToDoList!$R:$R, F$2))","v":""},{"$f":"IF($A514 = \"\", \"\", COUNTIFS(ToDoList!$B:$B, $A514, ToDoList!$R:$R, G$2))","v":""},{"$f":"IF($A514 = \"\", \"\", COUNTIFS(ToDoList!$B:$B, $A514, ToDoList!$R:$R, H$2))","v":""},{"$f":"IF($A514 = \"\", \"\", COUNTIFS(ToDoList!$B:$B, $A514, ToDoList!$R:$R, I$2))","v":""},{"$f":"IF($A514 = \"\", \"\", COUNTIFS(ToDoList!$B:$B, $A514, ToDoList!$R:$R, J$2))","v":""}]
[null,{"$f":"IF($A515 = \"\", \"\", COUNTIFS(ToDoList!$B:$B, $A515, ToDoList!$R:$R, B$2))","v":""},{"$f":"IF($A515 = \"\", \"\", COUNTIFS(ToDoList!$B:$B, $A515, ToDoList!$R:$R, C$2))","v":""},{"$f":"IF($A515 = \"\", \"\", COUNTIFS(ToDoList!$B:$B, $A515, ToDoList!$R:$R, D$2))","v":""},{"$f":"IF($A515 = \"\", \"\", COUNTIFS(ToDoList!$B:$B, $A515, ToDoList!$R:$R, E$2))","v":""},{"$f":"IF($A515 = \"\", \"\", COUNTIFS(ToDoList!$B:$B, $A515, ToDoList!$R:$R, F$2))","v":""},{"$f":"IF($A515 = \"\", \"\", COUNTIFS(ToDoList!$B:$B, $A515, ToDoList!$R:$R, G$2))","v":""},{"$f":"IF($A515 = \"\", \"\", COUNTIFS(ToDoList!$B:$B, $A515, ToDoList!$R:$R, H$2))","v":""},{"$f":"IF($A515 = \"\", \"\", COUNTIFS(ToDoList!$B:$B, $A515, ToDoList!$R:$R, I$2))","v":""},{"$f":"IF($A515 = \"\", \"\", COUNTIFS(ToDoList!$B:$B, $A515, ToDoList!$R:$R, J$2))","v":""}]
[null,{"$f":"IF($A516 = \"\", \"\", COUNTIFS(ToDoList!$B:$B, $A516, ToDoList!$R:$R, B$2))","v":""},{"$f":"IF($A516 = \"\", \"\", COUNTIFS(ToDoList!$B:$B, $A516, ToDoList!$R:$R, C$2))","v":""},{"$f":"IF($A516 = \"\", \"\", COUNTIFS(ToDoList!$B:$B, $A516, ToDoList!$R:$R, D$2))","v":""},{"$f":"IF($A516 = \"\", \"\", COUNTIFS(ToDoList!$B:$B, $A516, ToDoList!$R:$R, E$2))","v":""},{"$f":"IF($A516 = \"\", \"\", COUNTIFS(ToDoList!$B:$B, $A516, ToDoList!$R:$R, F$2))","v":""},{"$f":"IF($A516 = \"\", \"\", COUNTIFS(ToDoList!$B:$B, $A516, ToDoList!$R:$R, G$2))","v":""},{"$f":"IF($A516 = \"\", \"\", COUNTIFS(ToDoList!$B:$B, $A516, ToDoList!$R:$R, H$2))","v":""},{"$f":"IF($A516 = \"\", \"\", COUNTIFS(ToDoList!$B:$B, $A516, ToDoList!$R:$R, I$2))","v":""},{"$f":"IF($A516 = \"\", \"\", COUNTIFS(ToDoList!$B:$B, $A516, ToDoList!$R:$R, J$2))","v":""}]
[null,{"$f":"IF($A517 = \"\", \"\", COUNTIFS(ToDoList!$B:$B, $A517, ToDoList!$R:$R, B$2))","v":""},{"$f":"IF($A517 = \"\", \"\", COUNTIFS(ToDoList!$B:$B, $A517, ToDoList!$R:$R, C$2))","v":""},{"$f":"IF($A517 = \"\", \"\", COUNTIFS(ToDoList!$B:$B, $A517, ToDoList!$R:$R, D$2))","v":""},{"$f":"IF($A517 = \"\", \"\", COUNTIFS(ToDoList!$B:$B, $A517, ToDoList!$R:$R, E$2))","v":""},{"$f":"IF($A517 = \"\", \"\", COUNTIFS(ToDoList!$B:$B, $A517, ToDoList!$R:$R, F$2))","v":""},{"$f":"IF($A517 = \"\", \"\", COUNTIFS(ToDoList!$B:$B, $A517, ToDoList!$R:$R, G$2))","v":""},{"$f":"IF($A517 = \"\", \"\", COUNTIFS(ToDoList!$B:$B, $A517, ToDoList!$R:$R, H$2))","v":""},{"$f":"IF($A517 = \"\", \"\", COUNTIFS(ToDoList!$B:$B, $A517, ToDoList!$R:$R, I$2))","v":""},{"$f":"IF($A517 = \"\", \"\", COUNTIFS(ToDoList!$B:$B, $A517, ToDoList!$R:$R, J$2))","v":""}]
[null,{"$f":"IF($A518 = \"\", \"\", COUNTIFS(ToDoList!$B:$B, $A518, ToDoList!$R:$R, B$2))","v":""},{"$f":"IF($A518 = \"\", \"\", COUNTIFS(ToDoList!$B:$B, $A518, ToDoList!$R:$R, C$2))","v":""},{"$f":"IF($A518 = \"\", \"\", COUNTIFS(ToDoList!$B:$B, $A518, ToDoList!$R:$R, D$2))","v":""},{"$f":"IF($A518 = \"\", \"\", COUNTIFS(ToDoList!$B:$B, $A518, ToDoList!$R:$R, E$2))","v":""},{"$f":"IF($A518 = \"\", \"\", COUNTIFS(ToDoList!$B:$B, $A518, ToDoList!$R:$R, F$2))","v":""},{"$f":"IF($A518 = \"\", \"\", COUNTIFS(ToDoList!$B:$B, $A518, ToDoList!$R:$R, G$2))","v":""},{"$f":"IF($A518 = \"\", \"\", COUNTIFS(ToDoList!$B:$B, $A518, ToDoList!$R:$R, H$2))","v":""},{"$f":"IF($A518 = \"\", \"\", COUNTIFS(ToDoList!$B:$B, $A518, ToDoList!$R:$R, I$2))","v":""},{"$f":"IF($A518 = \"\", \"\", COUNTIFS(ToDoList!$B:$B, $A518, ToDoList!$R:$R, J$2))","v":""}]
[null,{"$f":"IF($A519 = \"\", \"\", COUNTIFS(ToDoList!$B:$B, $A519, ToDoList!$R:$R, B$2))","v":""},{"$f":"IF($A519 = \"\", \"\", COUNTIFS(ToDoList!$B:$B, $A519, ToDoList!$R:$R, C$2))","v":""},{"$f":"IF($A519 = \"\", \"\", COUNTIFS(ToDoList!$B:$B, $A519, ToDoList!$R:$R, D$2))","v":""},{"$f":"IF($A519 = \"\", \"\", COUNTIFS(ToDoList!$B:$B, $A519, ToDoList!$R:$R, E$2))","v":""},{"$f":"IF($A519 = \"\", \"\", COUNTIFS(ToDoList!$B:$B, $A519, ToDoList!$R:$R, F$2))","v":""},{"$f":"IF($A519 = \"\", \"\", COUNTIFS(ToDoList!$B:$B, $A519, ToDoList!$R:$R, G$2))","v":""},{"$f":"IF($A519 = \"\", \"\", COUNTIFS(ToDoList!$B:$B, $A519, ToDoList!$R:$R, H$2))","v":""},{"$f":"IF($A519 = \"\", \"\", COUNTIFS(ToDoList!$B:$B, $A519, ToDoList!$R:$R, I$2))","v":""},{"$f":"IF($A519 = \"\", \"\", COUNTIFS(ToDoList!$B:$B, $A519, ToDoList!$R:$R, J$2))","v":""}]
[null,{"$f":"IF($A520 = \"\", \"\", COUNTIFS(ToDoList!$B:$B, $A520, ToDoList!$R:$R, B$2))","v":""},{"$f":"IF($A520 = \"\", \"\", COUNTIFS(ToDoList!$B:$B, $A520, ToDoList!$R:$R, C$2))","v":""},{"$f":"IF($A520 = \"\", \"\", COUNTIFS(ToDoList!$B:$B, $A520, ToDoList!$R:$R, D$2))","v":""},{"$f":"IF($A520 = \"\", \"\", COUNTIFS(ToDoList!$B:$B, $A520, ToDoList!$R:$R, E$2))","v":""},{"$f":"IF($A520 = \"\", \"\", COUNTIFS(ToDoList!$B:$B, $A520, ToDoList!$R:$R, F$2))","v":""},{"$f":"IF($A520 = \"\", \"\", COUNTIFS(ToDoList!$B:$B, $A520, ToDoList!$R:$R, G$2))","v":""},{"$f":"IF($A520 = \"\", \"\", COUNTIFS(ToDoList!$B:$B, $A520, ToDoList!$R:$R, H$2))","v":""},{"$f":"IF($A520 = \"\", \"\", COUNTIFS(ToDoList!$B:$B, $A520, ToDoList!$R:$R, I$2))","v":""},{"$f":"IF($A520 = \"\", \"\", COUNTIFS(ToDoList!$B:$B, $A520, ToDoList!$R:$R, J$2))","v":""}]
[null,{"$f":"IF($A521 = \"\", \"\", COUNTIFS(ToDoList!$B:$B, $A521, ToDoList!$R:$R, B$2))","v":""},{"$f":"IF($A521 = \"\", \"\", COUNTIFS(ToDoList!$B:$B, $A521, ToDoList!$R:$R, C$2))","v":""},{"$f":"IF($A521 = \"\", \"\", COUNTIFS(ToDoList!$B:$B, $A521, ToDoList!$R:$R, D$2))","v":""},{"$f":"IF($A521 = \"\", \"\", COUNTIFS(ToDoList!$B:$B, $A521, ToDoList!$R:$R, E$2))","v":""},{"$f":"IF($A521 = \"\", \"\", COUNTIFS(ToDoList!$B:$B, $A521, ToDoList!$R:$R, F$2))","v":""},{"$f":"IF($A521 = \"\", \"\", COUNTIFS(ToDoList!$B:$B, $A521, ToDoList!$R:$R, G$2))","v":""},{"$f":"IF($A521 = \"\", \"\", COUNTIFS(ToDoList!$B:$B, $A521, ToDoList!$R:$R, H$2))","v":""},{"$f":"IF($A521 = \"\", \"\", COUNTIFS(ToDoList!$B:$B, $A521, ToDoList!$R:$R, I$2))","v":""},{"$f":"IF($A521 = \"\", \"\", COUNTIFS(ToDoList!$B:$B, $A521, ToDoList!$R:$R, J$2))","v":""}]
[null,{"$f":"IF($A522 = \"\", \"\", COUNTIFS(ToDoList!$B:$B, $A522, ToDoList!$R:$R, B$2))","v":""},{"$f":"IF($A522 = \"\", \"\", COUNTIFS(ToDoList!$B:$B, $A522, ToDoList!$R:$R, C$2))","v":""},{"$f":"IF($A522 = \"\", \"\", COUNTIFS(ToDoList!$B:$B, $A522, ToDoList!$R:$R, D$2))","v":""},{"$f":"IF($A522 = \"\", \"\", COUNTIFS(ToDoList!$B:$B, $A522, ToDoList!$R:$R, E$2))","v":""},{"$f":"IF($A522 = \"\", \"\", COUNTIFS(ToDoList!$B:$B, $A522, ToDoList!$R:$R, F$2))","v":""},{"$f":"IF($A522 = \"\", \"\", COUNTIFS(ToDoList!$B:$B, $A522, ToDoList!$R:$R, G$2))","v":""},{"$f":"IF($A522 = \"\", \"\", COUNTIFS(ToDoList!$B:$B, $A522, ToDoList!$R:$R, H$2))","v":""},{"$f":"IF($A522 = \"\", \"\", COUNTIFS(ToDoList!$B:$B, $A522, ToDoList!$R:$R, I$2))","v":""},{"$f":"IF($A522 = \"\", \"\", COUNTIFS(ToDoList!$B:$B, $A522, ToDoList!$R:$R, J$2))","v":""}]
[null,{"$f":"IF($A523 = \"\", \"\", COUNTIFS(ToDoList!$B:$B, $A523, ToDoList!$R:$R, B$2))","v":""},{"$f":"IF($A523 = \"\", \"\", COUNTIFS(ToDoList!$B:$B, $A523, ToDoList!$R:$R, C$2))","v":""},{"$f":"IF($A523 = \"\", \"\", COUNTIFS(ToDoList!$B:$B, $A523, ToDoList!$R:$R, D$2))","v":""},{"$f":"IF($A523 = \"\", \"\", COUNTIFS(ToDoList!$B:$B, $A523, ToDoList!$R:$R, E$2))","v":""},{"$f":"IF($A523 = \"\", \"\", COUNTIFS(ToDoList!$B:$B, $A523, ToDoList!$R:$R, F$2))","v":""},{"$f":"IF($A523 = \"\", \"\", COUNTIFS(ToDoList!$B:$B, $A523, ToDoList!$R:$R, G$2))","v":""},{"$f":"IF($A523 = \"\", \"\", COUNTIFS(ToDoList!$B:$B, $A523, ToDoList!$R:$R, H$2))","v":""},{"$f":"IF($A523 = \"\", \"\", COUNTIFS(ToDoList!$B:$B, $A523, ToDoList!$R:$R, I$2))","v":""},{"$f":"IF($A523 = \"\", \"\", COUNTIFS(ToDoList!$B:$B, $A523, ToDoList!$R:$R, J$2))","v":""}]
[null,{"$f":"IF($A524 = \"\", \"\", COUNTIFS(ToDoList!$B:$B, $A524, ToDoList!$R:$R, B$2))","v":""},{"$f":"IF($A524 = \"\", \"\", COUNTIFS(ToDoList!$B:$B, $A524, ToDoList!$R:$R, C$2))","v":""},{"$f":"IF($A524 = \"\", \"\", COUNTIFS(ToDoList!$B:$B, $A524, ToDoList!$R:$R, D$2))","v":""},{"$f":"IF($A524 = \"\", \"\", COUNTIFS(ToDoList!$B:$B, $A524, ToDoList!$R:$R, E$2))","v":""},{"$f":"IF($A524 = \"\", \"\", COUNTIFS(ToDoList!$B:$B, $A524, ToDoList!$R:$R, F$2))","v":""},{"$f":"IF($A524 = \"\", \"\", COUNTIFS(ToDoList!$B:$B, $A524, ToDoList!$R:$R, G$2))","v":""},{"$f":"IF($A524 = \"\", \"\", COUNTIFS(ToDoList!$B:$B, $A524, ToDoList!$R:$R, H$2))","v":""},{"$f":"IF($A524 = \"\", \"\", COUNTIFS(ToDoList!$B:$B, $A524, ToDoList!$R:$R, I$2))","v":""},{"$f":"IF($A524 = \"\", \"\", COUNTIFS(ToDoList!$B:$B, $A524, ToDoList!$R:$R, J$2))","v":""}]
[null,{"$f":"IF($A525 = \"\", \"\", COUNTIFS(ToDoList!$B:$B, $A525, ToDoList!$R:$R, B$2))","v":""},{"$f":"IF($A525 = \"\", \"\", COUNTIFS(ToDoList!$B:$B, $A525, ToDoList!$R:$R, C$2))","v":""},{"$f":"IF($A525 = \"\", \"\", COUNTIFS(ToDoList!$B:$B, $A525, ToDoList!$R:$R, D$2))","v":""},{"$f":"IF($A525 = \"\", \"\", COUNTIFS(ToDoList!$B:$B, $A525, ToDoList!$R:$R, E$2))","v":""},{"$f":"IF($A525 = \"\", \"\", COUNTIFS(ToDoList!$B:$B, $A525, ToDoList!$R:$R, F$2))","v":""},{"$f":"IF($A525 = \"\", \"\", COUNTIFS(ToDoList!$B:$B, $A525, ToDoList!$R:$R, G$2))","v":""},{"$f":"IF($A525 = \"\", \"\", COUNTIFS(ToDoList!$B:$B, $A525, ToDoList!$R:$R, H$2))","v":""},{"$f":"IF($A525 = \"\", \"\", COUNTIFS(ToDoList!$B:$B, $A525, ToDoList!$R:$R, I$2))","v":""},{"$f":"IF($A525 = \"\", \"\", COUNTIFS(ToDoList!$B:$B, $A525, ToDoList!$R:$R, J$2))","v":""}]
[null,{"$f":"IF($A526 = \"\", \"\", COUNTIFS(ToDoList!$B:$B, $A526, ToDoList!$R:$R, B$2))","v":""},{"$f":"IF($A526 = \"\", \"\", COUNTIFS(ToDoList!$B:$B, $A526, ToDoList!$R:$R, C$2))","v":""},{"$f":"IF($A526 = \"\", \"\", COUNTIFS(ToDoList!$B:$B, $A526, ToDoList!$R:$R, D$2))","v":""},{"$f":"IF($A526 = \"\", \"\", COUNTIFS(ToDoList!$B:$B, $A526, ToDoList!$R:$R, E$2))","v":""},{"$f":"IF($A526 = \"\", \"\", COUNTIFS(ToDoList!$B:$B, $A526, ToDoList!$R:$R, F$2))","v":""},{"$f":"IF($A526 = \"\", \"\", COUNTIFS(ToDoList!$B:$B, $A526, ToDoList!$R:$R, G$2))","v":""},{"$f":"IF($A526 = \"\", \"\", COUNTIFS(ToDoList!$B:$B, $A526, ToDoList!$R:$R, H$2))","v":""},{"$f":"IF($A526 = \"\", \"\", COUNTIFS(ToDoList!$B:$B, $A526, ToDoList!$R:$R, I$2))","v":""},{"$f":"IF($A526 = \"\", \"\", COUNTIFS(ToDoList!$B:$B, $A526, ToDoList!$R:$R, J$2))","v":""}]
[null,{"$f":"IF($A527 = \"\", \"\", COUNTIFS(ToDoList!$B:$B, $A527, ToDoList!$R:$R, B$2))","v":""},{"$f":"IF($A527 = \"\", \"\", COUNTIFS(ToDoList!$B:$B, $A527, ToDoList!$R:$R, C$2))","v":""},{"$f":"IF($A527 = \"\", \"\", COUNTIFS(ToDoList!$B:$B, $A527, ToDoList!$R:$R, D$2))","v":""},{"$f":"IF($A527 = \"\", \"\", COUNTIFS(ToDoList!$B:$B, $A527, ToDoList!$R:$R, E$2))","v":""},{"$f":"IF($A527 = \"\", \"\", COUNTIFS(ToDoList!$B:$B, $A527, ToDoList!$R:$R, F$2))","v":""},{"$f":"IF($A527 = \"\", \"\", COUNTIFS(ToDoList!$B:$B, $A527, ToDoList!$R:$R, G$2))","v":""},{"$f":"IF($A527 = \"\", \"\", COUNTIFS(ToDoList!$B:$B, $A527, ToDoList!$R:$R, H$2))","v":""},{"$f":"IF($A527 = \"\", \"\", COUNTIFS(ToDoList!$B:$B, $A527, ToDoList!$R:$R, I$2))","v":""},{"$f":"IF($A527 = \"\", \"\", COUNTIFS(ToDoList!$B:$B, $A527, ToDoList!$R:$R, J$2))","v":""}]
[null,{"$f":"IF($A528 = \"\", \"\", COUNTIFS(ToDoList!$B:$B, $A528, ToDoList!$R:$R, B$2))","v":""},{"$f":"IF($A528 = \"\", \"\", COUNTIFS(ToDoList!$B:$B, $A528, ToDoList!$R:$R, C$2))","v":""},{"$f":"IF($A528 = \"\", \"\", COUNTIFS(ToDoList!$B:$B, $A528, ToDoList!$R:$R, D$2))","v":""},{"$f":"IF($A528 = \"\", \"\", COUNTIFS(ToDoList!$B:$B, $A528, ToDoList!$R:$R, E$2))","v":""},{"$f":"IF($A528 = \"\", \"\", COUNTIFS(ToDoList!$B:$B, $A528, ToDoList!$R:$R, F$2))","v":""},{"$f":"IF($A528 = \"\", \"\", COUNTIFS(ToDoList!$B:$B, $A528, ToDoList!$R:$R, G$2))","v":""},{"$f":"IF($A528 = \"\", \"\", COUNTIFS(ToDoList!$B:$B, $A528, ToDoList!$R:$R, H$2))","v":""},{"$f":"IF($A528 = \"\", \"\", COUNTIFS(ToDoList!$B:$B, $A528, ToDoList!$R:$R, I$2))","v":""},{"$f":"IF($A528 = \"\", \"\", COUNTIFS(ToDoList!$B:$B, $A528, ToDoList!$R:$R, J$2))","v":""}]
[null,{"$f":"IF($A529 = \"\", \"\", COUNTIFS(ToDoList!$B:$B, $A529, ToDoList!$R:$R, B$2))","v":""},{"$f":"IF($A529 = \"\", \"\", COUNTIFS(ToDoList!$B:$B, $A529, ToDoList!$R:$R, C$2))","v":""},{"$f":"IF($A529 = \"\", \"\", COUNTIFS(ToDoList!$B:$B, $A529, ToDoList!$R:$R, D$2))","v":""},{"$f":"IF($A529 = \"\", \"\", COUNTIFS(ToDoList!$B:$B, $A529, ToDoList!$R:$R, E$2))","v":""},{"$f":"IF($A529 = \"\", \"\", COUNTIFS(ToDoList!$B:$B, $A529, ToDoList!$R:$R, F$2))","v":""},{"$f":"IF($A529 = \"\", \"\", COUNTIFS(ToDoList!$B:$B, $A529, ToDoList!$R:$R, G$2))","v":""},{"$f":"IF($A529 = \"\", \"\", COUNTIFS(ToDoList!$B:$B, $A529, ToDoList!$R:$R, H$2))","v":""},{"$f":"IF($A529 = \"\", \"\", COUNTIFS(ToDoList!$B:$B, $A529, ToDoList!$R:$R, I$2))","v":""},{"$f":"IF($A529 = \"\", \"\", COUNTIFS(ToDoList!$B:$B, $A529, ToDoList!$R:$R, J$2))","v":""}]
[null,{"$f":"IF($A530 = \"\", \"\", COUNTIFS(ToDoList!$B:$B, $A530, ToDoList!$R:$R, B$2))","v":""},{"$f":"IF($A530 = \"\", \"\", COUNTIFS(ToDoList!$B:$B, $A530, ToDoList!$R:$R, C$2))","v":""},{"$f":"IF($A530 = \"\", \"\", COUNTIFS(ToDoList!$B:$B, $A530, ToDoList!$R:$R, D$2))","v":""},{"$f":"IF($A530 = \"\", \"\", COUNTIFS(ToDoList!$B:$B, $A530, ToDoList!$R:$R, E$2))","v":""},{"$f":"IF($A530 = \"\", \"\", COUNTIFS(ToDoList!$B:$B, $A530, ToDoList!$R:$R, F$2))","v":""},{"$f":"IF($A530 = \"\", \"\", COUNTIFS(ToDoList!$B:$B, $A530, ToDoList!$R:$R, G$2))","v":""},{"$f":"IF($A530 = \"\", \"\", COUNTIFS(ToDoList!$B:$B, $A530, ToDoList!$R:$R, H$2))","v":""},{"$f":"IF($A530 = \"\", \"\", COUNTIFS(ToDoList!$B:$B, $A530, ToDoList!$R:$R, I$2))","v":""},{"$f":"IF($A530 = \"\", \"\", COUNTIFS(ToDoList!$B:$B, $A530, ToDoList!$R:$R, J$2))","v":""}]
[null,{"$f":"IF($A531 = \"\", \"\", COUNTIFS(ToDoList!$B:$B, $A531, ToDoList!$R:$R, B$2))","v":""},{"$f":"IF($A531 = \"\", \"\", COUNTIFS(ToDoList!$B:$B, $A531, ToDoList!$R:$R, C$2))","v":""},{"$f":"IF($A531 = \"\", \"\", COUNTIFS(ToDoList!$B:$B, $A531, ToDoList!$R:$R, D$2))","v":""},{"$f":"IF($A531 = \"\", \"\", COUNTIFS(ToDoList!$B:$B, $A531, ToDoList!$R:$R, E$2))","v":""},{"$f":"IF($A531 = \"\", \"\", COUNTIFS(ToDoList!$B:$B, $A531, ToDoList!$R:$R, F$2))","v":""},{"$f":"IF($A531 = \"\", \"\", COUNTIFS(ToDoList!$B:$B, $A531, ToDoList!$R:$R, G$2))","v":""},{"$f":"IF($A531 = \"\", \"\", COUNTIFS(ToDoList!$B:$B, $A531, ToDoList!$R:$R, H$2))","v":""},{"$f":"IF($A531 = \"\", \"\", COUNTIFS(ToDoList!$B:$B, $A531, ToDoList!$R:$R, I$2))","v":""},{"$f":"IF($A531 = \"\", \"\", COUNTIFS(ToDoList!$B:$B, $A531, ToDoList!$R:$R, J$2))","v":""}]
[null,{"$f":"IF($A532 = \"\", \"\", COUNTIFS(ToDoList!$B:$B, $A532, ToDoList!$R:$R, B$2))","v":""},{"$f":"IF($A532 = \"\", \"\", COUNTIFS(ToDoList!$B:$B, $A532, ToDoList!$R:$R, C$2))","v":""},{"$f":"IF($A532 = \"\", \"\", COUNTIFS(ToDoList!$B:$B, $A532, ToDoList!$R:$R, D$2))","v":""},{"$f":"IF($A532 = \"\", \"\", COUNTIFS(ToDoList!$B:$B, $A532, ToDoList!$R:$R, E$2))","v":""},{"$f":"IF($A532 = \"\", \"\", COUNTIFS(ToDoList!$B:$B, $A532, ToDoList!$R:$R, F$2))","v":""},{"$f":"IF($A532 = \"\", \"\", COUNTIFS(ToDoList!$B:$B, $A532, ToDoList!$R:$R, G$2))","v":""},{"$f":"IF($A532 = \"\", \"\", COUNTIFS(ToDoList!$B:$B, $A532, ToDoList!$R:$R, H$2))","v":""},{"$f":"IF($A532 = \"\", \"\", COUNTIFS(ToDoList!$B:$B, $A532, ToDoList!$R:$R, I$2))","v":""},{"$f":"IF($A532 = \"\", \"\", COUNTIFS(ToDoList!$B:$B, $A532, ToDoList!$R:$R, J$2))","v":""}]
[null,{"$f":"IF($A533 = \"\", \"\", COUNTIFS(ToDoList!$B:$B, $A533, ToDoList!$R:$R, B$2))","v":""},{"$f":"IF($A533 = \"\", \"\", COUNTIFS(ToDoList!$B:$B, $A533, ToDoList!$R:$R, C$2))","v":""},{"$f":"IF($A533 = \"\", \"\", COUNTIFS(ToDoList!$B:$B, $A533, ToDoList!$R:$R, D$2))","v":""},{"$f":"IF($A533 = \"\", \"\", COUNTIFS(ToDoList!$B:$B, $A533, ToDoList!$R:$R, E$2))","v":""},{"$f":"IF($A533 = \"\", \"\", COUNTIFS(ToDoList!$B:$B, $A533, ToDoList!$R:$R, F$2))","v":""},{"$f":"IF($A533 = \"\", \"\", COUNTIFS(ToDoList!$B:$B, $A533, ToDoList!$R:$R, G$2))","v":""},{"$f":"IF($A533 = \"\", \"\", COUNTIFS(ToDoList!$B:$B, $A533, ToDoList!$R:$R, H$2))","v":""},{"$f":"IF($A533 = \"\", \"\", COUNTIFS(ToDoList!$B:$B, $A533, ToDoList!$R:$R, I$2))","v":""},{"$f":"IF($A533 = \"\", \"\", COUNTIFS(ToDoList!$B:$B, $A533, ToDoList!$R:$R, J$2))","v":""}]
[null,{"$f":"IF($A534 = \"\", \"\", COUNTIFS(ToDoList!$B:$B, $A534, ToDoList!$R:$R, B$2))","v":""},{"$f":"IF($A534 = \"\", \"\", COUNTIFS(ToDoList!$B:$B, $A534, ToDoList!$R:$R, C$2))","v":""},{"$f":"IF($A534 = \"\", \"\", COUNTIFS(ToDoList!$B:$B, $A534, ToDoList!$R:$R, D$2))","v":""},{"$f":"IF($A534 = \"\", \"\", COUNTIFS(ToDoList!$B:$B, $A534, ToDoList!$R:$R, E$2))","v":""},{"$f":"IF($A534 = \"\", \"\", COUNTIFS(ToDoList!$B:$B, $A534, ToDoList!$R:$R, F$2))","v":""},{"$f":"IF($A534 = \"\", \"\", COUNTIFS(ToDoList!$B:$B, $A534, ToDoList!$R:$R, G$2))","v":""},{"$f":"IF($A534 = \"\", \"\", COUNTIFS(ToDoList!$B:$B, $A534, ToDoList!$R:$R, H$2))","v":""},{"$f":"IF($A534 = \"\", \"\", COUNTIFS(ToDoList!$B:$B, $A534, ToDoList!$R:$R, I$2))","v":""},{"$f":"IF($A534 = \"\", \"\", COUNTIFS(ToDoList!$B:$B, $A534, ToDoList!$R:$R, J$2))","v":""}]
[null,{"$f":"IF($A535 = \"\", \"\", COUNTIFS(ToDoList!$B:$B, $A535, ToDoList!$R:$R, B$2))","v":""},{"$f":"IF($A535 = \"\", \"\", COUNTIFS(ToDoList!$B:$B, $A535, ToDoList!$R:$R, C$2))","v":""},{"$f":"IF($A535 = \"\", \"\", COUNTIFS(ToDoList!$B:$B, $A535, ToDoList!$R:$R, D$2))","v":""},{"$f":"IF($A535 = \"\", \"\", COUNTIFS(ToDoList!$B:$B, $A535, ToDoList!$R:$R, E$2))","v":""},{"$f":"IF($A535 = \"\", \"\", COUNTIFS(ToDoList!$B:$B, $A535, ToDoList!$R:$R, F$2))","v":""},{"$f":"IF($A535 = \"\", \"\", COUNTIFS(ToDoList!$B:$B, $A535, ToDoList!$R:$R, G$2))","v":""},{"$f":"IF($A535 = \"\", \"\", COUNTIFS(ToDoList!$B:$B, $A535, ToDoList!$R:$R, H$2))","v":""},{"$f":"IF($A535 = \"\", \"\", COUNTIFS(ToDoList!$B:$B, $A535, ToDoList!$R:$R, I$2))","v":""},{"$f":"IF($A535 = \"\", \"\", COUNTIFS(ToDoList!$B:$B, $A535, ToDoList!$R:$R, J$2))","v":""}]
[null,{"$f":"IF($A536 = \"\", \"\", COUNTIFS(ToDoList!$B:$B, $A536, ToDoList!$R:$R, B$2))","v":""},{"$f":"IF($A536 = \"\", \"\", COUNTIFS(ToDoList!$B:$B, $A536, ToDoList!$R:$R, C$2))","v":""},{"$f":"IF($A536 = \"\", \"\", COUNTIFS(ToDoList!$B:$B, $A536, ToDoList!$R:$R, D$2))","v":""},{"$f":"IF($A536 = \"\", \"\", COUNTIFS(ToDoList!$B:$B, $A536, ToDoList!$R:$R, E$2))","v":""},{"$f":"IF($A536 = \"\", \"\", COUNTIFS(ToDoList!$B:$B, $A536, ToDoList!$R:$R, F$2))","v":""},{"$f":"IF($A536 = \"\", \"\", COUNTIFS(ToDoList!$B:$B, $A536, ToDoList!$R:$R, G$2))","v":""},{"$f":"IF($A536 = \"\", \"\", COUNTIFS(ToDoList!$B:$B, $A536, ToDoList!$R:$R, H$2))","v":""},{"$f":"IF($A536 = \"\", \"\", COUNTIFS(ToDoList!$B:$B, $A536, ToDoList!$R:$R, I$2))","v":""},{"$f":"IF($A536 = \"\", \"\", COUNTIFS(ToDoList!$B:$B, $A536, ToDoList!$R:$R, J$2))","v":""}]
[null,{"$f":"IF($A537 = \"\", \"\", COUNTIFS(ToDoList!$B:$B, $A537, ToDoList!$R:$R, B$2))","v":""},{"$f":"IF($A537 = \"\", \"\", COUNTIFS(ToDoList!$B:$B, $A537, ToDoList!$R:$R, C$2))","v":""},{"$f":"IF($A537 = \"\", \"\", COUNTIFS(ToDoList!$B:$B, $A537, ToDoList!$R:$R, D$2))","v":""},{"$f":"IF($A537 = \"\", \"\", COUNTIFS(ToDoList!$B:$B, $A537, ToDoList!$R:$R, E$2))","v":""},{"$f":"IF($A537 = \"\", \"\", COUNTIFS(ToDoList!$B:$B, $A537, ToDoList!$R:$R, F$2))","v":""},{"$f":"IF($A537 = \"\", \"\", COUNTIFS(ToDoList!$B:$B, $A537, ToDoList!$R:$R, G$2))","v":""},{"$f":"IF($A537 = \"\", \"\", COUNTIFS(ToDoList!$B:$B, $A537, ToDoList!$R:$R, H$2))","v":""},{"$f":"IF($A537 = \"\", \"\", COUNTIFS(ToDoList!$B:$B, $A537, ToDoList!$R:$R, I$2))","v":""},{"$f":"IF($A537 = \"\", \"\", COUNTIFS(ToDoList!$B:$B, $A537, ToDoList!$R:$R, J$2))","v":""}]
[null,{"$f":"IF($A538 = \"\", \"\", COUNTIFS(ToDoList!$B:$B, $A538, ToDoList!$R:$R, B$2))","v":""},{"$f":"IF($A538 = \"\", \"\", COUNTIFS(ToDoList!$B:$B, $A538, ToDoList!$R:$R, C$2))","v":""},{"$f":"IF($A538 = \"\", \"\", COUNTIFS(ToDoList!$B:$B, $A538, ToDoList!$R:$R, D$2))","v":""},{"$f":"IF($A538 = \"\", \"\", COUNTIFS(ToDoList!$B:$B, $A538, ToDoList!$R:$R, E$2))","v":""},{"$f":"IF($A538 = \"\", \"\", COUNTIFS(ToDoList!$B:$B, $A538, ToDoList!$R:$R, F$2))","v":""},{"$f":"IF($A538 = \"\", \"\", COUNTIFS(ToDoList!$B:$B, $A538, ToDoList!$R:$R, G$2))","v":""},{"$f":"IF($A538 = \"\", \"\", COUNTIFS(ToDoList!$B:$B, $A538, ToDoList!$R:$R, H$2))","v":""},{"$f":"IF($A538 = \"\", \"\", COUNTIFS(ToDoList!$B:$B, $A538, ToDoList!$R:$R, I$2))","v":""},{"$f":"IF($A538 = \"\", \"\", COUNTIFS(ToDoList!$B:$B, $A538, ToDoList!$R:$R, J$2))","v":""}]
[null,{"$f":"IF($A539 = \"\", \"\", COUNTIFS(ToDoList!$B:$B, $A539, ToDoList!$R:$R, B$2))","v":""},{"$f":"IF($A539 = \"\", \"\", COUNTIFS(ToDoList!$B:$B, $A539, ToDoList!$R:$R, C$2))","v":""},{"$f":"IF($A539 = \"\", \"\", COUNTIFS(ToDoList!$B:$B, $A539, ToDoList!$R:$R, D$2))","v":""},{"$f":"IF($A539 = \"\", \"\", COUNTIFS(ToDoList!$B:$B, $A539, ToDoList!$R:$R, E$2))","v":""},{"$f":"IF($A539 = \"\", \"\", COUNTIFS(ToDoList!$B:$B, $A539, ToDoList!$R:$R, F$2))","v":""},{"$f":"IF($A539 = \"\", \"\", COUNTIFS(ToDoList!$B:$B, $A539, ToDoList!$R:$R, G$2))","v":""},{"$f":"IF($A539 = \"\", \"\", COUNTIFS(ToDoList!$B:$B, $A539, ToDoList!$R:$R, H$2))","v":""},{"$f":"IF($A539 = \"\", \"\", COUNTIFS(ToDoList!$B:$B, $A539, ToDoList!$R:$R, I$2))","v":""},{"$f":"IF($A539 = \"\", \"\", COUNTIFS(ToDoList!$B:$B, $A539, ToDoList!$R:$R, J$2))","v":""}]
[null,{"$f":"IF($A540 = \"\", \"\", COUNTIFS(ToDoList!$B:$B, $A540, ToDoList!$R:$R, B$2))","v":""},{"$f":"IF($A540 = \"\", \"\", COUNTIFS(ToDoList!$B:$B, $A540, ToDoList!$R:$R, C$2))","v":""},{"$f":"IF($A540 = \"\", \"\", COUNTIFS(ToDoList!$B:$B, $A540, ToDoList!$R:$R, D$2))","v":""},{"$f":"IF($A540 = \"\", \"\", COUNTIFS(ToDoList!$B:$B, $A540, ToDoList!$R:$R, E$2))","v":""},{"$f":"IF($A540 = \"\", \"\", COUNTIFS(ToDoList!$B:$B, $A540, ToDoList!$R:$R, F$2))","v":""},{"$f":"IF($A540 = \"\", \"\", COUNTIFS(ToDoList!$B:$B, $A540, ToDoList!$R:$R, G$2))","v":""},{"$f":"IF($A540 = \"\", \"\", COUNTIFS(ToDoList!$B:$B, $A540, ToDoList!$R:$R, H$2))","v":""},{"$f":"IF($A540 = \"\", \"\", COUNTIFS(ToDoList!$B:$B, $A540, ToDoList!$R:$R, I$2))","v":""},{"$f":"IF($A540 = \"\", \"\", COUNTIFS(ToDoList!$B:$B, $A540, ToDoList!$R:$R, J$2))","v":""}]
[null,{"$f":"IF($A541 = \"\", \"\", COUNTIFS(ToDoList!$B:$B, $A541, ToDoList!$R:$R, B$2))","v":""},{"$f":"IF($A541 = \"\", \"\", COUNTIFS(ToDoList!$B:$B, $A541, ToDoList!$R:$R, C$2))","v":""},{"$f":"IF($A541 = \"\", \"\", COUNTIFS(ToDoList!$B:$B, $A541, ToDoList!$R:$R, D$2))","v":""},{"$f":"IF($A541 = \"\", \"\", COUNTIFS(ToDoList!$B:$B, $A541, ToDoList!$R:$R, E$2))","v":""},{"$f":"IF($A541 = \"\", \"\", COUNTIFS(ToDoList!$B:$B, $A541, ToDoList!$R:$R, F$2))","v":""},{"$f":"IF($A541 = \"\", \"\", COUNTIFS(ToDoList!$B:$B, $A541, ToDoList!$R:$R, G$2))","v":""},{"$f":"IF($A541 = \"\", \"\", COUNTIFS(ToDoList!$B:$B, $A541, ToDoList!$R:$R, H$2))","v":""},{"$f":"IF($A541 = \"\", \"\", COUNTIFS(ToDoList!$B:$B, $A541, ToDoList!$R:$R, I$2))","v":""},{"$f":"IF($A541 = \"\", \"\", COUNTIFS(ToDoList!$B:$B, $A541, ToDoList!$R:$R, J$2))","v":""}]
[null,{"$f":"IF($A542 = \"\", \"\", COUNTIFS(ToDoList!$B:$B, $A542, ToDoList!$R:$R, B$2))","v":""},{"$f":"IF($A542 = \"\", \"\", COUNTIFS(ToDoList!$B:$B, $A542, ToDoList!$R:$R, C$2))","v":""},{"$f":"IF($A542 = \"\", \"\", COUNTIFS(ToDoList!$B:$B, $A542, ToDoList!$R:$R, D$2))","v":""},{"$f":"IF($A542 = \"\", \"\", COUNTIFS(ToDoList!$B:$B, $A542, ToDoList!$R:$R, E$2))","v":""},{"$f":"IF($A542 = \"\", \"\", COUNTIFS(ToDoList!$B:$B, $A542, ToDoList!$R:$R, F$2))","v":""},{"$f":"IF($A542 = \"\", \"\", COUNTIFS(ToDoList!$B:$B, $A542, ToDoList!$R:$R, G$2))","v":""},{"$f":"IF($A542 = \"\", \"\", COUNTIFS(ToDoList!$B:$B, $A542, ToDoList!$R:$R, H$2))","v":""},{"$f":"IF($A542 = \"\", \"\", COUNTIFS(ToDoList!$B:$B, $A542, ToDoList!$R:$R, I$2))","v":""},{"$f":"IF($A542 = \"\", \"\", COUNTIFS(ToDoList!$B:$B, $A542, ToDoList!$R:$R, J$2))","v":""}]
[null,{"$f":"IF($A543 = \"\", \"\", COUNTIFS(ToDoList!$B:$B, $A543, ToDoList!$R:$R, B$2))","v":""},{"$f":"IF($A543 = \"\", \"\", COUNTIFS(ToDoList!$B:$B, $A543, ToDoList!$R:$R, C$2))","v":""},{"$f":"IF($A543 = \"\", \"\", COUNTIFS(ToDoList!$B:$B, $A543, ToDoList!$R:$R, D$2))","v":""},{"$f":"IF($A543 = \"\", \"\", COUNTIFS(ToDoList!$B:$B, $A543, ToDoList!$R:$R, E$2))","v":""},{"$f":"IF($A543 = \"\", \"\", COUNTIFS(ToDoList!$B:$B, $A543, ToDoList!$R:$R, F$2))","v":""},{"$f":"IF($A543 = \"\", \"\", COUNTIFS(ToDoList!$B:$B, $A543, ToDoList!$R:$R, G$2))","v":""},{"$f":"IF($A543 = \"\", \"\", COUNTIFS(ToDoList!$B:$B, $A543, ToDoList!$R:$R, H$2))","v":""},{"$f":"IF($A543 = \"\", \"\", COUNTIFS(ToDoList!$B:$B, $A543, ToDoList!$R:$R, I$2))","v":""},{"$f":"IF($A543 = \"\", \"\", COUNTIFS(ToDoList!$B:$B, $A543, ToDoList!$R:$R, J$2))","v":""}]
[null,{"$f":"IF($A544 = \"\", \"\", COUNTIFS(ToDoList!$B:$B, $A544, ToDoList!$R:$R, B$2))","v":""},{"$f":"IF($A544 = \"\", \"\", COUNTIFS(ToDoList!$B:$B, $A544, ToDoList!$R:$R, C$2))","v":""},{"$f":"IF($A544 = \"\", \"\", COUNTIFS(ToDoList!$B:$B, $A544, ToDoList!$R:$R, D$2))","v":""},{"$f":"IF($A544 = \"\", \"\", COUNTIFS(ToDoList!$B:$B, $A544, ToDoList!$R:$R, E$2))","v":""},{"$f":"IF($A544 = \"\", \"\", COUNTIFS(ToDoList!$B:$B, $A544, ToDoList!$R:$R, F$2))","v":""},{"$f":"IF($A544 = \"\", \"\", COUNTIFS(ToDoList!$B:$B, $A544, ToDoList!$R:$R, G$2))","v":""},{"$f":"IF($A544 = \"\", \"\", COUNTIFS(ToDoList!$B:$B, $A544, ToDoList!$R:$R, H$2))","v":""},{"$f":"IF($A544 = \"\", \"\", COUNTIFS(ToDoList!$B:$B, $A544, ToDoList!$R:$R, I$2))","v":""},{"$f":"IF($A544 = \"\", \"\", COUNTIFS(ToDoList!$B:$B, $A544, ToDoList!$R:$R, J$2))","v":""}]
[null,{"$f":"IF($A545 = \"\", \"\", COUNTIFS(ToDoList!$B:$B, $A545, ToDoList!$R:$R, B$2))","v":""},{"$f":"IF($A545 = \"\", \"\", COUNTIFS(ToDoList!$B:$B, $A545, ToDoList!$R:$R, C$2))","v":""},{"$f":"IF($A545 = \"\", \"\", COUNTIFS(ToDoList!$B:$B, $A545, ToDoList!$R:$R, D$2))","v":""},{"$f":"IF($A545 = \"\", \"\", COUNTIFS(ToDoList!$B:$B, $A545, ToDoList!$R:$R, E$2))","v":""},{"$f":"IF($A545 = \"\", \"\", COUNTIFS(ToDoList!$B:$B, $A545, ToDoList!$R:$R, F$2))","v":""},{"$f":"IF($A545 = \"\", \"\", COUNTIFS(ToDoList!$B:$B, $A545, ToDoList!$R:$R, G$2))","v":""},{"$f":"IF($A545 = \"\", \"\", COUNTIFS(ToDoList!$B:$B, $A545, ToDoList!$R:$R, H$2))","v":""},{"$f":"IF($A545 = \"\", \"\", COUNTIFS(ToDoList!$B:$B, $A545, ToDoList!$R:$R, I$2))","v":""},{"$f":"IF($A545 = \"\", \"\", COUNTIFS(ToDoList!$B:$B, $A545, ToDoList!$R:$R, J$2))","v":""}]
[null,{"$f":"IF($A546 = \"\", \"\", COUNTIFS(ToDoList!$B:$B, $A546, ToDoList!$R:$R, B$2))","v":""},{"$f":"IF($A546 = \"\", \"\", COUNTIFS(ToDoList!$B:$B, $A546, ToDoList!$R:$R, C$2))","v":""},{"$f":"IF($A546 = \"\", \"\", COUNTIFS(ToDoList!$B:$B, $A546, ToDoList!$R:$R, D$2))","v":""},{"$f":"IF($A546 = \"\", \"\", COUNTIFS(ToDoList!$B:$B, $A546, ToDoList!$R:$R, E$2))","v":""},{"$f":"IF($A546 = \"\", \"\", COUNTIFS(ToDoList!$B:$B, $A546, ToDoList!$R:$R, F$2))","v":""},{"$f":"IF($A546 = \"\", \"\", COUNTIFS(ToDoList!$B:$B, $A546, ToDoList!$R:$R, G$2))","v":""},{"$f":"IF($A546 = \"\", \"\", COUNTIFS(ToDoList!$B:$B, $A546, ToDoList!$R:$R, H$2))","v":""},{"$f":"IF($A546 = \"\", \"\", COUNTIFS(ToDoList!$B:$B, $A546, ToDoList!$R:$R, I$2))","v":""},{"$f":"IF($A546 = \"\", \"\", COUNTIFS(ToDoList!$B:$B, $A546, ToDoList!$R:$R, J$2))","v":""}]
[null,{"$f":"IF($A547 = \"\", \"\", COUNTIFS(ToDoList!$B:$B, $A547, ToDoList!$R:$R, B$2))","v":""},{"$f":"IF($A547 = \"\", \"\", COUNTIFS(ToDoList!$B:$B, $A547, ToDoList!$R:$R, C$2))","v":""},{"$f":"IF($A547 = \"\", \"\", COUNTIFS(ToDoList!$B:$B, $A547, ToDoList!$R:$R, D$2))","v":""},{"$f":"IF($A547 = \"\", \"\", COUNTIFS(ToDoList!$B:$B, $A547, ToDoList!$R:$R, E$2))","v":""},{"$f":"IF($A547 = \"\", \"\", COUNTIFS(ToDoList!$B:$B, $A547, ToDoList!$R:$R, F$2))","v":""},{"$f":"IF($A547 = \"\", \"\", COUNTIFS(ToDoList!$B:$B, $A547, ToDoList!$R:$R, G$2))","v":""},{"$f":"IF($A547 = \"\", \"\", COUNTIFS(ToDoList!$B:$B, $A547, ToDoList!$R:$R, H$2))","v":""},{"$f":"IF($A547 = \"\", \"\", COUNTIFS(ToDoList!$B:$B, $A547, ToDoList!$R:$R, I$2))","v":""},{"$f":"IF($A547 = \"\", \"\", COUNTIFS(ToDoList!$B:$B, $A547, ToDoList!$R:$R, J$2))","v":""}]
[null,{"$f":"IF($A548 = \"\", \"\", COUNTIFS(ToDoList!$B:$B, $A548, ToDoList!$R:$R, B$2))","v":""},{"$f":"IF($A548 = \"\", \"\", COUNTIFS(ToDoList!$B:$B, $A548, ToDoList!$R:$R, C$2))","v":""},{"$f":"IF($A548 = \"\", \"\", COUNTIFS(ToDoList!$B:$B, $A548, ToDoList!$R:$R, D$2))","v":""},{"$f":"IF($A548 = \"\", \"\", COUNTIFS(ToDoList!$B:$B, $A548, ToDoList!$R:$R, E$2))","v":""},{"$f":"IF($A548 = \"\", \"\", COUNTIFS(ToDoList!$B:$B, $A548, ToDoList!$R:$R, F$2))","v":""},{"$f":"IF($A548 = \"\", \"\", COUNTIFS(ToDoList!$B:$B, $A548, ToDoList!$R:$R, G$2))","v":""},{"$f":"IF($A548 = \"\", \"\", COUNTIFS(ToDoList!$B:$B, $A548, ToDoList!$R:$R, H$2))","v":""},{"$f":"IF($A548 = \"\", \"\", COUNTIFS(ToDoList!$B:$B, $A548, ToDoList!$R:$R, I$2))","v":""},{"$f":"IF($A548 = \"\", \"\", COUNTIFS(ToDoList!$B:$B, $A548, ToDoList!$R:$R, J$2))","v":""}]
[null,{"$f":"IF($A549 = \"\", \"\", COUNTIFS(ToDoList!$B:$B, $A549, ToDoList!$R:$R, B$2))","v":""},{"$f":"IF($A549 = \"\", \"\", COUNTIFS(ToDoList!$B:$B, $A549, ToDoList!$R:$R, C$2))","v":""},{"$f":"IF($A549 = \"\", \"\", COUNTIFS(ToDoList!$B:$B, $A549, ToDoList!$R:$R, D$2))","v":""},{"$f":"IF($A549 = \"\", \"\", COUNTIFS(ToDoList!$B:$B, $A549, ToDoList!$R:$R, E$2))","v":""},{"$f":"IF($A549 = \"\", \"\", COUNTIFS(ToDoList!$B:$B, $A549, ToDoList!$R:$R, F$2))","v":""},{"$f":"IF($A549 = \"\", \"\", COUNTIFS(ToDoList!$B:$B, $A549, ToDoList!$R:$R, G$2))","v":""},{"$f":"IF($A549 = \"\", \"\", COUNTIFS(ToDoList!$B:$B, $A549, ToDoList!$R:$R, H$2))","v":""},{"$f":"IF($A549 = \"\", \"\", COUNTIFS(ToDoList!$B:$B, $A549, ToDoList!$R:$R, I$2))","v":""},{"$f":"IF($A549 = \"\", \"\", COUNTIFS(ToDoList!$B:$B, $A549, ToDoList!$R:$R, J$2))","v":""}]
[null,{"$f":"IF($A550 = \"\", \"\", COUNTIFS(ToDoList!$B:$B, $A550, ToDoList!$R:$R, B$2))","v":""},{"$f":"IF($A550 = \"\", \"\", COUNTIFS(ToDoList!$B:$B, $A550, ToDoList!$R:$R, C$2))","v":""},{"$f":"IF($A550 = \"\", \"\", COUNTIFS(ToDoList!$B:$B, $A550, ToDoList!$R:$R, D$2))","v":""},{"$f":"IF($A550 = \"\", \"\", COUNTIFS(ToDoList!$B:$B, $A550, ToDoList!$R:$R, E$2))","v":""},{"$f":"IF($A550 = \"\", \"\", COUNTIFS(ToDoList!$B:$B, $A550, ToDoList!$R:$R, F$2))","v":""},{"$f":"IF($A550 = \"\", \"\", COUNTIFS(ToDoList!$B:$B, $A550, ToDoList!$R:$R, G$2))","v":""},{"$f":"IF($A550 = \"\", \"\", COUNTIFS(ToDoList!$B:$B, $A550, ToDoList!$R:$R, H$2))","v":""},{"$f":"IF($A550 = \"\", \"\", COUNTIFS(ToDoList!$B:$B, $A550, ToDoList!$R:$R, I$2))","v":""},{"$f":"IF($A550 = \"\", \"\", COUNTIFS(ToDoList!$B:$B, $A550, ToDoList!$R:$R, J$2))","v":""}]
[null,{"$f":"IF($A551 = \"\", \"\", COUNTIFS(ToDoList!$B:$B, $A551, ToDoList!$R:$R, B$2))","v":""},{"$f":"IF($A551 = \"\", \"\", COUNTIFS(ToDoList!$B:$B, $A551, ToDoList!$R:$R, C$2))","v":""},{"$f":"IF($A551 = \"\", \"\", COUNTIFS(ToDoList!$B:$B, $A551, ToDoList!$R:$R, D$2))","v":""},{"$f":"IF($A551 = \"\", \"\", COUNTIFS(ToDoList!$B:$B, $A551, ToDoList!$R:$R, E$2))","v":""},{"$f":"IF($A551 = \"\", \"\", COUNTIFS(ToDoList!$B:$B, $A551, ToDoList!$R:$R, F$2))","v":""},{"$f":"IF($A551 = \"\", \"\", COUNTIFS(ToDoList!$B:$B, $A551, ToDoList!$R:$R, G$2))","v":""},{"$f":"IF($A551 = \"\", \"\", COUNTIFS(ToDoList!$B:$B, $A551, ToDoList!$R:$R, H$2))","v":""},{"$f":"IF($A551 = \"\", \"\", COUNTIFS(ToDoList!$B:$B, $A551, ToDoList!$R:$R, I$2))","v":""},{"$f":"IF($A551 = \"\", \"\", COUNTIFS(ToDoList!$B:$B, $A551, ToDoList!$R:$R, J$2))","v":""}]
[null,{"$f":"IF($A552 = \"\", \"\", COUNTIFS(ToDoList!$B:$B, $A552, ToDoList!$R:$R, B$2))","v":""},{"$f":"IF($A552 = \"\", \"\", COUNTIFS(ToDoList!$B:$B, $A552, ToDoList!$R:$R, C$2))","v":""},{"$f":"IF($A552 = \"\", \"\", COUNTIFS(ToDoList!$B:$B, $A552, ToDoList!$R:$R, D$2))","v":""},{"$f":"IF($A552 = \"\", \"\", COUNTIFS(ToDoList!$B:$B, $A552, ToDoList!$R:$R, E$2))","v":""},{"$f":"IF($A552 = \"\", \"\", COUNTIFS(ToDoList!$B:$B, $A552, ToDoList!$R:$R, F$2))","v":""},{"$f":"IF($A552 = \"\", \"\", COUNTIFS(ToDoList!$B:$B, $A552, ToDoList!$R:$R, G$2))","v":""},{"$f":"IF($A552 = \"\", \"\", COUNTIFS(ToDoList!$B:$B, $A552, ToDoList!$R:$R, H$2))","v":""},{"$f":"IF($A552 = \"\", \"\", COUNTIFS(ToDoList!$B:$B, $A552, ToDoList!$R:$R, I$2))","v":""},{"$f":"IF($A552 = \"\", \"\", COUNTIFS(ToDoList!$B:$B, $A552, ToDoList!$R:$R, J$2))","v":""}]
[null,{"$f":"IF($A553 = \"\", \"\", COUNTIFS(ToDoList!$B:$B, $A553, ToDoList!$R:$R, B$2))","v":""},{"$f":"IF($A553 = \"\", \"\", COUNTIFS(ToDoList!$B:$B, $A553, ToDoList!$R:$R, C$2))","v":""},{"$f":"IF($A553 = \"\", \"\", COUNTIFS(ToDoList!$B:$B, $A553, ToDoList!$R:$R, D$2))","v":""},{"$f":"IF($A553 = \"\", \"\", COUNTIFS(ToDoList!$B:$B, $A553, ToDoList!$R:$R, E$2))","v":""},{"$f":"IF($A553 = \"\", \"\", COUNTIFS(ToDoList!$B:$B, $A553, ToDoList!$R:$R, F$2))","v":""},{"$f":"IF($A553 = \"\", \"\", COUNTIFS(ToDoList!$B:$B, $A553, ToDoList!$R:$R, G$2))","v":""},{"$f":"IF($A553 = \"\", \"\", COUNTIFS(ToDoList!$B:$B, $A553, ToDoList!$R:$R, H$2))","v":""},{"$f":"IF($A553 = \"\", \"\", COUNTIFS(ToDoList!$B:$B, $A553, ToDoList!$R:$R, I$2))","v":""},{"$f":"IF($A553 = \"\", \"\", COUNTIFS(ToDoList!$B:$B, $A553, ToDoList!$R:$R, J$2))","v":""}]
[null,{"$f":"IF($A554 = \"\", \"\", COUNTIFS(ToDoList!$B:$B, $A554, ToDoList!$R:$R, B$2))","v":""},{"$f":"IF($A554 = \"\", \"\", COUNTIFS(ToDoList!$B:$B, $A554, ToDoList!$R:$R, C$2))","v":""},{"$f":"IF($A554 = \"\", \"\", COUNTIFS(ToDoList!$B:$B, $A554, ToDoList!$R:$R, D$2))","v":""},{"$f":"IF($A554 = \"\", \"\", COUNTIFS(ToDoList!$B:$B, $A554, ToDoList!$R:$R, E$2))","v":""},{"$f":"IF($A554 = \"\", \"\", COUNTIFS(ToDoList!$B:$B, $A554, ToDoList!$R:$R, F$2))","v":""},{"$f":"IF($A554 = \"\", \"\", COUNTIFS(ToDoList!$B:$B, $A554, ToDoList!$R:$R, G$2))","v":""},{"$f":"IF($A554 = \"\", \"\", COUNTIFS(ToDoList!$B:$B, $A554, ToDoList!$R:$R, H$2))","v":""},{"$f":"IF($A554 = \"\", \"\", COUNTIFS(ToDoList!$B:$B, $A554, ToDoList!$R:$R, I$2))","v":""},{"$f":"IF($A554 = \"\", \"\", COUNTIFS(ToDoList!$B:$B, $A554, ToDoList!$R:$R, J$2))","v":""}]
[null,{"$f":"IF($A555 = \"\", \"\", COUNTIFS(ToDoList!$B:$B, $A555, ToDoList!$R:$R, B$2))","v":""},{"$f":"IF($A555 = \"\", \"\", COUNTIFS(ToDoList!$B:$B, $A555, ToDoList!$R:$R, C$2))","v":""},{"$f":"IF($A555 = \"\", \"\", COUNTIFS(ToDoList!$B:$B, $A555, ToDoList!$R:$R, D$2))","v":""},{"$f":"IF($A555 = \"\", \"\", COUNTIFS(ToDoList!$B:$B, $A555, ToDoList!$R:$R, E$2))","v":""},{"$f":"IF($A555 = \"\", \"\", COUNTIFS(ToDoList!$B:$B, $A555, ToDoList!$R:$R, F$2))","v":""},{"$f":"IF($A555 = \"\", \"\", COUNTIFS(ToDoList!$B:$B, $A555, ToDoList!$R:$R, G$2))","v":""},{"$f":"IF($A555 = \"\", \"\", COUNTIFS(ToDoList!$B:$B, $A555, ToDoList!$R:$R, H$2))","v":""},{"$f":"IF($A555 = \"\", \"\", COUNTIFS(ToDoList!$B:$B, $A555, ToDoList!$R:$R, I$2))","v":""},{"$f":"IF($A555 = \"\", \"\", COUNTIFS(ToDoList!$B:$B, $A555, ToDoList!$R:$R, J$2))","v":""}]
[null,{"$f":"IF($A556 = \"\", \"\", COUNTIFS(ToDoList!$B:$B, $A556, ToDoList!$R:$R, B$2))","v":""},{"$f":"IF($A556 = \"\", \"\", COUNTIFS(ToDoList!$B:$B, $A556, ToDoList!$R:$R, C$2))","v":""},{"$f":"IF($A556 = \"\", \"\", COUNTIFS(ToDoList!$B:$B, $A556, ToDoList!$R:$R, D$2))","v":""},{"$f":"IF($A556 = \"\", \"\", COUNTIFS(ToDoList!$B:$B, $A556, ToDoList!$R:$R, E$2))","v":""},{"$f":"IF($A556 = \"\", \"\", COUNTIFS(ToDoList!$B:$B, $A556, ToDoList!$R:$R, F$2))","v":""},{"$f":"IF($A556 = \"\", \"\", COUNTIFS(ToDoList!$B:$B, $A556, ToDoList!$R:$R, G$2))","v":""},{"$f":"IF($A556 = \"\", \"\", COUNTIFS(ToDoList!$B:$B, $A556, ToDoList!$R:$R, H$2))","v":""},{"$f":"IF($A556 = \"\", \"\", COUNTIFS(ToDoList!$B:$B, $A556, ToDoList!$R:$R, I$2))","v":""},{"$f":"IF($A556 = \"\", \"\", COUNTIFS(ToDoList!$B:$B, $A556, ToDoList!$R:$R, J$2))","v":""}]
[null,{"$f":"IF($A557 = \"\", \"\", COUNTIFS(ToDoList!$B:$B, $A557, ToDoList!$R:$R, B$2))","v":""},{"$f":"IF($A557 = \"\", \"\", COUNTIFS(ToDoList!$B:$B, $A557, ToDoList!$R:$R, C$2))","v":""},{"$f":"IF($A557 = \"\", \"\", COUNTIFS(ToDoList!$B:$B, $A557, ToDoList!$R:$R, D$2))","v":""},{"$f":"IF($A557 = \"\", \"\", COUNTIFS(ToDoList!$B:$B, $A557, ToDoList!$R:$R, E$2))","v":""},{"$f":"IF($A557 = \"\", \"\", COUNTIFS(ToDoList!$B:$B, $A557, ToDoList!$R:$R, F$2))","v":""},{"$f":"IF($A557 = \"\", \"\", COUNTIFS(ToDoList!$B:$B, $A557, ToDoList!$R:$R, G$2))","v":""},{"$f":"IF($A557 = \"\", \"\", COUNTIFS(ToDoList!$B:$B, $A557, ToDoList!$R:$R, H$2))","v":""},{"$f":"IF($A557 = \"\", \"\", COUNTIFS(ToDoList!$B:$B, $A557, ToDoList!$R:$R, I$2))","v":""},{"$f":"IF($A557 = \"\", \"\", COUNTIFS(ToDoList!$B:$B, $A557, ToDoList!$R:$R, J$2))","v":""}]
[null,{"$f":"IF($A558 = \"\", \"\", COUNTIFS(ToDoList!$B:$B, $A558, ToDoList!$R:$R, B$2))","v":""},{"$f":"IF($A558 = \"\", \"\", COUNTIFS(ToDoList!$B:$B, $A558, ToDoList!$R:$R, C$2))","v":""},{"$f":"IF($A558 = \"\", \"\", COUNTIFS(ToDoList!$B:$B, $A558, ToDoList!$R:$R, D$2))","v":""},{"$f":"IF($A558 = \"\", \"\", COUNTIFS(ToDoList!$B:$B, $A558, ToDoList!$R:$R, E$2))","v":""},{"$f":"IF($A558 = \"\", \"\", COUNTIFS(ToDoList!$B:$B, $A558, ToDoList!$R:$R, F$2))","v":""},{"$f":"IF($A558 = \"\", \"\", COUNTIFS(ToDoList!$B:$B, $A558, ToDoList!$R:$R, G$2))","v":""},{"$f":"IF($A558 = \"\", \"\", COUNTIFS(ToDoList!$B:$B, $A558, ToDoList!$R:$R, H$2))","v":""},{"$f":"IF($A558 = \"\", \"\", COUNTIFS(ToDoList!$B:$B, $A558, ToDoList!$R:$R, I$2))","v":""},{"$f":"IF($A558 = \"\", \"\", COUNTIFS(ToDoList!$B:$B, $A558, ToDoList!$R:$R, J$2))","v":""}]
[null,{"$f":"IF($A559 = \"\", \"\", COUNTIFS(ToDoList!$B:$B, $A559, ToDoList!$R:$R, B$2))","v":""},{"$f":"IF($A559 = \"\", \"\", COUNTIFS(ToDoList!$B:$B, $A559, ToDoList!$R:$R, C$2))","v":""},{"$f":"IF($A559 = \"\", \"\", COUNTIFS(ToDoList!$B:$B, $A559, ToDoList!$R:$R, D$2))","v":""},{"$f":"IF($A559 = \"\", \"\", COUNTIFS(ToDoList!$B:$B, $A559, ToDoList!$R:$R, E$2))","v":""},{"$f":"IF($A559 = \"\", \"\", COUNTIFS(ToDoList!$B:$B, $A559, ToDoList!$R:$R, F$2))","v":""},{"$f":"IF($A559 = \"\", \"\", COUNTIFS(ToDoList!$B:$B, $A559, ToDoList!$R:$R, G$2))","v":""},{"$f":"IF($A559 = \"\", \"\", COUNTIFS(ToDoList!$B:$B, $A559, ToDoList!$R:$R, H$2))","v":""},{"$f":"IF($A559 = \"\", \"\", COUNTIFS(ToDoList!$B:$B, $A559, ToDoList!$R:$R, I$2))","v":""},{"$f":"IF($A559 = \"\", \"\", COUNTIFS(ToDoList!$B:$B, $A559, ToDoList!$R:$R, J$2))","v":""}]
[null,{"$f":"IF($A560 = \"\", \"\", COUNTIFS(ToDoList!$B:$B, $A560, ToDoList!$R:$R, B$2))","v":""},{"$f":"IF($A560 = \"\", \"\", COUNTIFS(ToDoList!$B:$B, $A560, ToDoList!$R:$R, C$2))","v":""},{"$f":"IF($A560 = \"\", \"\", COUNTIFS(ToDoList!$B:$B, $A560, ToDoList!$R:$R, D$2))","v":""},{"$f":"IF($A560 = \"\", \"\", COUNTIFS(ToDoList!$B:$B, $A560, ToDoList!$R:$R, E$2))","v":""},{"$f":"IF($A560 = \"\", \"\", COUNTIFS(ToDoList!$B:$B, $A560, ToDoList!$R:$R, F$2))","v":""},{"$f":"IF($A560 = \"\", \"\", COUNTIFS(ToDoList!$B:$B, $A560, ToDoList!$R:$R, G$2))","v":""},{"$f":"IF($A560 = \"\", \"\", COUNTIFS(ToDoList!$B:$B, $A560, ToDoList!$R:$R, H$2))","v":""},{"$f":"IF($A560 = \"\", \"\", COUNTIFS(ToDoList!$B:$B, $A560, ToDoList!$R:$R, I$2))","v":""},{"$f":"IF($A560 = \"\", \"\", COUNTIFS(ToDoList!$B:$B, $A560, ToDoList!$R:$R, J$2))","v":""}]
[null,{"$f":"IF($A561 = \"\", \"\", COUNTIFS(ToDoList!$B:$B, $A561, ToDoList!$R:$R, B$2))","v":""},{"$f":"IF($A561 = \"\", \"\", COUNTIFS(ToDoList!$B:$B, $A561, ToDoList!$R:$R, C$2))","v":""},{"$f":"IF($A561 = \"\", \"\", COUNTIFS(ToDoList!$B:$B, $A561, ToDoList!$R:$R, D$2))","v":""},{"$f":"IF($A561 = \"\", \"\", COUNTIFS(ToDoList!$B:$B, $A561, ToDoList!$R:$R, E$2))","v":""},{"$f":"IF($A561 = \"\", \"\", COUNTIFS(ToDoList!$B:$B, $A561, ToDoList!$R:$R, F$2))","v":""},{"$f":"IF($A561 = \"\", \"\", COUNTIFS(ToDoList!$B:$B, $A561, ToDoList!$R:$R, G$2))","v":""},{"$f":"IF($A561 = \"\", \"\", COUNTIFS(ToDoList!$B:$B, $A561, ToDoList!$R:$R, H$2))","v":""},{"$f":"IF($A561 = \"\", \"\", COUNTIFS(ToDoList!$B:$B, $A561, ToDoList!$R:$R, I$2))","v":""},{"$f":"IF($A561 = \"\", \"\", COUNTIFS(ToDoList!$B:$B, $A561, ToDoList!$R:$R, J$2))","v":""}]
[null,{"$f":"IF($A562 = \"\", \"\", COUNTIFS(ToDoList!$B:$B, $A562, ToDoList!$R:$R, B$2))","v":""},{"$f":"IF($A562 = \"\", \"\", COUNTIFS(ToDoList!$B:$B, $A562, ToDoList!$R:$R, C$2))","v":""},{"$f":"IF($A562 = \"\", \"\", COUNTIFS(ToDoList!$B:$B, $A562, ToDoList!$R:$R, D$2))","v":""},{"$f":"IF($A562 = \"\", \"\", COUNTIFS(ToDoList!$B:$B, $A562, ToDoList!$R:$R, E$2))","v":""},{"$f":"IF($A562 = \"\", \"\", COUNTIFS(ToDoList!$B:$B, $A562, ToDoList!$R:$R, F$2))","v":""},{"$f":"IF($A562 = \"\", \"\", COUNTIFS(ToDoList!$B:$B, $A562, ToDoList!$R:$R, G$2))","v":""},{"$f":"IF($A562 = \"\", \"\", COUNTIFS(ToDoList!$B:$B, $A562, ToDoList!$R:$R, H$2))","v":""},{"$f":"IF($A562 = \"\", \"\", COUNTIFS(ToDoList!$B:$B, $A562, ToDoList!$R:$R, I$2))","v":""},{"$f":"IF($A562 = \"\", \"\", COUNTIFS(ToDoList!$B:$B, $A562, ToDoList!$R:$R, J$2))","v":""}]
[null,{"$f":"IF($A563 = \"\", \"\", COUNTIFS(ToDoList!$B:$B, $A563, ToDoList!$R:$R, B$2))","v":""},{"$f":"IF($A563 = \"\", \"\", COUNTIFS(ToDoList!$B:$B, $A563, ToDoList!$R:$R, C$2))","v":""},{"$f":"IF($A563 = \"\", \"\", COUNTIFS(ToDoList!$B:$B, $A563, ToDoList!$R:$R, D$2))","v":""},{"$f":"IF($A563 = \"\", \"\", COUNTIFS(ToDoList!$B:$B, $A563, ToDoList!$R:$R, E$2))","v":""},{"$f":"IF($A563 = \"\", \"\", COUNTIFS(ToDoList!$B:$B, $A563, ToDoList!$R:$R, F$2))","v":""},{"$f":"IF($A563 = \"\", \"\", COUNTIFS(ToDoList!$B:$B, $A563, ToDoList!$R:$R, G$2))","v":""},{"$f":"IF($A563 = \"\", \"\", COUNTIFS(ToDoList!$B:$B, $A563, ToDoList!$R:$R, H$2))","v":""},{"$f":"IF($A563 = \"\", \"\", COUNTIFS(ToDoList!$B:$B, $A563, ToDoList!$R:$R, I$2))","v":""},{"$f":"IF($A563 = \"\", \"\", COUNTIFS(ToDoList!$B:$B, $A563, ToDoList!$R:$R, J$2))","v":""}]
[null,{"$f":"IF($A564 = \"\", \"\", COUNTIFS(ToDoList!$B:$B, $A564, ToDoList!$R:$R, B$2))","v":""},{"$f":"IF($A564 = \"\", \"\", COUNTIFS(ToDoList!$B:$B, $A564, ToDoList!$R:$R, C$2))","v":""},{"$f":"IF($A564 = \"\", \"\", COUNTIFS(ToDoList!$B:$B, $A564, ToDoList!$R:$R, D$2))","v":""},{"$f":"IF($A564 = \"\", \"\", COUNTIFS(ToDoList!$B:$B, $A564, ToDoList!$R:$R, E$2))","v":""},{"$f":"IF($A564 = \"\", \"\", COUNTIFS(ToDoList!$B:$B, $A564, ToDoList!$R:$R, F$2))","v":""},{"$f":"IF($A564 = \"\", \"\", COUNTIFS(ToDoList!$B:$B, $A564, ToDoList!$R:$R, G$2))","v":""},{"$f":"IF($A564 = \"\", \"\", COUNTIFS(ToDoList!$B:$B, $A564, ToDoList!$R:$R, H$2))","v":""},{"$f":"IF($A564 = \"\", \"\", COUNTIFS(ToDoList!$B:$B, $A564, ToDoList!$R:$R, I$2))","v":""},{"$f":"IF($A564 = \"\", \"\", COUNTIFS(ToDoList!$B:$B, $A564, ToDoList!$R:$R, J$2))","v":""}]
[null,{"$f":"IF($A565 = \"\", \"\", COUNTIFS(ToDoList!$B:$B, $A565, ToDoList!$R:$R, B$2))","v":""},{"$f":"IF($A565 = \"\", \"\", COUNTIFS(ToDoList!$B:$B, $A565, ToDoList!$R:$R, C$2))","v":""},{"$f":"IF($A565 = \"\", \"\", COUNTIFS(ToDoList!$B:$B, $A565, ToDoList!$R:$R, D$2))","v":""},{"$f":"IF($A565 = \"\", \"\", COUNTIFS(ToDoList!$B:$B, $A565, ToDoList!$R:$R, E$2))","v":""},{"$f":"IF($A565 = \"\", \"\", COUNTIFS(ToDoList!$B:$B, $A565, ToDoList!$R:$R, F$2))","v":""},{"$f":"IF($A565 = \"\", \"\", COUNTIFS(ToDoList!$B:$B, $A565, ToDoList!$R:$R, G$2))","v":""},{"$f":"IF($A565 = \"\", \"\", COUNTIFS(ToDoList!$B:$B, $A565, ToDoList!$R:$R, H$2))","v":""},{"$f":"IF($A565 = \"\", \"\", COUNTIFS(ToDoList!$B:$B, $A565, ToDoList!$R:$R, I$2))","v":""},{"$f":"IF($A565 = \"\", \"\", COUNTIFS(ToDoList!$B:$B, $A565, ToDoList!$R:$R, J$2))","v":""}]
[null,{"$f":"IF($A566 = \"\", \"\", COUNTIFS(ToDoList!$B:$B, $A566, ToDoList!$R:$R, B$2))","v":""},{"$f":"IF($A566 = \"\", \"\", COUNTIFS(ToDoList!$B:$B, $A566, ToDoList!$R:$R, C$2))","v":""},{"$f":"IF($A566 = \"\", \"\", COUNTIFS(ToDoList!$B:$B, $A566, ToDoList!$R:$R, D$2))","v":""},{"$f":"IF($A566 = \"\", \"\", COUNTIFS(ToDoList!$B:$B, $A566, ToDoList!$R:$R, E$2))","v":""},{"$f":"IF($A566 = \"\", \"\", COUNTIFS(ToDoList!$B:$B, $A566, ToDoList!$R:$R, F$2))","v":""},{"$f":"IF($A566 = \"\", \"\", COUNTIFS(ToDoList!$B:$B, $A566, ToDoList!$R:$R, G$2))","v":""},{"$f":"IF($A566 = \"\", \"\", COUNTIFS(ToDoList!$B:$B, $A566, ToDoList!$R:$R, H$2))","v":""},{"$f":"IF($A566 = \"\", \"\", COUNTIFS(ToDoList!$B:$B, $A566, ToDoList!$R:$R, I$2))","v":""},{"$f":"IF($A566 = \"\", \"\", COUNTIFS(ToDoList!$B:$B, $A566, ToDoList!$R:$R, J$2))","v":""}]
[null,{"$f":"IF($A567 = \"\", \"\", COUNTIFS(ToDoList!$B:$B, $A567, ToDoList!$R:$R, B$2))","v":""},{"$f":"IF($A567 = \"\", \"\", COUNTIFS(ToDoList!$B:$B, $A567, ToDoList!$R:$R, C$2))","v":""},{"$f":"IF($A567 = \"\", \"\", COUNTIFS(ToDoList!$B:$B, $A567, ToDoList!$R:$R, D$2))","v":""},{"$f":"IF($A567 = \"\", \"\", COUNTIFS(ToDoList!$B:$B, $A567, ToDoList!$R:$R, E$2))","v":""},{"$f":"IF($A567 = \"\", \"\", COUNTIFS(ToDoList!$B:$B, $A567, ToDoList!$R:$R, F$2))","v":""},{"$f":"IF($A567 = \"\", \"\", COUNTIFS(ToDoList!$B:$B, $A567, ToDoList!$R:$R, G$2))","v":""},{"$f":"IF($A567 = \"\", \"\", COUNTIFS(ToDoList!$B:$B, $A567, ToDoList!$R:$R, H$2))","v":""},{"$f":"IF($A567 = \"\", \"\", COUNTIFS(ToDoList!$B:$B, $A567, ToDoList!$R:$R, I$2))","v":""},{"$f":"IF($A567 = \"\", \"\", COUNTIFS(ToDoList!$B:$B, $A567, ToDoList!$R:$R, J$2))","v":""}]
[null,{"$f":"IF($A568 = \"\", \"\", COUNTIFS(ToDoList!$B:$B, $A568, ToDoList!$R:$R, B$2))","v":""},{"$f":"IF($A568 = \"\", \"\", COUNTIFS(ToDoList!$B:$B, $A568, ToDoList!$R:$R, C$2))","v":""},{"$f":"IF($A568 = \"\", \"\", COUNTIFS(ToDoList!$B:$B, $A568, ToDoList!$R:$R, D$2))","v":""},{"$f":"IF($A568 = \"\", \"\", COUNTIFS(ToDoList!$B:$B, $A568, ToDoList!$R:$R, E$2))","v":""},{"$f":"IF($A568 = \"\", \"\", COUNTIFS(ToDoList!$B:$B, $A568, ToDoList!$R:$R, F$2))","v":""},{"$f":"IF($A568 = \"\", \"\", COUNTIFS(ToDoList!$B:$B, $A568, ToDoList!$R:$R, G$2))","v":""},{"$f":"IF($A568 = \"\", \"\", COUNTIFS(ToDoList!$B:$B, $A568, ToDoList!$R:$R, H$2))","v":""},{"$f":"IF($A568 = \"\", \"\", COUNTIFS(ToDoList!$B:$B, $A568, ToDoList!$R:$R, I$2))","v":""},{"$f":"IF($A568 = \"\", \"\", COUNTIFS(ToDoList!$B:$B, $A568, ToDoList!$R:$R, J$2))","v":""}]
[null,{"$f":"IF($A569 = \"\", \"\", COUNTIFS(ToDoList!$B:$B, $A569, ToDoList!$R:$R, B$2))","v":""},{"$f":"IF($A569 = \"\", \"\", COUNTIFS(ToDoList!$B:$B, $A569, ToDoList!$R:$R, C$2))","v":""},{"$f":"IF($A569 = \"\", \"\", COUNTIFS(ToDoList!$B:$B, $A569, ToDoList!$R:$R, D$2))","v":""},{"$f":"IF($A569 = \"\", \"\", COUNTIFS(ToDoList!$B:$B, $A569, ToDoList!$R:$R, E$2))","v":""},{"$f":"IF($A569 = \"\", \"\", COUNTIFS(ToDoList!$B:$B, $A569, ToDoList!$R:$R, F$2))","v":""},{"$f":"IF($A569 = \"\", \"\", COUNTIFS(ToDoList!$B:$B, $A569, ToDoList!$R:$R, G$2))","v":""},{"$f":"IF($A569 = \"\", \"\", COUNTIFS(ToDoList!$B:$B, $A569, ToDoList!$R:$R, H$2))","v":""},{"$f":"IF($A569 = \"\", \"\", COUNTIFS(ToDoList!$B:$B, $A569, ToDoList!$R:$R, I$2))","v":""},{"$f":"IF($A569 = \"\", \"\", COUNTIFS(ToDoList!$B:$B, $A569, ToDoList!$R:$R, J$2))","v":""}]
[null,{"$f":"IF($A570 = \"\", \"\", COUNTIFS(ToDoList!$B:$B, $A570, ToDoList!$R:$R, B$2))","v":""},{"$f":"IF($A570 = \"\", \"\", COUNTIFS(ToDoList!$B:$B, $A570, ToDoList!$R:$R, C$2))","v":""},{"$f":"IF($A570 = \"\", \"\", COUNTIFS(ToDoList!$B:$B, $A570, ToDoList!$R:$R, D$2))","v":""},{"$f":"IF($A570 = \"\", \"\", COUNTIFS(ToDoList!$B:$B, $A570, ToDoList!$R:$R, E$2))","v":""},{"$f":"IF($A570 = \"\", \"\", COUNTIFS(ToDoList!$B:$B, $A570, ToDoList!$R:$R, F$2))","v":""},{"$f":"IF($A570 = \"\", \"\", COUNTIFS(ToDoList!$B:$B, $A570, ToDoList!$R:$R, G$2))","v":""},{"$f":"IF($A570 = \"\", \"\", COUNTIFS(ToDoList!$B:$B, $A570, ToDoList!$R:$R, H$2))","v":""},{"$f":"IF($A570 = \"\", \"\", COUNTIFS(ToDoList!$B:$B, $A570, ToDoList!$R:$R, I$2))","v":""},{"$f":"IF($A570 = \"\", \"\", COUNTIFS(ToDoList!$B:$B, $A570, ToDoList!$R:$R, J$2))","v":""}]
[null,{"$f":"IF($A571 = \"\", \"\", COUNTIFS(ToDoList!$B:$B, $A571, ToDoList!$R:$R, B$2))","v":""},{"$f":"IF($A571 = \"\", \"\", COUNTIFS(ToDoList!$B:$B, $A571, ToDoList!$R:$R, C$2))","v":""},{"$f":"IF($A571 = \"\", \"\", COUNTIFS(ToDoList!$B:$B, $A571, ToDoList!$R:$R, D$2))","v":""},{"$f":"IF($A571 = \"\", \"\", COUNTIFS(ToDoList!$B:$B, $A571, ToDoList!$R:$R, E$2))","v":""},{"$f":"IF($A571 = \"\", \"\", COUNTIFS(ToDoList!$B:$B, $A571, ToDoList!$R:$R, F$2))","v":""},{"$f":"IF($A571 = \"\", \"\", COUNTIFS(ToDoList!$B:$B, $A571, ToDoList!$R:$R, G$2))","v":""},{"$f":"IF($A571 = \"\", \"\", COUNTIFS(ToDoList!$B:$B, $A571, ToDoList!$R:$R, H$2))","v":""},{"$f":"IF($A571 = \"\", \"\", COUNTIFS(ToDoList!$B:$B, $A571, ToDoList!$R:$R, I$2))","v":""},{"$f":"IF($A571 = \"\", \"\", COUNTIFS(ToDoList!$B:$B, $A571, ToDoList!$R:$R, J$2))","v":""}]
[null,{"$f":"IF($A572 = \"\", \"\", COUNTIFS(ToDoList!$B:$B, $A572, ToDoList!$R:$R, B$2))","v":""},{"$f":"IF($A572 = \"\", \"\", COUNTIFS(ToDoList!$B:$B, $A572, ToDoList!$R:$R, C$2))","v":""},{"$f":"IF($A572 = \"\", \"\", COUNTIFS(ToDoList!$B:$B, $A572, ToDoList!$R:$R, D$2))","v":""},{"$f":"IF($A572 = \"\", \"\", COUNTIFS(ToDoList!$B:$B, $A572, ToDoList!$R:$R, E$2))","v":""},{"$f":"IF($A572 = \"\", \"\", COUNTIFS(ToDoList!$B:$B, $A572, ToDoList!$R:$R, F$2))","v":""},{"$f":"IF($A572 = \"\", \"\", COUNTIFS(ToDoList!$B:$B, $A572, ToDoList!$R:$R, G$2))","v":""},{"$f":"IF($A572 = \"\", \"\", COUNTIFS(ToDoList!$B:$B, $A572, ToDoList!$R:$R, H$2))","v":""},{"$f":"IF($A572 = \"\", \"\", COUNTIFS(ToDoList!$B:$B, $A572, ToDoList!$R:$R, I$2))","v":""},{"$f":"IF($A572 = \"\", \"\", COUNTIFS(ToDoList!$B:$B, $A572, ToDoList!$R:$R, J$2))","v":""}]
[null,{"$f":"IF($A573 = \"\", \"\", COUNTIFS(ToDoList!$B:$B, $A573, ToDoList!$R:$R, B$2))","v":""},{"$f":"IF($A573 = \"\", \"\", COUNTIFS(ToDoList!$B:$B, $A573, ToDoList!$R:$R, C$2))","v":""},{"$f":"IF($A573 = \"\", \"\", COUNTIFS(ToDoList!$B:$B, $A573, ToDoList!$R:$R, D$2))","v":""},{"$f":"IF($A573 = \"\", \"\", COUNTIFS(ToDoList!$B:$B, $A573, ToDoList!$R:$R, E$2))","v":""},{"$f":"IF($A573 = \"\", \"\", COUNTIFS(ToDoList!$B:$B, $A573, ToDoList!$R:$R, F$2))","v":""},{"$f":"IF($A573 = \"\", \"\", COUNTIFS(ToDoList!$B:$B, $A573, ToDoList!$R:$R, G$2))","v":""},{"$f":"IF($A573 = \"\", \"\", COUNTIFS(ToDoList!$B:$B, $A573, ToDoList!$R:$R, H$2))","v":""},{"$f":"IF($A573 = \"\", \"\", COUNTIFS(ToDoList!$B:$B, $A573, ToDoList!$R:$R, I$2))","v":""},{"$f":"IF($A573 = \"\", \"\", COUNTIFS(ToDoList!$B:$B, $A573, ToDoList!$R:$R, J$2))","v":""}]
[null,{"$f":"IF($A574 = \"\", \"\", COUNTIFS(ToDoList!$B:$B, $A574, ToDoList!$R:$R, B$2))","v":""},{"$f":"IF($A574 = \"\", \"\", COUNTIFS(ToDoList!$B:$B, $A574, ToDoList!$R:$R, C$2))","v":""},{"$f":"IF($A574 = \"\", \"\", COUNTIFS(ToDoList!$B:$B, $A574, ToDoList!$R:$R, D$2))","v":""},{"$f":"IF($A574 = \"\", \"\", COUNTIFS(ToDoList!$B:$B, $A574, ToDoList!$R:$R, E$2))","v":""},{"$f":"IF($A574 = \"\", \"\", COUNTIFS(ToDoList!$B:$B, $A574, ToDoList!$R:$R, F$2))","v":""},{"$f":"IF($A574 = \"\", \"\", COUNTIFS(ToDoList!$B:$B, $A574, ToDoList!$R:$R, G$2))","v":""},{"$f":"IF($A574 = \"\", \"\", COUNTIFS(ToDoList!$B:$B, $A574, ToDoList!$R:$R, H$2))","v":""},{"$f":"IF($A574 = \"\", \"\", COUNTIFS(ToDoList!$B:$B, $A574, ToDoList!$R:$R, I$2))","v":""},{"$f":"IF($A574 = \"\", \"\", COUNTIFS(ToDoList!$B:$B, $A574, ToDoList!$R:$R, J$2))","v":""}]
[null,{"$f":"IF($A575 = \"\", \"\", COUNTIFS(ToDoList!$B:$B, $A575, ToDoList!$R:$R, B$2))","v":""},{"$f":"IF($A575 = \"\", \"\", COUNTIFS(ToDoList!$B:$B, $A575, ToDoList!$R:$R, C$2))","v":""},{"$f":"IF($A575 = \"\", \"\", COUNTIFS(ToDoList!$B:$B, $A575, ToDoList!$R:$R, D$2))","v":""},{"$f":"IF($A575 = \"\", \"\", COUNTIFS(ToDoList!$B:$B, $A575, ToDoList!$R:$R, E$2))","v":""},{"$f":"IF($A575 = \"\", \"\", COUNTIFS(ToDoList!$B:$B, $A575, ToDoList!$R:$R, F$2))","v":""},{"$f":"IF($A575 = \"\", \"\", COUNTIFS(ToDoList!$B:$B, $A575, ToDoList!$R:$R, G$2))","v":""},{"$f":"IF($A575 = \"\", \"\", COUNTIFS(ToDoList!$B:$B, $A575, ToDoList!$R:$R, H$2))","v":""},{"$f":"IF($A575 = \"\", \"\", COUNTIFS(ToDoList!$B:$B, $A575, ToDoList!$R:$R, I$2))","v":""},{"$f":"IF($A575 = \"\", \"\", COUNTIFS(ToDoList!$B:$B, $A575, ToDoList!$R:$R, J$2))","v":""}]
[null,{"$f":"IF($A576 = \"\", \"\", COUNTIFS(ToDoList!$B:$B, $A576, ToDoList!$R:$R, B$2))","v":""},{"$f":"IF($A576 = \"\", \"\", COUNTIFS(ToDoList!$B:$B, $A576, ToDoList!$R:$R, C$2))","v":""},{"$f":"IF($A576 = \"\", \"\", COUNTIFS(ToDoList!$B:$B, $A576, ToDoList!$R:$R, D$2))","v":""},{"$f":"IF($A576 = \"\", \"\", COUNTIFS(ToDoList!$B:$B, $A576, ToDoList!$R:$R, E$2))","v":""},{"$f":"IF($A576 = \"\", \"\", COUNTIFS(ToDoList!$B:$B, $A576, ToDoList!$R:$R, F$2))","v":""},{"$f":"IF($A576 = \"\", \"\", COUNTIFS(ToDoList!$B:$B, $A576, ToDoList!$R:$R, G$2))","v":""},{"$f":"IF($A576 = \"\", \"\", COUNTIFS(ToDoList!$B:$B, $A576, ToDoList!$R:$R, H$2))","v":""},{"$f":"IF($A576 = \"\", \"\", COUNTIFS(ToDoList!$B:$B, $A576, ToDoList!$R:$R, I$2))","v":""},{"$f":"IF($A576 = \"\", \"\", COUNTIFS(ToDoList!$B:$B, $A576, ToDoList!$R:$R, J$2))","v":""}]
[null,{"$f":"IF($A577 = \"\", \"\", COUNTIFS(ToDoList!$B:$B, $A577, ToDoList!$R:$R, B$2))","v":""},{"$f":"IF($A577 = \"\", \"\", COUNTIFS(ToDoList!$B:$B, $A577, ToDoList!$R:$R, C$2))","v":""},{"$f":"IF($A577 = \"\", \"\", COUNTIFS(ToDoList!$B:$B, $A577, ToDoList!$R:$R, D$2))","v":""},{"$f":"IF($A577 = \"\", \"\", COUNTIFS(ToDoList!$B:$B, $A577, ToDoList!$R:$R, E$2))","v":""},{"$f":"IF($A577 = \"\", \"\", COUNTIFS(ToDoList!$B:$B, $A577, ToDoList!$R:$R, F$2))","v":""},{"$f":"IF($A577 = \"\", \"\", COUNTIFS(ToDoList!$B:$B, $A577, ToDoList!$R:$R, G$2))","v":""},{"$f":"IF($A577 = \"\", \"\", COUNTIFS(ToDoList!$B:$B, $A577, ToDoList!$R:$R, H$2))","v":""},{"$f":"IF($A577 = \"\", \"\", COUNTIFS(ToDoList!$B:$B, $A577, ToDoList!$R:$R, I$2))","v":""},{"$f":"IF($A577 = \"\", \"\", COUNTIFS(ToDoList!$B:$B, $A577, ToDoList!$R:$R, J$2))","v":""}]
[null,{"$f":"IF($A578 = \"\", \"\", COUNTIFS(ToDoList!$B:$B, $A578, ToDoList!$R:$R, B$2))","v":""},{"$f":"IF($A578 = \"\", \"\", COUNTIFS(ToDoList!$B:$B, $A578, ToDoList!$R:$R, C$2))","v":""},{"$f":"IF($A578 = \"\", \"\", COUNTIFS(ToDoList!$B:$B, $A578, ToDoList!$R:$R, D$2))","v":""},{"$f":"IF($A578 = \"\", \"\", COUNTIFS(ToDoList!$B:$B, $A578, ToDoList!$R:$R, E$2))","v":""},{"$f":"IF($A578 = \"\", \"\", COUNTIFS(ToDoList!$B:$B, $A578, ToDoList!$R:$R, F$2))","v":""},{"$f":"IF($A578 = \"\", \"\", COUNTIFS(ToDoList!$B:$B, $A578, ToDoList!$R:$R, G$2))","v":""},{"$f":"IF($A578 = \"\", \"\", COUNTIFS(ToDoList!$B:$B, $A578, ToDoList!$R:$R, H$2))","v":""},{"$f":"IF($A578 = \"\", \"\", COUNTIFS(ToDoList!$B:$B, $A578, ToDoList!$R:$R, I$2))","v":""},{"$f":"IF($A578 = \"\", \"\", COUNTIFS(ToDoList!$B:$B, $A578, ToDoList!$R:$R, J$2))","v":""}]
[null,{"$f":"IF($A579 = \"\", \"\", COUNTIFS(ToDoList!$B:$B, $A579, ToDoList!$R:$R, B$2))","v":""},{"$f":"IF($A579 = \"\", \"\", COUNTIFS(ToDoList!$B:$B, $A579, ToDoList!$R:$R, C$2))","v":""},{"$f":"IF($A579 = \"\", \"\", COUNTIFS(ToDoList!$B:$B, $A579, ToDoList!$R:$R, D$2))","v":""},{"$f":"IF($A579 = \"\", \"\", COUNTIFS(ToDoList!$B:$B, $A579, ToDoList!$R:$R, E$2))","v":""},{"$f":"IF($A579 = \"\", \"\", COUNTIFS(ToDoList!$B:$B, $A579, ToDoList!$R:$R, F$2))","v":""},{"$f":"IF($A579 = \"\", \"\", COUNTIFS(ToDoList!$B:$B, $A579, ToDoList!$R:$R, G$2))","v":""},{"$f":"IF($A579 = \"\", \"\", COUNTIFS(ToDoList!$B:$B, $A579, ToDoList!$R:$R, H$2))","v":""},{"$f":"IF($A579 = \"\", \"\", COUNTIFS(ToDoList!$B:$B, $A579, ToDoList!$R:$R, I$2))","v":""},{"$f":"IF($A579 = \"\", \"\", COUNTIFS(ToDoList!$B:$B, $A579, ToDoList!$R:$R, J$2))","v":""}]
[null,{"$f":"IF($A580 = \"\", \"\", COUNTIFS(ToDoList!$B:$B, $A580, ToDoList!$R:$R, B$2))","v":""},{"$f":"IF($A580 = \"\", \"\", COUNTIFS(ToDoList!$B:$B, $A580, ToDoList!$R:$R, C$2))","v":""},{"$f":"IF($A580 = \"\", \"\", COUNTIFS(ToDoList!$B:$B, $A580, ToDoList!$R:$R, D$2))","v":""},{"$f":"IF($A580 = \"\", \"\", COUNTIFS(ToDoList!$B:$B, $A580, ToDoList!$R:$R, E$2))","v":""},{"$f":"IF($A580 = \"\", \"\", COUNTIFS(ToDoList!$B:$B, $A580, ToDoList!$R:$R, F$2))","v":""},{"$f":"IF($A580 = \"\", \"\", COUNTIFS(ToDoList!$B:$B, $A580, ToDoList!$R:$R, G$2))","v":""},{"$f":"IF($A580 = \"\", \"\", COUNTIFS(ToDoList!$B:$B, $A580, ToDoList!$R:$R, H$2))","v":""},{"$f":"IF($A580 = \"\", \"\", COUNTIFS(ToDoList!$B:$B, $A580, ToDoList!$R:$R, I$2))","v":""},{"$f":"IF($A580 = \"\", \"\", COUNTIFS(ToDoList!$B:$B, $A580, ToDoList!$R:$R, J$2))","v":""}]
[null,{"$f":"IF($A581 = \"\", \"\", COUNTIFS(ToDoList!$B:$B, $A581, ToDoList!$R:$R, B$2))","v":""},{"$f":"IF($A581 = \"\", \"\", COUNTIFS(ToDoList!$B:$B, $A581, ToDoList!$R:$R, C$2))","v":""},{"$f":"IF($A581 = \"\", \"\", COUNTIFS(ToDoList!$B:$B, $A581, ToDoList!$R:$R, D$2))","v":""},{"$f":"IF($A581 = \"\", \"\", COUNTIFS(ToDoList!$B:$B, $A581, ToDoList!$R:$R, E$2))","v":""},{"$f":"IF($A581 = \"\", \"\", COUNTIFS(ToDoList!$B:$B, $A581, ToDoList!$R:$R, F$2))","v":""},{"$f":"IF($A581 = \"\", \"\", COUNTIFS(ToDoList!$B:$B, $A581, ToDoList!$R:$R, G$2))","v":""},{"$f":"IF($A581 = \"\", \"\", COUNTIFS(ToDoList!$B:$B, $A581, ToDoList!$R:$R, H$2))","v":""},{"$f":"IF($A581 = \"\", \"\", COUNTIFS(ToDoList!$B:$B, $A581, ToDoList!$R:$R, I$2))","v":""},{"$f":"IF($A581 = \"\", \"\", COUNTIFS(ToDoList!$B:$B, $A581, ToDoList!$R:$R, J$2))","v":""}]
[null,{"$f":"IF($A582 = \"\", \"\", COUNTIFS(ToDoList!$B:$B, $A582, ToDoList!$R:$R, B$2))","v":""},{"$f":"IF($A582 = \"\", \"\", COUNTIFS(ToDoList!$B:$B, $A582, ToDoList!$R:$R, C$2))","v":""},{"$f":"IF($A582 = \"\", \"\", COUNTIFS(ToDoList!$B:$B, $A582, ToDoList!$R:$R, D$2))","v":""},{"$f":"IF($A582 = \"\", \"\", COUNTIFS(ToDoList!$B:$B, $A582, ToDoList!$R:$R, E$2))","v":""},{"$f":"IF($A582 = \"\", \"\", COUNTIFS(ToDoList!$B:$B, $A582, ToDoList!$R:$R, F$2))","v":""},{"$f":"IF($A582 = \"\", \"\", COUNTIFS(ToDoList!$B:$B, $A582, ToDoList!$R:$R, G$2))","v":""},{"$f":"IF($A582 = \"\", \"\", COUNTIFS(ToDoList!$B:$B, $A582, ToDoList!$R:$R, H$2))","v":""},{"$f":"IF($A582 = \"\", \"\", COUNTIFS(ToDoList!$B:$B, $A582, ToDoList!$R:$R, I$2))","v":""},{"$f":"IF($A582 = \"\", \"\", COUNTIFS(ToDoList!$B:$B, $A582, ToDoList!$R:$R, J$2))","v":""}]
[null,{"$f":"IF($A583 = \"\", \"\", COUNTIFS(ToDoList!$B:$B, $A583, ToDoList!$R:$R, B$2))","v":""},{"$f":"IF($A583 = \"\", \"\", COUNTIFS(ToDoList!$B:$B, $A583, ToDoList!$R:$R, C$2))","v":""},{"$f":"IF($A583 = \"\", \"\", COUNTIFS(ToDoList!$B:$B, $A583, ToDoList!$R:$R, D$2))","v":""},{"$f":"IF($A583 = \"\", \"\", COUNTIFS(ToDoList!$B:$B, $A583, ToDoList!$R:$R, E$2))","v":""},{"$f":"IF($A583 = \"\", \"\", COUNTIFS(ToDoList!$B:$B, $A583, ToDoList!$R:$R, F$2))","v":""},{"$f":"IF($A583 = \"\", \"\", COUNTIFS(ToDoList!$B:$B, $A583, ToDoList!$R:$R, G$2))","v":""},{"$f":"IF($A583 = \"\", \"\", COUNTIFS(ToDoList!$B:$B, $A583, ToDoList!$R:$R, H$2))","v":""},{"$f":"IF($A583 = \"\", \"\", COUNTIFS(ToDoList!$B:$B, $A583, ToDoList!$R:$R, I$2))","v":""},{"$f":"IF($A583 = \"\", \"\", COUNTIFS(ToDoList!$B:$B, $A583, ToDoList!$R:$R, J$2))","v":""}]
[null,{"$f":"IF($A584 = \"\", \"\", COUNTIFS(ToDoList!$B:$B, $A584, ToDoList!$R:$R, B$2))","v":""},{"$f":"IF($A584 = \"\", \"\", COUNTIFS(ToDoList!$B:$B, $A584, ToDoList!$R:$R, C$2))","v":""},{"$f":"IF($A584 = \"\", \"\", COUNTIFS(ToDoList!$B:$B, $A584, ToDoList!$R:$R, D$2))","v":""},{"$f":"IF($A584 = \"\", \"\", COUNTIFS(ToDoList!$B:$B, $A584, ToDoList!$R:$R, E$2))","v":""},{"$f":"IF($A584 = \"\", \"\", COUNTIFS(ToDoList!$B:$B, $A584, ToDoList!$R:$R, F$2))","v":""},{"$f":"IF($A584 = \"\", \"\", COUNTIFS(ToDoList!$B:$B, $A584, ToDoList!$R:$R, G$2))","v":""},{"$f":"IF($A584 = \"\", \"\", COUNTIFS(ToDoList!$B:$B, $A584, ToDoList!$R:$R, H$2))","v":""},{"$f":"IF($A584 = \"\", \"\", COUNTIFS(ToDoList!$B:$B, $A584, ToDoList!$R:$R, I$2))","v":""},{"$f":"IF($A584 = \"\", \"\", COUNTIFS(ToDoList!$B:$B, $A584, ToDoList!$R:$R, J$2))","v":""}]
[null,{"$f":"IF($A585 = \"\", \"\", COUNTIFS(ToDoList!$B:$B, $A585, ToDoList!$R:$R, B$2))","v":""},{"$f":"IF($A585 = \"\", \"\", COUNTIFS(ToDoList!$B:$B, $A585, ToDoList!$R:$R, C$2))","v":""},{"$f":"IF($A585 = \"\", \"\", COUNTIFS(ToDoList!$B:$B, $A585, ToDoList!$R:$R, D$2))","v":""},{"$f":"IF($A585 = \"\", \"\", COUNTIFS(ToDoList!$B:$B, $A585, ToDoList!$R:$R, E$2))","v":""},{"$f":"IF($A585 = \"\", \"\", COUNTIFS(ToDoList!$B:$B, $A585, ToDoList!$R:$R, F$2))","v":""},{"$f":"IF($A585 = \"\", \"\", COUNTIFS(ToDoList!$B:$B, $A585, ToDoList!$R:$R, G$2))","v":""},{"$f":"IF($A585 = \"\", \"\", COUNTIFS(ToDoList!$B:$B, $A585, ToDoList!$R:$R, H$2))","v":""},{"$f":"IF($A585 = \"\", \"\", COUNTIFS(ToDoList!$B:$B, $A585, ToDoList!$R:$R, I$2))","v":""},{"$f":"IF($A585 = \"\", \"\", COUNTIFS(ToDoList!$B:$B, $A585, ToDoList!$R:$R, J$2))","v":""}]
[null,{"$f":"IF($A586 = \"\", \"\", COUNTIFS(ToDoList!$B:$B, $A586, ToDoList!$R:$R, B$2))","v":""},{"$f":"IF($A586 = \"\", \"\", COUNTIFS(ToDoList!$B:$B, $A586, ToDoList!$R:$R, C$2))","v":""},{"$f":"IF($A586 = \"\", \"\", COUNTIFS(ToDoList!$B:$B, $A586, ToDoList!$R:$R, D$2))","v":""},{"$f":"IF($A586 = \"\", \"\", COUNTIFS(ToDoList!$B:$B, $A586, ToDoList!$R:$R, E$2))","v":""},{"$f":"IF($A586 = \"\", \"\", COUNTIFS(ToDoList!$B:$B, $A586, ToDoList!$R:$R, F$2))","v":""},{"$f":"IF($A586 = \"\", \"\", COUNTIFS(ToDoList!$B:$B, $A586, ToDoList!$R:$R, G$2))","v":""},{"$f":"IF($A586 = \"\", \"\", COUNTIFS(ToDoList!$B:$B, $A586, ToDoList!$R:$R, H$2))","v":""},{"$f":"IF($A586 = \"\", \"\", COUNTIFS(ToDoList!$B:$B, $A586, ToDoList!$R:$R, I$2))","v":""},{"$f":"IF($A586 = \"\", \"\", COUNTIFS(ToDoList!$B:$B, $A586, ToDoList!$R:$R, J$2))","v":""}]
[null,{"$f":"IF($A587 = \"\", \"\", COUNTIFS(ToDoList!$B:$B, $A587, ToDoList!$R:$R, B$2))","v":""},{"$f":"IF($A587 = \"\", \"\", COUNTIFS(ToDoList!$B:$B, $A587, ToDoList!$R:$R, C$2))","v":""},{"$f":"IF($A587 = \"\", \"\", COUNTIFS(ToDoList!$B:$B, $A587, ToDoList!$R:$R, D$2))","v":""},{"$f":"IF($A587 = \"\", \"\", COUNTIFS(ToDoList!$B:$B, $A587, ToDoList!$R:$R, E$2))","v":""},{"$f":"IF($A587 = \"\", \"\", COUNTIFS(ToDoList!$B:$B, $A587, ToDoList!$R:$R, F$2))","v":""},{"$f":"IF($A587 = \"\", \"\", COUNTIFS(ToDoList!$B:$B, $A587, ToDoList!$R:$R, G$2))","v":""},{"$f":"IF($A587 = \"\", \"\", COUNTIFS(ToDoList!$B:$B, $A587, ToDoList!$R:$R, H$2))","v":""},{"$f":"IF($A587 = \"\", \"\", COUNTIFS(ToDoList!$B:$B, $A587, ToDoList!$R:$R, I$2))","v":""},{"$f":"IF($A587 = \"\", \"\", COUNTIFS(ToDoList!$B:$B, $A587, ToDoList!$R:$R, J$2))","v":""}]
[null,{"$f":"IF($A588 = \"\", \"\", COUNTIFS(ToDoList!$B:$B, $A588, ToDoList!$R:$R, B$2))","v":""},{"$f":"IF($A588 = \"\", \"\", COUNTIFS(ToDoList!$B:$B, $A588, ToDoList!$R:$R, C$2))","v":""},{"$f":"IF($A588 = \"\", \"\", COUNTIFS(ToDoList!$B:$B, $A588, ToDoList!$R:$R, D$2))","v":""},{"$f":"IF($A588 = \"\", \"\", COUNTIFS(ToDoList!$B:$B, $A588, ToDoList!$R:$R, E$2))","v":""},{"$f":"IF($A588 = \"\", \"\", COUNTIFS(ToDoList!$B:$B, $A588, ToDoList!$R:$R, F$2))","v":""},{"$f":"IF($A588 = \"\", \"\", COUNTIFS(ToDoList!$B:$B, $A588, ToDoList!$R:$R, G$2))","v":""},{"$f":"IF($A588 = \"\", \"\", COUNTIFS(ToDoList!$B:$B, $A588, ToDoList!$R:$R, H$2))","v":""},{"$f":"IF($A588 = \"\", \"\", COUNTIFS(ToDoList!$B:$B, $A588, ToDoList!$R:$R, I$2))","v":""},{"$f":"IF($A588 = \"\", \"\", COUNTIFS(ToDoList!$B:$B, $A588, ToDoList!$R:$R, J$2))","v":""}]
[null,{"$f":"IF($A589 = \"\", \"\", COUNTIFS(ToDoList!$B:$B, $A589, ToDoList!$R:$R, B$2))","v":""},{"$f":"IF($A589 = \"\", \"\", COUNTIFS(ToDoList!$B:$B, $A589, ToDoList!$R:$R, C$2))","v":""},{"$f":"IF($A589 = \"\", \"\", COUNTIFS(ToDoList!$B:$B, $A589, ToDoList!$R:$R, D$2))","v":""},{"$f":"IF($A589 = \"\", \"\", COUNTIFS(ToDoList!$B:$B, $A589, ToDoList!$R:$R, E$2))","v":""},{"$f":"IF($A589 = \"\", \"\", COUNTIFS(ToDoList!$B:$B, $A589, ToDoList!$R:$R, F$2))","v":""},{"$f":"IF($A589 = \"\", \"\", COUNTIFS(ToDoList!$B:$B, $A589, ToDoList!$R:$R, G$2))","v":""},{"$f":"IF($A589 = \"\", \"\", COUNTIFS(ToDoList!$B:$B, $A589, ToDoList!$R:$R, H$2))","v":""},{"$f":"IF($A589 = \"\", \"\", COUNTIFS(ToDoList!$B:$B, $A589, ToDoList!$R:$R, I$2))","v":""},{"$f":"IF($A589 = \"\", \"\", COUNTIFS(ToDoList!$B:$B, $A589, ToDoList!$R:$R, J$2))","v":""}]
[null,{"$f":"IF($A590 = \"\", \"\", COUNTIFS(ToDoList!$B:$B, $A590, ToDoList!$R:$R, B$2))","v":""},{"$f":"IF($A590 = \"\", \"\", COUNTIFS(ToDoList!$B:$B, $A590, ToDoList!$R:$R, C$2))","v":""},{"$f":"IF($A590 = \"\", \"\", COUNTIFS(ToDoList!$B:$B, $A590, ToDoList!$R:$R, D$2))","v":""},{"$f":"IF($A590 = \"\", \"\", COUNTIFS(ToDoList!$B:$B, $A590, ToDoList!$R:$R, E$2))","v":""},{"$f":"IF($A590 = \"\", \"\", COUNTIFS(ToDoList!$B:$B, $A590, ToDoList!$R:$R, F$2))","v":""},{"$f":"IF($A590 = \"\", \"\", COUNTIFS(ToDoList!$B:$B, $A590, ToDoList!$R:$R, G$2))","v":""},{"$f":"IF($A590 = \"\", \"\", COUNTIFS(ToDoList!$B:$B, $A590, ToDoList!$R:$R, H$2))","v":""},{"$f":"IF($A590 = \"\", \"\", COUNTIFS(ToDoList!$B:$B, $A590, ToDoList!$R:$R, I$2))","v":""},{"$f":"IF($A590 = \"\", \"\", COUNTIFS(ToDoList!$B:$B, $A590, ToDoList!$R:$R, J$2))","v":""}]
[null,{"$f":"IF($A591 = \"\", \"\", COUNTIFS(ToDoList!$B:$B, $A591, ToDoList!$R:$R, B$2))","v":""},{"$f":"IF($A591 = \"\", \"\", COUNTIFS(ToDoList!$B:$B, $A591, ToDoList!$R:$R, C$2))","v":""},{"$f":"IF($A591 = \"\", \"\", COUNTIFS(ToDoList!$B:$B, $A591, ToDoList!$R:$R, D$2))","v":""},{"$f":"IF($A591 = \"\", \"\", COUNTIFS(ToDoList!$B:$B, $A591, ToDoList!$R:$R, E$2))","v":""},{"$f":"IF($A591 = \"\", \"\", COUNTIFS(ToDoList!$B:$B, $A591, ToDoList!$R:$R, F$2))","v":""},{"$f":"IF($A591 = \"\", \"\", COUNTIFS(ToDoList!$B:$B, $A591, ToDoList!$R:$R, G$2))","v":""},{"$f":"IF($A591 = \"\", \"\", COUNTIFS(ToDoList!$B:$B, $A591, ToDoList!$R:$R, H$2))","v":""},{"$f":"IF($A591 = \"\", \"\", COUNTIFS(ToDoList!$B:$B, $A591, ToDoList!$R:$R, I$2))","v":""},{"$f":"IF($A591 = \"\", \"\", COUNTIFS(ToDoList!$B:$B, $A591, ToDoList!$R:$R, J$2))","v":""}]
[null,{"$f":"IF($A592 = \"\", \"\", COUNTIFS(ToDoList!$B:$B, $A592, ToDoList!$R:$R, B$2))","v":""},{"$f":"IF($A592 = \"\", \"\", COUNTIFS(ToDoList!$B:$B, $A592, ToDoList!$R:$R, C$2))","v":""},{"$f":"IF($A592 = \"\", \"\", COUNTIFS(ToDoList!$B:$B, $A592, ToDoList!$R:$R, D$2))","v":""},{"$f":"IF($A592 = \"\", \"\", COUNTIFS(ToDoList!$B:$B, $A592, ToDoList!$R:$R, E$2))","v":""},{"$f":"IF($A592 = \"\", \"\", COUNTIFS(ToDoList!$B:$B, $A592, ToDoList!$R:$R, F$2))","v":""},{"$f":"IF($A592 = \"\", \"\", COUNTIFS(ToDoList!$B:$B, $A592, ToDoList!$R:$R, G$2))","v":""},{"$f":"IF($A592 = \"\", \"\", COUNTIFS(ToDoList!$B:$B, $A592, ToDoList!$R:$R, H$2))","v":""},{"$f":"IF($A592 = \"\", \"\", COUNTIFS(ToDoList!$B:$B, $A592, ToDoList!$R:$R, I$2))","v":""},{"$f":"IF($A592 = \"\", \"\", COUNTIFS(ToDoList!$B:$B, $A592, ToDoList!$R:$R, J$2))","v":""}]
[null,{"$f":"IF($A593 = \"\", \"\", COUNTIFS(ToDoList!$B:$B, $A593, ToDoList!$R:$R, B$2))","v":""},{"$f":"IF($A593 = \"\", \"\", COUNTIFS(ToDoList!$B:$B, $A593, ToDoList!$R:$R, C$2))","v":""},{"$f":"IF($A593 = \"\", \"\", COUNTIFS(ToDoList!$B:$B, $A593, ToDoList!$R:$R, D$2))","v":""},{"$f":"IF($A593 = \"\", \"\", COUNTIFS(ToDoList!$B:$B, $A593, ToDoList!$R:$R, E$2))","v":""},{"$f":"IF($A593 = \"\", \"\", COUNTIFS(ToDoList!$B:$B, $A593, ToDoList!$R:$R, F$2))","v":""},{"$f":"IF($A593 = \"\", \"\", COUNTIFS(ToDoList!$B:$B, $A593, ToDoList!$R:$R, G$2))","v":""},{"$f":"IF($A593 = \"\", \"\", COUNTIFS(ToDoList!$B:$B, $A593, ToDoList!$R:$R, H$2))","v":""},{"$f":"IF($A593 = \"\", \"\", COUNTIFS(ToDoList!$B:$B, $A593, ToDoList!$R:$R, I$2))","v":""},{"$f":"IF($A593 = \"\", \"\", COUNTIFS(ToDoList!$B:$B, $A593, ToDoList!$R:$R, J$2))","v":""}]
[null,{"$f":"IF($A594 = \"\", \"\", COUNTIFS(ToDoList!$B:$B, $A594, ToDoList!$R:$R, B$2))","v":""},{"$f":"IF($A594 = \"\", \"\", COUNTIFS(ToDoList!$B:$B, $A594, ToDoList!$R:$R, C$2))","v":""},{"$f":"IF($A594 = \"\", \"\", COUNTIFS(ToDoList!$B:$B, $A594, ToDoList!$R:$R, D$2))","v":""},{"$f":"IF($A594 = \"\", \"\", COUNTIFS(ToDoList!$B:$B, $A594, ToDoList!$R:$R, E$2))","v":""},{"$f":"IF($A594 = \"\", \"\", COUNTIFS(ToDoList!$B:$B, $A594, ToDoList!$R:$R, F$2))","v":""},{"$f":"IF($A594 = \"\", \"\", COUNTIFS(ToDoList!$B:$B, $A594, ToDoList!$R:$R, G$2))","v":""},{"$f":"IF($A594 = \"\", \"\", COUNTIFS(ToDoList!$B:$B, $A594, ToDoList!$R:$R, H$2))","v":""},{"$f":"IF($A594 = \"\", \"\", COUNTIFS(ToDoList!$B:$B, $A594, ToDoList!$R:$R, I$2))","v":""},{"$f":"IF($A594 = \"\", \"\", COUNTIFS(ToDoList!$B:$B, $A594, ToDoList!$R:$R, J$2))","v":""}]
[null,{"$f":"IF($A595 = \"\", \"\", COUNTIFS(ToDoList!$B:$B, $A595, ToDoList!$R:$R, B$2))","v":""},{"$f":"IF($A595 = \"\", \"\", COUNTIFS(ToDoList!$B:$B, $A595, ToDoList!$R:$R, C$2))","v":""},{"$f":"IF($A595 = \"\", \"\", COUNTIFS(ToDoList!$B:$B, $A595, ToDoList!$R:$R, D$2))","v":""},{"$f":"IF($A595 = \"\", \"\", COUNTIFS(ToDoList!$B:$B, $A595, ToDoList!$R:$R, E$2))","v":""},{"$f":"IF($A595 = \"\", \"\", COUNTIFS(ToDoList!$B:$B, $A595, ToDoList!$R:$R, F$2))","v":""},{"$f":"IF($A595 = \"\", \"\", COUNTIFS(ToDoList!$B:$B, $A595, ToDoList!$R:$R, G$2))","v":""},{"$f":"IF($A595 = \"\", \"\", COUNTIFS(ToDoList!$B:$B, $A595, ToDoList!$R:$R, H$2))","v":""},{"$f":"IF($A595 = \"\", \"\", COUNTIFS(ToDoList!$B:$B, $A595, ToDoList!$R:$R, I$2))","v":""},{"$f":"IF($A595 = \"\", \"\", COUNTIFS(ToDoList!$B:$B, $A595, ToDoList!$R:$R, J$2))","v":""}]
[null,{"$f":"IF($A596 = \"\", \"\", COUNTIFS(ToDoList!$B:$B, $A596, ToDoList!$R:$R, B$2))","v":""},{"$f":"IF($A596 = \"\", \"\", COUNTIFS(ToDoList!$B:$B, $A596, ToDoList!$R:$R, C$2))","v":""},{"$f":"IF($A596 = \"\", \"\", COUNTIFS(ToDoList!$B:$B, $A596, ToDoList!$R:$R, D$2))","v":""},{"$f":"IF($A596 = \"\", \"\", COUNTIFS(ToDoList!$B:$B, $A596, ToDoList!$R:$R, E$2))","v":""},{"$f":"IF($A596 = \"\", \"\", COUNTIFS(ToDoList!$B:$B, $A596, ToDoList!$R:$R, F$2))","v":""},{"$f":"IF($A596 = \"\", \"\", COUNTIFS(ToDoList!$B:$B, $A596, ToDoList!$R:$R, G$2))","v":""},{"$f":"IF($A596 = \"\", \"\", COUNTIFS(ToDoList!$B:$B, $A596, ToDoList!$R:$R, H$2))","v":""},{"$f":"IF($A596 = \"\", \"\", COUNTIFS(ToDoList!$B:$B, $A596, ToDoList!$R:$R, I$2))","v":""},{"$f":"IF($A596 = \"\", \"\", COUNTIFS(ToDoList!$B:$B, $A596, ToDoList!$R:$R, J$2))","v":""}]
[null,{"$f":"IF($A597 = \"\", \"\", COUNTIFS(ToDoList!$B:$B, $A597, ToDoList!$R:$R, B$2))","v":""},{"$f":"IF($A597 = \"\", \"\", COUNTIFS(ToDoList!$B:$B, $A597, ToDoList!$R:$R, C$2))","v":""},{"$f":"IF($A597 = \"\", \"\", COUNTIFS(ToDoList!$B:$B, $A597, ToDoList!$R:$R, D$2))","v":""},{"$f":"IF($A597 = \"\", \"\", COUNTIFS(ToDoList!$B:$B, $A597, ToDoList!$R:$R, E$2))","v":""},{"$f":"IF($A597 = \"\", \"\", COUNTIFS(ToDoList!$B:$B, $A597, ToDoList!$R:$R, F$2))","v":""},{"$f":"IF($A597 = \"\", \"\", COUNTIFS(ToDoList!$B:$B, $A597, ToDoList!$R:$R, G$2))","v":""},{"$f":"IF($A597 = \"\", \"\", COUNTIFS(ToDoList!$B:$B, $A597, ToDoList!$R:$R, H$2))","v":""},{"$f":"IF($A597 = \"\", \"\", COUNTIFS(ToDoList!$B:$B, $A597, ToDoList!$R:$R, I$2))","v":""},{"$f":"IF($A597 = \"\", \"\", COUNTIFS(ToDoList!$B:$B, $A597, ToDoList!$R:$R, J$2))","v":""}]
[null,{"$f":"IF($A598 = \"\", \"\", COUNTIFS(ToDoList!$B:$B, $A598, ToDoList!$R:$R, B$2))","v":""},{"$f":"IF($A598 = \"\", \"\", COUNTIFS(ToDoList!$B:$B, $A598, ToDoList!$R:$R, C$2))","v":""},{"$f":"IF($A598 = \"\", \"\", COUNTIFS(ToDoList!$B:$B, $A598, ToDoList!$R:$R, D$2))","v":""},{"$f":"IF($A598 = \"\", \"\", COUNTIFS(ToDoList!$B:$B, $A598, ToDoList!$R:$R, E$2))","v":""},{"$f":"IF($A598 = \"\", \"\", COUNTIFS(ToDoList!$B:$B, $A598, ToDoList!$R:$R, F$2))","v":""},{"$f":"IF($A598 = \"\", \"\", COUNTIFS(ToDoList!$B:$B, $A598, ToDoList!$R:$R, G$2))","v":""},{"$f":"IF($A598 = \"\", \"\", COUNTIFS(ToDoList!$B:$B, $A598, ToDoList!$R:$R, H$2))","v":""},{"$f":"IF($A598 = \"\", \"\", COUNTIFS(ToDoList!$B:$B, $A598, ToDoList!$R:$R, I$2))","v":""},{"$f":"IF($A598 = \"\", \"\", COUNTIFS(ToDoList!$B:$B, $A598, ToDoList!$R:$R, J$2))","v":""}]
[null,{"$f":"IF($A599 = \"\", \"\", COUNTIFS(ToDoList!$B:$B, $A599, ToDoList!$R:$R, B$2))","v":""},{"$f":"IF($A599 = \"\", \"\", COUNTIFS(ToDoList!$B:$B, $A599, ToDoList!$R:$R, C$2))","v":""},{"$f":"IF($A599 = \"\", \"\", COUNTIFS(ToDoList!$B:$B, $A599, ToDoList!$R:$R, D$2))","v":""},{"$f":"IF($A599 = \"\", \"\", COUNTIFS(ToDoList!$B:$B, $A599, ToDoList!$R:$R, E$2))","v":""},{"$f":"IF($A599 = \"\", \"\", COUNTIFS(ToDoList!$B:$B, $A599, ToDoList!$R:$R, F$2))","v":""},{"$f":"IF($A599 = \"\", \"\", COUNTIFS(ToDoList!$B:$B, $A599, ToDoList!$R:$R, G$2))","v":""},{"$f":"IF($A599 = \"\", \"\", COUNTIFS(ToDoList!$B:$B, $A599, ToDoList!$R:$R, H$2))","v":""},{"$f":"IF($A599 = \"\", \"\", COUNTIFS(ToDoList!$B:$B, $A599, ToDoList!$R:$R, I$2))","v":""},{"$f":"IF($A599 = \"\", \"\", COUNTIFS(ToDoList!$B:$B, $A599, ToDoList!$R:$R, J$2))","v":""}]
[null,{"$f":"IF($A600 = \"\", \"\", COUNTIFS(ToDoList!$B:$B, $A600, ToDoList!$R:$R, B$2))","v":""},{"$f":"IF($A600 = \"\", \"\", COUNTIFS(ToDoList!$B:$B, $A600, ToDoList!$R:$R, C$2))","v":""},{"$f":"IF($A600 = \"\", \"\", COUNTIFS(ToDoList!$B:$B, $A600, ToDoList!$R:$R, D$2))","v":""},{"$f":"IF($A600 = \"\", \"\", COUNTIFS(ToDoList!$B:$B, $A600, ToDoList!$R:$R, E$2))","v":""},{"$f":"IF($A600 = \"\", \"\", COUNTIFS(ToDoList!$B:$B, $A600, ToDoList!$R:$R, F$2))","v":""},{"$f":"IF($A600 = \"\", \"\", COUNTIFS(ToDoList!$B:$B, $A600, ToDoList!$R:$R, G$2))","v":""},{"$f":"IF($A600 = \"\", \"\", COUNTIFS(ToDoList!$B:$B, $A600, ToDoList!$R:$R, H$2))","v":""},{"$f":"IF($A600 = \"\", \"\", COUNTIFS(ToDoList!$B:$B, $A600, ToDoList!$R:$R, I$2))","v":""},{"$f":"IF($A600 = \"\", \"\", COUNTIFS(ToDoList!$B:$B, $A600, ToDoList!$R:$R, J$2))","v":""}]
[null,{"$f":"IF($A601 = \"\", \"\", COUNTIFS(ToDoList!$B:$B, $A601, ToDoList!$R:$R, B$2))","v":""},{"$f":"IF($A601 = \"\", \"\", COUNTIFS(ToDoList!$B:$B, $A601, ToDoList!$R:$R, C$2))","v":""},{"$f":"IF($A601 = \"\", \"\", COUNTIFS(ToDoList!$B:$B, $A601, ToDoList!$R:$R, D$2))","v":""},{"$f":"IF($A601 = \"\", \"\", COUNTIFS(ToDoList!$B:$B, $A601, ToDoList!$R:$R, E$2))","v":""},{"$f":"IF($A601 = \"\", \"\", COUNTIFS(ToDoList!$B:$B, $A601, ToDoList!$R:$R, F$2))","v":""},{"$f":"IF($A601 = \"\", \"\", COUNTIFS(ToDoList!$B:$B, $A601, ToDoList!$R:$R, G$2))","v":""},{"$f":"IF($A601 = \"\", \"\", COUNTIFS(ToDoList!$B:$B, $A601, ToDoList!$R:$R, H$2))","v":""},{"$f":"IF($A601 = \"\", \"\", COUNTIFS(ToDoList!$B:$B, $A601, ToDoList!$R:$R, I$2))","v":""},{"$f":"IF($A601 = \"\", \"\", COUNTIFS(ToDoList!$B:$B, $A601, ToDoList!$R:$R, J$2))","v":""}]
[null,{"$f":"IF($A602 = \"\", \"\", COUNTIFS(ToDoList!$B:$B, $A602, ToDoList!$R:$R, B$2))","v":""},{"$f":"IF($A602 = \"\", \"\", COUNTIFS(ToDoList!$B:$B, $A602, ToDoList!$R:$R, C$2))","v":""},{"$f":"IF($A602 = \"\", \"\", COUNTIFS(ToDoList!$B:$B, $A602, ToDoList!$R:$R, D$2))","v":""},{"$f":"IF($A602 = \"\", \"\", COUNTIFS(ToDoList!$B:$B, $A602, ToDoList!$R:$R, E$2))","v":""},{"$f":"IF($A602 = \"\", \"\", COUNTIFS(ToDoList!$B:$B, $A602, ToDoList!$R:$R, F$2))","v":""},{"$f":"IF($A602 = \"\", \"\", COUNTIFS(ToDoList!$B:$B, $A602, ToDoList!$R:$R, G$2))","v":""},{"$f":"IF($A602 = \"\", \"\", COUNTIFS(ToDoList!$B:$B, $A602, ToDoList!$R:$R, H$2))","v":""},{"$f":"IF($A602 = \"\", \"\", COUNTIFS(ToDoList!$B:$B, $A602, ToDoList!$R:$R, I$2))","v":""},{"$f":"IF($A602 = \"\", \"\", COUNTIFS(ToDoList!$B:$B, $A602, ToDoList!$R:$R, J$2))","v":""}]
[null,{"$f":"IF($A603 = \"\", \"\", COUNTIFS(ToDoList!$B:$B, $A603, ToDoList!$R:$R, B$2))","v":""},{"$f":"IF($A603 = \"\", \"\", COUNTIFS(ToDoList!$B:$B, $A603, ToDoList!$R:$R, C$2))","v":""},{"$f":"IF($A603 = \"\", \"\", COUNTIFS(ToDoList!$B:$B, $A603, ToDoList!$R:$R, D$2))","v":""},{"$f":"IF($A603 = \"\", \"\", COUNTIFS(ToDoList!$B:$B, $A603, ToDoList!$R:$R, E$2))","v":""},{"$f":"IF($A603 = \"\", \"\", COUNTIFS(ToDoList!$B:$B, $A603, ToDoList!$R:$R, F$2))","v":""},{"$f":"IF($A603 = \"\", \"\", COUNTIFS(ToDoList!$B:$B, $A603, ToDoList!$R:$R, G$2))","v":""},{"$f":"IF($A603 = \"\", \"\", COUNTIFS(ToDoList!$B:$B, $A603, ToDoList!$R:$R, H$2))","v":""},{"$f":"IF($A603 = \"\", \"\", COUNTIFS(ToDoList!$B:$B, $A603, ToDoList!$R:$R, I$2))","v":""},{"$f":"IF($A603 = \"\", \"\", COUNTIFS(ToDoList!$B:$B, $A603, ToDoList!$R:$R, J$2))","v":""}]
[null,{"$f":"IF($A604 = \"\", \"\", COUNTIFS(ToDoList!$B:$B, $A604, ToDoList!$R:$R, B$2))","v":""},{"$f":"IF($A604 = \"\", \"\", COUNTIFS(ToDoList!$B:$B, $A604, ToDoList!$R:$R, C$2))","v":""},{"$f":"IF($A604 = \"\", \"\", COUNTIFS(ToDoList!$B:$B, $A604, ToDoList!$R:$R, D$2))","v":""},{"$f":"IF($A604 = \"\", \"\", COUNTIFS(ToDoList!$B:$B, $A604, ToDoList!$R:$R, E$2))","v":""},{"$f":"IF($A604 = \"\", \"\", COUNTIFS(ToDoList!$B:$B, $A604, ToDoList!$R:$R, F$2))","v":""},{"$f":"IF($A604 = \"\", \"\", COUNTIFS(ToDoList!$B:$B, $A604, ToDoList!$R:$R, G$2))","v":""},{"$f":"IF($A604 = \"\", \"\", COUNTIFS(ToDoList!$B:$B, $A604, ToDoList!$R:$R, H$2))","v":""},{"$f":"IF($A604 = \"\", \"\", COUNTIFS(ToDoList!$B:$B, $A604, ToDoList!$R:$R, I$2))","v":""},{"$f":"IF($A604 = \"\", \"\", COUNTIFS(ToDoList!$B:$B, $A604, ToDoList!$R:$R, J$2))","v":""}]
[null,{"$f":"IF($A605 = \"\", \"\", COUNTIFS(ToDoList!$B:$B, $A605, ToDoList!$R:$R, B$2))","v":""},{"$f":"IF($A605 = \"\", \"\", COUNTIFS(ToDoList!$B:$B, $A605, ToDoList!$R:$R, C$2))","v":""},{"$f":"IF($A605 = \"\", \"\", COUNTIFS(ToDoList!$B:$B, $A605, ToDoList!$R:$R, D$2))","v":""},{"$f":"IF($A605 = \"\", \"\", COUNTIFS(ToDoList!$B:$B, $A605, ToDoList!$R:$R, E$2))","v":""},{"$f":"IF($A605 = \"\", \"\", COUNTIFS(ToDoList!$B:$B, $A605, ToDoList!$R:$R, F$2))","v":""},{"$f":"IF($A605 = \"\", \"\", COUNTIFS(ToDoList!$B:$B, $A605, ToDoList!$R:$R, G$2))","v":""},{"$f":"IF($A605 = \"\", \"\", COUNTIFS(ToDoList!$B:$B, $A605, ToDoList!$R:$R, H$2))","v":""},{"$f":"IF($A605 = \"\", \"\", COUNTIFS(ToDoList!$B:$B, $A605, ToDoList!$R:$R, I$2))","v":""},{"$f":"IF($A605 = \"\", \"\", COUNTIFS(ToDoList!$B:$B, $A605, ToDoList!$R:$R, J$2))","v":""}]
[null,{"$f":"IF($A606 = \"\", \"\", COUNTIFS(ToDoList!$B:$B, $A606, ToDoList!$R:$R, B$2))","v":""},{"$f":"IF($A606 = \"\", \"\", COUNTIFS(ToDoList!$B:$B, $A606, ToDoList!$R:$R, C$2))","v":""},{"$f":"IF($A606 = \"\", \"\", COUNTIFS(ToDoList!$B:$B, $A606, ToDoList!$R:$R, D$2))","v":""},{"$f":"IF($A606 = \"\", \"\", COUNTIFS(ToDoList!$B:$B, $A606, ToDoList!$R:$R, E$2))","v":""},{"$f":"IF($A606 = \"\", \"\", COUNTIFS(ToDoList!$B:$B, $A606, ToDoList!$R:$R, F$2))","v":""},{"$f":"IF($A606 = \"\", \"\", COUNTIFS(ToDoList!$B:$B, $A606, ToDoList!$R:$R, G$2))","v":""},{"$f":"IF($A606 = \"\", \"\", COUNTIFS(ToDoList!$B:$B, $A606, ToDoList!$R:$R, H$2))","v":""},{"$f":"IF($A606 = \"\", \"\", COUNTIFS(ToDoList!$B:$B, $A606, ToDoList!$R:$R, I$2))","v":""},{"$f":"IF($A606 = \"\", \"\", COUNTIFS(ToDoList!$B:$B, $A606, ToDoList!$R:$R, J$2))","v":""}]
[null,{"$f":"IF($A607 = \"\", \"\", COUNTIFS(ToDoList!$B:$B, $A607, ToDoList!$R:$R, B$2))","v":""},{"$f":"IF($A607 = \"\", \"\", COUNTIFS(ToDoList!$B:$B, $A607, ToDoList!$R:$R, C$2))","v":""},{"$f":"IF($A607 = \"\", \"\", COUNTIFS(ToDoList!$B:$B, $A607, ToDoList!$R:$R, D$2))","v":""},{"$f":"IF($A607 = \"\", \"\", COUNTIFS(ToDoList!$B:$B, $A607, ToDoList!$R:$R, E$2))","v":""},{"$f":"IF($A607 = \"\", \"\", COUNTIFS(ToDoList!$B:$B, $A607, ToDoList!$R:$R, F$2))","v":""},{"$f":"IF($A607 = \"\", \"\", COUNTIFS(ToDoList!$B:$B, $A607, ToDoList!$R:$R, G$2))","v":""},{"$f":"IF($A607 = \"\", \"\", COUNTIFS(ToDoList!$B:$B, $A607, ToDoList!$R:$R, H$2))","v":""},{"$f":"IF($A607 = \"\", \"\", COUNTIFS(ToDoList!$B:$B, $A607, ToDoList!$R:$R, I$2))","v":""},{"$f":"IF($A607 = \"\", \"\", COUNTIFS(ToDoList!$B:$B, $A607, ToDoList!$R:$R, J$2))","v":""}]
[null,{"$f":"IF($A608 = \"\", \"\", COUNTIFS(ToDoList!$B:$B, $A608, ToDoList!$R:$R, B$2))","v":""},{"$f":"IF($A608 = \"\", \"\", COUNTIFS(ToDoList!$B:$B, $A608, ToDoList!$R:$R, C$2))","v":""},{"$f":"IF($A608 = \"\", \"\", COUNTIFS(ToDoList!$B:$B, $A608, ToDoList!$R:$R, D$2))","v":""},{"$f":"IF($A608 = \"\", \"\", COUNTIFS(ToDoList!$B:$B, $A608, ToDoList!$R:$R, E$2))","v":""},{"$f":"IF($A608 = \"\", \"\", COUNTIFS(ToDoList!$B:$B, $A608, ToDoList!$R:$R, F$2))","v":""},{"$f":"IF($A608 = \"\", \"\", COUNTIFS(ToDoList!$B:$B, $A608, ToDoList!$R:$R, G$2))","v":""},{"$f":"IF($A608 = \"\", \"\", COUNTIFS(ToDoList!$B:$B, $A608, ToDoList!$R:$R, H$2))","v":""},{"$f":"IF($A608 = \"\", \"\", COUNTIFS(ToDoList!$B:$B, $A608, ToDoList!$R:$R, I$2))","v":""},{"$f":"IF($A608 = \"\", \"\", COUNTIFS(ToDoList!$B:$B, $A608, ToDoList!$R:$R, J$2))","v":""}]
[null,{"$f":"IF($A609 = \"\", \"\", COUNTIFS(ToDoList!$B:$B, $A609, ToDoList!$R:$R, B$2))","v":""},{"$f":"IF($A609 = \"\", \"\", COUNTIFS(ToDoList!$B:$B, $A609, ToDoList!$R:$R, C$2))","v":""},{"$f":"IF($A609 = \"\", \"\", COUNTIFS(ToDoList!$B:$B, $A609, ToDoList!$R:$R, D$2))","v":""},{"$f":"IF($A609 = \"\", \"\", COUNTIFS(ToDoList!$B:$B, $A609, ToDoList!$R:$R, E$2))","v":""},{"$f":"IF($A609 = \"\", \"\", COUNTIFS(ToDoList!$B:$B, $A609, ToDoList!$R:$R, F$2))","v":""},{"$f":"IF($A609 = \"\", \"\", COUNTIFS(ToDoList!$B:$B, $A609, ToDoList!$R:$R, G$2))","v":""},{"$f":"IF($A609 = \"\", \"\", COUNTIFS(ToDoList!$B:$B, $A609, ToDoList!$R:$R, H$2))","v":""},{"$f":"IF($A609 = \"\", \"\", COUNTIFS(ToDoList!$B:$B, $A609, ToDoList!$R:$R, I$2))","v":""},{"$f":"IF($A609 = \"\", \"\", COUNTIFS(ToDoList!$B:$B, $A609, ToDoList!$R:$R, J$2))","v":""}]
[null,{"$f":"IF($A610 = \"\", \"\", COUNTIFS(ToDoList!$B:$B, $A610, ToDoList!$R:$R, B$2))","v":""},{"$f":"IF($A610 = \"\", \"\", COUNTIFS(ToDoList!$B:$B, $A610, ToDoList!$R:$R, C$2))","v":""},{"$f":"IF($A610 = \"\", \"\", COUNTIFS(ToDoList!$B:$B, $A610, ToDoList!$R:$R, D$2))","v":""},{"$f":"IF($A610 = \"\", \"\", COUNTIFS(ToDoList!$B:$B, $A610, ToDoList!$R:$R, E$2))","v":""},{"$f":"IF($A610 = \"\", \"\", COUNTIFS(ToDoList!$B:$B, $A610, ToDoList!$R:$R, F$2))","v":""},{"$f":"IF($A610 = \"\", \"\", COUNTIFS(ToDoList!$B:$B, $A610, ToDoList!$R:$R, G$2))","v":""},{"$f":"IF($A610 = \"\", \"\", COUNTIFS(ToDoList!$B:$B, $A610, ToDoList!$R:$R, H$2))","v":""},{"$f":"IF($A610 = \"\", \"\", COUNTIFS(ToDoList!$B:$B, $A610, ToDoList!$R:$R, I$2))","v":""},{"$f":"IF($A610 = \"\", \"\", COUNTIFS(ToDoList!$B:$B, $A610, ToDoList!$R:$R, J$2))","v":""}]
[null,{"$f":"IF($A611 = \"\", \"\", COUNTIFS(ToDoList!$B:$B, $A611, ToDoList!$R:$R, B$2))","v":""},{"$f":"IF($A611 = \"\", \"\", COUNTIFS(ToDoList!$B:$B, $A611, ToDoList!$R:$R, C$2))","v":""},{"$f":"IF($A611 = \"\", \"\", COUNTIFS(ToDoList!$B:$B, $A611, ToDoList!$R:$R, D$2))","v":""},{"$f":"IF($A611 = \"\", \"\", COUNTIFS(ToDoList!$B:$B, $A611, ToDoList!$R:$R, E$2))","v":""},{"$f":"IF($A611 = \"\", \"\", COUNTIFS(ToDoList!$B:$B, $A611, ToDoList!$R:$R, F$2))","v":""},{"$f":"IF($A611 = \"\", \"\", COUNTIFS(ToDoList!$B:$B, $A611, ToDoList!$R:$R, G$2))","v":""},{"$f":"IF($A611 = \"\", \"\", COUNTIFS(ToDoList!$B:$B, $A611, ToDoList!$R:$R, H$2))","v":""},{"$f":"IF($A611 = \"\", \"\", COUNTIFS(ToDoList!$B:$B, $A611, ToDoList!$R:$R, I$2))","v":""},{"$f":"IF($A611 = \"\", \"\", COUNTIFS(ToDoList!$B:$B, $A611, ToDoList!$R:$R, J$2))","v":""}]
[null,{"$f":"IF($A612 = \"\", \"\", COUNTIFS(ToDoList!$B:$B, $A612, ToDoList!$R:$R, B$2))","v":""},{"$f":"IF($A612 = \"\", \"\", COUNTIFS(ToDoList!$B:$B, $A612, ToDoList!$R:$R, C$2))","v":""},{"$f":"IF($A612 = \"\", \"\", COUNTIFS(ToDoList!$B:$B, $A612, ToDoList!$R:$R, D$2))","v":""},{"$f":"IF($A612 = \"\", \"\", COUNTIFS(ToDoList!$B:$B, $A612, ToDoList!$R:$R, E$2))","v":""},{"$f":"IF($A612 = \"\", \"\", COUNTIFS(ToDoList!$B:$B, $A612, ToDoList!$R:$R, F$2))","v":""},{"$f":"IF($A612 = \"\", \"\", COUNTIFS(ToDoList!$B:$B, $A612, ToDoList!$R:$R, G$2))","v":""},{"$f":"IF($A612 = \"\", \"\", COUNTIFS(ToDoList!$B:$B, $A612, ToDoList!$R:$R, H$2))","v":""},{"$f":"IF($A612 = \"\", \"\", COUNTIFS(ToDoList!$B:$B, $A612, ToDoList!$R:$R, I$2))","v":""},{"$f":"IF($A612 = \"\", \"\", COUNTIFS(ToDoList!$B:$B, $A612, ToDoList!$R:$R, J$2))","v":""}]
[null,{"$f":"IF($A613 = \"\", \"\", COUNTIFS(ToDoList!$B:$B, $A613, ToDoList!$R:$R, B$2))","v":""},{"$f":"IF($A613 = \"\", \"\", COUNTIFS(ToDoList!$B:$B, $A613, ToDoList!$R:$R, C$2))","v":""},{"$f":"IF($A613 = \"\", \"\", COUNTIFS(ToDoList!$B:$B, $A613, ToDoList!$R:$R, D$2))","v":""},{"$f":"IF($A613 = \"\", \"\", COUNTIFS(ToDoList!$B:$B, $A613, ToDoList!$R:$R, E$2))","v":""},{"$f":"IF($A613 = \"\", \"\", COUNTIFS(ToDoList!$B:$B, $A613, ToDoList!$R:$R, F$2))","v":""},{"$f":"IF($A613 = \"\", \"\", COUNTIFS(ToDoList!$B:$B, $A613, ToDoList!$R:$R, G$2))","v":""},{"$f":"IF($A613 = \"\", \"\", COUNTIFS(ToDoList!$B:$B, $A613, ToDoList!$R:$R, H$2))","v":""},{"$f":"IF($A613 = \"\", \"\", COUNTIFS(ToDoList!$B:$B, $A613, ToDoList!$R:$R, I$2))","v":""},{"$f":"IF($A613 = \"\", \"\", COUNTIFS(ToDoList!$B:$B, $A613, ToDoList!$R:$R, J$2))","v":""}]
[null,{"$f":"IF($A614 = \"\", \"\", COUNTIFS(ToDoList!$B:$B, $A614, ToDoList!$R:$R, B$2))","v":""},{"$f":"IF($A614 = \"\", \"\", COUNTIFS(ToDoList!$B:$B, $A614, ToDoList!$R:$R, C$2))","v":""},{"$f":"IF($A614 = \"\", \"\", COUNTIFS(ToDoList!$B:$B, $A614, ToDoList!$R:$R, D$2))","v":""},{"$f":"IF($A614 = \"\", \"\", COUNTIFS(ToDoList!$B:$B, $A614, ToDoList!$R:$R, E$2))","v":""},{"$f":"IF($A614 = \"\", \"\", COUNTIFS(ToDoList!$B:$B, $A614, ToDoList!$R:$R, F$2))","v":""},{"$f":"IF($A614 = \"\", \"\", COUNTIFS(ToDoList!$B:$B, $A614, ToDoList!$R:$R, G$2))","v":""},{"$f":"IF($A614 = \"\", \"\", COUNTIFS(ToDoList!$B:$B, $A614, ToDoList!$R:$R, H$2))","v":""},{"$f":"IF($A614 = \"\", \"\", COUNTIFS(ToDoList!$B:$B, $A614, ToDoList!$R:$R, I$2))","v":""},{"$f":"IF($A614 = \"\", \"\", COUNTIFS(ToDoList!$B:$B, $A614, ToDoList!$R:$R, J$2))","v":""}]
[null,{"$f":"IF($A615 = \"\", \"\", COUNTIFS(ToDoList!$B:$B, $A615, ToDoList!$R:$R, B$2))","v":""},{"$f":"IF($A615 = \"\", \"\", COUNTIFS(ToDoList!$B:$B, $A615, ToDoList!$R:$R, C$2))","v":""},{"$f":"IF($A615 = \"\", \"\", COUNTIFS(ToDoList!$B:$B, $A615, ToDoList!$R:$R, D$2))","v":""},{"$f":"IF($A615 = \"\", \"\", COUNTIFS(ToDoList!$B:$B, $A615, ToDoList!$R:$R, E$2))","v":""},{"$f":"IF($A615 = \"\", \"\", COUNTIFS(ToDoList!$B:$B, $A615, ToDoList!$R:$R, F$2))","v":""},{"$f":"IF($A615 = \"\", \"\", COUNTIFS(ToDoList!$B:$B, $A615, ToDoList!$R:$R, G$2))","v":""},{"$f":"IF($A615 = \"\", \"\", COUNTIFS(ToDoList!$B:$B, $A615, ToDoList!$R:$R, H$2))","v":""},{"$f":"IF($A615 = \"\", \"\", COUNTIFS(ToDoList!$B:$B, $A615, ToDoList!$R:$R, I$2))","v":""},{"$f":"IF($A615 = \"\", \"\", COUNTIFS(ToDoList!$B:$B, $A615, ToDoList!$R:$R, J$2))","v":""}]
[null,{"$f":"IF($A616 = \"\", \"\", COUNTIFS(ToDoList!$B:$B, $A616, ToDoList!$R:$R, B$2))","v":""},{"$f":"IF($A616 = \"\", \"\", COUNTIFS(ToDoList!$B:$B, $A616, ToDoList!$R:$R, C$2))","v":""},{"$f":"IF($A616 = \"\", \"\", COUNTIFS(ToDoList!$B:$B, $A616, ToDoList!$R:$R, D$2))","v":""},{"$f":"IF($A616 = \"\", \"\", COUNTIFS(ToDoList!$B:$B, $A616, ToDoList!$R:$R, E$2))","v":""},{"$f":"IF($A616 = \"\", \"\", COUNTIFS(ToDoList!$B:$B, $A616, ToDoList!$R:$R, F$2))","v":""},{"$f":"IF($A616 = \"\", \"\", COUNTIFS(ToDoList!$B:$B, $A616, ToDoList!$R:$R, G$2))","v":""},{"$f":"IF($A616 = \"\", \"\", COUNTIFS(ToDoList!$B:$B, $A616, ToDoList!$R:$R, H$2))","v":""},{"$f":"IF($A616 = \"\", \"\", COUNTIFS(ToDoList!$B:$B, $A616, ToDoList!$R:$R, I$2))","v":""},{"$f":"IF($A616 = \"\", \"\", COUNTIFS(ToDoList!$B:$B, $A616, ToDoList!$R:$R, J$2))","v":""}]
[null,{"$f":"IF($A617 = \"\", \"\", COUNTIFS(ToDoList!$B:$B, $A617, ToDoList!$R:$R, B$2))","v":""},{"$f":"IF($A617 = \"\", \"\", COUNTIFS(ToDoList!$B:$B, $A617, ToDoList!$R:$R, C$2))","v":""},{"$f":"IF($A617 = \"\", \"\", COUNTIFS(ToDoList!$B:$B, $A617, ToDoList!$R:$R, D$2))","v":""},{"$f":"IF($A617 = \"\", \"\", COUNTIFS(ToDoList!$B:$B, $A617, ToDoList!$R:$R, E$2))","v":""},{"$f":"IF($A617 = \"\", \"\", COUNTIFS(ToDoList!$B:$B, $A617, ToDoList!$R:$R, F$2))","v":""},{"$f":"IF($A617 = \"\", \"\", COUNTIFS(ToDoList!$B:$B, $A617, ToDoList!$R:$R, G$2))","v":""},{"$f":"IF($A617 = \"\", \"\", COUNTIFS(ToDoList!$B:$B, $A617, ToDoList!$R:$R, H$2))","v":""},{"$f":"IF($A617 = \"\", \"\", COUNTIFS(ToDoList!$B:$B, $A617, ToDoList!$R:$R, I$2))","v":""},{"$f":"IF($A617 = \"\", \"\", COUNTIFS(ToDoList!$B:$B, $A617, ToDoList!$R:$R, J$2))","v":""}]
[null,{"$f":"IF($A618 = \"\", \"\", COUNTIFS(ToDoList!$B:$B, $A618, ToDoList!$R:$R, B$2))","v":""},{"$f":"IF($A618 = \"\", \"\", COUNTIFS(ToDoList!$B:$B, $A618, ToDoList!$R:$R, C$2))","v":""},{"$f":"IF($A618 = \"\", \"\", COUNTIFS(ToDoList!$B:$B, $A618, ToDoList!$R:$R, D$2))","v":""},{"$f":"IF($A618 = \"\", \"\", COUNTIFS(ToDoList!$B:$B, $A618, ToDoList!$R:$R, E$2))","v":""},{"$f":"IF($A618 = \"\", \"\", COUNTIFS(ToDoList!$B:$B, $A618, ToDoList!$R:$R, F$2))","v":""},{"$f":"IF($A618 = \"\", \"\", COUNTIFS(ToDoList!$B:$B, $A618, ToDoList!$R:$R, G$2))","v":""},{"$f":"IF($A618 = \"\", \"\", COUNTIFS(ToDoList!$B:$B, $A618, ToDoList!$R:$R, H$2))","v":""},{"$f":"IF($A618 = \"\", \"\", COUNTIFS(ToDoList!$B:$B, $A618, ToDoList!$R:$R, I$2))","v":""},{"$f":"IF($A618 = \"\", \"\", COUNTIFS(ToDoList!$B:$B, $A618, ToDoList!$R:$R, J$2))","v":""}]
[null,{"$f":"IF($A619 = \"\", \"\", COUNTIFS(ToDoList!$B:$B, $A619, ToDoList!$R:$R, B$2))","v":""},{"$f":"IF($A619 = \"\", \"\", COUNTIFS(ToDoList!$B:$B, $A619, ToDoList!$R:$R, C$2))","v":""},{"$f":"IF($A619 = \"\", \"\", COUNTIFS(ToDoList!$B:$B, $A619, ToDoList!$R:$R, D$2))","v":""},{"$f":"IF($A619 = \"\", \"\", COUNTIFS(ToDoList!$B:$B, $A619, ToDoList!$R:$R, E$2))","v":""},{"$f":"IF($A619 = \"\", \"\", COUNTIFS(ToDoList!$B:$B, $A619, ToDoList!$R:$R, F$2))","v":""},{"$f":"IF($A619 = \"\", \"\", COUNTIFS(ToDoList!$B:$B, $A619, ToDoList!$R:$R, G$2))","v":""},{"$f":"IF($A619 = \"\", \"\", COUNTIFS(ToDoList!$B:$B, $A619, ToDoList!$R:$R, H$2))","v":""},{"$f":"IF($A619 = \"\", \"\", COUNTIFS(ToDoList!$B:$B, $A619, ToDoList!$R:$R, I$2))","v":""},{"$f":"IF($A619 = \"\", \"\", COUNTIFS(ToDoList!$B:$B, $A619, ToDoList!$R:$R, J$2))","v":""}]
[null,{"$f":"IF($A620 = \"\", \"\", COUNTIFS(ToDoList!$B:$B, $A620, ToDoList!$R:$R, B$2))","v":""},{"$f":"IF($A620 = \"\", \"\", COUNTIFS(ToDoList!$B:$B, $A620, ToDoList!$R:$R, C$2))","v":""},{"$f":"IF($A620 = \"\", \"\", COUNTIFS(ToDoList!$B:$B, $A620, ToDoList!$R:$R, D$2))","v":""},{"$f":"IF($A620 = \"\", \"\", COUNTIFS(ToDoList!$B:$B, $A620, ToDoList!$R:$R, E$2))","v":""},{"$f":"IF($A620 = \"\", \"\", COUNTIFS(ToDoList!$B:$B, $A620, ToDoList!$R:$R, F$2))","v":""},{"$f":"IF($A620 = \"\", \"\", COUNTIFS(ToDoList!$B:$B, $A620, ToDoList!$R:$R, G$2))","v":""},{"$f":"IF($A620 = \"\", \"\", COUNTIFS(ToDoList!$B:$B, $A620, ToDoList!$R:$R, H$2))","v":""},{"$f":"IF($A620 = \"\", \"\", COUNTIFS(ToDoList!$B:$B, $A620, ToDoList!$R:$R, I$2))","v":""},{"$f":"IF($A620 = \"\", \"\", COUNTIFS(ToDoList!$B:$B, $A620, ToDoList!$R:$R, J$2))","v":""}]
[null,{"$f":"IF($A621 = \"\", \"\", COUNTIFS(ToDoList!$B:$B, $A621, ToDoList!$R:$R, B$2))","v":""},{"$f":"IF($A621 = \"\", \"\", COUNTIFS(ToDoList!$B:$B, $A621, ToDoList!$R:$R, C$2))","v":""},{"$f":"IF($A621 = \"\", \"\", COUNTIFS(ToDoList!$B:$B, $A621, ToDoList!$R:$R, D$2))","v":""},{"$f":"IF($A621 = \"\", \"\", COUNTIFS(ToDoList!$B:$B, $A621, ToDoList!$R:$R, E$2))","v":""},{"$f":"IF($A621 = \"\", \"\", COUNTIFS(ToDoList!$B:$B, $A621, ToDoList!$R:$R, F$2))","v":""},{"$f":"IF($A621 = \"\", \"\", COUNTIFS(ToDoList!$B:$B, $A621, ToDoList!$R:$R, G$2))","v":""},{"$f":"IF($A621 = \"\", \"\", COUNTIFS(ToDoList!$B:$B, $A621, ToDoList!$R:$R, H$2))","v":""},{"$f":"IF($A621 = \"\", \"\", COUNTIFS(ToDoList!$B:$B, $A621, ToDoList!$R:$R, I$2))","v":""},{"$f":"IF($A621 = \"\", \"\", COUNTIFS(ToDoList!$B:$B, $A621, ToDoList!$R:$R, J$2))","v":""}]
[null,{"$f":"IF($A622 = \"\", \"\", COUNTIFS(ToDoList!$B:$B, $A622, ToDoList!$R:$R, B$2))","v":""},{"$f":"IF($A622 = \"\", \"\", COUNTIFS(ToDoList!$B:$B, $A622, ToDoList!$R:$R, C$2))","v":""},{"$f":"IF($A622 = \"\", \"\", COUNTIFS(ToDoList!$B:$B, $A622, ToDoList!$R:$R, D$2))","v":""},{"$f":"IF($A622 = \"\", \"\", COUNTIFS(ToDoList!$B:$B, $A622, ToDoList!$R:$R, E$2))","v":""},{"$f":"IF($A622 = \"\", \"\", COUNTIFS(ToDoList!$B:$B, $A622, ToDoList!$R:$R, F$2))","v":""},{"$f":"IF($A622 = \"\", \"\", COUNTIFS(ToDoList!$B:$B, $A622, ToDoList!$R:$R, G$2))","v":""},{"$f":"IF($A622 = \"\", \"\", COUNTIFS(ToDoList!$B:$B, $A622, ToDoList!$R:$R, H$2))","v":""},{"$f":"IF($A622 = \"\", \"\", COUNTIFS(ToDoList!$B:$B, $A622, ToDoList!$R:$R, I$2))","v":""},{"$f":"IF($A622 = \"\", \"\", COUNTIFS(ToDoList!$B:$B, $A622, ToDoList!$R:$R, J$2))","v":""}]
[null,{"$f":"IF($A623 = \"\", \"\", COUNTIFS(ToDoList!$B:$B, $A623, ToDoList!$R:$R, B$2))","v":""},{"$f":"IF($A623 = \"\", \"\", COUNTIFS(ToDoList!$B:$B, $A623, ToDoList!$R:$R, C$2))","v":""},{"$f":"IF($A623 = \"\", \"\", COUNTIFS(ToDoList!$B:$B, $A623, ToDoList!$R:$R, D$2))","v":""},{"$f":"IF($A623 = \"\", \"\", COUNTIFS(ToDoList!$B:$B, $A623, ToDoList!$R:$R, E$2))","v":""},{"$f":"IF($A623 = \"\", \"\", COUNTIFS(ToDoList!$B:$B, $A623, ToDoList!$R:$R, F$2))","v":""},{"$f":"IF($A623 = \"\", \"\", COUNTIFS(ToDoList!$B:$B, $A623, ToDoList!$R:$R, G$2))","v":""},{"$f":"IF($A623 = \"\", \"\", COUNTIFS(ToDoList!$B:$B, $A623, ToDoList!$R:$R, H$2))","v":""},{"$f":"IF($A623 = \"\", \"\", COUNTIFS(ToDoList!$B:$B, $A623, ToDoList!$R:$R, I$2))","v":""},{"$f":"IF($A623 = \"\", \"\", COUNTIFS(ToDoList!$B:$B, $A623, ToDoList!$R:$R, J$2))","v":""}]
[null,{"$f":"IF($A624 = \"\", \"\", COUNTIFS(ToDoList!$B:$B, $A624, ToDoList!$R:$R, B$2))","v":""},{"$f":"IF($A624 = \"\", \"\", COUNTIFS(ToDoList!$B:$B, $A624, ToDoList!$R:$R, C$2))","v":""},{"$f":"IF($A624 = \"\", \"\", COUNTIFS(ToDoList!$B:$B, $A624, ToDoList!$R:$R, D$2))","v":""},{"$f":"IF($A624 = \"\", \"\", COUNTIFS(ToDoList!$B:$B, $A624, ToDoList!$R:$R, E$2))","v":""},{"$f":"IF($A624 = \"\", \"\", COUNTIFS(ToDoList!$B:$B, $A624, ToDoList!$R:$R, F$2))","v":""},{"$f":"IF($A624 = \"\", \"\", COUNTIFS(ToDoList!$B:$B, $A624, ToDoList!$R:$R, G$2))","v":""},{"$f":"IF($A624 = \"\", \"\", COUNTIFS(ToDoList!$B:$B, $A624, ToDoList!$R:$R, H$2))","v":""},{"$f":"IF($A624 = \"\", \"\", COUNTIFS(ToDoList!$B:$B, $A624, ToDoList!$R:$R, I$2))","v":""},{"$f":"IF($A624 = \"\", \"\", COUNTIFS(ToDoList!$B:$B, $A624, ToDoList!$R:$R, J$2))","v":""}]
[null,{"$f":"IF($A625 = \"\", \"\", COUNTIFS(ToDoList!$B:$B, $A625, ToDoList!$R:$R, B$2))","v":""},{"$f":"IF($A625 = \"\", \"\", COUNTIFS(ToDoList!$B:$B, $A625, ToDoList!$R:$R, C$2))","v":""},{"$f":"IF($A625 = \"\", \"\", COUNTIFS(ToDoList!$B:$B, $A625, ToDoList!$R:$R, D$2))","v":""},{"$f":"IF($A625 = \"\", \"\", COUNTIFS(ToDoList!$B:$B, $A625, ToDoList!$R:$R, E$2))","v":""},{"$f":"IF($A625 = \"\", \"\", COUNTIFS(ToDoList!$B:$B, $A625, ToDoList!$R:$R, F$2))","v":""},{"$f":"IF($A625 = \"\", \"\", COUNTIFS(ToDoList!$B:$B, $A625, ToDoList!$R:$R, G$2))","v":""},{"$f":"IF($A625 = \"\", \"\", COUNTIFS(ToDoList!$B:$B, $A625, ToDoList!$R:$R, H$2))","v":""},{"$f":"IF($A625 = \"\", \"\", COUNTIFS(ToDoList!$B:$B, $A625, ToDoList!$R:$R, I$2))","v":""},{"$f":"IF($A625 = \"\", \"\", COUNTIFS(ToDoList!$B:$B, $A625, ToDoList!$R:$R, J$2))","v":""}]
[null,{"$f":"IF($A626 = \"\", \"\", COUNTIFS(ToDoList!$B:$B, $A626, ToDoList!$R:$R, B$2))","v":""},{"$f":"IF($A626 = \"\", \"\", COUNTIFS(ToDoList!$B:$B, $A626, ToDoList!$R:$R, C$2))","v":""},{"$f":"IF($A626 = \"\", \"\", COUNTIFS(ToDoList!$B:$B, $A626, ToDoList!$R:$R, D$2))","v":""},{"$f":"IF($A626 = \"\", \"\", COUNTIFS(ToDoList!$B:$B, $A626, ToDoList!$R:$R, E$2))","v":""},{"$f":"IF($A626 = \"\", \"\", COUNTIFS(ToDoList!$B:$B, $A626, ToDoList!$R:$R, F$2))","v":""},{"$f":"IF($A626 = \"\", \"\", COUNTIFS(ToDoList!$B:$B, $A626, ToDoList!$R:$R, G$2))","v":""},{"$f":"IF($A626 = \"\", \"\", COUNTIFS(ToDoList!$B:$B, $A626, ToDoList!$R:$R, H$2))","v":""},{"$f":"IF($A626 = \"\", \"\", COUNTIFS(ToDoList!$B:$B, $A626, ToDoList!$R:$R, I$2))","v":""},{"$f":"IF($A626 = \"\", \"\", COUNTIFS(ToDoList!$B:$B, $A626, ToDoList!$R:$R, J$2))","v":""}]
[null,{"$f":"IF($A627 = \"\", \"\", COUNTIFS(ToDoList!$B:$B, $A627, ToDoList!$R:$R, B$2))","v":""},{"$f":"IF($A627 = \"\", \"\", COUNTIFS(ToDoList!$B:$B, $A627, ToDoList!$R:$R, C$2))","v":""},{"$f":"IF($A627 = \"\", \"\", COUNTIFS(ToDoList!$B:$B, $A627, ToDoList!$R:$R, D$2))","v":""},{"$f":"IF($A627 = \"\", \"\", COUNTIFS(ToDoList!$B:$B, $A627, ToDoList!$R:$R, E$2))","v":""},{"$f":"IF($A627 = \"\", \"\", COUNTIFS(ToDoList!$B:$B, $A627, ToDoList!$R:$R, F$2))","v":""},{"$f":"IF($A627 = \"\", \"\", COUNTIFS(ToDoList!$B:$B, $A627, ToDoList!$R:$R, G$2))","v":""},{"$f":"IF($A627 = \"\", \"\", COUNTIFS(ToDoList!$B:$B, $A627, ToDoList!$R:$R, H$2))","v":""},{"$f":"IF($A627 = \"\", \"\", COUNTIFS(ToDoList!$B:$B, $A627, ToDoList!$R:$R, I$2))","v":""},{"$f":"IF($A627 = \"\", \"\", COUNTIFS(ToDoList!$B:$B, $A627, ToDoList!$R:$R, J$2))","v":""}]
[null,{"$f":"IF($A628 = \"\", \"\", COUNTIFS(ToDoList!$B:$B, $A628, ToDoList!$R:$R, B$2))","v":""},{"$f":"IF($A628 = \"\", \"\", COUNTIFS(ToDoList!$B:$B, $A628, ToDoList!$R:$R, C$2))","v":""},{"$f":"IF($A628 = \"\", \"\", COUNTIFS(ToDoList!$B:$B, $A628, ToDoList!$R:$R, D$2))","v":""},{"$f":"IF($A628 = \"\", \"\", COUNTIFS(ToDoList!$B:$B, $A628, ToDoList!$R:$R, E$2))","v":""},{"$f":"IF($A628 = \"\", \"\", COUNTIFS(ToDoList!$B:$B, $A628, ToDoList!$R:$R, F$2))","v":""},{"$f":"IF($A628 = \"\", \"\", COUNTIFS(ToDoList!$B:$B, $A628, ToDoList!$R:$R, G$2))","v":""},{"$f":"IF($A628 = \"\", \"\", COUNTIFS(ToDoList!$B:$B, $A628, ToDoList!$R:$R, H$2))","v":""},{"$f":"IF($A628 = \"\", \"\", COUNTIFS(ToDoList!$B:$B, $A628, ToDoList!$R:$R, I$2))","v":""},{"$f":"IF($A628 = \"\", \"\", COUNTIFS(ToDoList!$B:$B, $A628, ToDoList!$R:$R, J$2))","v":""}]
[null,{"$f":"IF($A629 = \"\", \"\", COUNTIFS(ToDoList!$B:$B, $A629, ToDoList!$R:$R, B$2))","v":""},{"$f":"IF($A629 = \"\", \"\", COUNTIFS(ToDoList!$B:$B, $A629, ToDoList!$R:$R, C$2))","v":""},{"$f":"IF($A629 = \"\", \"\", COUNTIFS(ToDoList!$B:$B, $A629, ToDoList!$R:$R, D$2))","v":""},{"$f":"IF($A629 = \"\", \"\", COUNTIFS(ToDoList!$B:$B, $A629, ToDoList!$R:$R, E$2))","v":""},{"$f":"IF($A629 = \"\", \"\", COUNTIFS(ToDoList!$B:$B, $A629, ToDoList!$R:$R, F$2))","v":""},{"$f":"IF($A629 = \"\", \"\", COUNTIFS(ToDoList!$B:$B, $A629, ToDoList!$R:$R, G$2))","v":""},{"$f":"IF($A629 = \"\", \"\", COUNTIFS(ToDoList!$B:$B, $A629, ToDoList!$R:$R, H$2))","v":""},{"$f":"IF($A629 = \"\", \"\", COUNTIFS(ToDoList!$B:$B, $A629, ToDoList!$R:$R, I$2))","v":""},{"$f":"IF($A629 = \"\", \"\", COUNTIFS(ToDoList!$B:$B, $A629, ToDoList!$R:$R, J$2))","v":""}]
[null,{"$f":"IF($A630 = \"\", \"\", COUNTIFS(ToDoList!$B:$B, $A630, ToDoList!$R:$R, B$2))","v":""},{"$f":"IF($A630 = \"\", \"\", COUNTIFS(ToDoList!$B:$B, $A630, ToDoList!$R:$R, C$2))","v":""},{"$f":"IF($A630 = \"\", \"\", COUNTIFS(ToDoList!$B:$B, $A630, ToDoList!$R:$R, D$2))","v":""},{"$f":"IF($A630 = \"\", \"\", COUNTIFS(ToDoList!$B:$B, $A630, ToDoList!$R:$R, E$2))","v":""},{"$f":"IF($A630 = \"\", \"\", COUNTIFS(ToDoList!$B:$B, $A630, ToDoList!$R:$R, F$2))","v":""},{"$f":"IF($A630 = \"\", \"\", COUNTIFS(ToDoList!$B:$B, $A630, ToDoList!$R:$R, G$2))","v":""},{"$f":"IF($A630 = \"\", \"\", COUNTIFS(ToDoList!$B:$B, $A630, ToDoList!$R:$R, H$2))","v":""},{"$f":"IF($A630 = \"\", \"\", COUNTIFS(ToDoList!$B:$B, $A630, ToDoList!$R:$R, I$2))","v":""},{"$f":"IF($A630 = \"\", \"\", COUNTIFS(ToDoList!$B:$B, $A630, ToDoList!$R:$R, J$2))","v":""}]
[null,{"$f":"IF($A631 = \"\", \"\", COUNTIFS(ToDoList!$B:$B, $A631, ToDoList!$R:$R, B$2))","v":""},{"$f":"IF($A631 = \"\", \"\", COUNTIFS(ToDoList!$B:$B, $A631, ToDoList!$R:$R, C$2))","v":""},{"$f":"IF($A631 = \"\", \"\", COUNTIFS(ToDoList!$B:$B, $A631, ToDoList!$R:$R, D$2))","v":""},{"$f":"IF($A631 = \"\", \"\", COUNTIFS(ToDoList!$B:$B, $A631, ToDoList!$R:$R, E$2))","v":""},{"$f":"IF($A631 = \"\", \"\", COUNTIFS(ToDoList!$B:$B, $A631, ToDoList!$R:$R, F$2))","v":""},{"$f":"IF($A631 = \"\", \"\", COUNTIFS(ToDoList!$B:$B, $A631, ToDoList!$R:$R, G$2))","v":""},{"$f":"IF($A631 = \"\", \"\", COUNTIFS(ToDoList!$B:$B, $A631, ToDoList!$R:$R, H$2))","v":""},{"$f":"IF($A631 = \"\", \"\", COUNTIFS(ToDoList!$B:$B, $A631, ToDoList!$R:$R, I$2))","v":""},{"$f":"IF($A631 = \"\", \"\", COUNTIFS(ToDoList!$B:$B, $A631, ToDoList!$R:$R, J$2))","v":""}]
[null,{"$f":"IF($A632 = \"\", \"\", COUNTIFS(ToDoList!$B:$B, $A632, ToDoList!$R:$R, B$2))","v":""},{"$f":"IF($A632 = \"\", \"\", COUNTIFS(ToDoList!$B:$B, $A632, ToDoList!$R:$R, C$2))","v":""},{"$f":"IF($A632 = \"\", \"\", COUNTIFS(ToDoList!$B:$B, $A632, ToDoList!$R:$R, D$2))","v":""},{"$f":"IF($A632 = \"\", \"\", COUNTIFS(ToDoList!$B:$B, $A632, ToDoList!$R:$R, E$2))","v":""},{"$f":"IF($A632 = \"\", \"\", COUNTIFS(ToDoList!$B:$B, $A632, ToDoList!$R:$R, F$2))","v":""},{"$f":"IF($A632 = \"\", \"\", COUNTIFS(ToDoList!$B:$B, $A632, ToDoList!$R:$R, G$2))","v":""},{"$f":"IF($A632 = \"\", \"\", COUNTIFS(ToDoList!$B:$B, $A632, ToDoList!$R:$R, H$2))","v":""},{"$f":"IF($A632 = \"\", \"\", COUNTIFS(ToDoList!$B:$B, $A632, ToDoList!$R:$R, I$2))","v":""},{"$f":"IF($A632 = \"\", \"\", COUNTIFS(ToDoList!$B:$B, $A632, ToDoList!$R:$R, J$2))","v":""}]
[null,{"$f":"IF($A633 = \"\", \"\", COUNTIFS(ToDoList!$B:$B, $A633, ToDoList!$R:$R, B$2))","v":""},{"$f":"IF($A633 = \"\", \"\", COUNTIFS(ToDoList!$B:$B, $A633, ToDoList!$R:$R, C$2))","v":""},{"$f":"IF($A633 = \"\", \"\", COUNTIFS(ToDoList!$B:$B, $A633, ToDoList!$R:$R, D$2))","v":""},{"$f":"IF($A633 = \"\", \"\", COUNTIFS(ToDoList!$B:$B, $A633, ToDoList!$R:$R, E$2))","v":""},{"$f":"IF($A633 = \"\", \"\", COUNTIFS(ToDoList!$B:$B, $A633, ToDoList!$R:$R, F$2))","v":""},{"$f":"IF($A633 = \"\", \"\", COUNTIFS(ToDoList!$B:$B, $A633, ToDoList!$R:$R, G$2))","v":""},{"$f":"IF($A633 = \"\", \"\", COUNTIFS(ToDoList!$B:$B, $A633, ToDoList!$R:$R, H$2))","v":""},{"$f":"IF($A633 = \"\", \"\", COUNTIFS(ToDoList!$B:$B, $A633, ToDoList!$R:$R, I$2))","v":""},{"$f":"IF($A633 = \"\", \"\", COUNTIFS(ToDoList!$B:$B, $A633, ToDoList!$R:$R, J$2))","v":""}]
[null,{"$f":"IF($A634 = \"\", \"\", COUNTIFS(ToDoList!$B:$B, $A634, ToDoList!$R:$R, B$2))","v":""},{"$f":"IF($A634 = \"\", \"\", COUNTIFS(ToDoList!$B:$B, $A634, ToDoList!$R:$R, C$2))","v":""},{"$f":"IF($A634 = \"\", \"\", COUNTIFS(ToDoList!$B:$B, $A634, ToDoList!$R:$R, D$2))","v":""},{"$f":"IF($A634 = \"\", \"\", COUNTIFS(ToDoList!$B:$B, $A634, ToDoList!$R:$R, E$2))","v":""},{"$f":"IF($A634 = \"\", \"\", COUNTIFS(ToDoList!$B:$B, $A634, ToDoList!$R:$R, F$2))","v":""},{"$f":"IF($A634 = \"\", \"\", COUNTIFS(ToDoList!$B:$B, $A634, ToDoList!$R:$R, G$2))","v":""},{"$f":"IF($A634 = \"\", \"\", COUNTIFS(ToDoList!$B:$B, $A634, ToDoList!$R:$R, H$2))","v":""},{"$f":"IF($A634 = \"\", \"\", COUNTIFS(ToDoList!$B:$B, $A634, ToDoList!$R:$R, I$2))","v":""},{"$f":"IF($A634 = \"\", \"\", COUNTIFS(ToDoList!$B:$B, $A634, ToDoList!$R:$R, J$2))","v":""}]
[null,{"$f":"IF($A635 = \"\", \"\", COUNTIFS(ToDoList!$B:$B, $A635, ToDoList!$R:$R, B$2))","v":""},{"$f":"IF($A635 = \"\", \"\", COUNTIFS(ToDoList!$B:$B, $A635, ToDoList!$R:$R, C$2))","v":""},{"$f":"IF($A635 = \"\", \"\", COUNTIFS(ToDoList!$B:$B, $A635, ToDoList!$R:$R, D$2))","v":""},{"$f":"IF($A635 = \"\", \"\", COUNTIFS(ToDoList!$B:$B, $A635, ToDoList!$R:$R, E$2))","v":""},{"$f":"IF($A635 = \"\", \"\", COUNTIFS(ToDoList!$B:$B, $A635, ToDoList!$R:$R, F$2))","v":""},{"$f":"IF($A635 = \"\", \"\", COUNTIFS(ToDoList!$B:$B, $A635, ToDoList!$R:$R, G$2))","v":""},{"$f":"IF($A635 = \"\", \"\", COUNTIFS(ToDoList!$B:$B, $A635, ToDoList!$R:$R, H$2))","v":""},{"$f":"IF($A635 = \"\", \"\", COUNTIFS(ToDoList!$B:$B, $A635, ToDoList!$R:$R, I$2))","v":""},{"$f":"IF($A635 = \"\", \"\", COUNTIFS(ToDoList!$B:$B, $A635, ToDoList!$R:$R, J$2))","v":""}]
[null,{"$f":"IF($A636 = \"\", \"\", COUNTIFS(ToDoList!$B:$B, $A636, ToDoList!$R:$R, B$2))","v":""},{"$f":"IF($A636 = \"\", \"\", COUNTIFS(ToDoList!$B:$B, $A636, ToDoList!$R:$R, C$2))","v":""},{"$f":"IF($A636 = \"\", \"\", COUNTIFS(ToDoList!$B:$B, $A636, ToDoList!$R:$R, D$2))","v":""},{"$f":"IF($A636 = \"\", \"\", COUNTIFS(ToDoList!$B:$B, $A636, ToDoList!$R:$R, E$2))","v":""},{"$f":"IF($A636 = \"\", \"\", COUNTIFS(ToDoList!$B:$B, $A636, ToDoList!$R:$R, F$2))","v":""},{"$f":"IF($A636 = \"\", \"\", COUNTIFS(ToDoList!$B:$B, $A636, ToDoList!$R:$R, G$2))","v":""},{"$f":"IF($A636 = \"\", \"\", COUNTIFS(ToDoList!$B:$B, $A636, ToDoList!$R:$R, H$2))","v":""},{"$f":"IF($A636 = \"\", \"\", COUNTIFS(ToDoList!$B:$B, $A636, ToDoList!$R:$R, I$2))","v":""},{"$f":"IF($A636 = \"\", \"\", COUNTIFS(ToDoList!$B:$B, $A636, ToDoList!$R:$R, J$2))","v":""}]
[null,{"$f":"IF($A637 = \"\", \"\", COUNTIFS(ToDoList!$B:$B, $A637, ToDoList!$R:$R, B$2))","v":""},{"$f":"IF($A637 = \"\", \"\", COUNTIFS(ToDoList!$B:$B, $A637, ToDoList!$R:$R, C$2))","v":""},{"$f":"IF($A637 = \"\", \"\", COUNTIFS(ToDoList!$B:$B, $A637, ToDoList!$R:$R, D$2))","v":""},{"$f":"IF($A637 = \"\", \"\", COUNTIFS(ToDoList!$B:$B, $A637, ToDoList!$R:$R, E$2))","v":""},{"$f":"IF($A637 = \"\", \"\", COUNTIFS(ToDoList!$B:$B, $A637, ToDoList!$R:$R, F$2))","v":""},{"$f":"IF($A637 = \"\", \"\", COUNTIFS(ToDoList!$B:$B, $A637, ToDoList!$R:$R, G$2))","v":""},{"$f":"IF($A637 = \"\", \"\", COUNTIFS(ToDoList!$B:$B, $A637, ToDoList!$R:$R, H$2))","v":""},{"$f":"IF($A637 = \"\", \"\", COUNTIFS(ToDoList!$B:$B, $A637, ToDoList!$R:$R, I$2))","v":""},{"$f":"IF($A637 = \"\", \"\", COUNTIFS(ToDoList!$B:$B, $A637, ToDoList!$R:$R, J$2))","v":""}]
[null,{"$f":"IF($A638 = \"\", \"\", COUNTIFS(ToDoList!$B:$B, $A638, ToDoList!$R:$R, B$2))","v":""},{"$f":"IF($A638 = \"\", \"\", COUNTIFS(ToDoList!$B:$B, $A638, ToDoList!$R:$R, C$2))","v":""},{"$f":"IF($A638 = \"\", \"\", COUNTIFS(ToDoList!$B:$B, $A638, ToDoList!$R:$R, D$2))","v":""},{"$f":"IF($A638 = \"\", \"\", COUNTIFS(ToDoList!$B:$B, $A638, ToDoList!$R:$R, E$2))","v":""},{"$f":"IF($A638 = \"\", \"\", COUNTIFS(ToDoList!$B:$B, $A638, ToDoList!$R:$R, F$2))","v":""},{"$f":"IF($A638 = \"\", \"\", COUNTIFS(ToDoList!$B:$B, $A638, ToDoList!$R:$R, G$2))","v":""},{"$f":"IF($A638 = \"\", \"\", COUNTIFS(ToDoList!$B:$B, $A638, ToDoList!$R:$R, H$2))","v":""},{"$f":"IF($A638 = \"\", \"\", COUNTIFS(ToDoList!$B:$B, $A638, ToDoList!$R:$R, I$2))","v":""},{"$f":"IF($A638 = \"\", \"\", COUNTIFS(ToDoList!$B:$B, $A638, ToDoList!$R:$R, J$2))","v":""}]
[null,{"$f":"IF($A639 = \"\", \"\", COUNTIFS(ToDoList!$B:$B, $A639, ToDoList!$R:$R, B$2))","v":""},{"$f":"IF($A639 = \"\", \"\", COUNTIFS(ToDoList!$B:$B, $A639, ToDoList!$R:$R, C$2))","v":""},{"$f":"IF($A639 = \"\", \"\", COUNTIFS(ToDoList!$B:$B, $A639, ToDoList!$R:$R, D$2))","v":""},{"$f":"IF($A639 = \"\", \"\", COUNTIFS(ToDoList!$B:$B, $A639, ToDoList!$R:$R, E$2))","v":""},{"$f":"IF($A639 = \"\", \"\", COUNTIFS(ToDoList!$B:$B, $A639, ToDoList!$R:$R, F$2))","v":""},{"$f":"IF($A639 = \"\", \"\", COUNTIFS(ToDoList!$B:$B, $A639, ToDoList!$R:$R, G$2))","v":""},{"$f":"IF($A639 = \"\", \"\", COUNTIFS(ToDoList!$B:$B, $A639, ToDoList!$R:$R, H$2))","v":""},{"$f":"IF($A639 = \"\", \"\", COUNTIFS(ToDoList!$B:$B, $A639, ToDoList!$R:$R, I$2))","v":""},{"$f":"IF($A639 = \"\", \"\", COUNTIFS(ToDoList!$B:$B, $A639, ToDoList!$R:$R, J$2))","v":""}]
[null,{"$f":"IF($A640 = \"\", \"\", COUNTIFS(ToDoList!$B:$B, $A640, ToDoList!$R:$R, B$2))","v":""},{"$f":"IF($A640 = \"\", \"\", COUNTIFS(ToDoList!$B:$B, $A640, ToDoList!$R:$R, C$2))","v":""},{"$f":"IF($A640 = \"\", \"\", COUNTIFS(ToDoList!$B:$B, $A640, ToDoList!$R:$R, D$2))","v":""},{"$f":"IF($A640 = \"\", \"\", COUNTIFS(ToDoList!$B:$B, $A640, ToDoList!$R:$R, E$2))","v":""},{"$f":"IF($A640 = \"\", \"\", COUNTIFS(ToDoList!$B:$B, $A640, ToDoList!$R:$R, F$2))","v":""},{"$f":"IF($A640 = \"\", \"\", COUNTIFS(ToDoList!$B:$B, $A640, ToDoList!$R:$R, G$2))","v":""},{"$f":"IF($A640 = \"\", \"\", COUNTIFS(ToDoList!$B:$B, $A640, ToDoList!$R:$R, H$2))","v":""},{"$f":"IF($A640 = \"\", \"\", COUNTIFS(ToDoList!$B:$B, $A640, ToDoList!$R:$R, I$2))","v":""},{"$f":"IF($A640 = \"\", \"\", COUNTIFS(ToDoList!$B:$B, $A640, ToDoList!$R:$R, J$2))","v":""}]
[null,{"$f":"IF($A641 = \"\", \"\", COUNTIFS(ToDoList!$B:$B, $A641, ToDoList!$R:$R, B$2))","v":""},{"$f":"IF($A641 = \"\", \"\", COUNTIFS(ToDoList!$B:$B, $A641, ToDoList!$R:$R, C$2))","v":""},{"$f":"IF($A641 = \"\", \"\", COUNTIFS(ToDoList!$B:$B, $A641, ToDoList!$R:$R, D$2))","v":""},{"$f":"IF($A641 = \"\", \"\", COUNTIFS(ToDoList!$B:$B, $A641, ToDoList!$R:$R, E$2))","v":""},{"$f":"IF($A641 = \"\", \"\", COUNTIFS(ToDoList!$B:$B, $A641, ToDoList!$R:$R, F$2))","v":""},{"$f":"IF($A641 = \"\", \"\", COUNTIFS(ToDoList!$B:$B, $A641, ToDoList!$R:$R, G$2))","v":""},{"$f":"IF($A641 = \"\", \"\", COUNTIFS(ToDoList!$B:$B, $A641, ToDoList!$R:$R, H$2))","v":""},{"$f":"IF($A641 = \"\", \"\", COUNTIFS(ToDoList!$B:$B, $A641, ToDoList!$R:$R, I$2))","v":""},{"$f":"IF($A641 = \"\", \"\", COUNTIFS(ToDoList!$B:$B, $A641, ToDoList!$R:$R, J$2))","v":""}]
[null,{"$f":"IF($A642 = \"\", \"\", COUNTIFS(ToDoList!$B:$B, $A642, ToDoList!$R:$R, B$2))","v":""},{"$f":"IF($A642 = \"\", \"\", COUNTIFS(ToDoList!$B:$B, $A642, ToDoList!$R:$R, C$2))","v":""},{"$f":"IF($A642 = \"\", \"\", COUNTIFS(ToDoList!$B:$B, $A642, ToDoList!$R:$R, D$2))","v":""},{"$f":"IF($A642 = \"\", \"\", COUNTIFS(ToDoList!$B:$B, $A642, ToDoList!$R:$R, E$2))","v":""},{"$f":"IF($A642 = \"\", \"\", COUNTIFS(ToDoList!$B:$B, $A642, ToDoList!$R:$R, F$2))","v":""},{"$f":"IF($A642 = \"\", \"\", COUNTIFS(ToDoList!$B:$B, $A642, ToDoList!$R:$R, G$2))","v":""},{"$f":"IF($A642 = \"\", \"\", COUNTIFS(ToDoList!$B:$B, $A642, ToDoList!$R:$R, H$2))","v":""},{"$f":"IF($A642 = \"\", \"\", COUNTIFS(ToDoList!$B:$B, $A642, ToDoList!$R:$R, I$2))","v":""},{"$f":"IF($A642 = \"\", \"\", COUNTIFS(ToDoList!$B:$B, $A642, ToDoList!$R:$R, J$2))","v":""}]
[null,{"$f":"IF($A643 = \"\", \"\", COUNTIFS(ToDoList!$B:$B, $A643, ToDoList!$R:$R, B$2))","v":""},{"$f":"IF($A643 = \"\", \"\", COUNTIFS(ToDoList!$B:$B, $A643, ToDoList!$R:$R, C$2))","v":""},{"$f":"IF($A643 = \"\", \"\", COUNTIFS(ToDoList!$B:$B, $A643, ToDoList!$R:$R, D$2))","v":""},{"$f":"IF($A643 = \"\", \"\", COUNTIFS(ToDoList!$B:$B, $A643, ToDoList!$R:$R, E$2))","v":""},{"$f":"IF($A643 = \"\", \"\", COUNTIFS(ToDoList!$B:$B, $A643, ToDoList!$R:$R, F$2))","v":""},{"$f":"IF($A643 = \"\", \"\", COUNTIFS(ToDoList!$B:$B, $A643, ToDoList!$R:$R, G$2))","v":""},{"$f":"IF($A643 = \"\", \"\", COUNTIFS(ToDoList!$B:$B, $A643, ToDoList!$R:$R, H$2))","v":""},{"$f":"IF($A643 = \"\", \"\", COUNTIFS(ToDoList!$B:$B, $A643, ToDoList!$R:$R, I$2))","v":""},{"$f":"IF($A643 = \"\", \"\", COUNTIFS(ToDoList!$B:$B, $A643, ToDoList!$R:$R, J$2))","v":""}]
[null,{"$f":"IF($A644 = \"\", \"\", COUNTIFS(ToDoList!$B:$B, $A644, ToDoList!$R:$R, B$2))","v":""},{"$f":"IF($A644 = \"\", \"\", COUNTIFS(ToDoList!$B:$B, $A644, ToDoList!$R:$R, C$2))","v":""},{"$f":"IF($A644 = \"\", \"\", COUNTIFS(ToDoList!$B:$B, $A644, ToDoList!$R:$R, D$2))","v":""},{"$f":"IF($A644 = \"\", \"\", COUNTIFS(ToDoList!$B:$B, $A644, ToDoList!$R:$R, E$2))","v":""},{"$f":"IF($A644 = \"\", \"\", COUNTIFS(ToDoList!$B:$B, $A644, ToDoList!$R:$R, F$2))","v":""},{"$f":"IF($A644 = \"\", \"\", COUNTIFS(ToDoList!$B:$B, $A644, ToDoList!$R:$R, G$2))","v":""},{"$f":"IF($A644 = \"\", \"\", COUNTIFS(ToDoList!$B:$B, $A644, ToDoList!$R:$R, H$2))","v":""},{"$f":"IF($A644 = \"\", \"\", COUNTIFS(ToDoList!$B:$B, $A644, ToDoList!$R:$R, I$2))","v":""},{"$f":"IF($A644 = \"\", \"\", COUNTIFS(ToDoList!$B:$B, $A644, ToDoList!$R:$R, J$2))","v":""}]
[null,{"$f":"IF($A645 = \"\", \"\", COUNTIFS(ToDoList!$B:$B, $A645, ToDoList!$R:$R, B$2))","v":""},{"$f":"IF($A645 = \"\", \"\", COUNTIFS(ToDoList!$B:$B, $A645, ToDoList!$R:$R, C$2))","v":""},{"$f":"IF($A645 = \"\", \"\", COUNTIFS(ToDoList!$B:$B, $A645, ToDoList!$R:$R, D$2))","v":""},{"$f":"IF($A645 = \"\", \"\", COUNTIFS(ToDoList!$B:$B, $A645, ToDoList!$R:$R, E$2))","v":""},{"$f":"IF($A645 = \"\", \"\", COUNTIFS(ToDoList!$B:$B, $A645, ToDoList!$R:$R, F$2))","v":""},{"$f":"IF($A645 = \"\", \"\", COUNTIFS(ToDoList!$B:$B, $A645, ToDoList!$R:$R, G$2))","v":""},{"$f":"IF($A645 = \"\", \"\", COUNTIFS(ToDoList!$B:$B, $A645, ToDoList!$R:$R, H$2))","v":""},{"$f":"IF($A645 = \"\", \"\", COUNTIFS(ToDoList!$B:$B, $A645, ToDoList!$R:$R, I$2))","v":""},{"$f":"IF($A645 = \"\", \"\", COUNTIFS(ToDoList!$B:$B, $A645, ToDoList!$R:$R, J$2))","v":""}]
[null,{"$f":"IF($A646 = \"\", \"\", COUNTIFS(ToDoList!$B:$B, $A646, ToDoList!$R:$R, B$2))","v":""},{"$f":"IF($A646 = \"\", \"\", COUNTIFS(ToDoList!$B:$B, $A646, ToDoList!$R:$R, C$2))","v":""},{"$f":"IF($A646 = \"\", \"\", COUNTIFS(ToDoList!$B:$B, $A646, ToDoList!$R:$R, D$2))","v":""},{"$f":"IF($A646 = \"\", \"\", COUNTIFS(ToDoList!$B:$B, $A646, ToDoList!$R:$R, E$2))","v":""},{"$f":"IF($A646 = \"\", \"\", COUNTIFS(ToDoList!$B:$B, $A646, ToDoList!$R:$R, F$2))","v":""},{"$f":"IF($A646 = \"\", \"\", COUNTIFS(ToDoList!$B:$B, $A646, ToDoList!$R:$R, G$2))","v":""},{"$f":"IF($A646 = \"\", \"\", COUNTIFS(ToDoList!$B:$B, $A646, ToDoList!$R:$R, H$2))","v":""},{"$f":"IF($A646 = \"\", \"\", COUNTIFS(ToDoList!$B:$B, $A646, ToDoList!$R:$R, I$2))","v":""},{"$f":"IF($A646 = \"\", \"\", COUNTIFS(ToDoList!$B:$B, $A646, ToDoList!$R:$R, J$2))","v":""}]
[null,{"$f":"IF($A647 = \"\", \"\", COUNTIFS(ToDoList!$B:$B, $A647, ToDoList!$R:$R, B$2))","v":""},{"$f":"IF($A647 = \"\", \"\", COUNTIFS(ToDoList!$B:$B, $A647, ToDoList!$R:$R, C$2))","v":""},{"$f":"IF($A647 = \"\", \"\", COUNTIFS(ToDoList!$B:$B, $A647, ToDoList!$R:$R, D$2))","v":""},{"$f":"IF($A647 = \"\", \"\", COUNTIFS(ToDoList!$B:$B, $A647, ToDoList!$R:$R, E$2))","v":""},{"$f":"IF($A647 = \"\", \"\", COUNTIFS(ToDoList!$B:$B, $A647, ToDoList!$R:$R, F$2))","v":""},{"$f":"IF($A647 = \"\", \"\", COUNTIFS(ToDoList!$B:$B, $A647, ToDoList!$R:$R, G$2))","v":""},{"$f":"IF($A647 = \"\", \"\", COUNTIFS(ToDoList!$B:$B, $A647, ToDoList!$R:$R, H$2))","v":""},{"$f":"IF($A647 = \"\", \"\", COUNTIFS(ToDoList!$B:$B, $A647, ToDoList!$R:$R, I$2))","v":""},{"$f":"IF($A647 = \"\", \"\", COUNTIFS(ToDoList!$B:$B, $A647, ToDoList!$R:$R, J$2))","v":""}]
[null,{"$f":"IF($A648 = \"\", \"\", COUNTIFS(ToDoList!$B:$B, $A648, ToDoList!$R:$R, B$2))","v":""},{"$f":"IF($A648 = \"\", \"\", COUNTIFS(ToDoList!$B:$B, $A648, ToDoList!$R:$R, C$2))","v":""},{"$f":"IF($A648 = \"\", \"\", COUNTIFS(ToDoList!$B:$B, $A648, ToDoList!$R:$R, D$2))","v":""},{"$f":"IF($A648 = \"\", \"\", COUNTIFS(ToDoList!$B:$B, $A648, ToDoList!$R:$R, E$2))","v":""},{"$f":"IF($A648 = \"\", \"\", COUNTIFS(ToDoList!$B:$B, $A648, ToDoList!$R:$R, F$2))","v":""},{"$f":"IF($A648 = \"\", \"\", COUNTIFS(ToDoList!$B:$B, $A648, ToDoList!$R:$R, G$2))","v":""},{"$f":"IF($A648 = \"\", \"\", COUNTIFS(ToDoList!$B:$B, $A648, ToDoList!$R:$R, H$2))","v":""},{"$f":"IF($A648 = \"\", \"\", COUNTIFS(ToDoList!$B:$B, $A648, ToDoList!$R:$R, I$2))","v":""},{"$f":"IF($A648 = \"\", \"\", COUNTIFS(ToDoList!$B:$B, $A648, ToDoList!$R:$R, J$2))","v":""}]
[null,{"$f":"IF($A649 = \"\", \"\", COUNTIFS(ToDoList!$B:$B, $A649, ToDoList!$R:$R, B$2))","v":""},{"$f":"IF($A649 = \"\", \"\", COUNTIFS(ToDoList!$B:$B, $A649, ToDoList!$R:$R, C$2))","v":""},{"$f":"IF($A649 = \"\", \"\", COUNTIFS(ToDoList!$B:$B, $A649, ToDoList!$R:$R, D$2))","v":""},{"$f":"IF($A649 = \"\", \"\", COUNTIFS(ToDoList!$B:$B, $A649, ToDoList!$R:$R, E$2))","v":""},{"$f":"IF($A649 = \"\", \"\", COUNTIFS(ToDoList!$B:$B, $A649, ToDoList!$R:$R, F$2))","v":""},{"$f":"IF($A649 = \"\", \"\", COUNTIFS(ToDoList!$B:$B, $A649, ToDoList!$R:$R, G$2))","v":""},{"$f":"IF($A649 = \"\", \"\", COUNTIFS(ToDoList!$B:$B, $A649, ToDoList!$R:$R, H$2))","v":""},{"$f":"IF($A649 = \"\", \"\", COUNTIFS(ToDoList!$B:$B, $A649, ToDoList!$R:$R, I$2))","v":""},{"$f":"IF($A649 = \"\", \"\", COUNTIFS(ToDoList!$B:$B, $A649, ToDoList!$R:$R, J$2))","v":""}]
[null,{"$f":"IF($A650 = \"\", \"\", COUNTIFS(ToDoList!$B:$B, $A650, ToDoList!$R:$R, B$2))","v":""},{"$f":"IF($A650 = \"\", \"\", COUNTIFS(ToDoList!$B:$B, $A650, ToDoList!$R:$R, C$2))","v":""},{"$f":"IF($A650 = \"\", \"\", COUNTIFS(ToDoList!$B:$B, $A650, ToDoList!$R:$R, D$2))","v":""},{"$f":"IF($A650 = \"\", \"\", COUNTIFS(ToDoList!$B:$B, $A650, ToDoList!$R:$R, E$2))","v":""},{"$f":"IF($A650 = \"\", \"\", COUNTIFS(ToDoList!$B:$B, $A650, ToDoList!$R:$R, F$2))","v":""},{"$f":"IF($A650 = \"\", \"\", COUNTIFS(ToDoList!$B:$B, $A650, ToDoList!$R:$R, G$2))","v":""},{"$f":"IF($A650 = \"\", \"\", COUNTIFS(ToDoList!$B:$B, $A650, ToDoList!$R:$R, H$2))","v":""},{"$f":"IF($A650 = \"\", \"\", COUNTIFS(ToDoList!$B:$B, $A650, ToDoList!$R:$R, I$2))","v":""},{"$f":"IF($A650 = \"\", \"\", COUNTIFS(ToDoList!$B:$B, $A650, ToDoList!$R:$R, J$2))","v":""}]
[null,{"$f":"IF($A651 = \"\", \"\", COUNTIFS(ToDoList!$B:$B, $A651, ToDoList!$R:$R, B$2))","v":""},{"$f":"IF($A651 = \"\", \"\", COUNTIFS(ToDoList!$B:$B, $A651, ToDoList!$R:$R, C$2))","v":""},{"$f":"IF($A651 = \"\", \"\", COUNTIFS(ToDoList!$B:$B, $A651, ToDoList!$R:$R, D$2))","v":""},{"$f":"IF($A651 = \"\", \"\", COUNTIFS(ToDoList!$B:$B, $A651, ToDoList!$R:$R, E$2))","v":""},{"$f":"IF($A651 = \"\", \"\", COUNTIFS(ToDoList!$B:$B, $A651, ToDoList!$R:$R, F$2))","v":""},{"$f":"IF($A651 = \"\", \"\", COUNTIFS(ToDoList!$B:$B, $A651, ToDoList!$R:$R, G$2))","v":""},{"$f":"IF($A651 = \"\", \"\", COUNTIFS(ToDoList!$B:$B, $A651, ToDoList!$R:$R, H$2))","v":""},{"$f":"IF($A651 = \"\", \"\", COUNTIFS(ToDoList!$B:$B, $A651, ToDoList!$R:$R, I$2))","v":""},{"$f":"IF($A651 = \"\", \"\", COUNTIFS(ToDoList!$B:$B, $A651, ToDoList!$R:$R, J$2))","v":""}]
[null,{"$f":"IF($A652 = \"\", \"\", COUNTIFS(ToDoList!$B:$B, $A652, ToDoList!$R:$R, B$2))","v":""},{"$f":"IF($A652 = \"\", \"\", COUNTIFS(ToDoList!$B:$B, $A652, ToDoList!$R:$R, C$2))","v":""},{"$f":"IF($A652 = \"\", \"\", COUNTIFS(ToDoList!$B:$B, $A652, ToDoList!$R:$R, D$2))","v":""},{"$f":"IF($A652 = \"\", \"\", COUNTIFS(ToDoList!$B:$B, $A652, ToDoList!$R:$R, E$2))","v":""},{"$f":"IF($A652 = \"\", \"\", COUNTIFS(ToDoList!$B:$B, $A652, ToDoList!$R:$R, F$2))","v":""},{"$f":"IF($A652 = \"\", \"\", COUNTIFS(ToDoList!$B:$B, $A652, ToDoList!$R:$R, G$2))","v":""},{"$f":"IF($A652 = \"\", \"\", COUNTIFS(ToDoList!$B:$B, $A652, ToDoList!$R:$R, H$2))","v":""},{"$f":"IF($A652 = \"\", \"\", COUNTIFS(ToDoList!$B:$B, $A652, ToDoList!$R:$R, I$2))","v":""},{"$f":"IF($A652 = \"\", \"\", COUNTIFS(ToDoList!$B:$B, $A652, ToDoList!$R:$R, J$2))","v":""}]
[null,{"$f":"IF($A653 = \"\", \"\", COUNTIFS(ToDoList!$B:$B, $A653, ToDoList!$R:$R, B$2))","v":""},{"$f":"IF($A653 = \"\", \"\", COUNTIFS(ToDoList!$B:$B, $A653, ToDoList!$R:$R, C$2))","v":""},{"$f":"IF($A653 = \"\", \"\", COUNTIFS(ToDoList!$B:$B, $A653, ToDoList!$R:$R, D$2))","v":""},{"$f":"IF($A653 = \"\", \"\", COUNTIFS(ToDoList!$B:$B, $A653, ToDoList!$R:$R, E$2))","v":""},{"$f":"IF($A653 = \"\", \"\", COUNTIFS(ToDoList!$B:$B, $A653, ToDoList!$R:$R, F$2))","v":""},{"$f":"IF($A653 = \"\", \"\", COUNTIFS(ToDoList!$B:$B, $A653, ToDoList!$R:$R, G$2))","v":""},{"$f":"IF($A653 = \"\", \"\", COUNTIFS(ToDoList!$B:$B, $A653, ToDoList!$R:$R, H$2))","v":""},{"$f":"IF($A653 = \"\", \"\", COUNTIFS(ToDoList!$B:$B, $A653, ToDoList!$R:$R, I$2))","v":""},{"$f":"IF($A653 = \"\", \"\", COUNTIFS(ToDoList!$B:$B, $A653, ToDoList!$R:$R, J$2))","v":""}]
[null,{"$f":"IF($A654 = \"\", \"\", COUNTIFS(ToDoList!$B:$B, $A654, ToDoList!$R:$R, B$2))","v":""},{"$f":"IF($A654 = \"\", \"\", COUNTIFS(ToDoList!$B:$B, $A654, ToDoList!$R:$R, C$2))","v":""},{"$f":"IF($A654 = \"\", \"\", COUNTIFS(ToDoList!$B:$B, $A654, ToDoList!$R:$R, D$2))","v":""},{"$f":"IF($A654 = \"\", \"\", COUNTIFS(ToDoList!$B:$B, $A654, ToDoList!$R:$R, E$2))","v":""},{"$f":"IF($A654 = \"\", \"\", COUNTIFS(ToDoList!$B:$B, $A654, ToDoList!$R:$R, F$2))","v":""},{"$f":"IF($A654 = \"\", \"\", COUNTIFS(ToDoList!$B:$B, $A654, ToDoList!$R:$R, G$2))","v":""},{"$f":"IF($A654 = \"\", \"\", COUNTIFS(ToDoList!$B:$B, $A654, ToDoList!$R:$R, H$2))","v":""},{"$f":"IF($A654 = \"\", \"\", COUNTIFS(ToDoList!$B:$B, $A654, ToDoList!$R:$R, I$2))","v":""},{"$f":"IF($A654 = \"\", \"\", COUNTIFS(ToDoList!$B:$B, $A654, ToDoList!$R:$R, J$2))","v":""}]
[null,{"$f":"IF($A655 = \"\", \"\", COUNTIFS(ToDoList!$B:$B, $A655, ToDoList!$R:$R, B$2))","v":""},{"$f":"IF($A655 = \"\", \"\", COUNTIFS(ToDoList!$B:$B, $A655, ToDoList!$R:$R, C$2))","v":""},{"$f":"IF($A655 = \"\", \"\", COUNTIFS(ToDoList!$B:$B, $A655, ToDoList!$R:$R, D$2))","v":""},{"$f":"IF($A655 = \"\", \"\", COUNTIFS(ToDoList!$B:$B, $A655, ToDoList!$R:$R, E$2))","v":""},{"$f":"IF($A655 = \"\", \"\", COUNTIFS(ToDoList!$B:$B, $A655, ToDoList!$R:$R, F$2))","v":""},{"$f":"IF($A655 = \"\", \"\", COUNTIFS(ToDoList!$B:$B, $A655, ToDoList!$R:$R, G$2))","v":""},{"$f":"IF($A655 = \"\", \"\", COUNTIFS(ToDoList!$B:$B, $A655, ToDoList!$R:$R, H$2))","v":""},{"$f":"IF($A655 = \"\", \"\", COUNTIFS(ToDoList!$B:$B, $A655, ToDoList!$R:$R, I$2))","v":""},{"$f":"IF($A655 = \"\", \"\", COUNTIFS(ToDoList!$B:$B, $A655, ToDoList!$R:$R, J$2))","v":""}]
[null,{"$f":"IF($A656 = \"\", \"\", COUNTIFS(ToDoList!$B:$B, $A656, ToDoList!$R:$R, B$2))","v":""},{"$f":"IF($A656 = \"\", \"\", COUNTIFS(ToDoList!$B:$B, $A656, ToDoList!$R:$R, C$2))","v":""},{"$f":"IF($A656 = \"\", \"\", COUNTIFS(ToDoList!$B:$B, $A656, ToDoList!$R:$R, D$2))","v":""},{"$f":"IF($A656 = \"\", \"\", COUNTIFS(ToDoList!$B:$B, $A656, ToDoList!$R:$R, E$2))","v":""},{"$f":"IF($A656 = \"\", \"\", COUNTIFS(ToDoList!$B:$B, $A656, ToDoList!$R:$R, F$2))","v":""},{"$f":"IF($A656 = \"\", \"\", COUNTIFS(ToDoList!$B:$B, $A656, ToDoList!$R:$R, G$2))","v":""},{"$f":"IF($A656 = \"\", \"\", COUNTIFS(ToDoList!$B:$B, $A656, ToDoList!$R:$R, H$2))","v":""},{"$f":"IF($A656 = \"\", \"\", COUNTIFS(ToDoList!$B:$B, $A656, ToDoList!$R:$R, I$2))","v":""},{"$f":"IF($A656 = \"\", \"\", COUNTIFS(ToDoList!$B:$B, $A656, ToDoList!$R:$R, J$2))","v":""}]
[null,{"$f":"IF($A657 = \"\", \"\", COUNTIFS(ToDoList!$B:$B, $A657, ToDoList!$R:$R, B$2))","v":""},{"$f":"IF($A657 = \"\", \"\", COUNTIFS(ToDoList!$B:$B, $A657, ToDoList!$R:$R, C$2))","v":""},{"$f":"IF($A657 = \"\", \"\", COUNTIFS(ToDoList!$B:$B, $A657, ToDoList!$R:$R, D$2))","v":""},{"$f":"IF($A657 = \"\", \"\", COUNTIFS(ToDoList!$B:$B, $A657, ToDoList!$R:$R, E$2))","v":""},{"$f":"IF($A657 = \"\", \"\", COUNTIFS(ToDoList!$B:$B, $A657, ToDoList!$R:$R, F$2))","v":""},{"$f":"IF($A657 = \"\", \"\", COUNTIFS(ToDoList!$B:$B, $A657, ToDoList!$R:$R, G$2))","v":""},{"$f":"IF($A657 = \"\", \"\", COUNTIFS(ToDoList!$B:$B, $A657, ToDoList!$R:$R, H$2))","v":""},{"$f":"IF($A657 = \"\", \"\", COUNTIFS(ToDoList!$B:$B, $A657, ToDoList!$R:$R, I$2))","v":""},{"$f":"IF($A657 = \"\", \"\", COUNTIFS(ToDoList!$B:$B, $A657, ToDoList!$R:$R, J$2))","v":""}]
[null,{"$f":"IF($A658 = \"\", \"\", COUNTIFS(ToDoList!$B:$B, $A658, ToDoList!$R:$R, B$2))","v":""},{"$f":"IF($A658 = \"\", \"\", COUNTIFS(ToDoList!$B:$B, $A658, ToDoList!$R:$R, C$2))","v":""},{"$f":"IF($A658 = \"\", \"\", COUNTIFS(ToDoList!$B:$B, $A658, ToDoList!$R:$R, D$2))","v":""},{"$f":"IF($A658 = \"\", \"\", COUNTIFS(ToDoList!$B:$B, $A658, ToDoList!$R:$R, E$2))","v":""},{"$f":"IF($A658 = \"\", \"\", COUNTIFS(ToDoList!$B:$B, $A658, ToDoList!$R:$R, F$2))","v":""},{"$f":"IF($A658 = \"\", \"\", COUNTIFS(ToDoList!$B:$B, $A658, ToDoList!$R:$R, G$2))","v":""},{"$f":"IF($A658 = \"\", \"\", COUNTIFS(ToDoList!$B:$B, $A658, ToDoList!$R:$R, H$2))","v":""},{"$f":"IF($A658 = \"\", \"\", COUNTIFS(ToDoList!$B:$B, $A658, ToDoList!$R:$R, I$2))","v":""},{"$f":"IF($A658 = \"\", \"\", COUNTIFS(ToDoList!$B:$B, $A658, ToDoList!$R:$R, J$2))","v":""}]
[null,{"$f":"IF($A659 = \"\", \"\", COUNTIFS(ToDoList!$B:$B, $A659, ToDoList!$R:$R, B$2))","v":""},{"$f":"IF($A659 = \"\", \"\", COUNTIFS(ToDoList!$B:$B, $A659, ToDoList!$R:$R, C$2))","v":""},{"$f":"IF($A659 = \"\", \"\", COUNTIFS(ToDoList!$B:$B, $A659, ToDoList!$R:$R, D$2))","v":""},{"$f":"IF($A659 = \"\", \"\", COUNTIFS(ToDoList!$B:$B, $A659, ToDoList!$R:$R, E$2))","v":""},{"$f":"IF($A659 = \"\", \"\", COUNTIFS(ToDoList!$B:$B, $A659, ToDoList!$R:$R, F$2))","v":""},{"$f":"IF($A659 = \"\", \"\", COUNTIFS(ToDoList!$B:$B, $A659, ToDoList!$R:$R, G$2))","v":""},{"$f":"IF($A659 = \"\", \"\", COUNTIFS(ToDoList!$B:$B, $A659, ToDoList!$R:$R, H$2))","v":""},{"$f":"IF($A659 = \"\", \"\", COUNTIFS(ToDoList!$B:$B, $A659, ToDoList!$R:$R, I$2))","v":""},{"$f":"IF($A659 = \"\", \"\", COUNTIFS(ToDoList!$B:$B, $A659, ToDoList!$R:$R, J$2))","v":""}]
[null,{"$f":"IF($A660 = \"\", \"\", COUNTIFS(ToDoList!$B:$B, $A660, ToDoList!$R:$R, B$2))","v":""},{"$f":"IF($A660 = \"\", \"\", COUNTIFS(ToDoList!$B:$B, $A660, ToDoList!$R:$R, C$2))","v":""},{"$f":"IF($A660 = \"\", \"\", COUNTIFS(ToDoList!$B:$B, $A660, ToDoList!$R:$R, D$2))","v":""},{"$f":"IF($A660 = \"\", \"\", COUNTIFS(ToDoList!$B:$B, $A660, ToDoList!$R:$R, E$2))","v":""},{"$f":"IF($A660 = \"\", \"\", COUNTIFS(ToDoList!$B:$B, $A660, ToDoList!$R:$R, F$2))","v":""},{"$f":"IF($A660 = \"\", \"\", COUNTIFS(ToDoList!$B:$B, $A660, ToDoList!$R:$R, G$2))","v":""},{"$f":"IF($A660 = \"\", \"\", COUNTIFS(ToDoList!$B:$B, $A660, ToDoList!$R:$R, H$2))","v":""},{"$f":"IF($A660 = \"\", \"\", COUNTIFS(ToDoList!$B:$B, $A660, ToDoList!$R:$R, I$2))","v":""},{"$f":"IF($A660 = \"\", \"\", COUNTIFS(ToDoList!$B:$B, $A660, ToDoList!$R:$R, J$2))","v":""}]
[null,{"$f":"IF($A661 = \"\", \"\", COUNTIFS(ToDoList!$B:$B, $A661, ToDoList!$R:$R, B$2))","v":""},{"$f":"IF($A661 = \"\", \"\", COUNTIFS(ToDoList!$B:$B, $A661, ToDoList!$R:$R, C$2))","v":""},{"$f":"IF($A661 = \"\", \"\", COUNTIFS(ToDoList!$B:$B, $A661, ToDoList!$R:$R, D$2))","v":""},{"$f":"IF($A661 = \"\", \"\", COUNTIFS(ToDoList!$B:$B, $A661, ToDoList!$R:$R, E$2))","v":""},{"$f":"IF($A661 = \"\", \"\", COUNTIFS(ToDoList!$B:$B, $A661, ToDoList!$R:$R, F$2))","v":""},{"$f":"IF($A661 = \"\", \"\", COUNTIFS(ToDoList!$B:$B, $A661, ToDoList!$R:$R, G$2))","v":""},{"$f":"IF($A661 = \"\", \"\", COUNTIFS(ToDoList!$B:$B, $A661, ToDoList!$R:$R, H$2))","v":""},{"$f":"IF($A661 = \"\", \"\", COUNTIFS(ToDoList!$B:$B, $A661, ToDoList!$R:$R, I$2))","v":""},{"$f":"IF($A661 = \"\", \"\", COUNTIFS(ToDoList!$B:$B, $A661, ToDoList!$R:$R, J$2))","v":""}]
[null,{"$f":"IF($A662 = \"\", \"\", COUNTIFS(ToDoList!$B:$B, $A662, ToDoList!$R:$R, B$2))","v":""},{"$f":"IF($A662 = \"\", \"\", COUNTIFS(ToDoList!$B:$B, $A662, ToDoList!$R:$R, C$2))","v":""},{"$f":"IF($A662 = \"\", \"\", COUNTIFS(ToDoList!$B:$B, $A662, ToDoList!$R:$R, D$2))","v":""},{"$f":"IF($A662 = \"\", \"\", COUNTIFS(ToDoList!$B:$B, $A662, ToDoList!$R:$R, E$2))","v":""},{"$f":"IF($A662 = \"\", \"\", COUNTIFS(ToDoList!$B:$B, $A662, ToDoList!$R:$R, F$2))","v":""},{"$f":"IF($A662 = \"\", \"\", COUNTIFS(ToDoList!$B:$B, $A662, ToDoList!$R:$R, G$2))","v":""},{"$f":"IF($A662 = \"\", \"\", COUNTIFS(ToDoList!$B:$B, $A662, ToDoList!$R:$R, H$2))","v":""},{"$f":"IF($A662 = \"\", \"\", COUNTIFS(ToDoList!$B:$B, $A662, ToDoList!$R:$R, I$2))","v":""},{"$f":"IF($A662 = \"\", \"\", COUNTIFS(ToDoList!$B:$B, $A662, ToDoList!$R:$R, J$2))","v":""}]
[null,{"$f":"IF($A663 = \"\", \"\", COUNTIFS(ToDoList!$B:$B, $A663, ToDoList!$R:$R, B$2))","v":""},{"$f":"IF($A663 = \"\", \"\", COUNTIFS(ToDoList!$B:$B, $A663, ToDoList!$R:$R, C$2))","v":""},{"$f":"IF($A663 = \"\", \"\", COUNTIFS(ToDoList!$B:$B, $A663, ToDoList!$R:$R, D$2))","v":""},{"$f":"IF($A663 = \"\", \"\", COUNTIFS(ToDoList!$B:$B, $A663, ToDoList!$R:$R, E$2))","v":""},{"$f":"IF($A663 = \"\", \"\", COUNTIFS(ToDoList!$B:$B, $A663, ToDoList!$R:$R, F$2))","v":""},{"$f":"IF($A663 = \"\", \"\", COUNTIFS(ToDoList!$B:$B, $A663, ToDoList!$R:$R, G$2))","v":""},{"$f":"IF($A663 = \"\", \"\", COUNTIFS(ToDoList!$B:$B, $A663, ToDoList!$R:$R, H$2))","v":""},{"$f":"IF($A663 = \"\", \"\", COUNTIFS(ToDoList!$B:$B, $A663, ToDoList!$R:$R, I$2))","v":""},{"$f":"IF($A663 = \"\", \"\", COUNTIFS(ToDoList!$B:$B, $A663, ToDoList!$R:$R, J$2))","v":""}]
[null,{"$f":"IF($A664 = \"\", \"\", COUNTIFS(ToDoList!$B:$B, $A664, ToDoList!$R:$R, B$2))","v":""},{"$f":"IF($A664 = \"\", \"\", COUNTIFS(ToDoList!$B:$B, $A664, ToDoList!$R:$R, C$2))","v":""},{"$f":"IF($A664 = \"\", \"\", COUNTIFS(ToDoList!$B:$B, $A664, ToDoList!$R:$R, D$2))","v":""},{"$f":"IF($A664 = \"\", \"\", COUNTIFS(ToDoList!$B:$B, $A664, ToDoList!$R:$R, E$2))","v":""},{"$f":"IF($A664 = \"\", \"\", COUNTIFS(ToDoList!$B:$B, $A664, ToDoList!$R:$R, F$2))","v":""},{"$f":"IF($A664 = \"\", \"\", COUNTIFS(ToDoList!$B:$B, $A664, ToDoList!$R:$R, G$2))","v":""},{"$f":"IF($A664 = \"\", \"\", COUNTIFS(ToDoList!$B:$B, $A664, ToDoList!$R:$R, H$2))","v":""},{"$f":"IF($A664 = \"\", \"\", COUNTIFS(ToDoList!$B:$B, $A664, ToDoList!$R:$R, I$2))","v":""},{"$f":"IF($A664 = \"\", \"\", COUNTIFS(ToDoList!$B:$B, $A664, ToDoList!$R:$R, J$2))","v":""}]
[null,{"$f":"IF($A665 = \"\", \"\", COUNTIFS(ToDoList!$B:$B, $A665, ToDoList!$R:$R, B$2))","v":""},{"$f":"IF($A665 = \"\", \"\", COUNTIFS(ToDoList!$B:$B, $A665, ToDoList!$R:$R, C$2))","v":""},{"$f":"IF($A665 = \"\", \"\", COUNTIFS(ToDoList!$B:$B, $A665, ToDoList!$R:$R, D$2))","v":""},{"$f":"IF($A665 = \"\", \"\", COUNTIFS(ToDoList!$B:$B, $A665, ToDoList!$R:$R, E$2))","v":""},{"$f":"IF($A665 = \"\", \"\", COUNTIFS(ToDoList!$B:$B, $A665, ToDoList!$R:$R, F$2))","v":""},{"$f":"IF($A665 = \"\", \"\", COUNTIFS(ToDoList!$B:$B, $A665, ToDoList!$R:$R, G$2))","v":""},{"$f":"IF($A665 = \"\", \"\", COUNTIFS(ToDoList!$B:$B, $A665, ToDoList!$R:$R, H$2))","v":""},{"$f":"IF($A665 = \"\", \"\", COUNTIFS(ToDoList!$B:$B, $A665, ToDoList!$R:$R, I$2))","v":""},{"$f":"IF($A665 = \"\", \"\", COUNTIFS(ToDoList!$B:$B, $A665, ToDoList!$R:$R, J$2))","v":""}]
[null,{"$f":"IF($A666 = \"\", \"\", COUNTIFS(ToDoList!$B:$B, $A666, ToDoList!$R:$R, B$2))","v":""},{"$f":"IF($A666 = \"\", \"\", COUNTIFS(ToDoList!$B:$B, $A666, ToDoList!$R:$R, C$2))","v":""},{"$f":"IF($A666 = \"\", \"\", COUNTIFS(ToDoList!$B:$B, $A666, ToDoList!$R:$R, D$2))","v":""},{"$f":"IF($A666 = \"\", \"\", COUNTIFS(ToDoList!$B:$B, $A666, ToDoList!$R:$R, E$2))","v":""},{"$f":"IF($A666 = \"\", \"\", COUNTIFS(ToDoList!$B:$B, $A666, ToDoList!$R:$R, F$2))","v":""},{"$f":"IF($A666 = \"\", \"\", COUNTIFS(ToDoList!$B:$B, $A666, ToDoList!$R:$R, G$2))","v":""},{"$f":"IF($A666 = \"\", \"\", COUNTIFS(ToDoList!$B:$B, $A666, ToDoList!$R:$R, H$2))","v":""},{"$f":"IF($A666 = \"\", \"\", COUNTIFS(ToDoList!$B:$B, $A666, ToDoList!$R:$R, I$2))","v":""},{"$f":"IF($A666 = \"\", \"\", COUNTIFS(ToDoList!$B:$B, $A666, ToDoList!$R:$R, J$2))","v":""}]
[null,{"$f":"IF($A667 = \"\", \"\", COUNTIFS(ToDoList!$B:$B, $A667, ToDoList!$R:$R, B$2))","v":""},{"$f":"IF($A667 = \"\", \"\", COUNTIFS(ToDoList!$B:$B, $A667, ToDoList!$R:$R, C$2))","v":""},{"$f":"IF($A667 = \"\", \"\", COUNTIFS(ToDoList!$B:$B, $A667, ToDoList!$R:$R, D$2))","v":""},{"$f":"IF($A667 = \"\", \"\", COUNTIFS(ToDoList!$B:$B, $A667, ToDoList!$R:$R, E$2))","v":""},{"$f":"IF($A667 = \"\", \"\", COUNTIFS(ToDoList!$B:$B, $A667, ToDoList!$R:$R, F$2))","v":""},{"$f":"IF($A667 = \"\", \"\", COUNTIFS(ToDoList!$B:$B, $A667, ToDoList!$R:$R, G$2))","v":""},{"$f":"IF($A667 = \"\", \"\", COUNTIFS(ToDoList!$B:$B, $A667, ToDoList!$R:$R, H$2))","v":""},{"$f":"IF($A667 = \"\", \"\", COUNTIFS(ToDoList!$B:$B, $A667, ToDoList!$R:$R, I$2))","v":""},{"$f":"IF($A667 = \"\", \"\", COUNTIFS(ToDoList!$B:$B, $A667, ToDoList!$R:$R, J$2))","v":""}]
[null,{"$f":"IF($A668 = \"\", \"\", COUNTIFS(ToDoList!$B:$B, $A668, ToDoList!$R:$R, B$2))","v":""},{"$f":"IF($A668 = \"\", \"\", COUNTIFS(ToDoList!$B:$B, $A668, ToDoList!$R:$R, C$2))","v":""},{"$f":"IF($A668 = \"\", \"\", COUNTIFS(ToDoList!$B:$B, $A668, ToDoList!$R:$R, D$2))","v":""},{"$f":"IF($A668 = \"\", \"\", COUNTIFS(ToDoList!$B:$B, $A668, ToDoList!$R:$R, E$2))","v":""},{"$f":"IF($A668 = \"\", \"\", COUNTIFS(ToDoList!$B:$B, $A668, ToDoList!$R:$R, F$2))","v":""},{"$f":"IF($A668 = \"\", \"\", COUNTIFS(ToDoList!$B:$B, $A668, ToDoList!$R:$R, G$2))","v":""},{"$f":"IF($A668 = \"\", \"\", COUNTIFS(ToDoList!$B:$B, $A668, ToDoList!$R:$R, H$2))","v":""},{"$f":"IF($A668 = \"\", \"\", COUNTIFS(ToDoList!$B:$B, $A668, ToDoList!$R:$R, I$2))","v":""},{"$f":"IF($A668 = \"\", \"\", COUNTIFS(ToDoList!$B:$B, $A668, ToDoList!$R:$R, J$2))","v":""}]
[null,{"$f":"IF($A669 = \"\", \"\", COUNTIFS(ToDoList!$B:$B, $A669, ToDoList!$R:$R, B$2))","v":""},{"$f":"IF($A669 = \"\", \"\", COUNTIFS(ToDoList!$B:$B, $A669, ToDoList!$R:$R, C$2))","v":""},{"$f":"IF($A669 = \"\", \"\", COUNTIFS(ToDoList!$B:$B, $A669, ToDoList!$R:$R, D$2))","v":""},{"$f":"IF($A669 = \"\", \"\", COUNTIFS(ToDoList!$B:$B, $A669, ToDoList!$R:$R, E$2))","v":""},{"$f":"IF($A669 = \"\", \"\", COUNTIFS(ToDoList!$B:$B, $A669, ToDoList!$R:$R, F$2))","v":""},{"$f":"IF($A669 = \"\", \"\", COUNTIFS(ToDoList!$B:$B, $A669, ToDoList!$R:$R, G$2))","v":""},{"$f":"IF($A669 = \"\", \"\", COUNTIFS(ToDoList!$B:$B, $A669, ToDoList!$R:$R, H$2))","v":""},{"$f":"IF($A669 = \"\", \"\", COUNTIFS(ToDoList!$B:$B, $A669, ToDoList!$R:$R, I$2))","v":""},{"$f":"IF($A669 = \"\", \"\", COUNTIFS(ToDoList!$B:$B, $A669, ToDoList!$R:$R, J$2))","v":""}]
[null,{"$f":"IF($A670 = \"\", \"\", COUNTIFS(ToDoList!$B:$B, $A670, ToDoList!$R:$R, B$2))","v":""},{"$f":"IF($A670 = \"\", \"\", COUNTIFS(ToDoList!$B:$B, $A670, ToDoList!$R:$R, C$2))","v":""},{"$f":"IF($A670 = \"\", \"\", COUNTIFS(ToDoList!$B:$B, $A670, ToDoList!$R:$R, D$2))","v":""},{"$f":"IF($A670 = \"\", \"\", COUNTIFS(ToDoList!$B:$B, $A670, ToDoList!$R:$R, E$2))","v":""},{"$f":"IF($A670 = \"\", \"\", COUNTIFS(ToDoList!$B:$B, $A670, ToDoList!$R:$R, F$2))","v":""},{"$f":"IF($A670 = \"\", \"\", COUNTIFS(ToDoList!$B:$B, $A670, ToDoList!$R:$R, G$2))","v":""},{"$f":"IF($A670 = \"\", \"\", COUNTIFS(ToDoList!$B:$B, $A670, ToDoList!$R:$R, H$2))","v":""},{"$f":"IF($A670 = \"\", \"\", COUNTIFS(ToDoList!$B:$B, $A670, ToDoList!$R:$R, I$2))","v":""},{"$f":"IF($A670 = \"\", \"\", COUNTIFS(ToDoList!$B:$B, $A670, ToDoList!$R:$R, J$2))","v":""}]
[null,{"$f":"IF($A671 = \"\", \"\", COUNTIFS(ToDoList!$B:$B, $A671, ToDoList!$R:$R, B$2))","v":""},{"$f":"IF($A671 = \"\", \"\", COUNTIFS(ToDoList!$B:$B, $A671, ToDoList!$R:$R, C$2))","v":""},{"$f":"IF($A671 = \"\", \"\", COUNTIFS(ToDoList!$B:$B, $A671, ToDoList!$R:$R, D$2))","v":""},{"$f":"IF($A671 = \"\", \"\", COUNTIFS(ToDoList!$B:$B, $A671, ToDoList!$R:$R, E$2))","v":""},{"$f":"IF($A671 = \"\", \"\", COUNTIFS(ToDoList!$B:$B, $A671, ToDoList!$R:$R, F$2))","v":""},{"$f":"IF($A671 = \"\", \"\", COUNTIFS(ToDoList!$B:$B, $A671, ToDoList!$R:$R, G$2))","v":""},{"$f":"IF($A671 = \"\", \"\", COUNTIFS(ToDoList!$B:$B, $A671, ToDoList!$R:$R, H$2))","v":""},{"$f":"IF($A671 = \"\", \"\", COUNTIFS(ToDoList!$B:$B, $A671, ToDoList!$R:$R, I$2))","v":""},{"$f":"IF($A671 = \"\", \"\", COUNTIFS(ToDoList!$B:$B, $A671, ToDoList!$R:$R, J$2))","v":""}]
[null,{"$f":"IF($A672 = \"\", \"\", COUNTIFS(ToDoList!$B:$B, $A672, ToDoList!$R:$R, B$2))","v":""},{"$f":"IF($A672 = \"\", \"\", COUNTIFS(ToDoList!$B:$B, $A672, ToDoList!$R:$R, C$2))","v":""},{"$f":"IF($A672 = \"\", \"\", COUNTIFS(ToDoList!$B:$B, $A672, ToDoList!$R:$R, D$2))","v":""},{"$f":"IF($A672 = \"\", \"\", COUNTIFS(ToDoList!$B:$B, $A672, ToDoList!$R:$R, E$2))","v":""},{"$f":"IF($A672 = \"\", \"\", COUNTIFS(ToDoList!$B:$B, $A672, ToDoList!$R:$R, F$2))","v":""},{"$f":"IF($A672 = \"\", \"\", COUNTIFS(ToDoList!$B:$B, $A672, ToDoList!$R:$R, G$2))","v":""},{"$f":"IF($A672 = \"\", \"\", COUNTIFS(ToDoList!$B:$B, $A672, ToDoList!$R:$R, H$2))","v":""},{"$f":"IF($A672 = \"\", \"\", COUNTIFS(ToDoList!$B:$B, $A672, ToDoList!$R:$R, I$2))","v":""},{"$f":"IF($A672 = \"\", \"\", COUNTIFS(ToDoList!$B:$B, $A672, ToDoList!$R:$R, J$2))","v":""}]
[null,{"$f":"IF($A673 = \"\", \"\", COUNTIFS(ToDoList!$B:$B, $A673, ToDoList!$R:$R, B$2))","v":""},{"$f":"IF($A673 = \"\", \"\", COUNTIFS(ToDoList!$B:$B, $A673, ToDoList!$R:$R, C$2))","v":""},{"$f":"IF($A673 = \"\", \"\", COUNTIFS(ToDoList!$B:$B, $A673, ToDoList!$R:$R, D$2))","v":""},{"$f":"IF($A673 = \"\", \"\", COUNTIFS(ToDoList!$B:$B, $A673, ToDoList!$R:$R, E$2))","v":""},{"$f":"IF($A673 = \"\", \"\", COUNTIFS(ToDoList!$B:$B, $A673, ToDoList!$R:$R, F$2))","v":""},{"$f":"IF($A673 = \"\", \"\", COUNTIFS(ToDoList!$B:$B, $A673, ToDoList!$R:$R, G$2))","v":""},{"$f":"IF($A673 = \"\", \"\", COUNTIFS(ToDoList!$B:$B, $A673, ToDoList!$R:$R, H$2))","v":""},{"$f":"IF($A673 = \"\", \"\", COUNTIFS(ToDoList!$B:$B, $A673, ToDoList!$R:$R, I$2))","v":""},{"$f":"IF($A673 = \"\", \"\", COUNTIFS(ToDoList!$B:$B, $A673, ToDoList!$R:$R, J$2))","v":""}]
[null,{"$f":"IF($A674 = \"\", \"\", COUNTIFS(ToDoList!$B:$B, $A674, ToDoList!$R:$R, B$2))","v":""},{"$f":"IF($A674 = \"\", \"\", COUNTIFS(ToDoList!$B:$B, $A674, ToDoList!$R:$R, C$2))","v":""},{"$f":"IF($A674 = \"\", \"\", COUNTIFS(ToDoList!$B:$B, $A674, ToDoList!$R:$R, D$2))","v":""},{"$f":"IF($A674 = \"\", \"\", COUNTIFS(ToDoList!$B:$B, $A674, ToDoList!$R:$R, E$2))","v":""},{"$f":"IF($A674 = \"\", \"\", COUNTIFS(ToDoList!$B:$B, $A674, ToDoList!$R:$R, F$2))","v":""},{"$f":"IF($A674 = \"\", \"\", COUNTIFS(ToDoList!$B:$B, $A674, ToDoList!$R:$R, G$2))","v":""},{"$f":"IF($A674 = \"\", \"\", COUNTIFS(ToDoList!$B:$B, $A674, ToDoList!$R:$R, H$2))","v":""},{"$f":"IF($A674 = \"\", \"\", COUNTIFS(ToDoList!$B:$B, $A674, ToDoList!$R:$R, I$2))","v":""},{"$f":"IF($A674 = \"\", \"\", COUNTIFS(ToDoList!$B:$B, $A674, ToDoList!$R:$R, J$2))","v":""}]
[null,{"$f":"IF($A675 = \"\", \"\", COUNTIFS(ToDoList!$B:$B, $A675, ToDoList!$R:$R, B$2))","v":""},{"$f":"IF($A675 = \"\", \"\", COUNTIFS(ToDoList!$B:$B, $A675, ToDoList!$R:$R, C$2))","v":""},{"$f":"IF($A675 = \"\", \"\", COUNTIFS(ToDoList!$B:$B, $A675, ToDoList!$R:$R, D$2))","v":""},{"$f":"IF($A675 = \"\", \"\", COUNTIFS(ToDoList!$B:$B, $A675, ToDoList!$R:$R, E$2))","v":""},{"$f":"IF($A675 = \"\", \"\", COUNTIFS(ToDoList!$B:$B, $A675, ToDoList!$R:$R, F$2))","v":""},{"$f":"IF($A675 = \"\", \"\", COUNTIFS(ToDoList!$B:$B, $A675, ToDoList!$R:$R, G$2))","v":""},{"$f":"IF($A675 = \"\", \"\", COUNTIFS(ToDoList!$B:$B, $A675, ToDoList!$R:$R, H$2))","v":""},{"$f":"IF($A675 = \"\", \"\", COUNTIFS(ToDoList!$B:$B, $A675, ToDoList!$R:$R, I$2))","v":""},{"$f":"IF($A675 = \"\", \"\", COUNTIFS(ToDoList!$B:$B, $A675, ToDoList!$R:$R, J$2))","v":""}]
[null,{"$f":"IF($A676 = \"\", \"\", COUNTIFS(ToDoList!$B:$B, $A676, ToDoList!$R:$R, B$2))","v":""},{"$f":"IF($A676 = \"\", \"\", COUNTIFS(ToDoList!$B:$B, $A676, ToDoList!$R:$R, C$2))","v":""},{"$f":"IF($A676 = \"\", \"\", COUNTIFS(ToDoList!$B:$B, $A676, ToDoList!$R:$R, D$2))","v":""},{"$f":"IF($A676 = \"\", \"\", COUNTIFS(ToDoList!$B:$B, $A676, ToDoList!$R:$R, E$2))","v":""},{"$f":"IF($A676 = \"\", \"\", COUNTIFS(ToDoList!$B:$B, $A676, ToDoList!$R:$R, F$2))","v":""},{"$f":"IF($A676 = \"\", \"\", COUNTIFS(ToDoList!$B:$B, $A676, ToDoList!$R:$R, G$2))","v":""},{"$f":"IF($A676 = \"\", \"\", COUNTIFS(ToDoList!$B:$B, $A676, ToDoList!$R:$R, H$2))","v":""},{"$f":"IF($A676 = \"\", \"\", COUNTIFS(ToDoList!$B:$B, $A676, ToDoList!$R:$R, I$2))","v":""},{"$f":"IF($A676 = \"\", \"\", COUNTIFS(ToDoList!$B:$B, $A676, ToDoList!$R:$R, J$2))","v":""}]
[null,{"$f":"IF($A677 = \"\", \"\", COUNTIFS(ToDoList!$B:$B, $A677, ToDoList!$R:$R, B$2))","v":""},{"$f":"IF($A677 = \"\", \"\", COUNTIFS(ToDoList!$B:$B, $A677, ToDoList!$R:$R, C$2))","v":""},{"$f":"IF($A677 = \"\", \"\", COUNTIFS(ToDoList!$B:$B, $A677, ToDoList!$R:$R, D$2))","v":""},{"$f":"IF($A677 = \"\", \"\", COUNTIFS(ToDoList!$B:$B, $A677, ToDoList!$R:$R, E$2))","v":""},{"$f":"IF($A677 = \"\", \"\", COUNTIFS(ToDoList!$B:$B, $A677, ToDoList!$R:$R, F$2))","v":""},{"$f":"IF($A677 = \"\", \"\", COUNTIFS(ToDoList!$B:$B, $A677, ToDoList!$R:$R, G$2))","v":""},{"$f":"IF($A677 = \"\", \"\", COUNTIFS(ToDoList!$B:$B, $A677, ToDoList!$R:$R, H$2))","v":""},{"$f":"IF($A677 = \"\", \"\", COUNTIFS(ToDoList!$B:$B, $A677, ToDoList!$R:$R, I$2))","v":""},{"$f":"IF($A677 = \"\", \"\", COUNTIFS(ToDoList!$B:$B, $A677, ToDoList!$R:$R, J$2))","v":""}]
[null,{"$f":"IF($A678 = \"\", \"\", COUNTIFS(ToDoList!$B:$B, $A678, ToDoList!$R:$R, B$2))","v":""},{"$f":"IF($A678 = \"\", \"\", COUNTIFS(ToDoList!$B:$B, $A678, ToDoList!$R:$R, C$2))","v":""},{"$f":"IF($A678 = \"\", \"\", COUNTIFS(ToDoList!$B:$B, $A678, ToDoList!$R:$R, D$2))","v":""},{"$f":"IF($A678 = \"\", \"\", COUNTIFS(ToDoList!$B:$B, $A678, ToDoList!$R:$R, E$2))","v":""},{"$f":"IF($A678 = \"\", \"\", COUNTIFS(ToDoList!$B:$B, $A678, ToDoList!$R:$R, F$2))","v":""},{"$f":"IF($A678 = \"\", \"\", COUNTIFS(ToDoList!$B:$B, $A678, ToDoList!$R:$R, G$2))","v":""},{"$f":"IF($A678 = \"\", \"\", COUNTIFS(ToDoList!$B:$B, $A678, ToDoList!$R:$R, H$2))","v":""},{"$f":"IF($A678 = \"\", \"\", COUNTIFS(ToDoList!$B:$B, $A678, ToDoList!$R:$R, I$2))","v":""},{"$f":"IF($A678 = \"\", \"\", COUNTIFS(ToDoList!$B:$B, $A678, ToDoList!$R:$R, J$2))","v":""}]
[null,{"$f":"IF($A679 = \"\", \"\", COUNTIFS(ToDoList!$B:$B, $A679, ToDoList!$R:$R, B$2))","v":""},{"$f":"IF($A679 = \"\", \"\", COUNTIFS(ToDoList!$B:$B, $A679, ToDoList!$R:$R, C$2))","v":""},{"$f":"IF($A679 = \"\", \"\", COUNTIFS(ToDoList!$B:$B, $A679, ToDoList!$R:$R, D$2))","v":""},{"$f":"IF($A679 = \"\", \"\", COUNTIFS(ToDoList!$B:$B, $A679, ToDoList!$R:$R, E$2))","v":""},{"$f":"IF($A679 = \"\", \"\", COUNTIFS(ToDoList!$B:$B, $A679, ToDoList!$R:$R, F$2))","v":""},{"$f":"IF($A679 = \"\", \"\", COUNTIFS(ToDoList!$B:$B, $A679, ToDoList!$R:$R, G$2))","v":""},{"$f":"IF($A679 = \"\", \"\", COUNTIFS(ToDoList!$B:$B, $A679, ToDoList!$R:$R, H$2))","v":""},{"$f":"IF($A679 = \"\", \"\", COUNTIFS(ToDoList!$B:$B, $A679, ToDoList!$R:$R, I$2))","v":""},{"$f":"IF($A679 = \"\", \"\", COUNTIFS(ToDoList!$B:$B, $A679, ToDoList!$R:$R, J$2))","v":""}]
[null,{"$f":"IF($A680 = \"\", \"\", COUNTIFS(ToDoList!$B:$B, $A680, ToDoList!$R:$R, B$2))","v":""},{"$f":"IF($A680 = \"\", \"\", COUNTIFS(ToDoList!$B:$B, $A680, ToDoList!$R:$R, C$2))","v":""},{"$f":"IF($A680 = \"\", \"\", COUNTIFS(ToDoList!$B:$B, $A680, ToDoList!$R:$R, D$2))","v":""},{"$f":"IF($A680 = \"\", \"\", COUNTIFS(ToDoList!$B:$B, $A680, ToDoList!$R:$R, E$2))","v":""},{"$f":"IF($A680 = \"\", \"\", COUNTIFS(ToDoList!$B:$B, $A680, ToDoList!$R:$R, F$2))","v":""},{"$f":"IF($A680 = \"\", \"\", COUNTIFS(ToDoList!$B:$B, $A680, ToDoList!$R:$R, G$2))","v":""},{"$f":"IF($A680 = \"\", \"\", COUNTIFS(ToDoList!$B:$B, $A680, ToDoList!$R:$R, H$2))","v":""},{"$f":"IF($A680 = \"\", \"\", COUNTIFS(ToDoList!$B:$B, $A680, ToDoList!$R:$R, I$2))","v":""},{"$f":"IF($A680 = \"\", \"\", COUNTIFS(ToDoList!$B:$B, $A680, ToDoList!$R:$R, J$2))","v":""}]
[null,{"$f":"IF($A681 = \"\", \"\", COUNTIFS(ToDoList!$B:$B, $A681, ToDoList!$R:$R, B$2))","v":""},{"$f":"IF($A681 = \"\", \"\", COUNTIFS(ToDoList!$B:$B, $A681, ToDoList!$R:$R, C$2))","v":""},{"$f":"IF($A681 = \"\", \"\", COUNTIFS(ToDoList!$B:$B, $A681, ToDoList!$R:$R, D$2))","v":""},{"$f":"IF($A681 = \"\", \"\", COUNTIFS(ToDoList!$B:$B, $A681, ToDoList!$R:$R, E$2))","v":""},{"$f":"IF($A681 = \"\", \"\", COUNTIFS(ToDoList!$B:$B, $A681, ToDoList!$R:$R, F$2))","v":""},{"$f":"IF($A681 = \"\", \"\", COUNTIFS(ToDoList!$B:$B, $A681, ToDoList!$R:$R, G$2))","v":""},{"$f":"IF($A681 = \"\", \"\", COUNTIFS(ToDoList!$B:$B, $A681, ToDoList!$R:$R, H$2))","v":""},{"$f":"IF($A681 = \"\", \"\", COUNTIFS(ToDoList!$B:$B, $A681, ToDoList!$R:$R, I$2))","v":""},{"$f":"IF($A681 = \"\", \"\", COUNTIFS(ToDoList!$B:$B, $A681, ToDoList!$R:$R, J$2))","v":""}]
[null,{"$f":"IF($A682 = \"\", \"\", COUNTIFS(ToDoList!$B:$B, $A682, ToDoList!$R:$R, B$2))","v":""},{"$f":"IF($A682 = \"\", \"\", COUNTIFS(ToDoList!$B:$B, $A682, ToDoList!$R:$R, C$2))","v":""},{"$f":"IF($A682 = \"\", \"\", COUNTIFS(ToDoList!$B:$B, $A682, ToDoList!$R:$R, D$2))","v":""},{"$f":"IF($A682 = \"\", \"\", COUNTIFS(ToDoList!$B:$B, $A682, ToDoList!$R:$R, E$2))","v":""},{"$f":"IF($A682 = \"\", \"\", COUNTIFS(ToDoList!$B:$B, $A682, ToDoList!$R:$R, F$2))","v":""},{"$f":"IF($A682 = \"\", \"\", COUNTIFS(ToDoList!$B:$B, $A682, ToDoList!$R:$R, G$2))","v":""},{"$f":"IF($A682 = \"\", \"\", COUNTIFS(ToDoList!$B:$B, $A682, ToDoList!$R:$R, H$2))","v":""},{"$f":"IF($A682 = \"\", \"\", COUNTIFS(ToDoList!$B:$B, $A682, ToDoList!$R:$R, I$2))","v":""},{"$f":"IF($A682 = \"\", \"\", COUNTIFS(ToDoList!$B:$B, $A682, ToDoList!$R:$R, J$2))","v":""}]
[null,{"$f":"IF($A683 = \"\", \"\", COUNTIFS(ToDoList!$B:$B, $A683, ToDoList!$R:$R, B$2))","v":""},{"$f":"IF($A683 = \"\", \"\", COUNTIFS(ToDoList!$B:$B, $A683, ToDoList!$R:$R, C$2))","v":""},{"$f":"IF($A683 = \"\", \"\", COUNTIFS(ToDoList!$B:$B, $A683, ToDoList!$R:$R, D$2))","v":""},{"$f":"IF($A683 = \"\", \"\", COUNTIFS(ToDoList!$B:$B, $A683, ToDoList!$R:$R, E$2))","v":""},{"$f":"IF($A683 = \"\", \"\", COUNTIFS(ToDoList!$B:$B, $A683, ToDoList!$R:$R, F$2))","v":""},{"$f":"IF($A683 = \"\", \"\", COUNTIFS(ToDoList!$B:$B, $A683, ToDoList!$R:$R, G$2))","v":""},{"$f":"IF($A683 = \"\", \"\", COUNTIFS(ToDoList!$B:$B, $A683, ToDoList!$R:$R, H$2))","v":""},{"$f":"IF($A683 = \"\", \"\", COUNTIFS(ToDoList!$B:$B, $A683, ToDoList!$R:$R, I$2))","v":""},{"$f":"IF($A683 = \"\", \"\", COUNTIFS(ToDoList!$B:$B, $A683, ToDoList!$R:$R, J$2))","v":""}]
[null,{"$f":"IF($A684 = \"\", \"\", COUNTIFS(ToDoList!$B:$B, $A684, ToDoList!$R:$R, B$2))","v":""},{"$f":"IF($A684 = \"\", \"\", COUNTIFS(ToDoList!$B:$B, $A684, ToDoList!$R:$R, C$2))","v":""},{"$f":"IF($A684 = \"\", \"\", COUNTIFS(ToDoList!$B:$B, $A684, ToDoList!$R:$R, D$2))","v":""},{"$f":"IF($A684 = \"\", \"\", COUNTIFS(ToDoList!$B:$B, $A684, ToDoList!$R:$R, E$2))","v":""},{"$f":"IF($A684 = \"\", \"\", COUNTIFS(ToDoList!$B:$B, $A684, ToDoList!$R:$R, F$2))","v":""},{"$f":"IF($A684 = \"\", \"\", COUNTIFS(ToDoList!$B:$B, $A684, ToDoList!$R:$R, G$2))","v":""},{"$f":"IF($A684 = \"\", \"\", COUNTIFS(ToDoList!$B:$B, $A684, ToDoList!$R:$R, H$2))","v":""},{"$f":"IF($A684 = \"\", \"\", COUNTIFS(ToDoList!$B:$B, $A684, ToDoList!$R:$R, I$2))","v":""},{"$f":"IF($A684 = \"\", \"\", COUNTIFS(ToDoList!$B:$B, $A684, ToDoList!$R:$R, J$2))","v":""}]
[null,{"$f":"IF($A685 = \"\", \"\", COUNTIFS(ToDoList!$B:$B, $A685, ToDoList!$R:$R, B$2))","v":""},{"$f":"IF($A685 = \"\", \"\", COUNTIFS(ToDoList!$B:$B, $A685, ToDoList!$R:$R, C$2))","v":""},{"$f":"IF($A685 = \"\", \"\", COUNTIFS(ToDoList!$B:$B, $A685, ToDoList!$R:$R, D$2))","v":""},{"$f":"IF($A685 = \"\", \"\", COUNTIFS(ToDoList!$B:$B, $A685, ToDoList!$R:$R, E$2))","v":""},{"$f":"IF($A685 = \"\", \"\", COUNTIFS(ToDoList!$B:$B, $A685, ToDoList!$R:$R, F$2))","v":""},{"$f":"IF($A685 = \"\", \"\", COUNTIFS(ToDoList!$B:$B, $A685, ToDoList!$R:$R, G$2))","v":""},{"$f":"IF($A685 = \"\", \"\", COUNTIFS(ToDoList!$B:$B, $A685, ToDoList!$R:$R, H$2))","v":""},{"$f":"IF($A685 = \"\", \"\", COUNTIFS(ToDoList!$B:$B, $A685, ToDoList!$R:$R, I$2))","v":""},{"$f":"IF($A685 = \"\", \"\", COUNTIFS(ToDoList!$B:$B, $A685, ToDoList!$R:$R, J$2))","v":""}]
[null,{"$f":"IF($A686 = \"\", \"\", COUNTIFS(ToDoList!$B:$B, $A686, ToDoList!$R:$R, B$2))","v":""},{"$f":"IF($A686 = \"\", \"\", COUNTIFS(ToDoList!$B:$B, $A686, ToDoList!$R:$R, C$2))","v":""},{"$f":"IF($A686 = \"\", \"\", COUNTIFS(ToDoList!$B:$B, $A686, ToDoList!$R:$R, D$2))","v":""},{"$f":"IF($A686 = \"\", \"\", COUNTIFS(ToDoList!$B:$B, $A686, ToDoList!$R:$R, E$2))","v":""},{"$f":"IF($A686 = \"\", \"\", COUNTIFS(ToDoList!$B:$B, $A686, ToDoList!$R:$R, F$2))","v":""},{"$f":"IF($A686 = \"\", \"\", COUNTIFS(ToDoList!$B:$B, $A686, ToDoList!$R:$R, G$2))","v":""},{"$f":"IF($A686 = \"\", \"\", COUNTIFS(ToDoList!$B:$B, $A686, ToDoList!$R:$R, H$2))","v":""},{"$f":"IF($A686 = \"\", \"\", COUNTIFS(ToDoList!$B:$B, $A686, ToDoList!$R:$R, I$2))","v":""},{"$f":"IF($A686 = \"\", \"\", COUNTIFS(ToDoList!$B:$B, $A686, ToDoList!$R:$R, J$2))","v":""}]
[null,{"$f":"IF($A687 = \"\", \"\", COUNTIFS(ToDoList!$B:$B, $A687, ToDoList!$R:$R, B$2))","v":""},{"$f":"IF($A687 = \"\", \"\", COUNTIFS(ToDoList!$B:$B, $A687, ToDoList!$R:$R, C$2))","v":""},{"$f":"IF($A687 = \"\", \"\", COUNTIFS(ToDoList!$B:$B, $A687, ToDoList!$R:$R, D$2))","v":""},{"$f":"IF($A687 = \"\", \"\", COUNTIFS(ToDoList!$B:$B, $A687, ToDoList!$R:$R, E$2))","v":""},{"$f":"IF($A687 = \"\", \"\", COUNTIFS(ToDoList!$B:$B, $A687, ToDoList!$R:$R, F$2))","v":""},{"$f":"IF($A687 = \"\", \"\", COUNTIFS(ToDoList!$B:$B, $A687, ToDoList!$R:$R, G$2))","v":""},{"$f":"IF($A687 = \"\", \"\", COUNTIFS(ToDoList!$B:$B, $A687, ToDoList!$R:$R, H$2))","v":""},{"$f":"IF($A687 = \"\", \"\", COUNTIFS(ToDoList!$B:$B, $A687, ToDoList!$R:$R, I$2))","v":""},{"$f":"IF($A687 = \"\", \"\", COUNTIFS(ToDoList!$B:$B, $A687, ToDoList!$R:$R, J$2))","v":""}]
[null,{"$f":"IF($A688 = \"\", \"\", COUNTIFS(ToDoList!$B:$B, $A688, ToDoList!$R:$R, B$2))","v":""},{"$f":"IF($A688 = \"\", \"\", COUNTIFS(ToDoList!$B:$B, $A688, ToDoList!$R:$R, C$2))","v":""},{"$f":"IF($A688 = \"\", \"\", COUNTIFS(ToDoList!$B:$B, $A688, ToDoList!$R:$R, D$2))","v":""},{"$f":"IF($A688 = \"\", \"\", COUNTIFS(ToDoList!$B:$B, $A688, ToDoList!$R:$R, E$2))","v":""},{"$f":"IF($A688 = \"\", \"\", COUNTIFS(ToDoList!$B:$B, $A688, ToDoList!$R:$R, F$2))","v":""},{"$f":"IF($A688 = \"\", \"\", COUNTIFS(ToDoList!$B:$B, $A688, ToDoList!$R:$R, G$2))","v":""},{"$f":"IF($A688 = \"\", \"\", COUNTIFS(ToDoList!$B:$B, $A688, ToDoList!$R:$R, H$2))","v":""},{"$f":"IF($A688 = \"\", \"\", COUNTIFS(ToDoList!$B:$B, $A688, ToDoList!$R:$R, I$2))","v":""},{"$f":"IF($A688 = \"\", \"\", COUNTIFS(ToDoList!$B:$B, $A688, ToDoList!$R:$R, J$2))","v":""}]
[null,{"$f":"IF($A689 = \"\", \"\", COUNTIFS(ToDoList!$B:$B, $A689, ToDoList!$R:$R, B$2))","v":""},{"$f":"IF($A689 = \"\", \"\", COUNTIFS(ToDoList!$B:$B, $A689, ToDoList!$R:$R, C$2))","v":""},{"$f":"IF($A689 = \"\", \"\", COUNTIFS(ToDoList!$B:$B, $A689, ToDoList!$R:$R, D$2))","v":""},{"$f":"IF($A689 = \"\", \"\", COUNTIFS(ToDoList!$B:$B, $A689, ToDoList!$R:$R, E$2))","v":""},{"$f":"IF($A689 = \"\", \"\", COUNTIFS(ToDoList!$B:$B, $A689, ToDoList!$R:$R, F$2))","v":""},{"$f":"IF($A689 = \"\", \"\", COUNTIFS(ToDoList!$B:$B, $A689, ToDoList!$R:$R, G$2))","v":""},{"$f":"IF($A689 = \"\", \"\", COUNTIFS(ToDoList!$B:$B, $A689, ToDoList!$R:$R, H$2))","v":""},{"$f":"IF($A689 = \"\", \"\", COUNTIFS(ToDoList!$B:$B, $A689, ToDoList!$R:$R, I$2))","v":""},{"$f":"IF($A689 = \"\", \"\", COUNTIFS(ToDoList!$B:$B, $A689, ToDoList!$R:$R, J$2))","v":""}]
[null,{"$f":"IF($A690 = \"\", \"\", COUNTIFS(ToDoList!$B:$B, $A690, ToDoList!$R:$R, B$2))","v":""},{"$f":"IF($A690 = \"\", \"\", COUNTIFS(ToDoList!$B:$B, $A690, ToDoList!$R:$R, C$2))","v":""},{"$f":"IF($A690 = \"\", \"\", COUNTIFS(ToDoList!$B:$B, $A690, ToDoList!$R:$R, D$2))","v":""},{"$f":"IF($A690 = \"\", \"\", COUNTIFS(ToDoList!$B:$B, $A690, ToDoList!$R:$R, E$2))","v":""},{"$f":"IF($A690 = \"\", \"\", COUNTIFS(ToDoList!$B:$B, $A690, ToDoList!$R:$R, F$2))","v":""},{"$f":"IF($A690 = \"\", \"\", COUNTIFS(ToDoList!$B:$B, $A690, ToDoList!$R:$R, G$2))","v":""},{"$f":"IF($A690 = \"\", \"\", COUNTIFS(ToDoList!$B:$B, $A690, ToDoList!$R:$R, H$2))","v":""},{"$f":"IF($A690 = \"\", \"\", COUNTIFS(ToDoList!$B:$B, $A690, ToDoList!$R:$R, I$2))","v":""},{"$f":"IF($A690 = \"\", \"\", COUNTIFS(ToDoList!$B:$B, $A690, ToDoList!$R:$R, J$2))","v":""}]
[null,{"$f":"IF($A691 = \"\", \"\", COUNTIFS(ToDoList!$B:$B, $A691, ToDoList!$R:$R, B$2))","v":""},{"$f":"IF($A691 = \"\", \"\", COUNTIFS(ToDoList!$B:$B, $A691, ToDoList!$R:$R, C$2))","v":""},{"$f":"IF($A691 = \"\", \"\", COUNTIFS(ToDoList!$B:$B, $A691, ToDoList!$R:$R, D$2))","v":""},{"$f":"IF($A691 = \"\", \"\", COUNTIFS(ToDoList!$B:$B, $A691, ToDoList!$R:$R, E$2))","v":""},{"$f":"IF($A691 = \"\", \"\", COUNTIFS(ToDoList!$B:$B, $A691, ToDoList!$R:$R, F$2))","v":""},{"$f":"IF($A691 = \"\", \"\", COUNTIFS(ToDoList!$B:$B, $A691, ToDoList!$R:$R, G$2))","v":""},{"$f":"IF($A691 = \"\", \"\", COUNTIFS(ToDoList!$B:$B, $A691, ToDoList!$R:$R, H$2))","v":""},{"$f":"IF($A691 = \"\", \"\", COUNTIFS(ToDoList!$B:$B, $A691, ToDoList!$R:$R, I$2))","v":""},{"$f":"IF($A691 = \"\", \"\", COUNTIFS(ToDoList!$B:$B, $A691, ToDoList!$R:$R, J$2))","v":""}]
[null,{"$f":"IF($A692 = \"\", \"\", COUNTIFS(ToDoList!$B:$B, $A692, ToDoList!$R:$R, B$2))","v":""},{"$f":"IF($A692 = \"\", \"\", COUNTIFS(ToDoList!$B:$B, $A692, ToDoList!$R:$R, C$2))","v":""},{"$f":"IF($A692 = \"\", \"\", COUNTIFS(ToDoList!$B:$B, $A692, ToDoList!$R:$R, D$2))","v":""},{"$f":"IF($A692 = \"\", \"\", COUNTIFS(ToDoList!$B:$B, $A692, ToDoList!$R:$R, E$2))","v":""},{"$f":"IF($A692 = \"\", \"\", COUNTIFS(ToDoList!$B:$B, $A692, ToDoList!$R:$R, F$2))","v":""},{"$f":"IF($A692 = \"\", \"\", COUNTIFS(ToDoList!$B:$B, $A692, ToDoList!$R:$R, G$2))","v":""},{"$f":"IF($A692 = \"\", \"\", COUNTIFS(ToDoList!$B:$B, $A692, ToDoList!$R:$R, H$2))","v":""},{"$f":"IF($A692 = \"\", \"\", COUNTIFS(ToDoList!$B:$B, $A692, ToDoList!$R:$R, I$2))","v":""},{"$f":"IF($A692 = \"\", \"\", COUNTIFS(ToDoList!$B:$B, $A692, ToDoList!$R:$R, J$2))","v":""}]
[null,{"$f":"IF($A693 = \"\", \"\", COUNTIFS(ToDoList!$B:$B, $A693, ToDoList!$R:$R, B$2))","v":""},{"$f":"IF($A693 = \"\", \"\", COUNTIFS(ToDoList!$B:$B, $A693, ToDoList!$R:$R, C$2))","v":""},{"$f":"IF($A693 = \"\", \"\", COUNTIFS(ToDoList!$B:$B, $A693, ToDoList!$R:$R, D$2))","v":""},{"$f":"IF($A693 = \"\", \"\", COUNTIFS(ToDoList!$B:$B, $A693, ToDoList!$R:$R, E$2))","v":""},{"$f":"IF($A693 = \"\", \"\", COUNTIFS(ToDoList!$B:$B, $A693, ToDoList!$R:$R, F$2))","v":""},{"$f":"IF($A693 = \"\", \"\", COUNTIFS(ToDoList!$B:$B, $A693, ToDoList!$R:$R, G$2))","v":""},{"$f":"IF($A693 = \"\", \"\", COUNTIFS(ToDoList!$B:$B, $A693, ToDoList!$R:$R, H$2))","v":""},{"$f":"IF($A693 = \"\", \"\", COUNTIFS(ToDoList!$B:$B, $A693, ToDoList!$R:$R, I$2))","v":""},{"$f":"IF($A693 = \"\", \"\", COUNTIFS(ToDoList!$B:$B, $A693, ToDoList!$R:$R, J$2))","v":""}]
[null,{"$f":"IF($A694 = \"\", \"\", COUNTIFS(ToDoList!$B:$B, $A694, ToDoList!$R:$R, B$2))","v":""},{"$f":"IF($A694 = \"\", \"\", COUNTIFS(ToDoList!$B:$B, $A694, ToDoList!$R:$R, C$2))","v":""},{"$f":"IF($A694 = \"\", \"\", COUNTIFS(ToDoList!$B:$B, $A694, ToDoList!$R:$R, D$2))","v":""},{"$f":"IF($A694 = \"\", \"\", COUNTIFS(ToDoList!$B:$B, $A694, ToDoList!$R:$R, E$2))","v":""},{"$f":"IF($A694 = \"\", \"\", COUNTIFS(ToDoList!$B:$B, $A694, ToDoList!$R:$R, F$2))","v":""},{"$f":"IF($A694 = \"\", \"\", COUNTIFS(ToDoList!$B:$B, $A694, ToDoList!$R:$R, G$2))","v":""},{"$f":"IF($A694 = \"\", \"\", COUNTIFS(ToDoList!$B:$B, $A694, ToDoList!$R:$R, H$2))","v":""},{"$f":"IF($A694 = \"\", \"\", COUNTIFS(ToDoList!$B:$B, $A694, ToDoList!$R:$R, I$2))","v":""},{"$f":"IF($A694 = \"\", \"\", COUNTIFS(ToDoList!$B:$B, $A694, ToDoList!$R:$R, J$2))","v":""}]
[null,{"$f":"IF($A695 = \"\", \"\", COUNTIFS(ToDoList!$B:$B, $A695, ToDoList!$R:$R, B$2))","v":""},{"$f":"IF($A695 = \"\", \"\", COUNTIFS(ToDoList!$B:$B, $A695, ToDoList!$R:$R, C$2))","v":""},{"$f":"IF($A695 = \"\", \"\", COUNTIFS(ToDoList!$B:$B, $A695, ToDoList!$R:$R, D$2))","v":""},{"$f":"IF($A695 = \"\", \"\", COUNTIFS(ToDoList!$B:$B, $A695, ToDoList!$R:$R, E$2))","v":""},{"$f":"IF($A695 = \"\", \"\", COUNTIFS(ToDoList!$B:$B, $A695, ToDoList!$R:$R, F$2))","v":""},{"$f":"IF($A695 = \"\", \"\", COUNTIFS(ToDoList!$B:$B, $A695, ToDoList!$R:$R, G$2))","v":""},{"$f":"IF($A695 = \"\", \"\", COUNTIFS(ToDoList!$B:$B, $A695, ToDoList!$R:$R, H$2))","v":""},{"$f":"IF($A695 = \"\", \"\", COUNTIFS(ToDoList!$B:$B, $A695, ToDoList!$R:$R, I$2))","v":""},{"$f":"IF($A695 = \"\", \"\", COUNTIFS(ToDoList!$B:$B, $A695, ToDoList!$R:$R, J$2))","v":""}]
[null,{"$f":"IF($A696 = \"\", \"\", COUNTIFS(ToDoList!$B:$B, $A696, ToDoList!$R:$R, B$2))","v":""},{"$f":"IF($A696 = \"\", \"\", COUNTIFS(ToDoList!$B:$B, $A696, ToDoList!$R:$R, C$2))","v":""},{"$f":"IF($A696 = \"\", \"\", COUNTIFS(ToDoList!$B:$B, $A696, ToDoList!$R:$R, D$2))","v":""},{"$f":"IF($A696 = \"\", \"\", COUNTIFS(ToDoList!$B:$B, $A696, ToDoList!$R:$R, E$2))","v":""},{"$f":"IF($A696 = \"\", \"\", COUNTIFS(ToDoList!$B:$B, $A696, ToDoList!$R:$R, F$2))","v":""},{"$f":"IF($A696 = \"\", \"\", COUNTIFS(ToDoList!$B:$B, $A696, ToDoList!$R:$R, G$2))","v":""},{"$f":"IF($A696 = \"\", \"\", COUNTIFS(ToDoList!$B:$B, $A696, ToDoList!$R:$R, H$2))","v":""},{"$f":"IF($A696 = \"\", \"\", COUNTIFS(ToDoList!$B:$B, $A696, ToDoList!$R:$R, I$2))","v":""},{"$f":"IF($A696 = \"\", \"\", COUNTIFS(ToDoList!$B:$B, $A696, ToDoList!$R:$R, J$2))","v":""}]
[null,{"$f":"IF($A697 = \"\", \"\", COUNTIFS(ToDoList!$B:$B, $A697, ToDoList!$R:$R, B$2))","v":""},{"$f":"IF($A697 = \"\", \"\", COUNTIFS(ToDoList!$B:$B, $A697, ToDoList!$R:$R, C$2))","v":""},{"$f":"IF($A697 = \"\", \"\", COUNTIFS(ToDoList!$B:$B, $A697, ToDoList!$R:$R, D$2))","v":""},{"$f":"IF($A697 = \"\", \"\", COUNTIFS(ToDoList!$B:$B, $A697, ToDoList!$R:$R, E$2))","v":""},{"$f":"IF($A697 = \"\", \"\", COUNTIFS(ToDoList!$B:$B, $A697, ToDoList!$R:$R, F$2))","v":""},{"$f":"IF($A697 = \"\", \"\", COUNTIFS(ToDoList!$B:$B, $A697, ToDoList!$R:$R, G$2))","v":""},{"$f":"IF($A697 = \"\", \"\", COUNTIFS(ToDoList!$B:$B, $A697, ToDoList!$R:$R, H$2))","v":""},{"$f":"IF($A697 = \"\", \"\", COUNTIFS(ToDoList!$B:$B, $A697, ToDoList!$R:$R, I$2))","v":""},{"$f":"IF($A697 = \"\", \"\", COUNTIFS(ToDoList!$B:$B, $A697, ToDoList!$R:$R, J$2))","v":""}]
[null,{"$f":"IF($A698 = \"\", \"\", COUNTIFS(ToDoList!$B:$B, $A698, ToDoList!$R:$R, B$2))","v":""},{"$f":"IF($A698 = \"\", \"\", COUNTIFS(ToDoList!$B:$B, $A698, ToDoList!$R:$R, C$2))","v":""},{"$f":"IF($A698 = \"\", \"\", COUNTIFS(ToDoList!$B:$B, $A698, ToDoList!$R:$R, D$2))","v":""},{"$f":"IF($A698 = \"\", \"\", COUNTIFS(ToDoList!$B:$B, $A698, ToDoList!$R:$R, E$2))","v":""},{"$f":"IF($A698 = \"\", \"\", COUNTIFS(ToDoList!$B:$B, $A698, ToDoList!$R:$R, F$2))","v":""},{"$f":"IF($A698 = \"\", \"\", COUNTIFS(ToDoList!$B:$B, $A698, ToDoList!$R:$R, G$2))","v":""},{"$f":"IF($A698 = \"\", \"\", COUNTIFS(ToDoList!$B:$B, $A698, ToDoList!$R:$R, H$2))","v":""},{"$f":"IF($A698 = \"\", \"\", COUNTIFS(ToDoList!$B:$B, $A698, ToDoList!$R:$R, I$2))","v":""},{"$f":"IF($A698 = \"\", \"\", COUNTIFS(ToDoList!$B:$B, $A698, ToDoList!$R:$R, J$2))","v":""}]
[null,{"$f":"IF($A699 = \"\", \"\", COUNTIFS(ToDoList!$B:$B, $A699, ToDoList!$R:$R, B$2))","v":""},{"$f":"IF($A699 = \"\", \"\", COUNTIFS(ToDoList!$B:$B, $A699, ToDoList!$R:$R, C$2))","v":""},{"$f":"IF($A699 = \"\", \"\", COUNTIFS(ToDoList!$B:$B, $A699, ToDoList!$R:$R, D$2))","v":""},{"$f":"IF($A699 = \"\", \"\", COUNTIFS(ToDoList!$B:$B, $A699, ToDoList!$R:$R, E$2))","v":""},{"$f":"IF($A699 = \"\", \"\", COUNTIFS(ToDoList!$B:$B, $A699, ToDoList!$R:$R, F$2))","v":""},{"$f":"IF($A699 = \"\", \"\", COUNTIFS(ToDoList!$B:$B, $A699, ToDoList!$R:$R, G$2))","v":""},{"$f":"IF($A699 = \"\", \"\", COUNTIFS(ToDoList!$B:$B, $A699, ToDoList!$R:$R, H$2))","v":""},{"$f":"IF($A699 = \"\", \"\", COUNTIFS(ToDoList!$B:$B, $A699, ToDoList!$R:$R, I$2))","v":""},{"$f":"IF($A699 = \"\", \"\", COUNTIFS(ToDoList!$B:$B, $A699, ToDoList!$R:$R, J$2))","v":""}]
[null,{"$f":"IF($A700 = \"\", \"\", COUNTIFS(ToDoList!$B:$B, $A700, ToDoList!$R:$R, B$2))","v":""},{"$f":"IF($A700 = \"\", \"\", COUNTIFS(ToDoList!$B:$B, $A700, ToDoList!$R:$R, C$2))","v":""},{"$f":"IF($A700 = \"\", \"\", COUNTIFS(ToDoList!$B:$B, $A700, ToDoList!$R:$R, D$2))","v":""},{"$f":"IF($A700 = \"\", \"\", COUNTIFS(ToDoList!$B:$B, $A700, ToDoList!$R:$R, E$2))","v":""},{"$f":"IF($A700 = \"\", \"\", COUNTIFS(ToDoList!$B:$B, $A700, ToDoList!$R:$R, F$2))","v":""},{"$f":"IF($A700 = \"\", \"\", COUNTIFS(ToDoList!$B:$B, $A700, ToDoList!$R:$R, G$2))","v":""},{"$f":"IF($A700 = \"\", \"\", COUNTIFS(ToDoList!$B:$B, $A700, ToDoList!$R:$R, H$2))","v":""},{"$f":"IF($A700 = \"\", \"\", COUNTIFS(ToDoList!$B:$B, $A700, ToDoList!$R:$R, I$2))","v":""},{"$f":"IF($A700 = \"\", \"\", COUNTIFS(ToDoList!$B:$B, $A700, ToDoList!$R:$R, J$2))","v":""}]
[null,{"$f":"IF($A701 = \"\", \"\", COUNTIFS(ToDoList!$B:$B, $A701, ToDoList!$R:$R, B$2))","v":""},{"$f":"IF($A701 = \"\", \"\", COUNTIFS(ToDoList!$B:$B, $A701, ToDoList!$R:$R, C$2))","v":""},{"$f":"IF($A701 = \"\", \"\", COUNTIFS(ToDoList!$B:$B, $A701, ToDoList!$R:$R, D$2))","v":""},{"$f":"IF($A701 = \"\", \"\", COUNTIFS(ToDoList!$B:$B, $A701, ToDoList!$R:$R, E$2))","v":""},{"$f":"IF($A701 = \"\", \"\", COUNTIFS(ToDoList!$B:$B, $A701, ToDoList!$R:$R, F$2))","v":""},{"$f":"IF($A701 = \"\", \"\", COUNTIFS(ToDoList!$B:$B, $A701, ToDoList!$R:$R, G$2))","v":""},{"$f":"IF($A701 = \"\", \"\", COUNTIFS(ToDoList!$B:$B, $A701, ToDoList!$R:$R, H$2))","v":""},{"$f":"IF($A701 = \"\", \"\", COUNTIFS(ToDoList!$B:$B, $A701, ToDoList!$R:$R, I$2))","v":""},{"$f":"IF($A701 = \"\", \"\", COUNTIFS(ToDoList!$B:$B, $A701, ToDoList!$R:$R, J$2))","v":""}]
[null,{"$f":"IF($A702 = \"\", \"\", COUNTIFS(ToDoList!$B:$B, $A702, ToDoList!$R:$R, B$2))","v":""},{"$f":"IF($A702 = \"\", \"\", COUNTIFS(ToDoList!$B:$B, $A702, ToDoList!$R:$R, C$2))","v":""},{"$f":"IF($A702 = \"\", \"\", COUNTIFS(ToDoList!$B:$B, $A702, ToDoList!$R:$R, D$2))","v":""},{"$f":"IF($A702 = \"\", \"\", COUNTIFS(ToDoList!$B:$B, $A702, ToDoList!$R:$R, E$2))","v":""},{"$f":"IF($A702 = \"\", \"\", COUNTIFS(ToDoList!$B:$B, $A702, ToDoList!$R:$R, F$2))","v":""},{"$f":"IF($A702 = \"\", \"\", COUNTIFS(ToDoList!$B:$B, $A702, ToDoList!$R:$R, G$2))","v":""},{"$f":"IF($A702 = \"\", \"\", COUNTIFS(ToDoList!$B:$B, $A702, ToDoList!$R:$R, H$2))","v":""},{"$f":"IF($A702 = \"\", \"\", COUNTIFS(ToDoList!$B:$B, $A702, ToDoList!$R:$R, I$2))","v":""},{"$f":"IF($A702 = \"\", \"\", COUNTIFS(ToDoList!$B:$B, $A702, ToDoList!$R:$R, J$2))","v":""}]
[null,{"$f":"IF($A703 = \"\", \"\", COUNTIFS(ToDoList!$B:$B, $A703, ToDoList!$R:$R, B$2))","v":""},{"$f":"IF($A703 = \"\", \"\", COUNTIFS(ToDoList!$B:$B, $A703, ToDoList!$R:$R, C$2))","v":""},{"$f":"IF($A703 = \"\", \"\", COUNTIFS(ToDoList!$B:$B, $A703, ToDoList!$R:$R, D$2))","v":""},{"$f":"IF($A703 = \"\", \"\", COUNTIFS(ToDoList!$B:$B, $A703, ToDoList!$R:$R, E$2))","v":""},{"$f":"IF($A703 = \"\", \"\", COUNTIFS(ToDoList!$B:$B, $A703, ToDoList!$R:$R, F$2))","v":""},{"$f":"IF($A703 = \"\", \"\", COUNTIFS(ToDoList!$B:$B, $A703, ToDoList!$R:$R, G$2))","v":""},{"$f":"IF($A703 = \"\", \"\", COUNTIFS(ToDoList!$B:$B, $A703, ToDoList!$R:$R, H$2))","v":""},{"$f":"IF($A703 = \"\", \"\", COUNTIFS(ToDoList!$B:$B, $A703, ToDoList!$R:$R, I$2))","v":""},{"$f":"IF($A703 = \"\", \"\", COUNTIFS(ToDoList!$B:$B, $A703, ToDoList!$R:$R, J$2))","v":""}]
[null,{"$f":"IF($A704 = \"\", \"\", COUNTIFS(ToDoList!$B:$B, $A704, ToDoList!$R:$R, B$2))","v":""},{"$f":"IF($A704 = \"\", \"\", COUNTIFS(ToDoList!$B:$B, $A704, ToDoList!$R:$R, C$2))","v":""},{"$f":"IF($A704 = \"\", \"\", COUNTIFS(ToDoList!$B:$B, $A704, ToDoList!$R:$R, D$2))","v":""},{"$f":"IF($A704 = \"\", \"\", COUNTIFS(ToDoList!$B:$B, $A704, ToDoList!$R:$R, E$2))","v":""},{"$f":"IF($A704 = \"\", \"\", COUNTIFS(ToDoList!$B:$B, $A704, ToDoList!$R:$R, F$2))","v":""},{"$f":"IF($A704 = \"\", \"\", COUNTIFS(ToDoList!$B:$B, $A704, ToDoList!$R:$R, G$2))","v":""},{"$f":"IF($A704 = \"\", \"\", COUNTIFS(ToDoList!$B:$B, $A704, ToDoList!$R:$R, H$2))","v":""},{"$f":"IF($A704 = \"\", \"\", COUNTIFS(ToDoList!$B:$B, $A704, ToDoList!$R:$R, I$2))","v":""},{"$f":"IF($A704 = \"\", \"\", COUNTIFS(ToDoList!$B:$B, $A704, ToDoList!$R:$R, J$2))","v":""}]
[null,{"$f":"IF($A705 = \"\", \"\", COUNTIFS(ToDoList!$B:$B, $A705, ToDoList!$R:$R, B$2))","v":""},{"$f":"IF($A705 = \"\", \"\", COUNTIFS(ToDoList!$B:$B, $A705, ToDoList!$R:$R, C$2))","v":""},{"$f":"IF($A705 = \"\", \"\", COUNTIFS(ToDoList!$B:$B, $A705, ToDoList!$R:$R, D$2))","v":""},{"$f":"IF($A705 = \"\", \"\", COUNTIFS(ToDoList!$B:$B, $A705, ToDoList!$R:$R, E$2))","v":""},{"$f":"IF($A705 = \"\", \"\", COUNTIFS(ToDoList!$B:$B, $A705, ToDoList!$R:$R, F$2))","v":""},{"$f":"IF($A705 = \"\", \"\", COUNTIFS(ToDoList!$B:$B, $A705, ToDoList!$R:$R, G$2))","v":""},{"$f":"IF($A705 = \"\", \"\", COUNTIFS(ToDoList!$B:$B, $A705, ToDoList!$R:$R, H$2))","v":""},{"$f":"IF($A705 = \"\", \"\", COUNTIFS(ToDoList!$B:$B, $A705, ToDoList!$R:$R, I$2))","v":""},{"$f":"IF($A705 = \"\", \"\", COUNTIFS(ToDoList!$B:$B, $A705, ToDoList!$R:$R, J$2))","v":""}]
[null,{"$f":"IF($A706 = \"\", \"\", COUNTIFS(ToDoList!$B:$B, $A706, ToDoList!$R:$R, B$2))","v":""},{"$f":"IF($A706 = \"\", \"\", COUNTIFS(ToDoList!$B:$B, $A706, ToDoList!$R:$R, C$2))","v":""},{"$f":"IF($A706 = \"\", \"\", COUNTIFS(ToDoList!$B:$B, $A706, ToDoList!$R:$R, D$2))","v":""},{"$f":"IF($A706 = \"\", \"\", COUNTIFS(ToDoList!$B:$B, $A706, ToDoList!$R:$R, E$2))","v":""},{"$f":"IF($A706 = \"\", \"\", COUNTIFS(ToDoList!$B:$B, $A706, ToDoList!$R:$R, F$2))","v":""},{"$f":"IF($A706 = \"\", \"\", COUNTIFS(ToDoList!$B:$B, $A706, ToDoList!$R:$R, G$2))","v":""},{"$f":"IF($A706 = \"\", \"\", COUNTIFS(ToDoList!$B:$B, $A706, ToDoList!$R:$R, H$2))","v":""},{"$f":"IF($A706 = \"\", \"\", COUNTIFS(ToDoList!$B:$B, $A706, ToDoList!$R:$R, I$2))","v":""},{"$f":"IF($A706 = \"\", \"\", COUNTIFS(ToDoList!$B:$B, $A706, ToDoList!$R:$R, J$2))","v":""}]
[null,{"$f":"IF($A707 = \"\", \"\", COUNTIFS(ToDoList!$B:$B, $A707, ToDoList!$R:$R, B$2))","v":""},{"$f":"IF($A707 = \"\", \"\", COUNTIFS(ToDoList!$B:$B, $A707, ToDoList!$R:$R, C$2))","v":""},{"$f":"IF($A707 = \"\", \"\", COUNTIFS(ToDoList!$B:$B, $A707, ToDoList!$R:$R, D$2))","v":""},{"$f":"IF($A707 = \"\", \"\", COUNTIFS(ToDoList!$B:$B, $A707, ToDoList!$R:$R, E$2))","v":""},{"$f":"IF($A707 = \"\", \"\", COUNTIFS(ToDoList!$B:$B, $A707, ToDoList!$R:$R, F$2))","v":""},{"$f":"IF($A707 = \"\", \"\", COUNTIFS(ToDoList!$B:$B, $A707, ToDoList!$R:$R, G$2))","v":""},{"$f":"IF($A707 = \"\", \"\", COUNTIFS(ToDoList!$B:$B, $A707, ToDoList!$R:$R, H$2))","v":""},{"$f":"IF($A707 = \"\", \"\", COUNTIFS(ToDoList!$B:$B, $A707, ToDoList!$R:$R, I$2))","v":""},{"$f":"IF($A707 = \"\", \"\", COUNTIFS(ToDoList!$B:$B, $A707, ToDoList!$R:$R, J$2))","v":""}]
[null,{"$f":"IF($A708 = \"\", \"\", COUNTIFS(ToDoList!$B:$B, $A708, ToDoList!$R:$R, B$2))","v":""},{"$f":"IF($A708 = \"\", \"\", COUNTIFS(ToDoList!$B:$B, $A708, ToDoList!$R:$R, C$2))","v":""},{"$f":"IF($A708 = \"\", \"\", COUNTIFS(ToDoList!$B:$B, $A708, ToDoList!$R:$R, D$2))","v":""},{"$f":"IF($A708 = \"\", \"\", COUNTIFS(ToDoList!$B:$B, $A708, ToDoList!$R:$R, E$2))","v":""},{"$f":"IF($A708 = \"\", \"\", COUNTIFS(ToDoList!$B:$B, $A708, ToDoList!$R:$R, F$2))","v":""},{"$f":"IF($A708 = \"\", \"\", COUNTIFS(ToDoList!$B:$B, $A708, ToDoList!$R:$R, G$2))","v":""},{"$f":"IF($A708 = \"\", \"\", COUNTIFS(ToDoList!$B:$B, $A708, ToDoList!$R:$R, H$2))","v":""},{"$f":"IF($A708 = \"\", \"\", COUNTIFS(ToDoList!$B:$B, $A708, ToDoList!$R:$R, I$2))","v":""},{"$f":"IF($A708 = \"\", \"\", COUNTIFS(ToDoList!$B:$B, $A708, ToDoList!$R:$R, J$2))","v":""}]
[null,{"$f":"IF($A709 = \"\", \"\", COUNTIFS(ToDoList!$B:$B, $A709, ToDoList!$R:$R, B$2))","v":""},{"$f":"IF($A709 = \"\", \"\", COUNTIFS(ToDoList!$B:$B, $A709, ToDoList!$R:$R, C$2))","v":""},{"$f":"IF($A709 = \"\", \"\", COUNTIFS(ToDoList!$B:$B, $A709, ToDoList!$R:$R, D$2))","v":""},{"$f":"IF($A709 = \"\", \"\", COUNTIFS(ToDoList!$B:$B, $A709, ToDoList!$R:$R, E$2))","v":""},{"$f":"IF($A709 = \"\", \"\", COUNTIFS(ToDoList!$B:$B, $A709, ToDoList!$R:$R, F$2))","v":""},{"$f":"IF($A709 = \"\", \"\", COUNTIFS(ToDoList!$B:$B, $A709, ToDoList!$R:$R, G$2))","v":""},{"$f":"IF($A709 = \"\", \"\", COUNTIFS(ToDoList!$B:$B, $A709, ToDoList!$R:$R, H$2))","v":""},{"$f":"IF($A709 = \"\", \"\", COUNTIFS(ToDoList!$B:$B, $A709, ToDoList!$R:$R, I$2))","v":""},{"$f":"IF($A709 = \"\", \"\", COUNTIFS(ToDoList!$B:$B, $A709, ToDoList!$R:$R, J$2))","v":""}]
[null,{"$f":"IF($A710 = \"\", \"\", COUNTIFS(ToDoList!$B:$B, $A710, ToDoList!$R:$R, B$2))","v":""},{"$f":"IF($A710 = \"\", \"\", COUNTIFS(ToDoList!$B:$B, $A710, ToDoList!$R:$R, C$2))","v":""},{"$f":"IF($A710 = \"\", \"\", COUNTIFS(ToDoList!$B:$B, $A710, ToDoList!$R:$R, D$2))","v":""},{"$f":"IF($A710 = \"\", \"\", COUNTIFS(ToDoList!$B:$B, $A710, ToDoList!$R:$R, E$2))","v":""},{"$f":"IF($A710 = \"\", \"\", COUNTIFS(ToDoList!$B:$B, $A710, ToDoList!$R:$R, F$2))","v":""},{"$f":"IF($A710 = \"\", \"\", COUNTIFS(ToDoList!$B:$B, $A710, ToDoList!$R:$R, G$2))","v":""},{"$f":"IF($A710 = \"\", \"\", COUNTIFS(ToDoList!$B:$B, $A710, ToDoList!$R:$R, H$2))","v":""},{"$f":"IF($A710 = \"\", \"\", COUNTIFS(ToDoList!$B:$B, $A710, ToDoList!$R:$R, I$2))","v":""},{"$f":"IF($A710 = \"\", \"\", COUNTIFS(ToDoList!$B:$B, $A710, ToDoList!$R:$R, J$2))","v":""}]
[null,{"$f":"IF($A711 = \"\", \"\", COUNTIFS(ToDoList!$B:$B, $A711, ToDoList!$R:$R, B$2))","v":""},{"$f":"IF($A711 = \"\", \"\", COUNTIFS(ToDoList!$B:$B, $A711, ToDoList!$R:$R, C$2))","v":""},{"$f":"IF($A711 = \"\", \"\", COUNTIFS(ToDoList!$B:$B, $A711, ToDoList!$R:$R, D$2))","v":""},{"$f":"IF($A711 = \"\", \"\", COUNTIFS(ToDoList!$B:$B, $A711, ToDoList!$R:$R, E$2))","v":""},{"$f":"IF($A711 = \"\", \"\", COUNTIFS(ToDoList!$B:$B, $A711, ToDoList!$R:$R, F$2))","v":""},{"$f":"IF($A711 = \"\", \"\", COUNTIFS(ToDoList!$B:$B, $A711, ToDoList!$R:$R, G$2))","v":""},{"$f":"IF($A711 = \"\", \"\", COUNTIFS(ToDoList!$B:$B, $A711, ToDoList!$R:$R, H$2))","v":""},{"$f":"IF($A711 = \"\", \"\", COUNTIFS(ToDoList!$B:$B, $A711, ToDoList!$R:$R, I$2))","v":""},{"$f":"IF($A711 = \"\", \"\", COUNTIFS(ToDoList!$B:$B, $A711, ToDoList!$R:$R, J$2))","v":""}]
[null,{"$f":"IF($A712 = \"\", \"\", COUNTIFS(ToDoList!$B:$B, $A712, ToDoList!$R:$R, B$2))","v":""},{"$f":"IF($A712 = \"\", \"\", COUNTIFS(ToDoList!$B:$B, $A712, ToDoList!$R:$R, C$2))","v":""},{"$f":"IF($A712 = \"\", \"\", COUNTIFS(ToDoList!$B:$B, $A712, ToDoList!$R:$R, D$2))","v":""},{"$f":"IF($A712 = \"\", \"\", COUNTIFS(ToDoList!$B:$B, $A712, ToDoList!$R:$R, E$2))","v":""},{"$f":"IF($A712 = \"\", \"\", COUNTIFS(ToDoList!$B:$B, $A712, ToDoList!$R:$R, F$2))","v":""},{"$f":"IF($A712 = \"\", \"\", COUNTIFS(ToDoList!$B:$B, $A712, ToDoList!$R:$R, G$2))","v":""},{"$f":"IF($A712 = \"\", \"\", COUNTIFS(ToDoList!$B:$B, $A712, ToDoList!$R:$R, H$2))","v":""},{"$f":"IF($A712 = \"\", \"\", COUNTIFS(ToDoList!$B:$B, $A712, ToDoList!$R:$R, I$2))","v":""},{"$f":"IF($A712 = \"\", \"\", COUNTIFS(ToDoList!$B:$B, $A712, ToDoList!$R:$R, J$2))","v":""}]
[null,{"$f":"IF($A713 = \"\", \"\", COUNTIFS(ToDoList!$B:$B, $A713, ToDoList!$R:$R, B$2))","v":""},{"$f":"IF($A713 = \"\", \"\", COUNTIFS(ToDoList!$B:$B, $A713, ToDoList!$R:$R, C$2))","v":""},{"$f":"IF($A713 = \"\", \"\", COUNTIFS(ToDoList!$B:$B, $A713, ToDoList!$R:$R, D$2))","v":""},{"$f":"IF($A713 = \"\", \"\", COUNTIFS(ToDoList!$B:$B, $A713, ToDoList!$R:$R, E$2))","v":""},{"$f":"IF($A713 = \"\", \"\", COUNTIFS(ToDoList!$B:$B, $A713, ToDoList!$R:$R, F$2))","v":""},{"$f":"IF($A713 = \"\", \"\", COUNTIFS(ToDoList!$B:$B, $A713, ToDoList!$R:$R, G$2))","v":""},{"$f":"IF($A713 = \"\", \"\", COUNTIFS(ToDoList!$B:$B, $A713, ToDoList!$R:$R, H$2))","v":""},{"$f":"IF($A713 = \"\", \"\", COUNTIFS(ToDoList!$B:$B, $A713, ToDoList!$R:$R, I$2))","v":""},{"$f":"IF($A713 = \"\", \"\", COUNTIFS(ToDoList!$B:$B, $A713, ToDoList!$R:$R, J$2))","v":""}]
[null,{"$f":"IF($A714 = \"\", \"\", COUNTIFS(ToDoList!$B:$B, $A714, ToDoList!$R:$R, B$2))","v":""},{"$f":"IF($A714 = \"\", \"\", COUNTIFS(ToDoList!$B:$B, $A714, ToDoList!$R:$R, C$2))","v":""},{"$f":"IF($A714 = \"\", \"\", COUNTIFS(ToDoList!$B:$B, $A714, ToDoList!$R:$R, D$2))","v":""},{"$f":"IF($A714 = \"\", \"\", COUNTIFS(ToDoList!$B:$B, $A714, ToDoList!$R:$R, E$2))","v":""},{"$f":"IF($A714 = \"\", \"\", COUNTIFS(ToDoList!$B:$B, $A714, ToDoList!$R:$R, F$2))","v":""},{"$f":"IF($A714 = \"\", \"\", COUNTIFS(ToDoList!$B:$B, $A714, ToDoList!$R:$R, G$2))","v":""},{"$f":"IF($A714 = \"\", \"\", COUNTIFS(ToDoList!$B:$B, $A714, ToDoList!$R:$R, H$2))","v":""},{"$f":"IF($A714 = \"\", \"\", COUNTIFS(ToDoList!$B:$B, $A714, ToDoList!$R:$R, I$2))","v":""},{"$f":"IF($A714 = \"\", \"\", COUNTIFS(ToDoList!$B:$B, $A714, ToDoList!$R:$R, J$2))","v":""}]
[null,{"$f":"IF($A715 = \"\", \"\", COUNTIFS(ToDoList!$B:$B, $A715, ToDoList!$R:$R, B$2))","v":""},{"$f":"IF($A715 = \"\", \"\", COUNTIFS(ToDoList!$B:$B, $A715, ToDoList!$R:$R, C$2))","v":""},{"$f":"IF($A715 = \"\", \"\", COUNTIFS(ToDoList!$B:$B, $A715, ToDoList!$R:$R, D$2))","v":""},{"$f":"IF($A715 = \"\", \"\", COUNTIFS(ToDoList!$B:$B, $A715, ToDoList!$R:$R, E$2))","v":""},{"$f":"IF($A715 = \"\", \"\", COUNTIFS(ToDoList!$B:$B, $A715, ToDoList!$R:$R, F$2))","v":""},{"$f":"IF($A715 = \"\", \"\", COUNTIFS(ToDoList!$B:$B, $A715, ToDoList!$R:$R, G$2))","v":""},{"$f":"IF($A715 = \"\", \"\", COUNTIFS(ToDoList!$B:$B, $A715, ToDoList!$R:$R, H$2))","v":""},{"$f":"IF($A715 = \"\", \"\", COUNTIFS(ToDoList!$B:$B, $A715, ToDoList!$R:$R, I$2))","v":""},{"$f":"IF($A715 = \"\", \"\", COUNTIFS(ToDoList!$B:$B, $A715, ToDoList!$R:$R, J$2))","v":""}]
[null,{"$f":"IF($A716 = \"\", \"\", COUNTIFS(ToDoList!$B:$B, $A716, ToDoList!$R:$R, B$2))","v":""},{"$f":"IF($A716 = \"\", \"\", COUNTIFS(ToDoList!$B:$B, $A716, ToDoList!$R:$R, C$2))","v":""},{"$f":"IF($A716 = \"\", \"\", COUNTIFS(ToDoList!$B:$B, $A716, ToDoList!$R:$R, D$2))","v":""},{"$f":"IF($A716 = \"\", \"\", COUNTIFS(ToDoList!$B:$B, $A716, ToDoList!$R:$R, E$2))","v":""},{"$f":"IF($A716 = \"\", \"\", COUNTIFS(ToDoList!$B:$B, $A716, ToDoList!$R:$R, F$2))","v":""},{"$f":"IF($A716 = \"\", \"\", COUNTIFS(ToDoList!$B:$B, $A716, ToDoList!$R:$R, G$2))","v":""},{"$f":"IF($A716 = \"\", \"\", COUNTIFS(ToDoList!$B:$B, $A716, ToDoList!$R:$R, H$2))","v":""},{"$f":"IF($A716 = \"\", \"\", COUNTIFS(ToDoList!$B:$B, $A716, ToDoList!$R:$R, I$2))","v":""},{"$f":"IF($A716 = \"\", \"\", COUNTIFS(ToDoList!$B:$B, $A716, ToDoList!$R:$R, J$2))","v":""}]
[null,{"$f":"IF($A717 = \"\", \"\", COUNTIFS(ToDoList!$B:$B, $A717, ToDoList!$R:$R, B$2))","v":""},{"$f":"IF($A717 = \"\", \"\", COUNTIFS(ToDoList!$B:$B, $A717, ToDoList!$R:$R, C$2))","v":""},{"$f":"IF($A717 = \"\", \"\", COUNTIFS(ToDoList!$B:$B, $A717, ToDoList!$R:$R, D$2))","v":""},{"$f":"IF($A717 = \"\", \"\", COUNTIFS(ToDoList!$B:$B, $A717, ToDoList!$R:$R, E$2))","v":""},{"$f":"IF($A717 = \"\", \"\", COUNTIFS(ToDoList!$B:$B, $A717, ToDoList!$R:$R, F$2))","v":""},{"$f":"IF($A717 = \"\", \"\", COUNTIFS(ToDoList!$B:$B, $A717, ToDoList!$R:$R, G$2))","v":""},{"$f":"IF($A717 = \"\", \"\", COUNTIFS(ToDoList!$B:$B, $A717, ToDoList!$R:$R, H$2))","v":""},{"$f":"IF($A717 = \"\", \"\", COUNTIFS(ToDoList!$B:$B, $A717, ToDoList!$R:$R, I$2))","v":""},{"$f":"IF($A717 = \"\", \"\", COUNTIFS(ToDoList!$B:$B, $A717, ToDoList!$R:$R, J$2))","v":""}]
[null,{"$f":"IF($A718 = \"\", \"\", COUNTIFS(ToDoList!$B:$B, $A718, ToDoList!$R:$R, B$2))","v":""},{"$f":"IF($A718 = \"\", \"\", COUNTIFS(ToDoList!$B:$B, $A718, ToDoList!$R:$R, C$2))","v":""},{"$f":"IF($A718 = \"\", \"\", COUNTIFS(ToDoList!$B:$B, $A718, ToDoList!$R:$R, D$2))","v":""},{"$f":"IF($A718 = \"\", \"\", COUNTIFS(ToDoList!$B:$B, $A718, ToDoList!$R:$R, E$2))","v":""},{"$f":"IF($A718 = \"\", \"\", COUNTIFS(ToDoList!$B:$B, $A718, ToDoList!$R:$R, F$2))","v":""},{"$f":"IF($A718 = \"\", \"\", COUNTIFS(ToDoList!$B:$B, $A718, ToDoList!$R:$R, G$2))","v":""},{"$f":"IF($A718 = \"\", \"\", COUNTIFS(ToDoList!$B:$B, $A718, ToDoList!$R:$R, H$2))","v":""},{"$f":"IF($A718 = \"\", \"\", COUNTIFS(ToDoList!$B:$B, $A718, ToDoList!$R:$R, I$2))","v":""},{"$f":"IF($A718 = \"\", \"\", COUNTIFS(ToDoList!$B:$B, $A718, ToDoList!$R:$R, J$2))","v":""}]
[null,{"$f":"IF($A719 = \"\", \"\", COUNTIFS(ToDoList!$B:$B, $A719, ToDoList!$R:$R, B$2))","v":""},{"$f":"IF($A719 = \"\", \"\", COUNTIFS(ToDoList!$B:$B, $A719, ToDoList!$R:$R, C$2))","v":""},{"$f":"IF($A719 = \"\", \"\", COUNTIFS(ToDoList!$B:$B, $A719, ToDoList!$R:$R, D$2))","v":""},{"$f":"IF($A719 = \"\", \"\", COUNTIFS(ToDoList!$B:$B, $A719, ToDoList!$R:$R, E$2))","v":""},{"$f":"IF($A719 = \"\", \"\", COUNTIFS(ToDoList!$B:$B, $A719, ToDoList!$R:$R, F$2))","v":""},{"$f":"IF($A719 = \"\", \"\", COUNTIFS(ToDoList!$B:$B, $A719, ToDoList!$R:$R, G$2))","v":""},{"$f":"IF($A719 = \"\", \"\", COUNTIFS(ToDoList!$B:$B, $A719, ToDoList!$R:$R, H$2))","v":""},{"$f":"IF($A719 = \"\", \"\", COUNTIFS(ToDoList!$B:$B, $A719, ToDoList!$R:$R, I$2))","v":""},{"$f":"IF($A719 = \"\", \"\", COUNTIFS(ToDoList!$B:$B, $A719, ToDoList!$R:$R, J$2))","v":""}]
[null,{"$f":"IF($A720 = \"\", \"\", COUNTIFS(ToDoList!$B:$B, $A720, ToDoList!$R:$R, B$2))","v":""},{"$f":"IF($A720 = \"\", \"\", COUNTIFS(ToDoList!$B:$B, $A720, ToDoList!$R:$R, C$2))","v":""},{"$f":"IF($A720 = \"\", \"\", COUNTIFS(ToDoList!$B:$B, $A720, ToDoList!$R:$R, D$2))","v":""},{"$f":"IF($A720 = \"\", \"\", COUNTIFS(ToDoList!$B:$B, $A720, ToDoList!$R:$R, E$2))","v":""},{"$f":"IF($A720 = \"\", \"\", COUNTIFS(ToDoList!$B:$B, $A720, ToDoList!$R:$R, F$2))","v":""},{"$f":"IF($A720 = \"\", \"\", COUNTIFS(ToDoList!$B:$B, $A720, ToDoList!$R:$R, G$2))","v":""},{"$f":"IF($A720 = \"\", \"\", COUNTIFS(ToDoList!$B:$B, $A720, ToDoList!$R:$R, H$2))","v":""},{"$f":"IF($A720 = \"\", \"\", COUNTIFS(ToDoList!$B:$B, $A720, ToDoList!$R:$R, I$2))","v":""},{"$f":"IF($A720 = \"\", \"\", COUNTIFS(ToDoList!$B:$B, $A720, ToDoList!$R:$R, J$2))","v":""}]
[null,{"$f":"IF($A721 = \"\", \"\", COUNTIFS(ToDoList!$B:$B, $A721, ToDoList!$R:$R, B$2))","v":""},{"$f":"IF($A721 = \"\", \"\", COUNTIFS(ToDoList!$B:$B, $A721, ToDoList!$R:$R, C$2))","v":""},{"$f":"IF($A721 = \"\", \"\", COUNTIFS(ToDoList!$B:$B, $A721, ToDoList!$R:$R, D$2))","v":""},{"$f":"IF($A721 = \"\", \"\", COUNTIFS(ToDoList!$B:$B, $A721, ToDoList!$R:$R, E$2))","v":""},{"$f":"IF($A721 = \"\", \"\", COUNTIFS(ToDoList!$B:$B, $A721, ToDoList!$R:$R, F$2))","v":""},{"$f":"IF($A721 = \"\", \"\", COUNTIFS(ToDoList!$B:$B, $A721, ToDoList!$R:$R, G$2))","v":""},{"$f":"IF($A721 = \"\", \"\", COUNTIFS(ToDoList!$B:$B, $A721, ToDoList!$R:$R, H$2))","v":""},{"$f":"IF($A721 = \"\", \"\", COUNTIFS(ToDoList!$B:$B, $A721, ToDoList!$R:$R, I$2))","v":""},{"$f":"IF($A721 = \"\", \"\", COUNTIFS(ToDoList!$B:$B, $A721, ToDoList!$R:$R, J$2))","v":""}]
[null,{"$f":"IF($A722 = \"\", \"\", COUNTIFS(ToDoList!$B:$B, $A722, ToDoList!$R:$R, B$2))","v":""},{"$f":"IF($A722 = \"\", \"\", COUNTIFS(ToDoList!$B:$B, $A722, ToDoList!$R:$R, C$2))","v":""},{"$f":"IF($A722 = \"\", \"\", COUNTIFS(ToDoList!$B:$B, $A722, ToDoList!$R:$R, D$2))","v":""},{"$f":"IF($A722 = \"\", \"\", COUNTIFS(ToDoList!$B:$B, $A722, ToDoList!$R:$R, E$2))","v":""},{"$f":"IF($A722 = \"\", \"\", COUNTIFS(ToDoList!$B:$B, $A722, ToDoList!$R:$R, F$2))","v":""},{"$f":"IF($A722 = \"\", \"\", COUNTIFS(ToDoList!$B:$B, $A722, ToDoList!$R:$R, G$2))","v":""},{"$f":"IF($A722 = \"\", \"\", COUNTIFS(ToDoList!$B:$B, $A722, ToDoList!$R:$R, H$2))","v":""},{"$f":"IF($A722 = \"\", \"\", COUNTIFS(ToDoList!$B:$B, $A722, ToDoList!$R:$R, I$2))","v":""},{"$f":"IF($A722 = \"\", \"\", COUNTIFS(ToDoList!$B:$B, $A722, ToDoList!$R:$R, J$2))","v":""}]
[null,{"$f":"IF($A723 = \"\", \"\", COUNTIFS(ToDoList!$B:$B, $A723, ToDoList!$R:$R, B$2))","v":""},{"$f":"IF($A723 = \"\", \"\", COUNTIFS(ToDoList!$B:$B, $A723, ToDoList!$R:$R, C$2))","v":""},{"$f":"IF($A723 = \"\", \"\", COUNTIFS(ToDoList!$B:$B, $A723, ToDoList!$R:$R, D$2))","v":""},{"$f":"IF($A723 = \"\", \"\", COUNTIFS(ToDoList!$B:$B, $A723, ToDoList!$R:$R, E$2))","v":""},{"$f":"IF($A723 = \"\", \"\", COUNTIFS(ToDoList!$B:$B, $A723, ToDoList!$R:$R, F$2))","v":""},{"$f":"IF($A723 = \"\", \"\", COUNTIFS(ToDoList!$B:$B, $A723, ToDoList!$R:$R, G$2))","v":""},{"$f":"IF($A723 = \"\", \"\", COUNTIFS(ToDoList!$B:$B, $A723, ToDoList!$R:$R, H$2))","v":""},{"$f":"IF($A723 = \"\", \"\", COUNTIFS(ToDoList!$B:$B, $A723, ToDoList!$R:$R, I$2))","v":""},{"$f":"IF($A723 = \"\", \"\", COUNTIFS(ToDoList!$B:$B, $A723, ToDoList!$R:$R, J$2))","v":""}]
[null,{"$f":"IF($A724 = \"\", \"\", COUNTIFS(ToDoList!$B:$B, $A724, ToDoList!$R:$R, B$2))","v":""},{"$f":"IF($A724 = \"\", \"\", COUNTIFS(ToDoList!$B:$B, $A724, ToDoList!$R:$R, C$2))","v":""},{"$f":"IF($A724 = \"\", \"\", COUNTIFS(ToDoList!$B:$B, $A724, ToDoList!$R:$R, D$2))","v":""},{"$f":"IF($A724 = \"\", \"\", COUNTIFS(ToDoList!$B:$B, $A724, ToDoList!$R:$R, E$2))","v":""},{"$f":"IF($A724 = \"\", \"\", COUNTIFS(ToDoList!$B:$B, $A724, ToDoList!$R:$R, F$2))","v":""},{"$f":"IF($A724 = \"\", \"\", COUNTIFS(ToDoList!$B:$B, $A724, ToDoList!$R:$R, G$2))","v":""},{"$f":"IF($A724 = \"\", \"\", COUNTIFS(ToDoList!$B:$B, $A724, ToDoList!$R:$R, H$2))","v":""},{"$f":"IF($A724 = \"\", \"\", COUNTIFS(ToDoList!$B:$B, $A724, ToDoList!$R:$R, I$2))","v":""},{"$f":"IF($A724 = \"\", \"\", COUNTIFS(ToDoList!$B:$B, $A724, ToDoList!$R:$R, J$2))","v":""}]
[null,{"$f":"IF($A725 = \"\", \"\", COUNTIFS(ToDoList!$B:$B, $A725, ToDoList!$R:$R, B$2))","v":""},{"$f":"IF($A725 = \"\", \"\", COUNTIFS(ToDoList!$B:$B, $A725, ToDoList!$R:$R, C$2))","v":""},{"$f":"IF($A725 = \"\", \"\", COUNTIFS(ToDoList!$B:$B, $A725, ToDoList!$R:$R, D$2))","v":""},{"$f":"IF($A725 = \"\", \"\", COUNTIFS(ToDoList!$B:$B, $A725, ToDoList!$R:$R, E$2))","v":""},{"$f":"IF($A725 = \"\", \"\", COUNTIFS(ToDoList!$B:$B, $A725, ToDoList!$R:$R, F$2))","v":""},{"$f":"IF($A725 = \"\", \"\", COUNTIFS(ToDoList!$B:$B, $A725, ToDoList!$R:$R, G$2))","v":""},{"$f":"IF($A725 = \"\", \"\", COUNTIFS(ToDoList!$B:$B, $A725, ToDoList!$R:$R, H$2))","v":""},{"$f":"IF($A725 = \"\", \"\", COUNTIFS(ToDoList!$B:$B, $A725, ToDoList!$R:$R, I$2))","v":""},{"$f":"IF($A725 = \"\", \"\", COUNTIFS(ToDoList!$B:$B, $A725, ToDoList!$R:$R, J$2))","v":""}]

{"sheet":"Member Overview","index":4,"n_rows":725,"n_cols":10,"rows_kept":725,"cut":false,"hidden":false,"merged":[[0,0,1,0],[0,1,0,9]]}
["Project Name","Status"]
[null,"Not started","Just started","In progress","Almost done","To be checked","Pls check comment","In amendment","To be printed","Completed"]
[{"$f":"_xlfn._xlws.FILTER(CategoryAndEmployeeTable[Employee Name],CategoryAndEmployeeTable[Employee Name]<>\"\")","v":"Billy"},{"$f":"IF($A3 = \"\", \"\", COUNTIFS(ToDoList!$G:$G, $A3, ToDoList!$R:$R, B$2))","v":0},{"$f":"IF($A3 = \"\", \"\", COUNTIFS(ToDoList!$G:$G, $A3, ToDoList!$R:$R, C$2))","v":0},{"$f":"IF($A3 = \"\", \"\", COUNTIFS(ToDoList!$G:$G, $A3, ToDoList!$R:$R, D$2))","v":1},{"$f":"IF($A3 = \"\", \"\", COUNTIFS(ToDoList!$G:$G, $A3, ToDoList!$R:$R, E$2))","v":0},{"$f":"IF($A3 = \"\", \"\", COUNTIFS(ToDoList!$G:$G, $A3, ToDoList!$R:$R, F$2))","v":0},{"$f":"IF($A3 = \"\", \"\", COUNTIFS(ToDoList!$G:$G, $A3, ToDoList!$R:$R, G$2))","v":0},{"$f":"IF($A3 = \"\", \"\", COUNTIFS(ToDoList!$G:$G, $A3, ToDoList!$R:$R, H$2))","v":0},{"$f":"IF($A3 = \"\", \"\", COUNTIFS(ToDoList!$G:$G, $A3, ToDoList!$R:$R, I$2))","v":0},{"$f":"IF($A3 = \"\", \"\", COUNTIFS(ToDoList!$G:$G, $A3, ToDoList!$R:$R, J$2))","v":0}]
["Kimmie",{"$f":"IF($A4 = \"\", \"\", COUNTIFS(ToDoList!$G:$G, $A4, ToDoList!$R:$R, B$2))","v":0},{"$f":"IF($A4 = \"\", \"\", COUNTIFS(ToDoList!$G:$G, $A4, ToDoList!$R:$R, C$2))","v":0},{"$f":"IF($A4 = \"\", \"\", COUNTIFS(ToDoList!$G:$G, $A4, ToDoList!$R:$R, D$2))","v":1},{"$f":"IF($A4 = \"\", \"\", COUNTIFS(ToDoList!$G:$G, $A4, ToDoList!$R:$R, E$2))","v":0},{"$f":"IF($A4 = \"\", \"\", COUNTIFS(ToDoList!$G:$G, $A4, ToDoList!$R:$R, F$2))","v":0},{"$f":"IF($A4 = \"\", \"\", COUNTIFS(ToDoList!$G:$G, $A4, ToDoList!$R:$R, G$2))","v":0},{"$f":"IF($A4 = \"\", \"\", COUNTIFS(ToDoList!$G:$G, $A4, ToDoList!$R:$R, H$2))","v":0},{"$f":"IF($A4 = \"\", \"\", COUNTIFS(ToDoList!$G:$G, $A4, ToDoList!$R:$R, I$2))","v":0},{"$f":"IF($A4 = \"\", \"\", COUNTIFS(ToDoList!$G:$G, $A4, ToDoList!$R:$R, J$2))","v":0}]
["Wani",{"$f":"IF($A5 = \"\", \"\", COUNTIFS(ToDoList!$G:$G, $A5, ToDoList!$R:$R, B$2))","v":0},{"$f":"IF($A5 = \"\", \"\", COUNTIFS(ToDoList!$G:$G, $A5, ToDoList!$R:$R, C$2))","v":0},{"$f":"IF($A5 = \"\", \"\", COUNTIFS(ToDoList!$G:$G, $A5, ToDoList!$R:$R, D$2))","v":6},{"$f":"IF($A5 = \"\", \"\", COUNTIFS(ToDoList!$G:$G, $A5, ToDoList!$R:$R, E$2))","v":0},{"$f":"IF($A5 = \"\", \"\", COUNTIFS(ToDoList!$G:$G, $A5, ToDoList!$R:$R, F$2))","v":0},{"$f":"IF($A5 = \"\", \"\", COUNTIFS(ToDoList!$G:$G, $A5, ToDoList!$R:$R, G$2))","v":0},{"$f":"IF($A5 = \"\", \"\", COUNTIFS(ToDoList!$G:$G, $A5, ToDoList!$R:$R, H$2))","v":0},{"$f":"IF($A5 = \"\", \"\", COUNTIFS(ToDoList!$G:$G, $A5, ToDoList!$R:$R, I$2))","v":0},{"$f":"IF($A5 = \"\", \"\", COUNTIFS(ToDoList!$G:$G, $A5, ToDoList!$R:$R, J$2))","v":0}]
["Syazwan",{"$f":"IF($A6 = \"\", \"\", COUNTIFS(ToDoList!$G:$G, $A6, ToDoList!$R:$R, B$2))","v":0},{"$f":"IF($A6 = \"\", \"\", COUNTIFS(ToDoList!$G:$G, $A6, ToDoList!$R:$R, C$2))","v":0},{"$f":"IF($A6 = \"\", \"\", COUNTIFS(ToDoList!$G:$G, $A6, ToDoList!$R:$R, D$2))","v":1},{"$f":"IF($A6 = \"\", \"\", COUNTIFS(ToDoList!$G:$G, $A6, ToDoList!$R:$R, E$2))","v":0},{"$f":"IF($A6 = \"\", \"\", COUNTIFS(ToDoList!$G:$G, $A6, ToDoList!$R:$R, F$2))","v":0},{"$f":"IF($A6 = \"\", \"\", COUNTIFS(ToDoList!$G:$G, $A6, ToDoList!$R:$R, G$2))","v":0},{"$f":"IF($A6 = \"\", \"\", COUNTIFS(ToDoList!$G:$G, $A6, ToDoList!$R:$R, H$2))","v":0},{"$f":"IF($A6 = \"\", \"\", COUNTIFS(ToDoList!$G:$G, $A6, ToDoList!$R:$R, I$2))","v":0},{"$f":"IF($A6 = \"\", \"\", COUNTIFS(ToDoList!$G:$G, $A6, ToDoList!$R:$R, J$2))","v":0}]
["Izzad",{"$f":"IF($A7 = \"\", \"\", COUNTIFS(ToDoList!$G:$G, $A7, ToDoList!$R:$R, B$2))","v":0},{"$f":"IF($A7 = \"\", \"\", COUNTIFS(ToDoList!$G:$G, $A7, ToDoList!$R:$R, C$2))","v":0},{"$f":"IF($A7 = \"\", \"\", COUNTIFS(ToDoList!$G:$G, $A7, ToDoList!$R:$R, D$2))","v":0},{"$f":"IF($A7 = \"\", \"\", COUNTIFS(ToDoList!$G:$G, $A7, ToDoList!$R:$R, E$2))","v":0},{"$f":"IF($A7 = \"\", \"\", COUNTIFS(ToDoList!$G:$G, $A7, ToDoList!$R:$R, F$2))","v":0},{"$f":"IF($A7 = \"\", \"\", COUNTIFS(ToDoList!$G:$G, $A7, ToDoList!$R:$R, G$2))","v":0},{"$f":"IF($A7 = \"\", \"\", COUNTIFS(ToDoList!$G:$G, $A7, ToDoList!$R:$R, H$2))","v":0},{"$f":"IF($A7 = \"\", \"\", COUNTIFS(ToDoList!$G:$G, $A7, ToDoList!$R:$R, I$2))","v":0},{"$f":"IF($A7 = \"\", \"\", COUNTIFS(ToDoList!$G:$G, $A7, ToDoList!$R:$R, J$2))","v":0}]
["Prabha",{"$f":"IF($A8 = \"\", \"\", COUNTIFS(ToDoList!$G:$G, $A8, ToDoList!$R:$R, B$2))","v":0},{"$f":"IF($A8 = \"\", \"\", COUNTIFS(ToDoList!$G:$G, $A8, ToDoList!$R:$R, C$2))","v":0},{"$f":"IF($A8 = \"\", \"\", COUNTIFS(ToDoList!$G:$G, $A8, ToDoList!$R:$R, D$2))","v":2},{"$f":"IF($A8 = \"\", \"\", COUNTIFS(ToDoList!$G:$G, $A8, ToDoList!$R:$R, E$2))","v":1},{"$f":"IF($A8 = \"\", \"\", COUNTIFS(ToDoList!$G:$G, $A8, ToDoList!$R:$R, F$2))","v":0},{"$f":"IF($A8 = \"\", \"\", COUNTIFS(ToDoList!$G:$G, $A8, ToDoList!$R:$R, G$2))","v":1},{"$f":"IF($A8 = \"\", \"\", COUNTIFS(ToDoList!$G:$G, $A8, ToDoList!$R:$R, H$2))","v":0},{"$f":"IF($A8 = \"\", \"\", COUNTIFS(ToDoList!$G:$G, $A8, ToDoList!$R:$R, I$2))","v":0},{"$f":"IF($A8 = \"\", \"\", COUNTIFS(ToDoList!$G:$G, $A8, ToDoList!$R:$R, J$2))","v":0}]
["Amin",{"$f":"IF($A9 = \"\", \"\", COUNTIFS(ToDoList!$G:$G, $A9, ToDoList!$R:$R, B$2))","v":0},{"$f":"IF($A9 = \"\", \"\", COUNTIFS(ToDoList!$G:$G, $A9, ToDoList!$R:$R, C$2))","v":0},{"$f":"IF($A9 = \"\", \"\", COUNTIFS(ToDoList!$G:$G, $A9, ToDoList!$R:$R, D$2))","v":4},{"$f":"IF($A9 = \"\", \"\", COUNTIFS(ToDoList!$G:$G, $A9, ToDoList!$R:$R, E$2))","v":0},{"$f":"IF($A9 = \"\", \"\", COUNTIFS(ToDoList!$G:$G, $A9, ToDoList!$R:$R, F$2))","v":0},{"$f":"IF($A9 = \"\", \"\", COUNTIFS(ToDoList!$G:$G, $A9, ToDoList!$R:$R, G$2))","v":0},{"$f":"IF($A9 = \"\", \"\", COUNTIFS(ToDoList!$G:$G, $A9, ToDoList!$R:$R, H$2))","v":0},{"$f":"IF($A9 = \"\", \"\", COUNTIFS(ToDoList!$G:$G, $A9, ToDoList!$R:$R, I$2))","v":0},{"$f":"IF($A9 = \"\", \"\", COUNTIFS(ToDoList!$G:$G, $A9, ToDoList!$R:$R, J$2))","v":0}]
["All Designer",{"$f":"IF($A10 = \"\", \"\", COUNTIFS(ToDoList!$G:$G, $A10, ToDoList!$R:$R, B$2))","v":0},{"$f":"IF($A10 = \"\", \"\", COUNTIFS(ToDoList!$G:$G, $A10, ToDoList!$R:$R, C$2))","v":0},{"$f":"IF($A10 = \"\", \"\", COUNTIFS(ToDoList!$G:$G, $A10, ToDoList!$R:$R, D$2))","v":0},{"$f":"IF($A10 = \"\", \"\", COUNTIFS(ToDoList!$G:$G, $A10, ToDoList!$R:$R, E$2))","v":0},{"$f":"IF($A10 = \"\", \"\", COUNTIFS(ToDoList!$G:$G, $A10, ToDoList!$R:$R, F$2))","v":0},{"$f":"IF($A10 = \"\", \"\", COUNTIFS(ToDoList!$G:$G, $A10, ToDoList!$R:$R, G$2))","v":0},{"$f":"IF($A10 = \"\", \"\", COUNTIFS(ToDoList!$G:$G, $A10, ToDoList!$R:$R, H$2))","v":0},{"$f":"IF($A10 = \"\", \"\", COUNTIFS(ToDoList!$G:$G, $A10, ToDoList!$R:$R, I$2))","v":0},{"$f":"IF($A10 = \"\", \"\", COUNTIFS(ToDoList!$G:$G, $A10, ToDoList!$R:$R, J$2))","v":0}]
[null,{"$f":"IF($A11 = \"\", \"\", COUNTIFS(ToDoList!$G:$G, $A11, ToDoList!$R:$R, B$2))","v":""},{"$f":"IF($A11 = \"\", \"\", COUNTIFS(ToDoList!$G:$G, $A11, ToDoList!$R:$R, C$2))","v":""},{"$f":"IF($A11 = \"\", \"\", COUNTIFS(ToDoList!$G:$G, $A11, ToDoList!$R:$R, D$2))","v":""},{"$f":"IF($A11 = \"\", \"\", COUNTIFS(ToDoList!$G:$G, $A11, ToDoList!$R:$R, E$2))","v":""},{"$f":"IF($A11 = \"\", \"\", COUNTIFS(ToDoList!$G:$G, $A11, ToDoList!$R:$R, F$2))","v":""},{"$f":"IF($A11 = \"\", \"\", COUNTIFS(ToDoList!$G:$G, $A11, ToDoList!$R:$R, G$2))","v":""},{"$f":"IF($A11 = \"\", \"\", COUNTIFS(ToDoList!$G:$G, $A11, ToDoList!$R:$R, H$2))","v":""},{"$f":"IF($A11 = \"\", \"\", COUNTIFS(ToDoList!$G:$G, $A11, ToDoList!$R:$R, I$2))","v":""},{"$f":"IF($A11 = \"\", \"\", COUNTIFS(ToDoList!$G:$G, $A11, ToDoList!$R:$R, J$2))","v":""}]
[null,{"$f":"IF($A12 = \"\", \"\", COUNTIFS(ToDoList!$G:$G, $A12, ToDoList!$R:$R, B$2))","v":""},{"$f":"IF($A12 = \"\", \"\", COUNTIFS(ToDoList!$G:$G, $A12, ToDoList!$R:$R, C$2))","v":""},{"$f":"IF($A12 = \"\", \"\", COUNTIFS(ToDoList!$G:$G, $A12, ToDoList!$R:$R, D$2))","v":""},{"$f":"IF($A12 = \"\", \"\", COUNTIFS(ToDoList!$G:$G, $A12, ToDoList!$R:$R, E$2))","v":""},{"$f":"IF($A12 = \"\", \"\", COUNTIFS(ToDoList!$G:$G, $A12, ToDoList!$R:$R, F$2))","v":""},{"$f":"IF($A12 = \"\", \"\", COUNTIFS(ToDoList!$G:$G, $A12, ToDoList!$R:$R, G$2))","v":""},{"$f":"IF($A12 = \"\", \"\", COUNTIFS(ToDoList!$G:$G, $A12, ToDoList!$R:$R, H$2))","v":""},{"$f":"IF($A12 = \"\", \"\", COUNTIFS(ToDoList!$G:$G, $A12, ToDoList!$R:$R, I$2))","v":""},{"$f":"IF($A12 = \"\", \"\", COUNTIFS(ToDoList!$G:$G, $A12, ToDoList!$R:$R, J$2))","v":""}]
[null,{"$f":"IF($A13 = \"\", \"\", COUNTIFS(ToDoList!$G:$G, $A13, ToDoList!$R:$R, B$2))","v":""},{"$f":"IF($A13 = \"\", \"\", COUNTIFS(ToDoList!$G:$G, $A13, ToDoList!$R:$R, C$2))","v":""},{"$f":"IF($A13 = \"\", \"\", COUNTIFS(ToDoList!$G:$G, $A13, ToDoList!$R:$R, D$2))","v":""},{"$f":"IF($A13 = \"\", \"\", COUNTIFS(ToDoList!$G:$G, $A13, ToDoList!$R:$R, E$2))","v":""},{"$f":"IF($A13 = \"\", \"\", COUNTIFS(ToDoList!$G:$G, $A13, ToDoList!$R:$R, F$2))","v":""},{"$f":"IF($A13 = \"\", \"\", COUNTIFS(ToDoList!$G:$G, $A13, ToDoList!$R:$R, G$2))","v":""},{"$f":"IF($A13 = \"\", \"\", COUNTIFS(ToDoList!$G:$G, $A13, ToDoList!$R:$R, H$2))","v":""},{"$f":"IF($A13 = \"\", \"\", COUNTIFS(ToDoList!$G:$G, $A13, ToDoList!$R:$R, I$2))","v":""},{"$f":"IF($A13 = \"\", \"\", COUNTIFS(ToDoList!$G:$G, $A13, ToDoList!$R:$R, J$2))","v":""}]
[null,{"$f":"IF($A14 = \"\", \"\", COUNTIFS(ToDoList!$G:$G, $A14, ToDoList!$R:$R, B$2))","v":""},{"$f":"IF($A14 = \"\", \"\", COUNTIFS(ToDoList!$G:$G, $A14, ToDoList!$R:$R, C$2))","v":""},{"$f":"IF($A14 = \"\", \"\", COUNTIFS(ToDoList!$G:$G, $A14, ToDoList!$R:$R, D$2))","v":""},{"$f":"IF($A14 = \"\", \"\", COUNTIFS(ToDoList!$G:$G, $A14, ToDoList!$R:$R, E$2))","v":""},{"$f":"IF($A14 = \"\", \"\", COUNTIFS(ToDoList!$G:$G, $A14, ToDoList!$R:$R, F$2))","v":""},{"$f":"IF($A14 = \"\", \"\", COUNTIFS(ToDoList!$G:$G, $A14, ToDoList!$R:$R, G$2))","v":""},{"$f":"IF($A14 = \"\", \"\", COUNTIFS(ToDoList!$G:$G, $A14, ToDoList!$R:$R, H$2))","v":""},{"$f":"IF($A14 = \"\", \"\", COUNTIFS(ToDoList!$G:$G, $A14, ToDoList!$R:$R, I$2))","v":""},{"$f":"IF($A14 = \"\", \"\", COUNTIFS(ToDoList!$G:$G, $A14, ToDoList!$R:$R, J$2))","v":""}]
[null,{"$f":"IF($A15 = \"\", \"\", COUNTIFS(ToDoList!$G:$G, $A15, ToDoList!$R:$R, B$2))","v":""},{"$f":"IF($A15 = \"\", \"\", COUNTIFS(ToDoList!$G:$G, $A15, ToDoList!$R:$R, C$2))","v":""},{"$f":"IF($A15 = \"\", \"\", COUNTIFS(ToDoList!$G:$G, $A15, ToDoList!$R:$R, D$2))","v":""},{"$f":"IF($A15 = \"\", \"\", COUNTIFS(ToDoList!$G:$G, $A15, ToDoList!$R:$R, E$2))","v":""},{"$f":"IF($A15 = \"\", \"\", COUNTIFS(ToDoList!$G:$G, $A15, ToDoList!$R:$R, F$2))","v":""},{"$f":"IF($A15 = \"\", \"\", COUNTIFS(ToDoList!$G:$G, $A15, ToDoList!$R:$R, G$2))","v":""},{"$f":"IF($A15 = \"\", \"\", COUNTIFS(ToDoList!$G:$G, $A15, ToDoList!$R:$R, H$2))","v":""},{"$f":"IF($A15 = \"\", \"\", COUNTIFS(ToDoList!$G:$G, $A15, ToDoList!$R:$R, I$2))","v":""},{"$f":"IF($A15 = \"\", \"\", COUNTIFS(ToDoList!$G:$G, $A15, ToDoList!$R:$R, J$2))","v":""}]
[null,{"$f":"IF($A16 = \"\", \"\", COUNTIFS(ToDoList!$G:$G, $A16, ToDoList!$R:$R, B$2))","v":""},{"$f":"IF($A16 = \"\", \"\", COUNTIFS(ToDoList!$G:$G, $A16, ToDoList!$R:$R, C$2))","v":""},{"$f":"IF($A16 = \"\", \"\", COUNTIFS(ToDoList!$G:$G, $A16, ToDoList!$R:$R, D$2))","v":""},{"$f":"IF($A16 = \"\", \"\", COUNTIFS(ToDoList!$G:$G, $A16, ToDoList!$R:$R, E$2))","v":""},{"$f":"IF($A16 = \"\", \"\", COUNTIFS(ToDoList!$G:$G, $A16, ToDoList!$R:$R, F$2))","v":""},{"$f":"IF($A16 = \"\", \"\", COUNTIFS(ToDoList!$G:$G, $A16, ToDoList!$R:$R, G$2))","v":""},{"$f":"IF($A16 = \"\", \"\", COUNTIFS(ToDoList!$G:$G, $A16, ToDoList!$R:$R, H$2))","v":""},{"$f":"IF($A16 = \"\", \"\", COUNTIFS(ToDoList!$G:$G, $A16, ToDoList!$R:$R, I$2))","v":""},{"$f":"IF($A16 = \"\", \"\", COUNTIFS(ToDoList!$G:$G, $A16, ToDoList!$R:$R, J$2))","v":""}]
[null,{"$f":"IF($A17 = \"\", \"\", COUNTIFS(ToDoList!$G:$G, $A17, ToDoList!$R:$R, B$2))","v":""},{"$f":"IF($A17 = \"\", \"\", COUNTIFS(ToDoList!$G:$G, $A17, ToDoList!$R:$R, C$2))","v":""},{"$f":"IF($A17 = \"\", \"\", COUNTIFS(ToDoList!$G:$G, $A17, ToDoList!$R:$R, D$2))","v":""},{"$f":"IF($A17 = \"\", \"\", COUNTIFS(ToDoList!$G:$G, $A17, ToDoList!$R:$R, E$2))","v":""},{"$f":"IF($A17 = \"\", \"\", COUNTIFS(ToDoList!$G:$G, $A17, ToDoList!$R:$R, F$2))","v":""},{"$f":"IF($A17 = \"\", \"\", COUNTIFS(ToDoList!$G:$G, $A17, ToDoList!$R:$R, G$2))","v":""},{"$f":"IF($A17 = \"\", \"\", COUNTIFS(ToDoList!$G:$G, $A17, ToDoList!$R:$R, H$2))","v":""},{"$f":"IF($A17 = \"\", \"\", COUNTIFS(ToDoList!$G:$G, $A17, ToDoList!$R:$R, I$2))","v":""},{"$f":"IF($A17 = \"\", \"\", COUNTIFS(ToDoList!$G:$G, $A17, ToDoList!$R:$R, J$2))","v":""}]
[null,{"$f":"IF($A18 = \"\", \"\", COUNTIFS(ToDoList!$B:$B, $A18, ToDoList!$R:$R, B$2))","v":""},{"$f":"IF($A18 = \"\", \"\", COUNTIFS(ToDoList!$B:$B, $A18, ToDoList!$R:$R, C$2))","v":""},{"$f":"IF($A18 = \"\", \"\", COUNTIFS(ToDoList!$B:$B, $A18, ToDoList!$R:$R, D$2))","v":""},{"$f":"IF($A18 = \"\", \"\", COUNTIFS(ToDoList!$B:$B, $A18, ToDoList!$R:$R, E$2))","v":""},{"$f":"IF($A18 = \"\", \"\", COUNTIFS(ToDoList!$B:$B, $A18, ToDoList!$R:$R, F$2))","v":""},{"$f":"IF($A18 = \"\", \"\", COUNTIFS(ToDoList!$B:$B, $A18, ToDoList!$R:$R, G$2))","v":""},{"$f":"IF($A18 = \"\", \"\", COUNTIFS(ToDoList!$B:$B, $A18, ToDoList!$R:$R, H$2))","v":""},{"$f":"IF($A18 = \"\", \"\", COUNTIFS(ToDoList!$B:$B, $A18, ToDoList!$R:$R, I$2))","v":""},{"$f":"IF($A18 = \"\", \"\", COUNTIFS(ToDoList!$B:$B, $A18, ToDoList!$R:$R, J$2))","v":""}]
[null,{"$f":"IF($A19 = \"\", \"\", COUNTIFS(ToDoList!$B:$B, $A19, ToDoList!$R:$R, B$2))","v":""},{"$f":"IF($A19 = \"\", \"\", COUNTIFS(ToDoList!$B:$B, $A19, ToDoList!$R:$R, C$2))","v":""},{"$f":"IF($A19 = \"\", \"\", COUNTIFS(ToDoList!$B:$B, $A19, ToDoList!$R:$R, D$2))","v":""},{"$f":"IF($A19 = \"\", \"\", COUNTIFS(ToDoList!$B:$B, $A19, ToDoList!$R:$R, E$2))","v":""},{"$f":"IF($A19 = \"\", \"\", COUNTIFS(ToDoList!$B:$B, $A19, ToDoList!$R:$R, F$2))","v":""},{"$f":"IF($A19 = \"\", \"\", COUNTIFS(ToDoList!$B:$B, $A19, ToDoList!$R:$R, G$2))","v":""},{"$f":"IF($A19 = \"\", \"\", COUNTIFS(ToDoList!$B:$B, $A19, ToDoList!$R:$R, H$2))","v":""},{"$f":"IF($A19 = \"\", \"\", COUNTIFS(ToDoList!$B:$B, $A19, ToDoList!$R:$R, I$2))","v":""},{"$f":"IF($A19 = \"\", \"\", COUNTIFS(ToDoList!$B:$B, $A19, ToDoList!$R:$R, J$2))","v":""}]
[null,{"$f":"IF($A20 = \"\", \"\", COUNTIFS(ToDoList!$B:$B, $A20, ToDoList!$R:$R, B$2))","v":""},{"$f":"IF($A20 = \"\", \"\", COUNTIFS(ToDoList!$B:$B, $A20, ToDoList!$R:$R, C$2))","v":""},{"$f":"IF($A20 = \"\", \"\", COUNTIFS(ToDoList!$B:$B, $A20, ToDoList!$R:$R, D$2))","v":""},{"$f":"IF($A20 = \"\", \"\", COUNTIFS(ToDoList!$B:$B, $A20, ToDoList!$R:$R, E$2))","v":""},{"$f":"IF($A20 = \"\", \"\", COUNTIFS(ToDoList!$B:$B, $A20, ToDoList!$R:$R, F$2))","v":""},{"$f":"IF($A20 = \"\", \"\", COUNTIFS(ToDoList!$B:$B, $A20, ToDoList!$R:$R, G$2))","v":""},{"$f":"IF($A20 = \"\", \"\", COUNTIFS(ToDoList!$B:$B, $A20, ToDoList!$R:$R, H$2))","v":""},{"$f":"IF($A20 = \"\", \"\", COUNTIFS(ToDoList!$B:$B, $A20, ToDoList!$R:$R, I$2))","v":""},{"$f":"IF($A20 = \"\", \"\", COUNTIFS(ToDoList!$B:$B, $A20, ToDoList!$R:$R, J$2))","v":""}]
[null,{"$f":"IF($A21 = \"\", \"\", COUNTIFS(ToDoList!$B:$B, $A21, ToDoList!$R:$R, B$2))","v":""},{"$f":"IF($A21 = \"\", \"\", COUNTIFS(ToDoList!$B:$B, $A21, ToDoList!$R:$R, C$2))","v":""},{"$f":"IF($A21 = \"\", \"\", COUNTIFS(ToDoList!$B:$B, $A21, ToDoList!$R:$R, D$2))","v":""},{"$f":"IF($A21 = \"\", \"\", COUNTIFS(ToDoList!$B:$B, $A21, ToDoList!$R:$R, E$2))","v":""},{"$f":"IF($A21 = \"\", \"\", COUNTIFS(ToDoList!$B:$B, $A21, ToDoList!$R:$R, F$2))","v":""},{"$f":"IF($A21 = \"\", \"\", COUNTIFS(ToDoList!$B:$B, $A21, ToDoList!$R:$R, G$2))","v":""},{"$f":"IF($A21 = \"\", \"\", COUNTIFS(ToDoList!$B:$B, $A21, ToDoList!$R:$R, H$2))","v":""},{"$f":"IF($A21 = \"\", \"\", COUNTIFS(ToDoList!$B:$B, $A21, ToDoList!$R:$R, I$2))","v":""},{"$f":"IF($A21 = \"\", \"\", COUNTIFS(ToDoList!$B:$B, $A21, ToDoList!$R:$R, J$2))","v":""}]
[null,{"$f":"IF($A22 = \"\", \"\", COUNTIFS(ToDoList!$B:$B, $A22, ToDoList!$R:$R, B$2))","v":""},{"$f":"IF($A22 = \"\", \"\", COUNTIFS(ToDoList!$B:$B, $A22, ToDoList!$R:$R, C$2))","v":""},{"$f":"IF($A22 = \"\", \"\", COUNTIFS(ToDoList!$B:$B, $A22, ToDoList!$R:$R, D$2))","v":""},{"$f":"IF($A22 = \"\", \"\", COUNTIFS(ToDoList!$B:$B, $A22, ToDoList!$R:$R, E$2))","v":""},{"$f":"IF($A22 = \"\", \"\", COUNTIFS(ToDoList!$B:$B, $A22, ToDoList!$R:$R, F$2))","v":""},{"$f":"IF($A22 = \"\", \"\", COUNTIFS(ToDoList!$B:$B, $A22, ToDoList!$R:$R, G$2))","v":""},{"$f":"IF($A22 = \"\", \"\", COUNTIFS(ToDoList!$B:$B, $A22, ToDoList!$R:$R, H$2))","v":""},{"$f":"IF($A22 = \"\", \"\", COUNTIFS(ToDoList!$B:$B, $A22, ToDoList!$R:$R, I$2))","v":""},{"$f":"IF($A22 = \"\", \"\", COUNTIFS(ToDoList!$B:$B, $A22, ToDoList!$R:$R, J$2))","v":""}]
[null,{"$f":"IF($A23 = \"\", \"\", COUNTIFS(ToDoList!$B:$B, $A23, ToDoList!$R:$R, B$2))","v":""},{"$f":"IF($A23 = \"\", \"\", COUNTIFS(ToDoList!$B:$B, $A23, ToDoList!$R:$R, C$2))","v":""},{"$f":"IF($A23 = \"\", \"\", COUNTIFS(ToDoList!$B:$B, $A23, ToDoList!$R:$R, D$2))","v":""},{"$f":"IF($A23 = \"\", \"\", COUNTIFS(ToDoList!$B:$B, $A23, ToDoList!$R:$R, E$2))","v":""},{"$f":"IF($A23 = \"\", \"\", COUNTIFS(ToDoList!$B:$B, $A23, ToDoList!$R:$R, F$2))","v":""},{"$f":"IF($A23 = \"\", \"\", COUNTIFS(ToDoList!$B:$B, $A23, ToDoList!$R:$R, G$2))","v":""},{"$f":"IF($A23 = \"\", \"\", COUNTIFS(ToDoList!$B:$B, $A23, ToDoList!$R:$R, H$2))","v":""},{"$f":"IF($A23 = \"\", \"\", COUNTIFS(ToDoList!$B:$B, $A23, ToDoList!$R:$R, I$2))","v":""},{"$f":"IF($A23 = \"\", \"\", COUNTIFS(ToDoList!$B:$B, $A23, ToDoList!$R:$R, J$2))","v":""}]
[null,{"$f":"IF($A24 = \"\", \"\", COUNTIFS(ToDoList!$B:$B, $A24, ToDoList!$R:$R, B$2))","v":""},{"$f":"IF($A24 = \"\", \"\", COUNTIFS(ToDoList!$B:$B, $A24, ToDoList!$R:$R, C$2))","v":""},{"$f":"IF($A24 = \"\", \"\", COUNTIFS(ToDoList!$B:$B, $A24, ToDoList!$R:$R, D$2))","v":""},{"$f":"IF($A24 = \"\", \"\", COUNTIFS(ToDoList!$B:$B, $A24, ToDoList!$R:$R, E$2))","v":""},{"$f":"IF($A24 = \"\", \"\", COUNTIFS(ToDoList!$B:$B, $A24, ToDoList!$R:$R, F$2))","v":""},{"$f":"IF($A24 = \"\", \"\", COUNTIFS(ToDoList!$B:$B, $A24, ToDoList!$R:$R, G$2))","v":""},{"$f":"IF($A24 = \"\", \"\", COUNTIFS(ToDoList!$B:$B, $A24, ToDoList!$R:$R, H$2))","v":""},{"$f":"IF($A24 = \"\", \"\", COUNTIFS(ToDoList!$B:$B, $A24, ToDoList!$R:$R, I$2))","v":""},{"$f":"IF($A24 = \"\", \"\", COUNTIFS(ToDoList!$B:$B, $A24, ToDoList!$R:$R, J$2))","v":""}]
[null,{"$f":"IF($A25 = \"\", \"\", COUNTIFS(ToDoList!$B:$B, $A25, ToDoList!$R:$R, B$2))","v":""},{"$f":"IF($A25 = \"\", \"\", COUNTIFS(ToDoList!$B:$B, $A25, ToDoList!$R:$R, C$2))","v":""},{"$f":"IF($A25 = \"\", \"\", COUNTIFS(ToDoList!$B:$B, $A25, ToDoList!$R:$R, D$2))","v":""},{"$f":"IF($A25 = \"\", \"\", COUNTIFS(ToDoList!$B:$B, $A25, ToDoList!$R:$R, E$2))","v":""},{"$f":"IF($A25 = \"\", \"\", COUNTIFS(ToDoList!$B:$B, $A25, ToDoList!$R:$R, F$2))","v":""},{"$f":"IF($A25 = \"\", \"\", COUNTIFS(ToDoList!$B:$B, $A25, ToDoList!$R:$R, G$2))","v":""},{"$f":"IF($A25 = \"\", \"\", COUNTIFS(ToDoList!$B:$B, $A25, ToDoList!$R:$R, H$2))","v":""},{"$f":"IF($A25 = \"\", \"\", COUNTIFS(ToDoList!$B:$B, $A25, ToDoList!$R:$R, I$2))","v":""},{"$f":"IF($A25 = \"\", \"\", COUNTIFS(ToDoList!$B:$B, $A25, ToDoList!$R:$R, J$2))","v":""}]
[null,{"$f":"IF($A26 = \"\", \"\", COUNTIFS(ToDoList!$B:$B, $A26, ToDoList!$R:$R, B$2))","v":""},{"$f":"IF($A26 = \"\", \"\", COUNTIFS(ToDoList!$B:$B, $A26, ToDoList!$R:$R, C$2))","v":""},{"$f":"IF($A26 = \"\", \"\", COUNTIFS(ToDoList!$B:$B, $A26, ToDoList!$R:$R, D$2))","v":""},{"$f":"IF($A26 = \"\", \"\", COUNTIFS(ToDoList!$B:$B, $A26, ToDoList!$R:$R, E$2))","v":""},{"$f":"IF($A26 = \"\", \"\", COUNTIFS(ToDoList!$B:$B, $A26, ToDoList!$R:$R, F$2))","v":""},{"$f":"IF($A26 = \"\", \"\", COUNTIFS(ToDoList!$B:$B, $A26, ToDoList!$R:$R, G$2))","v":""},{"$f":"IF($A26 = \"\", \"\", COUNTIFS(ToDoList!$B:$B, $A26, ToDoList!$R:$R, H$2))","v":""},{"$f":"IF($A26 = \"\", \"\", COUNTIFS(ToDoList!$B:$B, $A26, ToDoList!$R:$R, I$2))","v":""},{"$f":"IF($A26 = \"\", \"\", COUNTIFS(ToDoList!$B:$B, $A26, ToDoList!$R:$R, J$2))","v":""}]
[null,{"$f":"IF($A27 = \"\", \"\", COUNTIFS(ToDoList!$B:$B, $A27, ToDoList!$R:$R, B$2))","v":""},{"$f":"IF($A27 = \"\", \"\", COUNTIFS(ToDoList!$B:$B, $A27, ToDoList!$R:$R, C$2))","v":""},{"$f":"IF($A27 = \"\", \"\", COUNTIFS(ToDoList!$B:$B, $A27, ToDoList!$R:$R, D$2))","v":""},{"$f":"IF($A27 = \"\", \"\", COUNTIFS(ToDoList!$B:$B, $A27, ToDoList!$R:$R, E$2))","v":""},{"$f":"IF($A27 = \"\", \"\", COUNTIFS(ToDoList!$B:$B, $A27, ToDoList!$R:$R, F$2))","v":""},{"$f":"IF($A27 = \"\", \"\", COUNTIFS(ToDoList!$B:$B, $A27, ToDoList!$R:$R, G$2))","v":""},{"$f":"IF($A27 = \"\", \"\", COUNTIFS(ToDoList!$B:$B, $A27, ToDoList!$R:$R, H$2))","v":""},{"$f":"IF($A27 = \"\", \"\", COUNTIFS(ToDoList!$B:$B, $A27, ToDoList!$R:$R, I$2))","v":""},{"$f":"IF($A27 = \"\", \"\", COUNTIFS(ToDoList!$B:$B, $A27, ToDoList!$R:$R, J$2))","v":""}]
[null,{"$f":"IF($A28 = \"\", \"\", COUNTIFS(ToDoList!$B:$B, $A28, ToDoList!$R:$R, B$2))","v":""},{"$f":"IF($A28 = \"\", \"\", COUNTIFS(ToDoList!$B:$B, $A28, ToDoList!$R:$R, C$2))","v":""},{"$f":"IF($A28 = \"\", \"\", COUNTIFS(ToDoList!$B:$B, $A28, ToDoList!$R:$R, D$2))","v":""},{"$f":"IF($A28 = \"\", \"\", COUNTIFS(ToDoList!$B:$B, $A28, ToDoList!$R:$R, E$2))","v":""},{"$f":"IF($A28 = \"\", \"\", COUNTIFS(ToDoList!$B:$B, $A28, ToDoList!$R:$R, F$2))","v":""},{"$f":"IF($A28 = \"\", \"\", COUNTIFS(ToDoList!$B:$B, $A28, ToDoList!$R:$R, G$2))","v":""},{"$f":"IF($A28 = \"\", \"\", COUNTIFS(ToDoList!$B:$B, $A28, ToDoList!$R:$R, H$2))","v":""},{"$f":"IF($A28 = \"\", \"\", COUNTIFS(ToDoList!$B:$B, $A28, ToDoList!$R:$R, I$2))","v":""},{"$f":"IF($A28 = \"\", \"\", COUNTIFS(ToDoList!$B:$B, $A28, ToDoList!$R:$R, J$2))","v":""}]
[null,{"$f":"IF($A29 = \"\", \"\", COUNTIFS(ToDoList!$B:$B, $A29, ToDoList!$R:$R, B$2))","v":""},{"$f":"IF($A29 = \"\", \"\", COUNTIFS(ToDoList!$B:$B, $A29, ToDoList!$R:$R, C$2))","v":""},{"$f":"IF($A29 = \"\", \"\", COUNTIFS(ToDoList!$B:$B, $A29, ToDoList!$R:$R, D$2))","v":""},{"$f":"IF($A29 = \"\", \"\", COUNTIFS(ToDoList!$B:$B, $A29, ToDoList!$R:$R, E$2))","v":""},{"$f":"IF($A29 = \"\", \"\", COUNTIFS(ToDoList!$B:$B, $A29, ToDoList!$R:$R, F$2))","v":""},{"$f":"IF($A29 = \"\", \"\", COUNTIFS(ToDoList!$B:$B, $A29, ToDoList!$R:$R, G$2))","v":""},{"$f":"IF($A29 = \"\", \"\", COUNTIFS(ToDoList!$B:$B, $A29, ToDoList!$R:$R, H$2))","v":""},{"$f":"IF($A29 = \"\", \"\", COUNTIFS(ToDoList!$B:$B, $A29, ToDoList!$R:$R, I$2))","v":""},{"$f":"IF($A29 = \"\", \"\", COUNTIFS(ToDoList!$B:$B, $A29, ToDoList!$R:$R, J$2))","v":""}]
[null,{"$f":"IF($A30 = \"\", \"\", COUNTIFS(ToDoList!$B:$B, $A30, ToDoList!$R:$R, B$2))","v":""},{"$f":"IF($A30 = \"\", \"\", COUNTIFS(ToDoList!$B:$B, $A30, ToDoList!$R:$R, C$2))","v":""},{"$f":"IF($A30 = \"\", \"\", COUNTIFS(ToDoList!$B:$B, $A30, ToDoList!$R:$R, D$2))","v":""},{"$f":"IF($A30 = \"\", \"\", COUNTIFS(ToDoList!$B:$B, $A30, ToDoList!$R:$R, E$2))","v":""},{"$f":"IF($A30 = \"\", \"\", COUNTIFS(ToDoList!$B:$B, $A30, ToDoList!$R:$R, F$2))","v":""},{"$f":"IF($A30 = \"\", \"\", COUNTIFS(ToDoList!$B:$B, $A30, ToDoList!$R:$R, G$2))","v":""},{"$f":"IF($A30 = \"\", \"\", COUNTIFS(ToDoList!$B:$B, $A30, ToDoList!$R:$R, H$2))","v":""},{"$f":"IF($A30 = \"\", \"\", COUNTIFS(ToDoList!$B:$B, $A30, ToDoList!$R:$R, I$2))","v":""},{"$f":"IF($A30 = \"\", \"\", COUNTIFS(ToDoList!$B:$B, $A30, ToDoList!$R:$R, J$2))","v":""}]
[null,{"$f":"IF($A31 = \"\", \"\", COUNTIFS(ToDoList!$B:$B, $A31, ToDoList!$R:$R, B$2))","v":""},{"$f":"IF($A31 = \"\", \"\", COUNTIFS(ToDoList!$B:$B, $A31, ToDoList!$R:$R, C$2))","v":""},{"$f":"IF($A31 = \"\", \"\", COUNTIFS(ToDoList!$B:$B, $A31, ToDoList!$R:$R, D$2))","v":""},{"$f":"IF($A31 = \"\", \"\", COUNTIFS(ToDoList!$B:$B, $A31, ToDoList!$R:$R, E$2))","v":""},{"$f":"IF($A31 = \"\", \"\", COUNTIFS(ToDoList!$B:$B, $A31, ToDoList!$R:$R, F$2))","v":""},{"$f":"IF($A31 = \"\", \"\", COUNTIFS(ToDoList!$B:$B, $A31, ToDoList!$R:$R, G$2))","v":""},{"$f":"IF($A31 = \"\", \"\", COUNTIFS(ToDoList!$B:$B, $A31, ToDoList!$R:$R, H$2))","v":""},{"$f":"IF($A31 = \"\", \"\", COUNTIFS(ToDoList!$B:$B, $A31, ToDoList!$R:$R, I$2))","v":""},{"$f":"IF($A31 = \"\", \"\", COUNTIFS(ToDoList!$B:$B, $A31, ToDoList!$R:$R, J$2))","v":""}]
[null,{"$f":"IF($A32 = \"\", \"\", COUNTIFS(ToDoList!$B:$B, $A32, ToDoList!$R:$R, B$2))","v":""},{"$f":"IF($A32 = \"\", \"\", COUNTIFS(ToDoList!$B:$B, $A32, ToDoList!$R:$R, C$2))","v":""},{"$f":"IF($A32 = \"\", \"\", COUNTIFS(ToDoList!$B:$B, $A32, ToDoList!$R:$R, D$2))","v":""},{"$f":"IF($A32 = \"\", \"\", COUNTIFS(ToDoList!$B:$B, $A32, ToDoList!$R:$R, E$2))","v":""},{"$f":"IF($A32 = \"\", \"\", COUNTIFS(ToDoList!$B:$B, $A32, ToDoList!$R:$R, F$2))","v":""},{"$f":"IF($A32 = \"\", \"\", COUNTIFS(ToDoList!$B:$B, $A32, ToDoList!$R:$R, G$2))","v":""},{"$f":"IF($A32 = \"\", \"\", COUNTIFS(ToDoList!$B:$B, $A32, ToDoList!$R:$R, H$2))","v":""},{"$f":"IF($A32 = \"\", \"\", COUNTIFS(ToDoList!$B:$B, $A32, ToDoList!$R:$R, I$2))","v":""},{"$f":"IF($A32 = \"\", \"\", COUNTIFS(ToDoList!$B:$B, $A32, ToDoList!$R:$R, J$2))","v":""}]
[null,{"$f":"IF($A33 = \"\", \"\", COUNTIFS(ToDoList!$B:$B, $A33, ToDoList!$R:$R, B$2))","v":""},{"$f":"IF($A33 = \"\", \"\", COUNTIFS(ToDoList!$B:$B, $A33, ToDoList!$R:$R, C$2))","v":""},{"$f":"IF($A33 = \"\", \"\", COUNTIFS(ToDoList!$B:$B, $A33, ToDoList!$R:$R, D$2))","v":""},{"$f":"IF($A33 = \"\", \"\", COUNTIFS(ToDoList!$B:$B, $A33, ToDoList!$R:$R, E$2))","v":""},{"$f":"IF($A33 = \"\", \"\", COUNTIFS(ToDoList!$B:$B, $A33, ToDoList!$R:$R, F$2))","v":""},{"$f":"IF($A33 = \"\", \"\", COUNTIFS(ToDoList!$B:$B, $A33, ToDoList!$R:$R, G$2))","v":""},{"$f":"IF($A33 = \"\", \"\", COUNTIFS(ToDoList!$B:$B, $A33, ToDoList!$R:$R, H$2))","v":""},{"$f":"IF($A33 = \"\", \"\", COUNTIFS(ToDoList!$B:$B, $A33, ToDoList!$R:$R, I$2))","v":""},{"$f":"IF($A33 = \"\", \"\", COUNTIFS(ToDoList!$B:$B, $A33, ToDoList!$R:$R, J$2))","v":""}]
[null,{"$f":"IF($A34 = \"\", \"\", COUNTIFS(ToDoList!$B:$B, $A34, ToDoList!$R:$R, B$2))","v":""},{"$f":"IF($A34 = \"\", \"\", COUNTIFS(ToDoList!$B:$B, $A34, ToDoList!$R:$R, C$2))","v":""},{"$f":"IF($A34 = \"\", \"\", COUNTIFS(ToDoList!$B:$B, $A34, ToDoList!$R:$R, D$2))","v":""},{"$f":"IF($A34 = \"\", \"\", COUNTIFS(ToDoList!$B:$B, $A34, ToDoList!$R:$R, E$2))","v":""},{"$f":"IF($A34 = \"\", \"\", COUNTIFS(ToDoList!$B:$B, $A34, ToDoList!$R:$R, F$2))","v":""},{"$f":"IF($A34 = \"\", \"\", COUNTIFS(ToDoList!$B:$B, $A34, ToDoList!$R:$R, G$2))","v":""},{"$f":"IF($A34 = \"\", \"\", COUNTIFS(ToDoList!$B:$B, $A34, ToDoList!$R:$R, H$2))","v":""},{"$f":"IF($A34 = \"\", \"\", COUNTIFS(ToDoList!$B:$B, $A34, ToDoList!$R:$R, I$2))","v":""},{"$f":"IF($A34 = \"\", \"\", COUNTIFS(ToDoList!$B:$B, $A34, ToDoList!$R:$R, J$2))","v":""}]
[null,{"$f":"IF($A35 = \"\", \"\", COUNTIFS(ToDoList!$B:$B, $A35, ToDoList!$R:$R, B$2))","v":""},{"$f":"IF($A35 = \"\", \"\", COUNTIFS(ToDoList!$B:$B, $A35, ToDoList!$R:$R, C$2))","v":""},{"$f":"IF($A35 = \"\", \"\", COUNTIFS(ToDoList!$B:$B, $A35, ToDoList!$R:$R, D$2))","v":""},{"$f":"IF($A35 = \"\", \"\", COUNTIFS(ToDoList!$B:$B, $A35, ToDoList!$R:$R, E$2))","v":""},{"$f":"IF($A35 = \"\", \"\", COUNTIFS(ToDoList!$B:$B, $A35, ToDoList!$R:$R, F$2))","v":""},{"$f":"IF($A35 = \"\", \"\", COUNTIFS(ToDoList!$B:$B, $A35, ToDoList!$R:$R, G$2))","v":""},{"$f":"IF($A35 = \"\", \"\", COUNTIFS(ToDoList!$B:$B, $A35, ToDoList!$R:$R, H$2))","v":""},{"$f":"IF($A35 = \"\", \"\", COUNTIFS(ToDoList!$B:$B, $A35, ToDoList!$R:$R, I$2))","v":""},{"$f":"IF($A35 = \"\", \"\", COUNTIFS(ToDoList!$B:$B, $A35, ToDoList!$R:$R, J$2))","v":""}]
[null,{"$f":"IF($A36 = \"\", \"\", COUNTIFS(ToDoList!$B:$B, $A36, ToDoList!$R:$R, B$2))","v":""},{"$f":"IF($A36 = \"\", \"\", COUNTIFS(ToDoList!$B:$B, $A36, ToDoList!$R:$R, C$2))","v":""},{"$f":"IF($A36 = \"\", \"\", COUNTIFS(ToDoList!$B:$B, $A36, ToDoList!$R:$R, D$2))","v":""},{"$f":"IF($A36 = \"\", \"\", COUNTIFS(ToDoList!$B:$B, $A36, ToDoList!$R:$R, E$2))","v":""},{"$f":"IF($A36 = \"\", \"\", COUNTIFS(ToDoList!$B:$B, $A36, ToDoList!$R:$R, F$2))","v":""},{"$f":"IF($A36 = \"\", \"\", COUNTIFS(ToDoList!$B:$B, $A36, ToDoList!$R:$R, G$2))","v":""},{"$f":"IF($A36 = \"\", \"\", COUNTIFS(ToDoList!$B:$B, $A36, ToDoList!$R:$R, H$2))","v":""},{"$f":"IF($A36 = \"\", \"\", COUNTIFS(ToDoList!$B:$B, $A36, ToDoList!$R:$R, I$2))","v":""},{"$f":"IF($A36 = \"\", \"\", COUNTIFS(ToDoList!$B:$B, $A36, ToDoList!$R:$R, J$2))","v":""}]
[null,{"$f":"IF($A37 = \"\", \"\", COUNTIFS(ToDoList!$B:$B, $A37, ToDoList!$R:$R, B$2))","v":""},{"$f":"IF($A37 = \"\", \"\", COUNTIFS(ToDoList!$B:$B, $A37, ToDoList!$R:$R, C$2))","v":""},{"$f":"IF($A37 = \"\", \"\", COUNTIFS(ToDoList!$B:$B, $A37, ToDoList!$R:$R, D$2))","v":""},{"$f":"IF($A37 = \"\", \"\", COUNTIFS(ToDoList!$B:$B, $A37, ToDoList!$R:$R, E$2))","v":""},{"$f":"IF($A37 = \"\", \"\", COUNTIFS(ToDoList!$B:$B, $A37, ToDoList!$R:$R, F$2))","v":""},{"$f":"IF($A37 = \"\", \"\", COUNTIFS(ToDoList!$B:$B, $A37, ToDoList!$R:$R, G$2))","v":""},{"$f":"IF($A37 = \"\", \"\", COUNTIFS(ToDoList!$B:$B, $A37, ToDoList!$R:$R, H$2))","v":""},{"$f":"IF($A37 = \"\", \"\", COUNTIFS(ToDoList!$B:$B, $A37, ToDoList!$R:$R, I$2))","v":""},{"$f":"IF($A37 = \"\", \"\", COUNTIFS(ToDoList!$B:$B, $A37, ToDoList!$R:$R, J$2))","v":""}]
[null,{"$f":"IF($A38 = \"\", \"\", COUNTIFS(ToDoList!$B:$B, $A38, ToDoList!$R:$R, B$2))","v":""},{"$f":"IF($A38 = \"\", \"\", COUNTIFS(ToDoList!$B:$B, $A38, ToDoList!$R:$R, C$2))","v":""},{"$f":"IF($A38 = \"\", \"\", COUNTIFS(ToDoList!$B:$B, $A38, ToDoList!$R:$R, D$2))","v":""},{"$f":"IF($A38 = \"\", \"\", COUNTIFS(ToDoList!$B:$B, $A38, ToDoList!$R:$R, E$2))","v":""},{"$f":"IF($A38 = \"\", \"\", COUNTIFS(ToDoList!$B:$B, $A38, ToDoList!$R:$R, F$2))","v":""},{"$f":"IF($A38 = \"\", \"\", COUNTIFS(ToDoList!$B:$B, $A38, ToDoList!$R:$R, G$2))","v":""},{"$f":"IF($A38 = \"\", \"\", COUNTIFS(ToDoList!$B:$B, $A38, ToDoList!$R:$R, H$2))","v":""},{"$f":"IF($A38 = \"\", \"\", COUNTIFS(ToDoList!$B:$B, $A38, ToDoList!$R:$R, I$2))","v":""},{"$f":"IF($A38 = \"\", \"\", COUNTIFS(ToDoList!$B:$B, $A38, ToDoList!$R:$R, J$2))","v":""}]
[null,{"$f":"IF($A39 = \"\", \"\", COUNTIFS(ToDoList!$B:$B, $A39, ToDoList!$R:$R, B$2))","v":""},{"$f":"IF($A39 = \"\", \"\", COUNTIFS(ToDoList!$B:$B, $A39, ToDoList!$R:$R, C$2))","v":""},{"$f":"IF($A39 = \"\", \"\", COUNTIFS(ToDoList!$B:$B, $A39, ToDoList!$R:$R, D$2))","v":""},{"$f":"IF($A39 = \"\", \"\", COUNTIFS(ToDoList!$B:$B, $A39, ToDoList!$R:$R, E$2))","v":""},{"$f":"IF($A39 = \"\", \"\", COUNTIFS(ToDoList!$B:$B, $A39, ToDoList!$R:$R, F$2))","v":""},{"$f":"IF($A39 = \"\", \"\", COUNTIFS(ToDoList!$B:$B, $A39, ToDoList!$R:$R, G$2))","v":""},{"$f":"IF($A39 = \"\", \"\", COUNTIFS(ToDoList!$B:$B, $A39, ToDoList!$R:$R, H$2))","v":""},{"$f":"IF($A39 = \"\", \"\", COUNTIFS(ToDoList!$B:$B, $A39, ToDoList!$R:$R, I$2))","v":""},{"$f":"IF($A39 = \"\", \"\", COUNTIFS(ToDoList!$B:$B, $A39, ToDoList!$R:$R, J$2))","v":""}]
[null,{"$f":"IF($A40 = \"\", \"\", COUNTIFS(ToDoList!$B:$B, $A40, ToDoList!$R:$R, B$2))","v":""},{"$f":"IF($A40 = \"\", \"\", COUNTIFS(ToDoList!$B:$B, $A40, ToDoList!$R:$R, C$2))","v":""},{"$f":"IF($A40 = \"\", \"\", COUNTIFS(ToDoList!$B:$B, $A40, ToDoList!$R:$R, D$2))","v":""},{"$f":"IF($A40 = \"\", \"\", COUNTIFS(ToDoList!$B:$B, $A40, ToDoList!$R:$R, E$2))","v":""},{"$f":"IF($A40 = \"\", \"\", COUNTIFS(ToDoList!$B:$B, $A40, ToDoList!$R:$R, F$2))","v":""},{"$f":"IF($A40 = \"\", \"\", COUNTIFS(ToDoList!$B:$B, $A40, ToDoList!$R:$R, G$2))","v":""},{"$f":"IF($A40 = \"\", \"\", COUNTIFS(ToDoList!$B:$B, $A40, ToDoList!$R:$R, H$2))","v":""},{"$f":"IF($A40 = \"\", \"\", COUNTIFS(ToDoList!$B:$B, $A40, ToDoList!$R:$R, I$2))","v":""},{"$f":"IF($A40 = \"\", \"\", COUNTIFS(ToDoList!$B:$B, $A40, ToDoList!$R:$R, J$2))","v":""}]
[null,{"$f":"IF($A41 = \"\", \"\", COUNTIFS(ToDoList!$B:$B, $A41, ToDoList!$R:$R, B$2))","v":""},{"$f":"IF($A41 = \"\", \"\", COUNTIFS(ToDoList!$B:$B, $A41, ToDoList!$R:$R, C$2))","v":""},{"$f":"IF($A41 = \"\", \"\", COUNTIFS(ToDoList!$B:$B, $A41, ToDoList!$R:$R, D$2))","v":""},{"$f":"IF($A41 = \"\", \"\", COUNTIFS(ToDoList!$B:$B, $A41, ToDoList!$R:$R, E$2))","v":""},{"$f":"IF($A41 = \"\", \"\", COUNTIFS(ToDoList!$B:$B, $A41, ToDoList!$R:$R, F$2))","v":""},{"$f":"IF($A41 = \"\", \"\", COUNTIFS(ToDoList!$B:$B, $A41, ToDoList!$R:$R, G$2))","v":""},{"$f":"IF($A41 = \"\", \"\", COUNTIFS(ToDoList!$B:$B, $A41, ToDoList!$R:$R, H$2))","v":""},{"$f":"IF($A41 = \"\", \"\", COUNTIFS(ToDoList!$B:$B, $A41, ToDoList!$R:$R, I$2))","v":""},{"$f":"IF($A41 = \"\", \"\", COUNTIFS(ToDoList!$B:$B, $A41, ToDoList!$R:$R, J$2))","v":""}]
[null,{"$f":"IF($A42 = \"\", \"\", COUNTIFS(ToDoList!$B:$B, $A42, ToDoList!$R:$R, B$2))","v":""},{"$f":"IF($A42 = \"\", \"\", COUNTIFS(ToDoList!$B:$B, $A42, ToDoList!$R:$R, C$2))","v":""},{"$f":"IF($A42 = \"\", \"\", COUNTIFS(ToDoList!$B:$B, $A42, ToDoList!$R:$R, D$2))","v":""},{"$f":"IF($A42 = \"\", \"\", COUNTIFS(ToDoList!$B:$B, $A42, ToDoList!$R:$R, E$2))","v":""},{"$f":"IF($A42 = \"\", \"\", COUNTIFS(ToDoList!$B:$B, $A42, ToDoList!$R:$R, F$2))","v":""},{"$f":"IF($A42 = \"\", \"\", COUNTIFS(ToDoList!$B:$B, $A42, ToDoList!$R:$R, G$2))","v":""},{"$f":"IF($A42 = \"\", \"\", COUNTIFS(ToDoList!$B:$B, $A42, ToDoList!$R:$R, H$2))","v":""},{"$f":"IF($A42 = \"\", \"\", COUNTIFS(ToDoList!$B:$B, $A42, ToDoList!$R:$R, I$2))","v":""},{"$f":"IF($A42 = \"\", \"\", COUNTIFS(ToDoList!$B:$B, $A42, ToDoList!$R:$R, J$2))","v":""}]
[null,{"$f":"IF($A43 = \"\", \"\", COUNTIFS(ToDoList!$B:$B, $A43, ToDoList!$R:$R, B$2))","v":""},{"$f":"IF($A43 = \"\", \"\", COUNTIFS(ToDoList!$B:$B, $A43, ToDoList!$R:$R, C$2))","v":""},{"$f":"IF($A43 = \"\", \"\", COUNTIFS(ToDoList!$B:$B, $A43, ToDoList!$R:$R, D$2))","v":""},{"$f":"IF($A43 = \"\", \"\", COUNTIFS(ToDoList!$B:$B, $A43, ToDoList!$R:$R, E$2))","v":""},{"$f":"IF($A43 = \"\", \"\", COUNTIFS(ToDoList!$B:$B, $A43, ToDoList!$R:$R, F$2))","v":""},{"$f":"IF($A43 = \"\", \"\", COUNTIFS(ToDoList!$B:$B, $A43, ToDoList!$R:$R, G$2))","v":""},{"$f":"IF($A43 = \"\", \"\", COUNTIFS(ToDoList!$B:$B, $A43, ToDoList!$R:$R, H$2))","v":""},{"$f":"IF($A43 = \"\", \"\", COUNTIFS(ToDoList!$B:$B, $A43, ToDoList!$R:$R, I$2))","v":""},{"$f":"IF($A43 = \"\", \"\", COUNTIFS(ToDoList!$B:$B, $A43, ToDoList!$R:$R, J$2))","v":""}]
[null,{"$f":"IF($A44 = \"\", \"\", COUNTIFS(ToDoList!$B:$B, $A44, ToDoList!$R:$R, B$2))","v":""},{"$f":"IF($A44 = \"\", \"\", COUNTIFS(ToDoList!$B:$B, $A44, ToDoList!$R:$R, C$2))","v":""},{"$f":"IF($A44 = \"\", \"\", COUNTIFS(ToDoList!$B:$B, $A44, ToDoList!$R:$R, D$2))","v":""},{"$f":"IF($A44 = \"\", \"\", COUNTIFS(ToDoList!$B:$B, $A44, ToDoList!$R:$R, E$2))","v":""},{"$f":"IF($A44 = \"\", \"\", COUNTIFS(ToDoList!$B:$B, $A44, ToDoList!$R:$R, F$2))","v":""},{"$f":"IF($A44 = \"\", \"\", COUNTIFS(ToDoList!$B:$B, $A44, ToDoList!$R:$R, G$2))","v":""},{"$f":"IF($A44 = \"\", \"\", COUNTIFS(ToDoList!$B:$B, $A44, ToDoList!$R:$R, H$2))","v":""},{"$f":"IF($A44 = \"\", \"\", COUNTIFS(ToDoList!$B:$B, $A44, ToDoList!$R:$R, I$2))","v":""},{"$f":"IF($A44 = \"\", \"\", COUNTIFS(ToDoList!$B:$B, $A44, ToDoList!$R:$R, J$2))","v":""}]
[null,{"$f":"IF($A45 = \"\", \"\", COUNTIFS(ToDoList!$B:$B, $A45, ToDoList!$R:$R, B$2))","v":""},{"$f":"IF($A45 = \"\", \"\", COUNTIFS(ToDoList!$B:$B, $A45, ToDoList!$R:$R, C$2))","v":""},{"$f":"IF($A45 = \"\", \"\", COUNTIFS(ToDoList!$B:$B, $A45, ToDoList!$R:$R, D$2))","v":""},{"$f":"IF($A45 = \"\", \"\", COUNTIFS(ToDoList!$B:$B, $A45, ToDoList!$R:$R, E$2))","v":""},{"$f":"IF($A45 = \"\", \"\", COUNTIFS(ToDoList!$B:$B, $A45, ToDoList!$R:$R, F$2))","v":""},{"$f":"IF($A45 = \"\", \"\", COUNTIFS(ToDoList!$B:$B, $A45, ToDoList!$R:$R, G$2))","v":""},{"$f":"IF($A45 = \"\", \"\", COUNTIFS(ToDoList!$B:$B, $A45, ToDoList!$R:$R, H$2))","v":""},{"$f":"IF($A45 = \"\", \"\", COUNTIFS(ToDoList!$B:$B, $A45, ToDoList!$R:$R, I$2))","v":""},{"$f":"IF($A45 = \"\", \"\", COUNTIFS(ToDoList!$B:$B, $A45, ToDoList!$R:$R, J$2))","v":""}]
[null,{"$f":"IF($A46 = \"\", \"\", COUNTIFS(ToDoList!$B:$B, $A46, ToDoList!$R:$R, B$2))","v":""},{"$f":"IF($A46 = \"\", \"\", COUNTIFS(ToDoList!$B:$B, $A46, ToDoList!$R:$R, C$2))","v":""},{"$f":"IF($A46 = \"\", \"\", COUNTIFS(ToDoList!$B:$B, $A46, ToDoList!$R:$R, D$2))","v":""},{"$f":"IF($A46 = \"\", \"\", COUNTIFS(ToDoList!$B:$B, $A46, ToDoList!$R:$R, E$2))","v":""},{"$f":"IF($A46 = \"\", \"\", COUNTIFS(ToDoList!$B:$B, $A46, ToDoList!$R:$R, F$2))","v":""},{"$f":"IF($A46 = \"\", \"\", COUNTIFS(ToDoList!$B:$B, $A46, ToDoList!$R:$R, G$2))","v":""},{"$f":"IF($A46 = \"\", \"\", COUNTIFS(ToDoList!$B:$B, $A46, ToDoList!$R:$R, H$2))","v":""},{"$f":"IF($A46 = \"\", \"\", COUNTIFS(ToDoList!$B:$B, $A46, ToDoList!$R:$R, I$2))","v":""},{"$f":"IF($A46 = \"\", \"\", COUNTIFS(ToDoList!$B:$B, $A46, ToDoList!$R:$R, J$2))","v":""}]
[null,{"$f":"IF($A47 = \"\", \"\", COUNTIFS(ToDoList!$B:$B, $A47, ToDoList!$R:$R, B$2))","v":""},{"$f":"IF($A47 = \"\", \"\", COUNTIFS(ToDoList!$B:$B, $A47, ToDoList!$R:$R, C$2))","v":""},{"$f":"IF($A47 = \"\", \"\", COUNTIFS(ToDoList!$B:$B, $A47, ToDoList!$R:$R, D$2))","v":""},{"$f":"IF($A47 = \"\", \"\", COUNTIFS(ToDoList!$B:$B, $A47, ToDoList!$R:$R, E$2))","v":""},{"$f":"IF($A47 = \"\", \"\", COUNTIFS(ToDoList!$B:$B, $A47, ToDoList!$R:$R, F$2))","v":""},{"$f":"IF($A47 = \"\", \"\", COUNTIFS(ToDoList!$B:$B, $A47, ToDoList!$R:$R, G$2))","v":""},{"$f":"IF($A47 = \"\", \"\", COUNTIFS(ToDoList!$B:$B, $A47, ToDoList!$R:$R, H$2))","v":""},{"$f":"IF($A47 = \"\", \"\", COUNTIFS(ToDoList!$B:$B, $A47, ToDoList!$R:$R, I$2))","v":""},{"$f":"IF($A47 = \"\", \"\", COUNTIFS(ToDoList!$B:$B, $A47, ToDoList!$R:$R, J$2))","v":""}]
[null,{"$f":"IF($A48 = \"\", \"\", COUNTIFS(ToDoList!$B:$B, $A48, ToDoList!$R:$R, B$2))","v":""},{"$f":"IF($A48 = \"\", \"\", COUNTIFS(ToDoList!$B:$B, $A48, ToDoList!$R:$R, C$2))","v":""},{"$f":"IF($A48 = \"\", \"\", COUNTIFS(ToDoList!$B:$B, $A48, ToDoList!$R:$R, D$2))","v":""},{"$f":"IF($A48 = \"\", \"\", COUNTIFS(ToDoList!$B:$B, $A48, ToDoList!$R:$R, E$2))","v":""},{"$f":"IF($A48 = \"\", \"\", COUNTIFS(ToDoList!$B:$B, $A48, ToDoList!$R:$R, F$2))","v":""},{"$f":"IF($A48 = \"\", \"\", COUNTIFS(ToDoList!$B:$B, $A48, ToDoList!$R:$R, G$2))","v":""},{"$f":"IF($A48 = \"\", \"\", COUNTIFS(ToDoList!$B:$B, $A48, ToDoList!$R:$R, H$2))","v":""},{"$f":"IF($A48 = \"\", \"\", COUNTIFS(ToDoList!$B:$B, $A48, ToDoList!$R:$R, I$2))","v":""},{"$f":"IF($A48 = \"\", \"\", COUNTIFS(ToDoList!$B:$B, $A48, ToDoList!$R:$R, J$2))","v":""}]
[null,{"$f":"IF($A49 = \"\", \"\", COUNTIFS(ToDoList!$B:$B, $A49, ToDoList!$R:$R, B$2))","v":""},{"$f":"IF($A49 = \"\", \"\", COUNTIFS(ToDoList!$B:$B, $A49, ToDoList!$R:$R, C$2))","v":""},{"$f":"IF($A49 = \"\", \"\", COUNTIFS(ToDoList!$B:$B, $A49, ToDoList!$R:$R, D$2))","v":""},{"$f":"IF($A49 = \"\", \"\", COUNTIFS(ToDoList!$B:$B, $A49, ToDoList!$R:$R, E$2))","v":""},{"$f":"IF($A49 = \"\", \"\", COUNTIFS(ToDoList!$B:$B, $A49, ToDoList!$R:$R, F$2))","v":""},{"$f":"IF($A49 = \"\", \"\", COUNTIFS(ToDoList!$B:$B, $A49, ToDoList!$R:$R, G$2))","v":""},{"$f":"IF($A49 = \"\", \"\", COUNTIFS(ToDoList!$B:$B, $A49, ToDoList!$R:$R, H$2))","v":""},{"$f":"IF($A49 = \"\", \"\", COUNTIFS(ToDoList!$B:$B, $A49, ToDoList!$R:$R, I$2))","v":""},{"$f":"IF($A49 = \"\", \"\", COUNTIFS(ToDoList!$B:$B, $A49, ToDoList!$R:$R, J$2))","v":""}]
[null,{"$f":"IF($A50 = \"\", \"\", COUNTIFS(ToDoList!$B:$B, $A50, ToDoList!$R:$R, B$2))","v":""},{"$f":"IF($A50 = \"\", \"\", COUNTIFS(ToDoList!$B:$B, $A50, ToDoList!$R:$R, C$2))","v":""},{"$f":"IF($A50 = \"\", \"\", COUNTIFS(ToDoList!$B:$B, $A50, ToDoList!$R:$R, D$2))","v":""},{"$f":"IF($A50 = \"\", \"\", COUNTIFS(ToDoList!$B:$B, $A50, ToDoList!$R:$R, E$2))","v":""},{"$f":"IF($A50 = \"\", \"\", COUNTIFS(ToDoList!$B:$B, $A50, ToDoList!$R:$R, F$2))","v":""},{"$f":"IF($A50 = \"\", \"\", COUNTIFS(ToDoList!$B:$B, $A50, ToDoList!$R:$R, G$2))","v":""},{"$f":"IF($A50 = \"\", \"\", COUNTIFS(ToDoList!$B:$B, $A50, ToDoList!$R:$R, H$2))","v":""},{"$f":"IF($A50 = \"\", \"\", COUNTIFS(ToDoList!$B:$B, $A50, ToDoList!$R:$R, I$2))","v":""},{"$f":"IF($A50 = \"\", \"\", COUNTIFS(ToDoList!$B:$B, $A50, ToDoList!$R:$R, J$2))","v":""}]
[null,{"$f":"IF($A51 = \"\", \"\", COUNTIFS(ToDoList!$B:$B, $A51, ToDoList!$R:$R, B$2))","v":""},{"$f":"IF($A51 = \"\", \"\", COUNTIFS(ToDoList!$B:$B, $A51, ToDoList!$R:$R, C$2))","v":""},{"$f":"IF($A51 = \"\", \"\", COUNTIFS(ToDoList!$B:$B, $A51, ToDoList!$R:$R, D$2))","v":""},{"$f":"IF($A51 = \"\", \"\", COUNTIFS(ToDoList!$B:$B, $A51, ToDoList!$R:$R, E$2))","v":""},{"$f":"IF($A51 = \"\", \"\", COUNTIFS(ToDoList!$B:$B, $A51, ToDoList!$R:$R, F$2))","v":""},{"$f":"IF($A51 = \"\", \"\", COUNTIFS(ToDoList!$B:$B, $A51, ToDoList!$R:$R, G$2))","v":""},{"$f":"IF($A51 = \"\", \"\", COUNTIFS(ToDoList!$B:$B, $A51, ToDoList!$R:$R, H$2))","v":""},{"$f":"IF($A51 = \"\", \"\", COUNTIFS(ToDoList!$B:$B, $A51, ToDoList!$R:$R, I$2))","v":""},{"$f":"IF($A51 = \"\", \"\", COUNTIFS(ToDoList!$B:$B, $A51, ToDoList!$R:$R, J$2))","v":""}]
[null,{"$f":"IF($A52 = \"\", \"\", COUNTIFS(ToDoList!$B:$B, $A52, ToDoList!$R:$R, B$2))","v":""},{"$f":"IF($A52 = \"\", \"\", COUNTIFS(ToDoList!$B:$B, $A52, ToDoList!$R:$R, C$2))","v":""},{"$f":"IF($A52 = \"\", \"\", COUNTIFS(ToDoList!$B:$B, $A52, ToDoList!$R:$R, D$2))","v":""},{"$f":"IF($A52 = \"\", \"\", COUNTIFS(ToDoList!$B:$B, $A52, ToDoList!$R:$R, E$2))","v":""},{"$f":"IF($A52 = \"\", \"\", COUNTIFS(ToDoList!$B:$B, $A52, ToDoList!$R:$R, F$2))","v":""},{"$f":"IF($A52 = \"\", \"\", COUNTIFS(ToDoList!$B:$B, $A52, ToDoList!$R:$R, G$2))","v":""},{"$f":"IF($A52 = \"\", \"\", COUNTIFS(ToDoList!$B:$B, $A52, ToDoList!$R:$R, H$2))","v":""},{"$f":"IF($A52 = \"\", \"\", COUNTIFS(ToDoList!$B:$B, $A52, ToDoList!$R:$R, I$2))","v":""},{"$f":"IF($A52 = \"\", \"\", COUNTIFS(ToDoList!$B:$B, $A52, ToDoList!$R:$R, J$2))","v":""}]
[null,{"$f":"IF($A53 = \"\", \"\", COUNTIFS(ToDoList!$B:$B, $A53, ToDoList!$R:$R, B$2))","v":""},{"$f":"IF($A53 = \"\", \"\", COUNTIFS(ToDoList!$B:$B, $A53, ToDoList!$R:$R, C$2))","v":""},{"$f":"IF($A53 = \"\", \"\", COUNTIFS(ToDoList!$B:$B, $A53, ToDoList!$R:$R, D$2))","v":""},{"$f":"IF($A53 = \"\", \"\", COUNTIFS(ToDoList!$B:$B, $A53, ToDoList!$R:$R, E$2))","v":""},{"$f":"IF($A53 = \"\", \"\", COUNTIFS(ToDoList!$B:$B, $A53, ToDoList!$R:$R, F$2))","v":""},{"$f":"IF($A53 = \"\", \"\", COUNTIFS(ToDoList!$B:$B, $A53, ToDoList!$R:$R, G$2))","v":""},{"$f":"IF($A53 = \"\", \"\", COUNTIFS(ToDoList!$B:$B, $A53, ToDoList!$R:$R, H$2))","v":""},{"$f":"IF($A53 = \"\", \"\", COUNTIFS(ToDoList!$B:$B, $A53, ToDoList!$R:$R, I$2))","v":""},{"$f":"IF($A53 = \"\", \"\", COUNTIFS(ToDoList!$B:$B, $A53, ToDoList!$R:$R, J$2))","v":""}]
[null,{"$f":"IF($A54 = \"\", \"\", COUNTIFS(ToDoList!$B:$B, $A54, ToDoList!$R:$R, B$2))","v":""},{"$f":"IF($A54 = \"\", \"\", COUNTIFS(ToDoList!$B:$B, $A54, ToDoList!$R:$R, C$2))","v":""},{"$f":"IF($A54 = \"\", \"\", COUNTIFS(ToDoList!$B:$B, $A54, ToDoList!$R:$R, D$2))","v":""},{"$f":"IF($A54 = \"\", \"\", COUNTIFS(ToDoList!$B:$B, $A54, ToDoList!$R:$R, E$2))","v":""},{"$f":"IF($A54 = \"\", \"\", COUNTIFS(ToDoList!$B:$B, $A54, ToDoList!$R:$R, F$2))","v":""},{"$f":"IF($A54 = \"\", \"\", COUNTIFS(ToDoList!$B:$B, $A54, ToDoList!$R:$R, G$2))","v":""},{"$f":"IF($A54 = \"\", \"\", COUNTIFS(ToDoList!$B:$B, $A54, ToDoList!$R:$R, H$2))","v":""},{"$f":"IF($A54 = \"\", \"\", COUNTIFS(ToDoList!$B:$B, $A54, ToDoList!$R:$R, I$2))","v":""},{"$f":"IF($A54 = \"\", \"\", COUNTIFS(ToDoList!$B:$B, $A54, ToDoList!$R:$R, J$2))","v":""}]
[null,{"$f":"IF($A55 = \"\", \"\", COUNTIFS(ToDoList!$B:$B, $A55, ToDoList!$R:$R, B$2))","v":""},{"$f":"IF($A55 = \"\", \"\", COUNTIFS(ToDoList!$B:$B, $A55, ToDoList!$R:$R, C$2))","v":""},{"$f":"IF($A55 = \"\", \"\", COUNTIFS(ToDoList!$B:$B, $A55, ToDoList!$R:$R, D$2))","v":""},{"$f":"IF($A55 = \"\", \"\", COUNTIFS(ToDoList!$B:$B, $A55, ToDoList!$R:$R, E$2))","v":""},{"$f":"IF($A55 = \"\", \"\", COUNTIFS(ToDoList!$B:$B, $A55, ToDoList!$R:$R, F$2))","v":""},{"$f":"IF($A55 = \"\", \"\", COUNTIFS(ToDoList!$B:$B, $A55, ToDoList!$R:$R, G$2))","v":""},{"$f":"IF($A55 = \"\", \"\", COUNTIFS(ToDoList!$B:$B, $A55, ToDoList!$R:$R, H$2))","v":""},{"$f":"IF($A55 = \"\", \"\", COUNTIFS(ToDoList!$B:$B, $A55, ToDoList!$R:$R, I$2))","v":""},{"$f":"IF($A55 = \"\", \"\", COUNTIFS(ToDoList!$B:$B, $A55, ToDoList!$R:$R, J$2))","v":""}]
[null,{"$f":"IF($A56 = \"\", \"\", COUNTIFS(ToDoList!$B:$B, $A56, ToDoList!$R:$R, B$2))","v":""},{"$f":"IF($A56 = \"\", \"\", COUNTIFS(ToDoList!$B:$B, $A56, ToDoList!$R:$R, C$2))","v":""},{"$f":"IF($A56 = \"\", \"\", COUNTIFS(ToDoList!$B:$B, $A56, ToDoList!$R:$R, D$2))","v":""},{"$f":"IF($A56 = \"\", \"\", COUNTIFS(ToDoList!$B:$B, $A56, ToDoList!$R:$R, E$2))","v":""},{"$f":"IF($A56 = \"\", \"\", COUNTIFS(ToDoList!$B:$B, $A56, ToDoList!$R:$R, F$2))","v":""},{"$f":"IF($A56 = \"\", \"\", COUNTIFS(ToDoList!$B:$B, $A56, ToDoList!$R:$R, G$2))","v":""},{"$f":"IF($A56 = \"\", \"\", COUNTIFS(ToDoList!$B:$B, $A56, ToDoList!$R:$R, H$2))","v":""},{"$f":"IF($A56 = \"\", \"\", COUNTIFS(ToDoList!$B:$B, $A56, ToDoList!$R:$R, I$2))","v":""},{"$f":"IF($A56 = \"\", \"\", COUNTIFS(ToDoList!$B:$B, $A56, ToDoList!$R:$R, J$2))","v":""}]
[null,{"$f":"IF($A57 = \"\", \"\", COUNTIFS(ToDoList!$B:$B, $A57, ToDoList!$R:$R, B$2))","v":""},{"$f":"IF($A57 = \"\", \"\", COUNTIFS(ToDoList!$B:$B, $A57, ToDoList!$R:$R, C$2))","v":""},{"$f":"IF($A57 = \"\", \"\", COUNTIFS(ToDoList!$B:$B, $A57, ToDoList!$R:$R, D$2))","v":""},{"$f":"IF($A57 = \"\", \"\", COUNTIFS(ToDoList!$B:$B, $A57, ToDoList!$R:$R, E$2))","v":""},{"$f":"IF($A57 = \"\", \"\", COUNTIFS(ToDoList!$B:$B, $A57, ToDoList!$R:$R, F$2))","v":""},{"$f":"IF($A57 = \"\", \"\", COUNTIFS(ToDoList!$B:$B, $A57, ToDoList!$R:$R, G$2))","v":""},{"$f":"IF($A57 = \"\", \"\", COUNTIFS(ToDoList!$B:$B, $A57, ToDoList!$R:$R, H$2))","v":""},{"$f":"IF($A57 = \"\", \"\", COUNTIFS(ToDoList!$B:$B, $A57, ToDoList!$R:$R, I$2))","v":""},{"$f":"IF($A57 = \"\", \"\", COUNTIFS(ToDoList!$B:$B, $A57, ToDoList!$R:$R, J$2))","v":""}]
[null,{"$f":"IF($A58 = \"\", \"\", COUNTIFS(ToDoList!$B:$B, $A58, ToDoList!$R:$R, B$2))","v":""},{"$f":"IF($A58 = \"\", \"\", COUNTIFS(ToDoList!$B:$B, $A58, ToDoList!$R:$R, C$2))","v":""},{"$f":"IF($A58 = \"\", \"\", COUNTIFS(ToDoList!$B:$B, $A58, ToDoList!$R:$R, D$2))","v":""},{"$f":"IF($A58 = \"\", \"\", COUNTIFS(ToDoList!$B:$B, $A58, ToDoList!$R:$R, E$2))","v":""},{"$f":"IF($A58 = \"\", \"\", COUNTIFS(ToDoList!$B:$B, $A58, ToDoList!$R:$R, F$2))","v":""},{"$f":"IF($A58 = \"\", \"\", COUNTIFS(ToDoList!$B:$B, $A58, ToDoList!$R:$R, G$2))","v":""},{"$f":"IF($A58 = \"\", \"\", COUNTIFS(ToDoList!$B:$B, $A58, ToDoList!$R:$R, H$2))","v":""},{"$f":"IF($A58 = \"\", \"\", COUNTIFS(ToDoList!$B:$B, $A58, ToDoList!$R:$R, I$2))","v":""},{"$f":"IF($A58 = \"\", \"\", COUNTIFS(ToDoList!$B:$B, $A58, ToDoList!$R:$R, J$2))","v":""}]
[null,{"$f":"IF($A59 = \"\", \"\", COUNTIFS(ToDoList!$B:$B, $A59, ToDoList!$R:$R, B$2))","v":""},{"$f":"IF($A59 = \"\", \"\", COUNTIFS(ToDoList!$B:$B, $A59, ToDoList!$R:$R, C$2))","v":""},{"$f":"IF($A59 = \"\", \"\", COUNTIFS(ToDoList!$B:$B, $A59, ToDoList!$R:$R, D$2))","v":""},{"$f":"IF($A59 = \"\", \"\", COUNTIFS(ToDoList!$B:$B, $A59, ToDoList!$R:$R, E$2))","v":""},{"$f":"IF($A59 = \"\", \"\", COUNTIFS(ToDoList!$B:$B, $A59, ToDoList!$R:$R, F$2))","v":""},{"$f":"IF($A59 = \"\", \"\", COUNTIFS(ToDoList!$B:$B, $A59, ToDoList!$R:$R, G$2))","v":""},{"$f":"IF($A59 = \"\", \"\", COUNTIFS(ToDoList!$B:$B, $A59, ToDoList!$R:$R, H$2))","v":""},{"$f":"IF($A59 = \"\", \"\", COUNTIFS(ToDoList!$B:$B, $A59, ToDoList!$R:$R, I$2))","v":""},{"$f":"IF($A59 = \"\", \"\", COUNTIFS(ToDoList!$B:$B, $A59, ToDoList!$R:$R, J$2))","v":""}]
[null,{"$f":"IF($A60 = \"\", \"\", COUNTIFS(ToDoList!$B:$B, $A60, ToDoList!$R:$R, B$2))","v":""},{"$f":"IF($A60 = \"\", \"\", COUNTIFS(ToDoList!$B:$B, $A60, ToDoList!$R:$R, C$2))","v":""},{"$f":"IF($A60 = \"\", \"\", COUNTIFS(ToDoList!$B:$B, $A60, ToDoList!$R:$R, D$2))","v":""},{"$f":"IF($A60 = \"\", \"\", COUNTIFS(ToDoList!$B:$B, $A60, ToDoList!$R:$R, E$2))","v":""},{"$f":"IF($A60 = \"\", \"\", COUNTIFS(ToDoList!$B:$B, $A60, ToDoList!$R:$R, F$2))","v":""},{"$f":"IF($A60 = \"\", \"\", COUNTIFS(ToDoList!$B:$B, $A60, ToDoList!$R:$R, G$2))","v":""},{"$f":"IF($A60 = \"\", \"\", COUNTIFS(ToDoList!$B:$B, $A60, ToDoList!$R:$R, H$2))","v":""},{"$f":"IF($A60 = \"\", \"\", COUNTIFS(ToDoList!$B:$B, $A60, ToDoList!$R:$R, I$2))","v":""},{"$f":"IF($A60 = \"\", \"\", COUNTIFS(ToDoList!$B:$B, $A60, ToDoList!$R:$R, J$2))","v":""}]
[null,{"$f":"IF($A61 = \"\", \"\", COUNTIFS(ToDoList!$B:$B, $A61, ToDoList!$R:$R, B$2))","v":""},{"$f":"IF($A61 = \"\", \"\", COUNTIFS(ToDoList!$B:$B, $A61, ToDoList!$R:$R, C$2))","v":""},{"$f":"IF($A61 = \"\", \"\", COUNTIFS(ToDoList!$B:$B, $A61, ToDoList!$R:$R, D$2))","v":""},{"$f":"IF($A61 = \"\", \"\", COUNTIFS(ToDoList!$B:$B, $A61, ToDoList!$R:$R, E$2))","v":""},{"$f":"IF($A61 = \"\", \"\", COUNTIFS(ToDoList!$B:$B, $A61, ToDoList!$R:$R, F$2))","v":""},{"$f":"IF($A61 = \"\", \"\", COUNTIFS(ToDoList!$B:$B, $A61, ToDoList!$R:$R, G$2))","v":""},{"$f":"IF($A61 = \"\", \"\", COUNTIFS(ToDoList!$B:$B, $A61, ToDoList!$R:$R, H$2))","v":""},{"$f":"IF($A61 = \"\", \"\", COUNTIFS(ToDoList!$B:$B, $A61, ToDoList!$R:$R, I$2))","v":""},{"$f":"IF($A61 = \"\", \"\", COUNTIFS(ToDoList!$B:$B, $A61, ToDoList!$R:$R, J$2))","v":""}]
[null,{"$f":"IF($A62 = \"\", \"\", COUNTIFS(ToDoList!$B:$B, $A62, ToDoList!$R:$R, B$2))","v":""},{"$f":"IF($A62 = \"\", \"\", COUNTIFS(ToDoList!$B:$B, $A62, ToDoList!$R:$R, C$2))","v":""},{"$f":"IF($A62 = \"\", \"\", COUNTIFS(ToDoList!$B:$B, $A62, ToDoList!$R:$R, D$2))","v":""},{"$f":"IF($A62 = \"\", \"\", COUNTIFS(ToDoList!$B:$B, $A62, ToDoList!$R:$R, E$2))","v":""},{"$f":"IF($A62 = \"\", \"\", COUNTIFS(ToDoList!$B:$B, $A62, ToDoList!$R:$R, F$2))","v":""},{"$f":"IF($A62 = \"\", \"\", COUNTIFS(ToDoList!$B:$B, $A62, ToDoList!$R:$R, G$2))","v":""},{"$f":"IF($A62 = \"\", \"\", COUNTIFS(ToDoList!$B:$B, $A62, ToDoList!$R:$R, H$2))","v":""},{"$f":"IF($A62 = \"\", \"\", COUNTIFS(ToDoList!$B:$B, $A62, ToDoList!$R:$R, I$2))","v":""},{"$f":"IF($A62 = \"\", \"\", COUNTIFS(ToDoList!$B:$B, $A62, ToDoList!$R:$R, J$2))","v":""}]
[null,{"$f":"IF($A63 = \"\", \"\", COUNTIFS(ToDoList!$B:$B, $A63, ToDoList!$R:$R, B$2))","v":""},{"$f":"IF($A63 = \"\", \"\", COUNTIFS(ToDoList!$B:$B, $A63, ToDoList!$R:$R, C$2))","v":""},{"$f":"IF($A63 = \"\", \"\", COUNTIFS(ToDoList!$B:$B, $A63, ToDoList!$R:$R, D$2))","v":""},{"$f":"IF($A63 = \"\", \"\", COUNTIFS(ToDoList!$B:$B, $A63, ToDoList!$R:$R, E$2))","v":""},{"$f":"IF($A63 = \"\", \"\", COUNTIFS(ToDoList!$B:$B, $A63, ToDoList!$R:$R, F$2))","v":""},{"$f":"IF($A63 = \"\", \"\", COUNTIFS(ToDoList!$B:$B, $A63, ToDoList!$R:$R, G$2))","v":""},{"$f":"IF($A63 = \"\", \"\", COUNTIFS(ToDoList!$B:$B, $A63, ToDoList!$R:$R, H$2))","v":""},{"$f":"IF($A63 = \"\", \"\", COUNTIFS(ToDoList!$B:$B, $A63, ToDoList!$R:$R, I$2))","v":""},{"$f":"IF($A63 = \"\", \"\", COUNTIFS(ToDoList!$B:$B, $A63, ToDoList!$R:$R, J$2))","v":""}]
[null,{"$f":"IF($A64 = \"\", \"\", COUNTIFS(ToDoList!$B:$B, $A64, ToDoList!$R:$R, B$2))","v":""},{"$f":"IF($A64 = \"\", \"\", COUNTIFS(ToDoList!$B:$B, $A64, ToDoList!$R:$R, C$2))","v":""},{"$f":"IF($A64 = \"\", \"\", COUNTIFS(ToDoList!$B:$B, $A64, ToDoList!$R:$R, D$2))","v":""},{"$f":"IF($A64 = \"\", \"\", COUNTIFS(ToDoList!$B:$B, $A64, ToDoList!$R:$R, E$2))","v":""},{"$f":"IF($A64 = \"\", \"\", COUNTIFS(ToDoList!$B:$B, $A64, ToDoList!$R:$R, F$2))","v":""},{"$f":"IF($A64 = \"\", \"\", COUNTIFS(ToDoList!$B:$B, $A64, ToDoList!$R:$R, G$2))","v":""},{"$f":"IF($A64 = \"\", \"\", COUNTIFS(ToDoList!$B:$B, $A64, ToDoList!$R:$R, H$2))","v":""},{"$f":"IF($A64 = \"\", \"\", COUNTIFS(ToDoList!$B:$B, $A64, ToDoList!$R:$R, I$2))","v":""},{"$f":"IF($A64 = \"\", \"\", COUNTIFS(ToDoList!$B:$B, $A64, ToDoList!$R:$R, J$2))","v":""}]
[null,{"$f":"IF($A65 = \"\", \"\", COUNTIFS(ToDoList!$B:$B, $A65, ToDoList!$R:$R, B$2))","v":""},{"$f":"IF($A65 = \"\", \"\", COUNTIFS(ToDoList!$B:$B, $A65, ToDoList!$R:$R, C$2))","v":""},{"$f":"IF($A65 = \"\", \"\", COUNTIFS(ToDoList!$B:$B, $A65, ToDoList!$R:$R, D$2))","v":""},{"$f":"IF($A65 = \"\", \"\", COUNTIFS(ToDoList!$B:$B, $A65, ToDoList!$R:$R, E$2))","v":""},{"$f":"IF($A65 = \"\", \"\", COUNTIFS(ToDoList!$B:$B, $A65, ToDoList!$R:$R, F$2))","v":""},{"$f":"IF($A65 = \"\", \"\", COUNTIFS(ToDoList!$B:$B, $A65, ToDoList!$R:$R, G$2))","v":""},{"$f":"IF($A65 = \"\", \"\", COUNTIFS(ToDoList!$B:$B, $A65, ToDoList!$R:$R, H$2))","v":""},{"$f":"IF($A65 = \"\", \"\", COUNTIFS(ToDoList!$B:$B, $A65, ToDoList!$R:$R, I$2))","v":""},{"$f":"IF($A65 = \"\", \"\", COUNTIFS(ToDoList!$B:$B, $A65, ToDoList!$R:$R, J$2))","v":""}]
[null,{"$f":"IF($A66 = \"\", \"\", COUNTIFS(ToDoList!$B:$B, $A66, ToDoList!$R:$R, B$2))","v":""},{"$f":"IF($A66 = \"\", \"\", COUNTIFS(ToDoList!$B:$B, $A66, ToDoList!$R:$R, C$2))","v":""},{"$f":"IF($A66 = \"\", \"\", COUNTIFS(ToDoList!$B:$B, $A66, ToDoList!$R:$R, D$2))","v":""},{"$f":"IF($A66 = \"\", \"\", COUNTIFS(ToDoList!$B:$B, $A66, ToDoList!$R:$R, E$2))","v":""},{"$f":"IF($A66 = \"\", \"\", COUNTIFS(ToDoList!$B:$B, $A66, ToDoList!$R:$R, F$2))","v":""},{"$f":"IF($A66 = \"\", \"\", COUNTIFS(ToDoList!$B:$B, $A66, ToDoList!$R:$R, G$2))","v":""},{"$f":"IF($A66 = \"\", \"\", COUNTIFS(ToDoList!$B:$B, $A66, ToDoList!$R:$R, H$2))","v":""},{"$f":"IF($A66 = \"\", \"\", COUNTIFS(ToDoList!$B:$B, $A66, ToDoList!$R:$R, I$2))","v":""},{"$f":"IF($A66 = \"\", \"\", COUNTIFS(ToDoList!$B:$B, $A66, ToDoList!$R:$R, J$2))","v":""}]
[null,{"$f":"IF($A67 = \"\", \"\", COUNTIFS(ToDoList!$B:$B, $A67, ToDoList!$R:$R, B$2))","v":""},{"$f":"IF($A67 = \"\", \"\", COUNTIFS(ToDoList!$B:$B, $A67, ToDoList!$R:$R, C$2))","v":""},{"$f":"IF($A67 = \"\", \"\", COUNTIFS(ToDoList!$B:$B, $A67, ToDoList!$R:$R, D$2))","v":""},{"$f":"IF($A67 = \"\", \"\", COUNTIFS(ToDoList!$B:$B, $A67, ToDoList!$R:$R, E$2))","v":""},{"$f":"IF($A67 = \"\", \"\", COUNTIFS(ToDoList!$B:$B, $A67, ToDoList!$R:$R, F$2))","v":""},{"$f":"IF($A67 = \"\", \"\", COUNTIFS(ToDoList!$B:$B, $A67, ToDoList!$R:$R, G$2))","v":""},{"$f":"IF($A67 = \"\", \"\", COUNTIFS(ToDoList!$B:$B, $A67, ToDoList!$R:$R, H$2))","v":""},{"$f":"IF($A67 = \"\", \"\", COUNTIFS(ToDoList!$B:$B, $A67, ToDoList!$R:$R, I$2))","v":""},{"$f":"IF($A67 = \"\", \"\", COUNTIFS(ToDoList!$B:$B, $A67, ToDoList!$R:$R, J$2))","v":""}]
[null,{"$f":"IF($A68 = \"\", \"\", COUNTIFS(ToDoList!$B:$B, $A68, ToDoList!$R:$R, B$2))","v":""},{"$f":"IF($A68 = \"\", \"\", COUNTIFS(ToDoList!$B:$B, $A68, ToDoList!$R:$R, C$2))","v":""},{"$f":"IF($A68 = \"\", \"\", COUNTIFS(ToDoList!$B:$B, $A68, ToDoList!$R:$R, D$2))","v":""},{"$f":"IF($A68 = \"\", \"\", COUNTIFS(ToDoList!$B:$B, $A68, ToDoList!$R:$R, E$2))","v":""},{"$f":"IF($A68 = \"\", \"\", COUNTIFS(ToDoList!$B:$B, $A68, ToDoList!$R:$R, F$2))","v":""},{"$f":"IF($A68 = \"\", \"\", COUNTIFS(ToDoList!$B:$B, $A68, ToDoList!$R:$R, G$2))","v":""},{"$f":"IF($A68 = \"\", \"\", COUNTIFS(ToDoList!$B:$B, $A68, ToDoList!$R:$R, H$2))","v":""},{"$f":"IF($A68 = \"\", \"\", COUNTIFS(ToDoList!$B:$B, $A68, ToDoList!$R:$R, I$2))","v":""},{"$f":"IF($A68 = \"\", \"\", COUNTIFS(ToDoList!$B:$B, $A68, ToDoList!$R:$R, J$2))","v":""}]
[null,{"$f":"IF($A69 = \"\", \"\", COUNTIFS(ToDoList!$B:$B, $A69, ToDoList!$R:$R, B$2))","v":""},{"$f":"IF($A69 = \"\", \"\", COUNTIFS(ToDoList!$B:$B, $A69, ToDoList!$R:$R, C$2))","v":""},{"$f":"IF($A69 = \"\", \"\", COUNTIFS(ToDoList!$B:$B, $A69, ToDoList!$R:$R, D$2))","v":""},{"$f":"IF($A69 = \"\", \"\", COUNTIFS(ToDoList!$B:$B, $A69, ToDoList!$R:$R, E$2))","v":""},{"$f":"IF($A69 = \"\", \"\", COUNTIFS(ToDoList!$B:$B, $A69, ToDoList!$R:$R, F$2))","v":""},{"$f":"IF($A69 = \"\", \"\", COUNTIFS(ToDoList!$B:$B, $A69, ToDoList!$R:$R, G$2))","v":""},{"$f":"IF($A69 = \"\", \"\", COUNTIFS(ToDoList!$B:$B, $A69, ToDoList!$R:$R, H$2))","v":""},{"$f":"IF($A69 = \"\", \"\", COUNTIFS(ToDoList!$B:$B, $A69, ToDoList!$R:$R, I$2))","v":""},{"$f":"IF($A69 = \"\", \"\", COUNTIFS(ToDoList!$B:$B, $A69, ToDoList!$R:$R, J$2))","v":""}]
[null,{"$f":"IF($A70 = \"\", \"\", COUNTIFS(ToDoList!$B:$B, $A70, ToDoList!$R:$R, B$2))","v":""},{"$f":"IF($A70 = \"\", \"\", COUNTIFS(ToDoList!$B:$B, $A70, ToDoList!$R:$R, C$2))","v":""},{"$f":"IF($A70 = \"\", \"\", COUNTIFS(ToDoList!$B:$B, $A70, ToDoList!$R:$R, D$2))","v":""},{"$f":"IF($A70 = \"\", \"\", COUNTIFS(ToDoList!$B:$B, $A70, ToDoList!$R:$R, E$2))","v":""},{"$f":"IF($A70 = \"\", \"\", COUNTIFS(ToDoList!$B:$B, $A70, ToDoList!$R:$R, F$2))","v":""},{"$f":"IF($A70 = \"\", \"\", COUNTIFS(ToDoList!$B:$B, $A70, ToDoList!$R:$R, G$2))","v":""},{"$f":"IF($A70 = \"\", \"\", COUNTIFS(ToDoList!$B:$B, $A70, ToDoList!$R:$R, H$2))","v":""},{"$f":"IF($A70 = \"\", \"\", COUNTIFS(ToDoList!$B:$B, $A70, ToDoList!$R:$R, I$2))","v":""},{"$f":"IF($A70 = \"\", \"\", COUNTIFS(ToDoList!$B:$B, $A70, ToDoList!$R:$R, J$2))","v":""}]
[null,{"$f":"IF($A71 = \"\", \"\", COUNTIFS(ToDoList!$B:$B, $A71, ToDoList!$R:$R, B$2))","v":""},{"$f":"IF($A71 = \"\", \"\", COUNTIFS(ToDoList!$B:$B, $A71, ToDoList!$R:$R, C$2))","v":""},{"$f":"IF($A71 = \"\", \"\", COUNTIFS(ToDoList!$B:$B, $A71, ToDoList!$R:$R, D$2))","v":""},{"$f":"IF($A71 = \"\", \"\", COUNTIFS(ToDoList!$B:$B, $A71, ToDoList!$R:$R, E$2))","v":""},{"$f":"IF($A71 = \"\", \"\", COUNTIFS(ToDoList!$B:$B, $A71, ToDoList!$R:$R, F$2))","v":""},{"$f":"IF($A71 = \"\", \"\", COUNTIFS(ToDoList!$B:$B, $A71, ToDoList!$R:$R, G$2))","v":""},{"$f":"IF($A71 = \"\", \"\", COUNTIFS(ToDoList!$B:$B, $A71, ToDoList!$R:$R, H$2))","v":""},{"$f":"IF($A71 = \"\", \"\", COUNTIFS(ToDoList!$B:$B, $A71, ToDoList!$R:$R, I$2))","v":""},{"$f":"IF($A71 = \"\", \"\", COUNTIFS(ToDoList!$B:$B, $A71, ToDoList!$R:$R, J$2))","v":""}]
[null,{"$f":"IF($A72 = \"\", \"\", COUNTIFS(ToDoList!$B:$B, $A72, ToDoList!$R:$R, B$2))","v":""},{"$f":"IF($A72 = \"\", \"\", COUNTIFS(ToDoList!$B:$B, $A72, ToDoList!$R:$R, C$2))","v":""},{"$f":"IF($A72 = \"\", \"\", COUNTIFS(ToDoList!$B:$B, $A72, ToDoList!$R:$R, D$2))","v":""},{"$f":"IF($A72 = \"\", \"\", COUNTIFS(ToDoList!$B:$B, $A72, ToDoList!$R:$R, E$2))","v":""},{"$f":"IF($A72 = \"\", \"\", COUNTIFS(ToDoList!$B:$B, $A72, ToDoList!$R:$R, F$2))","v":""},{"$f":"IF($A72 = \"\", \"\", COUNTIFS(ToDoList!$B:$B, $A72, ToDoList!$R:$R, G$2))","v":""},{"$f":"IF($A72 = \"\", \"\", COUNTIFS(ToDoList!$B:$B, $A72, ToDoList!$R:$R, H$2))","v":""},{"$f":"IF($A72 = \"\", \"\", COUNTIFS(ToDoList!$B:$B, $A72, ToDoList!$R:$R, I$2))","v":""},{"$f":"IF($A72 = \"\", \"\", COUNTIFS(ToDoList!$B:$B, $A72, ToDoList!$R:$R, J$2))","v":""}]
[null,{"$f":"IF($A73 = \"\", \"\", COUNTIFS(ToDoList!$B:$B, $A73, ToDoList!$R:$R, B$2))","v":""},{"$f":"IF($A73 = \"\", \"\", COUNTIFS(ToDoList!$B:$B, $A73, ToDoList!$R:$R, C$2))","v":""},{"$f":"IF($A73 = \"\", \"\", COUNTIFS(ToDoList!$B:$B, $A73, ToDoList!$R:$R, D$2))","v":""},{"$f":"IF($A73 = \"\", \"\", COUNTIFS(ToDoList!$B:$B, $A73, ToDoList!$R:$R, E$2))","v":""},{"$f":"IF($A73 = \"\", \"\", COUNTIFS(ToDoList!$B:$B, $A73, ToDoList!$R:$R, F$2))","v":""},{"$f":"IF($A73 = \"\", \"\", COUNTIFS(ToDoList!$B:$B, $A73, ToDoList!$R:$R, G$2))","v":""},{"$f":"IF($A73 = \"\", \"\", COUNTIFS(ToDoList!$B:$B, $A73, ToDoList!$R:$R, H$2))","v":""},{"$f":"IF($A73 = \"\", \"\", COUNTIFS(ToDoList!$B:$B, $A73, ToDoList!$R:$R, I$2))","v":""},{"$f":"IF($A73 = \"\", \"\", COUNTIFS(ToDoList!$B:$B, $A73, ToDoList!$R:$R, J$2))","v":""}]
[null,{"$f":"IF($A74 = \"\", \"\", COUNTIFS(ToDoList!$B:$B, $A74, ToDoList!$R:$R, B$2))","v":""},{"$f":"IF($A74 = \"\", \"\", COUNTIFS(ToDoList!$B:$B, $A74, ToDoList!$R:$R, C$2))","v":""},{"$f":"IF($A74 = \"\", \"\", COUNTIFS(ToDoList!$B:$B, $A74, ToDoList!$R:$R, D$2))","v":""},{"$f":"IF($A74 = \"\", \"\", COUNTIFS(ToDoList!$B:$B, $A74, ToDoList!$R:$R, E$2))","v":""},{"$f":"IF($A74 = \"\", \"\", COUNTIFS(ToDoList!$B:$B, $A74, ToDoList!$R:$R, F$2))","v":""},{"$f":"IF($A74 = \"\", \"\", COUNTIFS(ToDoList!$B:$B, $A74, ToDoList!$R:$R, G$2))","v":""},{"$f":"IF($A74 = \"\", \"\", COUNTIFS(ToDoList!$B:$B, $A74, ToDoList!$R:$R, H$2))","v":""},{"$f":"IF($A74 = \"\", \"\", COUNTIFS(ToDoList!$B:$B, $A74, ToDoList!$R:$R, I$2))","v":""},{"$f":"IF($A74 = \"\", \"\", COUNTIFS(ToDoList!$B:$B, $A74, ToDoList!$R:$R, J$2))","v":""}]
[null,{"$f":"IF($A75 = \"\", \"\", COUNTIFS(ToDoList!$B:$B, $A75, ToDoList!$R:$R, B$2))","v":""},{"$f":"IF($A75 = \"\", \"\", COUNTIFS(ToDoList!$B:$B, $A75, ToDoList!$R:$R, C$2))","v":""},{"$f":"IF($A75 = \"\", \"\", COUNTIFS(ToDoList!$B:$B, $A75, ToDoList!$R:$R, D$2))","v":""},{"$f":"IF($A75 = \"\", \"\", COUNTIFS(ToDoList!$B:$B, $A75, ToDoList!$R:$R, E$2))","v":""},{"$f":"IF($A75 = \"\", \"\", COUNTIFS(ToDoList!$B:$B, $A75, ToDoList!$R:$R, F$2))","v":""},{"$f":"IF($A75 = \"\", \"\", COUNTIFS(ToDoList!$B:$B, $A75, ToDoList!$R:$R, G$2))","v":""},{"$f":"IF($A75 = \"\", \"\", COUNTIFS(ToDoList!$B:$B, $A75, ToDoList!$R:$R, H$2))","v":""},{"$f":"IF($A75 = \"\", \"\", COUNTIFS(ToDoList!$B:$B, $A75, ToDoList!$R:$R, I$2))","v":""},{"$f":"IF($A75 = \"\", \"\", COUNTIFS(ToDoList!$B:$B, $A75, ToDoList!$R:$R, J$2))","v":""}]
[null,{"$f":"IF($A76 = \"\", \"\", COUNTIFS(ToDoList!$B:$B, $A76, ToDoList!$R:$R, B$2))","v":""},{"$f":"IF($A76 = \"\", \"\", COUNTIFS(ToDoList!$B:$B, $A76, ToDoList!$R:$R, C$2))","v":""},{"$f":"IF($A76 = \"\", \"\", COUNTIFS(ToDoList!$B:$B, $A76, ToDoList!$R:$R, D$2))","v":""},{"$f":"IF($A76 = \"\", \"\", COUNTIFS(ToDoList!$B:$B, $A76, ToDoList!$R:$R, E$2))","v":""},{"$f":"IF($A76 = \"\", \"\", COUNTIFS(ToDoList!$B:$B, $A76, ToDoList!$R:$R, F$2))","v":""},{"$f":"IF($A76 = \"\", \"\", COUNTIFS(ToDoList!$B:$B, $A76, ToDoList!$R:$R, G$2))","v":""},{"$f":"IF($A76 = \"\", \"\", COUNTIFS(ToDoList!$B:$B, $A76, ToDoList!$R:$R, H$2))","v":""},{"$f":"IF($A76 = \"\", \"\", COUNTIFS(ToDoList!$B:$B, $A76, ToDoList!$R:$R, I$2))","v":""},{"$f":"IF($A76 = \"\", \"\", COUNTIFS(ToDoList!$B:$B, $A76, ToDoList!$R:$R, J$2))","v":""}]
[null,{"$f":"IF($A77 = \"\", \"\", COUNTIFS(ToDoList!$B:$B, $A77, ToDoList!$R:$R, B$2))","v":""},{"$f":"IF($A77 = \"\", \"\", COUNTIFS(ToDoList!$B:$B, $A77, ToDoList!$R:$R, C$2))","v":""},{"$f":"IF($A77 = \"\", \"\", COUNTIFS(ToDoList!$B:$B, $A77, ToDoList!$R:$R, D$2))","v":""},{"$f":"IF($A77 = \"\", \"\", COUNTIFS(ToDoList!$B:$B, $A77, ToDoList!$R:$R, E$2))","v":""},{"$f":"IF($A77 = \"\", \"\", COUNTIFS(ToDoList!$B:$B, $A77, ToDoList!$R:$R, F$2))","v":""},{"$f":"IF($A77 = \"\", \"\", COUNTIFS(ToDoList!$B:$B, $A77, ToDoList!$R:$R, G$2))","v":""},{"$f":"IF($A77 = \"\", \"\", COUNTIFS(ToDoList!$B:$B, $A77, ToDoList!$R:$R, H$2))","v":""},{"$f":"IF($A77 = \"\", \"\", COUNTIFS(ToDoList!$B:$B, $A77, ToDoList!$R:$R, I$2))","v":""},{"$f":"IF($A77 = \"\", \"\", COUNTIFS(ToDoList!$B:$B, $A77, ToDoList!$R:$R, J$2))","v":""}]
[null,{"$f":"IF($A78 = \"\", \"\", COUNTIFS(ToDoList!$B:$B, $A78, ToDoList!$R:$R, B$2))","v":""},{"$f":"IF($A78 = \"\", \"\", COUNTIFS(ToDoList!$B:$B, $A78, ToDoList!$R:$R, C$2))","v":""},{"$f":"IF($A78 = \"\", \"\", COUNTIFS(ToDoList!$B:$B, $A78, ToDoList!$R:$R, D$2))","v":""},{"$f":"IF($A78 = \"\", \"\", COUNTIFS(ToDoList!$B:$B, $A78, ToDoList!$R:$R, E$2))","v":""},{"$f":"IF($A78 = \"\", \"\", COUNTIFS(ToDoList!$B:$B, $A78, ToDoList!$R:$R, F$2))","v":""},{"$f":"IF($A78 = \"\", \"\", COUNTIFS(ToDoList!$B:$B, $A78, ToDoList!$R:$R, G$2))","v":""},{"$f":"IF($A78 = \"\", \"\", COUNTIFS(ToDoList!$B:$B, $A78, ToDoList!$R:$R, H$2))","v":""},{"$f":"IF($A78 = \"\", \"\", COUNTIFS(ToDoList!$B:$B, $A78, ToDoList!$R:$R, I$2))","v":""},{"$f":"IF($A78 = \"\", \"\", COUNTIFS(ToDoList!$B:$B, $A78, ToDoList!$R:$R, J$2))","v":""}]
[null,{"$f":"IF($A79 = \"\", \"\", COUNTIFS(ToDoList!$B:$B, $A79, ToDoList!$R:$R, B$2))","v":""},{"$f":"IF($A79 = \"\", \"\", COUNTIFS(ToDoList!$B:$B, $A79, ToDoList!$R:$R, C$2))","v":""},{"$f":"IF($A79 = \"\", \"\", COUNTIFS(ToDoList!$B:$B, $A79, ToDoList!$R:$R, D$2))","v":""},{"$f":"IF($A79 = \"\", \"\", COUNTIFS(ToDoList!$B:$B, $A79, ToDoList!$R:$R, E$2))","v":""},{"$f":"IF($A79 = \"\", \"\", COUNTIFS(ToDoList!$B:$B, $A79, ToDoList!$R:$R, F$2))","v":""},{"$f":"IF($A79 = \"\", \"\", COUNTIFS(ToDoList!$B:$B, $A79, ToDoList!$R:$R, G$2))","v":""},{"$f":"IF($A79 = \"\", \"\", COUNTIFS(ToDoList!$B:$B, $A79, ToDoList!$R:$R, H$2))","v":""},{"$f":"IF($A79 = \"\", \"\", COUNTIFS(ToDoList!$B:$B, $A79, ToDoList!$R:$R, I$2))","v":""},{"$f":"IF($A79 = \"\", \"\", COUNTIFS(ToDoList!$B:$B, $A79, ToDoList!$R:$R, J$2))","v":""}]
[null,{"$f":"IF($A80 = \"\", \"\", COUNTIFS(ToDoList!$B:$B, $A80, ToDoList!$R:$R, B$2))","v":""},{"$f":"IF($A80 = \"\", \"\", COUNTIFS(ToDoList!$B:$B, $A80, ToDoList!$R:$R, C$2))","v":""},{"$f":"IF($A80 = \"\", \"\", COUNTIFS(ToDoList!$B:$B, $A80, ToDoList!$R:$R, D$2))","v":""},{"$f":"IF($A80 = \"\", \"\", COUNTIFS(ToDoList!$B:$B, $A80, ToDoList!$R:$R, E$2))","v":""},{"$f":"IF($A80 = \"\", \"\", COUNTIFS(ToDoList!$B:$B, $A80, ToDoList!$R:$R, F$2))","v":""},{"$f":"IF($A80 = \"\", \"\", COUNTIFS(ToDoList!$B:$B, $A80, ToDoList!$R:$R, G$2))","v":""},{"$f":"IF($A80 = \"\", \"\", COUNTIFS(ToDoList!$B:$B, $A80, ToDoList!$R:$R, H$2))","v":""},{"$f":"IF($A80 = \"\", \"\", COUNTIFS(ToDoList!$B:$B, $A80, ToDoList!$R:$R, I$2))","v":""},{"$f":"IF($A80 = \"\", \"\", COUNTIFS(ToDoList!$B:$B, $A80, ToDoList!$R:$R, J$2))","v":""}]
[null,{"$f":"IF($A81 = \"\", \"\", COUNTIFS(ToDoList!$B:$B, $A81, ToDoList!$R:$R, B$2))","v":""},{"$f":"IF($A81 = \"\", \"\", COUNTIFS(ToDoList!$B:$B, $A81, ToDoList!$R:$R, C$2))","v":""},{"$f":"IF($A81 = \"\", \"\", COUNTIFS(ToDoList!$B:$B, $A81, ToDoList!$R:$R, D$2))","v":""},{"$f":"IF($A81 = \"\", \"\", COUNTIFS(ToDoList!$B:$B, $A81, ToDoList!$R:$R, E$2))","v":""},{"$f":"IF($A81 = \"\", \"\", COUNTIFS(ToDoList!$B:$B, $A81, ToDoList!$R:$R, F$2))","v":""},{"$f":"IF($A81 = \"\", \"\", COUNTIFS(ToDoList!$B:$B, $A81, ToDoList!$R:$R, G$2))","v":""},{"$f":"IF($A81 = \"\", \"\", COUNTIFS(ToDoList!$B:$B, $A81, ToDoList!$R:$R, H$2))","v":""},{"$f":"IF($A81 = \"\", \"\", COUNTIFS(ToDoList!$B:$B, $A81, ToDoList!$R:$R, I$2))","v":""},{"$f":"IF($A81 = \"\", \"\", COUNTIFS(ToDoList!$B:$B, $A81, ToDoList!$R:$R, J$2))","v":""}]
[null,{"$f":"IF($A82 = \"\", \"\", COUNTIFS(ToDoList!$B:$B, $A82, ToDoList!$R:$R, B$2))","v":""},{"$f":"IF($A82 = \"\", \"\", COUNTIFS(ToDoList!$B:$B, $A82, ToDoList!$R:$R, C$2))","v":""},{"$f":"IF($A82 = \"\", \"\", COUNTIFS(ToDoList!$B:$B, $A82, ToDoList!$R:$R, D$2))","v":""},{"$f":"IF($A82 = \"\", \"\", COUNTIFS(ToDoList!$B:$B, $A82, ToDoList!$R:$R, E$2))","v":""},{"$f":"IF($A82 = \"\", \"\", COUNTIFS(ToDoList!$B:$B, $A82, ToDoList!$R:$R, F$2))","v":""},{"$f":"IF($A82 = \"\", \"\", COUNTIFS(ToDoList!$B:$B, $A82, ToDoList!$R:$R, G$2))","v":""},{"$f":"IF($A82 = \"\", \"\", COUNTIFS(ToDoList!$B:$B, $A82, ToDoList!$R:$R, H$2))","v":""},{"$f":"IF($A82 = \"\", \"\", COUNTIFS(ToDoList!$B:$B, $A82, ToDoList!$R:$R, I$2))","v":""},{"$f":"IF($A82 = \"\", \"\", COUNTIFS(ToDoList!$B:$B, $A82, ToDoList!$R:$R, J$2))","v":""}]
[null,{"$f":"IF($A83 = \"\", \"\", COUNTIFS(ToDoList!$B:$B, $A83, ToDoList!$R:$R, B$2))","v":""},{"$f":"IF($A83 = \"\", \"\", COUNTIFS(ToDoList!$B:$B, $A83, ToDoList!$R:$R, C$2))","v":""},{"$f":"IF($A83 = \"\", \"\", COUNTIFS(ToDoList!$B:$B, $A83, ToDoList!$R:$R, D$2))","v":""},{"$f":"IF($A83 = \"\", \"\", COUNTIFS(ToDoList!$B:$B, $A83, ToDoList!$R:$R, E$2))","v":""},{"$f":"IF($A83 = \"\", \"\", COUNTIFS(ToDoList!$B:$B, $A83, ToDoList!$R:$R, F$2))","v":""},{"$f":"IF($A83 = \"\", \"\", COUNTIFS(ToDoList!$B:$B, $A83, ToDoList!$R:$R, G$2))","v":""},{"$f":"IF($A83 = \"\", \"\", COUNTIFS(ToDoList!$B:$B, $A83, ToDoList!$R:$R, H$2))","v":""},{"$f":"IF($A83 = \"\", \"\", COUNTIFS(ToDoList!$B:$B, $A83, ToDoList!$R:$R, I$2))","v":""},{"$f":"IF($A83 = \"\", \"\", COUNTIFS(ToDoList!$B:$B, $A83, ToDoList!$R:$R, J$2))","v":""}]
[null,{"$f":"IF($A84 = \"\", \"\", COUNTIFS(ToDoList!$B:$B, $A84, ToDoList!$R:$R, B$2))","v":""},{"$f":"IF($A84 = \"\", \"\", COUNTIFS(ToDoList!$B:$B, $A84, ToDoList!$R:$R, C$2))","v":""},{"$f":"IF($A84 = \"\", \"\", COUNTIFS(ToDoList!$B:$B, $A84, ToDoList!$R:$R, D$2))","v":""},{"$f":"IF($A84 = \"\", \"\", COUNTIFS(ToDoList!$B:$B, $A84, ToDoList!$R:$R, E$2))","v":""},{"$f":"IF($A84 = \"\", \"\", COUNTIFS(ToDoList!$B:$B, $A84, ToDoList!$R:$R, F$2))","v":""},{"$f":"IF($A84 = \"\", \"\", COUNTIFS(ToDoList!$B:$B, $A84, ToDoList!$R:$R, G$2))","v":""},{"$f":"IF($A84 = \"\", \"\", COUNTIFS(ToDoList!$B:$B, $A84, ToDoList!$R:$R, H$2))","v":""},{"$f":"IF($A84 = \"\", \"\", COUNTIFS(ToDoList!$B:$B, $A84, ToDoList!$R:$R, I$2))","v":""},{"$f":"IF($A84 = \"\", \"\", COUNTIFS(ToDoList!$B:$B, $A84, ToDoList!$R:$R, J$2))","v":""}]
[null,{"$f":"IF($A85 = \"\", \"\", COUNTIFS(ToDoList!$B:$B, $A85, ToDoList!$R:$R, B$2))","v":""},{"$f":"IF($A85 = \"\", \"\", COUNTIFS(ToDoList!$B:$B, $A85, ToDoList!$R:$R, C$2))","v":""},{"$f":"IF($A85 = \"\", \"\", COUNTIFS(ToDoList!$B:$B, $A85, ToDoList!$R:$R, D$2))","v":""},{"$f":"IF($A85 = \"\", \"\", COUNTIFS(ToDoList!$B:$B, $A85, ToDoList!$R:$R, E$2))","v":""},{"$f":"IF($A85 = \"\", \"\", COUNTIFS(ToDoList!$B:$B, $A85, ToDoList!$R:$R, F$2))","v":""},{"$f":"IF($A85 = \"\", \"\", COUNTIFS(ToDoList!$B:$B, $A85, ToDoList!$R:$R, G$2))","v":""},{"$f":"IF($A85 = \"\", \"\", COUNTIFS(ToDoList!$B:$B, $A85, ToDoList!$R:$R, H$2))","v":""},{"$f":"IF($A85 = \"\", \"\", COUNTIFS(ToDoList!$B:$B, $A85, ToDoList!$R:$R, I$2))","v":""},{"$f":"IF($A85 = \"\", \"\", COUNTIFS(ToDoList!$B:$B, $A85, ToDoList!$R:$R, J$2))","v":""}]
[null,{"$f":"IF($A86 = \"\", \"\", COUNTIFS(ToDoList!$B:$B, $A86, ToDoList!$R:$R, B$2))","v":""},{"$f":"IF($A86 = \"\", \"\", COUNTIFS(ToDoList!$B:$B, $A86, ToDoList!$R:$R, C$2))","v":""},{"$f":"IF($A86 = \"\", \"\", COUNTIFS(ToDoList!$B:$B, $A86, ToDoList!$R:$R, D$2))","v":""},{"$f":"IF($A86 = \"\", \"\", COUNTIFS(ToDoList!$B:$B, $A86, ToDoList!$R:$R, E$2))","v":""},{"$f":"IF($A86 = \"\", \"\", COUNTIFS(ToDoList!$B:$B, $A86, ToDoList!$R:$R, F$2))","v":""},{"$f":"IF($A86 = \"\", \"\", COUNTIFS(ToDoList!$B:$B, $A86, ToDoList!$R:$R, G$2))","v":""},{"$f":"IF($A86 = \"\", \"\", COUNTIFS(ToDoList!$B:$B, $A86, ToDoList!$R:$R, H$2))","v":""},{"$f":"IF($A86 = \"\", \"\", COUNTIFS(ToDoList!$B:$B, $A86, ToDoList!$R:$R, I$2))","v":""},{"$f":"IF($A86 = \"\", \"\", COUNTIFS(ToDoList!$B:$B, $A86, ToDoList!$R:$R, J$2))","v":""}]
[null,{"$f":"IF($A87 = \"\", \"\", COUNTIFS(ToDoList!$B:$B, $A87, ToDoList!$R:$R, B$2))","v":""},{"$f":"IF($A87 = \"\", \"\", COUNTIFS(ToDoList!$B:$B, $A87, ToDoList!$R:$R, C$2))","v":""},{"$f":"IF($A87 = \"\", \"\", COUNTIFS(ToDoList!$B:$B, $A87, ToDoList!$R:$R, D$2))","v":""},{"$f":"IF($A87 = \"\", \"\", COUNTIFS(ToDoList!$B:$B, $A87, ToDoList!$R:$R, E$2))","v":""},{"$f":"IF($A87 = \"\", \"\", COUNTIFS(ToDoList!$B:$B, $A87, ToDoList!$R:$R, F$2))","v":""},{"$f":"IF($A87 = \"\", \"\", COUNTIFS(ToDoList!$B:$B, $A87, ToDoList!$R:$R, G$2))","v":""},{"$f":"IF($A87 = \"\", \"\", COUNTIFS(ToDoList!$B:$B, $A87, ToDoList!$R:$R, H$2))","v":""},{"$f":"IF($A87 = \"\", \"\", COUNTIFS(ToDoList!$B:$B, $A87, ToDoList!$R:$R, I$2))","v":""},{"$f":"IF($A87 = \"\", \"\", COUNTIFS(ToDoList!$B:$B, $A87, ToDoList!$R:$R, J$2))","v":""}]
[null,{"$f":"IF($A88 = \"\", \"\", COUNTIFS(ToDoList!$B:$B, $A88, ToDoList!$R:$R, B$2))","v":""},{"$f":"IF($A88 = \"\", \"\", COUNTIFS(ToDoList!$B:$B, $A88, ToDoList!$R:$R, C$2))","v":""},{"$f":"IF($A88 = \"\", \"\", COUNTIFS(ToDoList!$B:$B, $A88, ToDoList!$R:$R, D$2))","v":""},{"$f":"IF($A88 = \"\", \"\", COUNTIFS(ToDoList!$B:$B, $A88, ToDoList!$R:$R, E$2))","v":""},{"$f":"IF($A88 = \"\", \"\", COUNTIFS(ToDoList!$B:$B, $A88, ToDoList!$R:$R, F$2))","v":""},{"$f":"IF($A88 = \"\", \"\", COUNTIFS(ToDoList!$B:$B, $A88, ToDoList!$R:$R, G$2))","v":""},{"$f":"IF($A88 = \"\", \"\", COUNTIFS(ToDoList!$B:$B, $A88, ToDoList!$R:$R, H$2))","v":""},{"$f":"IF($A88 = \"\", \"\", COUNTIFS(ToDoList!$B:$B, $A88, ToDoList!$R:$R, I$2))","v":""},{"$f":"IF($A88 = \"\", \"\", COUNTIFS(ToDoList!$B:$B, $A88, ToDoList!$R:$R, J$2))","v":""}]
[null,{"$f":"IF($A89 = \"\", \"\", COUNTIFS(ToDoList!$B:$B, $A89, ToDoList!$R:$R, B$2))","v":""},{"$f":"IF($A89 = \"\", \"\", COUNTIFS(ToDoList!$B:$B, $A89, ToDoList!$R:$R, C$2))","v":""},{"$f":"IF($A89 = \"\", \"\", COUNTIFS(ToDoList!$B:$B, $A89, ToDoList!$R:$R, D$2))","v":""},{"$f":"IF($A89 = \"\", \"\", COUNTIFS(ToDoList!$B:$B, $A89, ToDoList!$R:$R, E$2))","v":""},{"$f":"IF($A89 = \"\", \"\", COUNTIFS(ToDoList!$B:$B, $A89, ToDoList!$R:$R, F$2))","v":""},{"$f":"IF($A89 = \"\", \"\", COUNTIFS(ToDoList!$B:$B, $A89, ToDoList!$R:$R, G$2))","v":""},{"$f":"IF($A89 = \"\", \"\", COUNTIFS(ToDoList!$B:$B, $A89, ToDoList!$R:$R, H$2))","v":""},{"$f":"IF($A89 = \"\", \"\", COUNTIFS(ToDoList!$B:$B, $A89, ToDoList!$R:$R, I$2))","v":""},{"$f":"IF($A89 = \"\", \"\", COUNTIFS(ToDoList!$B:$B, $A89, ToDoList!$R:$R, J$2))","v":""}]
[null,{"$f":"IF($A90 = \"\", \"\", COUNTIFS(ToDoList!$B:$B, $A90, ToDoList!$R:$R, B$2))","v":""},{"$f":"IF($A90 = \"\", \"\", COUNTIFS(ToDoList!$B:$B, $A90, ToDoList!$R:$R, C$2))","v":""},{"$f":"IF($A90 = \"\", \"\", COUNTIFS(ToDoList!$B:$B, $A90, ToDoList!$R:$R, D$2))","v":""},{"$f":"IF($A90 = \"\", \"\", COUNTIFS(ToDoList!$B:$B, $A90, ToDoList!$R:$R, E$2))","v":""},{"$f":"IF($A90 = \"\", \"\", COUNTIFS(ToDoList!$B:$B, $A90, ToDoList!$R:$R, F$2))","v":""},{"$f":"IF($A90 = \"\", \"\", COUNTIFS(ToDoList!$B:$B, $A90, ToDoList!$R:$R, G$2))","v":""},{"$f":"IF($A90 = \"\", \"\", COUNTIFS(ToDoList!$B:$B, $A90, ToDoList!$R:$R, H$2))","v":""},{"$f":"IF($A90 = \"\", \"\", COUNTIFS(ToDoList!$B:$B, $A90, ToDoList!$R:$R, I$2))","v":""},{"$f":"IF($A90 = \"\", \"\", COUNTIFS(ToDoList!$B:$B, $A90, ToDoList!$R:$R, J$2))","v":""}]
[null,{"$f":"IF($A91 = \"\", \"\", COUNTIFS(ToDoList!$B:$B, $A91, ToDoList!$R:$R, B$2))","v":""},{"$f":"IF($A91 = \"\", \"\", COUNTIFS(ToDoList!$B:$B, $A91, ToDoList!$R:$R, C$2))","v":""},{"$f":"IF($A91 = \"\", \"\", COUNTIFS(ToDoList!$B:$B, $A91, ToDoList!$R:$R, D$2))","v":""},{"$f":"IF($A91 = \"\", \"\", COUNTIFS(ToDoList!$B:$B, $A91, ToDoList!$R:$R, E$2))","v":""},{"$f":"IF($A91 = \"\", \"\", COUNTIFS(ToDoList!$B:$B, $A91, ToDoList!$R:$R, F$2))","v":""},{"$f":"IF($A91 = \"\", \"\", COUNTIFS(ToDoList!$B:$B, $A91, ToDoList!$R:$R, G$2))","v":""},{"$f":"IF($A91 = \"\", \"\", COUNTIFS(ToDoList!$B:$B, $A91, ToDoList!$R:$R, H$2))","v":""},{"$f":"IF($A91 = \"\", \"\", COUNTIFS(ToDoList!$B:$B, $A91, ToDoList!$R:$R, I$2))","v":""},{"$f":"IF($A91 = \"\", \"\", COUNTIFS(ToDoList!$B:$B, $A91, ToDoList!$R:$R, J$2))","v":""}]
[null,{"$f":"IF($A92 = \"\", \"\", COUNTIFS(ToDoList!$B:$B, $A92, ToDoList!$R:$R, B$2))","v":""},{"$f":"IF($A92 = \"\", \"\", COUNTIFS(ToDoList!$B:$B, $A92, ToDoList!$R:$R, C$2))","v":""},{"$f":"IF($A92 = \"\", \"\", COUNTIFS(ToDoList!$B:$B, $A92, ToDoList!$R:$R, D$2))","v":""},{"$f":"IF($A92 = \"\", \"\", COUNTIFS(ToDoList!$B:$B, $A92, ToDoList!$R:$R, E$2))","v":""},{"$f":"IF($A92 = \"\", \"\", COUNTIFS(ToDoList!$B:$B, $A92, ToDoList!$R:$R, F$2))","v":""},{"$f":"IF($A92 = \"\", \"\", COUNTIFS(ToDoList!$B:$B, $A92, ToDoList!$R:$R, G$2))","v":""},{"$f":"IF($A92 = \"\", \"\", COUNTIFS(ToDoList!$B:$B, $A92, ToDoList!$R:$R, H$2))","v":""},{"$f":"IF($A92 = \"\", \"\", COUNTIFS(ToDoList!$B:$B, $A92, ToDoList!$R:$R, I$2))","v":""},{"$f":"IF($A92 = \"\", \"\", COUNTIFS(ToDoList!$B:$B, $A92, ToDoList!$R:$R, J$2))","v":""}]
[null,{"$f":"IF($A93 = \"\", \"\", COUNTIFS(ToDoList!$B:$B, $A93, ToDoList!$R:$R, B$2))","v":""},{"$f":"IF($A93 = \"\", \"\", COUNTIFS(ToDoList!$B:$B, $A93, ToDoList!$R:$R, C$2))","v":""},{"$f":"IF($A93 = \"\", \"\", COUNTIFS(ToDoList!$B:$B, $A93, ToDoList!$R:$R, D$2))","v":""},{"$f":"IF($A93 = \"\", \"\", COUNTIFS(ToDoList!$B:$B, $A93, ToDoList!$R:$R, E$2))","v":""},{"$f":"IF($A93 = \"\", \"\", COUNTIFS(ToDoList!$B:$B, $A93, ToDoList!$R:$R, F$2))","v":""},{"$f":"IF($A93 = \"\", \"\", COUNTIFS(ToDoList!$B:$B, $A93, ToDoList!$R:$R, G$2))","v":""},{"$f":"IF($A93 = \"\", \"\", COUNTIFS(ToDoList!$B:$B, $A93, ToDoList!$R:$R, H$2))","v":""},{"$f":"IF($A93 = \"\", \"\", COUNTIFS(ToDoList!$B:$B, $A93, ToDoList!$R:$R, I$2))","v":""},{"$f":"IF($A93 = \"\", \"\", COUNTIFS(ToDoList!$B:$B, $A93, ToDoList!$R:$R, J$2))","v":""}]
[null,{"$f":"IF($A94 = \"\", \"\", COUNTIFS(ToDoList!$B:$B, $A94, ToDoList!$R:$R, B$2))","v":""},{"$f":"IF($A94 = \"\", \"\", COUNTIFS(ToDoList!$B:$B, $A94, ToDoList!$R:$R, C$2))","v":""},{"$f":"IF($A94 = \"\", \"\", COUNTIFS(ToDoList!$B:$B, $A94, ToDoList!$R:$R, D$2))","v":""},{"$f":"IF($A94 = \"\", \"\", COUNTIFS(ToDoList!$B:$B, $A94, ToDoList!$R:$R, E$2))","v":""},{"$f":"IF($A94 = \"\", \"\", COUNTIFS(ToDoList!$B:$B, $A94, ToDoList!$R:$R, F$2))","v":""},{"$f":"IF($A94 = \"\", \"\", COUNTIFS(ToDoList!$B:$B, $A94, ToDoList!$R:$R, G$2))","v":""},{"$f":"IF($A94 = \"\", \"\", COUNTIFS(ToDoList!$B:$B, $A94, ToDoList!$R:$R, H$2))","v":""},{"$f":"IF($A94 = \"\", \"\", COUNTIFS(ToDoList!$B:$B, $A94, ToDoList!$R:$R, I$2))","v":""},{"$f":"IF($A94 = \"\", \"\", COUNTIFS(ToDoList!$B:$B, $A94, ToDoList!$R:$R, J$2))","v":""}]
[null,{"$f":"IF($A95 = \"\", \"\", COUNTIFS(ToDoList!$B:$B, $A95, ToDoList!$R:$R, B$2))","v":""},{"$f":"IF($A95 = \"\", \"\", COUNTIFS(ToDoList!$B:$B, $A95, ToDoList!$R:$R, C$2))","v":""},{"$f":"IF($A95 = \"\", \"\", COUNTIFS(ToDoList!$B:$B, $A95, ToDoList!$R:$R, D$2))","v":""},{"$f":"IF($A95 = \"\", \"\", COUNTIFS(ToDoList!$B:$B, $A95, ToDoList!$R:$R, E$2))","v":""},{"$f":"IF($A95 = \"\", \"\", COUNTIFS(ToDoList!$B:$B, $A95, ToDoList!$R:$R, F$2))","v":""},{"$f":"IF($A95 = \"\", \"\", COUNTIFS(ToDoList!$B:$B, $A95, ToDoList!$R:$R, G$2))","v":""},{"$f":"IF($A95 = \"\", \"\", COUNTIFS(ToDoList!$B:$B, $A95, ToDoList!$R:$R, H$2))","v":""},{"$f":"IF($A95 = \"\", \"\", COUNTIFS(ToDoList!$B:$B, $A95, ToDoList!$R:$R, I$2))","v":""},{"$f":"IF($A95 = \"\", \"\", COUNTIFS(ToDoList!$B:$B, $A95, ToDoList!$R:$R, J$2))","v":""}]
[null,{"$f":"IF($A96 = \"\", \"\", COUNTIFS(ToDoList!$B:$B, $A96, ToDoList!$R:$R, B$2))","v":""},{"$f":"IF($A96 = \"\", \"\", COUNTIFS(ToDoList!$B:$B, $A96, ToDoList!$R:$R, C$2))","v":""},{"$f":"IF($A96 = \"\", \"\", COUNTIFS(ToDoList!$B:$B, $A96, ToDoList!$R:$R, D$2))","v":""},{"$f":"IF($A96 = \"\", \"\", COUNTIFS(ToDoList!$B:$B, $A96, ToDoList!$R:$R, E$2))","v":""},{"$f":"IF($A96 = \"\", \"\", COUNTIFS(ToDoList!$B:$B, $A96, ToDoList!$R:$R, F$2))","v":""},{"$f":"IF($A96 = \"\", \"\", COUNTIFS(ToDoList!$B:$B, $A96, ToDoList!$R:$R, G$2))","v":""},{"$f":"IF($A96 = \"\", \"\", COUNTIFS(ToDoList!$B:$B, $A96, ToDoList!$R:$R, H$2))","v":""},{"$f":"IF($A96 = \"\", \"\", COUNTIFS(ToDoList!$B:$B, $A96, ToDoList!$R:$R, I$2))","v":""},{"$f":"IF($A96 = \"\", \"\", COUNTIFS(ToDoList!$B:$B, $A96, ToDoList!$R:$R, J$2))","v":""}]
[null,{"$f":"IF($A97 = \"\", \"\", COUNTIFS(ToDoList!$B:$B, $A97, ToDoList!$R:$R, B$2))","v":""},{"$f":"IF($A97 = \"\", \"\", COUNTIFS(ToDoList!$B:$B, $A97, ToDoList!$R:$R, C$2))","v":""},{"$f":"IF($A97 = \"\", \"\", COUNTIFS(ToDoList!$B:$B, $A97, ToDoList!$R:$R, D$2))","v":""},{"$f":"IF($A97 = \"\", \"\", COUNTIFS(ToDoList!$B:$B, $A97, ToDoList!$R:$R, E$2))","v":""},{"$f":"IF($A97 = \"\", \"\", COUNTIFS(ToDoList!$B:$B, $A97, ToDoList!$R:$R, F$2))","v":""},{"$f":"IF($A97 = \"\", \"\", COUNTIFS(ToDoList!$B:$B, $A97, ToDoList!$R:$R, G$2))","v":""},{"$f":"IF($A97 = \"\", \"\", COUNTIFS(ToDoList!$B:$B, $A97, ToDoList!$R:$R, H$2))","v":""},{"$f":"IF($A97 = \"\", \"\", COUNTIFS(ToDoList!$B:$B, $A97, ToDoList!$R:$R, I$2))","v":""},{"$f":"IF($A97 = \"\", \"\", COUNTIFS(ToDoList!$B:$B, $A97, ToDoList!$R:$R, J$2))","v":""}]
[null,{"$f":"IF($A98 = \"\", \"\", COUNTIFS(ToDoList!$B:$B, $A98, ToDoList!$R:$R, B$2))","v":""},{"$f":"IF($A98 = \"\", \"\", COUNTIFS(ToDoList!$B:$B, $A98, ToDoList!$R:$R, C$2))","v":""},{"$f":"IF($A98 = \"\", \"\", COUNTIFS(ToDoList!$B:$B, $A98, ToDoList!$R:$R, D$2))","v":""},{"$f":"IF($A98 = \"\", \"\", COUNTIFS(ToDoList!$B:$B, $A98, ToDoList!$R:$R, E$2))","v":""},{"$f":"IF($A98 = \"\", \"\", COUNTIFS(ToDoList!$B:$B, $A98, ToDoList!$R:$R, F$2))","v":""},{"$f":"IF($A98 = \"\", \"\", COUNTIFS(ToDoList!$B:$B, $A98, ToDoList!$R:$R, G$2))","v":""},{"$f":"IF($A98 = \"\", \"\", COUNTIFS(ToDoList!$B:$B, $A98, ToDoList!$R:$R, H$2))","v":""},{"$f":"IF($A98 = \"\", \"\", COUNTIFS(ToDoList!$B:$B, $A98, ToDoList!$R:$R, I$2))","v":""},{"$f":"IF($A98 = \"\", \"\", COUNTIFS(ToDoList!$B:$B, $A98, ToDoList!$R:$R, J$2))","v":""}]
[null,{"$f":"IF($A99 = \"\", \"\", COUNTIFS(ToDoList!$B:$B, $A99, ToDoList!$R:$R, B$2))","v":""},{"$f":"IF($A99 = \"\", \"\", COUNTIFS(ToDoList!$B:$B, $A99, ToDoList!$R:$R, C$2))","v":""},{"$f":"IF($A99 = \"\", \"\", COUNTIFS(ToDoList!$B:$B, $A99, ToDoList!$R:$R, D$2))","v":""},{"$f":"IF($A99 = \"\", \"\", COUNTIFS(ToDoList!$B:$B, $A99, ToDoList!$R:$R, E$2))","v":""},{"$f":"IF($A99 = \"\", \"\", COUNTIFS(ToDoList!$B:$B, $A99, ToDoList!$R:$R, F$2))","v":""},{"$f":"IF($A99 = \"\", \"\", COUNTIFS(ToDoList!$B:$B, $A99, ToDoList!$R:$R, G$2))","v":""},{"$f":"IF($A99 = \"\", \"\", COUNTIFS(ToDoList!$B:$B, $A99, ToDoList!$R:$R, H$2))","v":""},{"$f":"IF($A99 = \"\", \"\", COUNTIFS(ToDoList!$B:$B, $A99, ToDoList!$R:$R, I$2))","v":""},{"$f":"IF($A99 = \"\", \"\", COUNTIFS(ToDoList!$B:$B, $A99, ToDoList!$R:$R, J$2))","v":""}]
[null,{"$f":"IF($A100 = \"\", \"\", COUNTIFS(ToDoList!$B:$B, $A100, ToDoList!$R:$R, B$2))","v":""},{"$f":"IF($A100 = \"\", \"\", COUNTIFS(ToDoList!$B:$B, $A100, ToDoList!$R:$R, C$2))","v":""},{"$f":"IF($A100 = \"\", \"\", COUNTIFS(ToDoList!$B:$B, $A100, ToDoList!$R:$R, D$2))","v":""},{"$f":"IF($A100 = \"\", \"\", COUNTIFS(ToDoList!$B:$B, $A100, ToDoList!$R:$R, E$2))","v":""},{"$f":"IF($A100 = \"\", \"\", COUNTIFS(ToDoList!$B:$B, $A100, ToDoList!$R:$R, F$2))","v":""},{"$f":"IF($A100 = \"\", \"\", COUNTIFS(ToDoList!$B:$B, $A100, ToDoList!$R:$R, G$2))","v":""},{"$f":"IF($A100 = \"\", \"\", COUNTIFS(ToDoList!$B:$B, $A100, ToDoList!$R:$R, H$2))","v":""},{"$f":"IF($A100 = \"\", \"\", COUNTIFS(ToDoList!$B:$B, $A100, ToDoList!$R:$R, I$2))","v":""},{"$f":"IF($A100 = \"\", \"\", COUNTIFS(ToDoList!$B:$B, $A100, ToDoList!$R:$R, J$2))","v":""}]
[null,{"$f":"IF($A101 = \"\", \"\", COUNTIFS(ToDoList!$B:$B, $A101, ToDoList!$R:$R, B$2))","v":""},{"$f":"IF($A101 = \"\", \"\", COUNTIFS(ToDoList!$B:$B, $A101, ToDoList!$R:$R, C$2))","v":""},{"$f":"IF($A101 = \"\", \"\", COUNTIFS(ToDoList!$B:$B, $A101, ToDoList!$R:$R, D$2))","v":""},{"$f":"IF($A101 = \"\", \"\", COUNTIFS(ToDoList!$B:$B, $A101, ToDoList!$R:$R, E$2))","v":""},{"$f":"IF($A101 = \"\", \"\", COUNTIFS(ToDoList!$B:$B, $A101, ToDoList!$R:$R, F$2))","v":""},{"$f":"IF($A101 = \"\", \"\", COUNTIFS(ToDoList!$B:$B, $A101, ToDoList!$R:$R, G$2))","v":""},{"$f":"IF($A101 = \"\", \"\", COUNTIFS(ToDoList!$B:$B, $A101, ToDoList!$R:$R, H$2))","v":""},{"$f":"IF($A101 = \"\", \"\", COUNTIFS(ToDoList!$B:$B, $A101, ToDoList!$R:$R, I$2))","v":""},{"$f":"IF($A101 = \"\", \"\", COUNTIFS(ToDoList!$B:$B, $A101, ToDoList!$R:$R, J$2))","v":""}]
[null,{"$f":"IF($A102 = \"\", \"\", COUNTIFS(ToDoList!$B:$B, $A102, ToDoList!$R:$R, B$2))","v":""},{"$f":"IF($A102 = \"\", \"\", COUNTIFS(ToDoList!$B:$B, $A102, ToDoList!$R:$R, C$2))","v":""},{"$f":"IF($A102 = \"\", \"\", COUNTIFS(ToDoList!$B:$B, $A102, ToDoList!$R:$R, D$2))","v":""},{"$f":"IF($A102 = \"\", \"\", COUNTIFS(ToDoList!$B:$B, $A102, ToDoList!$R:$R, E$2))","v":""},{"$f":"IF($A102 = \"\", \"\", COUNTIFS(ToDoList!$B:$B, $A102, ToDoList!$R:$R, F$2))","v":""},{"$f":"IF($A102 = \"\", \"\", COUNTIFS(ToDoList!$B:$B, $A102, ToDoList!$R:$R, G$2))","v":""},{"$f":"IF($A102 = \"\", \"\", COUNTIFS(ToDoList!$B:$B, $A102, ToDoList!$R:$R, H$2))","v":""},{"$f":"IF($A102 = \"\", \"\", COUNTIFS(ToDoList!$B:$B, $A102, ToDoList!$R:$R, I$2))","v":""},{"$f":"IF($A102 = \"\", \"\", COUNTIFS(ToDoList!$B:$B, $A102, ToDoList!$R:$R, J$2))","v":""}]
[null,{"$f":"IF($A103 = \"\", \"\", COUNTIFS(ToDoList!$B:$B, $A103, ToDoList!$R:$R, B$2))","v":""},{"$f":"IF($A103 = \"\", \"\", COUNTIFS(ToDoList!$B:$B, $A103, ToDoList!$R:$R, C$2))","v":""},{"$f":"IF($A103 = \"\", \"\", COUNTIFS(ToDoList!$B:$B, $A103, ToDoList!$R:$R, D$2))","v":""},{"$f":"IF($A103 = \"\", \"\", COUNTIFS(ToDoList!$B:$B, $A103, ToDoList!$R:$R, E$2))","v":""},{"$f":"IF($A103 = \"\", \"\", COUNTIFS(ToDoList!$B:$B, $A103, ToDoList!$R:$R, F$2))","v":""},{"$f":"IF($A103 = \"\", \"\", COUNTIFS(ToDoList!$B:$B, $A103, ToDoList!$R:$R, G$2))","v":""},{"$f":"IF($A103 = \"\", \"\", COUNTIFS(ToDoList!$B:$B, $A103, ToDoList!$R:$R, H$2))","v":""},{"$f":"IF($A103 = \"\", \"\", COUNTIFS(ToDoList!$B:$B, $A103, ToDoList!$R:$R, I$2))","v":""},{"$f":"IF($A103 = \"\", \"\", COUNTIFS(ToDoList!$B:$B, $A103, ToDoList!$R:$R, J$2))","v":""}]
[null,{"$f":"IF($A104 = \"\", \"\", COUNTIFS(ToDoList!$B:$B, $A104, ToDoList!$R:$R, B$2))","v":""},{"$f":"IF($A104 = \"\", \"\", COUNTIFS(ToDoList!$B:$B, $A104, ToDoList!$R:$R, C$2))","v":""},{"$f":"IF($A104 = \"\", \"\", COUNTIFS(ToDoList!$B:$B, $A104, ToDoList!$R:$R, D$2))","v":""},{"$f":"IF($A104 = \"\", \"\", COUNTIFS(ToDoList!$B:$B, $A104, ToDoList!$R:$R, E$2))","v":""},{"$f":"IF($A104 = \"\", \"\", COUNTIFS(ToDoList!$B:$B, $A104, ToDoList!$R:$R, F$2))","v":""},{"$f":"IF($A104 = \"\", \"\", COUNTIFS(ToDoList!$B:$B, $A104, ToDoList!$R:$R, G$2))","v":""},{"$f":"IF($A104 = \"\", \"\", COUNTIFS(ToDoList!$B:$B, $A104, ToDoList!$R:$R, H$2))","v":""},{"$f":"IF($A104 = \"\", \"\", COUNTIFS(ToDoList!$B:$B, $A104, ToDoList!$R:$R, I$2))","v":""},{"$f":"IF($A104 = \"\", \"\", COUNTIFS(ToDoList!$B:$B, $A104, ToDoList!$R:$R, J$2))","v":""}]
[null,{"$f":"IF($A105 = \"\", \"\", COUNTIFS(ToDoList!$B:$B, $A105, ToDoList!$R:$R, B$2))","v":""},{"$f":"IF($A105 = \"\", \"\", COUNTIFS(ToDoList!$B:$B, $A105, ToDoList!$R:$R, C$2))","v":""},{"$f":"IF($A105 = \"\", \"\", COUNTIFS(ToDoList!$B:$B, $A105, ToDoList!$R:$R, D$2))","v":""},{"$f":"IF($A105 = \"\", \"\", COUNTIFS(ToDoList!$B:$B, $A105, ToDoList!$R:$R, E$2))","v":""},{"$f":"IF($A105 = \"\", \"\", COUNTIFS(ToDoList!$B:$B, $A105, ToDoList!$R:$R, F$2))","v":""},{"$f":"IF($A105 = \"\", \"\", COUNTIFS(ToDoList!$B:$B, $A105, ToDoList!$R:$R, G$2))","v":""},{"$f":"IF($A105 = \"\", \"\", COUNTIFS(ToDoList!$B:$B, $A105, ToDoList!$R:$R, H$2))","v":""},{"$f":"IF($A105 = \"\", \"\", COUNTIFS(ToDoList!$B:$B, $A105, ToDoList!$R:$R, I$2))","v":""},{"$f":"IF($A105 = \"\", \"\", COUNTIFS(ToDoList!$B:$B, $A105, ToDoList!$R:$R, J$2))","v":""}]
[null,{"$f":"IF($A106 = \"\", \"\", COUNTIFS(ToDoList!$B:$B, $A106, ToDoList!$R:$R, B$2))","v":""},{"$f":"IF($A106 = \"\", \"\", COUNTIFS(ToDoList!$B:$B, $A106, ToDoList!$R:$R, C$2))","v":""},{"$f":"IF($A106 = \"\", \"\", COUNTIFS(ToDoList!$B:$B, $A106, ToDoList!$R:$R, D$2))","v":""},{"$f":"IF($A106 = \"\", \"\", COUNTIFS(ToDoList!$B:$B, $A106, ToDoList!$R:$R, E$2))","v":""},{"$f":"IF($A106 = \"\", \"\", COUNTIFS(ToDoList!$B:$B, $A106, ToDoList!$R:$R, F$2))","v":""},{"$f":"IF($A106 = \"\", \"\", COUNTIFS(ToDoList!$B:$B, $A106, ToDoList!$R:$R, G$2))","v":""},{"$f":"IF($A106 = \"\", \"\", COUNTIFS(ToDoList!$B:$B, $A106, ToDoList!$R:$R, H$2))","v":""},{"$f":"IF($A106 = \"\", \"\", COUNTIFS(ToDoList!$B:$B, $A106, ToDoList!$R:$R, I$2))","v":""},{"$f":"IF($A106 = \"\", \"\", COUNTIFS(ToDoList!$B:$B, $A106, ToDoList!$R:$R, J$2))","v":""}]
[null,{"$f":"IF($A107 = \"\", \"\", COUNTIFS(ToDoList!$B:$B, $A107, ToDoList!$R:$R, B$2))","v":""},{"$f":"IF($A107 = \"\", \"\", COUNTIFS(ToDoList!$B:$B, $A107, ToDoList!$R:$R, C$2))","v":""},{"$f":"IF($A107 = \"\", \"\", COUNTIFS(ToDoList!$B:$B, $A107, ToDoList!$R:$R, D$2))","v":""},{"$f":"IF($A107 = \"\", \"\", COUNTIFS(ToDoList!$B:$B, $A107, ToDoList!$R:$R, E$2))","v":""},{"$f":"IF($A107 = \"\", \"\", COUNTIFS(ToDoList!$B:$B, $A107, ToDoList!$R:$R, F$2))","v":""},{"$f":"IF($A107 = \"\", \"\", COUNTIFS(ToDoList!$B:$B, $A107, ToDoList!$R:$R, G$2))","v":""},{"$f":"IF($A107 = \"\", \"\", COUNTIFS(ToDoList!$B:$B, $A107, ToDoList!$R:$R, H$2))","v":""},{"$f":"IF($A107 = \"\", \"\", COUNTIFS(ToDoList!$B:$B, $A107, ToDoList!$R:$R, I$2))","v":""},{"$f":"IF($A107 = \"\", \"\", COUNTIFS(ToDoList!$B:$B, $A107, ToDoList!$R:$R, J$2))","v":""}]
[null,{"$f":"IF($A108 = \"\", \"\", COUNTIFS(ToDoList!$B:$B, $A108, ToDoList!$R:$R, B$2))","v":""},{"$f":"IF($A108 = \"\", \"\", COUNTIFS(ToDoList!$B:$B, $A108, ToDoList!$R:$R, C$2))","v":""},{"$f":"IF($A108 = \"\", \"\", COUNTIFS(ToDoList!$B:$B, $A108, ToDoList!$R:$R, D$2))","v":""},{"$f":"IF($A108 = \"\", \"\", COUNTIFS(ToDoList!$B:$B, $A108, ToDoList!$R:$R, E$2))","v":""},{"$f":"IF($A108 = \"\", \"\", COUNTIFS(ToDoList!$B:$B, $A108, ToDoList!$R:$R, F$2))","v":""},{"$f":"IF($A108 = \"\", \"\", COUNTIFS(ToDoList!$B:$B, $A108, ToDoList!$R:$R, G$2))","v":""},{"$f":"IF($A108 = \"\", \"\", COUNTIFS(ToDoList!$B:$B, $A108, ToDoList!$R:$R, H$2))","v":""},{"$f":"IF($A108 = \"\", \"\", COUNTIFS(ToDoList!$B:$B, $A108, ToDoList!$R:$R, I$2))","v":""},{"$f":"IF($A108 = \"\", \"\", COUNTIFS(ToDoList!$B:$B, $A108, ToDoList!$R:$R, J$2))","v":""}]
[null,{"$f":"IF($A109 = \"\", \"\", COUNTIFS(ToDoList!$B:$B, $A109, ToDoList!$R:$R, B$2))","v":""},{"$f":"IF($A109 = \"\", \"\", COUNTIFS(ToDoList!$B:$B, $A109, ToDoList!$R:$R, C$2))","v":""},{"$f":"IF($A109 = \"\", \"\", COUNTIFS(ToDoList!$B:$B, $A109, ToDoList!$R:$R, D$2))","v":""},{"$f":"IF($A109 = \"\", \"\", COUNTIFS(ToDoList!$B:$B, $A109, ToDoList!$R:$R, E$2))","v":""},{"$f":"IF($A109 = \"\", \"\", COUNTIFS(ToDoList!$B:$B, $A109, ToDoList!$R:$R, F$2))","v":""},{"$f":"IF($A109 = \"\", \"\", COUNTIFS(ToDoList!$B:$B, $A109, ToDoList!$R:$R, G$2))","v":""},{"$f":"IF($A109 = \"\", \"\", COUNTIFS(ToDoList!$B:$B, $A109, ToDoList!$R:$R, H$2))","v":""},{"$f":"IF($A109 = \"\", \"\", COUNTIFS(ToDoList!$B:$B, $A109, ToDoList!$R:$R, I$2))","v":""},{"$f":"IF($A109 = \"\", \"\", COUNTIFS(ToDoList!$B:$B, $A109, ToDoList!$R:$R, J$2))","v":""}]
[null,{"$f":"IF($A110 = \"\", \"\", COUNTIFS(ToDoList!$B:$B, $A110, ToDoList!$R:$R, B$2))","v":""},{"$f":"IF($A110 = \"\", \"\", COUNTIFS(ToDoList!$B:$B, $A110, ToDoList!$R:$R, C$2))","v":""},{"$f":"IF($A110 = \"\", \"\", COUNTIFS(ToDoList!$B:$B, $A110, ToDoList!$R:$R, D$2))","v":""},{"$f":"IF($A110 = \"\", \"\", COUNTIFS(ToDoList!$B:$B, $A110, ToDoList!$R:$R, E$2))","v":""},{"$f":"IF($A110 = \"\", \"\", COUNTIFS(ToDoList!$B:$B, $A110, ToDoList!$R:$R, F$2))","v":""},{"$f":"IF($A110 = \"\", \"\", COUNTIFS(ToDoList!$B:$B, $A110, ToDoList!$R:$R, G$2))","v":""},{"$f":"IF($A110 = \"\", \"\", COUNTIFS(ToDoList!$B:$B, $A110, ToDoList!$R:$R, H$2))","v":""},{"$f":"IF($A110 = \"\", \"\", COUNTIFS(ToDoList!$B:$B, $A110, ToDoList!$R:$R, I$2))","v":""},{"$f":"IF($A110 = \"\", \"\", COUNTIFS(ToDoList!$B:$B, $A110, ToDoList!$R:$R, J$2))","v":""}]
[null,{"$f":"IF($A111 = \"\", \"\", COUNTIFS(ToDoList!$B:$B, $A111, ToDoList!$R:$R, B$2))","v":""},{"$f":"IF($A111 = \"\", \"\", COUNTIFS(ToDoList!$B:$B, $A111, ToDoList!$R:$R, C$2))","v":""},{"$f":"IF($A111 = \"\", \"\", COUNTIFS(ToDoList!$B:$B, $A111, ToDoList!$R:$R, D$2))","v":""},{"$f":"IF($A111 = \"\", \"\", COUNTIFS(ToDoList!$B:$B, $A111, ToDoList!$R:$R, E$2))","v":""},{"$f":"IF($A111 = \"\", \"\", COUNTIFS(ToDoList!$B:$B, $A111, ToDoList!$R:$R, F$2))","v":""},{"$f":"IF($A111 = \"\", \"\", COUNTIFS(ToDoList!$B:$B, $A111, ToDoList!$R:$R, G$2))","v":""},{"$f":"IF($A111 = \"\", \"\", COUNTIFS(ToDoList!$B:$B, $A111, ToDoList!$R:$R, H$2))","v":""},{"$f":"IF($A111 = \"\", \"\", COUNTIFS(ToDoList!$B:$B, $A111, ToDoList!$R:$R, I$2))","v":""},{"$f":"IF($A111 = \"\", \"\", COUNTIFS(ToDoList!$B:$B, $A111, ToDoList!$R:$R, J$2))","v":""}]
[null,{"$f":"IF($A112 = \"\", \"\", COUNTIFS(ToDoList!$B:$B, $A112, ToDoList!$R:$R, B$2))","v":""},{"$f":"IF($A112 = \"\", \"\", COUNTIFS(ToDoList!$B:$B, $A112, ToDoList!$R:$R, C$2))","v":""},{"$f":"IF($A112 = \"\", \"\", COUNTIFS(ToDoList!$B:$B, $A112, ToDoList!$R:$R, D$2))","v":""},{"$f":"IF($A112 = \"\", \"\", COUNTIFS(ToDoList!$B:$B, $A112, ToDoList!$R:$R, E$2))","v":""},{"$f":"IF($A112 = \"\", \"\", COUNTIFS(ToDoList!$B:$B, $A112, ToDoList!$R:$R, F$2))","v":""},{"$f":"IF($A112 = \"\", \"\", COUNTIFS(ToDoList!$B:$B, $A112, ToDoList!$R:$R, G$2))","v":""},{"$f":"IF($A112 = \"\", \"\", COUNTIFS(ToDoList!$B:$B, $A112, ToDoList!$R:$R, H$2))","v":""},{"$f":"IF($A112 = \"\", \"\", COUNTIFS(ToDoList!$B:$B, $A112, ToDoList!$R:$R, I$2))","v":""},{"$f":"IF($A112 = \"\", \"\", COUNTIFS(ToDoList!$B:$B, $A112, ToDoList!$R:$R, J$2))","v":""}]
[null,{"$f":"IF($A113 = \"\", \"\", COUNTIFS(ToDoList!$B:$B, $A113, ToDoList!$R:$R, B$2))","v":""},{"$f":"IF($A113 = \"\", \"\", COUNTIFS(ToDoList!$B:$B, $A113, ToDoList!$R:$R, C$2))","v":""},{"$f":"IF($A113 = \"\", \"\", COUNTIFS(ToDoList!$B:$B, $A113, ToDoList!$R:$R, D$2))","v":""},{"$f":"IF($A113 = \"\", \"\", COUNTIFS(ToDoList!$B:$B, $A113, ToDoList!$R:$R, E$2))","v":""},{"$f":"IF($A113 = \"\", \"\", COUNTIFS(ToDoList!$B:$B, $A113, ToDoList!$R:$R, F$2))","v":""},{"$f":"IF($A113 = \"\", \"\", COUNTIFS(ToDoList!$B:$B, $A113, ToDoList!$R:$R, G$2))","v":""},{"$f":"IF($A113 = \"\", \"\", COUNTIFS(ToDoList!$B:$B, $A113, ToDoList!$R:$R, H$2))","v":""},{"$f":"IF($A113 = \"\", \"\", COUNTIFS(ToDoList!$B:$B, $A113, ToDoList!$R:$R, I$2))","v":""},{"$f":"IF($A113 = \"\", \"\", COUNTIFS(ToDoList!$B:$B, $A113, ToDoList!$R:$R, J$2))","v":""}]
[null,{"$f":"IF($A114 = \"\", \"\", COUNTIFS(ToDoList!$B:$B, $A114, ToDoList!$R:$R, B$2))","v":""},{"$f":"IF($A114 = \"\", \"\", COUNTIFS(ToDoList!$B:$B, $A114, ToDoList!$R:$R, C$2))","v":""},{"$f":"IF($A114 = \"\", \"\", COUNTIFS(ToDoList!$B:$B, $A114, ToDoList!$R:$R, D$2))","v":""},{"$f":"IF($A114 = \"\", \"\", COUNTIFS(ToDoList!$B:$B, $A114, ToDoList!$R:$R, E$2))","v":""},{"$f":"IF($A114 = \"\", \"\", COUNTIFS(ToDoList!$B:$B, $A114, ToDoList!$R:$R, F$2))","v":""},{"$f":"IF($A114 = \"\", \"\", COUNTIFS(ToDoList!$B:$B, $A114, ToDoList!$R:$R, G$2))","v":""},{"$f":"IF($A114 = \"\", \"\", COUNTIFS(ToDoList!$B:$B, $A114, ToDoList!$R:$R, H$2))","v":""},{"$f":"IF($A114 = \"\", \"\", COUNTIFS(ToDoList!$B:$B, $A114, ToDoList!$R:$R, I$2))","v":""},{"$f":"IF($A114 = \"\", \"\", COUNTIFS(ToDoList!$B:$B, $A114, ToDoList!$R:$R, J$2))","v":""}]
[null,{"$f":"IF($A115 = \"\", \"\", COUNTIFS(ToDoList!$B:$B, $A115, ToDoList!$R:$R, B$2))","v":""},{"$f":"IF($A115 = \"\", \"\", COUNTIFS(ToDoList!$B:$B, $A115, ToDoList!$R:$R, C$2))","v":""},{"$f":"IF($A115 = \"\", \"\", COUNTIFS(ToDoList!$B:$B, $A115, ToDoList!$R:$R, D$2))","v":""},{"$f":"IF($A115 = \"\", \"\", COUNTIFS(ToDoList!$B:$B, $A115, ToDoList!$R:$R, E$2))","v":""},{"$f":"IF($A115 = \"\", \"\", COUNTIFS(ToDoList!$B:$B, $A115, ToDoList!$R:$R, F$2))","v":""},{"$f":"IF($A115 = \"\", \"\", COUNTIFS(ToDoList!$B:$B, $A115, ToDoList!$R:$R, G$2))","v":""},{"$f":"IF($A115 = \"\", \"\", COUNTIFS(ToDoList!$B:$B, $A115, ToDoList!$R:$R, H$2))","v":""},{"$f":"IF($A115 = \"\", \"\", COUNTIFS(ToDoList!$B:$B, $A115, ToDoList!$R:$R, I$2))","v":""},{"$f":"IF($A115 = \"\", \"\", COUNTIFS(ToDoList!$B:$B, $A115, ToDoList!$R:$R, J$2))","v":""}]
[null,{"$f":"IF($A116 = \"\", \"\", COUNTIFS(ToDoList!$B:$B, $A116, ToDoList!$R:$R, B$2))","v":""},{"$f":"IF($A116 = \"\", \"\", COUNTIFS(ToDoList!$B:$B, $A116, ToDoList!$R:$R, C$2))","v":""},{"$f":"IF($A116 = \"\", \"\", COUNTIFS(ToDoList!$B:$B, $A116, ToDoList!$R:$R, D$2))","v":""},{"$f":"IF($A116 = \"\", \"\", COUNTIFS(ToDoList!$B:$B, $A116, ToDoList!$R:$R, E$2))","v":""},{"$f":"IF($A116 = \"\", \"\", COUNTIFS(ToDoList!$B:$B, $A116, ToDoList!$R:$R, F$2))","v":""},{"$f":"IF($A116 = \"\", \"\", COUNTIFS(ToDoList!$B:$B, $A116, ToDoList!$R:$R, G$2))","v":""},{"$f":"IF($A116 = \"\", \"\", COUNTIFS(ToDoList!$B:$B, $A116, ToDoList!$R:$R, H$2))","v":""},{"$f":"IF($A116 = \"\", \"\", COUNTIFS(ToDoList!$B:$B, $A116, ToDoList!$R:$R, I$2))","v":""},{"$f":"IF($A116 = \"\", \"\", COUNTIFS(ToDoList!$B:$B, $A116, ToDoList!$R:$R, J$2))","v":""}]
[null,{"$f":"IF($A117 = \"\", \"\", COUNTIFS(ToDoList!$B:$B, $A117, ToDoList!$R:$R, B$2))","v":""},{"$f":"IF($A117 = \"\", \"\", COUNTIFS(ToDoList!$B:$B, $A117, ToDoList!$R:$R, C$2))","v":""},{"$f":"IF($A117 = \"\", \"\", COUNTIFS(ToDoList!$B:$B, $A117, ToDoList!$R:$R, D$2))","v":""},{"$f":"IF($A117 = \"\", \"\", COUNTIFS(ToDoList!$B:$B, $A117, ToDoList!$R:$R, E$2))","v":""},{"$f":"IF($A117 = \"\", \"\", COUNTIFS(ToDoList!$B:$B, $A117, ToDoList!$R:$R, F$2))","v":""},{"$f":"IF($A117 = \"\", \"\", COUNTIFS(ToDoList!$B:$B, $A117, ToDoList!$R:$R, G$2))","v":""},{"$f":"IF($A117 = \"\", \"\", COUNTIFS(ToDoList!$B:$B, $A117, ToDoList!$R:$R, H$2))","v":""},{"$f":"IF($A117 = \"\", \"\", COUNTIFS(ToDoList!$B:$B, $A117, ToDoList!$R:$R, I$2))","v":""},{"$f":"IF($A117 = \"\", \"\", COUNTIFS(ToDoList!$B:$B, $A117, ToDoList!$R:$R, J$2))","v":""}]
[null,{"$f":"IF($A118 = \"\", \"\", COUNTIFS(ToDoList!$B:$B, $A118, ToDoList!$R:$R, B$2))","v":""},{"$f":"IF($A118 = \"\", \"\", COUNTIFS(ToDoList!$B:$B, $A118, ToDoList!$R:$R, C$2))","v":""},{"$f":"IF($A118 = \"\", \"\", COUNTIFS(ToDoList!$B:$B, $A118, ToDoList!$R:$R, D$2))","v":""},{"$f":"IF($A118 = \"\", \"\", COUNTIFS(ToDoList!$B:$B, $A118, ToDoList!$R:$R, E$2))","v":""},{"$f":"IF($A118 = \"\", \"\", COUNTIFS(ToDoList!$B:$B, $A118, ToDoList!$R:$R, F$2))","v":""},{"$f":"IF($A118 = \"\", \"\", COUNTIFS(ToDoList!$B:$B, $A118, ToDoList!$R:$R, G$2))","v":""},{"$f":"IF($A118 = \"\", \"\", COUNTIFS(ToDoList!$B:$B, $A118, ToDoList!$R:$R, H$2))","v":""},{"$f":"IF($A118 = \"\", \"\", COUNTIFS(ToDoList!$B:$B, $A118, ToDoList!$R:$R, I$2))","v":""},{"$f":"IF($A118 = \"\", \"\", COUNTIFS(ToDoList!$B:$B, $A118, ToDoList!$R:$R, J$2))","v":""}]
[null,{"$f":"IF($A119 = \"\", \"\", COUNTIFS(ToDoList!$B:$B, $A119, ToDoList!$R:$R, B$2))","v":""},{"$f":"IF($A119 = \"\", \"\", COUNTIFS(ToDoList!$B:$B, $A119, ToDoList!$R:$R, C$2))","v":""},{"$f":"IF($A119 = \"\", \"\", COUNTIFS(ToDoList!$B:$B, $A119, ToDoList!$R:$R, D$2))","v":""},{"$f":"IF($A119 = \"\", \"\", COUNTIFS(ToDoList!$B:$B, $A119, ToDoList!$R:$R, E$2))","v":""},{"$f":"IF($A119 = \"\", \"\", COUNTIFS(ToDoList!$B:$B, $A119, ToDoList!$R:$R, F$2))","v":""},{"$f":"IF($A119 = \"\", \"\", COUNTIFS(ToDoList!$B:$B, $A119, ToDoList!$R:$R, G$2))","v":""},{"$f":"IF($A119 = \"\", \"\", COUNTIFS(ToDoList!$B:$B, $A119, ToDoList!$R:$R, H$2))","v":""},{"$f":"IF($A119 = \"\", \"\", COUNTIFS(ToDoList!$B:$B, $A119, ToDoList!$R:$R, I$2))","v":""},{"$f":"IF($A119 = \"\", \"\", COUNTIFS(ToDoList!$B:$B, $A119, ToDoList!$R:$R, J$2))","v":""}]
[null,{"$f":"IF($A120 = \"\", \"\", COUNTIFS(ToDoList!$B:$B, $A120, ToDoList!$R:$R, B$2))","v":""},{"$f":"IF($A120 = \"\", \"\", COUNTIFS(ToDoList!$B:$B, $A120, ToDoList!$R:$R, C$2))","v":""},{"$f":"IF($A120 = \"\", \"\", COUNTIFS(ToDoList!$B:$B, $A120, ToDoList!$R:$R, D$2))","v":""},{"$f":"IF($A120 = \"\", \"\", COUNTIFS(ToDoList!$B:$B, $A120, ToDoList!$R:$R, E$2))","v":""},{"$f":"IF($A120 = \"\", \"\", COUNTIFS(ToDoList!$B:$B, $A120, ToDoList!$R:$R, F$2))","v":""},{"$f":"IF($A120 = \"\", \"\", COUNTIFS(ToDoList!$B:$B, $A120, ToDoList!$R:$R, G$2))","v":""},{"$f":"IF($A120 = \"\", \"\", COUNTIFS(ToDoList!$B:$B, $A120, ToDoList!$R:$R, H$2))","v":""},{"$f":"IF($A120 = \"\", \"\", COUNTIFS(ToDoList!$B:$B, $A120, ToDoList!$R:$R, I$2))","v":""},{"$f":"IF($A120 = \"\", \"\", COUNTIFS(ToDoList!$B:$B, $A120, ToDoList!$R:$R, J$2))","v":""}]
[null,{"$f":"IF($A121 = \"\", \"\", COUNTIFS(ToDoList!$B:$B, $A121, ToDoList!$R:$R, B$2))","v":""},{"$f":"IF($A121 = \"\", \"\", COUNTIFS(ToDoList!$B:$B, $A121, ToDoList!$R:$R, C$2))","v":""},{"$f":"IF($A121 = \"\", \"\", COUNTIFS(ToDoList!$B:$B, $A121, ToDoList!$R:$R, D$2))","v":""},{"$f":"IF($A121 = \"\", \"\", COUNTIFS(ToDoList!$B:$B, $A121, ToDoList!$R:$R, E$2))","v":""},{"$f":"IF($A121 = \"\", \"\", COUNTIFS(ToDoList!$B:$B, $A121, ToDoList!$R:$R, F$2))","v":""},{"$f":"IF($A121 = \"\", \"\", COUNTIFS(ToDoList!$B:$B, $A121, ToDoList!$R:$R, G$2))","v":""},{"$f":"IF($A121 = \"\", \"\", COUNTIFS(ToDoList!$B:$B, $A121, ToDoList!$R:$R, H$2))","v":""},{"$f":"IF($A121 = \"\", \"\", COUNTIFS(ToDoList!$B:$B, $A121, ToDoList!$R:$R, I$2))","v":""},{"$f":"IF($A121 = \"\", \"\", COUNTIFS(ToDoList!$B:$B, $A121, ToDoList!$R:$R, J$2))","v":""}]
[null,{"$f":"IF($A122 = \"\", \"\", COUNTIFS(ToDoList!$B:$B, $A122, ToDoList!$R:$R, B$2))","v":""},{"$f":"IF($A122 = \"\", \"\", COUNTIFS(ToDoList!$B:$B, $A122, ToDoList!$R:$R, C$2))","v":""},{"$f":"IF($A122 = \"\", \"\", COUNTIFS(ToDoList!$B:$B, $A122, ToDoList!$R:$R, D$2))","v":""},{"$f":"IF($A122 = \"\", \"\", COUNTIFS(ToDoList!$B:$B, $A122, ToDoList!$R:$R, E$2))","v":""},{"$f":"IF($A122 = \"\", \"\", COUNTIFS(ToDoList!$B:$B, $A122, ToDoList!$R:$R, F$2))","v":""},{"$f":"IF($A122 = \"\", \"\", COUNTIFS(ToDoList!$B:$B, $A122, ToDoList!$R:$R, G$2))","v":""},{"$f":"IF($A122 = \"\", \"\", COUNTIFS(ToDoList!$B:$B, $A122, ToDoList!$R:$R, H$2))","v":""},{"$f":"IF($A122 = \"\", \"\", COUNTIFS(ToDoList!$B:$B, $A122, ToDoList!$R:$R, I$2))","v":""},{"$f":"IF($A122 = \"\", \"\", COUNTIFS(ToDoList!$B:$B, $A122, ToDoList!$R:$R, J$2))","v":""}]
[null,{"$f":"IF($A123 = \"\", \"\", COUNTIFS(ToDoList!$B:$B, $A123, ToDoList!$R:$R, B$2))","v":""},{"$f":"IF($A123 = \"\", \"\", COUNTIFS(ToDoList!$B:$B, $A123, ToDoList!$R:$R, C$2))","v":""},{"$f":"IF($A123 = \"\", \"\", COUNTIFS(ToDoList!$B:$B, $A123, ToDoList!$R:$R, D$2))","v":""},{"$f":"IF($A123 = \"\", \"\", COUNTIFS(ToDoList!$B:$B, $A123, ToDoList!$R:$R, E$2))","v":""},{"$f":"IF($A123 = \"\", \"\", COUNTIFS(ToDoList!$B:$B, $A123, ToDoList!$R:$R, F$2))","v":""},{"$f":"IF($A123 = \"\", \"\", COUNTIFS(ToDoList!$B:$B, $A123, ToDoList!$R:$R, G$2))","v":""},{"$f":"IF($A123 = \"\", \"\", COUNTIFS(ToDoList!$B:$B, $A123, ToDoList!$R:$R, H$2))","v":""},{"$f":"IF($A123 = \"\", \"\", COUNTIFS(ToDoList!$B:$B, $A123, ToDoList!$R:$R, I$2))","v":""},{"$f":"IF($A123 = \"\", \"\", COUNTIFS(ToDoList!$B:$B, $A123, ToDoList!$R:$R, J$2))","v":""}]
[null,{"$f":"IF($A124 = \"\", \"\", COUNTIFS(ToDoList!$B:$B, $A124, ToDoList!$R:$R, B$2))","v":""},{"$f":"IF($A124 = \"\", \"\", COUNTIFS(ToDoList!$B:$B, $A124, ToDoList!$R:$R, C$2))","v":""},{"$f":"IF($A124 = \"\", \"\", COUNTIFS(ToDoList!$B:$B, $A124, ToDoList!$R:$R, D$2))","v":""},{"$f":"IF($A124 = \"\", \"\", COUNTIFS(ToDoList!$B:$B, $A124, ToDoList!$R:$R, E$2))","v":""},{"$f":"IF($A124 = \"\", \"\", COUNTIFS(ToDoList!$B:$B, $A124, ToDoList!$R:$R, F$2))","v":""},{"$f":"IF($A124 = \"\", \"\", COUNTIFS(ToDoList!$B:$B, $A124, ToDoList!$R:$R, G$2))","v":""},{"$f":"IF($A124 = \"\", \"\", COUNTIFS(ToDoList!$B:$B, $A124, ToDoList!$R:$R, H$2))","v":""},{"$f":"IF($A124 = \"\", \"\", COUNTIFS(ToDoList!$B:$B, $A124, ToDoList!$R:$R, I$2))","v":""},{"$f":"IF($A124 = \"\", \"\", COUNTIFS(ToDoList!$B:$B, $A124, ToDoList!$R:$R, J$2))","v":""}]
[null,{"$f":"IF($A125 = \"\", \"\", COUNTIFS(ToDoList!$B:$B, $A125, ToDoList!$R:$R, B$2))","v":""},{"$f":"IF($A125 = \"\", \"\", COUNTIFS(ToDoList!$B:$B, $A125, ToDoList!$R:$R, C$2))","v":""},{"$f":"IF($A125 = \"\", \"\", COUNTIFS(ToDoList!$B:$B, $A125, ToDoList!$R:$R, D$2))","v":""},{"$f":"IF($A125 = \"\", \"\", COUNTIFS(ToDoList!$B:$B, $A125, ToDoList!$R:$R, E$2))","v":""},{"$f":"IF($A125 = \"\", \"\", COUNTIFS(ToDoList!$B:$B, $A125, ToDoList!$R:$R, F$2))","v":""},{"$f":"IF($A125 = \"\", \"\", COUNTIFS(ToDoList!$B:$B, $A125, ToDoList!$R:$R, G$2))","v":""},{"$f":"IF($A125 = \"\", \"\", COUNTIFS(ToDoList!$B:$B, $A125, ToDoList!$R:$R, H$2))","v":""},{"$f":"IF($A125 = \"\", \"\", COUNTIFS(ToDoList!$B:$B, $A125, ToDoList!$R:$R, I$2))","v":""},{"$f":"IF($A125 = \"\", \"\", COUNTIFS(ToDoList!$B:$B, $A125, ToDoList!$R:$R, J$2))","v":""}]
[null,{"$f":"IF($A126 = \"\", \"\", COUNTIFS(ToDoList!$B:$B, $A126, ToDoList!$R:$R, B$2))","v":""},{"$f":"IF($A126 = \"\", \"\", COUNTIFS(ToDoList!$B:$B, $A126, ToDoList!$R:$R, C$2))","v":""},{"$f":"IF($A126 = \"\", \"\", COUNTIFS(ToDoList!$B:$B, $A126, ToDoList!$R:$R, D$2))","v":""},{"$f":"IF($A126 = \"\", \"\", COUNTIFS(ToDoList!$B:$B, $A126, ToDoList!$R:$R, E$2))","v":""},{"$f":"IF($A126 = \"\", \"\", COUNTIFS(ToDoList!$B:$B, $A126, ToDoList!$R:$R, F$2))","v":""},{"$f":"IF($A126 = \"\", \"\", COUNTIFS(ToDoList!$B:$B, $A126, ToDoList!$R:$R, G$2))","v":""},{"$f":"IF($A126 = \"\", \"\", COUNTIFS(ToDoList!$B:$B, $A126, ToDoList!$R:$R, H$2))","v":""},{"$f":"IF($A126 = \"\", \"\", COUNTIFS(ToDoList!$B:$B, $A126, ToDoList!$R:$R, I$2))","v":""},{"$f":"IF($A126 = \"\", \"\", COUNTIFS(ToDoList!$B:$B, $A126, ToDoList!$R:$R, J$2))","v":""}]
[null,{"$f":"IF($A127 = \"\", \"\", COUNTIFS(ToDoList!$B:$B, $A127, ToDoList!$R:$R, B$2))","v":""},{"$f":"IF($A127 = \"\", \"\", COUNTIFS(ToDoList!$B:$B, $A127, ToDoList!$R:$R, C$2))","v":""},{"$f":"IF($A127 = \"\", \"\", COUNTIFS(ToDoList!$B:$B, $A127, ToDoList!$R:$R, D$2))","v":""},{"$f":"IF($A127 = \"\", \"\", COUNTIFS(ToDoList!$B:$B, $A127, ToDoList!$R:$R, E$2))","v":""},{"$f":"IF($A127 = \"\", \"\", COUNTIFS(ToDoList!$B:$B, $A127, ToDoList!$R:$R, F$2))","v":""},{"$f":"IF($A127 = \"\", \"\", COUNTIFS(ToDoList!$B:$B, $A127, ToDoList!$R:$R, G$2))","v":""},{"$f":"IF($A127 = \"\", \"\", COUNTIFS(ToDoList!$B:$B, $A127, ToDoList!$R:$R, H$2))","v":""},{"$f":"IF($A127 = \"\", \"\", COUNTIFS(ToDoList!$B:$B, $A127, ToDoList!$R:$R, I$2))","v":""},{"$f":"IF($A127 = \"\", \"\", COUNTIFS(ToDoList!$B:$B, $A127, ToDoList!$R:$R, J$2))","v":""}]
[null,{"$f":"IF($A128 = \"\", \"\", COUNTIFS(ToDoList!$B:$B, $A128, ToDoList!$R:$R, B$2))","v":""},{"$f":"IF($A128 = \"\", \"\", COUNTIFS(ToDoList!$B:$B, $A128, ToDoList!$R:$R, C$2))","v":""},{"$f":"IF($A128 = \"\", \"\", COUNTIFS(ToDoList!$B:$B, $A128, ToDoList!$R:$R, D$2))","v":""},{"$f":"IF($A128 = \"\", \"\", COUNTIFS(ToDoList!$B:$B, $A128, ToDoList!$R:$R, E$2))","v":""},{"$f":"IF($A128 = \"\", \"\", COUNTIFS(ToDoList!$B:$B, $A128, ToDoList!$R:$R, F$2))","v":""},{"$f":"IF($A128 = \"\", \"\", COUNTIFS(ToDoList!$B:$B, $A128, ToDoList!$R:$R, G$2))","v":""},{"$f":"IF($A128 = \"\", \"\", COUNTIFS(ToDoList!$B:$B, $A128, ToDoList!$R:$R, H$2))","v":""},{"$f":"IF($A128 = \"\", \"\", COUNTIFS(ToDoList!$B:$B, $A128, ToDoList!$R:$R, I$2))","v":""},{"$f":"IF($A128 = \"\", \"\", COUNTIFS(ToDoList!$B:$B, $A128, ToDoList!$R:$R, J$2))","v":""}]
[null,{"$f":"IF($A129 = \"\", \"\", COUNTIFS(ToDoList!$B:$B, $A129, ToDoList!$R:$R, B$2))","v":""},{"$f":"IF($A129 = \"\", \"\", COUNTIFS(ToDoList!$B:$B, $A129, ToDoList!$R:$R, C$2))","v":""},{"$f":"IF($A129 = \"\", \"\", COUNTIFS(ToDoList!$B:$B, $A129, ToDoList!$R:$R, D$2))","v":""},{"$f":"IF($A129 = \"\", \"\", COUNTIFS(ToDoList!$B:$B, $A129, ToDoList!$R:$R, E$2))","v":""},{"$f":"IF($A129 = \"\", \"\", COUNTIFS(ToDoList!$B:$B, $A129, ToDoList!$R:$R, F$2))","v":""},{"$f":"IF($A129 = \"\", \"\", COUNTIFS(ToDoList!$B:$B, $A129, ToDoList!$R:$R, G$2))","v":""},{"$f":"IF($A129 = \"\", \"\", COUNTIFS(ToDoList!$B:$B, $A129, ToDoList!$R:$R, H$2))","v":""},{"$f":"IF($A129 = \"\", \"\", COUNTIFS(ToDoList!$B:$B, $A129, ToDoList!$R:$R, I$2))","v":""},{"$f":"IF($A129 = \"\", \"\", COUNTIFS(ToDoList!$B:$B, $A129, ToDoList!$R:$R, J$2))","v":""}]
[null,{"$f":"IF($A130 = \"\", \"\", COUNTIFS(ToDoList!$B:$B, $A130, ToDoList!$R:$R, B$2))","v":""},{"$f":"IF($A130 = \"\", \"\", COUNTIFS(ToDoList!$B:$B, $A130, ToDoList!$R:$R, C$2))","v":""},{"$f":"IF($A130 = \"\", \"\", COUNTIFS(ToDoList!$B:$B, $A130, ToDoList!$R:$R, D$2))","v":""},{"$f":"IF($A130 = \"\", \"\", COUNTIFS(ToDoList!$B:$B, $A130, ToDoList!$R:$R, E$2))","v":""},{"$f":"IF($A130 = \"\", \"\", COUNTIFS(ToDoList!$B:$B, $A130, ToDoList!$R:$R, F$2))","v":""},{"$f":"IF($A130 = \"\", \"\", COUNTIFS(ToDoList!$B:$B, $A130, ToDoList!$R:$R, G$2))","v":""},{"$f":"IF($A130 = \"\", \"\", COUNTIFS(ToDoList!$B:$B, $A130, ToDoList!$R:$R, H$2))","v":""},{"$f":"IF($A130 = \"\", \"\", COUNTIFS(ToDoList!$B:$B, $A130, ToDoList!$R:$R, I$2))","v":""},{"$f":"IF($A130 = \"\", \"\", COUNTIFS(ToDoList!$B:$B, $A130, ToDoList!$R:$R, J$2))","v":""}]
[null,{"$f":"IF($A131 = \"\", \"\", COUNTIFS(ToDoList!$B:$B, $A131, ToDoList!$R:$R, B$2))","v":""},{"$f":"IF($A131 = \"\", \"\", COUNTIFS(ToDoList!$B:$B, $A131, ToDoList!$R:$R, C$2))","v":""},{"$f":"IF($A131 = \"\", \"\", COUNTIFS(ToDoList!$B:$B, $A131, ToDoList!$R:$R, D$2))","v":""},{"$f":"IF($A131 = \"\", \"\", COUNTIFS(ToDoList!$B:$B, $A131, ToDoList!$R:$R, E$2))","v":""},{"$f":"IF($A131 = \"\", \"\", COUNTIFS(ToDoList!$B:$B, $A131, ToDoList!$R:$R, F$2))","v":""},{"$f":"IF($A131 = \"\", \"\", COUNTIFS(ToDoList!$B:$B, $A131, ToDoList!$R:$R, G$2))","v":""},{"$f":"IF($A131 = \"\", \"\", COUNTIFS(ToDoList!$B:$B, $A131, ToDoList!$R:$R, H$2))","v":""},{"$f":"IF($A131 = \"\", \"\", COUNTIFS(ToDoList!$B:$B, $A131, ToDoList!$R:$R, I$2))","v":""},{"$f":"IF($A131 = \"\", \"\", COUNTIFS(ToDoList!$B:$B, $A131, ToDoList!$R:$R, J$2))","v":""}]
[null,{"$f":"IF($A132 = \"\", \"\", COUNTIFS(ToDoList!$B:$B, $A132, ToDoList!$R:$R, B$2))","v":""},{"$f":"IF($A132 = \"\", \"\", COUNTIFS(ToDoList!$B:$B, $A132, ToDoList!$R:$R, C$2))","v":""},{"$f":"IF($A132 = \"\", \"\", COUNTIFS(ToDoList!$B:$B, $A132, ToDoList!$R:$R, D$2))","v":""},{"$f":"IF($A132 = \"\", \"\", COUNTIFS(ToDoList!$B:$B, $A132, ToDoList!$R:$R, E$2))","v":""},{"$f":"IF($A132 = \"\", \"\", COUNTIFS(ToDoList!$B:$B, $A132, ToDoList!$R:$R, F$2))","v":""},{"$f":"IF($A132 = \"\", \"\", COUNTIFS(ToDoList!$B:$B, $A132, ToDoList!$R:$R, G$2))","v":""},{"$f":"IF($A132 = \"\", \"\", COUNTIFS(ToDoList!$B:$B, $A132, ToDoList!$R:$R, H$2))","v":""},{"$f":"IF($A132 = \"\", \"\", COUNTIFS(ToDoList!$B:$B, $A132, ToDoList!$R:$R, I$2))","v":""},{"$f":"IF($A132 = \"\", \"\", COUNTIFS(ToDoList!$B:$B, $A132, ToDoList!$R:$R, J$2))","v":""}]
[null,{"$f":"IF($A133 = \"\", \"\", COUNTIFS(ToDoList!$B:$B, $A133, ToDoList!$R:$R, B$2))","v":""},{"$f":"IF($A133 = \"\", \"\", COUNTIFS(ToDoList!$B:$B, $A133, ToDoList!$R:$R, C$2))","v":""},{"$f":"IF($A133 = \"\", \"\", COUNTIFS(ToDoList!$B:$B, $A133, ToDoList!$R:$R, D$2))","v":""},{"$f":"IF($A133 = \"\", \"\", COUNTIFS(ToDoList!$B:$B, $A133, ToDoList!$R:$R, E$2))","v":""},{"$f":"IF($A133 = \"\", \"\", COUNTIFS(ToDoList!$B:$B, $A133, ToDoList!$R:$R, F$2))","v":""},{"$f":"IF($A133 = \"\", \"\", COUNTIFS(ToDoList!$B:$B, $A133, ToDoList!$R:$R, G$2))","v":""},{"$f":"IF($A133 = \"\", \"\", COUNTIFS(ToDoList!$B:$B, $A133, ToDoList!$R:$R, H$2))","v":""},{"$f":"IF($A133 = \"\", \"\", COUNTIFS(ToDoList!$B:$B, $A133, ToDoList!$R:$R, I$2))","v":""},{"$f":"IF($A133 = \"\", \"\", COUNTIFS(ToDoList!$B:$B, $A133, ToDoList!$R:$R, J$2))","v":""}]
[null,{"$f":"IF($A134 = \"\", \"\", COUNTIFS(ToDoList!$B:$B, $A134, ToDoList!$R:$R, B$2))","v":""},{"$f":"IF($A134 = \"\", \"\", COUNTIFS(ToDoList!$B:$B, $A134, ToDoList!$R:$R, C$2))","v":""},{"$f":"IF($A134 = \"\", \"\", COUNTIFS(ToDoList!$B:$B, $A134, ToDoList!$R:$R, D$2))","v":""},{"$f":"IF($A134 = \"\", \"\", COUNTIFS(ToDoList!$B:$B, $A134, ToDoList!$R:$R, E$2))","v":""},{"$f":"IF($A134 = \"\", \"\", COUNTIFS(ToDoList!$B:$B, $A134, ToDoList!$R:$R, F$2))","v":""},{"$f":"IF($A134 = \"\", \"\", COUNTIFS(ToDoList!$B:$B, $A134, ToDoList!$R:$R, G$2))","v":""},{"$f":"IF($A134 = \"\", \"\", COUNTIFS(ToDoList!$B:$B, $A134, ToDoList!$R:$R, H$2))","v":""},{"$f":"IF($A134 = \"\", \"\", COUNTIFS(ToDoList!$B:$B, $A134, ToDoList!$R:$R, I$2))","v":""},{"$f":"IF($A134 = \"\", \"\", COUNTIFS(ToDoList!$B:$B, $A134, ToDoList!$R:$R, J$2))","v":""}]
[null,{"$f":"IF($A135 = \"\", \"\", COUNTIFS(ToDoList!$B:$B, $A135, ToDoList!$R:$R, B$2))","v":""},{"$f":"IF($A135 = \"\", \"\", COUNTIFS(ToDoList!$B:$B, $A135, ToDoList!$R:$R, C$2))","v":""},{"$f":"IF($A135 = \"\", \"\", COUNTIFS(ToDoList!$B:$B, $A135, ToDoList!$R:$R, D$2))","v":""},{"$f":"IF($A135 = \"\", \"\", COUNTIFS(ToDoList!$B:$B, $A135, ToDoList!$R:$R, E$2))","v":""},{"$f":"IF($A135 = \"\", \"\", COUNTIFS(ToDoList!$B:$B, $A135, ToDoList!$R:$R, F$2))","v":""},{"$f":"IF($A135 = \"\", \"\", COUNTIFS(ToDoList!$B:$B, $A135, ToDoList!$R:$R, G$2))","v":""},{"$f":"IF($A135 = \"\", \"\", COUNTIFS(ToDoList!$B:$B, $A135, ToDoList!$R:$R, H$2))","v":""},{"$f":"IF($A135 = \"\", \"\", COUNTIFS(ToDoList!$B:$B, $A135, ToDoList!$R:$R, I$2))","v":""},{"$f":"IF($A135 = \"\", \"\", COUNTIFS(ToDoList!$B:$B, $A135, ToDoList!$R:$R, J$2))","v":""}]
[null,{"$f":"IF($A136 = \"\", \"\", COUNTIFS(ToDoList!$B:$B, $A136, ToDoList!$R:$R, B$2))","v":""},{"$f":"IF($A136 = \"\", \"\", COUNTIFS(ToDoList!$B:$B, $A136, ToDoList!$R:$R, C$2))","v":""},{"$f":"IF($A136 = \"\", \"\", COUNTIFS(ToDoList!$B:$B, $A136, ToDoList!$R:$R, D$2))","v":""},{"$f":"IF($A136 = \"\", \"\", COUNTIFS(ToDoList!$B:$B, $A136, ToDoList!$R:$R, E$2))","v":""},{"$f":"IF($A136 = \"\", \"\", COUNTIFS(ToDoList!$B:$B, $A136, ToDoList!$R:$R, F$2))","v":""},{"$f":"IF($A136 = \"\", \"\", COUNTIFS(ToDoList!$B:$B, $A136, ToDoList!$R:$R, G$2))","v":""},{"$f":"IF($A136 = \"\", \"\", COUNTIFS(ToDoList!$B:$B, $A136, ToDoList!$R:$R, H$2))","v":""},{"$f":"IF($A136 = \"\", \"\", COUNTIFS(ToDoList!$B:$B, $A136, ToDoList!$R:$R, I$2))","v":""},{"$f":"IF($A136 = \"\", \"\", COUNTIFS(ToDoList!$B:$B, $A136, ToDoList!$R:$R, J$2))","v":""}]
[null,{"$f":"IF($A137 = \"\", \"\", COUNTIFS(ToDoList!$B:$B, $A137, ToDoList!$R:$R, B$2))","v":""},{"$f":"IF($A137 = \"\", \"\", COUNTIFS(ToDoList!$B:$B, $A137, ToDoList!$R:$R, C$2))","v":""},{"$f":"IF($A137 = \"\", \"\", COUNTIFS(ToDoList!$B:$B, $A137, ToDoList!$R:$R, D$2))","v":""},{"$f":"IF($A137 = \"\", \"\", COUNTIFS(ToDoList!$B:$B, $A137, ToDoList!$R:$R, E$2))","v":""},{"$f":"IF($A137 = \"\", \"\", COUNTIFS(ToDoList!$B:$B, $A137, ToDoList!$R:$R, F$2))","v":""},{"$f":"IF($A137 = \"\", \"\", COUNTIFS(ToDoList!$B:$B, $A137, ToDoList!$R:$R, G$2))","v":""},{"$f":"IF($A137 = \"\", \"\", COUNTIFS(ToDoList!$B:$B, $A137, ToDoList!$R:$R, H$2))","v":""},{"$f":"IF($A137 = \"\", \"\", COUNTIFS(ToDoList!$B:$B, $A137, ToDoList!$R:$R, I$2))","v":""},{"$f":"IF($A137 = \"\", \"\", COUNTIFS(ToDoList!$B:$B, $A137, ToDoList!$R:$R, J$2))","v":""}]
[null,{"$f":"IF($A138 = \"\", \"\", COUNTIFS(ToDoList!$B:$B, $A138, ToDoList!$R:$R, B$2))","v":""},{"$f":"IF($A138 = \"\", \"\", COUNTIFS(ToDoList!$B:$B, $A138, ToDoList!$R:$R, C$2))","v":""},{"$f":"IF($A138 = \"\", \"\", COUNTIFS(ToDoList!$B:$B, $A138, ToDoList!$R:$R, D$2))","v":""},{"$f":"IF($A138 = \"\", \"\", COUNTIFS(ToDoList!$B:$B, $A138, ToDoList!$R:$R, E$2))","v":""},{"$f":"IF($A138 = \"\", \"\", COUNTIFS(ToDoList!$B:$B, $A138, ToDoList!$R:$R, F$2))","v":""},{"$f":"IF($A138 = \"\", \"\", COUNTIFS(ToDoList!$B:$B, $A138, ToDoList!$R:$R, G$2))","v":""},{"$f":"IF($A138 = \"\", \"\", COUNTIFS(ToDoList!$B:$B, $A138, ToDoList!$R:$R, H$2))","v":""},{"$f":"IF($A138 = \"\", \"\", COUNTIFS(ToDoList!$B:$B, $A138, ToDoList!$R:$R, I$2))","v":""},{"$f":"IF($A138 = \"\", \"\", COUNTIFS(ToDoList!$B:$B, $A138, ToDoList!$R:$R, J$2))","v":""}]
[null,{"$f":"IF($A139 = \"\", \"\", COUNTIFS(ToDoList!$B:$B, $A139, ToDoList!$R:$R, B$2))","v":""},{"$f":"IF($A139 = \"\", \"\", COUNTIFS(ToDoList!$B:$B, $A139, ToDoList!$R:$R, C$2))","v":""},{"$f":"IF($A139 = \"\", \"\", COUNTIFS(ToDoList!$B:$B, $A139, ToDoList!$R:$R, D$2))","v":""},{"$f":"IF($A139 = \"\", \"\", COUNTIFS(ToDoList!$B:$B, $A139, ToDoList!$R:$R, E$2))","v":""},{"$f":"IF($A139 = \"\", \"\", COUNTIFS(ToDoList!$B:$B, $A139, ToDoList!$R:$R, F$2))","v":""},{"$f":"IF($A139 = \"\", \"\", COUNTIFS(ToDoList!$B:$B, $A139, ToDoList!$R:$R, G$2))","v":""},{"$f":"IF($A139 = \"\", \"\", COUNTIFS(ToDoList!$B:$B, $A139, ToDoList!$R:$R, H$2))","v":""},{"$f":"IF($A139 = \"\", \"\", COUNTIFS(ToDoList!$B:$B, $A139, ToDoList!$R:$R, I$2))","v":""},{"$f":"IF($A139 = \"\", \"\", COUNTIFS(ToDoList!$B:$B, $A139, ToDoList!$R:$R, J$2))","v":""}]
[null,{"$f":"IF($A140 = \"\", \"\", COUNTIFS(ToDoList!$B:$B, $A140, ToDoList!$R:$R, B$2))","v":""},{"$f":"IF($A140 = \"\", \"\", COUNTIFS(ToDoList!$B:$B, $A140, ToDoList!$R:$R, C$2))","v":""},{"$f":"IF($A140 = \"\", \"\", COUNTIFS(ToDoList!$B:$B, $A140, ToDoList!$R:$R, D$2))","v":""},{"$f":"IF($A140 = \"\", \"\", COUNTIFS(ToDoList!$B:$B, $A140, ToDoList!$R:$R, E$2))","v":""},{"$f":"IF($A140 = \"\", \"\", COUNTIFS(ToDoList!$B:$B, $A140, ToDoList!$R:$R, F$2))","v":""},{"$f":"IF($A140 = \"\", \"\", COUNTIFS(ToDoList!$B:$B, $A140, ToDoList!$R:$R, G$2))","v":""},{"$f":"IF($A140 = \"\", \"\", COUNTIFS(ToDoList!$B:$B, $A140, ToDoList!$R:$R, H$2))","v":""},{"$f":"IF($A140 = \"\", \"\", COUNTIFS(ToDoList!$B:$B, $A140, ToDoList!$R:$R, I$2))","v":""},{"$f":"IF($A140 = \"\", \"\", COUNTIFS(ToDoList!$B:$B, $A140, ToDoList!$R:$R, J$2))","v":""}]
[null,{"$f":"IF($A141 = \"\", \"\", COUNTIFS(ToDoList!$B:$B, $A141, ToDoList!$R:$R, B$2))","v":""},{"$f":"IF($A141 = \"\", \"\", COUNTIFS(ToDoList!$B:$B, $A141, ToDoList!$R:$R, C$2))","v":""},{"$f":"IF($A141 = \"\", \"\", COUNTIFS(ToDoList!$B:$B, $A141, ToDoList!$R:$R, D$2))","v":""},{"$f":"IF($A141 = \"\", \"\", COUNTIFS(ToDoList!$B:$B, $A141, ToDoList!$R:$R, E$2))","v":""},{"$f":"IF($A141 = \"\", \"\", COUNTIFS(ToDoList!$B:$B, $A141, ToDoList!$R:$R, F$2))","v":""},{"$f":"IF($A141 = \"\", \"\", COUNTIFS(ToDoList!$B:$B, $A141, ToDoList!$R:$R, G$2))","v":""},{"$f":"IF($A141 = \"\", \"\", COUNTIFS(ToDoList!$B:$B, $A141, ToDoList!$R:$R, H$2))","v":""},{"$f":"IF($A141 = \"\", \"\", COUNTIFS(ToDoList!$B:$B, $A141, ToDoList!$R:$R, I$2))","v":""},{"$f":"IF($A141 = \"\", \"\", COUNTIFS(ToDoList!$B:$B, $A141, ToDoList!$R:$R, J$2))","v":""}]
[null,{"$f":"IF($A142 = \"\", \"\", COUNTIFS(ToDoList!$B:$B, $A142, ToDoList!$R:$R, B$2))","v":""},{"$f":"IF($A142 = \"\", \"\", COUNTIFS(ToDoList!$B:$B, $A142, ToDoList!$R:$R, C$2))","v":""},{"$f":"IF($A142 = \"\", \"\", COUNTIFS(ToDoList!$B:$B, $A142, ToDoList!$R:$R, D$2))","v":""},{"$f":"IF($A142 = \"\", \"\", COUNTIFS(ToDoList!$B:$B, $A142, ToDoList!$R:$R, E$2))","v":""},{"$f":"IF($A142 = \"\", \"\", COUNTIFS(ToDoList!$B:$B, $A142, ToDoList!$R:$R, F$2))","v":""},{"$f":"IF($A142 = \"\", \"\", COUNTIFS(ToDoList!$B:$B, $A142, ToDoList!$R:$R, G$2))","v":""},{"$f":"IF($A142 = \"\", \"\", COUNTIFS(ToDoList!$B:$B, $A142, ToDoList!$R:$R, H$2))","v":""},{"$f":"IF($A142 = \"\", \"\", COUNTIFS(ToDoList!$B:$B, $A142, ToDoList!$R:$R, I$2))","v":""},{"$f":"IF($A142 = \"\", \"\", COUNTIFS(ToDoList!$B:$B, $A142, ToDoList!$R:$R, J$2))","v":""}]
[null,{"$f":"IF($A143 = \"\", \"\", COUNTIFS(ToDoList!$B:$B, $A143, ToDoList!$R:$R, B$2))","v":""},{"$f":"IF($A143 = \"\", \"\", COUNTIFS(ToDoList!$B:$B, $A143, ToDoList!$R:$R, C$2))","v":""},{"$f":"IF($A143 = \"\", \"\", COUNTIFS(ToDoList!$B:$B, $A143, ToDoList!$R:$R, D$2))","v":""},{"$f":"IF($A143 = \"\", \"\", COUNTIFS(ToDoList!$B:$B, $A143, ToDoList!$R:$R, E$2))","v":""},{"$f":"IF($A143 = \"\", \"\", COUNTIFS(ToDoList!$B:$B, $A143, ToDoList!$R:$R, F$2))","v":""},{"$f":"IF($A143 = \"\", \"\", COUNTIFS(ToDoList!$B:$B, $A143, ToDoList!$R:$R, G$2))","v":""},{"$f":"IF($A143 = \"\", \"\", COUNTIFS(ToDoList!$B:$B, $A143, ToDoList!$R:$R, H$2))","v":""},{"$f":"IF($A143 = \"\", \"\", COUNTIFS(ToDoList!$B:$B, $A143, ToDoList!$R:$R, I$2))","v":""},{"$f":"IF($A143 = \"\", \"\", COUNTIFS(ToDoList!$B:$B, $A143, ToDoList!$R:$R, J$2))","v":""}]
[null,{"$f":"IF($A144 = \"\", \"\", COUNTIFS(ToDoList!$B:$B, $A144, ToDoList!$R:$R, B$2))","v":""},{"$f":"IF($A144 = \"\", \"\", COUNTIFS(ToDoList!$B:$B, $A144, ToDoList!$R:$R, C$2))","v":""},{"$f":"IF($A144 = \"\", \"\", COUNTIFS(ToDoList!$B:$B, $A144, ToDoList!$R:$R, D$2))","v":""},{"$f":"IF($A144 = \"\", \"\", COUNTIFS(ToDoList!$B:$B, $A144, ToDoList!$R:$R, E$2))","v":""},{"$f":"IF($A144 = \"\", \"\", COUNTIFS(ToDoList!$B:$B, $A144, ToDoList!$R:$R, F$2))","v":""},{"$f":"IF($A144 = \"\", \"\", COUNTIFS(ToDoList!$B:$B, $A144, ToDoList!$R:$R, G$2))","v":""},{"$f":"IF($A144 = \"\", \"\", COUNTIFS(ToDoList!$B:$B, $A144, ToDoList!$R:$R, H$2))","v":""},{"$f":"IF($A144 = \"\", \"\", COUNTIFS(ToDoList!$B:$B, $A144, ToDoList!$R:$R, I$2))","v":""},{"$f":"IF($A144 = \"\", \"\", COUNTIFS(ToDoList!$B:$B, $A144, ToDoList!$R:$R, J$2))","v":""}]
[null,{"$f":"IF($A145 = \"\", \"\", COUNTIFS(ToDoList!$B:$B, $A145, ToDoList!$R:$R, B$2))","v":""},{"$f":"IF($A145 = \"\", \"\", COUNTIFS(ToDoList!$B:$B, $A145, ToDoList!$R:$R, C$2))","v":""},{"$f":"IF($A145 = \"\", \"\", COUNTIFS(ToDoList!$B:$B, $A145, ToDoList!$R:$R, D$2))","v":""},{"$f":"IF($A145 = \"\", \"\", COUNTIFS(ToDoList!$B:$B, $A145, ToDoList!$R:$R, E$2))","v":""},{"$f":"IF($A145 = \"\", \"\", COUNTIFS(ToDoList!$B:$B, $A145, ToDoList!$R:$R, F$2))","v":""},{"$f":"IF($A145 = \"\", \"\", COUNTIFS(ToDoList!$B:$B, $A145, ToDoList!$R:$R, G$2))","v":""},{"$f":"IF($A145 = \"\", \"\", COUNTIFS(ToDoList!$B:$B, $A145, ToDoList!$R:$R, H$2))","v":""},{"$f":"IF($A145 = \"\", \"\", COUNTIFS(ToDoList!$B:$B, $A145, ToDoList!$R:$R, I$2))","v":""},{"$f":"IF($A145 = \"\", \"\", COUNTIFS(ToDoList!$B:$B, $A145, ToDoList!$R:$R, J$2))","v":""}]
[null,{"$f":"IF($A146 = \"\", \"\", COUNTIFS(ToDoList!$B:$B, $A146, ToDoList!$R:$R, B$2))","v":""},{"$f":"IF($A146 = \"\", \"\", COUNTIFS(ToDoList!$B:$B, $A146, ToDoList!$R:$R, C$2))","v":""},{"$f":"IF($A146 = \"\", \"\", COUNTIFS(ToDoList!$B:$B, $A146, ToDoList!$R:$R, D$2))","v":""},{"$f":"IF($A146 = \"\", \"\", COUNTIFS(ToDoList!$B:$B, $A146, ToDoList!$R:$R, E$2))","v":""},{"$f":"IF($A146 = \"\", \"\", COUNTIFS(ToDoList!$B:$B, $A146, ToDoList!$R:$R, F$2))","v":""},{"$f":"IF($A146 = \"\", \"\", COUNTIFS(ToDoList!$B:$B, $A146, ToDoList!$R:$R, G$2))","v":""},{"$f":"IF($A146 = \"\", \"\", COUNTIFS(ToDoList!$B:$B, $A146, ToDoList!$R:$R, H$2))","v":""},{"$f":"IF($A146 = \"\", \"\", COUNTIFS(ToDoList!$B:$B, $A146, ToDoList!$R:$R, I$2))","v":""},{"$f":"IF($A146 = \"\", \"\", COUNTIFS(ToDoList!$B:$B, $A146, ToDoList!$R:$R, J$2))","v":""}]
[null,{"$f":"IF($A147 = \"\", \"\", COUNTIFS(ToDoList!$B:$B, $A147, ToDoList!$R:$R, B$2))","v":""},{"$f":"IF($A147 = \"\", \"\", COUNTIFS(ToDoList!$B:$B, $A147, ToDoList!$R:$R, C$2))","v":""},{"$f":"IF($A147 = \"\", \"\", COUNTIFS(ToDoList!$B:$B, $A147, ToDoList!$R:$R, D$2))","v":""},{"$f":"IF($A147 = \"\", \"\", COUNTIFS(ToDoList!$B:$B, $A147, ToDoList!$R:$R, E$2))","v":""},{"$f":"IF($A147 = \"\", \"\", COUNTIFS(ToDoList!$B:$B, $A147, ToDoList!$R:$R, F$2))","v":""},{"$f":"IF($A147 = \"\", \"\", COUNTIFS(ToDoList!$B:$B, $A147, ToDoList!$R:$R, G$2))","v":""},{"$f":"IF($A147 = \"\", \"\", COUNTIFS(ToDoList!$B:$B, $A147, ToDoList!$R:$R, H$2))","v":""},{"$f":"IF($A147 = \"\", \"\", COUNTIFS(ToDoList!$B:$B, $A147, ToDoList!$R:$R, I$2))","v":""},{"$f":"IF($A147 = \"\", \"\", COUNTIFS(ToDoList!$B:$B, $A147, ToDoList!$R:$R, J$2))","v":""}]
[null,{"$f":"IF($A148 = \"\", \"\", COUNTIFS(ToDoList!$B:$B, $A148, ToDoList!$R:$R, B$2))","v":""},{"$f":"IF($A148 = \"\", \"\", COUNTIFS(ToDoList!$B:$B, $A148, ToDoList!$R:$R, C$2))","v":""},{"$f":"IF($A148 = \"\", \"\", COUNTIFS(ToDoList!$B:$B, $A148, ToDoList!$R:$R, D$2))","v":""},{"$f":"IF($A148 = \"\", \"\", COUNTIFS(ToDoList!$B:$B, $A148, ToDoList!$R:$R, E$2))","v":""},{"$f":"IF($A148 = \"\", \"\", COUNTIFS(ToDoList!$B:$B, $A148, ToDoList!$R:$R, F$2))","v":""},{"$f":"IF($A148 = \"\", \"\", COUNTIFS(ToDoList!$B:$B, $A148, ToDoList!$R:$R, G$2))","v":""},{"$f":"IF($A148 = \"\", \"\", COUNTIFS(ToDoList!$B:$B, $A148, ToDoList!$R:$R, H$2))","v":""},{"$f":"IF($A148 = \"\", \"\", COUNTIFS(ToDoList!$B:$B, $A148, ToDoList!$R:$R, I$2))","v":""},{"$f":"IF($A148 = \"\", \"\", COUNTIFS(ToDoList!$B:$B, $A148, ToDoList!$R:$R, J$2))","v":""}]
[null,{"$f":"IF($A149 = \"\", \"\", COUNTIFS(ToDoList!$B:$B, $A149, ToDoList!$R:$R, B$2))","v":""},{"$f":"IF($A149 = \"\", \"\", COUNTIFS(ToDoList!$B:$B, $A149, ToDoList!$R:$R, C$2))","v":""},{"$f":"IF($A149 = \"\", \"\", COUNTIFS(ToDoList!$B:$B, $A149, ToDoList!$R:$R, D$2))","v":""},{"$f":"IF($A149 = \"\", \"\", COUNTIFS(ToDoList!$B:$B, $A149, ToDoList!$R:$R, E$2))","v":""},{"$f":"IF($A149 = \"\", \"\", COUNTIFS(ToDoList!$B:$B, $A149, ToDoList!$R:$R, F$2))","v":""},{"$f":"IF($A149 = \"\", \"\", COUNTIFS(ToDoList!$B:$B, $A149, ToDoList!$R:$R, G$2))","v":""},{"$f":"IF($A149 = \"\", \"\", COUNTIFS(ToDoList!$B:$B, $A149, ToDoList!$R:$R, H$2))","v":""},{"$f":"IF($A149 = \"\", \"\", COUNTIFS(ToDoList!$B:$B, $A149, ToDoList!$R:$R, I$2))","v":""},{"$f":"IF($A149 = \"\", \"\", COUNTIFS(ToDoList!$B:$B, $A149, ToDoList!$R:$R, J$2))","v":""}]
[null,{"$f":"IF($A150 = \"\", \"\", COUNTIFS(ToDoList!$B:$B, $A150, ToDoList!$R:$R, B$2))","v":""},{"$f":"IF($A150 = \"\", \"\", COUNTIFS(ToDoList!$B:$B, $A150, ToDoList!$R:$R, C$2))","v":""},{"$f":"IF($A150 = \"\", \"\", COUNTIFS(ToDoList!$B:$B, $A150, ToDoList!$R:$R, D$2))","v":""},{"$f":"IF($A150 = \"\", \"\", COUNTIFS(ToDoList!$B:$B, $A150, ToDoList!$R:$R, E$2))","v":""},{"$f":"IF($A150 = \"\", \"\", COUNTIFS(ToDoList!$B:$B, $A150, ToDoList!$R:$R, F$2))","v":""},{"$f":"IF($A150 = \"\", \"\", COUNTIFS(ToDoList!$B:$B, $A150, ToDoList!$R:$R, G$2))","v":""},{"$f":"IF($A150 = \"\", \"\", COUNTIFS(ToDoList!$B:$B, $A150, ToDoList!$R:$R, H$2))","v":""},{"$f":"IF($A150 = \"\", \"\", COUNTIFS(ToDoList!$B:$B, $A150, ToDoList!$R:$R, I$2))","v":""},{"$f":"IF($A150 = \"\", \"\", COUNTIFS(ToDoList!$B:$B, $A150, ToDoList!$R:$R, J$2))","v":""}]
[null,{"$f":"IF($A151 = \"\", \"\", COUNTIFS(ToDoList!$B:$B, $A151, ToDoList!$R:$R, B$2))","v":""},{"$f":"IF($A151 = \"\", \"\", COUNTIFS(ToDoList!$B:$B, $A151, ToDoList!$R:$R, C$2))","v":""},{"$f":"IF($A151 = \"\", \"\", COUNTIFS(ToDoList!$B:$B, $A151, ToDoList!$R:$R, D$2))","v":""},{"$f":"IF($A151 = \"\", \"\", COUNTIFS(ToDoList!$B:$B, $A151, ToDoList!$R:$R, E$2))","v":""},{"$f":"IF($A151 = \"\", \"\", COUNTIFS(ToDoList!$B:$B, $A151, ToDoList!$R:$R, F$2))","v":""},{"$f":"IF($A151 = \"\", \"\", COUNTIFS(ToDoList!$B:$B, $A151, ToDoList!$R:$R, G$2))","v":""},{"$f":"IF($A151 = \"\", \"\", COUNTIFS(ToDoList!$B:$B, $A151, ToDoList!$R:$R, H$2))","v":""},{"$f":"IF($A151 = \"\", \"\", COUNTIFS(ToDoList!$B:$B, $A151, ToDoList!$R:$R, I$2))","v":""},{"$f":"IF($A151 = \"\", \"\", COUNTIFS(ToDoList!$B:$B, $A151, ToDoList!$R:$R, J$2))","v":""}]
[null,{"$f":"IF($A152 = \"\", \"\", COUNTIFS(ToDoList!$B:$B, $A152, ToDoList!$R:$R, B$2))","v":""},{"$f":"IF($A152 = \"\", \"\", COUNTIFS(ToDoList!$B:$B, $A152, ToDoList!$R:$R, C$2))","v":""},{"$f":"IF($A152 = \"\", \"\", COUNTIFS(ToDoList!$B:$B, $A152, ToDoList!$R:$R, D$2))","v":""},{"$f":"IF($A152 = \"\", \"\", COUNTIFS(ToDoList!$B:$B, $A152, ToDoList!$R:$R, E$2))","v":""},{"$f":"IF($A152 = \"\", \"\", COUNTIFS(ToDoList!$B:$B, $A152, ToDoList!$R:$R, F$2))","v":""},{"$f":"IF($A152 = \"\", \"\", COUNTIFS(ToDoList!$B:$B, $A152, ToDoList!$R:$R, G$2))","v":""},{"$f":"IF($A152 = \"\", \"\", COUNTIFS(ToDoList!$B:$B, $A152, ToDoList!$R:$R, H$2))","v":""},{"$f":"IF($A152 = \"\", \"\", COUNTIFS(ToDoList!$B:$B, $A152, ToDoList!$R:$R, I$2))","v":""},{"$f":"IF($A152 = \"\", \"\", COUNTIFS(ToDoList!$B:$B, $A152, ToDoList!$R:$R, J$2))","v":""}]
[null,{"$f":"IF($A153 = \"\", \"\", COUNTIFS(ToDoList!$B:$B, $A153, ToDoList!$R:$R, B$2))","v":""},{"$f":"IF($A153 = \"\", \"\", COUNTIFS(ToDoList!$B:$B, $A153, ToDoList!$R:$R, C$2))","v":""},{"$f":"IF($A153 = \"\", \"\", COUNTIFS(ToDoList!$B:$B, $A153, ToDoList!$R:$R, D$2))","v":""},{"$f":"IF($A153 = \"\", \"\", COUNTIFS(ToDoList!$B:$B, $A153, ToDoList!$R:$R, E$2))","v":""},{"$f":"IF($A153 = \"\", \"\", COUNTIFS(ToDoList!$B:$B, $A153, ToDoList!$R:$R, F$2))","v":""},{"$f":"IF($A153 = \"\", \"\", COUNTIFS(ToDoList!$B:$B, $A153, ToDoList!$R:$R, G$2))","v":""},{"$f":"IF($A153 = \"\", \"\", COUNTIFS(ToDoList!$B:$B, $A153, ToDoList!$R:$R, H$2))","v":""},{"$f":"IF($A153 = \"\", \"\", COUNTIFS(ToDoList!$B:$B, $A153, ToDoList!$R:$R, I$2))","v":""},{"$f":"IF($A153 = \"\", \"\", COUNTIFS(ToDoList!$B:$B, $A153, ToDoList!$R:$R, J$2))","v":""}]
[null,{"$f":"IF($A154 = \"\", \"\", COUNTIFS(ToDoList!$B:$B, $A154, ToDoList!$R:$R, B$2))","v":""},{"$f":"IF($A154 = \"\", \"\", COUNTIFS(ToDoList!$B:$B, $A154, ToDoList!$R:$R, C$2))","v":""},{"$f":"IF($A154 = \"\", \"\", COUNTIFS(ToDoList!$B:$B, $A154, ToDoList!$R:$R, D$2))","v":""},{"$f":"IF($A154 = \"\", \"\", COUNTIFS(ToDoList!$B:$B, $A154, ToDoList!$R:$R, E$2))","v":""},{"$f":"IF($A154 = \"\", \"\", COUNTIFS(ToDoList!$B:$B, $A154, ToDoList!$R:$R, F$2))","v":""},{"$f":"IF($A154 = \"\", \"\", COUNTIFS(ToDoList!$B:$B, $A154, ToDoList!$R:$R, G$2))","v":""},{"$f":"IF($A154 = \"\", \"\", COUNTIFS(ToDoList!$B:$B, $A154, ToDoList!$R:$R, H$2))","v":""},{"$f":"IF($A154 = \"\", \"\", COUNTIFS(ToDoList!$B:$B, $A154, ToDoList!$R:$R, I$2))","v":""},{"$f":"IF($A154 = \"\", \"\", COUNTIFS(ToDoList!$B:$B, $A154, ToDoList!$R:$R, J$2))","v":""}]
[null,{"$f":"IF($A155 = \"\", \"\", COUNTIFS(ToDoList!$B:$B, $A155, ToDoList!$R:$R, B$2))","v":""},{"$f":"IF($A155 = \"\", \"\", COUNTIFS(ToDoList!$B:$B, $A155, ToDoList!$R:$R, C$2))","v":""},{"$f":"IF($A155 = \"\", \"\", COUNTIFS(ToDoList!$B:$B, $A155, ToDoList!$R:$R, D$2))","v":""},{"$f":"IF($A155 = \"\", \"\", COUNTIFS(ToDoList!$B:$B, $A155, ToDoList!$R:$R, E$2))","v":""},{"$f":"IF($A155 = \"\", \"\", COUNTIFS(ToDoList!$B:$B, $A155, ToDoList!$R:$R, F$2))","v":""},{"$f":"IF($A155 = \"\", \"\", COUNTIFS(ToDoList!$B:$B, $A155, ToDoList!$R:$R, G$2))","v":""},{"$f":"IF($A155 = \"\", \"\", COUNTIFS(ToDoList!$B:$B, $A155, ToDoList!$R:$R, H$2))","v":""},{"$f":"IF($A155 = \"\", \"\", COUNTIFS(ToDoList!$B:$B, $A155, ToDoList!$R:$R, I$2))","v":""},{"$f":"IF($A155 = \"\", \"\", COUNTIFS(ToDoList!$B:$B, $A155, ToDoList!$R:$R, J$2))","v":""}]
[null,{"$f":"IF($A156 = \"\", \"\", COUNTIFS(ToDoList!$B:$B, $A156, ToDoList!$R:$R, B$2))","v":""},{"$f":"IF($A156 = \"\", \"\", COUNTIFS(ToDoList!$B:$B, $A156, ToDoList!$R:$R, C$2))","v":""},{"$f":"IF($A156 = \"\", \"\", COUNTIFS(ToDoList!$B:$B, $A156, ToDoList!$R:$R, D$2))","v":""},{"$f":"IF($A156 = \"\", \"\", COUNTIFS(ToDoList!$B:$B, $A156, ToDoList!$R:$R, E$2))","v":""},{"$f":"IF($A156 = \"\", \"\", COUNTIFS(ToDoList!$B:$B, $A156, ToDoList!$R:$R, F$2))","v":""},{"$f":"IF($A156 = \"\", \"\", COUNTIFS(ToDoList!$B:$B, $A156, ToDoList!$R:$R, G$2))","v":""},{"$f":"IF($A156 = \"\", \"\", COUNTIFS(ToDoList!$B:$B, $A156, ToDoList!$R:$R, H$2))","v":""},{"$f":"IF($A156 = \"\", \"\", COUNTIFS(ToDoList!$B:$B, $A156, ToDoList!$R:$R, I$2))","v":""},{"$f":"IF($A156 = \"\", \"\", COUNTIFS(ToDoList!$B:$B, $A156, ToDoList!$R:$R, J$2))","v":""}]
[null,{"$f":"IF($A157 = \"\", \"\", COUNTIFS(ToDoList!$B:$B, $A157, ToDoList!$R:$R, B$2))","v":""},{"$f":"IF($A157 = \"\", \"\", COUNTIFS(ToDoList!$B:$B, $A157, ToDoList!$R:$R, C$2))","v":""},{"$f":"IF($A157 = \"\", \"\", COUNTIFS(ToDoList!$B:$B, $A157, ToDoList!$R:$R, D$2))","v":""},{"$f":"IF($A157 = \"\", \"\", COUNTIFS(ToDoList!$B:$B, $A157, ToDoList!$R:$R, E$2))","v":""},{"$f":"IF($A157 = \"\", \"\", COUNTIFS(ToDoList!$B:$B, $A157, ToDoList!$R:$R, F$2))","v":""},{"$f":"IF($A157 = \"\", \"\", COUNTIFS(ToDoList!$B:$B, $A157, ToDoList!$R:$R, G$2))","v":""},{"$f":"IF($A157 = \"\", \"\", COUNTIFS(ToDoList!$B:$B, $A157, ToDoList!$R:$R, H$2))","v":""},{"$f":"IF($A157 = \"\", \"\", COUNTIFS(ToDoList!$B:$B, $A157, ToDoList!$R:$R, I$2))","v":""},{"$f":"IF($A157 = \"\", \"\", COUNTIFS(ToDoList!$B:$B, $A157, ToDoList!$R:$R, J$2))","v":""}]
[null,{"$f":"IF($A158 = \"\", \"\", COUNTIFS(ToDoList!$B:$B, $A158, ToDoList!$R:$R, B$2))","v":""},{"$f":"IF($A158 = \"\", \"\", COUNTIFS(ToDoList!$B:$B, $A158, ToDoList!$R:$R, C$2))","v":""},{"$f":"IF($A158 = \"\", \"\", COUNTIFS(ToDoList!$B:$B, $A158, ToDoList!$R:$R, D$2))","v":""},{"$f":"IF($A158 = \"\", \"\", COUNTIFS(ToDoList!$B:$B, $A158, ToDoList!$R:$R, E$2))","v":""},{"$f":"IF($A158 = \"\", \"\", COUNTIFS(ToDoList!$B:$B, $A158, ToDoList!$R:$R, F$2))","v":""},{"$f":"IF($A158 = \"\", \"\", COUNTIFS(ToDoList!$B:$B, $A158, ToDoList!$R:$R, G$2))","v":""},{"$f":"IF($A158 = \"\", \"\", COUNTIFS(ToDoList!$B:$B, $A158, ToDoList!$R:$R, H$2))","v":""},{"$f":"IF($A158 = \"\", \"\", COUNTIFS(ToDoList!$B:$B, $A158, ToDoList!$R:$R, I$2))","v":""},{"$f":"IF($A158 = \"\", \"\", COUNTIFS(ToDoList!$B:$B, $A158, ToDoList!$R:$R, J$2))","v":""}]
[null,{"$f":"IF($A159 = \"\", \"\", COUNTIFS(ToDoList!$B:$B, $A159, ToDoList!$R:$R, B$2))","v":""},{"$f":"IF($A159 = \"\", \"\", COUNTIFS(ToDoList!$B:$B, $A159, ToDoList!$R:$R, C$2))","v":""},{"$f":"IF($A159 = \"\", \"\", COUNTIFS(ToDoList!$B:$B, $A159, ToDoList!$R:$R, D$2))","v":""},{"$f":"IF($A159 = \"\", \"\", COUNTIFS(ToDoList!$B:$B, $A159, ToDoList!$R:$R, E$2))","v":""},{"$f":"IF($A159 = \"\", \"\", COUNTIFS(ToDoList!$B:$B, $A159, ToDoList!$R:$R, F$2))","v":""},{"$f":"IF($A159 = \"\", \"\", COUNTIFS(ToDoList!$B:$B, $A159, ToDoList!$R:$R, G$2))","v":""},{"$f":"IF($A159 = \"\", \"\", COUNTIFS(ToDoList!$B:$B, $A159, ToDoList!$R:$R, H$2))","v":""},{"$f":"IF($A159 = \"\", \"\", COUNTIFS(ToDoList!$B:$B, $A159, ToDoList!$R:$R, I$2))","v":""},{"$f":"IF($A159 = \"\", \"\", COUNTIFS(ToDoList!$B:$B, $A159, ToDoList!$R:$R, J$2))","v":""}]
[null,{"$f":"IF($A160 = \"\", \"\", COUNTIFS(ToDoList!$B:$B, $A160, ToDoList!$R:$R, B$2))","v":""},{"$f":"IF($A160 = \"\", \"\", COUNTIFS(ToDoList!$B:$B, $A160, ToDoList!$R:$R, C$2))","v":""},{"$f":"IF($A160 = \"\", \"\", COUNTIFS(ToDoList!$B:$B, $A160, ToDoList!$R:$R, D$2))","v":""},{"$f":"IF($A160 = \"\", \"\", COUNTIFS(ToDoList!$B:$B, $A160, ToDoList!$R:$R, E$2))","v":""},{"$f":"IF($A160 = \"\", \"\", COUNTIFS(ToDoList!$B:$B, $A160, ToDoList!$R:$R, F$2))","v":""},{"$f":"IF($A160 = \"\", \"\", COUNTIFS(ToDoList!$B:$B, $A160, ToDoList!$R:$R, G$2))","v":""},{"$f":"IF($A160 = \"\", \"\", COUNTIFS(ToDoList!$B:$B, $A160, ToDoList!$R:$R, H$2))","v":""},{"$f":"IF($A160 = \"\", \"\", COUNTIFS(ToDoList!$B:$B, $A160, ToDoList!$R:$R, I$2))","v":""},{"$f":"IF($A160 = \"\", \"\", COUNTIFS(ToDoList!$B:$B, $A160, ToDoList!$R:$R, J$2))","v":""}]
[null,{"$f":"IF($A161 = \"\", \"\", COUNTIFS(ToDoList!$B:$B, $A161, ToDoList!$R:$R, B$2))","v":""},{"$f":"IF($A161 = \"\", \"\", COUNTIFS(ToDoList!$B:$B, $A161, ToDoList!$R:$R, C$2))","v":""},{"$f":"IF($A161 = \"\", \"\", COUNTIFS(ToDoList!$B:$B, $A161, ToDoList!$R:$R, D$2))","v":""},{"$f":"IF($A161 = \"\", \"\", COUNTIFS(ToDoList!$B:$B, $A161, ToDoList!$R:$R, E$2))","v":""},{"$f":"IF($A161 = \"\", \"\", COUNTIFS(ToDoList!$B:$B, $A161, ToDoList!$R:$R, F$2))","v":""},{"$f":"IF($A161 = \"\", \"\", COUNTIFS(ToDoList!$B:$B, $A161, ToDoList!$R:$R, G$2))","v":""},{"$f":"IF($A161 = \"\", \"\", COUNTIFS(ToDoList!$B:$B, $A161, ToDoList!$R:$R, H$2))","v":""},{"$f":"IF($A161 = \"\", \"\", COUNTIFS(ToDoList!$B:$B, $A161, ToDoList!$R:$R, I$2))","v":""},{"$f":"IF($A161 = \"\", \"\", COUNTIFS(ToDoList!$B:$B, $A161, ToDoList!$R:$R, J$2))","v":""}]
[null,{"$f":"IF($A162 = \"\", \"\", COUNTIFS(ToDoList!$B:$B, $A162, ToDoList!$R:$R, B$2))","v":""},{"$f":"IF($A162 = \"\", \"\", COUNTIFS(ToDoList!$B:$B, $A162, ToDoList!$R:$R, C$2))","v":""},{"$f":"IF($A162 = \"\", \"\", COUNTIFS(ToDoList!$B:$B, $A162, ToDoList!$R:$R, D$2))","v":""},{"$f":"IF($A162 = \"\", \"\", COUNTIFS(ToDoList!$B:$B, $A162, ToDoList!$R:$R, E$2))","v":""},{"$f":"IF($A162 = \"\", \"\", COUNTIFS(ToDoList!$B:$B, $A162, ToDoList!$R:$R, F$2))","v":""},{"$f":"IF($A162 = \"\", \"\", COUNTIFS(ToDoList!$B:$B, $A162, ToDoList!$R:$R, G$2))","v":""},{"$f":"IF($A162 = \"\", \"\", COUNTIFS(ToDoList!$B:$B, $A162, ToDoList!$R:$R, H$2))","v":""},{"$f":"IF($A162 = \"\", \"\", COUNTIFS(ToDoList!$B:$B, $A162, ToDoList!$R:$R, I$2))","v":""},{"$f":"IF($A162 = \"\", \"\", COUNTIFS(ToDoList!$B:$B, $A162, ToDoList!$R:$R, J$2))","v":""}]
[null,{"$f":"IF($A163 = \"\", \"\", COUNTIFS(ToDoList!$B:$B, $A163, ToDoList!$R:$R, B$2))","v":""},{"$f":"IF($A163 = \"\", \"\", COUNTIFS(ToDoList!$B:$B, $A163, ToDoList!$R:$R, C$2))","v":""},{"$f":"IF($A163 = \"\", \"\", COUNTIFS(ToDoList!$B:$B, $A163, ToDoList!$R:$R, D$2))","v":""},{"$f":"IF($A163 = \"\", \"\", COUNTIFS(ToDoList!$B:$B, $A163, ToDoList!$R:$R, E$2))","v":""},{"$f":"IF($A163 = \"\", \"\", COUNTIFS(ToDoList!$B:$B, $A163, ToDoList!$R:$R, F$2))","v":""},{"$f":"IF($A163 = \"\", \"\", COUNTIFS(ToDoList!$B:$B, $A163, ToDoList!$R:$R, G$2))","v":""},{"$f":"IF($A163 = \"\", \"\", COUNTIFS(ToDoList!$B:$B, $A163, ToDoList!$R:$R, H$2))","v":""},{"$f":"IF($A163 = \"\", \"\", COUNTIFS(ToDoList!$B:$B, $A163, ToDoList!$R:$R, I$2))","v":""},{"$f":"IF($A163 = \"\", \"\", COUNTIFS(ToDoList!$B:$B, $A163, ToDoList!$R:$R, J$2))","v":""}]
[null,{"$f":"IF($A164 = \"\", \"\", COUNTIFS(ToDoList!$B:$B, $A164, ToDoList!$R:$R, B$2))","v":""},{"$f":"IF($A164 = \"\", \"\", COUNTIFS(ToDoList!$B:$B, $A164, ToDoList!$R:$R, C$2))","v":""},{"$f":"IF($A164 = \"\", \"\", COUNTIFS(ToDoList!$B:$B, $A164, ToDoList!$R:$R, D$2))","v":""},{"$f":"IF($A164 = \"\", \"\", COUNTIFS(ToDoList!$B:$B, $A164, ToDoList!$R:$R, E$2))","v":""},{"$f":"IF($A164 = \"\", \"\", COUNTIFS(ToDoList!$B:$B, $A164, ToDoList!$R:$R, F$2))","v":""},{"$f":"IF($A164 = \"\", \"\", COUNTIFS(ToDoList!$B:$B, $A164, ToDoList!$R:$R, G$2))","v":""},{"$f":"IF($A164 = \"\", \"\", COUNTIFS(ToDoList!$B:$B, $A164, ToDoList!$R:$R, H$2))","v":""},{"$f":"IF($A164 = \"\", \"\", COUNTIFS(ToDoList!$B:$B, $A164, ToDoList!$R:$R, I$2))","v":""},{"$f":"IF($A164 = \"\", \"\", COUNTIFS(ToDoList!$B:$B, $A164, ToDoList!$R:$R, J$2))","v":""}]
[null,{"$f":"IF($A165 = \"\", \"\", COUNTIFS(ToDoList!$B:$B, $A165, ToDoList!$R:$R, B$2))","v":""},{"$f":"IF($A165 = \"\", \"\", COUNTIFS(ToDoList!$B:$B, $A165, ToDoList!$R:$R, C$2))","v":""},{"$f":"IF($A165 = \"\", \"\", COUNTIFS(ToDoList!$B:$B, $A165, ToDoList!$R:$R, D$2))","v":""},{"$f":"IF($A165 = \"\", \"\", COUNTIFS(ToDoList!$B:$B, $A165, ToDoList!$R:$R, E$2))","v":""},{"$f":"IF($A165 = \"\", \"\", COUNTIFS(ToDoList!$B:$B, $A165, ToDoList!$R:$R, F$2))","v":""},{"$f":"IF($A165 = \"\", \"\", COUNTIFS(ToDoList!$B:$B, $A165, ToDoList!$R:$R, G$2))","v":""},{"$f":"IF($A165 = \"\", \"\", COUNTIFS(ToDoList!$B:$B, $A165, ToDoList!$R:$R, H$2))","v":""},{"$f":"IF($A165 = \"\", \"\", COUNTIFS(ToDoList!$B:$B, $A165, ToDoList!$R:$R, I$2))","v":""},{"$f":"IF($A165 = \"\", \"\", COUNTIFS(ToDoList!$B:$B, $A165, ToDoList!$R:$R, J$2))","v":""}]
[null,{"$f":"IF($A166 = \"\", \"\", COUNTIFS(ToDoList!$B:$B, $A166, ToDoList!$R:$R, B$2))","v":""},{"$f":"IF($A166 = \"\", \"\", COUNTIFS(ToDoList!$B:$B, $A166, ToDoList!$R:$R, C$2))","v":""},{"$f":"IF($A166 = \"\", \"\", COUNTIFS(ToDoList!$B:$B, $A166, ToDoList!$R:$R, D$2))","v":""},{"$f":"IF($A166 = \"\", \"\", COUNTIFS(ToDoList!$B:$B, $A166, ToDoList!$R:$R, E$2))","v":""},{"$f":"IF($A166 = \"\", \"\", COUNTIFS(ToDoList!$B:$B, $A166, ToDoList!$R:$R, F$2))","v":""},{"$f":"IF($A166 = \"\", \"\", COUNTIFS(ToDoList!$B:$B, $A166, ToDoList!$R:$R, G$2))","v":""},{"$f":"IF($A166 = \"\", \"\", COUNTIFS(ToDoList!$B:$B, $A166, ToDoList!$R:$R, H$2))","v":""},{"$f":"IF($A166 = \"\", \"\", COUNTIFS(ToDoList!$B:$B, $A166, ToDoList!$R:$R, I$2))","v":""},{"$f":"IF($A166 = \"\", \"\", COUNTIFS(ToDoList!$B:$B, $A166, ToDoList!$R:$R, J$2))","v":""}]
[null,{"$f":"IF($A167 = \"\", \"\", COUNTIFS(ToDoList!$B:$B, $A167, ToDoList!$R:$R, B$2))","v":""},{"$f":"IF($A167 = \"\", \"\", COUNTIFS(ToDoList!$B:$B, $A167, ToDoList!$R:$R, C$2))","v":""},{"$f":"IF($A167 = \"\", \"\", COUNTIFS(ToDoList!$B:$B, $A167, ToDoList!$R:$R, D$2))","v":""},{"$f":"IF($A167 = \"\", \"\", COUNTIFS(ToDoList!$B:$B, $A167, ToDoList!$R:$R, E$2))","v":""},{"$f":"IF($A167 = \"\", \"\", COUNTIFS(ToDoList!$B:$B, $A167, ToDoList!$R:$R, F$2))","v":""},{"$f":"IF($A167 = \"\", \"\", COUNTIFS(ToDoList!$B:$B, $A167, ToDoList!$R:$R, G$2))","v":""},{"$f":"IF($A167 = \"\", \"\", COUNTIFS(ToDoList!$B:$B, $A167, ToDoList!$R:$R, H$2))","v":""},{"$f":"IF($A167 = \"\", \"\", COUNTIFS(ToDoList!$B:$B, $A167, ToDoList!$R:$R, I$2))","v":""},{"$f":"IF($A167 = \"\", \"\", COUNTIFS(ToDoList!$B:$B, $A167, ToDoList!$R:$R, J$2))","v":""}]
[null,{"$f":"IF($A168 = \"\", \"\", COUNTIFS(ToDoList!$B:$B, $A168, ToDoList!$R:$R, B$2))","v":""},{"$f":"IF($A168 = \"\", \"\", COUNTIFS(ToDoList!$B:$B, $A168, ToDoList!$R:$R, C$2))","v":""},{"$f":"IF($A168 = \"\", \"\", COUNTIFS(ToDoList!$B:$B, $A168, ToDoList!$R:$R, D$2))","v":""},{"$f":"IF($A168 = \"\", \"\", COUNTIFS(ToDoList!$B:$B, $A168, ToDoList!$R:$R, E$2))","v":""},{"$f":"IF($A168 = \"\", \"\", COUNTIFS(ToDoList!$B:$B, $A168, ToDoList!$R:$R, F$2))","v":""},{"$f":"IF($A168 = \"\", \"\", COUNTIFS(ToDoList!$B:$B, $A168, ToDoList!$R:$R, G$2))","v":""},{"$f":"IF($A168 = \"\", \"\", COUNTIFS(ToDoList!$B:$B, $A168, ToDoList!$R:$R, H$2))","v":""},{"$f":"IF($A168 = \"\", \"\", COUNTIFS(ToDoList!$B:$B, $A168, ToDoList!$R:$R, I$2))","v":""},{"$f":"IF($A168 = \"\", \"\", COUNTIFS(ToDoList!$B:$B, $A168, ToDoList!$R:$R, J$2))","v":""}]
[null,{"$f":"IF($A169 = \"\", \"\", COUNTIFS(ToDoList!$B:$B, $A169, ToDoList!$R:$R, B$2))","v":""},{"$f":"IF($A169 = \"\", \"\", COUNTIFS(ToDoList!$B:$B, $A169, ToDoList!$R:$R, C$2))","v":""},{"$f":"IF($A169 = \"\", \"\", COUNTIFS(ToDoList!$B:$B, $A169, ToDoList!$R:$R, D$2))","v":""},{"$f":"IF($A169 = \"\", \"\", COUNTIFS(ToDoList!$B:$B, $A169, ToDoList!$R:$R, E$2))","v":""},{"$f":"IF($A169 = \"\", \"\", COUNTIFS(ToDoList!$B:$B, $A169, ToDoList!$R:$R, F$2))","v":""},{"$f":"IF($A169 = \"\", \"\", COUNTIFS(ToDoList!$B:$B, $A169, ToDoList!$R:$R, G$2))","v":""},{"$f":"IF($A169 = \"\", \"\", COUNTIFS(ToDoList!$B:$B, $A169, ToDoList!$R:$R, H$2))","v":""},{"$f":"IF($A169 = \"\", \"\", COUNTIFS(ToDoList!$B:$B, $A169, ToDoList!$R:$R, I$2))","v":""},{"$f":"IF($A169 = \"\", \"\", COUNTIFS(ToDoList!$B:$B, $A169, ToDoList!$R:$R, J$2))","v":""}]
[null,{"$f":"IF($A170 = \"\", \"\", COUNTIFS(ToDoList!$B:$B, $A170, ToDoList!$R:$R, B$2))","v":""},{"$f":"IF($A170 = \"\", \"\", COUNTIFS(ToDoList!$B:$B, $A170, ToDoList!$R:$R, C$2))","v":""},{"$f":"IF($A170 = \"\", \"\", COUNTIFS(ToDoList!$B:$B, $A170, ToDoList!$R:$R, D$2))","v":""},{"$f":"IF($A170 = \"\", \"\", COUNTIFS(ToDoList!$B:$B, $A170, ToDoList!$R:$R, E$2))","v":""},{"$f":"IF($A170 = \"\", \"\", COUNTIFS(ToDoList!$B:$B, $A170, ToDoList!$R:$R, F$2))","v":""},{"$f":"IF($A170 = \"\", \"\", COUNTIFS(ToDoList!$B:$B, $A170, ToDoList!$R:$R, G$2))","v":""},{"$f":"IF($A170 = \"\", \"\", COUNTIFS(ToDoList!$B:$B, $A170, ToDoList!$R:$R, H$2))","v":""},{"$f":"IF($A170 = \"\", \"\", COUNTIFS(ToDoList!$B:$B, $A170, ToDoList!$R:$R, I$2))","v":""},{"$f":"IF($A170 = \"\", \"\", COUNTIFS(ToDoList!$B:$B, $A170, ToDoList!$R:$R, J$2))","v":""}]
[null,{"$f":"IF($A171 = \"\", \"\", COUNTIFS(ToDoList!$B:$B, $A171, ToDoList!$R:$R, B$2))","v":""},{"$f":"IF($A171 = \"\", \"\", COUNTIFS(ToDoList!$B:$B, $A171, ToDoList!$R:$R, C$2))","v":""},{"$f":"IF($A171 = \"\", \"\", COUNTIFS(ToDoList!$B:$B, $A171, ToDoList!$R:$R, D$2))","v":""},{"$f":"IF($A171 = \"\", \"\", COUNTIFS(ToDoList!$B:$B, $A171, ToDoList!$R:$R, E$2))","v":""},{"$f":"IF($A171 = \"\", \"\", COUNTIFS(ToDoList!$B:$B, $A171, ToDoList!$R:$R, F$2))","v":""},{"$f":"IF($A171 = \"\", \"\", COUNTIFS(ToDoList!$B:$B, $A171, ToDoList!$R:$R, G$2))","v":""},{"$f":"IF($A171 = \"\", \"\", COUNTIFS(ToDoList!$B:$B, $A171, ToDoList!$R:$R, H$2))","v":""},{"$f":"IF($A171 = \"\", \"\", COUNTIFS(ToDoList!$B:$B, $A171, ToDoList!$R:$R, I$2))","v":""},{"$f":"IF($A171 = \"\", \"\", COUNTIFS(ToDoList!$B:$B, $A171, ToDoList!$R:$R, J$2))","v":""}]
[null,{"$f":"IF($A172 = \"\", \"\", COUNTIFS(ToDoList!$B:$B, $A172, ToDoList!$R:$R, B$2))","v":""},{"$f":"IF($A172 = \"\", \"\", COUNTIFS(ToDoList!$B:$B, $A172, ToDoList!$R:$R, C$2))","v":""},{"$f":"IF($A172 = \"\", \"\", COUNTIFS(ToDoList!$B:$B, $A172, ToDoList!$R:$R, D$2))","v":""},{"$f":"IF($A172 = \"\", \"\", COUNTIFS(ToDoList!$B:$B, $A172, ToDoList!$R:$R, E$2))","v":""},{"$f":"IF($A172 = \"\", \"\", COUNTIFS(ToDoList!$B:$B, $A172, ToDoList!$R:$R, F$2))","v":""},{"$f":"IF($A172 = \"\", \"\", COUNTIFS(ToDoList!$B:$B, $A172, ToDoList!$R:$R, G$2))","v":""},{"$f":"IF($A172 = \"\", \"\", COUNTIFS(ToDoList!$B:$B, $A172, ToDoList!$R:$R, H$2))","v":""},{"$f":"IF($A172 = \"\", \"\", COUNTIFS(ToDoList!$B:$B, $A172, ToDoList!$R:$R, I$2))","v":""},{"$f":"IF($A172 = \"\", \"\", COUNTIFS(ToDoList!$B:$B, $A172, ToDoList!$R:$R, J$2))","v":""}]
[null,{"$f":"IF($A173 = \"\", \"\", COUNTIFS(ToDoList!$B:$B, $A173, ToDoList!$R:$R, B$2))","v":""},{"$f":"IF($A173 = \"\", \"\", COUNTIFS(ToDoList!$B:$B, $A173, ToDoList!$R:$R, C$2))","v":""},{"$f":"IF($A173 = \"\", \"\", COUNTIFS(ToDoList!$B:$B, $A173, ToDoList!$R:$R, D$2))","v":""},{"$f":"IF($A173 = \"\", \"\", COUNTIFS(ToDoList!$B:$B, $A173, ToDoList!$R:$R, E$2))","v":""},{"$f":"IF($A173 = \"\", \"\", COUNTIFS(ToDoList!$B:$B, $A173, ToDoList!$R:$R, F$2))","v":""},{"$f":"IF($A173 = \"\", \"\", COUNTIFS(ToDoList!$B:$B, $A173, ToDoList!$R:$R, G$2))","v":""},{"$f":"IF($A173 = \"\", \"\", COUNTIFS(ToDoList!$B:$B, $A173, ToDoList!$R:$R, H$2))","v":""},{"$f":"IF($A173 = \"\", \"\", COUNTIFS(ToDoList!$B:$B, $A173, ToDoList!$R:$R, I$2))","v":""},{"$f":"IF($A173 = \"\", \"\", COUNTIFS(ToDoList!$B:$B, $A173, ToDoList!$R:$R, J$2))","v":""}]
[null,{"$f":"IF($A174 = \"\", \"\", COUNTIFS(ToDoList!$B:$B, $A174, ToDoList!$R:$R, B$2))","v":""},{"$f":"IF($A174 = \"\", \"\", COUNTIFS(ToDoList!$B:$B, $A174, ToDoList!$R:$R, C$2))","v":""},{"$f":"IF($A174 = \"\", \"\", COUNTIFS(ToDoList!$B:$B, $A174, ToDoList!$R:$R, D$2))","v":""},{"$f":"IF($A174 = \"\", \"\", COUNTIFS(ToDoList!$B:$B, $A174, ToDoList!$R:$R, E$2))","v":""},{"$f":"IF($A174 = \"\", \"\", COUNTIFS(ToDoList!$B:$B, $A174, ToDoList!$R:$R, F$2))","v":""},{"$f":"IF($A174 = \"\", \"\", COUNTIFS(ToDoList!$B:$B, $A174, ToDoList!$R:$R, G$2))","v":""},{"$f":"IF($A174 = \"\", \"\", COUNTIFS(ToDoList!$B:$B, $A174, ToDoList!$R:$R, H$2))","v":""},{"$f":"IF($A174 = \"\", \"\", COUNTIFS(ToDoList!$B:$B, $A174, ToDoList!$R:$R, I$2))","v":""},{"$f":"IF($A174 = \"\", \"\", COUNTIFS(ToDoList!$B:$B, $A174, ToDoList!$R:$R, J$2))","v":""}]
[null,{"$f":"IF($A175 = \"\", \"\", COUNTIFS(ToDoList!$B:$B, $A175, ToDoList!$R:$R, B$2))","v":""},{"$f":"IF($A175 = \"\", \"\", COUNTIFS(ToDoList!$B:$B, $A175, ToDoList!$R:$R, C$2))","v":""},{"$f":"IF($A175 = \"\", \"\", COUNTIFS(ToDoList!$B:$B, $A175, ToDoList!$R:$R, D$2))","v":""},{"$f":"IF($A175 = \"\", \"\", COUNTIFS(ToDoList!$B:$B, $A175, ToDoList!$R:$R, E$2))","v":""},{"$f":"IF($A175 = \"\", \"\", COUNTIFS(ToDoList!$B:$B, $A175, ToDoList!$R:$R, F$2))","v":""},{"$f":"IF($A175 = \"\", \"\", COUNTIFS(ToDoList!$B:$B, $A175, ToDoList!$R:$R, G$2))","v":""},{"$f":"IF($A175 = \"\", \"\", COUNTIFS(ToDoList!$B:$B, $A175, ToDoList!$R:$R, H$2))","v":""},{"$f":"IF($A175 = \"\", \"\", COUNTIFS(ToDoList!$B:$B, $A175, ToDoList!$R:$R, I$2))","v":""},{"$f":"IF($A175 = \"\", \"\", COUNTIFS(ToDoList!$B:$B, $A175, ToDoList!$R:$R, J$2))","v":""}]
[null,{"$f":"IF($A176 = \"\", \"\", COUNTIFS(ToDoList!$B:$B, $A176, ToDoList!$R:$R, B$2))","v":""},{"$f":"IF($A176 = \"\", \"\", COUNTIFS(ToDoList!$B:$B, $A176, ToDoList!$R:$R, C$2))","v":""},{"$f":"IF($A176 = \"\", \"\", COUNTIFS(ToDoList!$B:$B, $A176, ToDoList!$R:$R, D$2))","v":""},{"$f":"IF($A176 = \"\", \"\", COUNTIFS(ToDoList!$B:$B, $A176, ToDoList!$R:$R, E$2))","v":""},{"$f":"IF($A176 = \"\", \"\", COUNTIFS(ToDoList!$B:$B, $A176, ToDoList!$R:$R, F$2))","v":""},{"$f":"IF($A176 = \"\", \"\", COUNTIFS(ToDoList!$B:$B, $A176, ToDoList!$R:$R, G$2))","v":""},{"$f":"IF($A176 = \"\", \"\", COUNTIFS(ToDoList!$B:$B, $A176, ToDoList!$R:$R, H$2))","v":""},{"$f":"IF($A176 = \"\", \"\", COUNTIFS(ToDoList!$B:$B, $A176, ToDoList!$R:$R, I$2))","v":""},{"$f":"IF($A176 = \"\", \"\", COUNTIFS(ToDoList!$B:$B, $A176, ToDoList!$R:$R, J$2))","v":""}]
[null,{"$f":"IF($A177 = \"\", \"\", COUNTIFS(ToDoList!$B:$B, $A177, ToDoList!$R:$R, B$2))","v":""},{"$f":"IF($A177 = \"\", \"\", COUNTIFS(ToDoList!$B:$B, $A177, ToDoList!$R:$R, C$2))","v":""},{"$f":"IF($A177 = \"\", \"\", COUNTIFS(ToDoList!$B:$B, $A177, ToDoList!$R:$R, D$2))","v":""},{"$f":"IF($A177 = \"\", \"\", COUNTIFS(ToDoList!$B:$B, $A177, ToDoList!$R:$R, E$2))","v":""},{"$f":"IF($A177 = \"\", \"\", COUNTIFS(ToDoList!$B:$B, $A177, ToDoList!$R:$R, F$2))","v":""},{"$f":"IF($A177 = \"\", \"\", COUNTIFS(ToDoList!$B:$B, $A177, ToDoList!$R:$R, G$2))","v":""},{"$f":"IF($A177 = \"\", \"\", COUNTIFS(ToDoList!$B:$B, $A177, ToDoList!$R:$R, H$2))","v":""},{"$f":"IF($A177 = \"\", \"\", COUNTIFS(ToDoList!$B:$B, $A177, ToDoList!$R:$R, I$2))","v":""},{"$f":"IF($A177 = \"\", \"\", COUNTIFS(ToDoList!$B:$B, $A177, ToDoList!$R:$R, J$2))","v":""}]
[null,{"$f":"IF($A178 = \"\", \"\", COUNTIFS(ToDoList!$B:$B, $A178, ToDoList!$R:$R, B$2))","v":""},{"$f":"IF($A178 = \"\", \"\", COUNTIFS(ToDoList!$B:$B, $A178, ToDoList!$R:$R, C$2))","v":""},{"$f":"IF($A178 = \"\", \"\", COUNTIFS(ToDoList!$B:$B, $A178, ToDoList!$R:$R, D$2))","v":""},{"$f":"IF($A178 = \"\", \"\", COUNTIFS(ToDoList!$B:$B, $A178, ToDoList!$R:$R, E$2))","v":""},{"$f":"IF($A178 = \"\", \"\", COUNTIFS(ToDoList!$B:$B, $A178, ToDoList!$R:$R, F$2))","v":""},{"$f":"IF($A178 = \"\", \"\", COUNTIFS(ToDoList!$B:$B, $A178, ToDoList!$R:$R, G$2))","v":""},{"$f":"IF($A178 = \"\", \"\", COUNTIFS(ToDoList!$B:$B, $A178, ToDoList!$R:$R, H$2))","v":""},{"$f":"IF($A178 = \"\", \"\", COUNTIFS(ToDoList!$B:$B, $A178, ToDoList!$R:$R, I$2))","v":""},{"$f":"IF($A178 = \"\", \"\", COUNTIFS(ToDoList!$B:$B, $A178, ToDoList!$R:$R, J$2))","v":""}]
[null,{"$f":"IF($A179 = \"\", \"\", COUNTIFS(ToDoList!$B:$B, $A179, ToDoList!$R:$R, B$2))","v":""},{"$f":"IF($A179 = \"\", \"\", COUNTIFS(ToDoList!$B:$B, $A179, ToDoList!$R:$R, C$2))","v":""},{"$f":"IF($A179 = \"\", \"\", COUNTIFS(ToDoList!$B:$B, $A179, ToDoList!$R:$R, D$2))","v":""},{"$f":"IF($A179 = \"\", \"\", COUNTIFS(ToDoList!$B:$B, $A179, ToDoList!$R:$R, E$2))","v":""},{"$f":"IF($A179 = \"\", \"\", COUNTIFS(ToDoList!$B:$B, $A179, ToDoList!$R:$R, F$2))","v":""},{"$f":"IF($A179 = \"\", \"\", COUNTIFS(ToDoList!$B:$B, $A179, ToDoList!$R:$R, G$2))","v":""},{"$f":"IF($A179 = \"\", \"\", COUNTIFS(ToDoList!$B:$B, $A179, ToDoList!$R:$R, H$2))","v":""},{"$f":"IF($A179 = \"\", \"\", COUNTIFS(ToDoList!$B:$B, $A179, ToDoList!$R:$R, I$2))","v":""},{"$f":"IF($A179 = \"\", \"\", COUNTIFS(ToDoList!$B:$B, $A179, ToDoList!$R:$R, J$2))","v":""}]
[null,{"$f":"IF($A180 = \"\", \"\", COUNTIFS(ToDoList!$B:$B, $A180, ToDoList!$R:$R, B$2))","v":""},{"$f":"IF($A180 = \"\", \"\", COUNTIFS(ToDoList!$B:$B, $A180, ToDoList!$R:$R, C$2))","v":""},{"$f":"IF($A180 = \"\", \"\", COUNTIFS(ToDoList!$B:$B, $A180, ToDoList!$R:$R, D$2))","v":""},{"$f":"IF($A180 = \"\", \"\", COUNTIFS(ToDoList!$B:$B, $A180, ToDoList!$R:$R, E$2))","v":""},{"$f":"IF($A180 = \"\", \"\", COUNTIFS(ToDoList!$B:$B, $A180, ToDoList!$R:$R, F$2))","v":""},{"$f":"IF($A180 = \"\", \"\", COUNTIFS(ToDoList!$B:$B, $A180, ToDoList!$R:$R, G$2))","v":""},{"$f":"IF($A180 = \"\", \"\", COUNTIFS(ToDoList!$B:$B, $A180, ToDoList!$R:$R, H$2))","v":""},{"$f":"IF($A180 = \"\", \"\", COUNTIFS(ToDoList!$B:$B, $A180, ToDoList!$R:$R, I$2))","v":""},{"$f":"IF($A180 = \"\", \"\", COUNTIFS(ToDoList!$B:$B, $A180, ToDoList!$R:$R, J$2))","v":""}]
[null,{"$f":"IF($A181 = \"\", \"\", COUNTIFS(ToDoList!$B:$B, $A181, ToDoList!$R:$R, B$2))","v":""},{"$f":"IF($A181 = \"\", \"\", COUNTIFS(ToDoList!$B:$B, $A181, ToDoList!$R:$R, C$2))","v":""},{"$f":"IF($A181 = \"\", \"\", COUNTIFS(ToDoList!$B:$B, $A181, ToDoList!$R:$R, D$2))","v":""},{"$f":"IF($A181 = \"\", \"\", COUNTIFS(ToDoList!$B:$B, $A181, ToDoList!$R:$R, E$2))","v":""},{"$f":"IF($A181 = \"\", \"\", COUNTIFS(ToDoList!$B:$B, $A181, ToDoList!$R:$R, F$2))","v":""},{"$f":"IF($A181 = \"\", \"\", COUNTIFS(ToDoList!$B:$B, $A181, ToDoList!$R:$R, G$2))","v":""},{"$f":"IF($A181 = \"\", \"\", COUNTIFS(ToDoList!$B:$B, $A181, ToDoList!$R:$R, H$2))","v":""},{"$f":"IF($A181 = \"\", \"\", COUNTIFS(ToDoList!$B:$B, $A181, ToDoList!$R:$R, I$2))","v":""},{"$f":"IF($A181 = \"\", \"\", COUNTIFS(ToDoList!$B:$B, $A181, ToDoList!$R:$R, J$2))","v":""}]
[null,{"$f":"IF($A182 = \"\", \"\", COUNTIFS(ToDoList!$B:$B, $A182, ToDoList!$R:$R, B$2))","v":""},{"$f":"IF($A182 = \"\", \"\", COUNTIFS(ToDoList!$B:$B, $A182, ToDoList!$R:$R, C$2))","v":""},{"$f":"IF($A182 = \"\", \"\", COUNTIFS(ToDoList!$B:$B, $A182, ToDoList!$R:$R, D$2))","v":""},{"$f":"IF($A182 = \"\", \"\", COUNTIFS(ToDoList!$B:$B, $A182, ToDoList!$R:$R, E$2))","v":""},{"$f":"IF($A182 = \"\", \"\", COUNTIFS(ToDoList!$B:$B, $A182, ToDoList!$R:$R, F$2))","v":""},{"$f":"IF($A182 = \"\", \"\", COUNTIFS(ToDoList!$B:$B, $A182, ToDoList!$R:$R, G$2))","v":""},{"$f":"IF($A182 = \"\", \"\", COUNTIFS(ToDoList!$B:$B, $A182, ToDoList!$R:$R, H$2))","v":""},{"$f":"IF($A182 = \"\", \"\", COUNTIFS(ToDoList!$B:$B, $A182, ToDoList!$R:$R, I$2))","v":""},{"$f":"IF($A182 = \"\", \"\", COUNTIFS(ToDoList!$B:$B, $A182, ToDoList!$R:$R, J$2))","v":""}]
[null,{"$f":"IF($A183 = \"\", \"\", COUNTIFS(ToDoList!$B:$B, $A183, ToDoList!$R:$R, B$2))","v":""},{"$f":"IF($A183 = \"\", \"\", COUNTIFS(ToDoList!$B:$B, $A183, ToDoList!$R:$R, C$2))","v":""},{"$f":"IF($A183 = \"\", \"\", COUNTIFS(ToDoList!$B:$B, $A183, ToDoList!$R:$R, D$2))","v":""},{"$f":"IF($A183 = \"\", \"\", COUNTIFS(ToDoList!$B:$B, $A183, ToDoList!$R:$R, E$2))","v":""},{"$f":"IF($A183 = \"\", \"\", COUNTIFS(ToDoList!$B:$B, $A183, ToDoList!$R:$R, F$2))","v":""},{"$f":"IF($A183 = \"\", \"\", COUNTIFS(ToDoList!$B:$B, $A183, ToDoList!$R:$R, G$2))","v":""},{"$f":"IF($A183 = \"\", \"\", COUNTIFS(ToDoList!$B:$B, $A183, ToDoList!$R:$R, H$2))","v":""},{"$f":"IF($A183 = \"\", \"\", COUNTIFS(ToDoList!$B:$B, $A183, ToDoList!$R:$R, I$2))","v":""},{"$f":"IF($A183 = \"\", \"\", COUNTIFS(ToDoList!$B:$B, $A183, ToDoList!$R:$R, J$2))","v":""}]
[null,{"$f":"IF($A184 = \"\", \"\", COUNTIFS(ToDoList!$B:$B, $A184, ToDoList!$R:$R, B$2))","v":""},{"$f":"IF($A184 = \"\", \"\", COUNTIFS(ToDoList!$B:$B, $A184, ToDoList!$R:$R, C$2))","v":""},{"$f":"IF($A184 = \"\", \"\", COUNTIFS(ToDoList!$B:$B, $A184, ToDoList!$R:$R, D$2))","v":""},{"$f":"IF($A184 = \"\", \"\", COUNTIFS(ToDoList!$B:$B, $A184, ToDoList!$R:$R, E$2))","v":""},{"$f":"IF($A184 = \"\", \"\", COUNTIFS(ToDoList!$B:$B, $A184, ToDoList!$R:$R, F$2))","v":""},{"$f":"IF($A184 = \"\", \"\", COUNTIFS(ToDoList!$B:$B, $A184, ToDoList!$R:$R, G$2))","v":""},{"$f":"IF($A184 = \"\", \"\", COUNTIFS(ToDoList!$B:$B, $A184, ToDoList!$R:$R, H$2))","v":""},{"$f":"IF($A184 = \"\", \"\", COUNTIFS(ToDoList!$B:$B, $A184, ToDoList!$R:$R, I$2))","v":""},{"$f":"IF($A184 = \"\", \"\", COUNTIFS(ToDoList!$B:$B, $A184, ToDoList!$R:$R, J$2))","v":""}]
[null,{"$f":"IF($A185 = \"\", \"\", COUNTIFS(ToDoList!$B:$B, $A185, ToDoList!$R:$R, B$2))","v":""},{"$f":"IF($A185 = \"\", \"\", COUNTIFS(ToDoList!$B:$B, $A185, ToDoList!$R:$R, C$2))","v":""},{"$f":"IF($A185 = \"\", \"\", COUNTIFS(ToDoList!$B:$B, $A185, ToDoList!$R:$R, D$2))","v":""},{"$f":"IF($A185 = \"\", \"\", COUNTIFS(ToDoList!$B:$B, $A185, ToDoList!$R:$R, E$2))","v":""},{"$f":"IF($A185 = \"\", \"\", COUNTIFS(ToDoList!$B:$B, $A185, ToDoList!$R:$R, F$2))","v":""},{"$f":"IF($A185 = \"\", \"\", COUNTIFS(ToDoList!$B:$B, $A185, ToDoList!$R:$R, G$2))","v":""},{"$f":"IF($A185 = \"\", \"\", COUNTIFS(ToDoList!$B:$B, $A185, ToDoList!$R:$R, H$2))","v":""},{"$f":"IF($A185 = \"\", \"\", COUNTIFS(ToDoList!$B:$B, $A185, ToDoList!$R:$R, I$2))","v":""},{"$f":"IF($A185 = \"\", \"\", COUNTIFS(ToDoList!$B:$B, $A185, ToDoList!$R:$R, J$2))","v":""}]
[null,{"$f":"IF($A186 = \"\", \"\", COUNTIFS(ToDoList!$B:$B, $A186, ToDoList!$R:$R, B$2))","v":""},{"$f":"IF($A186 = \"\", \"\", COUNTIFS(ToDoList!$B:$B, $A186, ToDoList!$R:$R, C$2))","v":""},{"$f":"IF($A186 = \"\", \"\", COUNTIFS(ToDoList!$B:$B, $A186, ToDoList!$R:$R, D$2))","v":""},{"$f":"IF($A186 = \"\", \"\", COUNTIFS(ToDoList!$B:$B, $A186, ToDoList!$R:$R, E$2))","v":""},{"$f":"IF($A186 = \"\", \"\", COUNTIFS(ToDoList!$B:$B, $A186, ToDoList!$R:$R, F$2))","v":""},{"$f":"IF($A186 = \"\", \"\", COUNTIFS(ToDoList!$B:$B, $A186, ToDoList!$R:$R, G$2))","v":""},{"$f":"IF($A186 = \"\", \"\", COUNTIFS(ToDoList!$B:$B, $A186, ToDoList!$R:$R, H$2))","v":""},{"$f":"IF($A186 = \"\", \"\", COUNTIFS(ToDoList!$B:$B, $A186, ToDoList!$R:$R, I$2))","v":""},{"$f":"IF($A186 = \"\", \"\", COUNTIFS(ToDoList!$B:$B, $A186, ToDoList!$R:$R, J$2))","v":""}]
[null,{"$f":"IF($A187 = \"\", \"\", COUNTIFS(ToDoList!$B:$B, $A187, ToDoList!$R:$R, B$2))","v":""},{"$f":"IF($A187 = \"\", \"\", COUNTIFS(ToDoList!$B:$B, $A187, ToDoList!$R:$R, C$2))","v":""},{"$f":"IF($A187 = \"\", \"\", COUNTIFS(ToDoList!$B:$B, $A187, ToDoList!$R:$R, D$2))","v":""},{"$f":"IF($A187 = \"\", \"\", COUNTIFS(ToDoList!$B:$B, $A187, ToDoList!$R:$R, E$2))","v":""},{"$f":"IF($A187 = \"\", \"\", COUNTIFS(ToDoList!$B:$B, $A187, ToDoList!$R:$R, F$2))","v":""},{"$f":"IF($A187 = \"\", \"\", COUNTIFS(ToDoList!$B:$B, $A187, ToDoList!$R:$R, G$2))","v":""},{"$f":"IF($A187 = \"\", \"\", COUNTIFS(ToDoList!$B:$B, $A187, ToDoList!$R:$R, H$2))","v":""},{"$f":"IF($A187 = \"\", \"\", COUNTIFS(ToDoList!$B:$B, $A187, ToDoList!$R:$R, I$2))","v":""},{"$f":"IF($A187 = \"\", \"\", COUNTIFS(ToDoList!$B:$B, $A187, ToDoList!$R:$R, J$2))","v":""}]
[null,{"$f":"IF($A188 = \"\", \"\", COUNTIFS(ToDoList!$B:$B, $A188, ToDoList!$R:$R, B$2))","v":""},{"$f":"IF($A188 = \"\", \"\", COUNTIFS(ToDoList!$B:$B, $A188, ToDoList!$R:$R, C$2))","v":""},{"$f":"IF($A188 = \"\", \"\", COUNTIFS(ToDoList!$B:$B, $A188, ToDoList!$R:$R, D$2))","v":""},{"$f":"IF($A188 = \"\", \"\", COUNTIFS(ToDoList!$B:$B, $A188, ToDoList!$R:$R, E$2))","v":""},{"$f":"IF($A188 = \"\", \"\", COUNTIFS(ToDoList!$B:$B, $A188, ToDoList!$R:$R, F$2))","v":""},{"$f":"IF($A188 = \"\", \"\", COUNTIFS(ToDoList!$B:$B, $A188, ToDoList!$R:$R, G$2))","v":""},{"$f":"IF($A188 = \"\", \"\", COUNTIFS(ToDoList!$B:$B, $A188, ToDoList!$R:$R, H$2))","v":""},{"$f":"IF($A188 = \"\", \"\", COUNTIFS(ToDoList!$B:$B, $A188, ToDoList!$R:$R, I$2))","v":""},{"$f":"IF($A188 = \"\", \"\", COUNTIFS(ToDoList!$B:$B, $A188, ToDoList!$R:$R, J$2))","v":""}]
[null,{"$f":"IF($A189 = \"\", \"\", COUNTIFS(ToDoList!$B:$B, $A189, ToDoList!$R:$R, B$2))","v":""},{"$f":"IF($A189 = \"\", \"\", COUNTIFS(ToDoList!$B:$B, $A189, ToDoList!$R:$R, C$2))","v":""},{"$f":"IF($A189 = \"\", \"\", COUNTIFS(ToDoList!$B:$B, $A189, ToDoList!$R:$R, D$2))","v":""},{"$f":"IF($A189 = \"\", \"\", COUNTIFS(ToDoList!$B:$B, $A189, ToDoList!$R:$R, E$2))","v":""},{"$f":"IF($A189 = \"\", \"\", COUNTIFS(ToDoList!$B:$B, $A189, ToDoList!$R:$R, F$2))","v":""},{"$f":"IF($A189 = \"\", \"\", COUNTIFS(ToDoList!$B:$B, $A189, ToDoList!$R:$R, G$2))","v":""},{"$f":"IF($A189 = \"\", \"\", COUNTIFS(ToDoList!$B:$B, $A189, ToDoList!$R:$R, H$2))","v":""},{"$f":"IF($A189 = \"\", \"\", COUNTIFS(ToDoList!$B:$B, $A189, ToDoList!$R:$R, I$2))","v":""},{"$f":"IF($A189 = \"\", \"\", COUNTIFS(ToDoList!$B:$B, $A189, ToDoList!$R:$R, J$2))","v":""}]
[null,{"$f":"IF($A190 = \"\", \"\", COUNTIFS(ToDoList!$B:$B, $A190, ToDoList!$R:$R, B$2))","v":""},{"$f":"IF($A190 = \"\", \"\", COUNTIFS(ToDoList!$B:$B, $A190, ToDoList!$R:$R, C$2))","v":""},{"$f":"IF($A190 = \"\", \"\", COUNTIFS(ToDoList!$B:$B, $A190, ToDoList!$R:$R, D$2))","v":""},{"$f":"IF($A190 = \"\", \"\", COUNTIFS(ToDoList!$B:$B, $A190, ToDoList!$R:$R, E$2))","v":""},{"$f":"IF($A190 = \"\", \"\", COUNTIFS(ToDoList!$B:$B, $A190, ToDoList!$R:$R, F$2))","v":""},{"$f":"IF($A190 = \"\", \"\", COUNTIFS(ToDoList!$B:$B, $A190, ToDoList!$R:$R, G$2))","v":""},{"$f":"IF($A190 = \"\", \"\", COUNTIFS(ToDoList!$B:$B, $A190, ToDoList!$R:$R, H$2))","v":""},{"$f":"IF($A190 = \"\", \"\", COUNTIFS(ToDoList!$B:$B, $A190, ToDoList!$R:$R, I$2))","v":""},{"$f":"IF($A190 = \"\", \"\", COUNTIFS(ToDoList!$B:$B, $A190, ToDoList!$R:$R, J$2))","v":""}]
[null,{"$f":"IF($A191 = \"\", \"\", COUNTIFS(ToDoList!$B:$B, $A191, ToDoList!$R:$R, B$2))","v":""},{"$f":"IF($A191 = \"\", \"\", COUNTIFS(ToDoList!$B:$B, $A191, ToDoList!$R:$R, C$2))","v":""},{"$f":"IF($A191 = \"\", \"\", COUNTIFS(ToDoList!$B:$B, $A191, ToDoList!$R:$R, D$2))","v":""},{"$f":"IF($A191 = \"\", \"\", COUNTIFS(ToDoList!$B:$B, $A191, ToDoList!$R:$R, E$2))","v":""},{"$f":"IF($A191 = \"\", \"\", COUNTIFS(ToDoList!$B:$B, $A191, ToDoList!$R:$R, F$2))","v":""},{"$f":"IF($A191 = \"\", \"\", COUNTIFS(ToDoList!$B:$B, $A191, ToDoList!$R:$R, G$2))","v":""},{"$f":"IF($A191 = \"\", \"\", COUNTIFS(ToDoList!$B:$B, $A191, ToDoList!$R:$R, H$2))","v":""},{"$f":"IF($A191 = \"\", \"\", COUNTIFS(ToDoList!$B:$B, $A191, ToDoList!$R:$R, I$2))","v":""},{"$f":"IF($A191 = \"\", \"\", COUNTIFS(ToDoList!$B:$B, $A191, ToDoList!$R:$R, J$2))","v":""}]
[null,{"$f":"IF($A192 = \"\", \"\", COUNTIFS(ToDoList!$B:$B, $A192, ToDoList!$R:$R, B$2))","v":""},{"$f":"IF($A192 = \"\", \"\", COUNTIFS(ToDoList!$B:$B, $A192, ToDoList!$R:$R, C$2))","v":""},{"$f":"IF($A192 = \"\", \"\", COUNTIFS(ToDoList!$B:$B, $A192, ToDoList!$R:$R, D$2))","v":""},{"$f":"IF($A192 = \"\", \"\", COUNTIFS(ToDoList!$B:$B, $A192, ToDoList!$R:$R, E$2))","v":""},{"$f":"IF($A192 = \"\", \"\", COUNTIFS(ToDoList!$B:$B, $A192, ToDoList!$R:$R, F$2))","v":""},{"$f":"IF($A192 = \"\", \"\", COUNTIFS(ToDoList!$B:$B, $A192, ToDoList!$R:$R, G$2))","v":""},{"$f":"IF($A192 = \"\", \"\", COUNTIFS(ToDoList!$B:$B, $A192, ToDoList!$R:$R, H$2))","v":""},{"$f":"IF($A192 = \"\", \"\", COUNTIFS(ToDoList!$B:$B, $A192, ToDoList!$R:$R, I$2))","v":""},{"$f":"IF($A192 = \"\", \"\", COUNTIFS(ToDoList!$B:$B, $A192, ToDoList!$R:$R, J$2))","v":""}]
[null,{"$f":"IF($A193 = \"\", \"\", COUNTIFS(ToDoList!$B:$B, $A193, ToDoList!$R:$R, B$2))","v":""},{"$f":"IF($A193 = \"\", \"\", COUNTIFS(ToDoList!$B:$B, $A193, ToDoList!$R:$R, C$2))","v":""},{"$f":"IF($A193 = \"\", \"\", COUNTIFS(ToDoList!$B:$B, $A193, ToDoList!$R:$R, D$2))","v":""},{"$f":"IF($A193 = \"\", \"\", COUNTIFS(ToDoList!$B:$B, $A193, ToDoList!$R:$R, E$2))","v":""},{"$f":"IF($A193 = \"\", \"\", COUNTIFS(ToDoList!$B:$B, $A193, ToDoList!$R:$R, F$2))","v":""},{"$f":"IF($A193 = \"\", \"\", COUNTIFS(ToDoList!$B:$B, $A193, ToDoList!$R:$R, G$2))","v":""},{"$f":"IF($A193 = \"\", \"\", COUNTIFS(ToDoList!$B:$B, $A193, ToDoList!$R:$R, H$2))","v":""},{"$f":"IF($A193 = \"\", \"\", COUNTIFS(ToDoList!$B:$B, $A193, ToDoList!$R:$R, I$2))","v":""},{"$f":"IF($A193 = \"\", \"\", COUNTIFS(ToDoList!$B:$B, $A193, ToDoList!$R:$R, J$2))","v":""}]
[null,{"$f":"IF($A194 = \"\", \"\", COUNTIFS(ToDoList!$B:$B, $A194, ToDoList!$R:$R, B$2))","v":""},{"$f":"IF($A194 = \"\", \"\", COUNTIFS(ToDoList!$B:$B, $A194, ToDoList!$R:$R, C$2))","v":""},{"$f":"IF($A194 = \"\", \"\", COUNTIFS(ToDoList!$B:$B, $A194, ToDoList!$R:$R, D$2))","v":""},{"$f":"IF($A194 = \"\", \"\", COUNTIFS(ToDoList!$B:$B, $A194, ToDoList!$R:$R, E$2))","v":""},{"$f":"IF($A194 = \"\", \"\", COUNTIFS(ToDoList!$B:$B, $A194, ToDoList!$R:$R, F$2))","v":""},{"$f":"IF($A194 = \"\", \"\", COUNTIFS(ToDoList!$B:$B, $A194, ToDoList!$R:$R, G$2))","v":""},{"$f":"IF($A194 = \"\", \"\", COUNTIFS(ToDoList!$B:$B, $A194, ToDoList!$R:$R, H$2))","v":""},{"$f":"IF($A194 = \"\", \"\", COUNTIFS(ToDoList!$B:$B, $A194, ToDoList!$R:$R, I$2))","v":""},{"$f":"IF($A194 = \"\", \"\", COUNTIFS(ToDoList!$B:$B, $A194, ToDoList!$R:$R, J$2))","v":""}]
[null,{"$f":"IF($A195 = \"\", \"\", COUNTIFS(ToDoList!$B:$B, $A195, ToDoList!$R:$R, B$2))","v":""},{"$f":"IF($A195 = \"\", \"\", COUNTIFS(ToDoList!$B:$B, $A195, ToDoList!$R:$R, C$2))","v":""},{"$f":"IF($A195 = \"\", \"\", COUNTIFS(ToDoList!$B:$B, $A195, ToDoList!$R:$R, D$2))","v":""},{"$f":"IF($A195 = \"\", \"\", COUNTIFS(ToDoList!$B:$B, $A195, ToDoList!$R:$R, E$2))","v":""},{"$f":"IF($A195 = \"\", \"\", COUNTIFS(ToDoList!$B:$B, $A195, ToDoList!$R:$R, F$2))","v":""},{"$f":"IF($A195 = \"\", \"\", COUNTIFS(ToDoList!$B:$B, $A195, ToDoList!$R:$R, G$2))","v":""},{"$f":"IF($A195 = \"\", \"\", COUNTIFS(ToDoList!$B:$B, $A195, ToDoList!$R:$R, H$2))","v":""},{"$f":"IF($A195 = \"\", \"\", COUNTIFS(ToDoList!$B:$B, $A195, ToDoList!$R:$R, I$2))","v":""},{"$f":"IF($A195 = \"\", \"\", COUNTIFS(ToDoList!$B:$B, $A195, ToDoList!$R:$R, J$2))","v":""}]
[null,{"$f":"IF($A196 = \"\", \"\", COUNTIFS(ToDoList!$B:$B, $A196, ToDoList!$R:$R, B$2))","v":""},{"$f":"IF($A196 = \"\", \"\", COUNTIFS(ToDoList!$B:$B, $A196, ToDoList!$R:$R, C$2))","v":""},{"$f":"IF($A196 = \"\", \"\", COUNTIFS(ToDoList!$B:$B, $A196, ToDoList!$R:$R, D$2))","v":""},{"$f":"IF($A196 = \"\", \"\", COUNTIFS(ToDoList!$B:$B, $A196, ToDoList!$R:$R, E$2))","v":""},{"$f":"IF($A196 = \"\", \"\", COUNTIFS(ToDoList!$B:$B, $A196, ToDoList!$R:$R, F$2))","v":""},{"$f":"IF($A196 = \"\", \"\", COUNTIFS(ToDoList!$B:$B, $A196, ToDoList!$R:$R, G$2))","v":""},{"$f":"IF($A196 = \"\", \"\", COUNTIFS(ToDoList!$B:$B, $A196, ToDoList!$R:$R, H$2))","v":""},{"$f":"IF($A196 = \"\", \"\", COUNTIFS(ToDoList!$B:$B, $A196, ToDoList!$R:$R, I$2))","v":""},{"$f":"IF($A196 = \"\", \"\", COUNTIFS(ToDoList!$B:$B, $A196, ToDoList!$R:$R, J$2))","v":""}]
[null,{"$f":"IF($A197 = \"\", \"\", COUNTIFS(ToDoList!$B:$B, $A197, ToDoList!$R:$R, B$2))","v":""},{"$f":"IF($A197 = \"\", \"\", COUNTIFS(ToDoList!$B:$B, $A197, ToDoList!$R:$R, C$2))","v":""},{"$f":"IF($A197 = \"\", \"\", COUNTIFS(ToDoList!$B:$B, $A197, ToDoList!$R:$R, D$2))","v":""},{"$f":"IF($A197 = \"\", \"\", COUNTIFS(ToDoList!$B:$B, $A197, ToDoList!$R:$R, E$2))","v":""},{"$f":"IF($A197 = \"\", \"\", COUNTIFS(ToDoList!$B:$B, $A197, ToDoList!$R:$R, F$2))","v":""},{"$f":"IF($A197 = \"\", \"\", COUNTIFS(ToDoList!$B:$B, $A197, ToDoList!$R:$R, G$2))","v":""},{"$f":"IF($A197 = \"\", \"\", COUNTIFS(ToDoList!$B:$B, $A197, ToDoList!$R:$R, H$2))","v":""},{"$f":"IF($A197 = \"\", \"\", COUNTIFS(ToDoList!$B:$B, $A197, ToDoList!$R:$R, I$2))","v":""},{"$f":"IF($A197 = \"\", \"\", COUNTIFS(ToDoList!$B:$B, $A197, ToDoList!$R:$R, J$2))","v":""}]
[null,{"$f":"IF($A198 = \"\", \"\", COUNTIFS(ToDoList!$B:$B, $A198, ToDoList!$R:$R, B$2))","v":""},{"$f":"IF($A198 = \"\", \"\", COUNTIFS(ToDoList!$B:$B, $A198, ToDoList!$R:$R, C$2))","v":""},{"$f":"IF($A198 = \"\", \"\", COUNTIFS(ToDoList!$B:$B, $A198, ToDoList!$R:$R, D$2))","v":""},{"$f":"IF($A198 = \"\", \"\", COUNTIFS(ToDoList!$B:$B, $A198, ToDoList!$R:$R, E$2))","v":""},{"$f":"IF($A198 = \"\", \"\", COUNTIFS(ToDoList!$B:$B, $A198, ToDoList!$R:$R, F$2))","v":""},{"$f":"IF($A198 = \"\", \"\", COUNTIFS(ToDoList!$B:$B, $A198, ToDoList!$R:$R, G$2))","v":""},{"$f":"IF($A198 = \"\", \"\", COUNTIFS(ToDoList!$B:$B, $A198, ToDoList!$R:$R, H$2))","v":""},{"$f":"IF($A198 = \"\", \"\", COUNTIFS(ToDoList!$B:$B, $A198, ToDoList!$R:$R, I$2))","v":""},{"$f":"IF($A198 = \"\", \"\", COUNTIFS(ToDoList!$B:$B, $A198, ToDoList!$R:$R, J$2))","v":""}]
[null,{"$f":"IF($A199 = \"\", \"\", COUNTIFS(ToDoList!$B:$B, $A199, ToDoList!$R:$R, B$2))","v":""},{"$f":"IF($A199 = \"\", \"\", COUNTIFS(ToDoList!$B:$B, $A199, ToDoList!$R:$R, C$2))","v":""},{"$f":"IF($A199 = \"\", \"\", COUNTIFS(ToDoList!$B:$B, $A199, ToDoList!$R:$R, D$2))","v":""},{"$f":"IF($A199 = \"\", \"\", COUNTIFS(ToDoList!$B:$B, $A199, ToDoList!$R:$R, E$2))","v":""},{"$f":"IF($A199 = \"\", \"\", COUNTIFS(ToDoList!$B:$B, $A199, ToDoList!$R:$R, F$2))","v":""},{"$f":"IF($A199 = \"\", \"\", COUNTIFS(ToDoList!$B:$B, $A199, ToDoList!$R:$R, G$2))","v":""},{"$f":"IF($A199 = \"\", \"\", COUNTIFS(ToDoList!$B:$B, $A199, ToDoList!$R:$R, H$2))","v":""},{"$f":"IF($A199 = \"\", \"\", COUNTIFS(ToDoList!$B:$B, $A199, ToDoList!$R:$R, I$2))","v":""},{"$f":"IF($A199 = \"\", \"\", COUNTIFS(ToDoList!$B:$B, $A199, ToDoList!$R:$R, J$2))","v":""}]
[null,{"$f":"IF($A200 = \"\", \"\", COUNTIFS(ToDoList!$B:$B, $A200, ToDoList!$R:$R, B$2))","v":""},{"$f":"IF($A200 = \"\", \"\", COUNTIFS(ToDoList!$B:$B, $A200, ToDoList!$R:$R, C$2))","v":""},{"$f":"IF($A200 = \"\", \"\", COUNTIFS(ToDoList!$B:$B, $A200, ToDoList!$R:$R, D$2))","v":""},{"$f":"IF($A200 = \"\", \"\", COUNTIFS(ToDoList!$B:$B, $A200, ToDoList!$R:$R, E$2))","v":""},{"$f":"IF($A200 = \"\", \"\", COUNTIFS(ToDoList!$B:$B, $A200, ToDoList!$R:$R, F$2))","v":""},{"$f":"IF($A200 = \"\", \"\", COUNTIFS(ToDoList!$B:$B, $A200, ToDoList!$R:$R, G$2))","v":""},{"$f":"IF($A200 = \"\", \"\", COUNTIFS(ToDoList!$B:$B, $A200, ToDoList!$R:$R, H$2))","v":""},{"$f":"IF($A200 = \"\", \"\", COUNTIFS(ToDoList!$B:$B, $A200, ToDoList!$R:$R, I$2))","v":""},{"$f":"IF($A200 = \"\", \"\", COUNTIFS(ToDoList!$B:$B, $A200, ToDoList!$R:$R, J$2))","v":""}]
[null,{"$f":"IF($A201 = \"\", \"\", COUNTIFS(ToDoList!$B:$B, $A201, ToDoList!$R:$R, B$2))","v":""},{"$f":"IF($A201 = \"\", \"\", COUNTIFS(ToDoList!$B:$B, $A201, ToDoList!$R:$R, C$2))","v":""},{"$f":"IF($A201 = \"\", \"\", COUNTIFS(ToDoList!$B:$B, $A201, ToDoList!$R:$R, D$2))","v":""},{"$f":"IF($A201 = \"\", \"\", COUNTIFS(ToDoList!$B:$B, $A201, ToDoList!$R:$R, E$2))","v":""},{"$f":"IF($A201 = \"\", \"\", COUNTIFS(ToDoList!$B:$B, $A201, ToDoList!$R:$R, F$2))","v":""},{"$f":"IF($A201 = \"\", \"\", COUNTIFS(ToDoList!$B:$B, $A201, ToDoList!$R:$R, G$2))","v":""},{"$f":"IF($A201 = \"\", \"\", COUNTIFS(ToDoList!$B:$B, $A201, ToDoList!$R:$R, H$2))","v":""},{"$f":"IF($A201 = \"\", \"\", COUNTIFS(ToDoList!$B:$B, $A201, ToDoList!$R:$R, I$2))","v":""},{"$f":"IF($A201 = \"\", \"\", COUNTIFS(ToDoList!$B:$B, $A201, ToDoList!$R:$R, J$2))","v":""}]
[null,{"$f":"IF($A202 = \"\", \"\", COUNTIFS(ToDoList!$B:$B, $A202, ToDoList!$R:$R, B$2))","v":""},{"$f":"IF($A202 = \"\", \"\", COUNTIFS(ToDoList!$B:$B, $A202, ToDoList!$R:$R, C$2))","v":""},{"$f":"IF($A202 = \"\", \"\", COUNTIFS(ToDoList!$B:$B, $A202, ToDoList!$R:$R, D$2))","v":""},{"$f":"IF($A202 = \"\", \"\", COUNTIFS(ToDoList!$B:$B, $A202, ToDoList!$R:$R, E$2))","v":""},{"$f":"IF($A202 = \"\", \"\", COUNTIFS(ToDoList!$B:$B, $A202, ToDoList!$R:$R, F$2))","v":""},{"$f":"IF($A202 = \"\", \"\", COUNTIFS(ToDoList!$B:$B, $A202, ToDoList!$R:$R, G$2))","v":""},{"$f":"IF($A202 = \"\", \"\", COUNTIFS(ToDoList!$B:$B, $A202, ToDoList!$R:$R, H$2))","v":""},{"$f":"IF($A202 = \"\", \"\", COUNTIFS(ToDoList!$B:$B, $A202, ToDoList!$R:$R, I$2))","v":""},{"$f":"IF($A202 = \"\", \"\", COUNTIFS(ToDoList!$B:$B, $A202, ToDoList!$R:$R, J$2))","v":""}]
[null,{"$f":"IF($A203 = \"\", \"\", COUNTIFS(ToDoList!$B:$B, $A203, ToDoList!$R:$R, B$2))","v":""},{"$f":"IF($A203 = \"\", \"\", COUNTIFS(ToDoList!$B:$B, $A203, ToDoList!$R:$R, C$2))","v":""},{"$f":"IF($A203 = \"\", \"\", COUNTIFS(ToDoList!$B:$B, $A203, ToDoList!$R:$R, D$2))","v":""},{"$f":"IF($A203 = \"\", \"\", COUNTIFS(ToDoList!$B:$B, $A203, ToDoList!$R:$R, E$2))","v":""},{"$f":"IF($A203 = \"\", \"\", COUNTIFS(ToDoList!$B:$B, $A203, ToDoList!$R:$R, F$2))","v":""},{"$f":"IF($A203 = \"\", \"\", COUNTIFS(ToDoList!$B:$B, $A203, ToDoList!$R:$R, G$2))","v":""},{"$f":"IF($A203 = \"\", \"\", COUNTIFS(ToDoList!$B:$B, $A203, ToDoList!$R:$R, H$2))","v":""},{"$f":"IF($A203 = \"\", \"\", COUNTIFS(ToDoList!$B:$B, $A203, ToDoList!$R:$R, I$2))","v":""},{"$f":"IF($A203 = \"\", \"\", COUNTIFS(ToDoList!$B:$B, $A203, ToDoList!$R:$R, J$2))","v":""}]
[null,{"$f":"IF($A204 = \"\", \"\", COUNTIFS(ToDoList!$B:$B, $A204, ToDoList!$R:$R, B$2))","v":""},{"$f":"IF($A204 = \"\", \"\", COUNTIFS(ToDoList!$B:$B, $A204, ToDoList!$R:$R, C$2))","v":""},{"$f":"IF($A204 = \"\", \"\", COUNTIFS(ToDoList!$B:$B, $A204, ToDoList!$R:$R, D$2))","v":""},{"$f":"IF($A204 = \"\", \"\", COUNTIFS(ToDoList!$B:$B, $A204, ToDoList!$R:$R, E$2))","v":""},{"$f":"IF($A204 = \"\", \"\", COUNTIFS(ToDoList!$B:$B, $A204, ToDoList!$R:$R, F$2))","v":""},{"$f":"IF($A204 = \"\", \"\", COUNTIFS(ToDoList!$B:$B, $A204, ToDoList!$R:$R, G$2))","v":""},{"$f":"IF($A204 = \"\", \"\", COUNTIFS(ToDoList!$B:$B, $A204, ToDoList!$R:$R, H$2))","v":""},{"$f":"IF($A204 = \"\", \"\", COUNTIFS(ToDoList!$B:$B, $A204, ToDoList!$R:$R, I$2))","v":""},{"$f":"IF($A204 = \"\", \"\", COUNTIFS(ToDoList!$B:$B, $A204, ToDoList!$R:$R, J$2))","v":""}]
[null,{"$f":"IF($A205 = \"\", \"\", COUNTIFS(ToDoList!$B:$B, $A205, ToDoList!$R:$R, B$2))","v":""},{"$f":"IF($A205 = \"\", \"\", COUNTIFS(ToDoList!$B:$B, $A205, ToDoList!$R:$R, C$2))","v":""},{"$f":"IF($A205 = \"\", \"\", COUNTIFS(ToDoList!$B:$B, $A205, ToDoList!$R:$R, D$2))","v":""},{"$f":"IF($A205 = \"\", \"\", COUNTIFS(ToDoList!$B:$B, $A205, ToDoList!$R:$R, E$2))","v":""},{"$f":"IF($A205 = \"\", \"\", COUNTIFS(ToDoList!$B:$B, $A205, ToDoList!$R:$R, F$2))","v":""},{"$f":"IF($A205 = \"\", \"\", COUNTIFS(ToDoList!$B:$B, $A205, ToDoList!$R:$R, G$2))","v":""},{"$f":"IF($A205 = \"\", \"\", COUNTIFS(ToDoList!$B:$B, $A205, ToDoList!$R:$R, H$2))","v":""},{"$f":"IF($A205 = \"\", \"\", COUNTIFS(ToDoList!$B:$B, $A205, ToDoList!$R:$R, I$2))","v":""},{"$f":"IF($A205 = \"\", \"\", COUNTIFS(ToDoList!$B:$B, $A205, ToDoList!$R:$R, J$2))","v":""}]
[null,{"$f":"IF($A206 = \"\", \"\", COUNTIFS(ToDoList!$B:$B, $A206, ToDoList!$R:$R, B$2))","v":""},{"$f":"IF($A206 = \"\", \"\", COUNTIFS(ToDoList!$B:$B, $A206, ToDoList!$R:$R, C$2))","v":""},{"$f":"IF($A206 = \"\", \"\", COUNTIFS(ToDoList!$B:$B, $A206, ToDoList!$R:$R, D$2))","v":""},{"$f":"IF($A206 = \"\", \"\", COUNTIFS(ToDoList!$B:$B, $A206, ToDoList!$R:$R, E$2))","v":""},{"$f":"IF($A206 = \"\", \"\", COUNTIFS(ToDoList!$B:$B, $A206, ToDoList!$R:$R, F$2))","v":""},{"$f":"IF($A206 = \"\", \"\", COUNTIFS(ToDoList!$B:$B, $A206, ToDoList!$R:$R, G$2))","v":""},{"$f":"IF($A206 = \"\", \"\", COUNTIFS(ToDoList!$B:$B, $A206, ToDoList!$R:$R, H$2))","v":""},{"$f":"IF($A206 = \"\", \"\", COUNTIFS(ToDoList!$B:$B, $A206, ToDoList!$R:$R, I$2))","v":""},{"$f":"IF($A206 = \"\", \"\", COUNTIFS(ToDoList!$B:$B, $A206, ToDoList!$R:$R, J$2))","v":""}]
[null,{"$f":"IF($A207 = \"\", \"\", COUNTIFS(ToDoList!$B:$B, $A207, ToDoList!$R:$R, B$2))","v":""},{"$f":"IF($A207 = \"\", \"\", COUNTIFS(ToDoList!$B:$B, $A207, ToDoList!$R:$R, C$2))","v":""},{"$f":"IF($A207 = \"\", \"\", COUNTIFS(ToDoList!$B:$B, $A207, ToDoList!$R:$R, D$2))","v":""},{"$f":"IF($A207 = \"\", \"\", COUNTIFS(ToDoList!$B:$B, $A207, ToDoList!$R:$R, E$2))","v":""},{"$f":"IF($A207 = \"\", \"\", COUNTIFS(ToDoList!$B:$B, $A207, ToDoList!$R:$R, F$2))","v":""},{"$f":"IF($A207 = \"\", \"\", COUNTIFS(ToDoList!$B:$B, $A207, ToDoList!$R:$R, G$2))","v":""},{"$f":"IF($A207 = \"\", \"\", COUNTIFS(ToDoList!$B:$B, $A207, ToDoList!$R:$R, H$2))","v":""},{"$f":"IF($A207 = \"\", \"\", COUNTIFS(ToDoList!$B:$B, $A207, ToDoList!$R:$R, I$2))","v":""},{"$f":"IF($A207 = \"\", \"\", COUNTIFS(ToDoList!$B:$B, $A207, ToDoList!$R:$R, J$2))","v":""}]
[null,{"$f":"IF($A208 = \"\", \"\", COUNTIFS(ToDoList!$B:$B, $A208, ToDoList!$R:$R, B$2))","v":""},{"$f":"IF($A208 = \"\", \"\", COUNTIFS(ToDoList!$B:$B, $A208, ToDoList!$R:$R, C$2))","v":""},{"$f":"IF($A208 = \"\", \"\", COUNTIFS(ToDoList!$B:$B, $A208, ToDoList!$R:$R, D$2))","v":""},{"$f":"IF($A208 = \"\", \"\", COUNTIFS(ToDoList!$B:$B, $A208, ToDoList!$R:$R, E$2))","v":""},{"$f":"IF($A208 = \"\", \"\", COUNTIFS(ToDoList!$B:$B, $A208, ToDoList!$R:$R, F$2))","v":""},{"$f":"IF($A208 = \"\", \"\", COUNTIFS(ToDoList!$B:$B, $A208, ToDoList!$R:$R, G$2))","v":""},{"$f":"IF($A208 = \"\", \"\", COUNTIFS(ToDoList!$B:$B, $A208, ToDoList!$R:$R, H$2))","v":""},{"$f":"IF($A208 = \"\", \"\", COUNTIFS(ToDoList!$B:$B, $A208, ToDoList!$R:$R, I$2))","v":""},{"$f":"IF($A208 = \"\", \"\", COUNTIFS(ToDoList!$B:$B, $A208, ToDoList!$R:$R, J$2))","v":""}]
[null,{"$f":"IF($A209 = \"\", \"\", COUNTIFS(ToDoList!$B:$B, $A209, ToDoList!$R:$R, B$2))","v":""},{"$f":"IF($A209 = \"\", \"\", COUNTIFS(ToDoList!$B:$B, $A209, ToDoList!$R:$R, C$2))","v":""},{"$f":"IF($A209 = \"\", \"\", COUNTIFS(ToDoList!$B:$B, $A209, ToDoList!$R:$R, D$2))","v":""},{"$f":"IF($A209 = \"\", \"\", COUNTIFS(ToDoList!$B:$B, $A209, ToDoList!$R:$R, E$2))","v":""},{"$f":"IF($A209 = \"\", \"\", COUNTIFS(ToDoList!$B:$B, $A209, ToDoList!$R:$R, F$2))","v":""},{"$f":"IF($A209 = \"\", \"\", COUNTIFS(ToDoList!$B:$B, $A209, ToDoList!$R:$R, G$2))","v":""},{"$f":"IF($A209 = \"\", \"\", COUNTIFS(ToDoList!$B:$B, $A209, ToDoList!$R:$R, H$2))","v":""},{"$f":"IF($A209 = \"\", \"\", COUNTIFS(ToDoList!$B:$B, $A209, ToDoList!$R:$R, I$2))","v":""},{"$f":"IF($A209 = \"\", \"\", COUNTIFS(ToDoList!$B:$B, $A209, ToDoList!$R:$R, J$2))","v":""}]
[null,{"$f":"IF($A210 = \"\", \"\", COUNTIFS(ToDoList!$B:$B, $A210, ToDoList!$R:$R, B$2))","v":""},{"$f":"IF($A210 = \"\", \"\", COUNTIFS(ToDoList!$B:$B, $A210, ToDoList!$R:$R, C$2))","v":""},{"$f":"IF($A210 = \"\", \"\", COUNTIFS(ToDoList!$B:$B, $A210, ToDoList!$R:$R, D$2))","v":""},{"$f":"IF($A210 = \"\", \"\", COUNTIFS(ToDoList!$B:$B, $A210, ToDoList!$R:$R, E$2))","v":""},{"$f":"IF($A210 = \"\", \"\", COUNTIFS(ToDoList!$B:$B, $A210, ToDoList!$R:$R, F$2))","v":""},{"$f":"IF($A210 = \"\", \"\", COUNTIFS(ToDoList!$B:$B, $A210, ToDoList!$R:$R, G$2))","v":""},{"$f":"IF($A210 = \"\", \"\", COUNTIFS(ToDoList!$B:$B, $A210, ToDoList!$R:$R, H$2))","v":""},{"$f":"IF($A210 = \"\", \"\", COUNTIFS(ToDoList!$B:$B, $A210, ToDoList!$R:$R, I$2))","v":""},{"$f":"IF($A210 = \"\", \"\", COUNTIFS(ToDoList!$B:$B, $A210, ToDoList!$R:$R, J$2))","v":""}]
[null,{"$f":"IF($A211 = \"\", \"\", COUNTIFS(ToDoList!$B:$B, $A211, ToDoList!$R:$R, B$2))","v":""},{"$f":"IF($A211 = \"\", \"\", COUNTIFS(ToDoList!$B:$B, $A211, ToDoList!$R:$R, C$2))","v":""},{"$f":"IF($A211 = \"\", \"\", COUNTIFS(ToDoList!$B:$B, $A211, ToDoList!$R:$R, D$2))","v":""},{"$f":"IF($A211 = \"\", \"\", COUNTIFS(ToDoList!$B:$B, $A211, ToDoList!$R:$R, E$2))","v":""},{"$f":"IF($A211 = \"\", \"\", COUNTIFS(ToDoList!$B:$B, $A211, ToDoList!$R:$R, F$2))","v":""},{"$f":"IF($A211 = \"\", \"\", COUNTIFS(ToDoList!$B:$B, $A211, ToDoList!$R:$R, G$2))","v":""},{"$f":"IF($A211 = \"\", \"\", COUNTIFS(ToDoList!$B:$B, $A211, ToDoList!$R:$R, H$2))","v":""},{"$f":"IF($A211 = \"\", \"\", COUNTIFS(ToDoList!$B:$B, $A211, ToDoList!$R:$R, I$2))","v":""},{"$f":"IF($A211 = \"\", \"\", COUNTIFS(ToDoList!$B:$B, $A211, ToDoList!$R:$R, J$2))","v":""}]
[null,{"$f":"IF($A212 = \"\", \"\", COUNTIFS(ToDoList!$B:$B, $A212, ToDoList!$R:$R, B$2))","v":""},{"$f":"IF($A212 = \"\", \"\", COUNTIFS(ToDoList!$B:$B, $A212, ToDoList!$R:$R, C$2))","v":""},{"$f":"IF($A212 = \"\", \"\", COUNTIFS(ToDoList!$B:$B, $A212, ToDoList!$R:$R, D$2))","v":""},{"$f":"IF($A212 = \"\", \"\", COUNTIFS(ToDoList!$B:$B, $A212, ToDoList!$R:$R, E$2))","v":""},{"$f":"IF($A212 = \"\", \"\", COUNTIFS(ToDoList!$B:$B, $A212, ToDoList!$R:$R, F$2))","v":""},{"$f":"IF($A212 = \"\", \"\", COUNTIFS(ToDoList!$B:$B, $A212, ToDoList!$R:$R, G$2))","v":""},{"$f":"IF($A212 = \"\", \"\", COUNTIFS(ToDoList!$B:$B, $A212, ToDoList!$R:$R, H$2))","v":""},{"$f":"IF($A212 = \"\", \"\", COUNTIFS(ToDoList!$B:$B, $A212, ToDoList!$R:$R, I$2))","v":""},{"$f":"IF($A212 = \"\", \"\", COUNTIFS(ToDoList!$B:$B, $A212, ToDoList!$R:$R, J$2))","v":""}]
[null,{"$f":"IF($A213 = \"\", \"\", COUNTIFS(ToDoList!$B:$B, $A213, ToDoList!$R:$R, B$2))","v":""},{"$f":"IF($A213 = \"\", \"\", COUNTIFS(ToDoList!$B:$B, $A213, ToDoList!$R:$R, C$2))","v":""},{"$f":"IF($A213 = \"\", \"\", COUNTIFS(ToDoList!$B:$B, $A213, ToDoList!$R:$R, D$2))","v":""},{"$f":"IF($A213 = \"\", \"\", COUNTIFS(ToDoList!$B:$B, $A213, ToDoList!$R:$R, E$2))","v":""},{"$f":"IF($A213 = \"\", \"\", COUNTIFS(ToDoList!$B:$B, $A213, ToDoList!$R:$R, F$2))","v":""},{"$f":"IF($A213 = \"\", \"\", COUNTIFS(ToDoList!$B:$B, $A213, ToDoList!$R:$R, G$2))","v":""},{"$f":"IF($A213 = \"\", \"\", COUNTIFS(ToDoList!$B:$B, $A213, ToDoList!$R:$R, H$2))","v":""},{"$f":"IF($A213 = \"\", \"\", COUNTIFS(ToDoList!$B:$B, $A213, ToDoList!$R:$R, I$2))","v":""},{"$f":"IF($A213 = \"\", \"\", COUNTIFS(ToDoList!$B:$B, $A213, ToDoList!$R:$R, J$2))","v":""}]
[null,{"$f":"IF($A214 = \"\", \"\", COUNTIFS(ToDoList!$B:$B, $A214, ToDoList!$R:$R, B$2))","v":""},{"$f":"IF($A214 = \"\", \"\", COUNTIFS(ToDoList!$B:$B, $A214, ToDoList!$R:$R, C$2))","v":""},{"$f":"IF($A214 = \"\", \"\", COUNTIFS(ToDoList!$B:$B, $A214, ToDoList!$R:$R, D$2))","v":""},{"$f":"IF($A214 = \"\", \"\", COUNTIFS(ToDoList!$B:$B, $A214, ToDoList!$R:$R, E$2))","v":""},{"$f":"IF($A214 = \"\", \"\", COUNTIFS(ToDoList!$B:$B, $A214, ToDoList!$R:$R, F$2))","v":""},{"$f":"IF($A214 = \"\", \"\", COUNTIFS(ToDoList!$B:$B, $A214, ToDoList!$R:$R, G$2))","v":""},{"$f":"IF($A214 = \"\", \"\", COUNTIFS(ToDoList!$B:$B, $A214, ToDoList!$R:$R, H$2))","v":""},{"$f":"IF($A214 = \"\", \"\", COUNTIFS(ToDoList!$B:$B, $A214, ToDoList!$R:$R, I$2))","v":""},{"$f":"IF($A214 = \"\", \"\", COUNTIFS(ToDoList!$B:$B, $A214, ToDoList!$R:$R, J$2))","v":""}]
[null,{"$f":"IF($A215 = \"\", \"\", COUNTIFS(ToDoList!$B:$B, $A215, ToDoList!$R:$R, B$2))","v":""},{"$f":"IF($A215 = \"\", \"\", COUNTIFS(ToDoList!$B:$B, $A215, ToDoList!$R:$R, C$2))","v":""},{"$f":"IF($A215 = \"\", \"\", COUNTIFS(ToDoList!$B:$B, $A215, ToDoList!$R:$R, D$2))","v":""},{"$f":"IF($A215 = \"\", \"\", COUNTIFS(ToDoList!$B:$B, $A215, ToDoList!$R:$R, E$2))","v":""},{"$f":"IF($A215 = \"\", \"\", COUNTIFS(ToDoList!$B:$B, $A215, ToDoList!$R:$R, F$2))","v":""},{"$f":"IF($A215 = \"\", \"\", COUNTIFS(ToDoList!$B:$B, $A215, ToDoList!$R:$R, G$2))","v":""},{"$f":"IF($A215 = \"\", \"\", COUNTIFS(ToDoList!$B:$B, $A215, ToDoList!$R:$R, H$2))","v":""},{"$f":"IF($A215 = \"\", \"\", COUNTIFS(ToDoList!$B:$B, $A215, ToDoList!$R:$R, I$2))","v":""},{"$f":"IF($A215 = \"\", \"\", COUNTIFS(ToDoList!$B:$B, $A215, ToDoList!$R:$R, J$2))","v":""}]
[null,{"$f":"IF($A216 = \"\", \"\", COUNTIFS(ToDoList!$B:$B, $A216, ToDoList!$R:$R, B$2))","v":""},{"$f":"IF($A216 = \"\", \"\", COUNTIFS(ToDoList!$B:$B, $A216, ToDoList!$R:$R, C$2))","v":""},{"$f":"IF($A216 = \"\", \"\", COUNTIFS(ToDoList!$B:$B, $A216, ToDoList!$R:$R, D$2))","v":""},{"$f":"IF($A216 = \"\", \"\", COUNTIFS(ToDoList!$B:$B, $A216, ToDoList!$R:$R, E$2))","v":""},{"$f":"IF($A216 = \"\", \"\", COUNTIFS(ToDoList!$B:$B, $A216, ToDoList!$R:$R, F$2))","v":""},{"$f":"IF($A216 = \"\", \"\", COUNTIFS(ToDoList!$B:$B, $A216, ToDoList!$R:$R, G$2))","v":""},{"$f":"IF($A216 = \"\", \"\", COUNTIFS(ToDoList!$B:$B, $A216, ToDoList!$R:$R, H$2))","v":""},{"$f":"IF($A216 = \"\", \"\", COUNTIFS(ToDoList!$B:$B, $A216, ToDoList!$R:$R, I$2))","v":""},{"$f":"IF($A216 = \"\", \"\", COUNTIFS(ToDoList!$B:$B, $A216, ToDoList!$R:$R, J$2))","v":""}]
[null,{"$f":"IF($A217 = \"\", \"\", COUNTIFS(ToDoList!$B:$B, $A217, ToDoList!$R:$R, B$2))","v":""},{"$f":"IF($A217 = \"\", \"\", COUNTIFS(ToDoList!$B:$B, $A217, ToDoList!$R:$R, C$2))","v":""},{"$f":"IF($A217 = \"\", \"\", COUNTIFS(ToDoList!$B:$B, $A217, ToDoList!$R:$R, D$2))","v":""},{"$f":"IF($A217 = \"\", \"\", COUNTIFS(ToDoList!$B:$B, $A217, ToDoList!$R:$R, E$2))","v":""},{"$f":"IF($A217 = \"\", \"\", COUNTIFS(ToDoList!$B:$B, $A217, ToDoList!$R:$R, F$2))","v":""},{"$f":"IF($A217 = \"\", \"\", COUNTIFS(ToDoList!$B:$B, $A217, ToDoList!$R:$R, G$2))","v":""},{"$f":"IF($A217 = \"\", \"\", COUNTIFS(ToDoList!$B:$B, $A217, ToDoList!$R:$R, H$2))","v":""},{"$f":"IF($A217 = \"\", \"\", COUNTIFS(ToDoList!$B:$B, $A217, ToDoList!$R:$R, I$2))","v":""},{"$f":"IF($A217 = \"\", \"\", COUNTIFS(ToDoList!$B:$B, $A217, ToDoList!$R:$R, J$2))","v":""}]
[null,{"$f":"IF($A218 = \"\", \"\", COUNTIFS(ToDoList!$B:$B, $A218, ToDoList!$R:$R, B$2))","v":""},{"$f":"IF($A218 = \"\", \"\", COUNTIFS(ToDoList!$B:$B, $A218, ToDoList!$R:$R, C$2))","v":""},{"$f":"IF($A218 = \"\", \"\", COUNTIFS(ToDoList!$B:$B, $A218, ToDoList!$R:$R, D$2))","v":""},{"$f":"IF($A218 = \"\", \"\", COUNTIFS(ToDoList!$B:$B, $A218, ToDoList!$R:$R, E$2))","v":""},{"$f":"IF($A218 = \"\", \"\", COUNTIFS(ToDoList!$B:$B, $A218, ToDoList!$R:$R, F$2))","v":""},{"$f":"IF($A218 = \"\", \"\", COUNTIFS(ToDoList!$B:$B, $A218, ToDoList!$R:$R, G$2))","v":""},{"$f":"IF($A218 = \"\", \"\", COUNTIFS(ToDoList!$B:$B, $A218, ToDoList!$R:$R, H$2))","v":""},{"$f":"IF($A218 = \"\", \"\", COUNTIFS(ToDoList!$B:$B, $A218, ToDoList!$R:$R, I$2))","v":""},{"$f":"IF($A218 = \"\", \"\", COUNTIFS(ToDoList!$B:$B, $A218, ToDoList!$R:$R, J$2))","v":""}]
[null,{"$f":"IF($A219 = \"\", \"\", COUNTIFS(ToDoList!$B:$B, $A219, ToDoList!$R:$R, B$2))","v":""},{"$f":"IF($A219 = \"\", \"\", COUNTIFS(ToDoList!$B:$B, $A219, ToDoList!$R:$R, C$2))","v":""},{"$f":"IF($A219 = \"\", \"\", COUNTIFS(ToDoList!$B:$B, $A219, ToDoList!$R:$R, D$2))","v":""},{"$f":"IF($A219 = \"\", \"\", COUNTIFS(ToDoList!$B:$B, $A219, ToDoList!$R:$R, E$2))","v":""},{"$f":"IF($A219 = \"\", \"\", COUNTIFS(ToDoList!$B:$B, $A219, ToDoList!$R:$R, F$2))","v":""},{"$f":"IF($A219 = \"\", \"\", COUNTIFS(ToDoList!$B:$B, $A219, ToDoList!$R:$R, G$2))","v":""},{"$f":"IF($A219 = \"\", \"\", COUNTIFS(ToDoList!$B:$B, $A219, ToDoList!$R:$R, H$2))","v":""},{"$f":"IF($A219 = \"\", \"\", COUNTIFS(ToDoList!$B:$B, $A219, ToDoList!$R:$R, I$2))","v":""},{"$f":"IF($A219 = \"\", \"\", COUNTIFS(ToDoList!$B:$B, $A219, ToDoList!$R:$R, J$2))","v":""}]
[null,{"$f":"IF($A220 = \"\", \"\", COUNTIFS(ToDoList!$B:$B, $A220, ToDoList!$R:$R, B$2))","v":""},{"$f":"IF($A220 = \"\", \"\", COUNTIFS(ToDoList!$B:$B, $A220, ToDoList!$R:$R, C$2))","v":""},{"$f":"IF($A220 = \"\", \"\", COUNTIFS(ToDoList!$B:$B, $A220, ToDoList!$R:$R, D$2))","v":""},{"$f":"IF($A220 = \"\", \"\", COUNTIFS(ToDoList!$B:$B, $A220, ToDoList!$R:$R, E$2))","v":""},{"$f":"IF($A220 = \"\", \"\", COUNTIFS(ToDoList!$B:$B, $A220, ToDoList!$R:$R, F$2))","v":""},{"$f":"IF($A220 = \"\", \"\", COUNTIFS(ToDoList!$B:$B, $A220, ToDoList!$R:$R, G$2))","v":""},{"$f":"IF($A220 = \"\", \"\", COUNTIFS(ToDoList!$B:$B, $A220, ToDoList!$R:$R, H$2))","v":""},{"$f":"IF($A220 = \"\", \"\", COUNTIFS(ToDoList!$B:$B, $A220, ToDoList!$R:$R, I$2))","v":""},{"$f":"IF($A220 = \"\", \"\", COUNTIFS(ToDoList!$B:$B, $A220, ToDoList!$R:$R, J$2))","v":""}]
[null,{"$f":"IF($A221 = \"\", \"\", COUNTIFS(ToDoList!$B:$B, $A221, ToDoList!$R:$R, B$2))","v":""},{"$f":"IF($A221 = \"\", \"\", COUNTIFS(ToDoList!$B:$B, $A221, ToDoList!$R:$R, C$2))","v":""},{"$f":"IF($A221 = \"\", \"\", COUNTIFS(ToDoList!$B:$B, $A221, ToDoList!$R:$R, D$2))","v":""},{"$f":"IF($A221 = \"\", \"\", COUNTIFS(ToDoList!$B:$B, $A221, ToDoList!$R:$R, E$2))","v":""},{"$f":"IF($A221 = \"\", \"\", COUNTIFS(ToDoList!$B:$B, $A221, ToDoList!$R:$R, F$2))","v":""},{"$f":"IF($A221 = \"\", \"\", COUNTIFS(ToDoList!$B:$B, $A221, ToDoList!$R:$R, G$2))","v":""},{"$f":"IF($A221 = \"\", \"\", COUNTIFS(ToDoList!$B:$B, $A221, ToDoList!$R:$R, H$2))","v":""},{"$f":"IF($A221 = \"\", \"\", COUNTIFS(ToDoList!$B:$B, $A221, ToDoList!$R:$R, I$2))","v":""},{"$f":"IF($A221 = \"\", \"\", COUNTIFS(ToDoList!$B:$B, $A221, ToDoList!$R:$R, J$2))","v":""}]
[null,{"$f":"IF($A222 = \"\", \"\", COUNTIFS(ToDoList!$B:$B, $A222, ToDoList!$R:$R, B$2))","v":""},{"$f":"IF($A222 = \"\", \"\", COUNTIFS(ToDoList!$B:$B, $A222, ToDoList!$R:$R, C$2))","v":""},{"$f":"IF($A222 = \"\", \"\", COUNTIFS(ToDoList!$B:$B, $A222, ToDoList!$R:$R, D$2))","v":""},{"$f":"IF($A222 = \"\", \"\", COUNTIFS(ToDoList!$B:$B, $A222, ToDoList!$R:$R, E$2))","v":""},{"$f":"IF($A222 = \"\", \"\", COUNTIFS(ToDoList!$B:$B, $A222, ToDoList!$R:$R, F$2))","v":""},{"$f":"IF($A222 = \"\", \"\", COUNTIFS(ToDoList!$B:$B, $A222, ToDoList!$R:$R, G$2))","v":""},{"$f":"IF($A222 = \"\", \"\", COUNTIFS(ToDoList!$B:$B, $A222, ToDoList!$R:$R, H$2))","v":""},{"$f":"IF($A222 = \"\", \"\", COUNTIFS(ToDoList!$B:$B, $A222, ToDoList!$R:$R, I$2))","v":""},{"$f":"IF($A222 = \"\", \"\", COUNTIFS(ToDoList!$B:$B, $A222, ToDoList!$R:$R, J$2))","v":""}]
[null,{"$f":"IF($A223 = \"\", \"\", COUNTIFS(ToDoList!$B:$B, $A223, ToDoList!$R:$R, B$2))","v":""},{"$f":"IF($A223 = \"\", \"\", COUNTIFS(ToDoList!$B:$B, $A223, ToDoList!$R:$R, C$2))","v":""},{"$f":"IF($A223 = \"\", \"\", COUNTIFS(ToDoList!$B:$B, $A223, ToDoList!$R:$R, D$2))","v":""},{"$f":"IF($A223 = \"\", \"\", COUNTIFS(ToDoList!$B:$B, $A223, ToDoList!$R:$R, E$2))","v":""},{"$f":"IF($A223 = \"\", \"\", COUNTIFS(ToDoList!$B:$B, $A223, ToDoList!$R:$R, F$2))","v":""},{"$f":"IF($A223 = \"\", \"\", COUNTIFS(ToDoList!$B:$B, $A223, ToDoList!$R:$R, G$2))","v":""},{"$f":"IF($A223 = \"\", \"\", COUNTIFS(ToDoList!$B:$B, $A223, ToDoList!$R:$R, H$2))","v":""},{"$f":"IF($A223 = \"\", \"\", COUNTIFS(ToDoList!$B:$B, $A223, ToDoList!$R:$R, I$2))","v":""},{"$f":"IF($A223 = \"\", \"\", COUNTIFS(ToDoList!$B:$B, $A223, ToDoList!$R:$R, J$2))","v":""}]
[null,{"$f":"IF($A224 = \"\", \"\", COUNTIFS(ToDoList!$B:$B, $A224, ToDoList!$R:$R, B$2))","v":""},{"$f":"IF($A224 = \"\", \"\", COUNTIFS(ToDoList!$B:$B, $A224, ToDoList!$R:$R, C$2))","v":""},{"$f":"IF($A224 = \"\", \"\", COUNTIFS(ToDoList!$B:$B, $A224, ToDoList!$R:$R, D$2))","v":""},{"$f":"IF($A224 = \"\", \"\", COUNTIFS(ToDoList!$B:$B, $A224, ToDoList!$R:$R, E$2))","v":""},{"$f":"IF($A224 = \"\", \"\", COUNTIFS(ToDoList!$B:$B, $A224, ToDoList!$R:$R, F$2))","v":""},{"$f":"IF($A224 = \"\", \"\", COUNTIFS(ToDoList!$B:$B, $A224, ToDoList!$R:$R, G$2))","v":""},{"$f":"IF($A224 = \"\", \"\", COUNTIFS(ToDoList!$B:$B, $A224, ToDoList!$R:$R, H$2))","v":""},{"$f":"IF($A224 = \"\", \"\", COUNTIFS(ToDoList!$B:$B, $A224, ToDoList!$R:$R, I$2))","v":""},{"$f":"IF($A224 = \"\", \"\", COUNTIFS(ToDoList!$B:$B, $A224, ToDoList!$R:$R, J$2))","v":""}]
[null,{"$f":"IF($A225 = \"\", \"\", COUNTIFS(ToDoList!$B:$B, $A225, ToDoList!$R:$R, B$2))","v":""},{"$f":"IF($A225 = \"\", \"\", COUNTIFS(ToDoList!$B:$B, $A225, ToDoList!$R:$R, C$2))","v":""},{"$f":"IF($A225 = \"\", \"\", COUNTIFS(ToDoList!$B:$B, $A225, ToDoList!$R:$R, D$2))","v":""},{"$f":"IF($A225 = \"\", \"\", COUNTIFS(ToDoList!$B:$B, $A225, ToDoList!$R:$R, E$2))","v":""},{"$f":"IF($A225 = \"\", \"\", COUNTIFS(ToDoList!$B:$B, $A225, ToDoList!$R:$R, F$2))","v":""},{"$f":"IF($A225 = \"\", \"\", COUNTIFS(ToDoList!$B:$B, $A225, ToDoList!$R:$R, G$2))","v":""},{"$f":"IF($A225 = \"\", \"\", COUNTIFS(ToDoList!$B:$B, $A225, ToDoList!$R:$R, H$2))","v":""},{"$f":"IF($A225 = \"\", \"\", COUNTIFS(ToDoList!$B:$B, $A225, ToDoList!$R:$R, I$2))","v":""},{"$f":"IF($A225 = \"\", \"\", COUNTIFS(ToDoList!$B:$B, $A225, ToDoList!$R:$R, J$2))","v":""}]
[null,{"$f":"IF($A226 = \"\", \"\", COUNTIFS(ToDoList!$B:$B, $A226, ToDoList!$R:$R, B$2))","v":""},{"$f":"IF($A226 = \"\", \"\", COUNTIFS(ToDoList!$B:$B, $A226, ToDoList!$R:$R, C$2))","v":""},{"$f":"IF($A226 = \"\", \"\", COUNTIFS(ToDoList!$B:$B, $A226, ToDoList!$R:$R, D$2))","v":""},{"$f":"IF($A226 = \"\", \"\", COUNTIFS(ToDoList!$B:$B, $A226, ToDoList!$R:$R, E$2))","v":""},{"$f":"IF($A226 = \"\", \"\", COUNTIFS(ToDoList!$B:$B, $A226, ToDoList!$R:$R, F$2))","v":""},{"$f":"IF($A226 = \"\", \"\", COUNTIFS(ToDoList!$B:$B, $A226, ToDoList!$R:$R, G$2))","v":""},{"$f":"IF($A226 = \"\", \"\", COUNTIFS(ToDoList!$B:$B, $A226, ToDoList!$R:$R, H$2))","v":""},{"$f":"IF($A226 = \"\", \"\", COUNTIFS(ToDoList!$B:$B, $A226, ToDoList!$R:$R, I$2))","v":""},{"$f":"IF($A226 = \"\", \"\", COUNTIFS(ToDoList!$B:$B, $A226, ToDoList!$R:$R, J$2))","v":""}]
[null,{"$f":"IF($A227 = \"\", \"\", COUNTIFS(ToDoList!$B:$B, $A227, ToDoList!$R:$R, B$2))","v":""},{"$f":"IF($A227 = \"\", \"\", COUNTIFS(ToDoList!$B:$B, $A227, ToDoList!$R:$R, C$2))","v":""},{"$f":"IF($A227 = \"\", \"\", COUNTIFS(ToDoList!$B:$B, $A227, ToDoList!$R:$R, D$2))","v":""},{"$f":"IF($A227 = \"\", \"\", COUNTIFS(ToDoList!$B:$B, $A227, ToDoList!$R:$R, E$2))","v":""},{"$f":"IF($A227 = \"\", \"\", COUNTIFS(ToDoList!$B:$B, $A227, ToDoList!$R:$R, F$2))","v":""},{"$f":"IF($A227 = \"\", \"\", COUNTIFS(ToDoList!$B:$B, $A227, ToDoList!$R:$R, G$2))","v":""},{"$f":"IF($A227 = \"\", \"\", COUNTIFS(ToDoList!$B:$B, $A227, ToDoList!$R:$R, H$2))","v":""},{"$f":"IF($A227 = \"\", \"\", COUNTIFS(ToDoList!$B:$B, $A227, ToDoList!$R:$R, I$2))","v":""},{"$f":"IF($A227 = \"\", \"\", COUNTIFS(ToDoList!$B:$B, $A227, ToDoList!$R:$R, J$2))","v":""}]
[null,{"$f":"IF($A228 = \"\", \"\", COUNTIFS(ToDoList!$B:$B, $A228, ToDoList!$R:$R, B$2))","v":""},{"$f":"IF($A228 = \"\", \"\", COUNTIFS(ToDoList!$B:$B, $A228, ToDoList!$R:$R, C$2))","v":""},{"$f":"IF($A228 = \"\", \"\", COUNTIFS(ToDoList!$B:$B, $A228, ToDoList!$R:$R, D$2))","v":""},{"$f":"IF($A228 = \"\", \"\", COUNTIFS(ToDoList!$B:$B, $A228, ToDoList!$R:$R, E$2))","v":""},{"$f":"IF($A228 = \"\", \"\", COUNTIFS(ToDoList!$B:$B, $A228, ToDoList!$R:$R, F$2))","v":""},{"$f":"IF($A228 = \"\", \"\", COUNTIFS(ToDoList!$B:$B, $A228, ToDoList!$R:$R, G$2))","v":""},{"$f":"IF($A228 = \"\", \"\", COUNTIFS(ToDoList!$B:$B, $A228, ToDoList!$R:$R, H$2))","v":""},{"$f":"IF($A228 = \"\", \"\", COUNTIFS(ToDoList!$B:$B, $A228, ToDoList!$R:$R, I$2))","v":""},{"$f":"IF($A228 = \"\", \"\", COUNTIFS(ToDoList!$B:$B, $A228, ToDoList!$R:$R, J$2))","v":""}]
[null,{"$f":"IF($A229 = \"\", \"\", COUNTIFS(ToDoList!$B:$B, $A229, ToDoList!$R:$R, B$2))","v":""},{"$f":"IF($A229 = \"\", \"\", COUNTIFS(ToDoList!$B:$B, $A229, ToDoList!$R:$R, C$2))","v":""},{"$f":"IF($A229 = \"\", \"\", COUNTIFS(ToDoList!$B:$B, $A229, ToDoList!$R:$R, D$2))","v":""},{"$f":"IF($A229 = \"\", \"\", COUNTIFS(ToDoList!$B:$B, $A229, ToDoList!$R:$R, E$2))","v":""},{"$f":"IF($A229 = \"\", \"\", COUNTIFS(ToDoList!$B:$B, $A229, ToDoList!$R:$R, F$2))","v":""},{"$f":"IF($A229 = \"\", \"\", COUNTIFS(ToDoList!$B:$B, $A229, ToDoList!$R:$R, G$2))","v":""},{"$f":"IF($A229 = \"\", \"\", COUNTIFS(ToDoList!$B:$B, $A229, ToDoList!$R:$R, H$2))","v":""},{"$f":"IF($A229 = \"\", \"\", COUNTIFS(ToDoList!$B:$B, $A229, ToDoList!$R:$R, I$2))","v":""},{"$f":"IF($A229 = \"\", \"\", COUNTIFS(ToDoList!$B:$B, $A229, ToDoList!$R:$R, J$2))","v":""}]
[null,{"$f":"IF($A230 = \"\", \"\", COUNTIFS(ToDoList!$B:$B, $A230, ToDoList!$R:$R, B$2))","v":""},{"$f":"IF($A230 = \"\", \"\", COUNTIFS(ToDoList!$B:$B, $A230, ToDoList!$R:$R, C$2))","v":""},{"$f":"IF($A230 = \"\", \"\", COUNTIFS(ToDoList!$B:$B, $A230, ToDoList!$R:$R, D$2))","v":""},{"$f":"IF($A230 = \"\", \"\", COUNTIFS(ToDoList!$B:$B, $A230, ToDoList!$R:$R, E$2))","v":""},{"$f":"IF($A230 = \"\", \"\", COUNTIFS(ToDoList!$B:$B, $A230, ToDoList!$R:$R, F$2))","v":""},{"$f":"IF($A230 = \"\", \"\", COUNTIFS(ToDoList!$B:$B, $A230, ToDoList!$R:$R, G$2))","v":""},{"$f":"IF($A230 = \"\", \"\", COUNTIFS(ToDoList!$B:$B, $A230, ToDoList!$R:$R, H$2))","v":""},{"$f":"IF($A230 = \"\", \"\", COUNTIFS(ToDoList!$B:$B, $A230, ToDoList!$R:$R, I$2))","v":""},{"$f":"IF($A230 = \"\", \"\", COUNTIFS(ToDoList!$B:$B, $A230, ToDoList!$R:$R, J$2))","v":""}]
[null,{"$f":"IF($A231 = \"\", \"\", COUNTIFS(ToDoList!$B:$B, $A231, ToDoList!$R:$R, B$2))","v":""},{"$f":"IF($A231 = \"\", \"\", COUNTIFS(ToDoList!$B:$B, $A231, ToDoList!$R:$R, C$2))","v":""},{"$f":"IF($A231 = \"\", \"\", COUNTIFS(ToDoList!$B:$B, $A231, ToDoList!$R:$R, D$2))","v":""},{"$f":"IF($A231 = \"\", \"\", COUNTIFS(ToDoList!$B:$B, $A231, ToDoList!$R:$R, E$2))","v":""},{"$f":"IF($A231 = \"\", \"\", COUNTIFS(ToDoList!$B:$B, $A231, ToDoList!$R:$R, F$2))","v":""},{"$f":"IF($A231 = \"\", \"\", COUNTIFS(ToDoList!$B:$B, $A231, ToDoList!$R:$R, G$2))","v":""},{"$f":"IF($A231 = \"\", \"\", COUNTIFS(ToDoList!$B:$B, $A231, ToDoList!$R:$R, H$2))","v":""},{"$f":"IF($A231 = \"\", \"\", COUNTIFS(ToDoList!$B:$B, $A231, ToDoList!$R:$R, I$2))","v":""},{"$f":"IF($A231 = \"\", \"\", COUNTIFS(ToDoList!$B:$B, $A231, ToDoList!$R:$R, J$2))","v":""}]
[null,{"$f":"IF($A232 = \"\", \"\", COUNTIFS(ToDoList!$B:$B, $A232, ToDoList!$R:$R, B$2))","v":""},{"$f":"IF($A232 = \"\", \"\", COUNTIFS(ToDoList!$B:$B, $A232, ToDoList!$R:$R, C$2))","v":""},{"$f":"IF($A232 = \"\", \"\", COUNTIFS(ToDoList!$B:$B, $A232, ToDoList!$R:$R, D$2))","v":""},{"$f":"IF($A232 = \"\", \"\", COUNTIFS(ToDoList!$B:$B, $A232, ToDoList!$R:$R, E$2))","v":""},{"$f":"IF($A232 = \"\", \"\", COUNTIFS(ToDoList!$B:$B, $A232, ToDoList!$R:$R, F$2))","v":""},{"$f":"IF($A232 = \"\", \"\", COUNTIFS(ToDoList!$B:$B, $A232, ToDoList!$R:$R, G$2))","v":""},{"$f":"IF($A232 = \"\", \"\", COUNTIFS(ToDoList!$B:$B, $A232, ToDoList!$R:$R, H$2))","v":""},{"$f":"IF($A232 = \"\", \"\", COUNTIFS(ToDoList!$B:$B, $A232, ToDoList!$R:$R, I$2))","v":""},{"$f":"IF($A232 = \"\", \"\", COUNTIFS(ToDoList!$B:$B, $A232, ToDoList!$R:$R, J$2))","v":""}]
[null,{"$f":"IF($A233 = \"\", \"\", COUNTIFS(ToDoList!$B:$B, $A233, ToDoList!$R:$R, B$2))","v":""},{"$f":"IF($A233 = \"\", \"\", COUNTIFS(ToDoList!$B:$B, $A233, ToDoList!$R:$R, C$2))","v":""},{"$f":"IF($A233 = \"\", \"\", COUNTIFS(ToDoList!$B:$B, $A233, ToDoList!$R:$R, D$2))","v":""},{"$f":"IF($A233 = \"\", \"\", COUNTIFS(ToDoList!$B:$B, $A233, ToDoList!$R:$R, E$2))","v":""},{"$f":"IF($A233 = \"\", \"\", COUNTIFS(ToDoList!$B:$B, $A233, ToDoList!$R:$R, F$2))","v":""},{"$f":"IF($A233 = \"\", \"\", COUNTIFS(ToDoList!$B:$B, $A233, ToDoList!$R:$R, G$2))","v":""},{"$f":"IF($A233 = \"\", \"\", COUNTIFS(ToDoList!$B:$B, $A233, ToDoList!$R:$R, H$2))","v":""},{"$f":"IF($A233 = \"\", \"\", COUNTIFS(ToDoList!$B:$B, $A233, ToDoList!$R:$R, I$2))","v":""},{"$f":"IF($A233 = \"\", \"\", COUNTIFS(ToDoList!$B:$B, $A233, ToDoList!$R:$R, J$2))","v":""}]
[null,{"$f":"IF($A234 = \"\", \"\", COUNTIFS(ToDoList!$B:$B, $A234, ToDoList!$R:$R, B$2))","v":""},{"$f":"IF($A234 = \"\", \"\", COUNTIFS(ToDoList!$B:$B, $A234, ToDoList!$R:$R, C$2))","v":""},{"$f":"IF($A234 = \"\", \"\", COUNTIFS(ToDoList!$B:$B, $A234, ToDoList!$R:$R, D$2))","v":""},{"$f":"IF($A234 = \"\", \"\", COUNTIFS(ToDoList!$B:$B, $A234, ToDoList!$R:$R, E$2))","v":""},{"$f":"IF($A234 = \"\", \"\", COUNTIFS(ToDoList!$B:$B, $A234, ToDoList!$R:$R, F$2))","v":""},{"$f":"IF($A234 = \"\", \"\", COUNTIFS(ToDoList!$B:$B, $A234, ToDoList!$R:$R, G$2))","v":""},{"$f":"IF($A234 = \"\", \"\", COUNTIFS(ToDoList!$B:$B, $A234, ToDoList!$R:$R, H$2))","v":""},{"$f":"IF($A234 = \"\", \"\", COUNTIFS(ToDoList!$B:$B, $A234, ToDoList!$R:$R, I$2))","v":""},{"$f":"IF($A234 = \"\", \"\", COUNTIFS(ToDoList!$B:$B, $A234, ToDoList!$R:$R, J$2))","v":""}]
[null,{"$f":"IF($A235 = \"\", \"\", COUNTIFS(ToDoList!$B:$B, $A235, ToDoList!$R:$R, B$2))","v":""},{"$f":"IF($A235 = \"\", \"\", COUNTIFS(ToDoList!$B:$B, $A235, ToDoList!$R:$R, C$2))","v":""},{"$f":"IF($A235 = \"\", \"\", COUNTIFS(ToDoList!$B:$B, $A235, ToDoList!$R:$R, D$2))","v":""},{"$f":"IF($A235 = \"\", \"\", COUNTIFS(ToDoList!$B:$B, $A235, ToDoList!$R:$R, E$2))","v":""},{"$f":"IF($A235 = \"\", \"\", COUNTIFS(ToDoList!$B:$B, $A235, ToDoList!$R:$R, F$2))","v":""},{"$f":"IF($A235 = \"\", \"\", COUNTIFS(ToDoList!$B:$B, $A235, ToDoList!$R:$R, G$2))","v":""},{"$f":"IF($A235 = \"\", \"\", COUNTIFS(ToDoList!$B:$B, $A235, ToDoList!$R:$R, H$2))","v":""},{"$f":"IF($A235 = \"\", \"\", COUNTIFS(ToDoList!$B:$B, $A235, ToDoList!$R:$R, I$2))","v":""},{"$f":"IF($A235 = \"\", \"\", COUNTIFS(ToDoList!$B:$B, $A235, ToDoList!$R:$R, J$2))","v":""}]
[null,{"$f":"IF($A236 = \"\", \"\", COUNTIFS(ToDoList!$B:$B, $A236, ToDoList!$R:$R, B$2))","v":""},{"$f":"IF($A236 = \"\", \"\", COUNTIFS(ToDoList!$B:$B, $A236, ToDoList!$R:$R, C$2))","v":""},{"$f":"IF($A236 = \"\", \"\", COUNTIFS(ToDoList!$B:$B, $A236, ToDoList!$R:$R, D$2))","v":""},{"$f":"IF($A236 = \"\", \"\", COUNTIFS(ToDoList!$B:$B, $A236, ToDoList!$R:$R, E$2))","v":""},{"$f":"IF($A236 = \"\", \"\", COUNTIFS(ToDoList!$B:$B, $A236, ToDoList!$R:$R, F$2))","v":""},{"$f":"IF($A236 = \"\", \"\", COUNTIFS(ToDoList!$B:$B, $A236, ToDoList!$R:$R, G$2))","v":""},{"$f":"IF($A236 = \"\", \"\", COUNTIFS(ToDoList!$B:$B, $A236, ToDoList!$R:$R, H$2))","v":""},{"$f":"IF($A236 = \"\", \"\", COUNTIFS(ToDoList!$B:$B, $A236, ToDoList!$R:$R, I$2))","v":""},{"$f":"IF($A236 = \"\", \"\", COUNTIFS(ToDoList!$B:$B, $A236, ToDoList!$R:$R, J$2))","v":""}]
[null,{"$f":"IF($A237 = \"\", \"\", COUNTIFS(ToDoList!$B:$B, $A237, ToDoList!$R:$R, B$2))","v":""},{"$f":"IF($A237 = \"\", \"\", COUNTIFS(ToDoList!$B:$B, $A237, ToDoList!$R:$R, C$2))","v":""},{"$f":"IF($A237 = \"\", \"\", COUNTIFS(ToDoList!$B:$B, $A237, ToDoList!$R:$R, D$2))","v":""},{"$f":"IF($A237 = \"\", \"\", COUNTIFS(ToDoList!$B:$B, $A237, ToDoList!$R:$R, E$2))","v":""},{"$f":"IF($A237 = \"\", \"\", COUNTIFS(ToDoList!$B:$B, $A237, ToDoList!$R:$R, F$2))","v":""},{"$f":"IF($A237 = \"\", \"\", COUNTIFS(ToDoList!$B:$B, $A237, ToDoList!$R:$R, G$2))","v":""},{"$f":"IF($A237 = \"\", \"\", COUNTIFS(ToDoList!$B:$B, $A237, ToDoList!$R:$R, H$2))","v":""},{"$f":"IF($A237 = \"\", \"\", COUNTIFS(ToDoList!$B:$B, $A237, ToDoList!$R:$R, I$2))","v":""},{"$f":"IF($A237 = \"\", \"\", COUNTIFS(ToDoList!$B:$B, $A237, ToDoList!$R:$R, J$2))","v":""}]
[null,{"$f":"IF($A238 = \"\", \"\", COUNTIFS(ToDoList!$B:$B, $A238, ToDoList!$R:$R, B$2))","v":""},{"$f":"IF($A238 = \"\", \"\", COUNTIFS(ToDoList!$B:$B, $A238, ToDoList!$R:$R, C$2))","v":""},{"$f":"IF($A238 = \"\", \"\", COUNTIFS(ToDoList!$B:$B, $A238, ToDoList!$R:$R, D$2))","v":""},{"$f":"IF($A238 = \"\", \"\", COUNTIFS(ToDoList!$B:$B, $A238, ToDoList!$R:$R, E$2))","v":""},{"$f":"IF($A238 = \"\", \"\", COUNTIFS(ToDoList!$B:$B, $A238, ToDoList!$R:$R, F$2))","v":""},{"$f":"IF($A238 = \"\", \"\", COUNTIFS(ToDoList!$B:$B, $A238, ToDoList!$R:$R, G$2))","v":""},{"$f":"IF($A238 = \"\", \"\", COUNTIFS(ToDoList!$B:$B, $A238, ToDoList!$R:$R, H$2))","v":""},{"$f":"IF($A238 = \"\", \"\", COUNTIFS(ToDoList!$B:$B, $A238, ToDoList!$R:$R, I$2))","v":""},{"$f":"IF($A238 = \"\", \"\", COUNTIFS(ToDoList!$B:$B, $A238, ToDoList!$R:$R, J$2))","v":""}]
[null,{"$f":"IF($A239 = \"\", \"\", COUNTIFS(ToDoList!$B:$B, $A239, ToDoList!$R:$R, B$2))","v":""},{"$f":"IF($A239 = \"\", \"\", COUNTIFS(ToDoList!$B:$B, $A239, ToDoList!$R:$R, C$2))","v":""},{"$f":"IF($A239 = \"\", \"\", COUNTIFS(ToDoList!$B:$B, $A239, ToDoList!$R:$R, D$2))","v":""},{"$f":"IF($A239 = \"\", \"\", COUNTIFS(ToDoList!$B:$B, $A239, ToDoList!$R:$R, E$2))","v":""},{"$f":"IF($A239 = \"\", \"\", COUNTIFS(ToDoList!$B:$B, $A239, ToDoList!$R:$R, F$2))","v":""},{"$f":"IF($A239 = \"\", \"\", COUNTIFS(ToDoList!$B:$B, $A239, ToDoList!$R:$R, G$2))","v":""},{"$f":"IF($A239 = \"\", \"\", COUNTIFS(ToDoList!$B:$B, $A239, ToDoList!$R:$R, H$2))","v":""},{"$f":"IF($A239 = \"\", \"\", COUNTIFS(ToDoList!$B:$B, $A239, ToDoList!$R:$R, I$2))","v":""},{"$f":"IF($A239 = \"\", \"\", COUNTIFS(ToDoList!$B:$B, $A239, ToDoList!$R:$R, J$2))","v":""}]
[null,{"$f":"IF($A240 = \"\", \"\", COUNTIFS(ToDoList!$B:$B, $A240, ToDoList!$R:$R, B$2))","v":""},{"$f":"IF($A240 = \"\", \"\", COUNTIFS(ToDoList!$B:$B, $A240, ToDoList!$R:$R, C$2))","v":""},{"$f":"IF($A240 = \"\", \"\", COUNTIFS(ToDoList!$B:$B, $A240, ToDoList!$R:$R, D$2))","v":""},{"$f":"IF($A240 = \"\", \"\", COUNTIFS(ToDoList!$B:$B, $A240, ToDoList!$R:$R, E$2))","v":""},{"$f":"IF($A240 = \"\", \"\", COUNTIFS(ToDoList!$B:$B, $A240, ToDoList!$R:$R, F$2))","v":""},{"$f":"IF($A240 = \"\", \"\", COUNTIFS(ToDoList!$B:$B, $A240, ToDoList!$R:$R, G$2))","v":""},{"$f":"IF($A240 = \"\", \"\", COUNTIFS(ToDoList!$B:$B, $A240, ToDoList!$R:$R, H$2))","v":""},{"$f":"IF($A240 = \"\", \"\", COUNTIFS(ToDoList!$B:$B, $A240, ToDoList!$R:$R, I$2))","v":""},{"$f":"IF($A240 = \"\", \"\", COUNTIFS(ToDoList!$B:$B, $A240, ToDoList!$R:$R, J$2))","v":""}]
[null,{"$f":"IF($A241 = \"\", \"\", COUNTIFS(ToDoList!$B:$B, $A241, ToDoList!$R:$R, B$2))","v":""},{"$f":"IF($A241 = \"\", \"\", COUNTIFS(ToDoList!$B:$B, $A241, ToDoList!$R:$R, C$2))","v":""},{"$f":"IF($A241 = \"\", \"\", COUNTIFS(ToDoList!$B:$B, $A241, ToDoList!$R:$R, D$2))","v":""},{"$f":"IF($A241 = \"\", \"\", COUNTIFS(ToDoList!$B:$B, $A241, ToDoList!$R:$R, E$2))","v":""},{"$f":"IF($A241 = \"\", \"\", COUNTIFS(ToDoList!$B:$B, $A241, ToDoList!$R:$R, F$2))","v":""},{"$f":"IF($A241 = \"\", \"\", COUNTIFS(ToDoList!$B:$B, $A241, ToDoList!$R:$R, G$2))","v":""},{"$f":"IF($A241 = \"\", \"\", COUNTIFS(ToDoList!$B:$B, $A241, ToDoList!$R:$R, H$2))","v":""},{"$f":"IF($A241 = \"\", \"\", COUNTIFS(ToDoList!$B:$B, $A241, ToDoList!$R:$R, I$2))","v":""},{"$f":"IF($A241 = \"\", \"\", COUNTIFS(ToDoList!$B:$B, $A241, ToDoList!$R:$R, J$2))","v":""}]
[null,{"$f":"IF($A242 = \"\", \"\", COUNTIFS(ToDoList!$B:$B, $A242, ToDoList!$R:$R, B$2))","v":""},{"$f":"IF($A242 = \"\", \"\", COUNTIFS(ToDoList!$B:$B, $A242, ToDoList!$R:$R, C$2))","v":""},{"$f":"IF($A242 = \"\", \"\", COUNTIFS(ToDoList!$B:$B, $A242, ToDoList!$R:$R, D$2))","v":""},{"$f":"IF($A242 = \"\", \"\", COUNTIFS(ToDoList!$B:$B, $A242, ToDoList!$R:$R, E$2))","v":""},{"$f":"IF($A242 = \"\", \"\", COUNTIFS(ToDoList!$B:$B, $A242, ToDoList!$R:$R, F$2))","v":""},{"$f":"IF($A242 = \"\", \"\", COUNTIFS(ToDoList!$B:$B, $A242, ToDoList!$R:$R, G$2))","v":""},{"$f":"IF($A242 = \"\", \"\", COUNTIFS(ToDoList!$B:$B, $A242, ToDoList!$R:$R, H$2))","v":""},{"$f":"IF($A242 = \"\", \"\", COUNTIFS(ToDoList!$B:$B, $A242, ToDoList!$R:$R, I$2))","v":""},{"$f":"IF($A242 = \"\", \"\", COUNTIFS(ToDoList!$B:$B, $A242, ToDoList!$R:$R, J$2))","v":""}]
[null,{"$f":"IF($A243 = \"\", \"\", COUNTIFS(ToDoList!$B:$B, $A243, ToDoList!$R:$R, B$2))","v":""},{"$f":"IF($A243 = \"\", \"\", COUNTIFS(ToDoList!$B:$B, $A243, ToDoList!$R:$R, C$2))","v":""},{"$f":"IF($A243 = \"\", \"\", COUNTIFS(ToDoList!$B:$B, $A243, ToDoList!$R:$R, D$2))","v":""},{"$f":"IF($A243 = \"\", \"\", COUNTIFS(ToDoList!$B:$B, $A243, ToDoList!$R:$R, E$2))","v":""},{"$f":"IF($A243 = \"\", \"\", COUNTIFS(ToDoList!$B:$B, $A243, ToDoList!$R:$R, F$2))","v":""},{"$f":"IF($A243 = \"\", \"\", COUNTIFS(ToDoList!$B:$B, $A243, ToDoList!$R:$R, G$2))","v":""},{"$f":"IF($A243 = \"\", \"\", COUNTIFS(ToDoList!$B:$B, $A243, ToDoList!$R:$R, H$2))","v":""},{"$f":"IF($A243 = \"\", \"\", COUNTIFS(ToDoList!$B:$B, $A243, ToDoList!$R:$R, I$2))","v":""},{"$f":"IF($A243 = \"\", \"\", COUNTIFS(ToDoList!$B:$B, $A243, ToDoList!$R:$R, J$2))","v":""}]
[null,{"$f":"IF($A244 = \"\", \"\", COUNTIFS(ToDoList!$B:$B, $A244, ToDoList!$R:$R, B$2))","v":""},{"$f":"IF($A244 = \"\", \"\", COUNTIFS(ToDoList!$B:$B, $A244, ToDoList!$R:$R, C$2))","v":""},{"$f":"IF($A244 = \"\", \"\", COUNTIFS(ToDoList!$B:$B, $A244, ToDoList!$R:$R, D$2))","v":""},{"$f":"IF($A244 = \"\", \"\", COUNTIFS(ToDoList!$B:$B, $A244, ToDoList!$R:$R, E$2))","v":""},{"$f":"IF($A244 = \"\", \"\", COUNTIFS(ToDoList!$B:$B, $A244, ToDoList!$R:$R, F$2))","v":""},{"$f":"IF($A244 = \"\", \"\", COUNTIFS(ToDoList!$B:$B, $A244, ToDoList!$R:$R, G$2))","v":""},{"$f":"IF($A244 = \"\", \"\", COUNTIFS(ToDoList!$B:$B, $A244, ToDoList!$R:$R, H$2))","v":""},{"$f":"IF($A244 = \"\", \"\", COUNTIFS(ToDoList!$B:$B, $A244, ToDoList!$R:$R, I$2))","v":""},{"$f":"IF($A244 = \"\", \"\", COUNTIFS(ToDoList!$B:$B, $A244, ToDoList!$R:$R, J$2))","v":""}]
[null,{"$f":"IF($A245 = \"\", \"\", COUNTIFS(ToDoList!$B:$B, $A245, ToDoList!$R:$R, B$2))","v":""},{"$f":"IF($A245 = \"\", \"\", COUNTIFS(ToDoList!$B:$B, $A245, ToDoList!$R:$R, C$2))","v":""},{"$f":"IF($A245 = \"\", \"\", COUNTIFS(ToDoList!$B:$B, $A245, ToDoList!$R:$R, D$2))","v":""},{"$f":"IF($A245 = \"\", \"\", COUNTIFS(ToDoList!$B:$B, $A245, ToDoList!$R:$R, E$2))","v":""},{"$f":"IF($A245 = \"\", \"\", COUNTIFS(ToDoList!$B:$B, $A245, ToDoList!$R:$R, F$2))","v":""},{"$f":"IF($A245 = \"\", \"\", COUNTIFS(ToDoList!$B:$B, $A245, ToDoList!$R:$R, G$2))","v":""},{"$f":"IF($A245 = \"\", \"\", COUNTIFS(ToDoList!$B:$B, $A245, ToDoList!$R:$R, H$2))","v":""},{"$f":"IF($A245 = \"\", \"\", COUNTIFS(ToDoList!$B:$B, $A245, ToDoList!$R:$R, I$2))","v":""},{"$f":"IF($A245 = \"\", \"\", COUNTIFS(ToDoList!$B:$B, $A245, ToDoList!$R:$R, J$2))","v":""}]
[null,{"$f":"IF($A246 = \"\", \"\", COUNTIFS(ToDoList!$B:$B, $A246, ToDoList!$R:$R, B$2))","v":""},{"$f":"IF($A246 = \"\", \"\", COUNTIFS(ToDoList!$B:$B, $A246, ToDoList!$R:$R, C$2))","v":""},{"$f":"IF($A246 = \"\", \"\", COUNTIFS(ToDoList!$B:$B, $A246, ToDoList!$R:$R, D$2))","v":""},{"$f":"IF($A246 = \"\", \"\", COUNTIFS(ToDoList!$B:$B, $A246, ToDoList!$R:$R, E$2))","v":""},{"$f":"IF($A246 = \"\", \"\", COUNTIFS(ToDoList!$B:$B, $A246, ToDoList!$R:$R, F$2))","v":""},{"$f":"IF($A246 = \"\", \"\", COUNTIFS(ToDoList!$B:$B, $A246, ToDoList!$R:$R, G$2))","v":""},{"$f":"IF($A246 = \"\", \"\", COUNTIFS(ToDoList!$B:$B, $A246, ToDoList!$R:$R, H$2))","v":""},{"$f":"IF($A246 = \"\", \"\", COUNTIFS(ToDoList!$B:$B, $A246, ToDoList!$R:$R, I$2))","v":""},{"$f":"IF($A246 = \"\", \"\", COUNTIFS(ToDoList!$B:$B, $A246, ToDoList!$R:$R, J$2))","v":""}]
[null,{"$f":"IF($A247 = \"\", \"\", COUNTIFS(ToDoList!$B:$B, $A247, ToDoList!$R:$R, B$2))","v":""},{"$f":"IF($A247 = \"\", \"\", COUNTIFS(ToDoList!$B:$B, $A247, ToDoList!$R:$R, C$2))","v":""},{"$f":"IF($A247 = \"\", \"\", COUNTIFS(ToDoList!$B:$B, $A247, ToDoList!$R:$R, D$2))","v":""},{"$f":"IF($A247 = \"\", \"\", COUNTIFS(ToDoList!$B:$B, $A247, ToDoList!$R:$R, E$2))","v":""},{"$f":"IF($A247 = \"\", \"\", COUNTIFS(ToDoList!$B:$B, $A247, ToDoList!$R:$R, F$2))","v":""},{"$f":"IF($A247 = \"\", \"\", COUNTIFS(ToDoList!$B:$B, $A247, ToDoList!$R:$R, G$2))","v":""},{"$f":"IF($A247 = \"\", \"\", COUNTIFS(ToDoList!$B:$B, $A247, ToDoList!$R:$R, H$2))","v":""},{"$f":"IF($A247 = \"\", \"\", COUNTIFS(ToDoList!$B:$B, $A247, ToDoList!$R:$R, I$2))","v":""},{"$f":"IF($A247 = \"\", \"\", COUNTIFS(ToDoList!$B:$B, $A247, ToDoList!$R:$R, J$2))","v":""}]
[null,{"$f":"IF($A248 = \"\", \"\", COUNTIFS(ToDoList!$B:$B, $A248, ToDoList!$R:$R, B$2))","v":""},{"$f":"IF($A248 = \"\", \"\", COUNTIFS(ToDoList!$B:$B, $A248, ToDoList!$R:$R, C$2))","v":""},{"$f":"IF($A248 = \"\", \"\", COUNTIFS(ToDoList!$B:$B, $A248, ToDoList!$R:$R, D$2))","v":""},{"$f":"IF($A248 = \"\", \"\", COUNTIFS(ToDoList!$B:$B, $A248, ToDoList!$R:$R, E$2))","v":""},{"$f":"IF($A248 = \"\", \"\", COUNTIFS(ToDoList!$B:$B, $A248, ToDoList!$R:$R, F$2))","v":""},{"$f":"IF($A248 = \"\", \"\", COUNTIFS(ToDoList!$B:$B, $A248, ToDoList!$R:$R, G$2))","v":""},{"$f":"IF($A248 = \"\", \"\", COUNTIFS(ToDoList!$B:$B, $A248, ToDoList!$R:$R, H$2))","v":""},{"$f":"IF($A248 = \"\", \"\", COUNTIFS(ToDoList!$B:$B, $A248, ToDoList!$R:$R, I$2))","v":""},{"$f":"IF($A248 = \"\", \"\", COUNTIFS(ToDoList!$B:$B, $A248, ToDoList!$R:$R, J$2))","v":""}]
[null,{"$f":"IF($A249 = \"\", \"\", COUNTIFS(ToDoList!$B:$B, $A249, ToDoList!$R:$R, B$2))","v":""},{"$f":"IF($A249 = \"\", \"\", COUNTIFS(ToDoList!$B:$B, $A249, ToDoList!$R:$R, C$2))","v":""},{"$f":"IF($A249 = \"\", \"\", COUNTIFS(ToDoList!$B:$B, $A249, ToDoList!$R:$R, D$2))","v":""},{"$f":"IF($A249 = \"\", \"\", COUNTIFS(ToDoList!$B:$B, $A249, ToDoList!$R:$R, E$2))","v":""},{"$f":"IF($A249 = \"\", \"\", COUNTIFS(ToDoList!$B:$B, $A249, ToDoList!$R:$R, F$2))","v":""},{"$f":"IF($A249 = \"\", \"\", COUNTIFS(ToDoList!$B:$B, $A249, ToDoList!$R:$R, G$2))","v":""},{"$f":"IF($A249 = \"\", \"\", COUNTIFS(ToDoList!$B:$B, $A249, ToDoList!$R:$R, H$2))","v":""},{"$f":"IF($A249 = \"\", \"\", COUNTIFS(ToDoList!$B:$B, $A249, ToDoList!$R:$R, I$2))","v":""},{"$f":"IF($A249 = \"\", \"\", COUNTIFS(ToDoList!$B:$B, $A249, ToDoList!$R:$R, J$2))","v":""}]
[null,{"$f":"IF($A250 = \"\", \"\", COUNTIFS(ToDoList!$B:$B, $A250, ToDoList!$R:$R, B$2))","v":""},{"$f":"IF($A250 = \"\", \"\", COUNTIFS(ToDoList!$B:$B, $A250, ToDoList!$R:$R, C$2))","v":""},{"$f":"IF($A250 = \"\", \"\", COUNTIFS(ToDoList!$B:$B, $A250, ToDoList!$R:$R, D$2))","v":""},{"$f":"IF($A250 = \"\", \"\", COUNTIFS(ToDoList!$B:$B, $A250, ToDoList!$R:$R, E$2))","v":""},{"$f":"IF($A250 = \"\", \"\", COUNTIFS(ToDoList!$B:$B, $A250, ToDoList!$R:$R, F$2))","v":""},{"$f":"IF($A250 = \"\", \"\", COUNTIFS(ToDoList!$B:$B, $A250, ToDoList!$R:$R, G$2))","v":""},{"$f":"IF($A250 = \"\", \"\", COUNTIFS(ToDoList!$B:$B, $A250, ToDoList!$R:$R, H$2))","v":""},{"$f":"IF($A250 = \"\", \"\", COUNTIFS(ToDoList!$B:$B, $A250, ToDoList!$R:$R, I$2))","v":""},{"$f":"IF($A250 = \"\", \"\", COUNTIFS(ToDoList!$B:$B, $A250, ToDoList!$R:$R, J$2))","v":""}]
[null,{"$f":"IF($A251 = \"\", \"\", COUNTIFS(ToDoList!$B:$B, $A251, ToDoList!$R:$R, B$2))","v":""},{"$f":"IF($A251 = \"\", \"\", COUNTIFS(ToDoList!$B:$B, $A251, ToDoList!$R:$R, C$2))","v":""},{"$f":"IF($A251 = \"\", \"\", COUNTIFS(ToDoList!$B:$B, $A251, ToDoList!$R:$R, D$2))","v":""},{"$f":"IF($A251 = \"\", \"\", COUNTIFS(ToDoList!$B:$B, $A251, ToDoList!$R:$R, E$2))","v":""},{"$f":"IF($A251 = \"\", \"\", COUNTIFS(ToDoList!$B:$B, $A251, ToDoList!$R:$R, F$2))","v":""},{"$f":"IF($A251 = \"\", \"\", COUNTIFS(ToDoList!$B:$B, $A251, ToDoList!$R:$R, G$2))","v":""},{"$f":"IF($A251 = \"\", \"\", COUNTIFS(ToDoList!$B:$B, $A251, ToDoList!$R:$R, H$2))","v":""},{"$f":"IF($A251 = \"\", \"\", COUNTIFS(ToDoList!$B:$B, $A251, ToDoList!$R:$R, I$2))","v":""},{"$f":"IF($A251 = \"\", \"\", COUNTIFS(ToDoList!$B:$B, $A251, ToDoList!$R:$R, J$2))","v":""}]
[null,{"$f":"IF($A252 = \"\", \"\", COUNTIFS(ToDoList!$B:$B, $A252, ToDoList!$R:$R, B$2))","v":""},{"$f":"IF($A252 = \"\", \"\", COUNTIFS(ToDoList!$B:$B, $A252, ToDoList!$R:$R, C$2))","v":""},{"$f":"IF($A252 = \"\", \"\", COUNTIFS(ToDoList!$B:$B, $A252, ToDoList!$R:$R, D$2))","v":""},{"$f":"IF($A252 = \"\", \"\", COUNTIFS(ToDoList!$B:$B, $A252, ToDoList!$R:$R, E$2))","v":""},{"$f":"IF($A252 = \"\", \"\", COUNTIFS(ToDoList!$B:$B, $A252, ToDoList!$R:$R, F$2))","v":""},{"$f":"IF($A252 = \"\", \"\", COUNTIFS(ToDoList!$B:$B, $A252, ToDoList!$R:$R, G$2))","v":""},{"$f":"IF($A252 = \"\", \"\", COUNTIFS(ToDoList!$B:$B, $A252, ToDoList!$R:$R, H$2))","v":""},{"$f":"IF($A252 = \"\", \"\", COUNTIFS(ToDoList!$B:$B, $A252, ToDoList!$R:$R, I$2))","v":""},{"$f":"IF($A252 = \"\", \"\", COUNTIFS(ToDoList!$B:$B, $A252, ToDoList!$R:$R, J$2))","v":""}]
[null,{"$f":"IF($A253 = \"\", \"\", COUNTIFS(ToDoList!$B:$B, $A253, ToDoList!$R:$R, B$2))","v":""},{"$f":"IF($A253 = \"\", \"\", COUNTIFS(ToDoList!$B:$B, $A253, ToDoList!$R:$R, C$2))","v":""},{"$f":"IF($A253 = \"\", \"\", COUNTIFS(ToDoList!$B:$B, $A253, ToDoList!$R:$R, D$2))","v":""},{"$f":"IF($A253 = \"\", \"\", COUNTIFS(ToDoList!$B:$B, $A253, ToDoList!$R:$R, E$2))","v":""},{"$f":"IF($A253 = \"\", \"\", COUNTIFS(ToDoList!$B:$B, $A253, ToDoList!$R:$R, F$2))","v":""},{"$f":"IF($A253 = \"\", \"\", COUNTIFS(ToDoList!$B:$B, $A253, ToDoList!$R:$R, G$2))","v":""},{"$f":"IF($A253 = \"\", \"\", COUNTIFS(ToDoList!$B:$B, $A253, ToDoList!$R:$R, H$2))","v":""},{"$f":"IF($A253 = \"\", \"\", COUNTIFS(ToDoList!$B:$B, $A253, ToDoList!$R:$R, I$2))","v":""},{"$f":"IF($A253 = \"\", \"\", COUNTIFS(ToDoList!$B:$B, $A253, ToDoList!$R:$R, J$2))","v":""}]
[null,{"$f":"IF($A254 = \"\", \"\", COUNTIFS(ToDoList!$B:$B, $A254, ToDoList!$R:$R, B$2))","v":""},{"$f":"IF($A254 = \"\", \"\", COUNTIFS(ToDoList!$B:$B, $A254, ToDoList!$R:$R, C$2))","v":""},{"$f":"IF($A254 = \"\", \"\", COUNTIFS(ToDoList!$B:$B, $A254, ToDoList!$R:$R, D$2))","v":""},{"$f":"IF($A254 = \"\", \"\", COUNTIFS(ToDoList!$B:$B, $A254, ToDoList!$R:$R, E$2))","v":""},{"$f":"IF($A254 = \"\", \"\", COUNTIFS(ToDoList!$B:$B, $A254, ToDoList!$R:$R, F$2))","v":""},{"$f":"IF($A254 = \"\", \"\", COUNTIFS(ToDoList!$B:$B, $A254, ToDoList!$R:$R, G$2))","v":""},{"$f":"IF($A254 = \"\", \"\", COUNTIFS(ToDoList!$B:$B, $A254, ToDoList!$R:$R, H$2))","v":""},{"$f":"IF($A254 = \"\", \"\", COUNTIFS(ToDoList!$B:$B, $A254, ToDoList!$R:$R, I$2))","v":""},{"$f":"IF($A254 = \"\", \"\", COUNTIFS(ToDoList!$B:$B, $A254, ToDoList!$R:$R, J$2))","v":""}]
[null,{"$f":"IF($A255 = \"\", \"\", COUNTIFS(ToDoList!$B:$B, $A255, ToDoList!$R:$R, B$2))","v":""},{"$f":"IF($A255 = \"\", \"\", COUNTIFS(ToDoList!$B:$B, $A255, ToDoList!$R:$R, C$2))","v":""},{"$f":"IF($A255 = \"\", \"\", COUNTIFS(ToDoList!$B:$B, $A255, ToDoList!$R:$R, D$2))","v":""},{"$f":"IF($A255 = \"\", \"\", COUNTIFS(ToDoList!$B:$B, $A255, ToDoList!$R:$R, E$2))","v":""},{"$f":"IF($A255 = \"\", \"\", COUNTIFS(ToDoList!$B:$B, $A255, ToDoList!$R:$R, F$2))","v":""},{"$f":"IF($A255 = \"\", \"\", COUNTIFS(ToDoList!$B:$B, $A255, ToDoList!$R:$R, G$2))","v":""},{"$f":"IF($A255 = \"\", \"\", COUNTIFS(ToDoList!$B:$B, $A255, ToDoList!$R:$R, H$2))","v":""},{"$f":"IF($A255 = \"\", \"\", COUNTIFS(ToDoList!$B:$B, $A255, ToDoList!$R:$R, I$2))","v":""},{"$f":"IF($A255 = \"\", \"\", COUNTIFS(ToDoList!$B:$B, $A255, ToDoList!$R:$R, J$2))","v":""}]
[null,{"$f":"IF($A256 = \"\", \"\", COUNTIFS(ToDoList!$B:$B, $A256, ToDoList!$R:$R, B$2))","v":""},{"$f":"IF($A256 = \"\", \"\", COUNTIFS(ToDoList!$B:$B, $A256, ToDoList!$R:$R, C$2))","v":""},{"$f":"IF($A256 = \"\", \"\", COUNTIFS(ToDoList!$B:$B, $A256, ToDoList!$R:$R, D$2))","v":""},{"$f":"IF($A256 = \"\", \"\", COUNTIFS(ToDoList!$B:$B, $A256, ToDoList!$R:$R, E$2))","v":""},{"$f":"IF($A256 = \"\", \"\", COUNTIFS(ToDoList!$B:$B, $A256, ToDoList!$R:$R, F$2))","v":""},{"$f":"IF($A256 = \"\", \"\", COUNTIFS(ToDoList!$B:$B, $A256, ToDoList!$R:$R, G$2))","v":""},{"$f":"IF($A256 = \"\", \"\", COUNTIFS(ToDoList!$B:$B, $A256, ToDoList!$R:$R, H$2))","v":""},{"$f":"IF($A256 = \"\", \"\", COUNTIFS(ToDoList!$B:$B, $A256, ToDoList!$R:$R, I$2))","v":""},{"$f":"IF($A256 = \"\", \"\", COUNTIFS(ToDoList!$B:$B, $A256, ToDoList!$R:$R, J$2))","v":""}]
[null,{"$f":"IF($A257 = \"\", \"\", COUNTIFS(ToDoList!$B:$B, $A257, ToDoList!$R:$R, B$2))","v":""},{"$f":"IF($A257 = \"\", \"\", COUNTIFS(ToDoList!$B:$B, $A257, ToDoList!$R:$R, C$2))","v":""},{"$f":"IF($A257 = \"\", \"\", COUNTIFS(ToDoList!$B:$B, $A257, ToDoList!$R:$R, D$2))","v":""},{"$f":"IF($A257 = \"\", \"\", COUNTIFS(ToDoList!$B:$B, $A257, ToDoList!$R:$R, E$2))","v":""},{"$f":"IF($A257 = \"\", \"\", COUNTIFS(ToDoList!$B:$B, $A257, ToDoList!$R:$R, F$2))","v":""},{"$f":"IF($A257 = \"\", \"\", COUNTIFS(ToDoList!$B:$B, $A257, ToDoList!$R:$R, G$2))","v":""},{"$f":"IF($A257 = \"\", \"\", COUNTIFS(ToDoList!$B:$B, $A257, ToDoList!$R:$R, H$2))","v":""},{"$f":"IF($A257 = \"\", \"\", COUNTIFS(ToDoList!$B:$B, $A257, ToDoList!$R:$R, I$2))","v":""},{"$f":"IF($A257 = \"\", \"\", COUNTIFS(ToDoList!$B:$B, $A257, ToDoList!$R:$R, J$2))","v":""}]
[null,{"$f":"IF($A258 = \"\", \"\", COUNTIFS(ToDoList!$B:$B, $A258, ToDoList!$R:$R, B$2))","v":""},{"$f":"IF($A258 = \"\", \"\", COUNTIFS(ToDoList!$B:$B, $A258, ToDoList!$R:$R, C$2))","v":""},{"$f":"IF($A258 = \"\", \"\", COUNTIFS(ToDoList!$B:$B, $A258, ToDoList!$R:$R, D$2))","v":""},{"$f":"IF($A258 = \"\", \"\", COUNTIFS(ToDoList!$B:$B, $A258, ToDoList!$R:$R, E$2))","v":""},{"$f":"IF($A258 = \"\", \"\", COUNTIFS(ToDoList!$B:$B, $A258, ToDoList!$R:$R, F$2))","v":""},{"$f":"IF($A258 = \"\", \"\", COUNTIFS(ToDoList!$B:$B, $A258, ToDoList!$R:$R, G$2))","v":""},{"$f":"IF($A258 = \"\", \"\", COUNTIFS(ToDoList!$B:$B, $A258, ToDoList!$R:$R, H$2))","v":""},{"$f":"IF($A258 = \"\", \"\", COUNTIFS(ToDoList!$B:$B, $A258, ToDoList!$R:$R, I$2))","v":""},{"$f":"IF($A258 = \"\", \"\", COUNTIFS(ToDoList!$B:$B, $A258, ToDoList!$R:$R, J$2))","v":""}]
[null,{"$f":"IF($A259 = \"\", \"\", COUNTIFS(ToDoList!$B:$B, $A259, ToDoList!$R:$R, B$2))","v":""},{"$f":"IF($A259 = \"\", \"\", COUNTIFS(ToDoList!$B:$B, $A259, ToDoList!$R:$R, C$2))","v":""},{"$f":"IF($A259 = \"\", \"\", COUNTIFS(ToDoList!$B:$B, $A259, ToDoList!$R:$R, D$2))","v":""},{"$f":"IF($A259 = \"\", \"\", COUNTIFS(ToDoList!$B:$B, $A259, ToDoList!$R:$R, E$2))","v":""},{"$f":"IF($A259 = \"\", \"\", COUNTIFS(ToDoList!$B:$B, $A259, ToDoList!$R:$R, F$2))","v":""},{"$f":"IF($A259 = \"\", \"\", COUNTIFS(ToDoList!$B:$B, $A259, ToDoList!$R:$R, G$2))","v":""},{"$f":"IF($A259 = \"\", \"\", COUNTIFS(ToDoList!$B:$B, $A259, ToDoList!$R:$R, H$2))","v":""},{"$f":"IF($A259 = \"\", \"\", COUNTIFS(ToDoList!$B:$B, $A259, ToDoList!$R:$R, I$2))","v":""},{"$f":"IF($A259 = \"\", \"\", COUNTIFS(ToDoList!$B:$B, $A259, ToDoList!$R:$R, J$2))","v":""}]
[null,{"$f":"IF($A260 = \"\", \"\", COUNTIFS(ToDoList!$B:$B, $A260, ToDoList!$R:$R, B$2))","v":""},{"$f":"IF($A260 = \"\", \"\", COUNTIFS(ToDoList!$B:$B, $A260, ToDoList!$R:$R, C$2))","v":""},{"$f":"IF($A260 = \"\", \"\", COUNTIFS(ToDoList!$B:$B, $A260, ToDoList!$R:$R, D$2))","v":""},{"$f":"IF($A260 = \"\", \"\", COUNTIFS(ToDoList!$B:$B, $A260, ToDoList!$R:$R, E$2))","v":""},{"$f":"IF($A260 = \"\", \"\", COUNTIFS(ToDoList!$B:$B, $A260, ToDoList!$R:$R, F$2))","v":""},{"$f":"IF($A260 = \"\", \"\", COUNTIFS(ToDoList!$B:$B, $A260, ToDoList!$R:$R, G$2))","v":""},{"$f":"IF($A260 = \"\", \"\", COUNTIFS(ToDoList!$B:$B, $A260, ToDoList!$R:$R, H$2))","v":""},{"$f":"IF($A260 = \"\", \"\", COUNTIFS(ToDoList!$B:$B, $A260, ToDoList!$R:$R, I$2))","v":""},{"$f":"IF($A260 = \"\", \"\", COUNTIFS(ToDoList!$B:$B, $A260, ToDoList!$R:$R, J$2))","v":""}]
[null,{"$f":"IF($A261 = \"\", \"\", COUNTIFS(ToDoList!$B:$B, $A261, ToDoList!$R:$R, B$2))","v":""},{"$f":"IF($A261 = \"\", \"\", COUNTIFS(ToDoList!$B:$B, $A261, ToDoList!$R:$R, C$2))","v":""},{"$f":"IF($A261 = \"\", \"\", COUNTIFS(ToDoList!$B:$B, $A261, ToDoList!$R:$R, D$2))","v":""},{"$f":"IF($A261 = \"\", \"\", COUNTIFS(ToDoList!$B:$B, $A261, ToDoList!$R:$R, E$2))","v":""},{"$f":"IF($A261 = \"\", \"\", COUNTIFS(ToDoList!$B:$B, $A261, ToDoList!$R:$R, F$2))","v":""},{"$f":"IF($A261 = \"\", \"\", COUNTIFS(ToDoList!$B:$B, $A261, ToDoList!$R:$R, G$2))","v":""},{"$f":"IF($A261 = \"\", \"\", COUNTIFS(ToDoList!$B:$B, $A261, ToDoList!$R:$R, H$2))","v":""},{"$f":"IF($A261 = \"\", \"\", COUNTIFS(ToDoList!$B:$B, $A261, ToDoList!$R:$R, I$2))","v":""},{"$f":"IF($A261 = \"\", \"\", COUNTIFS(ToDoList!$B:$B, $A261, ToDoList!$R:$R, J$2))","v":""}]
[null,{"$f":"IF($A262 = \"\", \"\", COUNTIFS(ToDoList!$B:$B, $A262, ToDoList!$R:$R, B$2))","v":""},{"$f":"IF($A262 = \"\", \"\", COUNTIFS(ToDoList!$B:$B, $A262, ToDoList!$R:$R, C$2))","v":""},{"$f":"IF($A262 = \"\", \"\", COUNTIFS(ToDoList!$B:$B, $A262, ToDoList!$R:$R, D$2))","v":""},{"$f":"IF($A262 = \"\", \"\", COUNTIFS(ToDoList!$B:$B, $A262, ToDoList!$R:$R, E$2))","v":""},{"$f":"IF($A262 = \"\", \"\", COUNTIFS(ToDoList!$B:$B, $A262, ToDoList!$R:$R, F$2))","v":""},{"$f":"IF($A262 = \"\", \"\", COUNTIFS(ToDoList!$B:$B, $A262, ToDoList!$R:$R, G$2))","v":""},{"$f":"IF($A262 = \"\", \"\", COUNTIFS(ToDoList!$B:$B, $A262, ToDoList!$R:$R, H$2))","v":""},{"$f":"IF($A262 = \"\", \"\", COUNTIFS(ToDoList!$B:$B, $A262, ToDoList!$R:$R, I$2))","v":""},{"$f":"IF($A262 = \"\", \"\", COUNTIFS(ToDoList!$B:$B, $A262, ToDoList!$R:$R, J$2))","v":""}]
[null,{"$f":"IF($A263 = \"\", \"\", COUNTIFS(ToDoList!$B:$B, $A263, ToDoList!$R:$R, B$2))","v":""},{"$f":"IF($A263 = \"\", \"\", COUNTIFS(ToDoList!$B:$B, $A263, ToDoList!$R:$R, C$2))","v":""},{"$f":"IF($A263 = \"\", \"\", COUNTIFS(ToDoList!$B:$B, $A263, ToDoList!$R:$R, D$2))","v":""},{"$f":"IF($A263 = \"\", \"\", COUNTIFS(ToDoList!$B:$B, $A263, ToDoList!$R:$R, E$2))","v":""},{"$f":"IF($A263 = \"\", \"\", COUNTIFS(ToDoList!$B:$B, $A263, ToDoList!$R:$R, F$2))","v":""},{"$f":"IF($A263 = \"\", \"\", COUNTIFS(ToDoList!$B:$B, $A263, ToDoList!$R:$R, G$2))","v":""},{"$f":"IF($A263 = \"\", \"\", COUNTIFS(ToDoList!$B:$B, $A263, ToDoList!$R:$R, H$2))","v":""},{"$f":"IF($A263 = \"\", \"\", COUNTIFS(ToDoList!$B:$B, $A263, ToDoList!$R:$R, I$2))","v":""},{"$f":"IF($A263 = \"\", \"\", COUNTIFS(ToDoList!$B:$B, $A263, ToDoList!$R:$R, J$2))","v":""}]
[null,{"$f":"IF($A264 = \"\", \"\", COUNTIFS(ToDoList!$B:$B, $A264, ToDoList!$R:$R, B$2))","v":""},{"$f":"IF($A264 = \"\", \"\", COUNTIFS(ToDoList!$B:$B, $A264, ToDoList!$R:$R, C$2))","v":""},{"$f":"IF($A264 = \"\", \"\", COUNTIFS(ToDoList!$B:$B, $A264, ToDoList!$R:$R, D$2))","v":""},{"$f":"IF($A264 = \"\", \"\", COUNTIFS(ToDoList!$B:$B, $A264, ToDoList!$R:$R, E$2))","v":""},{"$f":"IF($A264 = \"\", \"\", COUNTIFS(ToDoList!$B:$B, $A264, ToDoList!$R:$R, F$2))","v":""},{"$f":"IF($A264 = \"\", \"\", COUNTIFS(ToDoList!$B:$B, $A264, ToDoList!$R:$R, G$2))","v":""},{"$f":"IF($A264 = \"\", \"\", COUNTIFS(ToDoList!$B:$B, $A264, ToDoList!$R:$R, H$2))","v":""},{"$f":"IF($A264 = \"\", \"\", COUNTIFS(ToDoList!$B:$B, $A264, ToDoList!$R:$R, I$2))","v":""},{"$f":"IF($A264 = \"\", \"\", COUNTIFS(ToDoList!$B:$B, $A264, ToDoList!$R:$R, J$2))","v":""}]
[null,{"$f":"IF($A265 = \"\", \"\", COUNTIFS(ToDoList!$B:$B, $A265, ToDoList!$R:$R, B$2))","v":""},{"$f":"IF($A265 = \"\", \"\", COUNTIFS(ToDoList!$B:$B, $A265, ToDoList!$R:$R, C$2))","v":""},{"$f":"IF($A265 = \"\", \"\", COUNTIFS(ToDoList!$B:$B, $A265, ToDoList!$R:$R, D$2))","v":""},{"$f":"IF($A265 = \"\", \"\", COUNTIFS(ToDoList!$B:$B, $A265, ToDoList!$R:$R, E$2))","v":""},{"$f":"IF($A265 = \"\", \"\", COUNTIFS(ToDoList!$B:$B, $A265, ToDoList!$R:$R, F$2))","v":""},{"$f":"IF($A265 = \"\", \"\", COUNTIFS(ToDoList!$B:$B, $A265, ToDoList!$R:$R, G$2))","v":""},{"$f":"IF($A265 = \"\", \"\", COUNTIFS(ToDoList!$B:$B, $A265, ToDoList!$R:$R, H$2))","v":""},{"$f":"IF($A265 = \"\", \"\", COUNTIFS(ToDoList!$B:$B, $A265, ToDoList!$R:$R, I$2))","v":""},{"$f":"IF($A265 = \"\", \"\", COUNTIFS(ToDoList!$B:$B, $A265, ToDoList!$R:$R, J$2))","v":""}]
[null,{"$f":"IF($A266 = \"\", \"\", COUNTIFS(ToDoList!$B:$B, $A266, ToDoList!$R:$R, B$2))","v":""},{"$f":"IF($A266 = \"\", \"\", COUNTIFS(ToDoList!$B:$B, $A266, ToDoList!$R:$R, C$2))","v":""},{"$f":"IF($A266 = \"\", \"\", COUNTIFS(ToDoList!$B:$B, $A266, ToDoList!$R:$R, D$2))","v":""},{"$f":"IF($A266 = \"\", \"\", COUNTIFS(ToDoList!$B:$B, $A266, ToDoList!$R:$R, E$2))","v":""},{"$f":"IF($A266 = \"\", \"\", COUNTIFS(ToDoList!$B:$B, $A266, ToDoList!$R:$R, F$2))","v":""},{"$f":"IF($A266 = \"\", \"\", COUNTIFS(ToDoList!$B:$B, $A266, ToDoList!$R:$R, G$2))","v":""},{"$f":"IF($A266 = \"\", \"\", COUNTIFS(ToDoList!$B:$B, $A266, ToDoList!$R:$R, H$2))","v":""},{"$f":"IF($A266 = \"\", \"\", COUNTIFS(ToDoList!$B:$B, $A266, ToDoList!$R:$R, I$2))","v":""},{"$f":"IF($A266 = \"\", \"\", COUNTIFS(ToDoList!$B:$B, $A266, ToDoList!$R:$R, J$2))","v":""}]
[null,{"$f":"IF($A267 = \"\", \"\", COUNTIFS(ToDoList!$B:$B, $A267, ToDoList!$R:$R, B$2))","v":""},{"$f":"IF($A267 = \"\", \"\", COUNTIFS(ToDoList!$B:$B, $A267, ToDoList!$R:$R, C$2))","v":""},{"$f":"IF($A267 = \"\", \"\", COUNTIFS(ToDoList!$B:$B, $A267, ToDoList!$R:$R, D$2))","v":""},{"$f":"IF($A267 = \"\", \"\", COUNTIFS(ToDoList!$B:$B, $A267, ToDoList!$R:$R, E$2))","v":""},{"$f":"IF($A267 = \"\", \"\", COUNTIFS(ToDoList!$B:$B, $A267, ToDoList!$R:$R, F$2))","v":""},{"$f":"IF($A267 = \"\", \"\", COUNTIFS(ToDoList!$B:$B, $A267, ToDoList!$R:$R, G$2))","v":""},{"$f":"IF($A267 = \"\", \"\", COUNTIFS(ToDoList!$B:$B, $A267, ToDoList!$R:$R, H$2))","v":""},{"$f":"IF($A267 = \"\", \"\", COUNTIFS(ToDoList!$B:$B, $A267, ToDoList!$R:$R, I$2))","v":""},{"$f":"IF($A267 = \"\", \"\", COUNTIFS(ToDoList!$B:$B, $A267, ToDoList!$R:$R, J$2))","v":""}]
[null,{"$f":"IF($A268 = \"\", \"\", COUNTIFS(ToDoList!$B:$B, $A268, ToDoList!$R:$R, B$2))","v":""},{"$f":"IF($A268 = \"\", \"\", COUNTIFS(ToDoList!$B:$B, $A268, ToDoList!$R:$R, C$2))","v":""},{"$f":"IF($A268 = \"\", \"\", COUNTIFS(ToDoList!$B:$B, $A268, ToDoList!$R:$R, D$2))","v":""},{"$f":"IF($A268 = \"\", \"\", COUNTIFS(ToDoList!$B:$B, $A268, ToDoList!$R:$R, E$2))","v":""},{"$f":"IF($A268 = \"\", \"\", COUNTIFS(ToDoList!$B:$B, $A268, ToDoList!$R:$R, F$2))","v":""},{"$f":"IF($A268 = \"\", \"\", COUNTIFS(ToDoList!$B:$B, $A268, ToDoList!$R:$R, G$2))","v":""},{"$f":"IF($A268 = \"\", \"\", COUNTIFS(ToDoList!$B:$B, $A268, ToDoList!$R:$R, H$2))","v":""},{"$f":"IF($A268 = \"\", \"\", COUNTIFS(ToDoList!$B:$B, $A268, ToDoList!$R:$R, I$2))","v":""},{"$f":"IF($A268 = \"\", \"\", COUNTIFS(ToDoList!$B:$B, $A268, ToDoList!$R:$R, J$2))","v":""}]
[null,{"$f":"IF($A269 = \"\", \"\", COUNTIFS(ToDoList!$B:$B, $A269, ToDoList!$R:$R, B$2))","v":""},{"$f":"IF($A269 = \"\", \"\", COUNTIFS(ToDoList!$B:$B, $A269, ToDoList!$R:$R, C$2))","v":""},{"$f":"IF($A269 = \"\", \"\", COUNTIFS(ToDoList!$B:$B, $A269, ToDoList!$R:$R, D$2))","v":""},{"$f":"IF($A269 = \"\", \"\", COUNTIFS(ToDoList!$B:$B, $A269, ToDoList!$R:$R, E$2))","v":""},{"$f":"IF($A269 = \"\", \"\", COUNTIFS(ToDoList!$B:$B, $A269, ToDoList!$R:$R, F$2))","v":""},{"$f":"IF($A269 = \"\", \"\", COUNTIFS(ToDoList!$B:$B, $A269, ToDoList!$R:$R, G$2))","v":""},{"$f":"IF($A269 = \"\", \"\", COUNTIFS(ToDoList!$B:$B, $A269, ToDoList!$R:$R, H$2))","v":""},{"$f":"IF($A269 = \"\", \"\", COUNTIFS(ToDoList!$B:$B, $A269, ToDoList!$R:$R, I$2))","v":""},{"$f":"IF($A269 = \"\", \"\", COUNTIFS(ToDoList!$B:$B, $A269, ToDoList!$R:$R, J$2))","v":""}]
[null,{"$f":"IF($A270 = \"\", \"\", COUNTIFS(ToDoList!$B:$B, $A270, ToDoList!$R:$R, B$2))","v":""},{"$f":"IF($A270 = \"\", \"\", COUNTIFS(ToDoList!$B:$B, $A270, ToDoList!$R:$R, C$2))","v":""},{"$f":"IF($A270 = \"\", \"\", COUNTIFS(ToDoList!$B:$B, $A270, ToDoList!$R:$R, D$2))","v":""},{"$f":"IF($A270 = \"\", \"\", COUNTIFS(ToDoList!$B:$B, $A270, ToDoList!$R:$R, E$2))","v":""},{"$f":"IF($A270 = \"\", \"\", COUNTIFS(ToDoList!$B:$B, $A270, ToDoList!$R:$R, F$2))","v":""},{"$f":"IF($A270 = \"\", \"\", COUNTIFS(ToDoList!$B:$B, $A270, ToDoList!$R:$R, G$2))","v":""},{"$f":"IF($A270 = \"\", \"\", COUNTIFS(ToDoList!$B:$B, $A270, ToDoList!$R:$R, H$2))","v":""},{"$f":"IF($A270 = \"\", \"\", COUNTIFS(ToDoList!$B:$B, $A270, ToDoList!$R:$R, I$2))","v":""},{"$f":"IF($A270 = \"\", \"\", COUNTIFS(ToDoList!$B:$B, $A270, ToDoList!$R:$R, J$2))","v":""}]
[null,{"$f":"IF($A271 = \"\", \"\", COUNTIFS(ToDoList!$B:$B, $A271, ToDoList!$R:$R, B$2))","v":""},{"$f":"IF($A271 = \"\", \"\", COUNTIFS(ToDoList!$B:$B, $A271, ToDoList!$R:$R, C$2))","v":""},{"$f":"IF($A271 = \"\", \"\", COUNTIFS(ToDoList!$B:$B, $A271, ToDoList!$R:$R, D$2))","v":""},{"$f":"IF($A271 = \"\", \"\", COUNTIFS(ToDoList!$B:$B, $A271, ToDoList!$R:$R, E$2))","v":""},{"$f":"IF($A271 = \"\", \"\", COUNTIFS(ToDoList!$B:$B, $A271, ToDoList!$R:$R, F$2))","v":""},{"$f":"IF($A271 = \"\", \"\", COUNTIFS(ToDoList!$B:$B, $A271, ToDoList!$R:$R, G$2))","v":""},{"$f":"IF($A271 = \"\", \"\", COUNTIFS(ToDoList!$B:$B, $A271, ToDoList!$R:$R, H$2))","v":""},{"$f":"IF($A271 = \"\", \"\", COUNTIFS(ToDoList!$B:$B, $A271, ToDoList!$R:$R, I$2))","v":""},{"$f":"IF($A271 = \"\", \"\", COUNTIFS(ToDoList!$B:$B, $A271, ToDoList!$R:$R, J$2))","v":""}]
[null,{"$f":"IF($A272 = \"\", \"\", COUNTIFS(ToDoList!$B:$B, $A272, ToDoList!$R:$R, B$2))","v":""},{"$f":"IF($A272 = \"\", \"\", COUNTIFS(ToDoList!$B:$B, $A272, ToDoList!$R:$R, C$2))","v":""},{"$f":"IF($A272 = \"\", \"\", COUNTIFS(ToDoList!$B:$B, $A272, ToDoList!$R:$R, D$2))","v":""},{"$f":"IF($A272 = \"\", \"\", COUNTIFS(ToDoList!$B:$B, $A272, ToDoList!$R:$R, E$2))","v":""},{"$f":"IF($A272 = \"\", \"\", COUNTIFS(ToDoList!$B:$B, $A272, ToDoList!$R:$R, F$2))","v":""},{"$f":"IF($A272 = \"\", \"\", COUNTIFS(ToDoList!$B:$B, $A272, ToDoList!$R:$R, G$2))","v":""},{"$f":"IF($A272 = \"\", \"\", COUNTIFS(ToDoList!$B:$B, $A272, ToDoList!$R:$R, H$2))","v":""},{"$f":"IF($A272 = \"\", \"\", COUNTIFS(ToDoList!$B:$B, $A272, ToDoList!$R:$R, I$2))","v":""},{"$f":"IF($A272 = \"\", \"\", COUNTIFS(ToDoList!$B:$B, $A272, ToDoList!$R:$R, J$2))","v":""}]
[null,{"$f":"IF($A273 = \"\", \"\", COUNTIFS(ToDoList!$B:$B, $A273, ToDoList!$R:$R, B$2))","v":""},{"$f":"IF($A273 = \"\", \"\", COUNTIFS(ToDoList!$B:$B, $A273, ToDoList!$R:$R, C$2))","v":""},{"$f":"IF($A273 = \"\", \"\", COUNTIFS(ToDoList!$B:$B, $A273, ToDoList!$R:$R, D$2))","v":""},{"$f":"IF($A273 = \"\", \"\", COUNTIFS(ToDoList!$B:$B, $A273, ToDoList!$R:$R, E$2))","v":""},{"$f":"IF($A273 = \"\", \"\", COUNTIFS(ToDoList!$B:$B, $A273, ToDoList!$R:$R, F$2))","v":""},{"$f":"IF($A273 = \"\", \"\", COUNTIFS(ToDoList!$B:$B, $A273, ToDoList!$R:$R, G$2))","v":""},{"$f":"IF($A273 = \"\", \"\", COUNTIFS(ToDoList!$B:$B, $A273, ToDoList!$R:$R, H$2))","v":""},{"$f":"IF($A273 = \"\", \"\", COUNTIFS(ToDoList!$B:$B, $A273, ToDoList!$R:$R, I$2))","v":""},{"$f":"IF($A273 = \"\", \"\", COUNTIFS(ToDoList!$B:$B, $A273, ToDoList!$R:$R, J$2))","v":""}]
[null,{"$f":"IF($A274 = \"\", \"\", COUNTIFS(ToDoList!$B:$B, $A274, ToDoList!$R:$R, B$2))","v":""},{"$f":"IF($A274 = \"\", \"\", COUNTIFS(ToDoList!$B:$B, $A274, ToDoList!$R:$R, C$2))","v":""},{"$f":"IF($A274 = \"\", \"\", COUNTIFS(ToDoList!$B:$B, $A274, ToDoList!$R:$R, D$2))","v":""},{"$f":"IF($A274 = \"\", \"\", COUNTIFS(ToDoList!$B:$B, $A274, ToDoList!$R:$R, E$2))","v":""},{"$f":"IF($A274 = \"\", \"\", COUNTIFS(ToDoList!$B:$B, $A274, ToDoList!$R:$R, F$2))","v":""},{"$f":"IF($A274 = \"\", \"\", COUNTIFS(ToDoList!$B:$B, $A274, ToDoList!$R:$R, G$2))","v":""},{"$f":"IF($A274 = \"\", \"\", COUNTIFS(ToDoList!$B:$B, $A274, ToDoList!$R:$R, H$2))","v":""},{"$f":"IF($A274 = \"\", \"\", COUNTIFS(ToDoList!$B:$B, $A274, ToDoList!$R:$R, I$2))","v":""},{"$f":"IF($A274 = \"\", \"\", COUNTIFS(ToDoList!$B:$B, $A274, ToDoList!$R:$R, J$2))","v":""}]
[null,{"$f":"IF($A275 = \"\", \"\", COUNTIFS(ToDoList!$B:$B, $A275, ToDoList!$R:$R, B$2))","v":""},{"$f":"IF($A275 = \"\", \"\", COUNTIFS(ToDoList!$B:$B, $A275, ToDoList!$R:$R, C$2))","v":""},{"$f":"IF($A275 = \"\", \"\", COUNTIFS(ToDoList!$B:$B, $A275, ToDoList!$R:$R, D$2))","v":""},{"$f":"IF($A275 = \"\", \"\", COUNTIFS(ToDoList!$B:$B, $A275, ToDoList!$R:$R, E$2))","v":""},{"$f":"IF($A275 = \"\", \"\", COUNTIFS(ToDoList!$B:$B, $A275, ToDoList!$R:$R, F$2))","v":""},{"$f":"IF($A275 = \"\", \"\", COUNTIFS(ToDoList!$B:$B, $A275, ToDoList!$R:$R, G$2))","v":""},{"$f":"IF($A275 = \"\", \"\", COUNTIFS(ToDoList!$B:$B, $A275, ToDoList!$R:$R, H$2))","v":""},{"$f":"IF($A275 = \"\", \"\", COUNTIFS(ToDoList!$B:$B, $A275, ToDoList!$R:$R, I$2))","v":""},{"$f":"IF($A275 = \"\", \"\", COUNTIFS(ToDoList!$B:$B, $A275, ToDoList!$R:$R, J$2))","v":""}]
[null,{"$f":"IF($A276 = \"\", \"\", COUNTIFS(ToDoList!$B:$B, $A276, ToDoList!$R:$R, B$2))","v":""},{"$f":"IF($A276 = \"\", \"\", COUNTIFS(ToDoList!$B:$B, $A276, ToDoList!$R:$R, C$2))","v":""},{"$f":"IF($A276 = \"\", \"\", COUNTIFS(ToDoList!$B:$B, $A276, ToDoList!$R:$R, D$2))","v":""},{"$f":"IF($A276 = \"\", \"\", COUNTIFS(ToDoList!$B:$B, $A276, ToDoList!$R:$R, E$2))","v":""},{"$f":"IF($A276 = \"\", \"\", COUNTIFS(ToDoList!$B:$B, $A276, ToDoList!$R:$R, F$2))","v":""},{"$f":"IF($A276 = \"\", \"\", COUNTIFS(ToDoList!$B:$B, $A276, ToDoList!$R:$R, G$2))","v":""},{"$f":"IF($A276 = \"\", \"\", COUNTIFS(ToDoList!$B:$B, $A276, ToDoList!$R:$R, H$2))","v":""},{"$f":"IF($A276 = \"\", \"\", COUNTIFS(ToDoList!$B:$B, $A276, ToDoList!$R:$R, I$2))","v":""},{"$f":"IF($A276 = \"\", \"\", COUNTIFS(ToDoList!$B:$B, $A276, ToDoList!$R:$R, J$2))","v":""}]
[null,{"$f":"IF($A277 = \"\", \"\", COUNTIFS(ToDoList!$B:$B, $A277, ToDoList!$R:$R, B$2))","v":""},{"$f":"IF($A277 = \"\", \"\", COUNTIFS(ToDoList!$B:$B, $A277, ToDoList!$R:$R, C$2))","v":""},{"$f":"IF($A277 = \"\", \"\", COUNTIFS(ToDoList!$B:$B, $A277, ToDoList!$R:$R, D$2))","v":""},{"$f":"IF($A277 = \"\", \"\", COUNTIFS(ToDoList!$B:$B, $A277, ToDoList!$R:$R, E$2))","v":""},{"$f":"IF($A277 = \"\", \"\", COUNTIFS(ToDoList!$B:$B, $A277, ToDoList!$R:$R, F$2))","v":""},{"$f":"IF($A277 = \"\", \"\", COUNTIFS(ToDoList!$B:$B, $A277, ToDoList!$R:$R, G$2))","v":""},{"$f":"IF($A277 = \"\", \"\", COUNTIFS(ToDoList!$B:$B, $A277, ToDoList!$R:$R, H$2))","v":""},{"$f":"IF($A277 = \"\", \"\", COUNTIFS(ToDoList!$B:$B, $A277, ToDoList!$R:$R, I$2))","v":""},{"$f":"IF($A277 = \"\", \"\", COUNTIFS(ToDoList!$B:$B, $A277, ToDoList!$R:$R, J$2))","v":""}]
[null,{"$f":"IF($A278 = \"\", \"\", COUNTIFS(ToDoList!$B:$B, $A278, ToDoList!$R:$R, B$2))","v":""},{"$f":"IF($A278 = \"\", \"\", COUNTIFS(ToDoList!$B:$B, $A278, ToDoList!$R:$R, C$2))","v":""},{"$f":"IF($A278 = \"\", \"\", COUNTIFS(ToDoList!$B:$B, $A278, ToDoList!$R:$R, D$2))","v":""},{"$f":"IF($A278 = \"\", \"\", COUNTIFS(ToDoList!$B:$B, $A278, ToDoList!$R:$R, E$2))","v":""},{"$f":"IF($A278 = \"\", \"\", COUNTIFS(ToDoList!$B:$B, $A278, ToDoList!$R:$R, F$2))","v":""},{"$f":"IF($A278 = \"\", \"\", COUNTIFS(ToDoList!$B:$B, $A278, ToDoList!$R:$R, G$2))","v":""},{"$f":"IF($A278 = \"\", \"\", COUNTIFS(ToDoList!$B:$B, $A278, ToDoList!$R:$R, H$2))","v":""},{"$f":"IF($A278 = \"\", \"\", COUNTIFS(ToDoList!$B:$B, $A278, ToDoList!$R:$R, I$2))","v":""},{"$f":"IF($A278 = \"\", \"\", COUNTIFS(ToDoList!$B:$B, $A278, ToDoList!$R:$R, J$2))","v":""}]
[null,{"$f":"IF($A279 = \"\", \"\", COUNTIFS(ToDoList!$B:$B, $A279, ToDoList!$R:$R, B$2))","v":""},{"$f":"IF($A279 = \"\", \"\", COUNTIFS(ToDoList!$B:$B, $A279, ToDoList!$R:$R, C$2))","v":""},{"$f":"IF($A279 = \"\", \"\", COUNTIFS(ToDoList!$B:$B, $A279, ToDoList!$R:$R, D$2))","v":""},{"$f":"IF($A279 = \"\", \"\", COUNTIFS(ToDoList!$B:$B, $A279, ToDoList!$R:$R, E$2))","v":""},{"$f":"IF($A279 = \"\", \"\", COUNTIFS(ToDoList!$B:$B, $A279, ToDoList!$R:$R, F$2))","v":""},{"$f":"IF($A279 = \"\", \"\", COUNTIFS(ToDoList!$B:$B, $A279, ToDoList!$R:$R, G$2))","v":""},{"$f":"IF($A279 = \"\", \"\", COUNTIFS(ToDoList!$B:$B, $A279, ToDoList!$R:$R, H$2))","v":""},{"$f":"IF($A279 = \"\", \"\", COUNTIFS(ToDoList!$B:$B, $A279, ToDoList!$R:$R, I$2))","v":""},{"$f":"IF($A279 = \"\", \"\", COUNTIFS(ToDoList!$B:$B, $A279, ToDoList!$R:$R, J$2))","v":""}]
[null,{"$f":"IF($A280 = \"\", \"\", COUNTIFS(ToDoList!$B:$B, $A280, ToDoList!$R:$R, B$2))","v":""},{"$f":"IF($A280 = \"\", \"\", COUNTIFS(ToDoList!$B:$B, $A280, ToDoList!$R:$R, C$2))","v":""},{"$f":"IF($A280 = \"\", \"\", COUNTIFS(ToDoList!$B:$B, $A280, ToDoList!$R:$R, D$2))","v":""},{"$f":"IF($A280 = \"\", \"\", COUNTIFS(ToDoList!$B:$B, $A280, ToDoList!$R:$R, E$2))","v":""},{"$f":"IF($A280 = \"\", \"\", COUNTIFS(ToDoList!$B:$B, $A280, ToDoList!$R:$R, F$2))","v":""},{"$f":"IF($A280 = \"\", \"\", COUNTIFS(ToDoList!$B:$B, $A280, ToDoList!$R:$R, G$2))","v":""},{"$f":"IF($A280 = \"\", \"\", COUNTIFS(ToDoList!$B:$B, $A280, ToDoList!$R:$R, H$2))","v":""},{"$f":"IF($A280 = \"\", \"\", COUNTIFS(ToDoList!$B:$B, $A280, ToDoList!$R:$R, I$2))","v":""},{"$f":"IF($A280 = \"\", \"\", COUNTIFS(ToDoList!$B:$B, $A280, ToDoList!$R:$R, J$2))","v":""}]
[null,{"$f":"IF($A281 = \"\", \"\", COUNTIFS(ToDoList!$B:$B, $A281, ToDoList!$R:$R, B$2))","v":""},{"$f":"IF($A281 = \"\", \"\", COUNTIFS(ToDoList!$B:$B, $A281, ToDoList!$R:$R, C$2))","v":""},{"$f":"IF($A281 = \"\", \"\", COUNTIFS(ToDoList!$B:$B, $A281, ToDoList!$R:$R, D$2))","v":""},{"$f":"IF($A281 = \"\", \"\", COUNTIFS(ToDoList!$B:$B, $A281, ToDoList!$R:$R, E$2))","v":""},{"$f":"IF($A281 = \"\", \"\", COUNTIFS(ToDoList!$B:$B, $A281, ToDoList!$R:$R, F$2))","v":""},{"$f":"IF($A281 = \"\", \"\", COUNTIFS(ToDoList!$B:$B, $A281, ToDoList!$R:$R, G$2))","v":""},{"$f":"IF($A281 = \"\", \"\", COUNTIFS(ToDoList!$B:$B, $A281, ToDoList!$R:$R, H$2))","v":""},{"$f":"IF($A281 = \"\", \"\", COUNTIFS(ToDoList!$B:$B, $A281, ToDoList!$R:$R, I$2))","v":""},{"$f":"IF($A281 = \"\", \"\", COUNTIFS(ToDoList!$B:$B, $A281, ToDoList!$R:$R, J$2))","v":""}]
[null,{"$f":"IF($A282 = \"\", \"\", COUNTIFS(ToDoList!$B:$B, $A282, ToDoList!$R:$R, B$2))","v":""},{"$f":"IF($A282 = \"\", \"\", COUNTIFS(ToDoList!$B:$B, $A282, ToDoList!$R:$R, C$2))","v":""},{"$f":"IF($A282 = \"\", \"\", COUNTIFS(ToDoList!$B:$B, $A282, ToDoList!$R:$R, D$2))","v":""},{"$f":"IF($A282 = \"\", \"\", COUNTIFS(ToDoList!$B:$B, $A282, ToDoList!$R:$R, E$2))","v":""},{"$f":"IF($A282 = \"\", \"\", COUNTIFS(ToDoList!$B:$B, $A282, ToDoList!$R:$R, F$2))","v":""},{"$f":"IF($A282 = \"\", \"\", COUNTIFS(ToDoList!$B:$B, $A282, ToDoList!$R:$R, G$2))","v":""},{"$f":"IF($A282 = \"\", \"\", COUNTIFS(ToDoList!$B:$B, $A282, ToDoList!$R:$R, H$2))","v":""},{"$f":"IF($A282 = \"\", \"\", COUNTIFS(ToDoList!$B:$B, $A282, ToDoList!$R:$R, I$2))","v":""},{"$f":"IF($A282 = \"\", \"\", COUNTIFS(ToDoList!$B:$B, $A282, ToDoList!$R:$R, J$2))","v":""}]
[null,{"$f":"IF($A283 = \"\", \"\", COUNTIFS(ToDoList!$B:$B, $A283, ToDoList!$R:$R, B$2))","v":""},{"$f":"IF($A283 = \"\", \"\", COUNTIFS(ToDoList!$B:$B, $A283, ToDoList!$R:$R, C$2))","v":""},{"$f":"IF($A283 = \"\", \"\", COUNTIFS(ToDoList!$B:$B, $A283, ToDoList!$R:$R, D$2))","v":""},{"$f":"IF($A283 = \"\", \"\", COUNTIFS(ToDoList!$B:$B, $A283, ToDoList!$R:$R, E$2))","v":""},{"$f":"IF($A283 = \"\", \"\", COUNTIFS(ToDoList!$B:$B, $A283, ToDoList!$R:$R, F$2))","v":""},{"$f":"IF($A283 = \"\", \"\", COUNTIFS(ToDoList!$B:$B, $A283, ToDoList!$R:$R, G$2))","v":""},{"$f":"IF($A283 = \"\", \"\", COUNTIFS(ToDoList!$B:$B, $A283, ToDoList!$R:$R, H$2))","v":""},{"$f":"IF($A283 = \"\", \"\", COUNTIFS(ToDoList!$B:$B, $A283, ToDoList!$R:$R, I$2))","v":""},{"$f":"IF($A283 = \"\", \"\", COUNTIFS(ToDoList!$B:$B, $A283, ToDoList!$R:$R, J$2))","v":""}]
[null,{"$f":"IF($A284 = \"\", \"\", COUNTIFS(ToDoList!$B:$B, $A284, ToDoList!$R:$R, B$2))","v":""},{"$f":"IF($A284 = \"\", \"\", COUNTIFS(ToDoList!$B:$B, $A284, ToDoList!$R:$R, C$2))","v":""},{"$f":"IF($A284 = \"\", \"\", COUNTIFS(ToDoList!$B:$B, $A284, ToDoList!$R:$R, D$2))","v":""},{"$f":"IF($A284 = \"\", \"\", COUNTIFS(ToDoList!$B:$B, $A284, ToDoList!$R:$R, E$2))","v":""},{"$f":"IF($A284 = \"\", \"\", COUNTIFS(ToDoList!$B:$B, $A284, ToDoList!$R:$R, F$2))","v":""},{"$f":"IF($A284 = \"\", \"\", COUNTIFS(ToDoList!$B:$B, $A284, ToDoList!$R:$R, G$2))","v":""},{"$f":"IF($A284 = \"\", \"\", COUNTIFS(ToDoList!$B:$B, $A284, ToDoList!$R:$R, H$2))","v":""},{"$f":"IF($A284 = \"\", \"\", COUNTIFS(ToDoList!$B:$B, $A284, ToDoList!$R:$R, I$2))","v":""},{"$f":"IF($A284 = \"\", \"\", COUNTIFS(ToDoList!$B:$B, $A284, ToDoList!$R:$R, J$2))","v":""}]
[null,{"$f":"IF($A285 = \"\", \"\", COUNTIFS(ToDoList!$B:$B, $A285, ToDoList!$R:$R, B$2))","v":""},{"$f":"IF($A285 = \"\", \"\", COUNTIFS(ToDoList!$B:$B, $A285, ToDoList!$R:$R, C$2))","v":""},{"$f":"IF($A285 = \"\", \"\", COUNTIFS(ToDoList!$B:$B, $A285, ToDoList!$R:$R, D$2))","v":""},{"$f":"IF($A285 = \"\", \"\", COUNTIFS(ToDoList!$B:$B, $A285, ToDoList!$R:$R, E$2))","v":""},{"$f":"IF($A285 = \"\", \"\", COUNTIFS(ToDoList!$B:$B, $A285, ToDoList!$R:$R, F$2))","v":""},{"$f":"IF($A285 = \"\", \"\", COUNTIFS(ToDoList!$B:$B, $A285, ToDoList!$R:$R, G$2))","v":""},{"$f":"IF($A285 = \"\", \"\", COUNTIFS(ToDoList!$B:$B, $A285, ToDoList!$R:$R, H$2))","v":""},{"$f":"IF($A285 = \"\", \"\", COUNTIFS(ToDoList!$B:$B, $A285, ToDoList!$R:$R, I$2))","v":""},{"$f":"IF($A285 = \"\", \"\", COUNTIFS(ToDoList!$B:$B, $A285, ToDoList!$R:$R, J$2))","v":""}]
[null,{"$f":"IF($A286 = \"\", \"\", COUNTIFS(ToDoList!$B:$B, $A286, ToDoList!$R:$R, B$2))","v":""},{"$f":"IF($A286 = \"\", \"\", COUNTIFS(ToDoList!$B:$B, $A286, ToDoList!$R:$R, C$2))","v":""},{"$f":"IF($A286 = \"\", \"\", COUNTIFS(ToDoList!$B:$B, $A286, ToDoList!$R:$R, D$2))","v":""},{"$f":"IF($A286 = \"\", \"\", COUNTIFS(ToDoList!$B:$B, $A286, ToDoList!$R:$R, E$2))","v":""},{"$f":"IF($A286 = \"\", \"\", COUNTIFS(ToDoList!$B:$B, $A286, ToDoList!$R:$R, F$2))","v":""},{"$f":"IF($A286 = \"\", \"\", COUNTIFS(ToDoList!$B:$B, $A286, ToDoList!$R:$R, G$2))","v":""},{"$f":"IF($A286 = \"\", \"\", COUNTIFS(ToDoList!$B:$B, $A286, ToDoList!$R:$R, H$2))","v":""},{"$f":"IF($A286 = \"\", \"\", COUNTIFS(ToDoList!$B:$B, $A286, ToDoList!$R:$R, I$2))","v":""},{"$f":"IF($A286 = \"\", \"\", COUNTIFS(ToDoList!$B:$B, $A286, ToDoList!$R:$R, J$2))","v":""}]
[null,{"$f":"IF($A287 = \"\", \"\", COUNTIFS(ToDoList!$B:$B, $A287, ToDoList!$R:$R, B$2))","v":""},{"$f":"IF($A287 = \"\", \"\", COUNTIFS(ToDoList!$B:$B, $A287, ToDoList!$R:$R, C$2))","v":""},{"$f":"IF($A287 = \"\", \"\", COUNTIFS(ToDoList!$B:$B, $A287, ToDoList!$R:$R, D$2))","v":""},{"$f":"IF($A287 = \"\", \"\", COUNTIFS(ToDoList!$B:$B, $A287, ToDoList!$R:$R, E$2))","v":""},{"$f":"IF($A287 = \"\", \"\", COUNTIFS(ToDoList!$B:$B, $A287, ToDoList!$R:$R, F$2))","v":""},{"$f":"IF($A287 = \"\", \"\", COUNTIFS(ToDoList!$B:$B, $A287, ToDoList!$R:$R, G$2))","v":""},{"$f":"IF($A287 = \"\", \"\", COUNTIFS(ToDoList!$B:$B, $A287, ToDoList!$R:$R, H$2))","v":""},{"$f":"IF($A287 = \"\", \"\", COUNTIFS(ToDoList!$B:$B, $A287, ToDoList!$R:$R, I$2))","v":""},{"$f":"IF($A287 = \"\", \"\", COUNTIFS(ToDoList!$B:$B, $A287, ToDoList!$R:$R, J$2))","v":""}]
[null,{"$f":"IF($A288 = \"\", \"\", COUNTIFS(ToDoList!$B:$B, $A288, ToDoList!$R:$R, B$2))","v":""},{"$f":"IF($A288 = \"\", \"\", COUNTIFS(ToDoList!$B:$B, $A288, ToDoList!$R:$R, C$2))","v":""},{"$f":"IF($A288 = \"\", \"\", COUNTIFS(ToDoList!$B:$B, $A288, ToDoList!$R:$R, D$2))","v":""},{"$f":"IF($A288 = \"\", \"\", COUNTIFS(ToDoList!$B:$B, $A288, ToDoList!$R:$R, E$2))","v":""},{"$f":"IF($A288 = \"\", \"\", COUNTIFS(ToDoList!$B:$B, $A288, ToDoList!$R:$R, F$2))","v":""},{"$f":"IF($A288 = \"\", \"\", COUNTIFS(ToDoList!$B:$B, $A288, ToDoList!$R:$R, G$2))","v":""},{"$f":"IF($A288 = \"\", \"\", COUNTIFS(ToDoList!$B:$B, $A288, ToDoList!$R:$R, H$2))","v":""},{"$f":"IF($A288 = \"\", \"\", COUNTIFS(ToDoList!$B:$B, $A288, ToDoList!$R:$R, I$2))","v":""},{"$f":"IF($A288 = \"\", \"\", COUNTIFS(ToDoList!$B:$B, $A288, ToDoList!$R:$R, J$2))","v":""}]
[null,{"$f":"IF($A289 = \"\", \"\", COUNTIFS(ToDoList!$B:$B, $A289, ToDoList!$R:$R, B$2))","v":""},{"$f":"IF($A289 = \"\", \"\", COUNTIFS(ToDoList!$B:$B, $A289, ToDoList!$R:$R, C$2))","v":""},{"$f":"IF($A289 = \"\", \"\", COUNTIFS(ToDoList!$B:$B, $A289, ToDoList!$R:$R, D$2))","v":""},{"$f":"IF($A289 = \"\", \"\", COUNTIFS(ToDoList!$B:$B, $A289, ToDoList!$R:$R, E$2))","v":""},{"$f":"IF($A289 = \"\", \"\", COUNTIFS(ToDoList!$B:$B, $A289, ToDoList!$R:$R, F$2))","v":""},{"$f":"IF($A289 = \"\", \"\", COUNTIFS(ToDoList!$B:$B, $A289, ToDoList!$R:$R, G$2))","v":""},{"$f":"IF($A289 = \"\", \"\", COUNTIFS(ToDoList!$B:$B, $A289, ToDoList!$R:$R, H$2))","v":""},{"$f":"IF($A289 = \"\", \"\", COUNTIFS(ToDoList!$B:$B, $A289, ToDoList!$R:$R, I$2))","v":""},{"$f":"IF($A289 = \"\", \"\", COUNTIFS(ToDoList!$B:$B, $A289, ToDoList!$R:$R, J$2))","v":""}]
[null,{"$f":"IF($A290 = \"\", \"\", COUNTIFS(ToDoList!$B:$B, $A290, ToDoList!$R:$R, B$2))","v":""},{"$f":"IF($A290 = \"\", \"\", COUNTIFS(ToDoList!$B:$B, $A290, ToDoList!$R:$R, C$2))","v":""},{"$f":"IF($A290 = \"\", \"\", COUNTIFS(ToDoList!$B:$B, $A290, ToDoList!$R:$R, D$2))","v":""},{"$f":"IF($A290 = \"\", \"\", COUNTIFS(ToDoList!$B:$B, $A290, ToDoList!$R:$R, E$2))","v":""},{"$f":"IF($A290 = \"\", \"\", COUNTIFS(ToDoList!$B:$B, $A290, ToDoList!$R:$R, F$2))","v":""},{"$f":"IF($A290 = \"\", \"\", COUNTIFS(ToDoList!$B:$B, $A290, ToDoList!$R:$R, G$2))","v":""},{"$f":"IF($A290 = \"\", \"\", COUNTIFS(ToDoList!$B:$B, $A290, ToDoList!$R:$R, H$2))","v":""},{"$f":"IF($A290 = \"\", \"\", COUNTIFS(ToDoList!$B:$B, $A290, ToDoList!$R:$R, I$2))","v":""},{"$f":"IF($A290 = \"\", \"\", COUNTIFS(ToDoList!$B:$B, $A290, ToDoList!$R:$R, J$2))","v":""}]
[null,{"$f":"IF($A291 = \"\", \"\", COUNTIFS(ToDoList!$B:$B, $A291, ToDoList!$R:$R, B$2))","v":""},{"$f":"IF($A291 = \"\", \"\", COUNTIFS(ToDoList!$B:$B, $A291, ToDoList!$R:$R, C$2))","v":""},{"$f":"IF($A291 = \"\", \"\", COUNTIFS(ToDoList!$B:$B, $A291, ToDoList!$R:$R, D$2))","v":""},{"$f":"IF($A291 = \"\", \"\", COUNTIFS(ToDoList!$B:$B, $A291, ToDoList!$R:$R, E$2))","v":""},{"$f":"IF($A291 = \"\", \"\", COUNTIFS(ToDoList!$B:$B, $A291, ToDoList!$R:$R, F$2))","v":""},{"$f":"IF($A291 = \"\", \"\", COUNTIFS(ToDoList!$B:$B, $A291, ToDoList!$R:$R, G$2))","v":""},{"$f":"IF($A291 = \"\", \"\", COUNTIFS(ToDoList!$B:$B, $A291, ToDoList!$R:$R, H$2))","v":""},{"$f":"IF($A291 = \"\", \"\", COUNTIFS(ToDoList!$B:$B, $A291, ToDoList!$R:$R, I$2))","v":""},{"$f":"IF($A291 = \"\", \"\", COUNTIFS(ToDoList!$B:$B, $A291, ToDoList!$R:$R, J$2))","v":""}]
[null,{"$f":"IF($A292 = \"\", \"\", COUNTIFS(ToDoList!$B:$B, $A292, ToDoList!$R:$R, B$2))","v":""},{"$f":"IF($A292 = \"\", \"\", COUNTIFS(ToDoList!$B:$B, $A292, ToDoList!$R:$R, C$2))","v":""},{"$f":"IF($A292 = \"\", \"\", COUNTIFS(ToDoList!$B:$B, $A292, ToDoList!$R:$R, D$2))","v":""},{"$f":"IF($A292 = \"\", \"\", COUNTIFS(ToDoList!$B:$B, $A292, ToDoList!$R:$R, E$2))","v":""},{"$f":"IF($A292 = \"\", \"\", COUNTIFS(ToDoList!$B:$B, $A292, ToDoList!$R:$R, F$2))","v":""},{"$f":"IF($A292 = \"\", \"\", COUNTIFS(ToDoList!$B:$B, $A292, ToDoList!$R:$R, G$2))","v":""},{"$f":"IF($A292 = \"\", \"\", COUNTIFS(ToDoList!$B:$B, $A292, ToDoList!$R:$R, H$2))","v":""},{"$f":"IF($A292 = \"\", \"\", COUNTIFS(ToDoList!$B:$B, $A292, ToDoList!$R:$R, I$2))","v":""},{"$f":"IF($A292 = \"\", \"\", COUNTIFS(ToDoList!$B:$B, $A292, ToDoList!$R:$R, J$2))","v":""}]
[null,{"$f":"IF($A293 = \"\", \"\", COUNTIFS(ToDoList!$B:$B, $A293, ToDoList!$R:$R, B$2))","v":""},{"$f":"IF($A293 = \"\", \"\", COUNTIFS(ToDoList!$B:$B, $A293, ToDoList!$R:$R, C$2))","v":""},{"$f":"IF($A293 = \"\", \"\", COUNTIFS(ToDoList!$B:$B, $A293, ToDoList!$R:$R, D$2))","v":""},{"$f":"IF($A293 = \"\", \"\", COUNTIFS(ToDoList!$B:$B, $A293, ToDoList!$R:$R, E$2))","v":""},{"$f":"IF($A293 = \"\", \"\", COUNTIFS(ToDoList!$B:$B, $A293, ToDoList!$R:$R, F$2))","v":""},{"$f":"IF($A293 = \"\", \"\", COUNTIFS(ToDoList!$B:$B, $A293, ToDoList!$R:$R, G$2))","v":""},{"$f":"IF($A293 = \"\", \"\", COUNTIFS(ToDoList!$B:$B, $A293, ToDoList!$R:$R, H$2))","v":""},{"$f":"IF($A293 = \"\", \"\", COUNTIFS(ToDoList!$B:$B, $A293, ToDoList!$R:$R, I$2))","v":""},{"$f":"IF($A293 = \"\", \"\", COUNTIFS(ToDoList!$B:$B, $A293, ToDoList!$R:$R, J$2))","v":""}]
[null,{"$f":"IF($A294 = \"\", \"\", COUNTIFS(ToDoList!$B:$B, $A294, ToDoList!$R:$R, B$2))","v":""},{"$f":"IF($A294 = \"\", \"\", COUNTIFS(ToDoList!$B:$B, $A294, ToDoList!$R:$R, C$2))","v":""},{"$f":"IF($A294 = \"\", \"\", COUNTIFS(ToDoList!$B:$B, $A294, ToDoList!$R:$R, D$2))","v":""},{"$f":"IF($A294 = \"\", \"\", COUNTIFS(ToDoList!$B:$B, $A294, ToDoList!$R:$R, E$2))","v":""},{"$f":"IF($A294 = \"\", \"\", COUNTIFS(ToDoList!$B:$B, $A294, ToDoList!$R:$R, F$2))","v":""},{"$f":"IF($A294 = \"\", \"\", COUNTIFS(ToDoList!$B:$B, $A294, ToDoList!$R:$R, G$2))","v":""},{"$f":"IF($A294 = \"\", \"\", COUNTIFS(ToDoList!$B:$B, $A294, ToDoList!$R:$R, H$2))","v":""},{"$f":"IF($A294 = \"\", \"\", COUNTIFS(ToDoList!$B:$B, $A294, ToDoList!$R:$R, I$2))","v":""},{"$f":"IF($A294 = \"\", \"\", COUNTIFS(ToDoList!$B:$B, $A294, ToDoList!$R:$R, J$2))","v":""}]
[null,{"$f":"IF($A295 = \"\", \"\", COUNTIFS(ToDoList!$B:$B, $A295, ToDoList!$R:$R, B$2))","v":""},{"$f":"IF($A295 = \"\", \"\", COUNTIFS(ToDoList!$B:$B, $A295, ToDoList!$R:$R, C$2))","v":""},{"$f":"IF($A295 = \"\", \"\", COUNTIFS(ToDoList!$B:$B, $A295, ToDoList!$R:$R, D$2))","v":""},{"$f":"IF($A295 = \"\", \"\", COUNTIFS(ToDoList!$B:$B, $A295, ToDoList!$R:$R, E$2))","v":""},{"$f":"IF($A295 = \"\", \"\", COUNTIFS(ToDoList!$B:$B, $A295, ToDoList!$R:$R, F$2))","v":""},{"$f":"IF($A295 = \"\", \"\", COUNTIFS(ToDoList!$B:$B, $A295, ToDoList!$R:$R, G$2))","v":""},{"$f":"IF($A295 = \"\", \"\", COUNTIFS(ToDoList!$B:$B, $A295, ToDoList!$R:$R, H$2))","v":""},{"$f":"IF($A295 = \"\", \"\", COUNTIFS(ToDoList!$B:$B, $A295, ToDoList!$R:$R, I$2))","v":""},{"$f":"IF($A295 = \"\", \"\", COUNTIFS(ToDoList!$B:$B, $A295, ToDoList!$R:$R, J$2))","v":""}]
[null,{"$f":"IF($A296 = \"\", \"\", COUNTIFS(ToDoList!$B:$B, $A296, ToDoList!$R:$R, B$2))","v":""},{"$f":"IF($A296 = \"\", \"\", COUNTIFS(ToDoList!$B:$B, $A296, ToDoList!$R:$R, C$2))","v":""},{"$f":"IF($A296 = \"\", \"\", COUNTIFS(ToDoList!$B:$B, $A296, ToDoList!$R:$R, D$2))","v":""},{"$f":"IF($A296 = \"\", \"\", COUNTIFS(ToDoList!$B:$B, $A296, ToDoList!$R:$R, E$2))","v":""},{"$f":"IF($A296 = \"\", \"\", COUNTIFS(ToDoList!$B:$B, $A296, ToDoList!$R:$R, F$2))","v":""},{"$f":"IF($A296 = \"\", \"\", COUNTIFS(ToDoList!$B:$B, $A296, ToDoList!$R:$R, G$2))","v":""},{"$f":"IF($A296 = \"\", \"\", COUNTIFS(ToDoList!$B:$B, $A296, ToDoList!$R:$R, H$2))","v":""},{"$f":"IF($A296 = \"\", \"\", COUNTIFS(ToDoList!$B:$B, $A296, ToDoList!$R:$R, I$2))","v":""},{"$f":"IF($A296 = \"\", \"\", COUNTIFS(ToDoList!$B:$B, $A296, ToDoList!$R:$R, J$2))","v":""}]
[null,{"$f":"IF($A297 = \"\", \"\", COUNTIFS(ToDoList!$B:$B, $A297, ToDoList!$R:$R, B$2))","v":""},{"$f":"IF($A297 = \"\", \"\", COUNTIFS(ToDoList!$B:$B, $A297, ToDoList!$R:$R, C$2))","v":""},{"$f":"IF($A297 = \"\", \"\", COUNTIFS(ToDoList!$B:$B, $A297, ToDoList!$R:$R, D$2))","v":""},{"$f":"IF($A297 = \"\", \"\", COUNTIFS(ToDoList!$B:$B, $A297, ToDoList!$R:$R, E$2))","v":""},{"$f":"IF($A297 = \"\", \"\", COUNTIFS(ToDoList!$B:$B, $A297, ToDoList!$R:$R, F$2))","v":""},{"$f":"IF($A297 = \"\", \"\", COUNTIFS(ToDoList!$B:$B, $A297, ToDoList!$R:$R, G$2))","v":""},{"$f":"IF($A297 = \"\", \"\", COUNTIFS(ToDoList!$B:$B, $A297, ToDoList!$R:$R, H$2))","v":""},{"$f":"IF($A297 = \"\", \"\", COUNTIFS(ToDoList!$B:$B, $A297, ToDoList!$R:$R, I$2))","v":""},{"$f":"IF($A297 = \"\", \"\", COUNTIFS(ToDoList!$B:$B, $A297, ToDoList!$R:$R, J$2))","v":""}]
[null,{"$f":"IF($A298 = \"\", \"\", COUNTIFS(ToDoList!$B:$B, $A298, ToDoList!$R:$R, B$2))","v":""},{"$f":"IF($A298 = \"\", \"\", COUNTIFS(ToDoList!$B:$B, $A298, ToDoList!$R:$R, C$2))","v":""},{"$f":"IF($A298 = \"\", \"\", COUNTIFS(ToDoList!$B:$B, $A298, ToDoList!$R:$R, D$2))","v":""},{"$f":"IF($A298 = \"\", \"\", COUNTIFS(ToDoList!$B:$B, $A298, ToDoList!$R:$R, E$2))","v":""},{"$f":"IF($A298 = \"\", \"\", COUNTIFS(ToDoList!$B:$B, $A298, ToDoList!$R:$R, F$2))","v":""},{"$f":"IF($A298 = \"\", \"\", COUNTIFS(ToDoList!$B:$B, $A298, ToDoList!$R:$R, G$2))","v":""},{"$f":"IF($A298 = \"\", \"\", COUNTIFS(ToDoList!$B:$B, $A298, ToDoList!$R:$R, H$2))","v":""},{"$f":"IF($A298 = \"\", \"\", COUNTIFS(ToDoList!$B:$B, $A298, ToDoList!$R:$R, I$2))","v":""},{"$f":"IF($A298 = \"\", \"\", COUNTIFS(ToDoList!$B:$B, $A298, ToDoList!$R:$R, J$2))","v":""}]
[null,{"$f":"IF($A299 = \"\", \"\", COUNTIFS(ToDoList!$B:$B, $A299, ToDoList!$R:$R, B$2))","v":""},{"$f":"IF($A299 = \"\", \"\", COUNTIFS(ToDoList!$B:$B, $A299, ToDoList!$R:$R, C$2))","v":""},{"$f":"IF($A299 = \"\", \"\", COUNTIFS(ToDoList!$B:$B, $A299, ToDoList!$R:$R, D$2))","v":""},{"$f":"IF($A299 = \"\", \"\", COUNTIFS(ToDoList!$B:$B, $A299, ToDoList!$R:$R, E$2))","v":""},{"$f":"IF($A299 = \"\", \"\", COUNTIFS(ToDoList!$B:$B, $A299, ToDoList!$R:$R, F$2))","v":""},{"$f":"IF($A299 = \"\", \"\", COUNTIFS(ToDoList!$B:$B, $A299, ToDoList!$R:$R, G$2))","v":""},{"$f":"IF($A299 = \"\", \"\", COUNTIFS(ToDoList!$B:$B, $A299, ToDoList!$R:$R, H$2))","v":""},{"$f":"IF($A299 = \"\", \"\", COUNTIFS(ToDoList!$B:$B, $A299, ToDoList!$R:$R, I$2))","v":""},{"$f":"IF($A299 = \"\", \"\", COUNTIFS(ToDoList!$B:$B, $A299, ToDoList!$R:$R, J$2))","v":""}]
[null,{"$f":"IF($A300 = \"\", \"\", COUNTIFS(ToDoList!$B:$B, $A300, ToDoList!$R:$R, B$2))","v":""},{"$f":"IF($A300 = \"\", \"\", COUNTIFS(ToDoList!$B:$B, $A300, ToDoList!$R:$R, C$2))","v":""},{"$f":"IF($A300 = \"\", \"\", COUNTIFS(ToDoList!$B:$B, $A300, ToDoList!$R:$R, D$2))","v":""},{"$f":"IF($A300 = \"\", \"\", COUNTIFS(ToDoList!$B:$B, $A300, ToDoList!$R:$R, E$2))","v":""},{"$f":"IF($A300 = \"\", \"\", COUNTIFS(ToDoList!$B:$B, $A300, ToDoList!$R:$R, F$2))","v":""},{"$f":"IF($A300 = \"\", \"\", COUNTIFS(ToDoList!$B:$B, $A300, ToDoList!$R:$R, G$2))","v":""},{"$f":"IF($A300 = \"\", \"\", COUNTIFS(ToDoList!$B:$B, $A300, ToDoList!$R:$R, H$2))","v":""},{"$f":"IF($A300 = \"\", \"\", COUNTIFS(ToDoList!$B:$B, $A300, ToDoList!$R:$R, I$2))","v":""},{"$f":"IF($A300 = \"\", \"\", COUNTIFS(ToDoList!$B:$B, $A300, ToDoList!$R:$R, J$2))","v":""}]
[null,{"$f":"IF($A301 = \"\", \"\", COUNTIFS(ToDoList!$B:$B, $A301, ToDoList!$R:$R, B$2))","v":""},{"$f":"IF($A301 = \"\", \"\", COUNTIFS(ToDoList!$B:$B, $A301, ToDoList!$R:$R, C$2))","v":""},{"$f":"IF($A301 = \"\", \"\", COUNTIFS(ToDoList!$B:$B, $A301, ToDoList!$R:$R, D$2))","v":""},{"$f":"IF($A301 = \"\", \"\", COUNTIFS(ToDoList!$B:$B, $A301, ToDoList!$R:$R, E$2))","v":""},{"$f":"IF($A301 = \"\", \"\", COUNTIFS(ToDoList!$B:$B, $A301, ToDoList!$R:$R, F$2))","v":""},{"$f":"IF($A301 = \"\", \"\", COUNTIFS(ToDoList!$B:$B, $A301, ToDoList!$R:$R, G$2))","v":""},{"$f":"IF($A301 = \"\", \"\", COUNTIFS(ToDoList!$B:$B, $A301, ToDoList!$R:$R, H$2))","v":""},{"$f":"IF($A301 = \"\", \"\", COUNTIFS(ToDoList!$B:$B, $A301, ToDoList!$R:$R, I$2))","v":""},{"$f":"IF($A301 = \"\", \"\", COUNTIFS(ToDoList!$B:$B, $A301, ToDoList!$R:$R, J$2))","v":""}]
[null,{"$f":"IF($A302 = \"\", \"\", COUNTIFS(ToDoList!$B:$B, $A302, ToDoList!$R:$R, B$2))","v":""},{"$f":"IF($A302 = \"\", \"\", COUNTIFS(ToDoList!$B:$B, $A302, ToDoList!$R:$R, C$2))","v":""},{"$f":"IF($A302 = \"\", \"\", COUNTIFS(ToDoList!$B:$B, $A302, ToDoList!$R:$R, D$2))","v":""},{"$f":"IF($A302 = \"\", \"\", COUNTIFS(ToDoList!$B:$B, $A302, ToDoList!$R:$R, E$2))","v":""},{"$f":"IF($A302 = \"\", \"\", COUNTIFS(ToDoList!$B:$B, $A302, ToDoList!$R:$R, F$2))","v":""},{"$f":"IF($A302 = \"\", \"\", COUNTIFS(ToDoList!$B:$B, $A302, ToDoList!$R:$R, G$2))","v":""},{"$f":"IF($A302 = \"\", \"\", COUNTIFS(ToDoList!$B:$B, $A302, ToDoList!$R:$R, H$2))","v":""},{"$f":"IF($A302 = \"\", \"\", COUNTIFS(ToDoList!$B:$B, $A302, ToDoList!$R:$R, I$2))","v":""},{"$f":"IF($A302 = \"\", \"\", COUNTIFS(ToDoList!$B:$B, $A302, ToDoList!$R:$R, J$2))","v":""}]
[null,{"$f":"IF($A303 = \"\", \"\", COUNTIFS(ToDoList!$B:$B, $A303, ToDoList!$R:$R, B$2))","v":""},{"$f":"IF($A303 = \"\", \"\", COUNTIFS(ToDoList!$B:$B, $A303, ToDoList!$R:$R, C$2))","v":""},{"$f":"IF($A303 = \"\", \"\", COUNTIFS(ToDoList!$B:$B, $A303, ToDoList!$R:$R, D$2))","v":""},{"$f":"IF($A303 = \"\", \"\", COUNTIFS(ToDoList!$B:$B, $A303, ToDoList!$R:$R, E$2))","v":""},{"$f":"IF($A303 = \"\", \"\", COUNTIFS(ToDoList!$B:$B, $A303, ToDoList!$R:$R, F$2))","v":""},{"$f":"IF($A303 = \"\", \"\", COUNTIFS(ToDoList!$B:$B, $A303, ToDoList!$R:$R, G$2))","v":""},{"$f":"IF($A303 = \"\", \"\", COUNTIFS(ToDoList!$B:$B, $A303, ToDoList!$R:$R, H$2))","v":""},{"$f":"IF($A303 = \"\", \"\", COUNTIFS(ToDoList!$B:$B, $A303, ToDoList!$R:$R, I$2))","v":""},{"$f":"IF($A303 = \"\", \"\", COUNTIFS(ToDoList!$B:$B, $A303, ToDoList!$R:$R, J$2))","v":""}]
[null,{"$f":"IF($A304 = \"\", \"\", COUNTIFS(ToDoList!$B:$B, $A304, ToDoList!$R:$R, B$2))","v":""},{"$f":"IF($A304 = \"\", \"\", COUNTIFS(ToDoList!$B:$B, $A304, ToDoList!$R:$R, C$2))","v":""},{"$f":"IF($A304 = \"\", \"\", COUNTIFS(ToDoList!$B:$B, $A304, ToDoList!$R:$R, D$2))","v":""},{"$f":"IF($A304 = \"\", \"\", COUNTIFS(ToDoList!$B:$B, $A304, ToDoList!$R:$R, E$2))","v":""},{"$f":"IF($A304 = \"\", \"\", COUNTIFS(ToDoList!$B:$B, $A304, ToDoList!$R:$R, F$2))","v":""},{"$f":"IF($A304 = \"\", \"\", COUNTIFS(ToDoList!$B:$B, $A304, ToDoList!$R:$R, G$2))","v":""},{"$f":"IF($A304 = \"\", \"\", COUNTIFS(ToDoList!$B:$B, $A304, ToDoList!$R:$R, H$2))","v":""},{"$f":"IF($A304 = \"\", \"\", COUNTIFS(ToDoList!$B:$B, $A304, ToDoList!$R:$R, I$2))","v":""},{"$f":"IF($A304 = \"\", \"\", COUNTIFS(ToDoList!$B:$B, $A304, ToDoList!$R:$R, J$2))","v":""}]
[null,{"$f":"IF($A305 = \"\", \"\", COUNTIFS(ToDoList!$B:$B, $A305, ToDoList!$R:$R, B$2))","v":""},{"$f":"IF($A305 = \"\", \"\", COUNTIFS(ToDoList!$B:$B, $A305, ToDoList!$R:$R, C$2))","v":""},{"$f":"IF($A305 = \"\", \"\", COUNTIFS(ToDoList!$B:$B, $A305, ToDoList!$R:$R, D$2))","v":""},{"$f":"IF($A305 = \"\", \"\", COUNTIFS(ToDoList!$B:$B, $A305, ToDoList!$R:$R, E$2))","v":""},{"$f":"IF($A305 = \"\", \"\", COUNTIFS(ToDoList!$B:$B, $A305, ToDoList!$R:$R, F$2))","v":""},{"$f":"IF($A305 = \"\", \"\", COUNTIFS(ToDoList!$B:$B, $A305, ToDoList!$R:$R, G$2))","v":""},{"$f":"IF($A305 = \"\", \"\", COUNTIFS(ToDoList!$B:$B, $A305, ToDoList!$R:$R, H$2))","v":""},{"$f":"IF($A305 = \"\", \"\", COUNTIFS(ToDoList!$B:$B, $A305, ToDoList!$R:$R, I$2))","v":""},{"$f":"IF($A305 = \"\", \"\", COUNTIFS(ToDoList!$B:$B, $A305, ToDoList!$R:$R, J$2))","v":""}]
[null,{"$f":"IF($A306 = \"\", \"\", COUNTIFS(ToDoList!$B:$B, $A306, ToDoList!$R:$R, B$2))","v":""},{"$f":"IF($A306 = \"\", \"\", COUNTIFS(ToDoList!$B:$B, $A306, ToDoList!$R:$R, C$2))","v":""},{"$f":"IF($A306 = \"\", \"\", COUNTIFS(ToDoList!$B:$B, $A306, ToDoList!$R:$R, D$2))","v":""},{"$f":"IF($A306 = \"\", \"\", COUNTIFS(ToDoList!$B:$B, $A306, ToDoList!$R:$R, E$2))","v":""},{"$f":"IF($A306 = \"\", \"\", COUNTIFS(ToDoList!$B:$B, $A306, ToDoList!$R:$R, F$2))","v":""},{"$f":"IF($A306 = \"\", \"\", COUNTIFS(ToDoList!$B:$B, $A306, ToDoList!$R:$R, G$2))","v":""},{"$f":"IF($A306 = \"\", \"\", COUNTIFS(ToDoList!$B:$B, $A306, ToDoList!$R:$R, H$2))","v":""},{"$f":"IF($A306 = \"\", \"\", COUNTIFS(ToDoList!$B:$B, $A306, ToDoList!$R:$R, I$2))","v":""},{"$f":"IF($A306 = \"\", \"\", COUNTIFS(ToDoList!$B:$B, $A306, ToDoList!$R:$R, J$2))","v":""}]
[null,{"$f":"IF($A307 = \"\", \"\", COUNTIFS(ToDoList!$B:$B, $A307, ToDoList!$R:$R, B$2))","v":""},{"$f":"IF($A307 = \"\", \"\", COUNTIFS(ToDoList!$B:$B, $A307, ToDoList!$R:$R, C$2))","v":""},{"$f":"IF($A307 = \"\", \"\", COUNTIFS(ToDoList!$B:$B, $A307, ToDoList!$R:$R, D$2))","v":""},{"$f":"IF($A307 = \"\", \"\", COUNTIFS(ToDoList!$B:$B, $A307, ToDoList!$R:$R, E$2))","v":""},{"$f":"IF($A307 = \"\", \"\", COUNTIFS(ToDoList!$B:$B, $A307, ToDoList!$R:$R, F$2))","v":""},{"$f":"IF($A307 = \"\", \"\", COUNTIFS(ToDoList!$B:$B, $A307, ToDoList!$R:$R, G$2))","v":""},{"$f":"IF($A307 = \"\", \"\", COUNTIFS(ToDoList!$B:$B, $A307, ToDoList!$R:$R, H$2))","v":""},{"$f":"IF($A307 = \"\", \"\", COUNTIFS(ToDoList!$B:$B, $A307, ToDoList!$R:$R, I$2))","v":""},{"$f":"IF($A307 = \"\", \"\", COUNTIFS(ToDoList!$B:$B, $A307, ToDoList!$R:$R, J$2))","v":""}]
[null,{"$f":"IF($A308 = \"\", \"\", COUNTIFS(ToDoList!$B:$B, $A308, ToDoList!$R:$R, B$2))","v":""},{"$f":"IF($A308 = \"\", \"\", COUNTIFS(ToDoList!$B:$B, $A308, ToDoList!$R:$R, C$2))","v":""},{"$f":"IF($A308 = \"\", \"\", COUNTIFS(ToDoList!$B:$B, $A308, ToDoList!$R:$R, D$2))","v":""},{"$f":"IF($A308 = \"\", \"\", COUNTIFS(ToDoList!$B:$B, $A308, ToDoList!$R:$R, E$2))","v":""},{"$f":"IF($A308 = \"\", \"\", COUNTIFS(ToDoList!$B:$B, $A308, ToDoList!$R:$R, F$2))","v":""},{"$f":"IF($A308 = \"\", \"\", COUNTIFS(ToDoList!$B:$B, $A308, ToDoList!$R:$R, G$2))","v":""},{"$f":"IF($A308 = \"\", \"\", COUNTIFS(ToDoList!$B:$B, $A308, ToDoList!$R:$R, H$2))","v":""},{"$f":"IF($A308 = \"\", \"\", COUNTIFS(ToDoList!$B:$B, $A308, ToDoList!$R:$R, I$2))","v":""},{"$f":"IF($A308 = \"\", \"\", COUNTIFS(ToDoList!$B:$B, $A308, ToDoList!$R:$R, J$2))","v":""}]
[null,{"$f":"IF($A309 = \"\", \"\", COUNTIFS(ToDoList!$B:$B, $A309, ToDoList!$R:$R, B$2))","v":""},{"$f":"IF($A309 = \"\", \"\", COUNTIFS(ToDoList!$B:$B, $A309, ToDoList!$R:$R, C$2))","v":""},{"$f":"IF($A309 = \"\", \"\", COUNTIFS(ToDoList!$B:$B, $A309, ToDoList!$R:$R, D$2))","v":""},{"$f":"IF($A309 = \"\", \"\", COUNTIFS(ToDoList!$B:$B, $A309, ToDoList!$R:$R, E$2))","v":""},{"$f":"IF($A309 = \"\", \"\", COUNTIFS(ToDoList!$B:$B, $A309, ToDoList!$R:$R, F$2))","v":""},{"$f":"IF($A309 = \"\", \"\", COUNTIFS(ToDoList!$B:$B, $A309, ToDoList!$R:$R, G$2))","v":""},{"$f":"IF($A309 = \"\", \"\", COUNTIFS(ToDoList!$B:$B, $A309, ToDoList!$R:$R, H$2))","v":""},{"$f":"IF($A309 = \"\", \"\", COUNTIFS(ToDoList!$B:$B, $A309, ToDoList!$R:$R, I$2))","v":""},{"$f":"IF($A309 = \"\", \"\", COUNTIFS(ToDoList!$B:$B, $A309, ToDoList!$R:$R, J$2))","v":""}]
[null,{"$f":"IF($A310 = \"\", \"\", COUNTIFS(ToDoList!$B:$B, $A310, ToDoList!$R:$R, B$2))","v":""},{"$f":"IF($A310 = \"\", \"\", COUNTIFS(ToDoList!$B:$B, $A310, ToDoList!$R:$R, C$2))","v":""},{"$f":"IF($A310 = \"\", \"\", COUNTIFS(ToDoList!$B:$B, $A310, ToDoList!$R:$R, D$2))","v":""},{"$f":"IF($A310 = \"\", \"\", COUNTIFS(ToDoList!$B:$B, $A310, ToDoList!$R:$R, E$2))","v":""},{"$f":"IF($A310 = \"\", \"\", COUNTIFS(ToDoList!$B:$B, $A310, ToDoList!$R:$R, F$2))","v":""},{"$f":"IF($A310 = \"\", \"\", COUNTIFS(ToDoList!$B:$B, $A310, ToDoList!$R:$R, G$2))","v":""},{"$f":"IF($A310 = \"\", \"\", COUNTIFS(ToDoList!$B:$B, $A310, ToDoList!$R:$R, H$2))","v":""},{"$f":"IF($A310 = \"\", \"\", COUNTIFS(ToDoList!$B:$B, $A310, ToDoList!$R:$R, I$2))","v":""},{"$f":"IF($A310 = \"\", \"\", COUNTIFS(ToDoList!$B:$B, $A310, ToDoList!$R:$R, J$2))","v":""}]
[null,{"$f":"IF($A311 = \"\", \"\", COUNTIFS(ToDoList!$B:$B, $A311, ToDoList!$R:$R, B$2))","v":""},{"$f":"IF($A311 = \"\", \"\", COUNTIFS(ToDoList!$B:$B, $A311, ToDoList!$R:$R, C$2))","v":""},{"$f":"IF($A311 = \"\", \"\", COUNTIFS(ToDoList!$B:$B, $A311, ToDoList!$R:$R, D$2))","v":""},{"$f":"IF($A311 = \"\", \"\", COUNTIFS(ToDoList!$B:$B, $A311, ToDoList!$R:$R, E$2))","v":""},{"$f":"IF($A311 = \"\", \"\", COUNTIFS(ToDoList!$B:$B, $A311, ToDoList!$R:$R, F$2))","v":""},{"$f":"IF($A311 = \"\", \"\", COUNTIFS(ToDoList!$B:$B, $A311, ToDoList!$R:$R, G$2))","v":""},{"$f":"IF($A311 = \"\", \"\", COUNTIFS(ToDoList!$B:$B, $A311, ToDoList!$R:$R, H$2))","v":""},{"$f":"IF($A311 = \"\", \"\", COUNTIFS(ToDoList!$B:$B, $A311, ToDoList!$R:$R, I$2))","v":""},{"$f":"IF($A311 = \"\", \"\", COUNTIFS(ToDoList!$B:$B, $A311, ToDoList!$R:$R, J$2))","v":""}]
[null,{"$f":"IF($A312 = \"\", \"\", COUNTIFS(ToDoList!$B:$B, $A312, ToDoList!$R:$R, B$2))","v":""},{"$f":"IF($A312 = \"\", \"\", COUNTIFS(ToDoList!$B:$B, $A312, ToDoList!$R:$R, C$2))","v":""},{"$f":"IF($A312 = \"\", \"\", COUNTIFS(ToDoList!$B:$B, $A312, ToDoList!$R:$R, D$2))","v":""},{"$f":"IF($A312 = \"\", \"\", COUNTIFS(ToDoList!$B:$B, $A312, ToDoList!$R:$R, E$2))","v":""},{"$f":"IF($A312 = \"\", \"\", COUNTIFS(ToDoList!$B:$B, $A312, ToDoList!$R:$R, F$2))","v":""},{"$f":"IF($A312 = \"\", \"\", COUNTIFS(ToDoList!$B:$B, $A312, ToDoList!$R:$R, G$2))","v":""},{"$f":"IF($A312 = \"\", \"\", COUNTIFS(ToDoList!$B:$B, $A312, ToDoList!$R:$R, H$2))","v":""},{"$f":"IF($A312 = \"\", \"\", COUNTIFS(ToDoList!$B:$B, $A312, ToDoList!$R:$R, I$2))","v":""},{"$f":"IF($A312 = \"\", \"\", COUNTIFS(ToDoList!$B:$B, $A312, ToDoList!$R:$R, J$2))","v":""}]
[null,{"$f":"IF($A313 = \"\", \"\", COUNTIFS(ToDoList!$B:$B, $A313, ToDoList!$R:$R, B$2))","v":""},{"$f":"IF($A313 = \"\", \"\", COUNTIFS(ToDoList!$B:$B, $A313, ToDoList!$R:$R, C$2))","v":""},{"$f":"IF($A313 = \"\", \"\", COUNTIFS(ToDoList!$B:$B, $A313, ToDoList!$R:$R, D$2))","v":""},{"$f":"IF($A313 = \"\", \"\", COUNTIFS(ToDoList!$B:$B, $A313, ToDoList!$R:$R, E$2))","v":""},{"$f":"IF($A313 = \"\", \"\", COUNTIFS(ToDoList!$B:$B, $A313, ToDoList!$R:$R, F$2))","v":""},{"$f":"IF($A313 = \"\", \"\", COUNTIFS(ToDoList!$B:$B, $A313, ToDoList!$R:$R, G$2))","v":""},{"$f":"IF($A313 = \"\", \"\", COUNTIFS(ToDoList!$B:$B, $A313, ToDoList!$R:$R, H$2))","v":""},{"$f":"IF($A313 = \"\", \"\", COUNTIFS(ToDoList!$B:$B, $A313, ToDoList!$R:$R, I$2))","v":""},{"$f":"IF($A313 = \"\", \"\", COUNTIFS(ToDoList!$B:$B, $A313, ToDoList!$R:$R, J$2))","v":""}]
[null,{"$f":"IF($A314 = \"\", \"\", COUNTIFS(ToDoList!$B:$B, $A314, ToDoList!$R:$R, B$2))","v":""},{"$f":"IF($A314 = \"\", \"\", COUNTIFS(ToDoList!$B:$B, $A314, ToDoList!$R:$R, C$2))","v":""},{"$f":"IF($A314 = \"\", \"\", COUNTIFS(ToDoList!$B:$B, $A314, ToDoList!$R:$R, D$2))","v":""},{"$f":"IF($A314 = \"\", \"\", COUNTIFS(ToDoList!$B:$B, $A314, ToDoList!$R:$R, E$2))","v":""},{"$f":"IF($A314 = \"\", \"\", COUNTIFS(ToDoList!$B:$B, $A314, ToDoList!$R:$R, F$2))","v":""},{"$f":"IF($A314 = \"\", \"\", COUNTIFS(ToDoList!$B:$B, $A314, ToDoList!$R:$R, G$2))","v":""},{"$f":"IF($A314 = \"\", \"\", COUNTIFS(ToDoList!$B:$B, $A314, ToDoList!$R:$R, H$2))","v":""},{"$f":"IF($A314 = \"\", \"\", COUNTIFS(ToDoList!$B:$B, $A314, ToDoList!$R:$R, I$2))","v":""},{"$f":"IF($A314 = \"\", \"\", COUNTIFS(ToDoList!$B:$B, $A314, ToDoList!$R:$R, J$2))","v":""}]
[null,{"$f":"IF($A315 = \"\", \"\", COUNTIFS(ToDoList!$B:$B, $A315, ToDoList!$R:$R, B$2))","v":""},{"$f":"IF($A315 = \"\", \"\", COUNTIFS(ToDoList!$B:$B, $A315, ToDoList!$R:$R, C$2))","v":""},{"$f":"IF($A315 = \"\", \"\", COUNTIFS(ToDoList!$B:$B, $A315, ToDoList!$R:$R, D$2))","v":""},{"$f":"IF($A315 = \"\", \"\", COUNTIFS(ToDoList!$B:$B, $A315, ToDoList!$R:$R, E$2))","v":""},{"$f":"IF($A315 = \"\", \"\", COUNTIFS(ToDoList!$B:$B, $A315, ToDoList!$R:$R, F$2))","v":""},{"$f":"IF($A315 = \"\", \"\", COUNTIFS(ToDoList!$B:$B, $A315, ToDoList!$R:$R, G$2))","v":""},{"$f":"IF($A315 = \"\", \"\", COUNTIFS(ToDoList!$B:$B, $A315, ToDoList!$R:$R, H$2))","v":""},{"$f":"IF($A315 = \"\", \"\", COUNTIFS(ToDoList!$B:$B, $A315, ToDoList!$R:$R, I$2))","v":""},{"$f":"IF($A315 = \"\", \"\", COUNTIFS(ToDoList!$B:$B, $A315, ToDoList!$R:$R, J$2))","v":""}]
[null,{"$f":"IF($A316 = \"\", \"\", COUNTIFS(ToDoList!$B:$B, $A316, ToDoList!$R:$R, B$2))","v":""},{"$f":"IF($A316 = \"\", \"\", COUNTIFS(ToDoList!$B:$B, $A316, ToDoList!$R:$R, C$2))","v":""},{"$f":"IF($A316 = \"\", \"\", COUNTIFS(ToDoList!$B:$B, $A316, ToDoList!$R:$R, D$2))","v":""},{"$f":"IF($A316 = \"\", \"\", COUNTIFS(ToDoList!$B:$B, $A316, ToDoList!$R:$R, E$2))","v":""},{"$f":"IF($A316 = \"\", \"\", COUNTIFS(ToDoList!$B:$B, $A316, ToDoList!$R:$R, F$2))","v":""},{"$f":"IF($A316 = \"\", \"\", COUNTIFS(ToDoList!$B:$B, $A316, ToDoList!$R:$R, G$2))","v":""},{"$f":"IF($A316 = \"\", \"\", COUNTIFS(ToDoList!$B:$B, $A316, ToDoList!$R:$R, H$2))","v":""},{"$f":"IF($A316 = \"\", \"\", COUNTIFS(ToDoList!$B:$B, $A316, ToDoList!$R:$R, I$2))","v":""},{"$f":"IF($A316 = \"\", \"\", COUNTIFS(ToDoList!$B:$B, $A316, ToDoList!$R:$R, J$2))","v":""}]
[null,{"$f":"IF($A317 = \"\", \"\", COUNTIFS(ToDoList!$B:$B, $A317, ToDoList!$R:$R, B$2))","v":""},{"$f":"IF($A317 = \"\", \"\", COUNTIFS(ToDoList!$B:$B, $A317, ToDoList!$R:$R, C$2))","v":""},{"$f":"IF($A317 = \"\", \"\", COUNTIFS(ToDoList!$B:$B, $A317, ToDoList!$R:$R, D$2))","v":""},{"$f":"IF($A317 = \"\", \"\", COUNTIFS(ToDoList!$B:$B, $A317, ToDoList!$R:$R, E$2))","v":""},{"$f":"IF($A317 = \"\", \"\", COUNTIFS(ToDoList!$B:$B, $A317, ToDoList!$R:$R, F$2))","v":""},{"$f":"IF($A317 = \"\", \"\", COUNTIFS(ToDoList!$B:$B, $A317, ToDoList!$R:$R, G$2))","v":""},{"$f":"IF($A317 = \"\", \"\", COUNTIFS(ToDoList!$B:$B, $A317, ToDoList!$R:$R, H$2))","v":""},{"$f":"IF($A317 = \"\", \"\", COUNTIFS(ToDoList!$B:$B, $A317, ToDoList!$R:$R, I$2))","v":""},{"$f":"IF($A317 = \"\", \"\", COUNTIFS(ToDoList!$B:$B, $A317, ToDoList!$R:$R, J$2))","v":""}]
[null,{"$f":"IF($A318 = \"\", \"\", COUNTIFS(ToDoList!$B:$B, $A318, ToDoList!$R:$R, B$2))","v":""},{"$f":"IF($A318 = \"\", \"\", COUNTIFS(ToDoList!$B:$B, $A318, ToDoList!$R:$R, C$2))","v":""},{"$f":"IF($A318 = \"\", \"\", COUNTIFS(ToDoList!$B:$B, $A318, ToDoList!$R:$R, D$2))","v":""},{"$f":"IF($A318 = \"\", \"\", COUNTIFS(ToDoList!$B:$B, $A318, ToDoList!$R:$R, E$2))","v":""},{"$f":"IF($A318 = \"\", \"\", COUNTIFS(ToDoList!$B:$B, $A318, ToDoList!$R:$R, F$2))","v":""},{"$f":"IF($A318 = \"\", \"\", COUNTIFS(ToDoList!$B:$B, $A318, ToDoList!$R:$R, G$2))","v":""},{"$f":"IF($A318 = \"\", \"\", COUNTIFS(ToDoList!$B:$B, $A318, ToDoList!$R:$R, H$2))","v":""},{"$f":"IF($A318 = \"\", \"\", COUNTIFS(ToDoList!$B:$B, $A318, ToDoList!$R:$R, I$2))","v":""},{"$f":"IF($A318 = \"\", \"\", COUNTIFS(ToDoList!$B:$B, $A318, ToDoList!$R:$R, J$2))","v":""}]
[null,{"$f":"IF($A319 = \"\", \"\", COUNTIFS(ToDoList!$B:$B, $A319, ToDoList!$R:$R, B$2))","v":""},{"$f":"IF($A319 = \"\", \"\", COUNTIFS(ToDoList!$B:$B, $A319, ToDoList!$R:$R, C$2))","v":""},{"$f":"IF($A319 = \"\", \"\", COUNTIFS(ToDoList!$B:$B, $A319, ToDoList!$R:$R, D$2))","v":""},{"$f":"IF($A319 = \"\", \"\", COUNTIFS(ToDoList!$B:$B, $A319, ToDoList!$R:$R, E$2))","v":""},{"$f":"IF($A319 = \"\", \"\", COUNTIFS(ToDoList!$B:$B, $A319, ToDoList!$R:$R, F$2))","v":""},{"$f":"IF($A319 = \"\", \"\", COUNTIFS(ToDoList!$B:$B, $A319, ToDoList!$R:$R, G$2))","v":""},{"$f":"IF($A319 = \"\", \"\", COUNTIFS(ToDoList!$B:$B, $A319, ToDoList!$R:$R, H$2))","v":""},{"$f":"IF($A319 = \"\", \"\", COUNTIFS(ToDoList!$B:$B, $A319, ToDoList!$R:$R, I$2))","v":""},{"$f":"IF($A319 = \"\", \"\", COUNTIFS(ToDoList!$B:$B, $A319, ToDoList!$R:$R, J$2))","v":""}]
[null,{"$f":"IF($A320 = \"\", \"\", COUNTIFS(ToDoList!$B:$B, $A320, ToDoList!$R:$R, B$2))","v":""},{"$f":"IF($A320 = \"\", \"\", COUNTIFS(ToDoList!$B:$B, $A320, ToDoList!$R:$R, C$2))","v":""},{"$f":"IF($A320 = \"\", \"\", COUNTIFS(ToDoList!$B:$B, $A320, ToDoList!$R:$R, D$2))","v":""},{"$f":"IF($A320 = \"\", \"\", COUNTIFS(ToDoList!$B:$B, $A320, ToDoList!$R:$R, E$2))","v":""},{"$f":"IF($A320 = \"\", \"\", COUNTIFS(ToDoList!$B:$B, $A320, ToDoList!$R:$R, F$2))","v":""},{"$f":"IF($A320 = \"\", \"\", COUNTIFS(ToDoList!$B:$B, $A320, ToDoList!$R:$R, G$2))","v":""},{"$f":"IF($A320 = \"\", \"\", COUNTIFS(ToDoList!$B:$B, $A320, ToDoList!$R:$R, H$2))","v":""},{"$f":"IF($A320 = \"\", \"\", COUNTIFS(ToDoList!$B:$B, $A320, ToDoList!$R:$R, I$2))","v":""},{"$f":"IF($A320 = \"\", \"\", COUNTIFS(ToDoList!$B:$B, $A320, ToDoList!$R:$R, J$2))","v":""}]
[null,{"$f":"IF($A321 = \"\", \"\", COUNTIFS(ToDoList!$B:$B, $A321, ToDoList!$R:$R, B$2))","v":""},{"$f":"IF($A321 = \"\", \"\", COUNTIFS(ToDoList!$B:$B, $A321, ToDoList!$R:$R, C$2))","v":""},{"$f":"IF($A321 = \"\", \"\", COUNTIFS(ToDoList!$B:$B, $A321, ToDoList!$R:$R, D$2))","v":""},{"$f":"IF($A321 = \"\", \"\", COUNTIFS(ToDoList!$B:$B, $A321, ToDoList!$R:$R, E$2))","v":""},{"$f":"IF($A321 = \"\", \"\", COUNTIFS(ToDoList!$B:$B, $A321, ToDoList!$R:$R, F$2))","v":""},{"$f":"IF($A321 = \"\", \"\", COUNTIFS(ToDoList!$B:$B, $A321, ToDoList!$R:$R, G$2))","v":""},{"$f":"IF($A321 = \"\", \"\", COUNTIFS(ToDoList!$B:$B, $A321, ToDoList!$R:$R, H$2))","v":""},{"$f":"IF($A321 = \"\", \"\", COUNTIFS(ToDoList!$B:$B, $A321, ToDoList!$R:$R, I$2))","v":""},{"$f":"IF($A321 = \"\", \"\", COUNTIFS(ToDoList!$B:$B, $A321, ToDoList!$R:$R, J$2))","v":""}]
[null,{"$f":"IF($A322 = \"\", \"\", COUNTIFS(ToDoList!$B:$B, $A322, ToDoList!$R:$R, B$2))","v":""},{"$f":"IF($A322 = \"\", \"\", COUNTIFS(ToDoList!$B:$B, $A322, ToDoList!$R:$R, C$2))","v":""},{"$f":"IF($A322 = \"\", \"\", COUNTIFS(ToDoList!$B:$B, $A322, ToDoList!$R:$R, D$2))","v":""},{"$f":"IF($A322 = \"\", \"\", COUNTIFS(ToDoList!$B:$B, $A322, ToDoList!$R:$R, E$2))","v":""},{"$f":"IF($A322 = \"\", \"\", COUNTIFS(ToDoList!$B:$B, $A322, ToDoList!$R:$R, F$2))","v":""},{"$f":"IF($A322 = \"\", \"\", COUNTIFS(ToDoList!$B:$B, $A322, ToDoList!$R:$R, G$2))","v":""},{"$f":"IF($A322 = \"\", \"\", COUNTIFS(ToDoList!$B:$B, $A322, ToDoList!$R:$R, H$2))","v":""},{"$f":"IF($A322 = \"\", \"\", COUNTIFS(ToDoList!$B:$B, $A322, ToDoList!$R:$R, I$2))","v":""},{"$f":"IF($A322 = \"\", \"\", COUNTIFS(ToDoList!$B:$B, $A322, ToDoList!$R:$R, J$2))","v":""}]
[null,{"$f":"IF($A323 = \"\", \"\", COUNTIFS(ToDoList!$B:$B, $A323, ToDoList!$R:$R, B$2))","v":""},{"$f":"IF($A323 = \"\", \"\", COUNTIFS(ToDoList!$B:$B, $A323, ToDoList!$R:$R, C$2))","v":""},{"$f":"IF($A323 = \"\", \"\", COUNTIFS(ToDoList!$B:$B, $A323, ToDoList!$R:$R, D$2))","v":""},{"$f":"IF($A323 = \"\", \"\", COUNTIFS(ToDoList!$B:$B, $A323, ToDoList!$R:$R, E$2))","v":""},{"$f":"IF($A323 = \"\", \"\", COUNTIFS(ToDoList!$B:$B, $A323, ToDoList!$R:$R, F$2))","v":""},{"$f":"IF($A323 = \"\", \"\", COUNTIFS(ToDoList!$B:$B, $A323, ToDoList!$R:$R, G$2))","v":""},{"$f":"IF($A323 = \"\", \"\", COUNTIFS(ToDoList!$B:$B, $A323, ToDoList!$R:$R, H$2))","v":""},{"$f":"IF($A323 = \"\", \"\", COUNTIFS(ToDoList!$B:$B, $A323, ToDoList!$R:$R, I$2))","v":""},{"$f":"IF($A323 = \"\", \"\", COUNTIFS(ToDoList!$B:$B, $A323, ToDoList!$R:$R, J$2))","v":""}]
[null,{"$f":"IF($A324 = \"\", \"\", COUNTIFS(ToDoList!$B:$B, $A324, ToDoList!$R:$R, B$2))","v":""},{"$f":"IF($A324 = \"\", \"\", COUNTIFS(ToDoList!$B:$B, $A324, ToDoList!$R:$R, C$2))","v":""},{"$f":"IF($A324 = \"\", \"\", COUNTIFS(ToDoList!$B:$B, $A324, ToDoList!$R:$R, D$2))","v":""},{"$f":"IF($A324 = \"\", \"\", COUNTIFS(ToDoList!$B:$B, $A324, ToDoList!$R:$R, E$2))","v":""},{"$f":"IF($A324 = \"\", \"\", COUNTIFS(ToDoList!$B:$B, $A324, ToDoList!$R:$R, F$2))","v":""},{"$f":"IF($A324 = \"\", \"\", COUNTIFS(ToDoList!$B:$B, $A324, ToDoList!$R:$R, G$2))","v":""},{"$f":"IF($A324 = \"\", \"\", COUNTIFS(ToDoList!$B:$B, $A324, ToDoList!$R:$R, H$2))","v":""},{"$f":"IF($A324 = \"\", \"\", COUNTIFS(ToDoList!$B:$B, $A324, ToDoList!$R:$R, I$2))","v":""},{"$f":"IF($A324 = \"\", \"\", COUNTIFS(ToDoList!$B:$B, $A324, ToDoList!$R:$R, J$2))","v":""}]
[null,{"$f":"IF($A325 = \"\", \"\", COUNTIFS(ToDoList!$B:$B, $A325, ToDoList!$R:$R, B$2))","v":""},{"$f":"IF($A325 = \"\", \"\", COUNTIFS(ToDoList!$B:$B, $A325, ToDoList!$R:$R, C$2))","v":""},{"$f":"IF($A325 = \"\", \"\", COUNTIFS(ToDoList!$B:$B, $A325, ToDoList!$R:$R, D$2))","v":""},{"$f":"IF($A325 = \"\", \"\", COUNTIFS(ToDoList!$B:$B, $A325, ToDoList!$R:$R, E$2))","v":""},{"$f":"IF($A325 = \"\", \"\", COUNTIFS(ToDoList!$B:$B, $A325, ToDoList!$R:$R, F$2))","v":""},{"$f":"IF($A325 = \"\", \"\", COUNTIFS(ToDoList!$B:$B, $A325, ToDoList!$R:$R, G$2))","v":""},{"$f":"IF($A325 = \"\", \"\", COUNTIFS(ToDoList!$B:$B, $A325, ToDoList!$R:$R, H$2))","v":""},{"$f":"IF($A325 = \"\", \"\", COUNTIFS(ToDoList!$B:$B, $A325, ToDoList!$R:$R, I$2))","v":""},{"$f":"IF($A325 = \"\", \"\", COUNTIFS(ToDoList!$B:$B, $A325, ToDoList!$R:$R, J$2))","v":""}]
[null,{"$f":"IF($A326 = \"\", \"\", COUNTIFS(ToDoList!$B:$B, $A326, ToDoList!$R:$R, B$2))","v":""},{"$f":"IF($A326 = \"\", \"\", COUNTIFS(ToDoList!$B:$B, $A326, ToDoList!$R:$R, C$2))","v":""},{"$f":"IF($A326 = \"\", \"\", COUNTIFS(ToDoList!$B:$B, $A326, ToDoList!$R:$R, D$2))","v":""},{"$f":"IF($A326 = \"\", \"\", COUNTIFS(ToDoList!$B:$B, $A326, ToDoList!$R:$R, E$2))","v":""},{"$f":"IF($A326 = \"\", \"\", COUNTIFS(ToDoList!$B:$B, $A326, ToDoList!$R:$R, F$2))","v":""},{"$f":"IF($A326 = \"\", \"\", COUNTIFS(ToDoList!$B:$B, $A326, ToDoList!$R:$R, G$2))","v":""},{"$f":"IF($A326 = \"\", \"\", COUNTIFS(ToDoList!$B:$B, $A326, ToDoList!$R:$R, H$2))","v":""},{"$f":"IF($A326 = \"\", \"\", COUNTIFS(ToDoList!$B:$B, $A326, ToDoList!$R:$R, I$2))","v":""},{"$f":"IF($A326 = \"\", \"\", COUNTIFS(ToDoList!$B:$B, $A326, ToDoList!$R:$R, J$2))","v":""}]
[null,{"$f":"IF($A327 = \"\", \"\", COUNTIFS(ToDoList!$B:$B, $A327, ToDoList!$R:$R, B$2))","v":""},{"$f":"IF($A327 = \"\", \"\", COUNTIFS(ToDoList!$B:$B, $A327, ToDoList!$R:$R, C$2))","v":""},{"$f":"IF($A327 = \"\", \"\", COUNTIFS(ToDoList!$B:$B, $A327, ToDoList!$R:$R, D$2))","v":""},{"$f":"IF($A327 = \"\", \"\", COUNTIFS(ToDoList!$B:$B, $A327, ToDoList!$R:$R, E$2))","v":""},{"$f":"IF($A327 = \"\", \"\", COUNTIFS(ToDoList!$B:$B, $A327, ToDoList!$R:$R, F$2))","v":""},{"$f":"IF($A327 = \"\", \"\", COUNTIFS(ToDoList!$B:$B, $A327, ToDoList!$R:$R, G$2))","v":""},{"$f":"IF($A327 = \"\", \"\", COUNTIFS(ToDoList!$B:$B, $A327, ToDoList!$R:$R, H$2))","v":""},{"$f":"IF($A327 = \"\", \"\", COUNTIFS(ToDoList!$B:$B, $A327, ToDoList!$R:$R, I$2))","v":""},{"$f":"IF($A327 = \"\", \"\", COUNTIFS(ToDoList!$B:$B, $A327, ToDoList!$R:$R, J$2))","v":""}]
[null,{"$f":"IF($A328 = \"\", \"\", COUNTIFS(ToDoList!$B:$B, $A328, ToDoList!$R:$R, B$2))","v":""},{"$f":"IF($A328 = \"\", \"\", COUNTIFS(ToDoList!$B:$B, $A328, ToDoList!$R:$R, C$2))","v":""},{"$f":"IF($A328 = \"\", \"\", COUNTIFS(ToDoList!$B:$B, $A328, ToDoList!$R:$R, D$2))","v":""},{"$f":"IF($A328 = \"\", \"\", COUNTIFS(ToDoList!$B:$B, $A328, ToDoList!$R:$R, E$2))","v":""},{"$f":"IF($A328 = \"\", \"\", COUNTIFS(ToDoList!$B:$B, $A328, ToDoList!$R:$R, F$2))","v":""},{"$f":"IF($A328 = \"\", \"\", COUNTIFS(ToDoList!$B:$B, $A328, ToDoList!$R:$R, G$2))","v":""},{"$f":"IF($A328 = \"\", \"\", COUNTIFS(ToDoList!$B:$B, $A328, ToDoList!$R:$R, H$2))","v":""},{"$f":"IF($A328 = \"\", \"\", COUNTIFS(ToDoList!$B:$B, $A328, ToDoList!$R:$R, I$2))","v":""},{"$f":"IF($A328 = \"\", \"\", COUNTIFS(ToDoList!$B:$B, $A328, ToDoList!$R:$R, J$2))","v":""}]
[null,{"$f":"IF($A329 = \"\", \"\", COUNTIFS(ToDoList!$B:$B, $A329, ToDoList!$R:$R, B$2))","v":""},{"$f":"IF($A329 = \"\", \"\", COUNTIFS(ToDoList!$B:$B, $A329, ToDoList!$R:$R, C$2))","v":""},{"$f":"IF($A329 = \"\", \"\", COUNTIFS(ToDoList!$B:$B, $A329, ToDoList!$R:$R, D$2))","v":""},{"$f":"IF($A329 = \"\", \"\", COUNTIFS(ToDoList!$B:$B, $A329, ToDoList!$R:$R, E$2))","v":""},{"$f":"IF($A329 = \"\", \"\", COUNTIFS(ToDoList!$B:$B, $A329, ToDoList!$R:$R, F$2))","v":""},{"$f":"IF($A329 = \"\", \"\", COUNTIFS(ToDoList!$B:$B, $A329, ToDoList!$R:$R, G$2))","v":""},{"$f":"IF($A329 = \"\", \"\", COUNTIFS(ToDoList!$B:$B, $A329, ToDoList!$R:$R, H$2))","v":""},{"$f":"IF($A329 = \"\", \"\", COUNTIFS(ToDoList!$B:$B, $A329, ToDoList!$R:$R, I$2))","v":""},{"$f":"IF($A329 = \"\", \"\", COUNTIFS(ToDoList!$B:$B, $A329, ToDoList!$R:$R, J$2))","v":""}]
[null,{"$f":"IF($A330 = \"\", \"\", COUNTIFS(ToDoList!$B:$B, $A330, ToDoList!$R:$R, B$2))","v":""},{"$f":"IF($A330 = \"\", \"\", COUNTIFS(ToDoList!$B:$B, $A330, ToDoList!$R:$R, C$2))","v":""},{"$f":"IF($A330 = \"\", \"\", COUNTIFS(ToDoList!$B:$B, $A330, ToDoList!$R:$R, D$2))","v":""},{"$f":"IF($A330 = \"\", \"\", COUNTIFS(ToDoList!$B:$B, $A330, ToDoList!$R:$R, E$2))","v":""},{"$f":"IF($A330 = \"\", \"\", COUNTIFS(ToDoList!$B:$B, $A330, ToDoList!$R:$R, F$2))","v":""},{"$f":"IF($A330 = \"\", \"\", COUNTIFS(ToDoList!$B:$B, $A330, ToDoList!$R:$R, G$2))","v":""},{"$f":"IF($A330 = \"\", \"\", COUNTIFS(ToDoList!$B:$B, $A330, ToDoList!$R:$R, H$2))","v":""},{"$f":"IF($A330 = \"\", \"\", COUNTIFS(ToDoList!$B:$B, $A330, ToDoList!$R:$R, I$2))","v":""},{"$f":"IF($A330 = \"\", \"\", COUNTIFS(ToDoList!$B:$B, $A330, ToDoList!$R:$R, J$2))","v":""}]
[null,{"$f":"IF($A331 = \"\", \"\", COUNTIFS(ToDoList!$B:$B, $A331, ToDoList!$R:$R, B$2))","v":""},{"$f":"IF($A331 = \"\", \"\", COUNTIFS(ToDoList!$B:$B, $A331, ToDoList!$R:$R, C$2))","v":""},{"$f":"IF($A331 = \"\", \"\", COUNTIFS(ToDoList!$B:$B, $A331, ToDoList!$R:$R, D$2))","v":""},{"$f":"IF($A331 = \"\", \"\", COUNTIFS(ToDoList!$B:$B, $A331, ToDoList!$R:$R, E$2))","v":""},{"$f":"IF($A331 = \"\", \"\", COUNTIFS(ToDoList!$B:$B, $A331, ToDoList!$R:$R, F$2))","v":""},{"$f":"IF($A331 = \"\", \"\", COUNTIFS(ToDoList!$B:$B, $A331, ToDoList!$R:$R, G$2))","v":""},{"$f":"IF($A331 = \"\", \"\", COUNTIFS(ToDoList!$B:$B, $A331, ToDoList!$R:$R, H$2))","v":""},{"$f":"IF($A331 = \"\", \"\", COUNTIFS(ToDoList!$B:$B, $A331, ToDoList!$R:$R, I$2))","v":""},{"$f":"IF($A331 = \"\", \"\", COUNTIFS(ToDoList!$B:$B, $A331, ToDoList!$R:$R, J$2))","v":""}]
[null,{"$f":"IF($A332 = \"\", \"\", COUNTIFS(ToDoList!$B:$B, $A332, ToDoList!$R:$R, B$2))","v":""},{"$f":"IF($A332 = \"\", \"\", COUNTIFS(ToDoList!$B:$B, $A332, ToDoList!$R:$R, C$2))","v":""},{"$f":"IF($A332 = \"\", \"\", COUNTIFS(ToDoList!$B:$B, $A332, ToDoList!$R:$R, D$2))","v":""},{"$f":"IF($A332 = \"\", \"\", COUNTIFS(ToDoList!$B:$B, $A332, ToDoList!$R:$R, E$2))","v":""},{"$f":"IF($A332 = \"\", \"\", COUNTIFS(ToDoList!$B:$B, $A332, ToDoList!$R:$R, F$2))","v":""},{"$f":"IF($A332 = \"\", \"\", COUNTIFS(ToDoList!$B:$B, $A332, ToDoList!$R:$R, G$2))","v":""},{"$f":"IF($A332 = \"\", \"\", COUNTIFS(ToDoList!$B:$B, $A332, ToDoList!$R:$R, H$2))","v":""},{"$f":"IF($A332 = \"\", \"\", COUNTIFS(ToDoList!$B:$B, $A332, ToDoList!$R:$R, I$2))","v":""},{"$f":"IF($A332 = \"\", \"\", COUNTIFS(ToDoList!$B:$B, $A332, ToDoList!$R:$R, J$2))","v":""}]
[null,{"$f":"IF($A333 = \"\", \"\", COUNTIFS(ToDoList!$B:$B, $A333, ToDoList!$R:$R, B$2))","v":""},{"$f":"IF($A333 = \"\", \"\", COUNTIFS(ToDoList!$B:$B, $A333, ToDoList!$R:$R, C$2))","v":""},{"$f":"IF($A333 = \"\", \"\", COUNTIFS(ToDoList!$B:$B, $A333, ToDoList!$R:$R, D$2))","v":""},{"$f":"IF($A333 = \"\", \"\", COUNTIFS(ToDoList!$B:$B, $A333, ToDoList!$R:$R, E$2))","v":""},{"$f":"IF($A333 = \"\", \"\", COUNTIFS(ToDoList!$B:$B, $A333, ToDoList!$R:$R, F$2))","v":""},{"$f":"IF($A333 = \"\", \"\", COUNTIFS(ToDoList!$B:$B, $A333, ToDoList!$R:$R, G$2))","v":""},{"$f":"IF($A333 = \"\", \"\", COUNTIFS(ToDoList!$B:$B, $A333, ToDoList!$R:$R, H$2))","v":""},{"$f":"IF($A333 = \"\", \"\", COUNTIFS(ToDoList!$B:$B, $A333, ToDoList!$R:$R, I$2))","v":""},{"$f":"IF($A333 = \"\", \"\", COUNTIFS(ToDoList!$B:$B, $A333, ToDoList!$R:$R, J$2))","v":""}]
[null,{"$f":"IF($A334 = \"\", \"\", COUNTIFS(ToDoList!$B:$B, $A334, ToDoList!$R:$R, B$2))","v":""},{"$f":"IF($A334 = \"\", \"\", COUNTIFS(ToDoList!$B:$B, $A334, ToDoList!$R:$R, C$2))","v":""},{"$f":"IF($A334 = \"\", \"\", COUNTIFS(ToDoList!$B:$B, $A334, ToDoList!$R:$R, D$2))","v":""},{"$f":"IF($A334 = \"\", \"\", COUNTIFS(ToDoList!$B:$B, $A334, ToDoList!$R:$R, E$2))","v":""},{"$f":"IF($A334 = \"\", \"\", COUNTIFS(ToDoList!$B:$B, $A334, ToDoList!$R:$R, F$2))","v":""},{"$f":"IF($A334 = \"\", \"\", COUNTIFS(ToDoList!$B:$B, $A334, ToDoList!$R:$R, G$2))","v":""},{"$f":"IF($A334 = \"\", \"\", COUNTIFS(ToDoList!$B:$B, $A334, ToDoList!$R:$R, H$2))","v":""},{"$f":"IF($A334 = \"\", \"\", COUNTIFS(ToDoList!$B:$B, $A334, ToDoList!$R:$R, I$2))","v":""},{"$f":"IF($A334 = \"\", \"\", COUNTIFS(ToDoList!$B:$B, $A334, ToDoList!$R:$R, J$2))","v":""}]
[null,{"$f":"IF($A335 = \"\", \"\", COUNTIFS(ToDoList!$B:$B, $A335, ToDoList!$R:$R, B$2))","v":""},{"$f":"IF($A335 = \"\", \"\", COUNTIFS(ToDoList!$B:$B, $A335, ToDoList!$R:$R, C$2))","v":""},{"$f":"IF($A335 = \"\", \"\", COUNTIFS(ToDoList!$B:$B, $A335, ToDoList!$R:$R, D$2))","v":""},{"$f":"IF($A335 = \"\", \"\", COUNTIFS(ToDoList!$B:$B, $A335, ToDoList!$R:$R, E$2))","v":""},{"$f":"IF($A335 = \"\", \"\", COUNTIFS(ToDoList!$B:$B, $A335, ToDoList!$R:$R, F$2))","v":""},{"$f":"IF($A335 = \"\", \"\", COUNTIFS(ToDoList!$B:$B, $A335, ToDoList!$R:$R, G$2))","v":""},{"$f":"IF($A335 = \"\", \"\", COUNTIFS(ToDoList!$B:$B, $A335, ToDoList!$R:$R, H$2))","v":""},{"$f":"IF($A335 = \"\", \"\", COUNTIFS(ToDoList!$B:$B, $A335, ToDoList!$R:$R, I$2))","v":""},{"$f":"IF($A335 = \"\", \"\", COUNTIFS(ToDoList!$B:$B, $A335, ToDoList!$R:$R, J$2))","v":""}]
[null,{"$f":"IF($A336 = \"\", \"\", COUNTIFS(ToDoList!$B:$B, $A336, ToDoList!$R:$R, B$2))","v":""},{"$f":"IF($A336 = \"\", \"\", COUNTIFS(ToDoList!$B:$B, $A336, ToDoList!$R:$R, C$2))","v":""},{"$f":"IF($A336 = \"\", \"\", COUNTIFS(ToDoList!$B:$B, $A336, ToDoList!$R:$R, D$2))","v":""},{"$f":"IF($A336 = \"\", \"\", COUNTIFS(ToDoList!$B:$B, $A336, ToDoList!$R:$R, E$2))","v":""},{"$f":"IF($A336 = \"\", \"\", COUNTIFS(ToDoList!$B:$B, $A336, ToDoList!$R:$R, F$2))","v":""},{"$f":"IF($A336 = \"\", \"\", COUNTIFS(ToDoList!$B:$B, $A336, ToDoList!$R:$R, G$2))","v":""},{"$f":"IF($A336 = \"\", \"\", COUNTIFS(ToDoList!$B:$B, $A336, ToDoList!$R:$R, H$2))","v":""},{"$f":"IF($A336 = \"\", \"\", COUNTIFS(ToDoList!$B:$B, $A336, ToDoList!$R:$R, I$2))","v":""},{"$f":"IF($A336 = \"\", \"\", COUNTIFS(ToDoList!$B:$B, $A336, ToDoList!$R:$R, J$2))","v":""}]
[null,{"$f":"IF($A337 = \"\", \"\", COUNTIFS(ToDoList!$B:$B, $A337, ToDoList!$R:$R, B$2))","v":""},{"$f":"IF($A337 = \"\", \"\", COUNTIFS(ToDoList!$B:$B, $A337, ToDoList!$R:$R, C$2))","v":""},{"$f":"IF($A337 = \"\", \"\", COUNTIFS(ToDoList!$B:$B, $A337, ToDoList!$R:$R, D$2))","v":""},{"$f":"IF($A337 = \"\", \"\", COUNTIFS(ToDoList!$B:$B, $A337, ToDoList!$R:$R, E$2))","v":""},{"$f":"IF($A337 = \"\", \"\", COUNTIFS(ToDoList!$B:$B, $A337, ToDoList!$R:$R, F$2))","v":""},{"$f":"IF($A337 = \"\", \"\", COUNTIFS(ToDoList!$B:$B, $A337, ToDoList!$R:$R, G$2))","v":""},{"$f":"IF($A337 = \"\", \"\", COUNTIFS(ToDoList!$B:$B, $A337, ToDoList!$R:$R, H$2))","v":""},{"$f":"IF($A337 = \"\", \"\", COUNTIFS(ToDoList!$B:$B, $A337, ToDoList!$R:$R, I$2))","v":""},{"$f":"IF($A337 = \"\", \"\", COUNTIFS(ToDoList!$B:$B, $A337, ToDoList!$R:$R, J$2))","v":""}]
[null,{"$f":"IF($A338 = \"\", \"\", COUNTIFS(ToDoList!$B:$B, $A338, ToDoList!$R:$R, B$2))","v":""},{"$f":"IF($A338 = \"\", \"\", COUNTIFS(ToDoList!$B:$B, $A338, ToDoList!$R:$R, C$2))","v":""},{"$f":"IF($A338 = \"\", \"\", COUNTIFS(ToDoList!$B:$B, $A338, ToDoList!$R:$R, D$2))","v":""},{"$f":"IF($A338 = \"\", \"\", COUNTIFS(ToDoList!$B:$B, $A338, ToDoList!$R:$R, E$2))","v":""},{"$f":"IF($A338 = \"\", \"\", COUNTIFS(ToDoList!$B:$B, $A338, ToDoList!$R:$R, F$2))","v":""},{"$f":"IF($A338 = \"\", \"\", COUNTIFS(ToDoList!$B:$B, $A338, ToDoList!$R:$R, G$2))","v":""},{"$f":"IF($A338 = \"\", \"\", COUNTIFS(ToDoList!$B:$B, $A338, ToDoList!$R:$R, H$2))","v":""},{"$f":"IF($A338 = \"\", \"\", COUNTIFS(ToDoList!$B:$B, $A338, ToDoList!$R:$R, I$2))","v":""},{"$f":"IF($A338 = \"\", \"\", COUNTIFS(ToDoList!$B:$B, $A338, ToDoList!$R:$R, J$2))","v":""}]
[null,{"$f":"IF($A339 = \"\", \"\", COUNTIFS(ToDoList!$B:$B, $A339, ToDoList!$R:$R, B$2))","v":""},{"$f":"IF($A339 = \"\", \"\", COUNTIFS(ToDoList!$B:$B, $A339, ToDoList!$R:$R, C$2))","v":""},{"$f":"IF($A339 = \"\", \"\", COUNTIFS(ToDoList!$B:$B, $A339, ToDoList!$R:$R, D$2))","v":""},{"$f":"IF($A339 = \"\", \"\", COUNTIFS(ToDoList!$B:$B, $A339, ToDoList!$R:$R, E$2))","v":""},{"$f":"IF($A339 = \"\", \"\", COUNTIFS(ToDoList!$B:$B, $A339, ToDoList!$R:$R, F$2))","v":""},{"$f":"IF($A339 = \"\", \"\", COUNTIFS(ToDoList!$B:$B, $A339, ToDoList!$R:$R, G$2))","v":""},{"$f":"IF($A339 = \"\", \"\", COUNTIFS(ToDoList!$B:$B, $A339, ToDoList!$R:$R, H$2))","v":""},{"$f":"IF($A339 = \"\", \"\", COUNTIFS(ToDoList!$B:$B, $A339, ToDoList!$R:$R, I$2))","v":""},{"$f":"IF($A339 = \"\", \"\", COUNTIFS(ToDoList!$B:$B, $A339, ToDoList!$R:$R, J$2))","v":""}]
[null,{"$f":"IF($A340 = \"\", \"\", COUNTIFS(ToDoList!$B:$B, $A340, ToDoList!$R:$R, B$2))","v":""},{"$f":"IF($A340 = \"\", \"\", COUNTIFS(ToDoList!$B:$B, $A340, ToDoList!$R:$R, C$2))","v":""},{"$f":"IF($A340 = \"\", \"\", COUNTIFS(ToDoList!$B:$B, $A340, ToDoList!$R:$R, D$2))","v":""},{"$f":"IF($A340 = \"\", \"\", COUNTIFS(ToDoList!$B:$B, $A340, ToDoList!$R:$R, E$2))","v":""},{"$f":"IF($A340 = \"\", \"\", COUNTIFS(ToDoList!$B:$B, $A340, ToDoList!$R:$R, F$2))","v":""},{"$f":"IF($A340 = \"\", \"\", COUNTIFS(ToDoList!$B:$B, $A340, ToDoList!$R:$R, G$2))","v":""},{"$f":"IF($A340 = \"\", \"\", COUNTIFS(ToDoList!$B:$B, $A340, ToDoList!$R:$R, H$2))","v":""},{"$f":"IF($A340 = \"\", \"\", COUNTIFS(ToDoList!$B:$B, $A340, ToDoList!$R:$R, I$2))","v":""},{"$f":"IF($A340 = \"\", \"\", COUNTIFS(ToDoList!$B:$B, $A340, ToDoList!$R:$R, J$2))","v":""}]
[null,{"$f":"IF($A341 = \"\", \"\", COUNTIFS(ToDoList!$B:$B, $A341, ToDoList!$R:$R, B$2))","v":""},{"$f":"IF($A341 = \"\", \"\", COUNTIFS(ToDoList!$B:$B, $A341, ToDoList!$R:$R, C$2))","v":""},{"$f":"IF($A341 = \"\", \"\", COUNTIFS(ToDoList!$B:$B, $A341, ToDoList!$R:$R, D$2))","v":""},{"$f":"IF($A341 = \"\", \"\", COUNTIFS(ToDoList!$B:$B, $A341, ToDoList!$R:$R, E$2))","v":""},{"$f":"IF($A341 = \"\", \"\", COUNTIFS(ToDoList!$B:$B, $A341, ToDoList!$R:$R, F$2))","v":""},{"$f":"IF($A341 = \"\", \"\", COUNTIFS(ToDoList!$B:$B, $A341, ToDoList!$R:$R, G$2))","v":""},{"$f":"IF($A341 = \"\", \"\", COUNTIFS(ToDoList!$B:$B, $A341, ToDoList!$R:$R, H$2))","v":""},{"$f":"IF($A341 = \"\", \"\", COUNTIFS(ToDoList!$B:$B, $A341, ToDoList!$R:$R, I$2))","v":""},{"$f":"IF($A341 = \"\", \"\", COUNTIFS(ToDoList!$B:$B, $A341, ToDoList!$R:$R, J$2))","v":""}]
[null,{"$f":"IF($A342 = \"\", \"\", COUNTIFS(ToDoList!$B:$B, $A342, ToDoList!$R:$R, B$2))","v":""},{"$f":"IF($A342 = \"\", \"\", COUNTIFS(ToDoList!$B:$B, $A342, ToDoList!$R:$R, C$2))","v":""},{"$f":"IF($A342 = \"\", \"\", COUNTIFS(ToDoList!$B:$B, $A342, ToDoList!$R:$R, D$2))","v":""},{"$f":"IF($A342 = \"\", \"\", COUNTIFS(ToDoList!$B:$B, $A342, ToDoList!$R:$R, E$2))","v":""},{"$f":"IF($A342 = \"\", \"\", COUNTIFS(ToDoList!$B:$B, $A342, ToDoList!$R:$R, F$2))","v":""},{"$f":"IF($A342 = \"\", \"\", COUNTIFS(ToDoList!$B:$B, $A342, ToDoList!$R:$R, G$2))","v":""},{"$f":"IF($A342 = \"\", \"\", COUNTIFS(ToDoList!$B:$B, $A342, ToDoList!$R:$R, H$2))","v":""},{"$f":"IF($A342 = \"\", \"\", COUNTIFS(ToDoList!$B:$B, $A342, ToDoList!$R:$R, I$2))","v":""},{"$f":"IF($A342 = \"\", \"\", COUNTIFS(ToDoList!$B:$B, $A342, ToDoList!$R:$R, J$2))","v":""}]
[null,{"$f":"IF($A343 = \"\", \"\", COUNTIFS(ToDoList!$B:$B, $A343, ToDoList!$R:$R, B$2))","v":""},{"$f":"IF($A343 = \"\", \"\", COUNTIFS(ToDoList!$B:$B, $A343, ToDoList!$R:$R, C$2))","v":""},{"$f":"IF($A343 = \"\", \"\", COUNTIFS(ToDoList!$B:$B, $A343, ToDoList!$R:$R, D$2))","v":""},{"$f":"IF($A343 = \"\", \"\", COUNTIFS(ToDoList!$B:$B, $A343, ToDoList!$R:$R, E$2))","v":""},{"$f":"IF($A343 = \"\", \"\", COUNTIFS(ToDoList!$B:$B, $A343, ToDoList!$R:$R, F$2))","v":""},{"$f":"IF($A343 = \"\", \"\", COUNTIFS(ToDoList!$B:$B, $A343, ToDoList!$R:$R, G$2))","v":""},{"$f":"IF($A343 = \"\", \"\", COUNTIFS(ToDoList!$B:$B, $A343, ToDoList!$R:$R, H$2))","v":""},{"$f":"IF($A343 = \"\", \"\", COUNTIFS(ToDoList!$B:$B, $A343, ToDoList!$R:$R, I$2))","v":""},{"$f":"IF($A343 = \"\", \"\", COUNTIFS(ToDoList!$B:$B, $A343, ToDoList!$R:$R, J$2))","v":""}]
[null,{"$f":"IF($A344 = \"\", \"\", COUNTIFS(ToDoList!$B:$B, $A344, ToDoList!$R:$R, B$2))","v":""},{"$f":"IF($A344 = \"\", \"\", COUNTIFS(ToDoList!$B:$B, $A344, ToDoList!$R:$R, C$2))","v":""},{"$f":"IF($A344 = \"\", \"\", COUNTIFS(ToDoList!$B:$B, $A344, ToDoList!$R:$R, D$2))","v":""},{"$f":"IF($A344 = \"\", \"\", COUNTIFS(ToDoList!$B:$B, $A344, ToDoList!$R:$R, E$2))","v":""},{"$f":"IF($A344 = \"\", \"\", COUNTIFS(ToDoList!$B:$B, $A344, ToDoList!$R:$R, F$2))","v":""},{"$f":"IF($A344 = \"\", \"\", COUNTIFS(ToDoList!$B:$B, $A344, ToDoList!$R:$R, G$2))","v":""},{"$f":"IF($A344 = \"\", \"\", COUNTIFS(ToDoList!$B:$B, $A344, ToDoList!$R:$R, H$2))","v":""},{"$f":"IF($A344 = \"\", \"\", COUNTIFS(ToDoList!$B:$B, $A344, ToDoList!$R:$R, I$2))","v":""},{"$f":"IF($A344 = \"\", \"\", COUNTIFS(ToDoList!$B:$B, $A344, ToDoList!$R:$R, J$2))","v":""}]
[null,{"$f":"IF($A345 = \"\", \"\", COUNTIFS(ToDoList!$B:$B, $A345, ToDoList!$R:$R, B$2))","v":""},{"$f":"IF($A345 = \"\", \"\", COUNTIFS(ToDoList!$B:$B, $A345, ToDoList!$R:$R, C$2))","v":""},{"$f":"IF($A345 = \"\", \"\", COUNTIFS(ToDoList!$B:$B, $A345, ToDoList!$R:$R, D$2))","v":""},{"$f":"IF($A345 = \"\", \"\", COUNTIFS(ToDoList!$B:$B, $A345, ToDoList!$R:$R, E$2))","v":""},{"$f":"IF($A345 = \"\", \"\", COUNTIFS(ToDoList!$B:$B, $A345, ToDoList!$R:$R, F$2))","v":""},{"$f":"IF($A345 = \"\", \"\", COUNTIFS(ToDoList!$B:$B, $A345, ToDoList!$R:$R, G$2))","v":""},{"$f":"IF($A345 = \"\", \"\", COUNTIFS(ToDoList!$B:$B, $A345, ToDoList!$R:$R, H$2))","v":""},{"$f":"IF($A345 = \"\", \"\", COUNTIFS(ToDoList!$B:$B, $A345, ToDoList!$R:$R, I$2))","v":""},{"$f":"IF($A345 = \"\", \"\", COUNTIFS(ToDoList!$B:$B, $A345, ToDoList!$R:$R, J$2))","v":""}]
[null,{"$f":"IF($A346 = \"\", \"\", COUNTIFS(ToDoList!$B:$B, $A346, ToDoList!$R:$R, B$2))","v":""},{"$f":"IF($A346 = \"\", \"\", COUNTIFS(ToDoList!$B:$B, $A346, ToDoList!$R:$R, C$2))","v":""},{"$f":"IF($A346 = \"\", \"\", COUNTIFS(ToDoList!$B:$B, $A346, ToDoList!$R:$R, D$2))","v":""},{"$f":"IF($A346 = \"\", \"\", COUNTIFS(ToDoList!$B:$B, $A346, ToDoList!$R:$R, E$2))","v":""},{"$f":"IF($A346 = \"\", \"\", COUNTIFS(ToDoList!$B:$B, $A346, ToDoList!$R:$R, F$2))","v":""},{"$f":"IF($A346 = \"\", \"\", COUNTIFS(ToDoList!$B:$B, $A346, ToDoList!$R:$R, G$2))","v":""},{"$f":"IF($A346 = \"\", \"\", COUNTIFS(ToDoList!$B:$B, $A346, ToDoList!$R:$R, H$2))","v":""},{"$f":"IF($A346 = \"\", \"\", COUNTIFS(ToDoList!$B:$B, $A346, ToDoList!$R:$R, I$2))","v":""},{"$f":"IF($A346 = \"\", \"\", COUNTIFS(ToDoList!$B:$B, $A346, ToDoList!$R:$R, J$2))","v":""}]
[null,{"$f":"IF($A347 = \"\", \"\", COUNTIFS(ToDoList!$B:$B, $A347, ToDoList!$R:$R, B$2))","v":""},{"$f":"IF($A347 = \"\", \"\", COUNTIFS(ToDoList!$B:$B, $A347, ToDoList!$R:$R, C$2))","v":""},{"$f":"IF($A347 = \"\", \"\", COUNTIFS(ToDoList!$B:$B, $A347, ToDoList!$R:$R, D$2))","v":""},{"$f":"IF($A347 = \"\", \"\", COUNTIFS(ToDoList!$B:$B, $A347, ToDoList!$R:$R, E$2))","v":""},{"$f":"IF($A347 = \"\", \"\", COUNTIFS(ToDoList!$B:$B, $A347, ToDoList!$R:$R, F$2))","v":""},{"$f":"IF($A347 = \"\", \"\", COUNTIFS(ToDoList!$B:$B, $A347, ToDoList!$R:$R, G$2))","v":""},{"$f":"IF($A347 = \"\", \"\", COUNTIFS(ToDoList!$B:$B, $A347, ToDoList!$R:$R, H$2))","v":""},{"$f":"IF($A347 = \"\", \"\", COUNTIFS(ToDoList!$B:$B, $A347, ToDoList!$R:$R, I$2))","v":""},{"$f":"IF($A347 = \"\", \"\", COUNTIFS(ToDoList!$B:$B, $A347, ToDoList!$R:$R, J$2))","v":""}]
[null,{"$f":"IF($A348 = \"\", \"\", COUNTIFS(ToDoList!$B:$B, $A348, ToDoList!$R:$R, B$2))","v":""},{"$f":"IF($A348 = \"\", \"\", COUNTIFS(ToDoList!$B:$B, $A348, ToDoList!$R:$R, C$2))","v":""},{"$f":"IF($A348 = \"\", \"\", COUNTIFS(ToDoList!$B:$B, $A348, ToDoList!$R:$R, D$2))","v":""},{"$f":"IF($A348 = \"\", \"\", COUNTIFS(ToDoList!$B:$B, $A348, ToDoList!$R:$R, E$2))","v":""},{"$f":"IF($A348 = \"\", \"\", COUNTIFS(ToDoList!$B:$B, $A348, ToDoList!$R:$R, F$2))","v":""},{"$f":"IF($A348 = \"\", \"\", COUNTIFS(ToDoList!$B:$B, $A348, ToDoList!$R:$R, G$2))","v":""},{"$f":"IF($A348 = \"\", \"\", COUNTIFS(ToDoList!$B:$B, $A348, ToDoList!$R:$R, H$2))","v":""},{"$f":"IF($A348 = \"\", \"\", COUNTIFS(ToDoList!$B:$B, $A348, ToDoList!$R:$R, I$2))","v":""},{"$f":"IF($A348 = \"\", \"\", COUNTIFS(ToDoList!$B:$B, $A348, ToDoList!$R:$R, J$2))","v":""}]
[null,{"$f":"IF($A349 = \"\", \"\", COUNTIFS(ToDoList!$B:$B, $A349, ToDoList!$R:$R, B$2))","v":""},{"$f":"IF($A349 = \"\", \"\", COUNTIFS(ToDoList!$B:$B, $A349, ToDoList!$R:$R, C$2))","v":""},{"$f":"IF($A349 = \"\", \"\", COUNTIFS(ToDoList!$B:$B, $A349, ToDoList!$R:$R, D$2))","v":""},{"$f":"IF($A349 = \"\", \"\", COUNTIFS(ToDoList!$B:$B, $A349, ToDoList!$R:$R, E$2))","v":""},{"$f":"IF($A349 = \"\", \"\", COUNTIFS(ToDoList!$B:$B, $A349, ToDoList!$R:$R, F$2))","v":""},{"$f":"IF($A349 = \"\", \"\", COUNTIFS(ToDoList!$B:$B, $A349, ToDoList!$R:$R, G$2))","v":""},{"$f":"IF($A349 = \"\", \"\", COUNTIFS(ToDoList!$B:$B, $A349, ToDoList!$R:$R, H$2))","v":""},{"$f":"IF($A349 = \"\", \"\", COUNTIFS(ToDoList!$B:$B, $A349, ToDoList!$R:$R, I$2))","v":""},{"$f":"IF($A349 = \"\", \"\", COUNTIFS(ToDoList!$B:$B, $A349, ToDoList!$R:$R, J$2))","v":""}]
[null,{"$f":"IF($A350 = \"\", \"\", COUNTIFS(ToDoList!$B:$B, $A350, ToDoList!$R:$R, B$2))","v":""},{"$f":"IF($A350 = \"\", \"\", COUNTIFS(ToDoList!$B:$B, $A350, ToDoList!$R:$R, C$2))","v":""},{"$f":"IF($A350 = \"\", \"\", COUNTIFS(ToDoList!$B:$B, $A350, ToDoList!$R:$R, D$2))","v":""},{"$f":"IF($A350 = \"\", \"\", COUNTIFS(ToDoList!$B:$B, $A350, ToDoList!$R:$R, E$2))","v":""},{"$f":"IF($A350 = \"\", \"\", COUNTIFS(ToDoList!$B:$B, $A350, ToDoList!$R:$R, F$2))","v":""},{"$f":"IF($A350 = \"\", \"\", COUNTIFS(ToDoList!$B:$B, $A350, ToDoList!$R:$R, G$2))","v":""},{"$f":"IF($A350 = \"\", \"\", COUNTIFS(ToDoList!$B:$B, $A350, ToDoList!$R:$R, H$2))","v":""},{"$f":"IF($A350 = \"\", \"\", COUNTIFS(ToDoList!$B:$B, $A350, ToDoList!$R:$R, I$2))","v":""},{"$f":"IF($A350 = \"\", \"\", COUNTIFS(ToDoList!$B:$B, $A350, ToDoList!$R:$R, J$2))","v":""}]
[null,{"$f":"IF($A351 = \"\", \"\", COUNTIFS(ToDoList!$B:$B, $A351, ToDoList!$R:$R, B$2))","v":""},{"$f":"IF($A351 = \"\", \"\", COUNTIFS(ToDoList!$B:$B, $A351, ToDoList!$R:$R, C$2))","v":""},{"$f":"IF($A351 = \"\", \"\", COUNTIFS(ToDoList!$B:$B, $A351, ToDoList!$R:$R, D$2))","v":""},{"$f":"IF($A351 = \"\", \"\", COUNTIFS(ToDoList!$B:$B, $A351, ToDoList!$R:$R, E$2))","v":""},{"$f":"IF($A351 = \"\", \"\", COUNTIFS(ToDoList!$B:$B, $A351, ToDoList!$R:$R, F$2))","v":""},{"$f":"IF($A351 = \"\", \"\", COUNTIFS(ToDoList!$B:$B, $A351, ToDoList!$R:$R, G$2))","v":""},{"$f":"IF($A351 = \"\", \"\", COUNTIFS(ToDoList!$B:$B, $A351, ToDoList!$R:$R, H$2))","v":""},{"$f":"IF($A351 = \"\", \"\", COUNTIFS(ToDoList!$B:$B, $A351, ToDoList!$R:$R, I$2))","v":""},{"$f":"IF($A351 = \"\", \"\", COUNTIFS(ToDoList!$B:$B, $A351, ToDoList!$R:$R, J$2))","v":""}]
[null,{"$f":"IF($A352 = \"\", \"\", COUNTIFS(ToDoList!$B:$B, $A352, ToDoList!$R:$R, B$2))","v":""},{"$f":"IF($A352 = \"\", \"\", COUNTIFS(ToDoList!$B:$B, $A352, ToDoList!$R:$R, C$2))","v":""},{"$f":"IF($A352 = \"\", \"\", COUNTIFS(ToDoList!$B:$B, $A352, ToDoList!$R:$R, D$2))","v":""},{"$f":"IF($A352 = \"\", \"\", COUNTIFS(ToDoList!$B:$B, $A352, ToDoList!$R:$R, E$2))","v":""},{"$f":"IF($A352 = \"\", \"\", COUNTIFS(ToDoList!$B:$B, $A352, ToDoList!$R:$R, F$2))","v":""},{"$f":"IF($A352 = \"\", \"\", COUNTIFS(ToDoList!$B:$B, $A352, ToDoList!$R:$R, G$2))","v":""},{"$f":"IF($A352 = \"\", \"\", COUNTIFS(ToDoList!$B:$B, $A352, ToDoList!$R:$R, H$2))","v":""},{"$f":"IF($A352 = \"\", \"\", COUNTIFS(ToDoList!$B:$B, $A352, ToDoList!$R:$R, I$2))","v":""},{"$f":"IF($A352 = \"\", \"\", COUNTIFS(ToDoList!$B:$B, $A352, ToDoList!$R:$R, J$2))","v":""}]
[null,{"$f":"IF($A353 = \"\", \"\", COUNTIFS(ToDoList!$B:$B, $A353, ToDoList!$R:$R, B$2))","v":""},{"$f":"IF($A353 = \"\", \"\", COUNTIFS(ToDoList!$B:$B, $A353, ToDoList!$R:$R, C$2))","v":""},{"$f":"IF($A353 = \"\", \"\", COUNTIFS(ToDoList!$B:$B, $A353, ToDoList!$R:$R, D$2))","v":""},{"$f":"IF($A353 = \"\", \"\", COUNTIFS(ToDoList!$B:$B, $A353, ToDoList!$R:$R, E$2))","v":""},{"$f":"IF($A353 = \"\", \"\", COUNTIFS(ToDoList!$B:$B, $A353, ToDoList!$R:$R, F$2))","v":""},{"$f":"IF($A353 = \"\", \"\", COUNTIFS(ToDoList!$B:$B, $A353, ToDoList!$R:$R, G$2))","v":""},{"$f":"IF($A353 = \"\", \"\", COUNTIFS(ToDoList!$B:$B, $A353, ToDoList!$R:$R, H$2))","v":""},{"$f":"IF($A353 = \"\", \"\", COUNTIFS(ToDoList!$B:$B, $A353, ToDoList!$R:$R, I$2))","v":""},{"$f":"IF($A353 = \"\", \"\", COUNTIFS(ToDoList!$B:$B, $A353, ToDoList!$R:$R, J$2))","v":""}]
[null,{"$f":"IF($A354 = \"\", \"\", COUNTIFS(ToDoList!$B:$B, $A354, ToDoList!$R:$R, B$2))","v":""},{"$f":"IF($A354 = \"\", \"\", COUNTIFS(ToDoList!$B:$B, $A354, ToDoList!$R:$R, C$2))","v":""},{"$f":"IF($A354 = \"\", \"\", COUNTIFS(ToDoList!$B:$B, $A354, ToDoList!$R:$R, D$2))","v":""},{"$f":"IF($A354 = \"\", \"\", COUNTIFS(ToDoList!$B:$B, $A354, ToDoList!$R:$R, E$2))","v":""},{"$f":"IF($A354 = \"\", \"\", COUNTIFS(ToDoList!$B:$B, $A354, ToDoList!$R:$R, F$2))","v":""},{"$f":"IF($A354 = \"\", \"\", COUNTIFS(ToDoList!$B:$B, $A354, ToDoList!$R:$R, G$2))","v":""},{"$f":"IF($A354 = \"\", \"\", COUNTIFS(ToDoList!$B:$B, $A354, ToDoList!$R:$R, H$2))","v":""},{"$f":"IF($A354 = \"\", \"\", COUNTIFS(ToDoList!$B:$B, $A354, ToDoList!$R:$R, I$2))","v":""},{"$f":"IF($A354 = \"\", \"\", COUNTIFS(ToDoList!$B:$B, $A354, ToDoList!$R:$R, J$2))","v":""}]
[null,{"$f":"IF($A355 = \"\", \"\", COUNTIFS(ToDoList!$B:$B, $A355, ToDoList!$R:$R, B$2))","v":""},{"$f":"IF($A355 = \"\", \"\", COUNTIFS(ToDoList!$B:$B, $A355, ToDoList!$R:$R, C$2))","v":""},{"$f":"IF($A355 = \"\", \"\", COUNTIFS(ToDoList!$B:$B, $A355, ToDoList!$R:$R, D$2))","v":""},{"$f":"IF($A355 = \"\", \"\", COUNTIFS(ToDoList!$B:$B, $A355, ToDoList!$R:$R, E$2))","v":""},{"$f":"IF($A355 = \"\", \"\", COUNTIFS(ToDoList!$B:$B, $A355, ToDoList!$R:$R, F$2))","v":""},{"$f":"IF($A355 = \"\", \"\", COUNTIFS(ToDoList!$B:$B, $A355, ToDoList!$R:$R, G$2))","v":""},{"$f":"IF($A355 = \"\", \"\", COUNTIFS(ToDoList!$B:$B, $A355, ToDoList!$R:$R, H$2))","v":""},{"$f":"IF($A355 = \"\", \"\", COUNTIFS(ToDoList!$B:$B, $A355, ToDoList!$R:$R, I$2))","v":""},{"$f":"IF($A355 = \"\", \"\", COUNTIFS(ToDoList!$B:$B, $A355, ToDoList!$R:$R, J$2))","v":""}]
[null,{"$f":"IF($A356 = \"\", \"\", COUNTIFS(ToDoList!$B:$B, $A356, ToDoList!$R:$R, B$2))","v":""},{"$f":"IF($A356 = \"\", \"\", COUNTIFS(ToDoList!$B:$B, $A356, ToDoList!$R:$R, C$2))","v":""},{"$f":"IF($A356 = \"\", \"\", COUNTIFS(ToDoList!$B:$B, $A356, ToDoList!$R:$R, D$2))","v":""},{"$f":"IF($A356 = \"\", \"\", COUNTIFS(ToDoList!$B:$B, $A356, ToDoList!$R:$R, E$2))","v":""},{"$f":"IF($A356 = \"\", \"\", COUNTIFS(ToDoList!$B:$B, $A356, ToDoList!$R:$R, F$2))","v":""},{"$f":"IF($A356 = \"\", \"\", COUNTIFS(ToDoList!$B:$B, $A356, ToDoList!$R:$R, G$2))","v":""},{"$f":"IF($A356 = \"\", \"\", COUNTIFS(ToDoList!$B:$B, $A356, ToDoList!$R:$R, H$2))","v":""},{"$f":"IF($A356 = \"\", \"\", COUNTIFS(ToDoList!$B:$B, $A356, ToDoList!$R:$R, I$2))","v":""},{"$f":"IF($A356 = \"\", \"\", COUNTIFS(ToDoList!$B:$B, $A356, ToDoList!$R:$R, J$2))","v":""}]
[null,{"$f":"IF($A357 = \"\", \"\", COUNTIFS(ToDoList!$B:$B, $A357, ToDoList!$R:$R, B$2))","v":""},{"$f":"IF($A357 = \"\", \"\", COUNTIFS(ToDoList!$B:$B, $A357, ToDoList!$R:$R, C$2))","v":""},{"$f":"IF($A357 = \"\", \"\", COUNTIFS(ToDoList!$B:$B, $A357, ToDoList!$R:$R, D$2))","v":""},{"$f":"IF($A357 = \"\", \"\", COUNTIFS(ToDoList!$B:$B, $A357, ToDoList!$R:$R, E$2))","v":""},{"$f":"IF($A357 = \"\", \"\", COUNTIFS(ToDoList!$B:$B, $A357, ToDoList!$R:$R, F$2))","v":""},{"$f":"IF($A357 = \"\", \"\", COUNTIFS(ToDoList!$B:$B, $A357, ToDoList!$R:$R, G$2))","v":""},{"$f":"IF($A357 = \"\", \"\", COUNTIFS(ToDoList!$B:$B, $A357, ToDoList!$R:$R, H$2))","v":""},{"$f":"IF($A357 = \"\", \"\", COUNTIFS(ToDoList!$B:$B, $A357, ToDoList!$R:$R, I$2))","v":""},{"$f":"IF($A357 = \"\", \"\", COUNTIFS(ToDoList!$B:$B, $A357, ToDoList!$R:$R, J$2))","v":""}]
[null,{"$f":"IF($A358 = \"\", \"\", COUNTIFS(ToDoList!$B:$B, $A358, ToDoList!$R:$R, B$2))","v":""},{"$f":"IF($A358 = \"\", \"\", COUNTIFS(ToDoList!$B:$B, $A358, ToDoList!$R:$R, C$2))","v":""},{"$f":"IF($A358 = \"\", \"\", COUNTIFS(ToDoList!$B:$B, $A358, ToDoList!$R:$R, D$2))","v":""},{"$f":"IF($A358 = \"\", \"\", COUNTIFS(ToDoList!$B:$B, $A358, ToDoList!$R:$R, E$2))","v":""},{"$f":"IF($A358 = \"\", \"\", COUNTIFS(ToDoList!$B:$B, $A358, ToDoList!$R:$R, F$2))","v":""},{"$f":"IF($A358 = \"\", \"\", COUNTIFS(ToDoList!$B:$B, $A358, ToDoList!$R:$R, G$2))","v":""},{"$f":"IF($A358 = \"\", \"\", COUNTIFS(ToDoList!$B:$B, $A358, ToDoList!$R:$R, H$2))","v":""},{"$f":"IF($A358 = \"\", \"\", COUNTIFS(ToDoList!$B:$B, $A358, ToDoList!$R:$R, I$2))","v":""},{"$f":"IF($A358 = \"\", \"\", COUNTIFS(ToDoList!$B:$B, $A358, ToDoList!$R:$R, J$2))","v":""}]
[null,{"$f":"IF($A359 = \"\", \"\", COUNTIFS(ToDoList!$B:$B, $A359, ToDoList!$R:$R, B$2))","v":""},{"$f":"IF($A359 = \"\", \"\", COUNTIFS(ToDoList!$B:$B, $A359, ToDoList!$R:$R, C$2))","v":""},{"$f":"IF($A359 = \"\", \"\", COUNTIFS(ToDoList!$B:$B, $A359, ToDoList!$R:$R, D$2))","v":""},{"$f":"IF($A359 = \"\", \"\", COUNTIFS(ToDoList!$B:$B, $A359, ToDoList!$R:$R, E$2))","v":""},{"$f":"IF($A359 = \"\", \"\", COUNTIFS(ToDoList!$B:$B, $A359, ToDoList!$R:$R, F$2))","v":""},{"$f":"IF($A359 = \"\", \"\", COUNTIFS(ToDoList!$B:$B, $A359, ToDoList!$R:$R, G$2))","v":""},{"$f":"IF($A359 = \"\", \"\", COUNTIFS(ToDoList!$B:$B, $A359, ToDoList!$R:$R, H$2))","v":""},{"$f":"IF($A359 = \"\", \"\", COUNTIFS(ToDoList!$B:$B, $A359, ToDoList!$R:$R, I$2))","v":""},{"$f":"IF($A359 = \"\", \"\", COUNTIFS(ToDoList!$B:$B, $A359, ToDoList!$R:$R, J$2))","v":""}]
[null,{"$f":"IF($A360 = \"\", \"\", COUNTIFS(ToDoList!$B:$B, $A360, ToDoList!$R:$R, B$2))","v":""},{"$f":"IF($A360 = \"\", \"\", COUNTIFS(ToDoList!$B:$B, $A360, ToDoList!$R:$R, C$2))","v":""},{"$f":"IF($A360 = \"\", \"\", COUNTIFS(ToDoList!$B:$B, $A360, ToDoList!$R:$R, D$2))","v":""},{"$f":"IF($A360 = \"\", \"\", COUNTIFS(ToDoList!$B:$B, $A360, ToDoList!$R:$R, E$2))","v":""},{"$f":"IF($A360 = \"\", \"\", COUNTIFS(ToDoList!$B:$B, $A360, ToDoList!$R:$R, F$2))","v":""},{"$f":"IF($A360 = \"\", \"\", COUNTIFS(ToDoList!$B:$B, $A360, ToDoList!$R:$R, G$2))","v":""},{"$f":"IF($A360 = \"\", \"\", COUNTIFS(ToDoList!$B:$B, $A360, ToDoList!$R:$R, H$2))","v":""},{"$f":"IF($A360 = \"\", \"\", COUNTIFS(ToDoList!$B:$B, $A360, ToDoList!$R:$R, I$2))","v":""},{"$f":"IF($A360 = \"\", \"\", COUNTIFS(ToDoList!$B:$B, $A360, ToDoList!$R:$R, J$2))","v":""}]
[null,{"$f":"IF($A361 = \"\", \"\", COUNTIFS(ToDoList!$B:$B, $A361, ToDoList!$R:$R, B$2))","v":""},{"$f":"IF($A361 = \"\", \"\", COUNTIFS(ToDoList!$B:$B, $A361, ToDoList!$R:$R, C$2))","v":""},{"$f":"IF($A361 = \"\", \"\", COUNTIFS(ToDoList!$B:$B, $A361, ToDoList!$R:$R, D$2))","v":""},{"$f":"IF($A361 = \"\", \"\", COUNTIFS(ToDoList!$B:$B, $A361, ToDoList!$R:$R, E$2))","v":""},{"$f":"IF($A361 = \"\", \"\", COUNTIFS(ToDoList!$B:$B, $A361, ToDoList!$R:$R, F$2))","v":""},{"$f":"IF($A361 = \"\", \"\", COUNTIFS(ToDoList!$B:$B, $A361, ToDoList!$R:$R, G$2))","v":""},{"$f":"IF($A361 = \"\", \"\", COUNTIFS(ToDoList!$B:$B, $A361, ToDoList!$R:$R, H$2))","v":""},{"$f":"IF($A361 = \"\", \"\", COUNTIFS(ToDoList!$B:$B, $A361, ToDoList!$R:$R, I$2))","v":""},{"$f":"IF($A361 = \"\", \"\", COUNTIFS(ToDoList!$B:$B, $A361, ToDoList!$R:$R, J$2))","v":""}]
[null,{"$f":"IF($A362 = \"\", \"\", COUNTIFS(ToDoList!$B:$B, $A362, ToDoList!$R:$R, B$2))","v":""},{"$f":"IF($A362 = \"\", \"\", COUNTIFS(ToDoList!$B:$B, $A362, ToDoList!$R:$R, C$2))","v":""},{"$f":"IF($A362 = \"\", \"\", COUNTIFS(ToDoList!$B:$B, $A362, ToDoList!$R:$R, D$2))","v":""},{"$f":"IF($A362 = \"\", \"\", COUNTIFS(ToDoList!$B:$B, $A362, ToDoList!$R:$R, E$2))","v":""},{"$f":"IF($A362 = \"\", \"\", COUNTIFS(ToDoList!$B:$B, $A362, ToDoList!$R:$R, F$2))","v":""},{"$f":"IF($A362 = \"\", \"\", COUNTIFS(ToDoList!$B:$B, $A362, ToDoList!$R:$R, G$2))","v":""},{"$f":"IF($A362 = \"\", \"\", COUNTIFS(ToDoList!$B:$B, $A362, ToDoList!$R:$R, H$2))","v":""},{"$f":"IF($A362 = \"\", \"\", COUNTIFS(ToDoList!$B:$B, $A362, ToDoList!$R:$R, I$2))","v":""},{"$f":"IF($A362 = \"\", \"\", COUNTIFS(ToDoList!$B:$B, $A362, ToDoList!$R:$R, J$2))","v":""}]
[null,{"$f":"IF($A363 = \"\", \"\", COUNTIFS(ToDoList!$B:$B, $A363, ToDoList!$R:$R, B$2))","v":""},{"$f":"IF($A363 = \"\", \"\", COUNTIFS(ToDoList!$B:$B, $A363, ToDoList!$R:$R, C$2))","v":""},{"$f":"IF($A363 = \"\", \"\", COUNTIFS(ToDoList!$B:$B, $A363, ToDoList!$R:$R, D$2))","v":""},{"$f":"IF($A363 = \"\", \"\", COUNTIFS(ToDoList!$B:$B, $A363, ToDoList!$R:$R, E$2))","v":""},{"$f":"IF($A363 = \"\", \"\", COUNTIFS(ToDoList!$B:$B, $A363, ToDoList!$R:$R, F$2))","v":""},{"$f":"IF($A363 = \"\", \"\", COUNTIFS(ToDoList!$B:$B, $A363, ToDoList!$R:$R, G$2))","v":""},{"$f":"IF($A363 = \"\", \"\", COUNTIFS(ToDoList!$B:$B, $A363, ToDoList!$R:$R, H$2))","v":""},{"$f":"IF($A363 = \"\", \"\", COUNTIFS(ToDoList!$B:$B, $A363, ToDoList!$R:$R, I$2))","v":""},{"$f":"IF($A363 = \"\", \"\", COUNTIFS(ToDoList!$B:$B, $A363, ToDoList!$R:$R, J$2))","v":""}]
[null,{"$f":"IF($A364 = \"\", \"\", COUNTIFS(ToDoList!$B:$B, $A364, ToDoList!$R:$R, B$2))","v":""},{"$f":"IF($A364 = \"\", \"\", COUNTIFS(ToDoList!$B:$B, $A364, ToDoList!$R:$R, C$2))","v":""},{"$f":"IF($A364 = \"\", \"\", COUNTIFS(ToDoList!$B:$B, $A364, ToDoList!$R:$R, D$2))","v":""},{"$f":"IF($A364 = \"\", \"\", COUNTIFS(ToDoList!$B:$B, $A364, ToDoList!$R:$R, E$2))","v":""},{"$f":"IF($A364 = \"\", \"\", COUNTIFS(ToDoList!$B:$B, $A364, ToDoList!$R:$R, F$2))","v":""},{"$f":"IF($A364 = \"\", \"\", COUNTIFS(ToDoList!$B:$B, $A364, ToDoList!$R:$R, G$2))","v":""},{"$f":"IF($A364 = \"\", \"\", COUNTIFS(ToDoList!$B:$B, $A364, ToDoList!$R:$R, H$2))","v":""},{"$f":"IF($A364 = \"\", \"\", COUNTIFS(ToDoList!$B:$B, $A364, ToDoList!$R:$R, I$2))","v":""},{"$f":"IF($A364 = \"\", \"\", COUNTIFS(ToDoList!$B:$B, $A364, ToDoList!$R:$R, J$2))","v":""}]
[null,{"$f":"IF($A365 = \"\", \"\", COUNTIFS(ToDoList!$B:$B, $A365, ToDoList!$R:$R, B$2))","v":""},{"$f":"IF($A365 = \"\", \"\", COUNTIFS(ToDoList!$B:$B, $A365, ToDoList!$R:$R, C$2))","v":""},{"$f":"IF($A365 = \"\", \"\", COUNTIFS(ToDoList!$B:$B, $A365, ToDoList!$R:$R, D$2))","v":""},{"$f":"IF($A365 = \"\", \"\", COUNTIFS(ToDoList!$B:$B, $A365, ToDoList!$R:$R, E$2))","v":""},{"$f":"IF($A365 = \"\", \"\", COUNTIFS(ToDoList!$B:$B, $A365, ToDoList!$R:$R, F$2))","v":""},{"$f":"IF($A365 = \"\", \"\", COUNTIFS(ToDoList!$B:$B, $A365, ToDoList!$R:$R, G$2))","v":""},{"$f":"IF($A365 = \"\", \"\", COUNTIFS(ToDoList!$B:$B, $A365, ToDoList!$R:$R, H$2))","v":""},{"$f":"IF($A365 = \"\", \"\", COUNTIFS(ToDoList!$B:$B, $A365, ToDoList!$R:$R, I$2))","v":""},{"$f":"IF($A365 = \"\", \"\", COUNTIFS(ToDoList!$B:$B, $A365, ToDoList!$R:$R, J$2))","v":""}]
[null,{"$f":"IF($A366 = \"\", \"\", COUNTIFS(ToDoList!$B:$B, $A366, ToDoList!$R:$R, B$2))","v":""},{"$f":"IF($A366 = \"\", \"\", COUNTIFS(ToDoList!$B:$B, $A366, ToDoList!$R:$R, C$2))","v":""},{"$f":"IF($A366 = \"\", \"\", COUNTIFS(ToDoList!$B:$B, $A366, ToDoList!$R:$R, D$2))","v":""},{"$f":"IF($A366 = \"\", \"\", COUNTIFS(ToDoList!$B:$B, $A366, ToDoList!$R:$R, E$2))","v":""},{"$f":"IF($A366 = \"\", \"\", COUNTIFS(ToDoList!$B:$B, $A366, ToDoList!$R:$R, F$2))","v":""},{"$f":"IF($A366 = \"\", \"\", COUNTIFS(ToDoList!$B:$B, $A366, ToDoList!$R:$R, G$2))","v":""},{"$f":"IF($A366 = \"\", \"\", COUNTIFS(ToDoList!$B:$B, $A366, ToDoList!$R:$R, H$2))","v":""},{"$f":"IF($A366 = \"\", \"\", COUNTIFS(ToDoList!$B:$B, $A366, ToDoList!$R:$R, I$2))","v":""},{"$f":"IF($A366 = \"\", \"\", COUNTIFS(ToDoList!$B:$B, $A366, ToDoList!$R:$R, J$2))","v":""}]
[null,{"$f":"IF($A367 = \"\", \"\", COUNTIFS(ToDoList!$B:$B, $A367, ToDoList!$R:$R, B$2))","v":""},{"$f":"IF($A367 = \"\", \"\", COUNTIFS(ToDoList!$B:$B, $A367, ToDoList!$R:$R, C$2))","v":""},{"$f":"IF($A367 = \"\", \"\", COUNTIFS(ToDoList!$B:$B, $A367, ToDoList!$R:$R, D$2))","v":""},{"$f":"IF($A367 = \"\", \"\", COUNTIFS(ToDoList!$B:$B, $A367, ToDoList!$R:$R, E$2))","v":""},{"$f":"IF($A367 = \"\", \"\", COUNTIFS(ToDoList!$B:$B, $A367, ToDoList!$R:$R, F$2))","v":""},{"$f":"IF($A367 = \"\", \"\", COUNTIFS(ToDoList!$B:$B, $A367, ToDoList!$R:$R, G$2))","v":""},{"$f":"IF($A367 = \"\", \"\", COUNTIFS(ToDoList!$B:$B, $A367, ToDoList!$R:$R, H$2))","v":""},{"$f":"IF($A367 = \"\", \"\", COUNTIFS(ToDoList!$B:$B, $A367, ToDoList!$R:$R, I$2))","v":""},{"$f":"IF($A367 = \"\", \"\", COUNTIFS(ToDoList!$B:$B, $A367, ToDoList!$R:$R, J$2))","v":""}]
[null,{"$f":"IF($A368 = \"\", \"\", COUNTIFS(ToDoList!$B:$B, $A368, ToDoList!$R:$R, B$2))","v":""},{"$f":"IF($A368 = \"\", \"\", COUNTIFS(ToDoList!$B:$B, $A368, ToDoList!$R:$R, C$2))","v":""},{"$f":"IF($A368 = \"\", \"\", COUNTIFS(ToDoList!$B:$B, $A368, ToDoList!$R:$R, D$2))","v":""},{"$f":"IF($A368 = \"\", \"\", COUNTIFS(ToDoList!$B:$B, $A368, ToDoList!$R:$R, E$2))","v":""},{"$f":"IF($A368 = \"\", \"\", COUNTIFS(ToDoList!$B:$B, $A368, ToDoList!$R:$R, F$2))","v":""},{"$f":"IF($A368 = \"\", \"\", COUNTIFS(ToDoList!$B:$B, $A368, ToDoList!$R:$R, G$2))","v":""},{"$f":"IF($A368 = \"\", \"\", COUNTIFS(ToDoList!$B:$B, $A368, ToDoList!$R:$R, H$2))","v":""},{"$f":"IF($A368 = \"\", \"\", COUNTIFS(ToDoList!$B:$B, $A368, ToDoList!$R:$R, I$2))","v":""},{"$f":"IF($A368 = \"\", \"\", COUNTIFS(ToDoList!$B:$B, $A368, ToDoList!$R:$R, J$2))","v":""}]
[null,{"$f":"IF($A369 = \"\", \"\", COUNTIFS(ToDoList!$B:$B, $A369, ToDoList!$R:$R, B$2))","v":""},{"$f":"IF($A369 = \"\", \"\", COUNTIFS(ToDoList!$B:$B, $A369, ToDoList!$R:$R, C$2))","v":""},{"$f":"IF($A369 = \"\", \"\", COUNTIFS(ToDoList!$B:$B, $A369, ToDoList!$R:$R, D$2))","v":""},{"$f":"IF($A369 = \"\", \"\", COUNTIFS(ToDoList!$B:$B, $A369, ToDoList!$R:$R, E$2))","v":""},{"$f":"IF($A369 = \"\", \"\", COUNTIFS(ToDoList!$B:$B, $A369, ToDoList!$R:$R, F$2))","v":""},{"$f":"IF($A369 = \"\", \"\", COUNTIFS(ToDoList!$B:$B, $A369, ToDoList!$R:$R, G$2))","v":""},{"$f":"IF($A369 = \"\", \"\", COUNTIFS(ToDoList!$B:$B, $A369, ToDoList!$R:$R, H$2))","v":""},{"$f":"IF($A369 = \"\", \"\", COUNTIFS(ToDoList!$B:$B, $A369, ToDoList!$R:$R, I$2))","v":""},{"$f":"IF($A369 = \"\", \"\", COUNTIFS(ToDoList!$B:$B, $A369, ToDoList!$R:$R, J$2))","v":""}]
[null,{"$f":"IF($A370 = \"\", \"\", COUNTIFS(ToDoList!$B:$B, $A370, ToDoList!$R:$R, B$2))","v":""},{"$f":"IF($A370 = \"\", \"\", COUNTIFS(ToDoList!$B:$B, $A370, ToDoList!$R:$R, C$2))","v":""},{"$f":"IF($A370 = \"\", \"\", COUNTIFS(ToDoList!$B:$B, $A370, ToDoList!$R:$R, D$2))","v":""},{"$f":"IF($A370 = \"\", \"\", COUNTIFS(ToDoList!$B:$B, $A370, ToDoList!$R:$R, E$2))","v":""},{"$f":"IF($A370 = \"\", \"\", COUNTIFS(ToDoList!$B:$B, $A370, ToDoList!$R:$R, F$2))","v":""},{"$f":"IF($A370 = \"\", \"\", COUNTIFS(ToDoList!$B:$B, $A370, ToDoList!$R:$R, G$2))","v":""},{"$f":"IF($A370 = \"\", \"\", COUNTIFS(ToDoList!$B:$B, $A370, ToDoList!$R:$R, H$2))","v":""},{"$f":"IF($A370 = \"\", \"\", COUNTIFS(ToDoList!$B:$B, $A370, ToDoList!$R:$R, I$2))","v":""},{"$f":"IF($A370 = \"\", \"\", COUNTIFS(ToDoList!$B:$B, $A370, ToDoList!$R:$R, J$2))","v":""}]
[null,{"$f":"IF($A371 = \"\", \"\", COUNTIFS(ToDoList!$B:$B, $A371, ToDoList!$R:$R, B$2))","v":""},{"$f":"IF($A371 = \"\", \"\", COUNTIFS(ToDoList!$B:$B, $A371, ToDoList!$R:$R, C$2))","v":""},{"$f":"IF($A371 = \"\", \"\", COUNTIFS(ToDoList!$B:$B, $A371, ToDoList!$R:$R, D$2))","v":""},{"$f":"IF($A371 = \"\", \"\", COUNTIFS(ToDoList!$B:$B, $A371, ToDoList!$R:$R, E$2))","v":""},{"$f":"IF($A371 = \"\", \"\", COUNTIFS(ToDoList!$B:$B, $A371, ToDoList!$R:$R, F$2))","v":""},{"$f":"IF($A371 = \"\", \"\", COUNTIFS(ToDoList!$B:$B, $A371, ToDoList!$R:$R, G$2))","v":""},{"$f":"IF($A371 = \"\", \"\", COUNTIFS(ToDoList!$B:$B, $A371, ToDoList!$R:$R, H$2))","v":""},{"$f":"IF($A371 = \"\", \"\", COUNTIFS(ToDoList!$B:$B, $A371, ToDoList!$R:$R, I$2))","v":""},{"$f":"IF($A371 = \"\", \"\", COUNTIFS(ToDoList!$B:$B, $A371, ToDoList!$R:$R, J$2))","v":""}]
[null,{"$f":"IF($A372 = \"\", \"\", COUNTIFS(ToDoList!$B:$B, $A372, ToDoList!$R:$R, B$2))","v":""},{"$f":"IF($A372 = \"\", \"\", COUNTIFS(ToDoList!$B:$B, $A372, ToDoList!$R:$R, C$2))","v":""},{"$f":"IF($A372 = \"\", \"\", COUNTIFS(ToDoList!$B:$B, $A372, ToDoList!$R:$R, D$2))","v":""},{"$f":"IF($A372 = \"\", \"\", COUNTIFS(ToDoList!$B:$B, $A372, ToDoList!$R:$R, E$2))","v":""},{"$f":"IF($A372 = \"\", \"\", COUNTIFS(ToDoList!$B:$B, $A372, ToDoList!$R:$R, F$2))","v":""},{"$f":"IF($A372 = \"\", \"\", COUNTIFS(ToDoList!$B:$B, $A372, ToDoList!$R:$R, G$2))","v":""},{"$f":"IF($A372 = \"\", \"\", COUNTIFS(ToDoList!$B:$B, $A372, ToDoList!$R:$R, H$2))","v":""},{"$f":"IF($A372 = \"\", \"\", COUNTIFS(ToDoList!$B:$B, $A372, ToDoList!$R:$R, I$2))","v":""},{"$f":"IF($A372 = \"\", \"\", COUNTIFS(ToDoList!$B:$B, $A372, ToDoList!$R:$R, J$2))","v":""}]
[null,{"$f":"IF($A373 = \"\", \"\", COUNTIFS(ToDoList!$B:$B, $A373, ToDoList!$R:$R, B$2))","v":""},{"$f":"IF($A373 = \"\", \"\", COUNTIFS(ToDoList!$B:$B, $A373, ToDoList!$R:$R, C$2))","v":""},{"$f":"IF($A373 = \"\", \"\", COUNTIFS(ToDoList!$B:$B, $A373, ToDoList!$R:$R, D$2))","v":""},{"$f":"IF($A373 = \"\", \"\", COUNTIFS(ToDoList!$B:$B, $A373, ToDoList!$R:$R, E$2))","v":""},{"$f":"IF($A373 = \"\", \"\", COUNTIFS(ToDoList!$B:$B, $A373, ToDoList!$R:$R, F$2))","v":""},{"$f":"IF($A373 = \"\", \"\", COUNTIFS(ToDoList!$B:$B, $A373, ToDoList!$R:$R, G$2))","v":""},{"$f":"IF($A373 = \"\", \"\", COUNTIFS(ToDoList!$B:$B, $A373, ToDoList!$R:$R, H$2))","v":""},{"$f":"IF($A373 = \"\", \"\", COUNTIFS(ToDoList!$B:$B, $A373, ToDoList!$R:$R, I$2))","v":""},{"$f":"IF($A373 = \"\", \"\", COUNTIFS(ToDoList!$B:$B, $A373, ToDoList!$R:$R, J$2))","v":""}]
[null,{"$f":"IF($A374 = \"\", \"\", COUNTIFS(ToDoList!$B:$B, $A374, ToDoList!$R:$R, B$2))","v":""},{"$f":"IF($A374 = \"\", \"\", COUNTIFS(ToDoList!$B:$B, $A374, ToDoList!$R:$R, C$2))","v":""},{"$f":"IF($A374 = \"\", \"\", COUNTIFS(ToDoList!$B:$B, $A374, ToDoList!$R:$R, D$2))","v":""},{"$f":"IF($A374 = \"\", \"\", COUNTIFS(ToDoList!$B:$B, $A374, ToDoList!$R:$R, E$2))","v":""},{"$f":"IF($A374 = \"\", \"\", COUNTIFS(ToDoList!$B:$B, $A374, ToDoList!$R:$R, F$2))","v":""},{"$f":"IF($A374 = \"\", \"\", COUNTIFS(ToDoList!$B:$B, $A374, ToDoList!$R:$R, G$2))","v":""},{"$f":"IF($A374 = \"\", \"\", COUNTIFS(ToDoList!$B:$B, $A374, ToDoList!$R:$R, H$2))","v":""},{"$f":"IF($A374 = \"\", \"\", COUNTIFS(ToDoList!$B:$B, $A374, ToDoList!$R:$R, I$2))","v":""},{"$f":"IF($A374 = \"\", \"\", COUNTIFS(ToDoList!$B:$B, $A374, ToDoList!$R:$R, J$2))","v":""}]
[null,{"$f":"IF($A375 = \"\", \"\", COUNTIFS(ToDoList!$B:$B, $A375, ToDoList!$R:$R, B$2))","v":""},{"$f":"IF($A375 = \"\", \"\", COUNTIFS(ToDoList!$B:$B, $A375, ToDoList!$R:$R, C$2))","v":""},{"$f":"IF($A375 = \"\", \"\", COUNTIFS(ToDoList!$B:$B, $A375, ToDoList!$R:$R, D$2))","v":""},{"$f":"IF($A375 = \"\", \"\", COUNTIFS(ToDoList!$B:$B, $A375, ToDoList!$R:$R, E$2))","v":""},{"$f":"IF($A375 = \"\", \"\", COUNTIFS(ToDoList!$B:$B, $A375, ToDoList!$R:$R, F$2))","v":""},{"$f":"IF($A375 = \"\", \"\", COUNTIFS(ToDoList!$B:$B, $A375, ToDoList!$R:$R, G$2))","v":""},{"$f":"IF($A375 = \"\", \"\", COUNTIFS(ToDoList!$B:$B, $A375, ToDoList!$R:$R, H$2))","v":""},{"$f":"IF($A375 = \"\", \"\", COUNTIFS(ToDoList!$B:$B, $A375, ToDoList!$R:$R, I$2))","v":""},{"$f":"IF($A375 = \"\", \"\", COUNTIFS(ToDoList!$B:$B, $A375, ToDoList!$R:$R, J$2))","v":""}]
[null,{"$f":"IF($A376 = \"\", \"\", COUNTIFS(ToDoList!$B:$B, $A376, ToDoList!$R:$R, B$2))","v":""},{"$f":"IF($A376 = \"\", \"\", COUNTIFS(ToDoList!$B:$B, $A376, ToDoList!$R:$R, C$2))","v":""},{"$f":"IF($A376 = \"\", \"\", COUNTIFS(ToDoList!$B:$B, $A376, ToDoList!$R:$R, D$2))","v":""},{"$f":"IF($A376 = \"\", \"\", COUNTIFS(ToDoList!$B:$B, $A376, ToDoList!$R:$R, E$2))","v":""},{"$f":"IF($A376 = \"\", \"\", COUNTIFS(ToDoList!$B:$B, $A376, ToDoList!$R:$R, F$2))","v":""},{"$f":"IF($A376 = \"\", \"\", COUNTIFS(ToDoList!$B:$B, $A376, ToDoList!$R:$R, G$2))","v":""},{"$f":"IF($A376 = \"\", \"\", COUNTIFS(ToDoList!$B:$B, $A376, ToDoList!$R:$R, H$2))","v":""},{"$f":"IF($A376 = \"\", \"\", COUNTIFS(ToDoList!$B:$B, $A376, ToDoList!$R:$R, I$2))","v":""},{"$f":"IF($A376 = \"\", \"\", COUNTIFS(ToDoList!$B:$B, $A376, ToDoList!$R:$R, J$2))","v":""}]
[null,{"$f":"IF($A377 = \"\", \"\", COUNTIFS(ToDoList!$B:$B, $A377, ToDoList!$R:$R, B$2))","v":""},{"$f":"IF($A377 = \"\", \"\", COUNTIFS(ToDoList!$B:$B, $A377, ToDoList!$R:$R, C$2))","v":""},{"$f":"IF($A377 = \"\", \"\", COUNTIFS(ToDoList!$B:$B, $A377, ToDoList!$R:$R, D$2))","v":""},{"$f":"IF($A377 = \"\", \"\", COUNTIFS(ToDoList!$B:$B, $A377, ToDoList!$R:$R, E$2))","v":""},{"$f":"IF($A377 = \"\", \"\", COUNTIFS(ToDoList!$B:$B, $A377, ToDoList!$R:$R, F$2))","v":""},{"$f":"IF($A377 = \"\", \"\", COUNTIFS(ToDoList!$B:$B, $A377, ToDoList!$R:$R, G$2))","v":""},{"$f":"IF($A377 = \"\", \"\", COUNTIFS(ToDoList!$B:$B, $A377, ToDoList!$R:$R, H$2))","v":""},{"$f":"IF($A377 = \"\", \"\", COUNTIFS(ToDoList!$B:$B, $A377, ToDoList!$R:$R, I$2))","v":""},{"$f":"IF($A377 = \"\", \"\", COUNTIFS(ToDoList!$B:$B, $A377, ToDoList!$R:$R, J$2))","v":""}]
[null,{"$f":"IF($A378 = \"\", \"\", COUNTIFS(ToDoList!$B:$B, $A378, ToDoList!$R:$R, B$2))","v":""},{"$f":"IF($A378 = \"\", \"\", COUNTIFS(ToDoList!$B:$B, $A378, ToDoList!$R:$R, C$2))","v":""},{"$f":"IF($A378 = \"\", \"\", COUNTIFS(ToDoList!$B:$B, $A378, ToDoList!$R:$R, D$2))","v":""},{"$f":"IF($A378 = \"\", \"\", COUNTIFS(ToDoList!$B:$B, $A378, ToDoList!$R:$R, E$2))","v":""},{"$f":"IF($A378 = \"\", \"\", COUNTIFS(ToDoList!$B:$B, $A378, ToDoList!$R:$R, F$2))","v":""},{"$f":"IF($A378 = \"\", \"\", COUNTIFS(ToDoList!$B:$B, $A378, ToDoList!$R:$R, G$2))","v":""},{"$f":"IF($A378 = \"\", \"\", COUNTIFS(ToDoList!$B:$B, $A378, ToDoList!$R:$R, H$2))","v":""},{"$f":"IF($A378 = \"\", \"\", COUNTIFS(ToDoList!$B:$B, $A378, ToDoList!$R:$R, I$2))","v":""},{"$f":"IF($A378 = \"\", \"\", COUNTIFS(ToDoList!$B:$B, $A378, ToDoList!$R:$R, J$2))","v":""}]
[null,{"$f":"IF($A379 = \"\", \"\", COUNTIFS(ToDoList!$B:$B, $A379, ToDoList!$R:$R, B$2))","v":""},{"$f":"IF($A379 = \"\", \"\", COUNTIFS(ToDoList!$B:$B, $A379, ToDoList!$R:$R, C$2))","v":""},{"$f":"IF($A379 = \"\", \"\", COUNTIFS(ToDoList!$B:$B, $A379, ToDoList!$R:$R, D$2))","v":""},{"$f":"IF($A379 = \"\", \"\", COUNTIFS(ToDoList!$B:$B, $A379, ToDoList!$R:$R, E$2))","v":""},{"$f":"IF($A379 = \"\", \"\", COUNTIFS(ToDoList!$B:$B, $A379, ToDoList!$R:$R, F$2))","v":""},{"$f":"IF($A379 = \"\", \"\", COUNTIFS(ToDoList!$B:$B, $A379, ToDoList!$R:$R, G$2))","v":""},{"$f":"IF($A379 = \"\", \"\", COUNTIFS(ToDoList!$B:$B, $A379, ToDoList!$R:$R, H$2))","v":""},{"$f":"IF($A379 = \"\", \"\", COUNTIFS(ToDoList!$B:$B, $A379, ToDoList!$R:$R, I$2))","v":""},{"$f":"IF($A379 = \"\", \"\", COUNTIFS(ToDoList!$B:$B, $A379, ToDoList!$R:$R, J$2))","v":""}]
[null,{"$f":"IF($A380 = \"\", \"\", COUNTIFS(ToDoList!$B:$B, $A380, ToDoList!$R:$R, B$2))","v":""},{"$f":"IF($A380 = \"\", \"\", COUNTIFS(ToDoList!$B:$B, $A380, ToDoList!$R:$R, C$2))","v":""},{"$f":"IF($A380 = \"\", \"\", COUNTIFS(ToDoList!$B:$B, $A380, ToDoList!$R:$R, D$2))","v":""},{"$f":"IF($A380 = \"\", \"\", COUNTIFS(ToDoList!$B:$B, $A380, ToDoList!$R:$R, E$2))","v":""},{"$f":"IF($A380 = \"\", \"\", COUNTIFS(ToDoList!$B:$B, $A380, ToDoList!$R:$R, F$2))","v":""},{"$f":"IF($A380 = \"\", \"\", COUNTIFS(ToDoList!$B:$B, $A380, ToDoList!$R:$R, G$2))","v":""},{"$f":"IF($A380 = \"\", \"\", COUNTIFS(ToDoList!$B:$B, $A380, ToDoList!$R:$R, H$2))","v":""},{"$f":"IF($A380 = \"\", \"\", COUNTIFS(ToDoList!$B:$B, $A380, ToDoList!$R:$R, I$2))","v":""},{"$f":"IF($A380 = \"\", \"\", COUNTIFS(ToDoList!$B:$B, $A380, ToDoList!$R:$R, J$2))","v":""}]
[null,{"$f":"IF($A381 = \"\", \"\", COUNTIFS(ToDoList!$B:$B, $A381, ToDoList!$R:$R, B$2))","v":""},{"$f":"IF($A381 = \"\", \"\", COUNTIFS(ToDoList!$B:$B, $A381, ToDoList!$R:$R, C$2))","v":""},{"$f":"IF($A381 = \"\", \"\", COUNTIFS(ToDoList!$B:$B, $A381, ToDoList!$R:$R, D$2))","v":""},{"$f":"IF($A381 = \"\", \"\", COUNTIFS(ToDoList!$B:$B, $A381, ToDoList!$R:$R, E$2))","v":""},{"$f":"IF($A381 = \"\", \"\", COUNTIFS(ToDoList!$B:$B, $A381, ToDoList!$R:$R, F$2))","v":""},{"$f":"IF($A381 = \"\", \"\", COUNTIFS(ToDoList!$B:$B, $A381, ToDoList!$R:$R, G$2))","v":""},{"$f":"IF($A381 = \"\", \"\", COUNTIFS(ToDoList!$B:$B, $A381, ToDoList!$R:$R, H$2))","v":""},{"$f":"IF($A381 = \"\", \"\", COUNTIFS(ToDoList!$B:$B, $A381, ToDoList!$R:$R, I$2))","v":""},{"$f":"IF($A381 = \"\", \"\", COUNTIFS(ToDoList!$B:$B, $A381, ToDoList!$R:$R, J$2))","v":""}]
[null,{"$f":"IF($A382 = \"\", \"\", COUNTIFS(ToDoList!$B:$B, $A382, ToDoList!$R:$R, B$2))","v":""},{"$f":"IF($A382 = \"\", \"\", COUNTIFS(ToDoList!$B:$B, $A382, ToDoList!$R:$R, C$2))","v":""},{"$f":"IF($A382 = \"\", \"\", COUNTIFS(ToDoList!$B:$B, $A382, ToDoList!$R:$R, D$2))","v":""},{"$f":"IF($A382 = \"\", \"\", COUNTIFS(ToDoList!$B:$B, $A382, ToDoList!$R:$R, E$2))","v":""},{"$f":"IF($A382 = \"\", \"\", COUNTIFS(ToDoList!$B:$B, $A382, ToDoList!$R:$R, F$2))","v":""},{"$f":"IF($A382 = \"\", \"\", COUNTIFS(ToDoList!$B:$B, $A382, ToDoList!$R:$R, G$2))","v":""},{"$f":"IF($A382 = \"\", \"\", COUNTIFS(ToDoList!$B:$B, $A382, ToDoList!$R:$R, H$2))","v":""},{"$f":"IF($A382 = \"\", \"\", COUNTIFS(ToDoList!$B:$B, $A382, ToDoList!$R:$R, I$2))","v":""},{"$f":"IF($A382 = \"\", \"\", COUNTIFS(ToDoList!$B:$B, $A382, ToDoList!$R:$R, J$2))","v":""}]
[null,{"$f":"IF($A383 = \"\", \"\", COUNTIFS(ToDoList!$B:$B, $A383, ToDoList!$R:$R, B$2))","v":""},{"$f":"IF($A383 = \"\", \"\", COUNTIFS(ToDoList!$B:$B, $A383, ToDoList!$R:$R, C$2))","v":""},{"$f":"IF($A383 = \"\", \"\", COUNTIFS(ToDoList!$B:$B, $A383, ToDoList!$R:$R, D$2))","v":""},{"$f":"IF($A383 = \"\", \"\", COUNTIFS(ToDoList!$B:$B, $A383, ToDoList!$R:$R, E$2))","v":""},{"$f":"IF($A383 = \"\", \"\", COUNTIFS(ToDoList!$B:$B, $A383, ToDoList!$R:$R, F$2))","v":""},{"$f":"IF($A383 = \"\", \"\", COUNTIFS(ToDoList!$B:$B, $A383, ToDoList!$R:$R, G$2))","v":""},{"$f":"IF($A383 = \"\", \"\", COUNTIFS(ToDoList!$B:$B, $A383, ToDoList!$R:$R, H$2))","v":""},{"$f":"IF($A383 = \"\", \"\", COUNTIFS(ToDoList!$B:$B, $A383, ToDoList!$R:$R, I$2))","v":""},{"$f":"IF($A383 = \"\", \"\", COUNTIFS(ToDoList!$B:$B, $A383, ToDoList!$R:$R, J$2))","v":""}]
[null,{"$f":"IF($A384 = \"\", \"\", COUNTIFS(ToDoList!$B:$B, $A384, ToDoList!$R:$R, B$2))","v":""},{"$f":"IF($A384 = \"\", \"\", COUNTIFS(ToDoList!$B:$B, $A384, ToDoList!$R:$R, C$2))","v":""},{"$f":"IF($A384 = \"\", \"\", COUNTIFS(ToDoList!$B:$B, $A384, ToDoList!$R:$R, D$2))","v":""},{"$f":"IF($A384 = \"\", \"\", COUNTIFS(ToDoList!$B:$B, $A384, ToDoList!$R:$R, E$2))","v":""},{"$f":"IF($A384 = \"\", \"\", COUNTIFS(ToDoList!$B:$B, $A384, ToDoList!$R:$R, F$2))","v":""},{"$f":"IF($A384 = \"\", \"\", COUNTIFS(ToDoList!$B:$B, $A384, ToDoList!$R:$R, G$2))","v":""},{"$f":"IF($A384 = \"\", \"\", COUNTIFS(ToDoList!$B:$B, $A384, ToDoList!$R:$R, H$2))","v":""},{"$f":"IF($A384 = \"\", \"\", COUNTIFS(ToDoList!$B:$B, $A384, ToDoList!$R:$R, I$2))","v":""},{"$f":"IF($A384 = \"\", \"\", COUNTIFS(ToDoList!$B:$B, $A384, ToDoList!$R:$R, J$2))","v":""}]
[null,{"$f":"IF($A385 = \"\", \"\", COUNTIFS(ToDoList!$B:$B, $A385, ToDoList!$R:$R, B$2))","v":""},{"$f":"IF($A385 = \"\", \"\", COUNTIFS(ToDoList!$B:$B, $A385, ToDoList!$R:$R, C$2))","v":""},{"$f":"IF($A385 = \"\", \"\", COUNTIFS(ToDoList!$B:$B, $A385, ToDoList!$R:$R, D$2))","v":""},{"$f":"IF($A385 = \"\", \"\", COUNTIFS(ToDoList!$B:$B, $A385, ToDoList!$R:$R, E$2))","v":""},{"$f":"IF($A385 = \"\", \"\", COUNTIFS(ToDoList!$B:$B, $A385, ToDoList!$R:$R, F$2))","v":""},{"$f":"IF($A385 = \"\", \"\", COUNTIFS(ToDoList!$B:$B, $A385, ToDoList!$R:$R, G$2))","v":""},{"$f":"IF($A385 = \"\", \"\", COUNTIFS(ToDoList!$B:$B, $A385, ToDoList!$R:$R, H$2))","v":""},{"$f":"IF($A385 = \"\", \"\", COUNTIFS(ToDoList!$B:$B, $A385, ToDoList!$R:$R, I$2))","v":""},{"$f":"IF($A385 = \"\", \"\", COUNTIFS(ToDoList!$B:$B, $A385, ToDoList!$R:$R, J$2))","v":""}]
[null,{"$f":"IF($A386 = \"\", \"\", COUNTIFS(ToDoList!$B:$B, $A386, ToDoList!$R:$R, B$2))","v":""},{"$f":"IF($A386 = \"\", \"\", COUNTIFS(ToDoList!$B:$B, $A386, ToDoList!$R:$R, C$2))","v":""},{"$f":"IF($A386 = \"\", \"\", COUNTIFS(ToDoList!$B:$B, $A386, ToDoList!$R:$R, D$2))","v":""},{"$f":"IF($A386 = \"\", \"\", COUNTIFS(ToDoList!$B:$B, $A386, ToDoList!$R:$R, E$2))","v":""},{"$f":"IF($A386 = \"\", \"\", COUNTIFS(ToDoList!$B:$B, $A386, ToDoList!$R:$R, F$2))","v":""},{"$f":"IF($A386 = \"\", \"\", COUNTIFS(ToDoList!$B:$B, $A386, ToDoList!$R:$R, G$2))","v":""},{"$f":"IF($A386 = \"\", \"\", COUNTIFS(ToDoList!$B:$B, $A386, ToDoList!$R:$R, H$2))","v":""},{"$f":"IF($A386 = \"\", \"\", COUNTIFS(ToDoList!$B:$B, $A386, ToDoList!$R:$R, I$2))","v":""},{"$f":"IF($A386 = \"\", \"\", COUNTIFS(ToDoList!$B:$B, $A386, ToDoList!$R:$R, J$2))","v":""}]
[null,{"$f":"IF($A387 = \"\", \"\", COUNTIFS(ToDoList!$B:$B, $A387, ToDoList!$R:$R, B$2))","v":""},{"$f":"IF($A387 = \"\", \"\", COUNTIFS(ToDoList!$B:$B, $A387, ToDoList!$R:$R, C$2))","v":""},{"$f":"IF($A387 = \"\", \"\", COUNTIFS(ToDoList!$B:$B, $A387, ToDoList!$R:$R, D$2))","v":""},{"$f":"IF($A387 = \"\", \"\", COUNTIFS(ToDoList!$B:$B, $A387, ToDoList!$R:$R, E$2))","v":""},{"$f":"IF($A387 = \"\", \"\", COUNTIFS(ToDoList!$B:$B, $A387, ToDoList!$R:$R, F$2))","v":""},{"$f":"IF($A387 = \"\", \"\", COUNTIFS(ToDoList!$B:$B, $A387, ToDoList!$R:$R, G$2))","v":""},{"$f":"IF($A387 = \"\", \"\", COUNTIFS(ToDoList!$B:$B, $A387, ToDoList!$R:$R, H$2))","v":""},{"$f":"IF($A387 = \"\", \"\", COUNTIFS(ToDoList!$B:$B, $A387, ToDoList!$R:$R, I$2))","v":""},{"$f":"IF($A387 = \"\", \"\", COUNTIFS(ToDoList!$B:$B, $A387, ToDoList!$R:$R, J$2))","v":""}]
[null,{"$f":"IF($A388 = \"\", \"\", COUNTIFS(ToDoList!$B:$B, $A388, ToDoList!$R:$R, B$2))","v":""},{"$f":"IF($A388 = \"\", \"\", COUNTIFS(ToDoList!$B:$B, $A388, ToDoList!$R:$R, C$2))","v":""},{"$f":"IF($A388 = \"\", \"\", COUNTIFS(ToDoList!$B:$B, $A388, ToDoList!$R:$R, D$2))","v":""},{"$f":"IF($A388 = \"\", \"\", COUNTIFS(ToDoList!$B:$B, $A388, ToDoList!$R:$R, E$2))","v":""},{"$f":"IF($A388 = \"\", \"\", COUNTIFS(ToDoList!$B:$B, $A388, ToDoList!$R:$R, F$2))","v":""},{"$f":"IF($A388 = \"\", \"\", COUNTIFS(ToDoList!$B:$B, $A388, ToDoList!$R:$R, G$2))","v":""},{"$f":"IF($A388 = \"\", \"\", COUNTIFS(ToDoList!$B:$B, $A388, ToDoList!$R:$R, H$2))","v":""},{"$f":"IF($A388 = \"\", \"\", COUNTIFS(ToDoList!$B:$B, $A388, ToDoList!$R:$R, I$2))","v":""},{"$f":"IF($A388 = \"\", \"\", COUNTIFS(ToDoList!$B:$B, $A388, ToDoList!$R:$R, J$2))","v":""}]
[null,{"$f":"IF($A389 = \"\", \"\", COUNTIFS(ToDoList!$B:$B, $A389, ToDoList!$R:$R, B$2))","v":""},{"$f":"IF($A389 = \"\", \"\", COUNTIFS(ToDoList!$B:$B, $A389, ToDoList!$R:$R, C$2))","v":""},{"$f":"IF($A389 = \"\", \"\", COUNTIFS(ToDoList!$B:$B, $A389, ToDoList!$R:$R, D$2))","v":""},{"$f":"IF($A389 = \"\", \"\", COUNTIFS(ToDoList!$B:$B, $A389, ToDoList!$R:$R, E$2))","v":""},{"$f":"IF($A389 = \"\", \"\", COUNTIFS(ToDoList!$B:$B, $A389, ToDoList!$R:$R, F$2))","v":""},{"$f":"IF($A389 = \"\", \"\", COUNTIFS(ToDoList!$B:$B, $A389, ToDoList!$R:$R, G$2))","v":""},{"$f":"IF($A389 = \"\", \"\", COUNTIFS(ToDoList!$B:$B, $A389, ToDoList!$R:$R, H$2))","v":""},{"$f":"IF($A389 = \"\", \"\", COUNTIFS(ToDoList!$B:$B, $A389, ToDoList!$R:$R, I$2))","v":""},{"$f":"IF($A389 = \"\", \"\", COUNTIFS(ToDoList!$B:$B, $A389, ToDoList!$R:$R, J$2))","v":""}]
[null,{"$f":"IF($A390 = \"\", \"\", COUNTIFS(ToDoList!$B:$B, $A390, ToDoList!$R:$R, B$2))","v":""},{"$f":"IF($A390 = \"\", \"\", COUNTIFS(ToDoList!$B:$B, $A390, ToDoList!$R:$R, C$2))","v":""},{"$f":"IF($A390 = \"\", \"\", COUNTIFS(ToDoList!$B:$B, $A390, ToDoList!$R:$R, D$2))","v":""},{"$f":"IF($A390 = \"\", \"\", COUNTIFS(ToDoList!$B:$B, $A390, ToDoList!$R:$R, E$2))","v":""},{"$f":"IF($A390 = \"\", \"\", COUNTIFS(ToDoList!$B:$B, $A390, ToDoList!$R:$R, F$2))","v":""},{"$f":"IF($A390 = \"\", \"\", COUNTIFS(ToDoList!$B:$B, $A390, ToDoList!$R:$R, G$2))","v":""},{"$f":"IF($A390 = \"\", \"\", COUNTIFS(ToDoList!$B:$B, $A390, ToDoList!$R:$R, H$2))","v":""},{"$f":"IF($A390 = \"\", \"\", COUNTIFS(ToDoList!$B:$B, $A390, ToDoList!$R:$R, I$2))","v":""},{"$f":"IF($A390 = \"\", \"\", COUNTIFS(ToDoList!$B:$B, $A390, ToDoList!$R:$R, J$2))","v":""}]
[null,{"$f":"IF($A391 = \"\", \"\", COUNTIFS(ToDoList!$B:$B, $A391, ToDoList!$R:$R, B$2))","v":""},{"$f":"IF($A391 = \"\", \"\", COUNTIFS(ToDoList!$B:$B, $A391, ToDoList!$R:$R, C$2))","v":""},{"$f":"IF($A391 = \"\", \"\", COUNTIFS(ToDoList!$B:$B, $A391, ToDoList!$R:$R, D$2))","v":""},{"$f":"IF($A391 = \"\", \"\", COUNTIFS(ToDoList!$B:$B, $A391, ToDoList!$R:$R, E$2))","v":""},{"$f":"IF($A391 = \"\", \"\", COUNTIFS(ToDoList!$B:$B, $A391, ToDoList!$R:$R, F$2))","v":""},{"$f":"IF($A391 = \"\", \"\", COUNTIFS(ToDoList!$B:$B, $A391, ToDoList!$R:$R, G$2))","v":""},{"$f":"IF($A391 = \"\", \"\", COUNTIFS(ToDoList!$B:$B, $A391, ToDoList!$R:$R, H$2))","v":""},{"$f":"IF($A391 = \"\", \"\", COUNTIFS(ToDoList!$B:$B, $A391, ToDoList!$R:$R, I$2))","v":""},{"$f":"IF($A391 = \"\", \"\", COUNTIFS(ToDoList!$B:$B, $A391, ToDoList!$R:$R, J$2))","v":""}]
[null,{"$f":"IF($A392 = \"\", \"\", COUNTIFS(ToDoList!$B:$B, $A392, ToDoList!$R:$R, B$2))","v":""},{"$f":"IF($A392 = \"\", \"\", COUNTIFS(ToDoList!$B:$B, $A392, ToDoList!$R:$R, C$2))","v":""},{"$f":"IF($A392 = \"\", \"\", COUNTIFS(ToDoList!$B:$B, $A392, ToDoList!$R:$R, D$2))","v":""},{"$f":"IF($A392 = \"\", \"\", COUNTIFS(ToDoList!$B:$B, $A392, ToDoList!$R:$R, E$2))","v":""},{"$f":"IF($A392 = \"\", \"\", COUNTIFS(ToDoList!$B:$B, $A392, ToDoList!$R:$R, F$2))","v":""},{"$f":"IF($A392 = \"\", \"\", COUNTIFS(ToDoList!$B:$B, $A392, ToDoList!$R:$R, G$2))","v":""},{"$f":"IF($A392 = \"\", \"\", COUNTIFS(ToDoList!$B:$B, $A392, ToDoList!$R:$R, H$2))","v":""},{"$f":"IF($A392 = \"\", \"\", COUNTIFS(ToDoList!$B:$B, $A392, ToDoList!$R:$R, I$2))","v":""},{"$f":"IF($A392 = \"\", \"\", COUNTIFS(ToDoList!$B:$B, $A392, ToDoList!$R:$R, J$2))","v":""}]
[null,{"$f":"IF($A393 = \"\", \"\", COUNTIFS(ToDoList!$B:$B, $A393, ToDoList!$R:$R, B$2))","v":""},{"$f":"IF($A393 = \"\", \"\", COUNTIFS(ToDoList!$B:$B, $A393, ToDoList!$R:$R, C$2))","v":""},{"$f":"IF($A393 = \"\", \"\", COUNTIFS(ToDoList!$B:$B, $A393, ToDoList!$R:$R, D$2))","v":""},{"$f":"IF($A393 = \"\", \"\", COUNTIFS(ToDoList!$B:$B, $A393, ToDoList!$R:$R, E$2))","v":""},{"$f":"IF($A393 = \"\", \"\", COUNTIFS(ToDoList!$B:$B, $A393, ToDoList!$R:$R, F$2))","v":""},{"$f":"IF($A393 = \"\", \"\", COUNTIFS(ToDoList!$B:$B, $A393, ToDoList!$R:$R, G$2))","v":""},{"$f":"IF($A393 = \"\", \"\", COUNTIFS(ToDoList!$B:$B, $A393, ToDoList!$R:$R, H$2))","v":""},{"$f":"IF($A393 = \"\", \"\", COUNTIFS(ToDoList!$B:$B, $A393, ToDoList!$R:$R, I$2))","v":""},{"$f":"IF($A393 = \"\", \"\", COUNTIFS(ToDoList!$B:$B, $A393, ToDoList!$R:$R, J$2))","v":""}]
[null,{"$f":"IF($A394 = \"\", \"\", COUNTIFS(ToDoList!$B:$B, $A394, ToDoList!$R:$R, B$2))","v":""},{"$f":"IF($A394 = \"\", \"\", COUNTIFS(ToDoList!$B:$B, $A394, ToDoList!$R:$R, C$2))","v":""},{"$f":"IF($A394 = \"\", \"\", COUNTIFS(ToDoList!$B:$B, $A394, ToDoList!$R:$R, D$2))","v":""},{"$f":"IF($A394 = \"\", \"\", COUNTIFS(ToDoList!$B:$B, $A394, ToDoList!$R:$R, E$2))","v":""},{"$f":"IF($A394 = \"\", \"\", COUNTIFS(ToDoList!$B:$B, $A394, ToDoList!$R:$R, F$2))","v":""},{"$f":"IF($A394 = \"\", \"\", COUNTIFS(ToDoList!$B:$B, $A394, ToDoList!$R:$R, G$2))","v":""},{"$f":"IF($A394 = \"\", \"\", COUNTIFS(ToDoList!$B:$B, $A394, ToDoList!$R:$R, H$2))","v":""},{"$f":"IF($A394 = \"\", \"\", COUNTIFS(ToDoList!$B:$B, $A394, ToDoList!$R:$R, I$2))","v":""},{"$f":"IF($A394 = \"\", \"\", COUNTIFS(ToDoList!$B:$B, $A394, ToDoList!$R:$R, J$2))","v":""}]
[null,{"$f":"IF($A395 = \"\", \"\", COUNTIFS(ToDoList!$B:$B, $A395, ToDoList!$R:$R, B$2))","v":""},{"$f":"IF($A395 = \"\", \"\", COUNTIFS(ToDoList!$B:$B, $A395, ToDoList!$R:$R, C$2))","v":""},{"$f":"IF($A395 = \"\", \"\", COUNTIFS(ToDoList!$B:$B, $A395, ToDoList!$R:$R, D$2))","v":""},{"$f":"IF($A395 = \"\", \"\", COUNTIFS(ToDoList!$B:$B, $A395, ToDoList!$R:$R, E$2))","v":""},{"$f":"IF($A395 = \"\", \"\", COUNTIFS(ToDoList!$B:$B, $A395, ToDoList!$R:$R, F$2))","v":""},{"$f":"IF($A395 = \"\", \"\", COUNTIFS(ToDoList!$B:$B, $A395, ToDoList!$R:$R, G$2))","v":""},{"$f":"IF($A395 = \"\", \"\", COUNTIFS(ToDoList!$B:$B, $A395, ToDoList!$R:$R, H$2))","v":""},{"$f":"IF($A395 = \"\", \"\", COUNTIFS(ToDoList!$B:$B, $A395, ToDoList!$R:$R, I$2))","v":""},{"$f":"IF($A395 = \"\", \"\", COUNTIFS(ToDoList!$B:$B, $A395, ToDoList!$R:$R, J$2))","v":""}]
[null,{"$f":"IF($A396 = \"\", \"\", COUNTIFS(ToDoList!$B:$B, $A396, ToDoList!$R:$R, B$2))","v":""},{"$f":"IF($A396 = \"\", \"\", COUNTIFS(ToDoList!$B:$B, $A396, ToDoList!$R:$R, C$2))","v":""},{"$f":"IF($A396 = \"\", \"\", COUNTIFS(ToDoList!$B:$B, $A396, ToDoList!$R:$R, D$2))","v":""},{"$f":"IF($A396 = \"\", \"\", COUNTIFS(ToDoList!$B:$B, $A396, ToDoList!$R:$R, E$2))","v":""},{"$f":"IF($A396 = \"\", \"\", COUNTIFS(ToDoList!$B:$B, $A396, ToDoList!$R:$R, F$2))","v":""},{"$f":"IF($A396 = \"\", \"\", COUNTIFS(ToDoList!$B:$B, $A396, ToDoList!$R:$R, G$2))","v":""},{"$f":"IF($A396 = \"\", \"\", COUNTIFS(ToDoList!$B:$B, $A396, ToDoList!$R:$R, H$2))","v":""},{"$f":"IF($A396 = \"\", \"\", COUNTIFS(ToDoList!$B:$B, $A396, ToDoList!$R:$R, I$2))","v":""},{"$f":"IF($A396 = \"\", \"\", COUNTIFS(ToDoList!$B:$B, $A396, ToDoList!$R:$R, J$2))","v":""}]
[null,{"$f":"IF($A397 = \"\", \"\", COUNTIFS(ToDoList!$B:$B, $A397, ToDoList!$R:$R, B$2))","v":""},{"$f":"IF($A397 = \"\", \"\", COUNTIFS(ToDoList!$B:$B, $A397, ToDoList!$R:$R, C$2))","v":""},{"$f":"IF($A397 = \"\", \"\", COUNTIFS(ToDoList!$B:$B, $A397, ToDoList!$R:$R, D$2))","v":""},{"$f":"IF($A397 = \"\", \"\", COUNTIFS(ToDoList!$B:$B, $A397, ToDoList!$R:$R, E$2))","v":""},{"$f":"IF($A397 = \"\", \"\", COUNTIFS(ToDoList!$B:$B, $A397, ToDoList!$R:$R, F$2))","v":""},{"$f":"IF($A397 = \"\", \"\", COUNTIFS(ToDoList!$B:$B, $A397, ToDoList!$R:$R, G$2))","v":""},{"$f":"IF($A397 = \"\", \"\", COUNTIFS(ToDoList!$B:$B, $A397, ToDoList!$R:$R, H$2))","v":""},{"$f":"IF($A397 = \"\", \"\", COUNTIFS(ToDoList!$B:$B, $A397, ToDoList!$R:$R, I$2))","v":""},{"$f":"IF($A397 = \"\", \"\", COUNTIFS(ToDoList!$B:$B, $A397, ToDoList!$R:$R, J$2))","v":""}]
[null,{"$f":"IF($A398 = \"\", \"\", COUNTIFS(ToDoList!$B:$B, $A398, ToDoList!$R:$R, B$2))","v":""},{"$f":"IF($A398 = \"\", \"\", COUNTIFS(ToDoList!$B:$B, $A398, ToDoList!$R:$R, C$2))","v":""},{"$f":"IF($A398 = \"\", \"\", COUNTIFS(ToDoList!$B:$B, $A398, ToDoList!$R:$R, D$2))","v":""},{"$f":"IF($A398 = \"\", \"\", COUNTIFS(ToDoList!$B:$B, $A398, ToDoList!$R:$R, E$2))","v":""},{"$f":"IF($A398 = \"\", \"\", COUNTIFS(ToDoList!$B:$B, $A398, ToDoList!$R:$R, F$2))","v":""},{"$f":"IF($A398 = \"\", \"\", COUNTIFS(ToDoList!$B:$B, $A398, ToDoList!$R:$R, G$2))","v":""},{"$f":"IF($A398 = \"\", \"\", COUNTIFS(ToDoList!$B:$B, $A398, ToDoList!$R:$R, H$2))","v":""},{"$f":"IF($A398 = \"\", \"\", COUNTIFS(ToDoList!$B:$B, $A398, ToDoList!$R:$R, I$2))","v":""},{"$f":"IF($A398 = \"\", \"\", COUNTIFS(ToDoList!$B:$B, $A398, ToDoList!$R:$R, J$2))","v":""}]
[null,{"$f":"IF($A399 = \"\", \"\", COUNTIFS(ToDoList!$B:$B, $A399, ToDoList!$R:$R, B$2))","v":""},{"$f":"IF($A399 = \"\", \"\", COUNTIFS(ToDoList!$B:$B, $A399, ToDoList!$R:$R, C$2))","v":""},{"$f":"IF($A399 = \"\", \"\", COUNTIFS(ToDoList!$B:$B, $A399, ToDoList!$R:$R, D$2))","v":""},{"$f":"IF($A399 = \"\", \"\", COUNTIFS(ToDoList!$B:$B, $A399, ToDoList!$R:$R, E$2))","v":""},{"$f":"IF($A399 = \"\", \"\", COUNTIFS(ToDoList!$B:$B, $A399, ToDoList!$R:$R, F$2))","v":""},{"$f":"IF($A399 = \"\", \"\", COUNTIFS(ToDoList!$B:$B, $A399, ToDoList!$R:$R, G$2))","v":""},{"$f":"IF($A399 = \"\", \"\", COUNTIFS(ToDoList!$B:$B, $A399, ToDoList!$R:$R, H$2))","v":""},{"$f":"IF($A399 = \"\", \"\", COUNTIFS(ToDoList!$B:$B, $A399, ToDoList!$R:$R, I$2))","v":""},{"$f":"IF($A399 = \"\", \"\", COUNTIFS(ToDoList!$B:$B, $A399, ToDoList!$R:$R, J$2))","v":""}]
[null,{"$f":"IF($A400 = \"\", \"\", COUNTIFS(ToDoList!$B:$B, $A400, ToDoList!$R:$R, B$2))","v":""},{"$f":"IF($A400 = \"\", \"\", COUNTIFS(ToDoList!$B:$B, $A400, ToDoList!$R:$R, C$2))","v":""},{"$f":"IF($A400 = \"\", \"\", COUNTIFS(ToDoList!$B:$B, $A400, ToDoList!$R:$R, D$2))","v":""},{"$f":"IF($A400 = \"\", \"\", COUNTIFS(ToDoList!$B:$B, $A400, ToDoList!$R:$R, E$2))","v":""},{"$f":"IF($A400 = \"\", \"\", COUNTIFS(ToDoList!$B:$B, $A400, ToDoList!$R:$R, F$2))","v":""},{"$f":"IF($A400 = \"\", \"\", COUNTIFS(ToDoList!$B:$B, $A400, ToDoList!$R:$R, G$2))","v":""},{"$f":"IF($A400 = \"\", \"\", COUNTIFS(ToDoList!$B:$B, $A400, ToDoList!$R:$R, H$2))","v":""},{"$f":"IF($A400 = \"\", \"\", COUNTIFS(ToDoList!$B:$B, $A400, ToDoList!$R:$R, I$2))","v":""},{"$f":"IF($A400 = \"\", \"\", COUNTIFS(ToDoList!$B:$B, $A400, ToDoList!$R:$R, J$2))","v":""}]
[null,{"$f":"IF($A401 = \"\", \"\", COUNTIFS(ToDoList!$B:$B, $A401, ToDoList!$R:$R, B$2))","v":""},{"$f":"IF($A401 = \"\", \"\", COUNTIFS(ToDoList!$B:$B, $A401, ToDoList!$R:$R, C$2))","v":""},{"$f":"IF($A401 = \"\", \"\", COUNTIFS(ToDoList!$B:$B, $A401, ToDoList!$R:$R, D$2))","v":""},{"$f":"IF($A401 = \"\", \"\", COUNTIFS(ToDoList!$B:$B, $A401, ToDoList!$R:$R, E$2))","v":""},{"$f":"IF($A401 = \"\", \"\", COUNTIFS(ToDoList!$B:$B, $A401, ToDoList!$R:$R, F$2))","v":""},{"$f":"IF($A401 = \"\", \"\", COUNTIFS(ToDoList!$B:$B, $A401, ToDoList!$R:$R, G$2))","v":""},{"$f":"IF($A401 = \"\", \"\", COUNTIFS(ToDoList!$B:$B, $A401, ToDoList!$R:$R, H$2))","v":""},{"$f":"IF($A401 = \"\", \"\", COUNTIFS(ToDoList!$B:$B, $A401, ToDoList!$R:$R, I$2))","v":""},{"$f":"IF($A401 = \"\", \"\", COUNTIFS(ToDoList!$B:$B, $A401, ToDoList!$R:$R, J$2))","v":""}]
[null,{"$f":"IF($A402 = \"\", \"\", COUNTIFS(ToDoList!$B:$B, $A402, ToDoList!$R:$R, B$2))","v":""},{"$f":"IF($A402 = \"\", \"\", COUNTIFS(ToDoList!$B:$B, $A402, ToDoList!$R:$R, C$2))","v":""},{"$f":"IF($A402 = \"\", \"\", COUNTIFS(ToDoList!$B:$B, $A402, ToDoList!$R:$R, D$2))","v":""},{"$f":"IF($A402 = \"\", \"\", COUNTIFS(ToDoList!$B:$B, $A402, ToDoList!$R:$R, E$2))","v":""},{"$f":"IF($A402 = \"\", \"\", COUNTIFS(ToDoList!$B:$B, $A402, ToDoList!$R:$R, F$2))","v":""},{"$f":"IF($A402 = \"\", \"\", COUNTIFS(ToDoList!$B:$B, $A402, ToDoList!$R:$R, G$2))","v":""},{"$f":"IF($A402 = \"\", \"\", COUNTIFS(ToDoList!$B:$B, $A402, ToDoList!$R:$R, H$2))","v":""},{"$f":"IF($A402 = \"\", \"\", COUNTIFS(ToDoList!$B:$B, $A402, ToDoList!$R:$R, I$2))","v":""},{"$f":"IF($A402 = \"\", \"\", COUNTIFS(ToDoList!$B:$B, $A402, ToDoList!$R:$R, J$2))","v":""}]
[null,{"$f":"IF($A403 = \"\", \"\", COUNTIFS(ToDoList!$B:$B, $A403, ToDoList!$R:$R, B$2))","v":""},{"$f":"IF($A403 = \"\", \"\", COUNTIFS(ToDoList!$B:$B, $A403, ToDoList!$R:$R, C$2))","v":""},{"$f":"IF($A403 = \"\", \"\", COUNTIFS(ToDoList!$B:$B, $A403, ToDoList!$R:$R, D$2))","v":""},{"$f":"IF($A403 = \"\", \"\", COUNTIFS(ToDoList!$B:$B, $A403, ToDoList!$R:$R, E$2))","v":""},{"$f":"IF($A403 = \"\", \"\", COUNTIFS(ToDoList!$B:$B, $A403, ToDoList!$R:$R, F$2))","v":""},{"$f":"IF($A403 = \"\", \"\", COUNTIFS(ToDoList!$B:$B, $A403, ToDoList!$R:$R, G$2))","v":""},{"$f":"IF($A403 = \"\", \"\", COUNTIFS(ToDoList!$B:$B, $A403, ToDoList!$R:$R, H$2))","v":""},{"$f":"IF($A403 = \"\", \"\", COUNTIFS(ToDoList!$B:$B, $A403, ToDoList!$R:$R, I$2))","v":""},{"$f":"IF($A403 = \"\", \"\", COUNTIFS(ToDoList!$B:$B, $A403, ToDoList!$R:$R, J$2))","v":""}]
[null,{"$f":"IF($A404 = \"\", \"\", COUNTIFS(ToDoList!$B:$B, $A404, ToDoList!$R:$R, B$2))","v":""},{"$f":"IF($A404 = \"\", \"\", COUNTIFS(ToDoList!$B:$B, $A404, ToDoList!$R:$R, C$2))","v":""},{"$f":"IF($A404 = \"\", \"\", COUNTIFS(ToDoList!$B:$B, $A404, ToDoList!$R:$R, D$2))","v":""},{"$f":"IF($A404 = \"\", \"\", COUNTIFS(ToDoList!$B:$B, $A404, ToDoList!$R:$R, E$2))","v":""},{"$f":"IF($A404 = \"\", \"\", COUNTIFS(ToDoList!$B:$B, $A404, ToDoList!$R:$R, F$2))","v":""},{"$f":"IF($A404 = \"\", \"\", COUNTIFS(ToDoList!$B:$B, $A404, ToDoList!$R:$R, G$2))","v":""},{"$f":"IF($A404 = \"\", \"\", COUNTIFS(ToDoList!$B:$B, $A404, ToDoList!$R:$R, H$2))","v":""},{"$f":"IF($A404 = \"\", \"\", COUNTIFS(ToDoList!$B:$B, $A404, ToDoList!$R:$R, I$2))","v":""},{"$f":"IF($A404 = \"\", \"\", COUNTIFS(ToDoList!$B:$B, $A404, ToDoList!$R:$R, J$2))","v":""}]
[null,{"$f":"IF($A405 = \"\", \"\", COUNTIFS(ToDoList!$B:$B, $A405, ToDoList!$R:$R, B$2))","v":""},{"$f":"IF($A405 = \"\", \"\", COUNTIFS(ToDoList!$B:$B, $A405, ToDoList!$R:$R, C$2))","v":""},{"$f":"IF($A405 = \"\", \"\", COUNTIFS(ToDoList!$B:$B, $A405, ToDoList!$R:$R, D$2))","v":""},{"$f":"IF($A405 = \"\", \"\", COUNTIFS(ToDoList!$B:$B, $A405, ToDoList!$R:$R, E$2))","v":""},{"$f":"IF($A405 = \"\", \"\", COUNTIFS(ToDoList!$B:$B, $A405, ToDoList!$R:$R, F$2))","v":""},{"$f":"IF($A405 = \"\", \"\", COUNTIFS(ToDoList!$B:$B, $A405, ToDoList!$R:$R, G$2))","v":""},{"$f":"IF($A405 = \"\", \"\", COUNTIFS(ToDoList!$B:$B, $A405, ToDoList!$R:$R, H$2))","v":""},{"$f":"IF($A405 = \"\", \"\", COUNTIFS(ToDoList!$B:$B, $A405, ToDoList!$R:$R, I$2))","v":""},{"$f":"IF($A405 = \"\", \"\", COUNTIFS(ToDoList!$B:$B, $A405, ToDoList!$R:$R, J$2))","v":""}]
[null,{"$f":"IF($A406 = \"\", \"\", COUNTIFS(ToDoList!$B:$B, $A406, ToDoList!$R:$R, B$2))","v":""},{"$f":"IF($A406 = \"\", \"\", COUNTIFS(ToDoList!$B:$B, $A406, ToDoList!$R:$R, C$2))","v":""},{"$f":"IF($A406 = \"\", \"\", COUNTIFS(ToDoList!$B:$B, $A406, ToDoList!$R:$R, D$2))","v":""},{"$f":"IF($A406 = \"\", \"\", COUNTIFS(ToDoList!$B:$B, $A406, ToDoList!$R:$R, E$2))","v":""},{"$f":"IF($A406 = \"\", \"\", COUNTIFS(ToDoList!$B:$B, $A406, ToDoList!$R:$R, F$2))","v":""},{"$f":"IF($A406 = \"\", \"\", COUNTIFS(ToDoList!$B:$B, $A406, ToDoList!$R:$R, G$2))","v":""},{"$f":"IF($A406 = \"\", \"\", COUNTIFS(ToDoList!$B:$B, $A406, ToDoList!$R:$R, H$2))","v":""},{"$f":"IF($A406 = \"\", \"\", COUNTIFS(ToDoList!$B:$B, $A406, ToDoList!$R:$R, I$2))","v":""},{"$f":"IF($A406 = \"\", \"\", COUNTIFS(ToDoList!$B:$B, $A406, ToDoList!$R:$R, J$2))","v":""}]
[null,{"$f":"IF($A407 = \"\", \"\", COUNTIFS(ToDoList!$B:$B, $A407, ToDoList!$R:$R, B$2))","v":""},{"$f":"IF($A407 = \"\", \"\", COUNTIFS(ToDoList!$B:$B, $A407, ToDoList!$R:$R, C$2))","v":""},{"$f":"IF($A407 = \"\", \"\", COUNTIFS(ToDoList!$B:$B, $A407, ToDoList!$R:$R, D$2))","v":""},{"$f":"IF($A407 = \"\", \"\", COUNTIFS(ToDoList!$B:$B, $A407, ToDoList!$R:$R, E$2))","v":""},{"$f":"IF($A407 = \"\", \"\", COUNTIFS(ToDoList!$B:$B, $A407, ToDoList!$R:$R, F$2))","v":""},{"$f":"IF($A407 = \"\", \"\", COUNTIFS(ToDoList!$B:$B, $A407, ToDoList!$R:$R, G$2))","v":""},{"$f":"IF($A407 = \"\", \"\", COUNTIFS(ToDoList!$B:$B, $A407, ToDoList!$R:$R, H$2))","v":""},{"$f":"IF($A407 = \"\", \"\", COUNTIFS(ToDoList!$B:$B, $A407, ToDoList!$R:$R, I$2))","v":""},{"$f":"IF($A407 = \"\", \"\", COUNTIFS(ToDoList!$B:$B, $A407, ToDoList!$R:$R, J$2))","v":""}]
[null,{"$f":"IF($A408 = \"\", \"\", COUNTIFS(ToDoList!$B:$B, $A408, ToDoList!$R:$R, B$2))","v":""},{"$f":"IF($A408 = \"\", \"\", COUNTIFS(ToDoList!$B:$B, $A408, ToDoList!$R:$R, C$2))","v":""},{"$f":"IF($A408 = \"\", \"\", COUNTIFS(ToDoList!$B:$B, $A408, ToDoList!$R:$R, D$2))","v":""},{"$f":"IF($A408 = \"\", \"\", COUNTIFS(ToDoList!$B:$B, $A408, ToDoList!$R:$R, E$2))","v":""},{"$f":"IF($A408 = \"\", \"\", COUNTIFS(ToDoList!$B:$B, $A408, ToDoList!$R:$R, F$2))","v":""},{"$f":"IF($A408 = \"\", \"\", COUNTIFS(ToDoList!$B:$B, $A408, ToDoList!$R:$R, G$2))","v":""},{"$f":"IF($A408 = \"\", \"\", COUNTIFS(ToDoList!$B:$B, $A408, ToDoList!$R:$R, H$2))","v":""},{"$f":"IF($A408 = \"\", \"\", COUNTIFS(ToDoList!$B:$B, $A408, ToDoList!$R:$R, I$2))","v":""},{"$f":"IF($A408 = \"\", \"\", COUNTIFS(ToDoList!$B:$B, $A408, ToDoList!$R:$R, J$2))","v":""}]
[null,{"$f":"IF($A409 = \"\", \"\", COUNTIFS(ToDoList!$B:$B, $A409, ToDoList!$R:$R, B$2))","v":""},{"$f":"IF($A409 = \"\", \"\", COUNTIFS(ToDoList!$B:$B, $A409, ToDoList!$R:$R, C$2))","v":""},{"$f":"IF($A409 = \"\", \"\", COUNTIFS(ToDoList!$B:$B, $A409, ToDoList!$R:$R, D$2))","v":""},{"$f":"IF($A409 = \"\", \"\", COUNTIFS(ToDoList!$B:$B, $A409, ToDoList!$R:$R, E$2))","v":""},{"$f":"IF($A409 = \"\", \"\", COUNTIFS(ToDoList!$B:$B, $A409, ToDoList!$R:$R, F$2))","v":""},{"$f":"IF($A409 = \"\", \"\", COUNTIFS(ToDoList!$B:$B, $A409, ToDoList!$R:$R, G$2))","v":""},{"$f":"IF($A409 = \"\", \"\", COUNTIFS(ToDoList!$B:$B, $A409, ToDoList!$R:$R, H$2))","v":""},{"$f":"IF($A409 = \"\", \"\", COUNTIFS(ToDoList!$B:$B, $A409, ToDoList!$R:$R, I$2))","v":""},{"$f":"IF($A409 = \"\", \"\", COUNTIFS(ToDoList!$B:$B, $A409, ToDoList!$R:$R, J$2))","v":""}]
[null,{"$f":"IF($A410 = \"\", \"\", COUNTIFS(ToDoList!$B:$B, $A410, ToDoList!$R:$R, B$2))","v":""},{"$f":"IF($A410 = \"\", \"\", COUNTIFS(ToDoList!$B:$B, $A410, ToDoList!$R:$R, C$2))","v":""},{"$f":"IF($A410 = \"\", \"\", COUNTIFS(ToDoList!$B:$B, $A410, ToDoList!$R:$R, D$2))","v":""},{"$f":"IF($A410 = \"\", \"\", COUNTIFS(ToDoList!$B:$B, $A410, ToDoList!$R:$R, E$2))","v":""},{"$f":"IF($A410 = \"\", \"\", COUNTIFS(ToDoList!$B:$B, $A410, ToDoList!$R:$R, F$2))","v":""},{"$f":"IF($A410 = \"\", \"\", COUNTIFS(ToDoList!$B:$B, $A410, ToDoList!$R:$R, G$2))","v":""},{"$f":"IF($A410 = \"\", \"\", COUNTIFS(ToDoList!$B:$B, $A410, ToDoList!$R:$R, H$2))","v":""},{"$f":"IF($A410 = \"\", \"\", COUNTIFS(ToDoList!$B:$B, $A410, ToDoList!$R:$R, I$2))","v":""},{"$f":"IF($A410 = \"\", \"\", COUNTIFS(ToDoList!$B:$B, $A410, ToDoList!$R:$R, J$2))","v":""}]
[null,{"$f":"IF($A411 = \"\", \"\", COUNTIFS(ToDoList!$B:$B, $A411, ToDoList!$R:$R, B$2))","v":""},{"$f":"IF($A411 = \"\", \"\", COUNTIFS(ToDoList!$B:$B, $A411, ToDoList!$R:$R, C$2))","v":""},{"$f":"IF($A411 = \"\", \"\", COUNTIFS(ToDoList!$B:$B, $A411, ToDoList!$R:$R, D$2))","v":""},{"$f":"IF($A411 = \"\", \"\", COUNTIFS(ToDoList!$B:$B, $A411, ToDoList!$R:$R, E$2))","v":""},{"$f":"IF($A411 = \"\", \"\", COUNTIFS(ToDoList!$B:$B, $A411, ToDoList!$R:$R, F$2))","v":""},{"$f":"IF($A411 = \"\", \"\", COUNTIFS(ToDoList!$B:$B, $A411, ToDoList!$R:$R, G$2))","v":""},{"$f":"IF($A411 = \"\", \"\", COUNTIFS(ToDoList!$B:$B, $A411, ToDoList!$R:$R, H$2))","v":""},{"$f":"IF($A411 = \"\", \"\", COUNTIFS(ToDoList!$B:$B, $A411, ToDoList!$R:$R, I$2))","v":""},{"$f":"IF($A411 = \"\", \"\", COUNTIFS(ToDoList!$B:$B, $A411, ToDoList!$R:$R, J$2))","v":""}]
[null,{"$f":"IF($A412 = \"\", \"\", COUNTIFS(ToDoList!$B:$B, $A412, ToDoList!$R:$R, B$2))","v":""},{"$f":"IF($A412 = \"\", \"\", COUNTIFS(ToDoList!$B:$B, $A412, ToDoList!$R:$R, C$2))","v":""},{"$f":"IF($A412 = \"\", \"\", COUNTIFS(ToDoList!$B:$B, $A412, ToDoList!$R:$R, D$2))","v":""},{"$f":"IF($A412 = \"\", \"\", COUNTIFS(ToDoList!$B:$B, $A412, ToDoList!$R:$R, E$2))","v":""},{"$f":"IF($A412 = \"\", \"\", COUNTIFS(ToDoList!$B:$B, $A412, ToDoList!$R:$R, F$2))","v":""},{"$f":"IF($A412 = \"\", \"\", COUNTIFS(ToDoList!$B:$B, $A412, ToDoList!$R:$R, G$2))","v":""},{"$f":"IF($A412 = \"\", \"\", COUNTIFS(ToDoList!$B:$B, $A412, ToDoList!$R:$R, H$2))","v":""},{"$f":"IF($A412 = \"\", \"\", COUNTIFS(ToDoList!$B:$B, $A412, ToDoList!$R:$R, I$2))","v":""},{"$f":"IF($A412 = \"\", \"\", COUNTIFS(ToDoList!$B:$B, $A412, ToDoList!$R:$R, J$2))","v":""}]
[null,{"$f":"IF($A413 = \"\", \"\", COUNTIFS(ToDoList!$B:$B, $A413, ToDoList!$R:$R, B$2))","v":""},{"$f":"IF($A413 = \"\", \"\", COUNTIFS(ToDoList!$B:$B, $A413, ToDoList!$R:$R, C$2))","v":""},{"$f":"IF($A413 = \"\", \"\", COUNTIFS(ToDoList!$B:$B, $A413, ToDoList!$R:$R, D$2))","v":""},{"$f":"IF($A413 = \"\", \"\", COUNTIFS(ToDoList!$B:$B, $A413, ToDoList!$R:$R, E$2))","v":""},{"$f":"IF($A413 = \"\", \"\", COUNTIFS(ToDoList!$B:$B, $A413, ToDoList!$R:$R, F$2))","v":""},{"$f":"IF($A413 = \"\", \"\", COUNTIFS(ToDoList!$B:$B, $A413, ToDoList!$R:$R, G$2))","v":""},{"$f":"IF($A413 = \"\", \"\", COUNTIFS(ToDoList!$B:$B, $A413, ToDoList!$R:$R, H$2))","v":""},{"$f":"IF($A413 = \"\", \"\", COUNTIFS(ToDoList!$B:$B, $A413, ToDoList!$R:$R, I$2))","v":""},{"$f":"IF($A413 = \"\", \"\", COUNTIFS(ToDoList!$B:$B, $A413, ToDoList!$R:$R, J$2))","v":""}]
[null,{"$f":"IF($A414 = \"\", \"\", COUNTIFS(ToDoList!$B:$B, $A414, ToDoList!$R:$R, B$2))","v":""},{"$f":"IF($A414 = \"\", \"\", COUNTIFS(ToDoList!$B:$B, $A414, ToDoList!$R:$R, C$2))","v":""},{"$f":"IF($A414 = \"\", \"\", COUNTIFS(ToDoList!$B:$B, $A414, ToDoList!$R:$R, D$2))","v":""},{"$f":"IF($A414 = \"\", \"\", COUNTIFS(ToDoList!$B:$B, $A414, ToDoList!$R:$R, E$2))","v":""},{"$f":"IF($A414 = \"\", \"\", COUNTIFS(ToDoList!$B:$B, $A414, ToDoList!$R:$R, F$2))","v":""},{"$f":"IF($A414 = \"\", \"\", COUNTIFS(ToDoList!$B:$B, $A414, ToDoList!$R:$R, G$2))","v":""},{"$f":"IF($A414 = \"\", \"\", COUNTIFS(ToDoList!$B:$B, $A414, ToDoList!$R:$R, H$2))","v":""},{"$f":"IF($A414 = \"\", \"\", COUNTIFS(ToDoList!$B:$B, $A414, ToDoList!$R:$R, I$2))","v":""},{"$f":"IF($A414 = \"\", \"\", COUNTIFS(ToDoList!$B:$B, $A414, ToDoList!$R:$R, J$2))","v":""}]
[null,{"$f":"IF($A415 = \"\", \"\", COUNTIFS(ToDoList!$B:$B, $A415, ToDoList!$R:$R, B$2))","v":""},{"$f":"IF($A415 = \"\", \"\", COUNTIFS(ToDoList!$B:$B, $A415, ToDoList!$R:$R, C$2))","v":""},{"$f":"IF($A415 = \"\", \"\", COUNTIFS(ToDoList!$B:$B, $A415, ToDoList!$R:$R, D$2))","v":""},{"$f":"IF($A415 = \"\", \"\", COUNTIFS(ToDoList!$B:$B, $A415, ToDoList!$R:$R, E$2))","v":""},{"$f":"IF($A415 = \"\", \"\", COUNTIFS(ToDoList!$B:$B, $A415, ToDoList!$R:$R, F$2))","v":""},{"$f":"IF($A415 = \"\", \"\", COUNTIFS(ToDoList!$B:$B, $A415, ToDoList!$R:$R, G$2))","v":""},{"$f":"IF($A415 = \"\", \"\", COUNTIFS(ToDoList!$B:$B, $A415, ToDoList!$R:$R, H$2))","v":""},{"$f":"IF($A415 = \"\", \"\", COUNTIFS(ToDoList!$B:$B, $A415, ToDoList!$R:$R, I$2))","v":""},{"$f":"IF($A415 = \"\", \"\", COUNTIFS(ToDoList!$B:$B, $A415, ToDoList!$R:$R, J$2))","v":""}]
[null,{"$f":"IF($A416 = \"\", \"\", COUNTIFS(ToDoList!$B:$B, $A416, ToDoList!$R:$R, B$2))","v":""},{"$f":"IF($A416 = \"\", \"\", COUNTIFS(ToDoList!$B:$B, $A416, ToDoList!$R:$R, C$2))","v":""},{"$f":"IF($A416 = \"\", \"\", COUNTIFS(ToDoList!$B:$B, $A416, ToDoList!$R:$R, D$2))","v":""},{"$f":"IF($A416 = \"\", \"\", COUNTIFS(ToDoList!$B:$B, $A416, ToDoList!$R:$R, E$2))","v":""},{"$f":"IF($A416 = \"\", \"\", COUNTIFS(ToDoList!$B:$B, $A416, ToDoList!$R:$R, F$2))","v":""},{"$f":"IF($A416 = \"\", \"\", COUNTIFS(ToDoList!$B:$B, $A416, ToDoList!$R:$R, G$2))","v":""},{"$f":"IF($A416 = \"\", \"\", COUNTIFS(ToDoList!$B:$B, $A416, ToDoList!$R:$R, H$2))","v":""},{"$f":"IF($A416 = \"\", \"\", COUNTIFS(ToDoList!$B:$B, $A416, ToDoList!$R:$R, I$2))","v":""},{"$f":"IF($A416 = \"\", \"\", COUNTIFS(ToDoList!$B:$B, $A416, ToDoList!$R:$R, J$2))","v":""}]
[null,{"$f":"IF($A417 = \"\", \"\", COUNTIFS(ToDoList!$B:$B, $A417, ToDoList!$R:$R, B$2))","v":""},{"$f":"IF($A417 = \"\", \"\", COUNTIFS(ToDoList!$B:$B, $A417, ToDoList!$R:$R, C$2))","v":""},{"$f":"IF($A417 = \"\", \"\", COUNTIFS(ToDoList!$B:$B, $A417, ToDoList!$R:$R, D$2))","v":""},{"$f":"IF($A417 = \"\", \"\", COUNTIFS(ToDoList!$B:$B, $A417, ToDoList!$R:$R, E$2))","v":""},{"$f":"IF($A417 = \"\", \"\", COUNTIFS(ToDoList!$B:$B, $A417, ToDoList!$R:$R, F$2))","v":""},{"$f":"IF($A417 = \"\", \"\", COUNTIFS(ToDoList!$B:$B, $A417, ToDoList!$R:$R, G$2))","v":""},{"$f":"IF($A417 = \"\", \"\", COUNTIFS(ToDoList!$B:$B, $A417, ToDoList!$R:$R, H$2))","v":""},{"$f":"IF($A417 = \"\", \"\", COUNTIFS(ToDoList!$B:$B, $A417, ToDoList!$R:$R, I$2))","v":""},{"$f":"IF($A417 = \"\", \"\", COUNTIFS(ToDoList!$B:$B, $A417, ToDoList!$R:$R, J$2))","v":""}]
[null,{"$f":"IF($A418 = \"\", \"\", COUNTIFS(ToDoList!$B:$B, $A418, ToDoList!$R:$R, B$2))","v":""},{"$f":"IF($A418 = \"\", \"\", COUNTIFS(ToDoList!$B:$B, $A418, ToDoList!$R:$R, C$2))","v":""},{"$f":"IF($A418 = \"\", \"\", COUNTIFS(ToDoList!$B:$B, $A418, ToDoList!$R:$R, D$2))","v":""},{"$f":"IF($A418 = \"\", \"\", COUNTIFS(ToDoList!$B:$B, $A418, ToDoList!$R:$R, E$2))","v":""},{"$f":"IF($A418 = \"\", \"\", COUNTIFS(ToDoList!$B:$B, $A418, ToDoList!$R:$R, F$2))","v":""},{"$f":"IF($A418 = \"\", \"\", COUNTIFS(ToDoList!$B:$B, $A418, ToDoList!$R:$R, G$2))","v":""},{"$f":"IF($A418 = \"\", \"\", COUNTIFS(ToDoList!$B:$B, $A418, ToDoList!$R:$R, H$2))","v":""},{"$f":"IF($A418 = \"\", \"\", COUNTIFS(ToDoList!$B:$B, $A418, ToDoList!$R:$R, I$2))","v":""},{"$f":"IF($A418 = \"\", \"\", COUNTIFS(ToDoList!$B:$B, $A418, ToDoList!$R:$R, J$2))","v":""}]
[null,{"$f":"IF($A419 = \"\", \"\", COUNTIFS(ToDoList!$B:$B, $A419, ToDoList!$R:$R, B$2))","v":""},{"$f":"IF($A419 = \"\", \"\", COUNTIFS(ToDoList!$B:$B, $A419, ToDoList!$R:$R, C$2))","v":""},{"$f":"IF($A419 = \"\", \"\", COUNTIFS(ToDoList!$B:$B, $A419, ToDoList!$R:$R, D$2))","v":""},{"$f":"IF($A419 = \"\", \"\", COUNTIFS(ToDoList!$B:$B, $A419, ToDoList!$R:$R, E$2))","v":""},{"$f":"IF($A419 = \"\", \"\", COUNTIFS(ToDoList!$B:$B, $A419, ToDoList!$R:$R, F$2))","v":""},{"$f":"IF($A419 = \"\", \"\", COUNTIFS(ToDoList!$B:$B, $A419, ToDoList!$R:$R, G$2))","v":""},{"$f":"IF($A419 = \"\", \"\", COUNTIFS(ToDoList!$B:$B, $A419, ToDoList!$R:$R, H$2))","v":""},{"$f":"IF($A419 = \"\", \"\", COUNTIFS(ToDoList!$B:$B, $A419, ToDoList!$R:$R, I$2))","v":""},{"$f":"IF($A419 = \"\", \"\", COUNTIFS(ToDoList!$B:$B, $A419, ToDoList!$R:$R, J$2))","v":""}]
[null,{"$f":"IF($A420 = \"\", \"\", COUNTIFS(ToDoList!$B:$B, $A420, ToDoList!$R:$R, B$2))","v":""},{"$f":"IF($A420 = \"\", \"\", COUNTIFS(ToDoList!$B:$B, $A420, ToDoList!$R:$R, C$2))","v":""},{"$f":"IF($A420 = \"\", \"\", COUNTIFS(ToDoList!$B:$B, $A420, ToDoList!$R:$R, D$2))","v":""},{"$f":"IF($A420 = \"\", \"\", COUNTIFS(ToDoList!$B:$B, $A420, ToDoList!$R:$R, E$2))","v":""},{"$f":"IF($A420 = \"\", \"\", COUNTIFS(ToDoList!$B:$B, $A420, ToDoList!$R:$R, F$2))","v":""},{"$f":"IF($A420 = \"\", \"\", COUNTIFS(ToDoList!$B:$B, $A420, ToDoList!$R:$R, G$2))","v":""},{"$f":"IF($A420 = \"\", \"\", COUNTIFS(ToDoList!$B:$B, $A420, ToDoList!$R:$R, H$2))","v":""},{"$f":"IF($A420 = \"\", \"\", COUNTIFS(ToDoList!$B:$B, $A420, ToDoList!$R:$R, I$2))","v":""},{"$f":"IF($A420 = \"\", \"\", COUNTIFS(ToDoList!$B:$B, $A420, ToDoList!$R:$R, J$2))","v":""}]
[null,{"$f":"IF($A421 = \"\", \"\", COUNTIFS(ToDoList!$B:$B, $A421, ToDoList!$R:$R, B$2))","v":""},{"$f":"IF($A421 = \"\", \"\", COUNTIFS(ToDoList!$B:$B, $A421, ToDoList!$R:$R, C$2))","v":""},{"$f":"IF($A421 = \"\", \"\", COUNTIFS(ToDoList!$B:$B, $A421, ToDoList!$R:$R, D$2))","v":""},{"$f":"IF($A421 = \"\", \"\", COUNTIFS(ToDoList!$B:$B, $A421, ToDoList!$R:$R, E$2))","v":""},{"$f":"IF($A421 = \"\", \"\", COUNTIFS(ToDoList!$B:$B, $A421, ToDoList!$R:$R, F$2))","v":""},{"$f":"IF($A421 = \"\", \"\", COUNTIFS(ToDoList!$B:$B, $A421, ToDoList!$R:$R, G$2))","v":""},{"$f":"IF($A421 = \"\", \"\", COUNTIFS(ToDoList!$B:$B, $A421, ToDoList!$R:$R, H$2))","v":""},{"$f":"IF($A421 = \"\", \"\", COUNTIFS(ToDoList!$B:$B, $A421, ToDoList!$R:$R, I$2))","v":""},{"$f":"IF($A421 = \"\", \"\", COUNTIFS(ToDoList!$B:$B, $A421, ToDoList!$R:$R, J$2))","v":""}]
[null,{"$f":"IF($A422 = \"\", \"\", COUNTIFS(ToDoList!$B:$B, $A422, ToDoList!$R:$R, B$2))","v":""},{"$f":"IF($A422 = \"\", \"\", COUNTIFS(ToDoList!$B:$B, $A422, ToDoList!$R:$R, C$2))","v":""},{"$f":"IF($A422 = \"\", \"\", COUNTIFS(ToDoList!$B:$B, $A422, ToDoList!$R:$R, D$2))","v":""},{"$f":"IF($A422 = \"\", \"\", COUNTIFS(ToDoList!$B:$B, $A422, ToDoList!$R:$R, E$2))","v":""},{"$f":"IF($A422 = \"\", \"\", COUNTIFS(ToDoList!$B:$B, $A422, ToDoList!$R:$R, F$2))","v":""},{"$f":"IF($A422 = \"\", \"\", COUNTIFS(ToDoList!$B:$B, $A422, ToDoList!$R:$R, G$2))","v":""},{"$f":"IF($A422 = \"\", \"\", COUNTIFS(ToDoList!$B:$B, $A422, ToDoList!$R:$R, H$2))","v":""},{"$f":"IF($A422 = \"\", \"\", COUNTIFS(ToDoList!$B:$B, $A422, ToDoList!$R:$R, I$2))","v":""},{"$f":"IF($A422 = \"\", \"\", COUNTIFS(ToDoList!$B:$B, $A422, ToDoList!$R:$R, J$2))","v":""}]
[null,{"$f":"IF($A423 = \"\", \"\", COUNTIFS(ToDoList!$B:$B, $A423, ToDoList!$R:$R, B$2))","v":""},{"$f":"IF($A423 = \"\", \"\", COUNTIFS(ToDoList!$B:$B, $A423, ToDoList!$R:$R, C$2))","v":""},{"$f":"IF($A423 = \"\", \"\", COUNTIFS(ToDoList!$B:$B, $A423, ToDoList!$R:$R, D$2))","v":""},{"$f":"IF($A423 = \"\", \"\", COUNTIFS(ToDoList!$B:$B, $A423, ToDoList!$R:$R, E$2))","v":""},{"$f":"IF($A423 = \"\", \"\", COUNTIFS(ToDoList!$B:$B, $A423, ToDoList!$R:$R, F$2))","v":""},{"$f":"IF($A423 = \"\", \"\", COUNTIFS(ToDoList!$B:$B, $A423, ToDoList!$R:$R, G$2))","v":""},{"$f":"IF($A423 = \"\", \"\", COUNTIFS(ToDoList!$B:$B, $A423, ToDoList!$R:$R, H$2))","v":""},{"$f":"IF($A423 = \"\", \"\", COUNTIFS(ToDoList!$B:$B, $A423, ToDoList!$R:$R, I$2))","v":""},{"$f":"IF($A423 = \"\", \"\", COUNTIFS(ToDoList!$B:$B, $A423, ToDoList!$R:$R, J$2))","v":""}]
[null,{"$f":"IF($A424 = \"\", \"\", COUNTIFS(ToDoList!$B:$B, $A424, ToDoList!$R:$R, B$2))","v":""},{"$f":"IF($A424 = \"\", \"\", COUNTIFS(ToDoList!$B:$B, $A424, ToDoList!$R:$R, C$2))","v":""},{"$f":"IF($A424 = \"\", \"\", COUNTIFS(ToDoList!$B:$B, $A424, ToDoList!$R:$R, D$2))","v":""},{"$f":"IF($A424 = \"\", \"\", COUNTIFS(ToDoList!$B:$B, $A424, ToDoList!$R:$R, E$2))","v":""},{"$f":"IF($A424 = \"\", \"\", COUNTIFS(ToDoList!$B:$B, $A424, ToDoList!$R:$R, F$2))","v":""},{"$f":"IF($A424 = \"\", \"\", COUNTIFS(ToDoList!$B:$B, $A424, ToDoList!$R:$R, G$2))","v":""},{"$f":"IF($A424 = \"\", \"\", COUNTIFS(ToDoList!$B:$B, $A424, ToDoList!$R:$R, H$2))","v":""},{"$f":"IF($A424 = \"\", \"\", COUNTIFS(ToDoList!$B:$B, $A424, ToDoList!$R:$R, I$2))","v":""},{"$f":"IF($A424 = \"\", \"\", COUNTIFS(ToDoList!$B:$B, $A424, ToDoList!$R:$R, J$2))","v":""}]
[null,{"$f":"IF($A425 = \"\", \"\", COUNTIFS(ToDoList!$B:$B, $A425, ToDoList!$R:$R, B$2))","v":""},{"$f":"IF($A425 = \"\", \"\", COUNTIFS(ToDoList!$B:$B, $A425, ToDoList!$R:$R, C$2))","v":""},{"$f":"IF($A425 = \"\", \"\", COUNTIFS(ToDoList!$B:$B, $A425, ToDoList!$R:$R, D$2))","v":""},{"$f":"IF($A425 = \"\", \"\", COUNTIFS(ToDoList!$B:$B, $A425, ToDoList!$R:$R, E$2))","v":""},{"$f":"IF($A425 = \"\", \"\", COUNTIFS(ToDoList!$B:$B, $A425, ToDoList!$R:$R, F$2))","v":""},{"$f":"IF($A425 = \"\", \"\", COUNTIFS(ToDoList!$B:$B, $A425, ToDoList!$R:$R, G$2))","v":""},{"$f":"IF($A425 = \"\", \"\", COUNTIFS(ToDoList!$B:$B, $A425, ToDoList!$R:$R, H$2))","v":""},{"$f":"IF($A425 = \"\", \"\", COUNTIFS(ToDoList!$B:$B, $A425, ToDoList!$R:$R, I$2))","v":""},{"$f":"IF($A425 = \"\", \"\", COUNTIFS(ToDoList!$B:$B, $A425, ToDoList!$R:$R, J$2))","v":""}]
[null,{"$f":"IF($A426 = \"\", \"\", COUNTIFS(ToDoList!$B:$B, $A426, ToDoList!$R:$R, B$2))","v":""},{"$f":"IF($A426 = \"\", \"\", COUNTIFS(ToDoList!$B:$B, $A426, ToDoList!$R:$R, C$2))","v":""},{"$f":"IF($A426 = \"\", \"\", COUNTIFS(ToDoList!$B:$B, $A426, ToDoList!$R:$R, D$2))","v":""},{"$f":"IF($A426 = \"\", \"\", COUNTIFS(ToDoList!$B:$B, $A426, ToDoList!$R:$R, E$2))","v":""},{"$f":"IF($A426 = \"\", \"\", COUNTIFS(ToDoList!$B:$B, $A426, ToDoList!$R:$R, F$2))","v":""},{"$f":"IF($A426 = \"\", \"\", COUNTIFS(ToDoList!$B:$B, $A426, ToDoList!$R:$R, G$2))","v":""},{"$f":"IF($A426 = \"\", \"\", COUNTIFS(ToDoList!$B:$B, $A426, ToDoList!$R:$R, H$2))","v":""},{"$f":"IF($A426 = \"\", \"\", COUNTIFS(ToDoList!$B:$B, $A426, ToDoList!$R:$R, I$2))","v":""},{"$f":"IF($A426 = \"\", \"\", COUNTIFS(ToDoList!$B:$B, $A426, ToDoList!$R:$R, J$2))","v":""}]
[null,{"$f":"IF($A427 = \"\", \"\", COUNTIFS(ToDoList!$B:$B, $A427, ToDoList!$R:$R, B$2))","v":""},{"$f":"IF($A427 = \"\", \"\", COUNTIFS(ToDoList!$B:$B, $A427, ToDoList!$R:$R, C$2))","v":""},{"$f":"IF($A427 = \"\", \"\", COUNTIFS(ToDoList!$B:$B, $A427, ToDoList!$R:$R, D$2))","v":""},{"$f":"IF($A427 = \"\", \"\", COUNTIFS(ToDoList!$B:$B, $A427, ToDoList!$R:$R, E$2))","v":""},{"$f":"IF($A427 = \"\", \"\", COUNTIFS(ToDoList!$B:$B, $A427, ToDoList!$R:$R, F$2))","v":""},{"$f":"IF($A427 = \"\", \"\", COUNTIFS(ToDoList!$B:$B, $A427, ToDoList!$R:$R, G$2))","v":""},{"$f":"IF($A427 = \"\", \"\", COUNTIFS(ToDoList!$B:$B, $A427, ToDoList!$R:$R, H$2))","v":""},{"$f":"IF($A427 = \"\", \"\", COUNTIFS(ToDoList!$B:$B, $A427, ToDoList!$R:$R, I$2))","v":""},{"$f":"IF($A427 = \"\", \"\", COUNTIFS(ToDoList!$B:$B, $A427, ToDoList!$R:$R, J$2))","v":""}]
[null,{"$f":"IF($A428 = \"\", \"\", COUNTIFS(ToDoList!$B:$B, $A428, ToDoList!$R:$R, B$2))","v":""},{"$f":"IF($A428 = \"\", \"\", COUNTIFS(ToDoList!$B:$B, $A428, ToDoList!$R:$R, C$2))","v":""},{"$f":"IF($A428 = \"\", \"\", COUNTIFS(ToDoList!$B:$B, $A428, ToDoList!$R:$R, D$2))","v":""},{"$f":"IF($A428 = \"\", \"\", COUNTIFS(ToDoList!$B:$B, $A428, ToDoList!$R:$R, E$2))","v":""},{"$f":"IF($A428 = \"\", \"\", COUNTIFS(ToDoList!$B:$B, $A428, ToDoList!$R:$R, F$2))","v":""},{"$f":"IF($A428 = \"\", \"\", COUNTIFS(ToDoList!$B:$B, $A428, ToDoList!$R:$R, G$2))","v":""},{"$f":"IF($A428 = \"\", \"\", COUNTIFS(ToDoList!$B:$B, $A428, ToDoList!$R:$R, H$2))","v":""},{"$f":"IF($A428 = \"\", \"\", COUNTIFS(ToDoList!$B:$B, $A428, ToDoList!$R:$R, I$2))","v":""},{"$f":"IF($A428 = \"\", \"\", COUNTIFS(ToDoList!$B:$B, $A428, ToDoList!$R:$R, J$2))","v":""}]
[null,{"$f":"IF($A429 = \"\", \"\", COUNTIFS(ToDoList!$B:$B, $A429, ToDoList!$R:$R, B$2))","v":""},{"$f":"IF($A429 = \"\", \"\", COUNTIFS(ToDoList!$B:$B, $A429, ToDoList!$R:$R, C$2))","v":""},{"$f":"IF($A429 = \"\", \"\", COUNTIFS(ToDoList!$B:$B, $A429, ToDoList!$R:$R, D$2))","v":""},{"$f":"IF($A429 = \"\", \"\", COUNTIFS(ToDoList!$B:$B, $A429, ToDoList!$R:$R, E$2))","v":""},{"$f":"IF($A429 = \"\", \"\", COUNTIFS(ToDoList!$B:$B, $A429, ToDoList!$R:$R, F$2))","v":""},{"$f":"IF($A429 = \"\", \"\", COUNTIFS(ToDoList!$B:$B, $A429, ToDoList!$R:$R, G$2))","v":""},{"$f":"IF($A429 = \"\", \"\", COUNTIFS(ToDoList!$B:$B, $A429, ToDoList!$R:$R, H$2))","v":""},{"$f":"IF($A429 = \"\", \"\", COUNTIFS(ToDoList!$B:$B, $A429, ToDoList!$R:$R, I$2))","v":""},{"$f":"IF($A429 = \"\", \"\", COUNTIFS(ToDoList!$B:$B, $A429, ToDoList!$R:$R, J$2))","v":""}]
[null,{"$f":"IF($A430 = \"\", \"\", COUNTIFS(ToDoList!$B:$B, $A430, ToDoList!$R:$R, B$2))","v":""},{"$f":"IF($A430 = \"\", \"\", COUNTIFS(ToDoList!$B:$B, $A430, ToDoList!$R:$R, C$2))","v":""},{"$f":"IF($A430 = \"\", \"\", COUNTIFS(ToDoList!$B:$B, $A430, ToDoList!$R:$R, D$2))","v":""},{"$f":"IF($A430 = \"\", \"\", COUNTIFS(ToDoList!$B:$B, $A430, ToDoList!$R:$R, E$2))","v":""},{"$f":"IF($A430 = \"\", \"\", COUNTIFS(ToDoList!$B:$B, $A430, ToDoList!$R:$R, F$2))","v":""},{"$f":"IF($A430 = \"\", \"\", COUNTIFS(ToDoList!$B:$B, $A430, ToDoList!$R:$R, G$2))","v":""},{"$f":"IF($A430 = \"\", \"\", COUNTIFS(ToDoList!$B:$B, $A430, ToDoList!$R:$R, H$2))","v":""},{"$f":"IF($A430 = \"\", \"\", COUNTIFS(ToDoList!$B:$B, $A430, ToDoList!$R:$R, I$2))","v":""},{"$f":"IF($A430 = \"\", \"\", COUNTIFS(ToDoList!$B:$B, $A430, ToDoList!$R:$R, J$2))","v":""}]
[null,{"$f":"IF($A431 = \"\", \"\", COUNTIFS(ToDoList!$B:$B, $A431, ToDoList!$R:$R, B$2))","v":""},{"$f":"IF($A431 = \"\", \"\", COUNTIFS(ToDoList!$B:$B, $A431, ToDoList!$R:$R, C$2))","v":""},{"$f":"IF($A431 = \"\", \"\", COUNTIFS(ToDoList!$B:$B, $A431, ToDoList!$R:$R, D$2))","v":""},{"$f":"IF($A431 = \"\", \"\", COUNTIFS(ToDoList!$B:$B, $A431, ToDoList!$R:$R, E$2))","v":""},{"$f":"IF($A431 = \"\", \"\", COUNTIFS(ToDoList!$B:$B, $A431, ToDoList!$R:$R, F$2))","v":""},{"$f":"IF($A431 = \"\", \"\", COUNTIFS(ToDoList!$B:$B, $A431, ToDoList!$R:$R, G$2))","v":""},{"$f":"IF($A431 = \"\", \"\", COUNTIFS(ToDoList!$B:$B, $A431, ToDoList!$R:$R, H$2))","v":""},{"$f":"IF($A431 = \"\", \"\", COUNTIFS(ToDoList!$B:$B, $A431, ToDoList!$R:$R, I$2))","v":""},{"$f":"IF($A431 = \"\", \"\", COUNTIFS(ToDoList!$B:$B, $A431, ToDoList!$R:$R, J$2))","v":""}]
[null,{"$f":"IF($A432 = \"\", \"\", COUNTIFS(ToDoList!$B:$B, $A432, ToDoList!$R:$R, B$2))","v":""},{"$f":"IF($A432 = \"\", \"\", COUNTIFS(ToDoList!$B:$B, $A432, ToDoList!$R:$R, C$2))","v":""},{"$f":"IF($A432 = \"\", \"\", COUNTIFS(ToDoList!$B:$B, $A432, ToDoList!$R:$R, D$2))","v":""},{"$f":"IF($A432 = \"\", \"\", COUNTIFS(ToDoList!$B:$B, $A432, ToDoList!$R:$R, E$2))","v":""},{"$f":"IF($A432 = \"\", \"\", COUNTIFS(ToDoList!$B:$B, $A432, ToDoList!$R:$R, F$2))","v":""},{"$f":"IF($A432 = \"\", \"\", COUNTIFS(ToDoList!$B:$B, $A432, ToDoList!$R:$R, G$2))","v":""},{"$f":"IF($A432 = \"\", \"\", COUNTIFS(ToDoList!$B:$B, $A432, ToDoList!$R:$R, H$2))","v":""},{"$f":"IF($A432 = \"\", \"\", COUNTIFS(ToDoList!$B:$B, $A432, ToDoList!$R:$R, I$2))","v":""},{"$f":"IF($A432 = \"\", \"\", COUNTIFS(ToDoList!$B:$B, $A432, ToDoList!$R:$R, J$2))","v":""}]
[null,{"$f":"IF($A433 = \"\", \"\", COUNTIFS(ToDoList!$B:$B, $A433, ToDoList!$R:$R, B$2))","v":""},{"$f":"IF($A433 = \"\", \"\", COUNTIFS(ToDoList!$B:$B, $A433, ToDoList!$R:$R, C$2))","v":""},{"$f":"IF($A433 = \"\", \"\", COUNTIFS(ToDoList!$B:$B, $A433, ToDoList!$R:$R, D$2))","v":""},{"$f":"IF($A433 = \"\", \"\", COUNTIFS(ToDoList!$B:$B, $A433, ToDoList!$R:$R, E$2))","v":""},{"$f":"IF($A433 = \"\", \"\", COUNTIFS(ToDoList!$B:$B, $A433, ToDoList!$R:$R, F$2))","v":""},{"$f":"IF($A433 = \"\", \"\", COUNTIFS(ToDoList!$B:$B, $A433, ToDoList!$R:$R, G$2))","v":""},{"$f":"IF($A433 = \"\", \"\", COUNTIFS(ToDoList!$B:$B, $A433, ToDoList!$R:$R, H$2))","v":""},{"$f":"IF($A433 = \"\", \"\", COUNTIFS(ToDoList!$B:$B, $A433, ToDoList!$R:$R, I$2))","v":""},{"$f":"IF($A433 = \"\", \"\", COUNTIFS(ToDoList!$B:$B, $A433, ToDoList!$R:$R, J$2))","v":""}]
[null,{"$f":"IF($A434 = \"\", \"\", COUNTIFS(ToDoList!$B:$B, $A434, ToDoList!$R:$R, B$2))","v":""},{"$f":"IF($A434 = \"\", \"\", COUNTIFS(ToDoList!$B:$B, $A434, ToDoList!$R:$R, C$2))","v":""},{"$f":"IF($A434 = \"\", \"\", COUNTIFS(ToDoList!$B:$B, $A434, ToDoList!$R:$R, D$2))","v":""},{"$f":"IF($A434 = \"\", \"\", COUNTIFS(ToDoList!$B:$B, $A434, ToDoList!$R:$R, E$2))","v":""},{"$f":"IF($A434 = \"\", \"\", COUNTIFS(ToDoList!$B:$B, $A434, ToDoList!$R:$R, F$2))","v":""},{"$f":"IF($A434 = \"\", \"\", COUNTIFS(ToDoList!$B:$B, $A434, ToDoList!$R:$R, G$2))","v":""},{"$f":"IF($A434 = \"\", \"\", COUNTIFS(ToDoList!$B:$B, $A434, ToDoList!$R:$R, H$2))","v":""},{"$f":"IF($A434 = \"\", \"\", COUNTIFS(ToDoList!$B:$B, $A434, ToDoList!$R:$R, I$2))","v":""},{"$f":"IF($A434 = \"\", \"\", COUNTIFS(ToDoList!$B:$B, $A434, ToDoList!$R:$R, J$2))","v":""}]
[null,{"$f":"IF($A435 = \"\", \"\", COUNTIFS(ToDoList!$B:$B, $A435, ToDoList!$R:$R, B$2))","v":""},{"$f":"IF($A435 = \"\", \"\", COUNTIFS(ToDoList!$B:$B, $A435, ToDoList!$R:$R, C$2))","v":""},{"$f":"IF($A435 = \"\", \"\", COUNTIFS(ToDoList!$B:$B, $A435, ToDoList!$R:$R, D$2))","v":""},{"$f":"IF($A435 = \"\", \"\", COUNTIFS(ToDoList!$B:$B, $A435, ToDoList!$R:$R, E$2))","v":""},{"$f":"IF($A435 = \"\", \"\", COUNTIFS(ToDoList!$B:$B, $A435, ToDoList!$R:$R, F$2))","v":""},{"$f":"IF($A435 = \"\", \"\", COUNTIFS(ToDoList!$B:$B, $A435, ToDoList!$R:$R, G$2))","v":""},{"$f":"IF($A435 = \"\", \"\", COUNTIFS(ToDoList!$B:$B, $A435, ToDoList!$R:$R, H$2))","v":""},{"$f":"IF($A435 = \"\", \"\", COUNTIFS(ToDoList!$B:$B, $A435, ToDoList!$R:$R, I$2))","v":""},{"$f":"IF($A435 = \"\", \"\", COUNTIFS(ToDoList!$B:$B, $A435, ToDoList!$R:$R, J$2))","v":""}]
[null,{"$f":"IF($A436 = \"\", \"\", COUNTIFS(ToDoList!$B:$B, $A436, ToDoList!$R:$R, B$2))","v":""},{"$f":"IF($A436 = \"\", \"\", COUNTIFS(ToDoList!$B:$B, $A436, ToDoList!$R:$R, C$2))","v":""},{"$f":"IF($A436 = \"\", \"\", COUNTIFS(ToDoList!$B:$B, $A436, ToDoList!$R:$R, D$2))","v":""},{"$f":"IF($A436 = \"\", \"\", COUNTIFS(ToDoList!$B:$B, $A436, ToDoList!$R:$R, E$2))","v":""},{"$f":"IF($A436 = \"\", \"\", COUNTIFS(ToDoList!$B:$B, $A436, ToDoList!$R:$R, F$2))","v":""},{"$f":"IF($A436 = \"\", \"\", COUNTIFS(ToDoList!$B:$B, $A436, ToDoList!$R:$R, G$2))","v":""},{"$f":"IF($A436 = \"\", \"\", COUNTIFS(ToDoList!$B:$B, $A436, ToDoList!$R:$R, H$2))","v":""},{"$f":"IF($A436 = \"\", \"\", COUNTIFS(ToDoList!$B:$B, $A436, ToDoList!$R:$R, I$2))","v":""},{"$f":"IF($A436 = \"\", \"\", COUNTIFS(ToDoList!$B:$B, $A436, ToDoList!$R:$R, J$2))","v":""}]
[null,{"$f":"IF($A437 = \"\", \"\", COUNTIFS(ToDoList!$B:$B, $A437, ToDoList!$R:$R, B$2))","v":""},{"$f":"IF($A437 = \"\", \"\", COUNTIFS(ToDoList!$B:$B, $A437, ToDoList!$R:$R, C$2))","v":""},{"$f":"IF($A437 = \"\", \"\", COUNTIFS(ToDoList!$B:$B, $A437, ToDoList!$R:$R, D$2))","v":""},{"$f":"IF($A437 = \"\", \"\", COUNTIFS(ToDoList!$B:$B, $A437, ToDoList!$R:$R, E$2))","v":""},{"$f":"IF($A437 = \"\", \"\", COUNTIFS(ToDoList!$B:$B, $A437, ToDoList!$R:$R, F$2))","v":""},{"$f":"IF($A437 = \"\", \"\", COUNTIFS(ToDoList!$B:$B, $A437, ToDoList!$R:$R, G$2))","v":""},{"$f":"IF($A437 = \"\", \"\", COUNTIFS(ToDoList!$B:$B, $A437, ToDoList!$R:$R, H$2))","v":""},{"$f":"IF($A437 = \"\", \"\", COUNTIFS(ToDoList!$B:$B, $A437, ToDoList!$R:$R, I$2))","v":""},{"$f":"IF($A437 = \"\", \"\", COUNTIFS(ToDoList!$B:$B, $A437, ToDoList!$R:$R, J$2))","v":""}]
[null,{"$f":"IF($A438 = \"\", \"\", COUNTIFS(ToDoList!$B:$B, $A438, ToDoList!$R:$R, B$2))","v":""},{"$f":"IF($A438 = \"\", \"\", COUNTIFS(ToDoList!$B:$B, $A438, ToDoList!$R:$R, C$2))","v":""},{"$f":"IF($A438 = \"\", \"\", COUNTIFS(ToDoList!$B:$B, $A438, ToDoList!$R:$R, D$2))","v":""},{"$f":"IF($A438 = \"\", \"\", COUNTIFS(ToDoList!$B:$B, $A438, ToDoList!$R:$R, E$2))","v":""},{"$f":"IF($A438 = \"\", \"\", COUNTIFS(ToDoList!$B:$B, $A438, ToDoList!$R:$R, F$2))","v":""},{"$f":"IF($A438 = \"\", \"\", COUNTIFS(ToDoList!$B:$B, $A438, ToDoList!$R:$R, G$2))","v":""},{"$f":"IF($A438 = \"\", \"\", COUNTIFS(ToDoList!$B:$B, $A438, ToDoList!$R:$R, H$2))","v":""},{"$f":"IF($A438 = \"\", \"\", COUNTIFS(ToDoList!$B:$B, $A438, ToDoList!$R:$R, I$2))","v":""},{"$f":"IF($A438 = \"\", \"\", COUNTIFS(ToDoList!$B:$B, $A438, ToDoList!$R:$R, J$2))","v":""}]
[null,{"$f":"IF($A439 = \"\", \"\", COUNTIFS(ToDoList!$B:$B, $A439, ToDoList!$R:$R, B$2))","v":""},{"$f":"IF($A439 = \"\", \"\", COUNTIFS(ToDoList!$B:$B, $A439, ToDoList!$R:$R, C$2))","v":""},{"$f":"IF($A439 = \"\", \"\", COUNTIFS(ToDoList!$B:$B, $A439, ToDoList!$R:$R, D$2))","v":""},{"$f":"IF($A439 = \"\", \"\", COUNTIFS(ToDoList!$B:$B, $A439, ToDoList!$R:$R, E$2))","v":""},{"$f":"IF($A439 = \"\", \"\", COUNTIFS(ToDoList!$B:$B, $A439, ToDoList!$R:$R, F$2))","v":""},{"$f":"IF($A439 = \"\", \"\", COUNTIFS(ToDoList!$B:$B, $A439, ToDoList!$R:$R, G$2))","v":""},{"$f":"IF($A439 = \"\", \"\", COUNTIFS(ToDoList!$B:$B, $A439, ToDoList!$R:$R, H$2))","v":""},{"$f":"IF($A439 = \"\", \"\", COUNTIFS(ToDoList!$B:$B, $A439, ToDoList!$R:$R, I$2))","v":""},{"$f":"IF($A439 = \"\", \"\", COUNTIFS(ToDoList!$B:$B, $A439, ToDoList!$R:$R, J$2))","v":""}]
[null,{"$f":"IF($A440 = \"\", \"\", COUNTIFS(ToDoList!$B:$B, $A440, ToDoList!$R:$R, B$2))","v":""},{"$f":"IF($A440 = \"\", \"\", COUNTIFS(ToDoList!$B:$B, $A440, ToDoList!$R:$R, C$2))","v":""},{"$f":"IF($A440 = \"\", \"\", COUNTIFS(ToDoList!$B:$B, $A440, ToDoList!$R:$R, D$2))","v":""},{"$f":"IF($A440 = \"\", \"\", COUNTIFS(ToDoList!$B:$B, $A440, ToDoList!$R:$R, E$2))","v":""},{"$f":"IF($A440 = \"\", \"\", COUNTIFS(ToDoList!$B:$B, $A440, ToDoList!$R:$R, F$2))","v":""},{"$f":"IF($A440 = \"\", \"\", COUNTIFS(ToDoList!$B:$B, $A440, ToDoList!$R:$R, G$2))","v":""},{"$f":"IF($A440 = \"\", \"\", COUNTIFS(ToDoList!$B:$B, $A440, ToDoList!$R:$R, H$2))","v":""},{"$f":"IF($A440 = \"\", \"\", COUNTIFS(ToDoList!$B:$B, $A440, ToDoList!$R:$R, I$2))","v":""},{"$f":"IF($A440 = \"\", \"\", COUNTIFS(ToDoList!$B:$B, $A440, ToDoList!$R:$R, J$2))","v":""}]
[null,{"$f":"IF($A441 = \"\", \"\", COUNTIFS(ToDoList!$B:$B, $A441, ToDoList!$R:$R, B$2))","v":""},{"$f":"IF($A441 = \"\", \"\", COUNTIFS(ToDoList!$B:$B, $A441, ToDoList!$R:$R, C$2))","v":""},{"$f":"IF($A441 = \"\", \"\", COUNTIFS(ToDoList!$B:$B, $A441, ToDoList!$R:$R, D$2))","v":""},{"$f":"IF($A441 = \"\", \"\", COUNTIFS(ToDoList!$B:$B, $A441, ToDoList!$R:$R, E$2))","v":""},{"$f":"IF($A441 = \"\", \"\", COUNTIFS(ToDoList!$B:$B, $A441, ToDoList!$R:$R, F$2))","v":""},{"$f":"IF($A441 = \"\", \"\", COUNTIFS(ToDoList!$B:$B, $A441, ToDoList!$R:$R, G$2))","v":""},{"$f":"IF($A441 = \"\", \"\", COUNTIFS(ToDoList!$B:$B, $A441, ToDoList!$R:$R, H$2))","v":""},{"$f":"IF($A441 = \"\", \"\", COUNTIFS(ToDoList!$B:$B, $A441, ToDoList!$R:$R, I$2))","v":""},{"$f":"IF($A441 = \"\", \"\", COUNTIFS(ToDoList!$B:$B, $A441, ToDoList!$R:$R, J$2))","v":""}]
[null,{"$f":"IF($A442 = \"\", \"\", COUNTIFS(ToDoList!$B:$B, $A442, ToDoList!$R:$R, B$2))","v":""},{"$f":"IF($A442 = \"\", \"\", COUNTIFS(ToDoList!$B:$B, $A442, ToDoList!$R:$R, C$2))","v":""},{"$f":"IF($A442 = \"\", \"\", COUNTIFS(ToDoList!$B:$B, $A442, ToDoList!$R:$R, D$2))","v":""},{"$f":"IF($A442 = \"\", \"\", COUNTIFS(ToDoList!$B:$B, $A442, ToDoList!$R:$R, E$2))","v":""},{"$f":"IF($A442 = \"\", \"\", COUNTIFS(ToDoList!$B:$B, $A442, ToDoList!$R:$R, F$2))","v":""},{"$f":"IF($A442 = \"\", \"\", COUNTIFS(ToDoList!$B:$B, $A442, ToDoList!$R:$R, G$2))","v":""},{"$f":"IF($A442 = \"\", \"\", COUNTIFS(ToDoList!$B:$B, $A442, ToDoList!$R:$R, H$2))","v":""},{"$f":"IF($A442 = \"\", \"\", COUNTIFS(ToDoList!$B:$B, $A442, ToDoList!$R:$R, I$2))","v":""},{"$f":"IF($A442 = \"\", \"\", COUNTIFS(ToDoList!$B:$B, $A442, ToDoList!$R:$R, J$2))","v":""}]
[null,{"$f":"IF($A443 = \"\", \"\", COUNTIFS(ToDoList!$B:$B, $A443, ToDoList!$R:$R, B$2))","v":""},{"$f":"IF($A443 = \"\", \"\", COUNTIFS(ToDoList!$B:$B, $A443, ToDoList!$R:$R, C$2))","v":""},{"$f":"IF($A443 = \"\", \"\", COUNTIFS(ToDoList!$B:$B, $A443, ToDoList!$R:$R, D$2))","v":""},{"$f":"IF($A443 = \"\", \"\", COUNTIFS(ToDoList!$B:$B, $A443, ToDoList!$R:$R, E$2))","v":""},{"$f":"IF($A443 = \"\", \"\", COUNTIFS(ToDoList!$B:$B, $A443, ToDoList!$R:$R, F$2))","v":""},{"$f":"IF($A443 = \"\", \"\", COUNTIFS(ToDoList!$B:$B, $A443, ToDoList!$R:$R, G$2))","v":""},{"$f":"IF($A443 = \"\", \"\", COUNTIFS(ToDoList!$B:$B, $A443, ToDoList!$R:$R, H$2))","v":""},{"$f":"IF($A443 = \"\", \"\", COUNTIFS(ToDoList!$B:$B, $A443, ToDoList!$R:$R, I$2))","v":""},{"$f":"IF($A443 = \"\", \"\", COUNTIFS(ToDoList!$B:$B, $A443, ToDoList!$R:$R, J$2))","v":""}]
[null,{"$f":"IF($A444 = \"\", \"\", COUNTIFS(ToDoList!$B:$B, $A444, ToDoList!$R:$R, B$2))","v":""},{"$f":"IF($A444 = \"\", \"\", COUNTIFS(ToDoList!$B:$B, $A444, ToDoList!$R:$R, C$2))","v":""},{"$f":"IF($A444 = \"\", \"\", COUNTIFS(ToDoList!$B:$B, $A444, ToDoList!$R:$R, D$2))","v":""},{"$f":"IF($A444 = \"\", \"\", COUNTIFS(ToDoList!$B:$B, $A444, ToDoList!$R:$R, E$2))","v":""},{"$f":"IF($A444 = \"\", \"\", COUNTIFS(ToDoList!$B:$B, $A444, ToDoList!$R:$R, F$2))","v":""},{"$f":"IF($A444 = \"\", \"\", COUNTIFS(ToDoList!$B:$B, $A444, ToDoList!$R:$R, G$2))","v":""},{"$f":"IF($A444 = \"\", \"\", COUNTIFS(ToDoList!$B:$B, $A444, ToDoList!$R:$R, H$2))","v":""},{"$f":"IF($A444 = \"\", \"\", COUNTIFS(ToDoList!$B:$B, $A444, ToDoList!$R:$R, I$2))","v":""},{"$f":"IF($A444 = \"\", \"\", COUNTIFS(ToDoList!$B:$B, $A444, ToDoList!$R:$R, J$2))","v":""}]
[null,{"$f":"IF($A445 = \"\", \"\", COUNTIFS(ToDoList!$B:$B, $A445, ToDoList!$R:$R, B$2))","v":""},{"$f":"IF($A445 = \"\", \"\", COUNTIFS(ToDoList!$B:$B, $A445, ToDoList!$R:$R, C$2))","v":""},{"$f":"IF($A445 = \"\", \"\", COUNTIFS(ToDoList!$B:$B, $A445, ToDoList!$R:$R, D$2))","v":""},{"$f":"IF($A445 = \"\", \"\", COUNTIFS(ToDoList!$B:$B, $A445, ToDoList!$R:$R, E$2))","v":""},{"$f":"IF($A445 = \"\", \"\", COUNTIFS(ToDoList!$B:$B, $A445, ToDoList!$R:$R, F$2))","v":""},{"$f":"IF($A445 = \"\", \"\", COUNTIFS(ToDoList!$B:$B, $A445, ToDoList!$R:$R, G$2))","v":""},{"$f":"IF($A445 = \"\", \"\", COUNTIFS(ToDoList!$B:$B, $A445, ToDoList!$R:$R, H$2))","v":""},{"$f":"IF($A445 = \"\", \"\", COUNTIFS(ToDoList!$B:$B, $A445, ToDoList!$R:$R, I$2))","v":""},{"$f":"IF($A445 = \"\", \"\", COUNTIFS(ToDoList!$B:$B, $A445, ToDoList!$R:$R, J$2))","v":""}]
[null,{"$f":"IF($A446 = \"\", \"\", COUNTIFS(ToDoList!$B:$B, $A446, ToDoList!$R:$R, B$2))","v":""},{"$f":"IF($A446 = \"\", \"\", COUNTIFS(ToDoList!$B:$B, $A446, ToDoList!$R:$R, C$2))","v":""},{"$f":"IF($A446 = \"\", \"\", COUNTIFS(ToDoList!$B:$B, $A446, ToDoList!$R:$R, D$2))","v":""},{"$f":"IF($A446 = \"\", \"\", COUNTIFS(ToDoList!$B:$B, $A446, ToDoList!$R:$R, E$2))","v":""},{"$f":"IF($A446 = \"\", \"\", COUNTIFS(ToDoList!$B:$B, $A446, ToDoList!$R:$R, F$2))","v":""},{"$f":"IF($A446 = \"\", \"\", COUNTIFS(ToDoList!$B:$B, $A446, ToDoList!$R:$R, G$2))","v":""},{"$f":"IF($A446 = \"\", \"\", COUNTIFS(ToDoList!$B:$B, $A446, ToDoList!$R:$R, H$2))","v":""},{"$f":"IF($A446 = \"\", \"\", COUNTIFS(ToDoList!$B:$B, $A446, ToDoList!$R:$R, I$2))","v":""},{"$f":"IF($A446 = \"\", \"\", COUNTIFS(ToDoList!$B:$B, $A446, ToDoList!$R:$R, J$2))","v":""}]
[null,{"$f":"IF($A447 = \"\", \"\", COUNTIFS(ToDoList!$B:$B, $A447, ToDoList!$R:$R, B$2))","v":""},{"$f":"IF($A447 = \"\", \"\", COUNTIFS(ToDoList!$B:$B, $A447, ToDoList!$R:$R, C$2))","v":""},{"$f":"IF($A447 = \"\", \"\", COUNTIFS(ToDoList!$B:$B, $A447, ToDoList!$R:$R, D$2))","v":""},{"$f":"IF($A447 = \"\", \"\", COUNTIFS(ToDoList!$B:$B, $A447, ToDoList!$R:$R, E$2))","v":""},{"$f":"IF($A447 = \"\", \"\", COUNTIFS(ToDoList!$B:$B, $A447, ToDoList!$R:$R, F$2))","v":""},{"$f":"IF($A447 = \"\", \"\", COUNTIFS(ToDoList!$B:$B, $A447, ToDoList!$R:$R, G$2))","v":""},{"$f":"IF($A447 = \"\", \"\", COUNTIFS(ToDoList!$B:$B, $A447, ToDoList!$R:$R, H$2))","v":""},{"$f":"IF($A447 = \"\", \"\", COUNTIFS(ToDoList!$B:$B, $A447, ToDoList!$R:$R, I$2))","v":""},{"$f":"IF($A447 = \"\", \"\", COUNTIFS(ToDoList!$B:$B, $A447, ToDoList!$R:$R, J$2))","v":""}]
[null,{"$f":"IF($A448 = \"\", \"\", COUNTIFS(ToDoList!$B:$B, $A448, ToDoList!$R:$R, B$2))","v":""},{"$f":"IF($A448 = \"\", \"\", COUNTIFS(ToDoList!$B:$B, $A448, ToDoList!$R:$R, C$2))","v":""},{"$f":"IF($A448 = \"\", \"\", COUNTIFS(ToDoList!$B:$B, $A448, ToDoList!$R:$R, D$2))","v":""},{"$f":"IF($A448 = \"\", \"\", COUNTIFS(ToDoList!$B:$B, $A448, ToDoList!$R:$R, E$2))","v":""},{"$f":"IF($A448 = \"\", \"\", COUNTIFS(ToDoList!$B:$B, $A448, ToDoList!$R:$R, F$2))","v":""},{"$f":"IF($A448 = \"\", \"\", COUNTIFS(ToDoList!$B:$B, $A448, ToDoList!$R:$R, G$2))","v":""},{"$f":"IF($A448 = \"\", \"\", COUNTIFS(ToDoList!$B:$B, $A448, ToDoList!$R:$R, H$2))","v":""},{"$f":"IF($A448 = \"\", \"\", COUNTIFS(ToDoList!$B:$B, $A448, ToDoList!$R:$R, I$2))","v":""},{"$f":"IF($A448 = \"\", \"\", COUNTIFS(ToDoList!$B:$B, $A448, ToDoList!$R:$R, J$2))","v":""}]
[null,{"$f":"IF($A449 = \"\", \"\", COUNTIFS(ToDoList!$B:$B, $A449, ToDoList!$R:$R, B$2))","v":""},{"$f":"IF($A449 = \"\", \"\", COUNTIFS(ToDoList!$B:$B, $A449, ToDoList!$R:$R, C$2))","v":""},{"$f":"IF($A449 = \"\", \"\", COUNTIFS(ToDoList!$B:$B, $A449, ToDoList!$R:$R, D$2))","v":""},{"$f":"IF($A449 = \"\", \"\", COUNTIFS(ToDoList!$B:$B, $A449, ToDoList!$R:$R, E$2))","v":""},{"$f":"IF($A449 = \"\", \"\", COUNTIFS(ToDoList!$B:$B, $A449, ToDoList!$R:$R, F$2))","v":""},{"$f":"IF($A449 = \"\", \"\", COUNTIFS(ToDoList!$B:$B, $A449, ToDoList!$R:$R, G$2))","v":""},{"$f":"IF($A449 = \"\", \"\", COUNTIFS(ToDoList!$B:$B, $A449, ToDoList!$R:$R, H$2))","v":""},{"$f":"IF($A449 = \"\", \"\", COUNTIFS(ToDoList!$B:$B, $A449, ToDoList!$R:$R, I$2))","v":""},{"$f":"IF($A449 = \"\", \"\", COUNTIFS(ToDoList!$B:$B, $A449, ToDoList!$R:$R, J$2))","v":""}]
[null,{"$f":"IF($A450 = \"\", \"\", COUNTIFS(ToDoList!$B:$B, $A450, ToDoList!$R:$R, B$2))","v":""},{"$f":"IF($A450 = \"\", \"\", COUNTIFS(ToDoList!$B:$B, $A450, ToDoList!$R:$R, C$2))","v":""},{"$f":"IF($A450 = \"\", \"\", COUNTIFS(ToDoList!$B:$B, $A450, ToDoList!$R:$R, D$2))","v":""},{"$f":"IF($A450 = \"\", \"\", COUNTIFS(ToDoList!$B:$B, $A450, ToDoList!$R:$R, E$2))","v":""},{"$f":"IF($A450 = \"\", \"\", COUNTIFS(ToDoList!$B:$B, $A450, ToDoList!$R:$R, F$2))","v":""},{"$f":"IF($A450 = \"\", \"\", COUNTIFS(ToDoList!$B:$B, $A450, ToDoList!$R:$R, G$2))","v":""},{"$f":"IF($A450 = \"\", \"\", COUNTIFS(ToDoList!$B:$B, $A450, ToDoList!$R:$R, H$2))","v":""},{"$f":"IF($A450 = \"\", \"\", COUNTIFS(ToDoList!$B:$B, $A450, ToDoList!$R:$R, I$2))","v":""},{"$f":"IF($A450 = \"\", \"\", COUNTIFS(ToDoList!$B:$B, $A450, ToDoList!$R:$R, J$2))","v":""}]
[null,{"$f":"IF($A451 = \"\", \"\", COUNTIFS(ToDoList!$B:$B, $A451, ToDoList!$R:$R, B$2))","v":""},{"$f":"IF($A451 = \"\", \"\", COUNTIFS(ToDoList!$B:$B, $A451, ToDoList!$R:$R, C$2))","v":""},{"$f":"IF($A451 = \"\", \"\", COUNTIFS(ToDoList!$B:$B, $A451, ToDoList!$R:$R, D$2))","v":""},{"$f":"IF($A451 = \"\", \"\", COUNTIFS(ToDoList!$B:$B, $A451, ToDoList!$R:$R, E$2))","v":""},{"$f":"IF($A451 = \"\", \"\", COUNTIFS(ToDoList!$B:$B, $A451, ToDoList!$R:$R, F$2))","v":""},{"$f":"IF($A451 = \"\", \"\", COUNTIFS(ToDoList!$B:$B, $A451, ToDoList!$R:$R, G$2))","v":""},{"$f":"IF($A451 = \"\", \"\", COUNTIFS(ToDoList!$B:$B, $A451, ToDoList!$R:$R, H$2))","v":""},{"$f":"IF($A451 = \"\", \"\", COUNTIFS(ToDoList!$B:$B, $A451, ToDoList!$R:$R, I$2))","v":""},{"$f":"IF($A451 = \"\", \"\", COUNTIFS(ToDoList!$B:$B, $A451, ToDoList!$R:$R, J$2))","v":""}]
[null,{"$f":"IF($A452 = \"\", \"\", COUNTIFS(ToDoList!$B:$B, $A452, ToDoList!$R:$R, B$2))","v":""},{"$f":"IF($A452 = \"\", \"\", COUNTIFS(ToDoList!$B:$B, $A452, ToDoList!$R:$R, C$2))","v":""},{"$f":"IF($A452 = \"\", \"\", COUNTIFS(ToDoList!$B:$B, $A452, ToDoList!$R:$R, D$2))","v":""},{"$f":"IF($A452 = \"\", \"\", COUNTIFS(ToDoList!$B:$B, $A452, ToDoList!$R:$R, E$2))","v":""},{"$f":"IF($A452 = \"\", \"\", COUNTIFS(ToDoList!$B:$B, $A452, ToDoList!$R:$R, F$2))","v":""},{"$f":"IF($A452 = \"\", \"\", COUNTIFS(ToDoList!$B:$B, $A452, ToDoList!$R:$R, G$2))","v":""},{"$f":"IF($A452 = \"\", \"\", COUNTIFS(ToDoList!$B:$B, $A452, ToDoList!$R:$R, H$2))","v":""},{"$f":"IF($A452 = \"\", \"\", COUNTIFS(ToDoList!$B:$B, $A452, ToDoList!$R:$R, I$2))","v":""},{"$f":"IF($A452 = \"\", \"\", COUNTIFS(ToDoList!$B:$B, $A452, ToDoList!$R:$R, J$2))","v":""}]
[null,{"$f":"IF($A453 = \"\", \"\", COUNTIFS(ToDoList!$B:$B, $A453, ToDoList!$R:$R, B$2))","v":""},{"$f":"IF($A453 = \"\", \"\", COUNTIFS(ToDoList!$B:$B, $A453, ToDoList!$R:$R, C$2))","v":""},{"$f":"IF($A453 = \"\", \"\", COUNTIFS(ToDoList!$B:$B, $A453, ToDoList!$R:$R, D$2))","v":""},{"$f":"IF($A453 = \"\", \"\", COUNTIFS(ToDoList!$B:$B, $A453, ToDoList!$R:$R, E$2))","v":""},{"$f":"IF($A453 = \"\", \"\", COUNTIFS(ToDoList!$B:$B, $A453, ToDoList!$R:$R, F$2))","v":""},{"$f":"IF($A453 = \"\", \"\", COUNTIFS(ToDoList!$B:$B, $A453, ToDoList!$R:$R, G$2))","v":""},{"$f":"IF($A453 = \"\", \"\", COUNTIFS(ToDoList!$B:$B, $A453, ToDoList!$R:$R, H$2))","v":""},{"$f":"IF($A453 = \"\", \"\", COUNTIFS(ToDoList!$B:$B, $A453, ToDoList!$R:$R, I$2))","v":""},{"$f":"IF($A453 = \"\", \"\", COUNTIFS(ToDoList!$B:$B, $A453, ToDoList!$R:$R, J$2))","v":""}]
[null,{"$f":"IF($A454 = \"\", \"\", COUNTIFS(ToDoList!$B:$B, $A454, ToDoList!$R:$R, B$2))","v":""},{"$f":"IF($A454 = \"\", \"\", COUNTIFS(ToDoList!$B:$B, $A454, ToDoList!$R:$R, C$2))","v":""},{"$f":"IF($A454 = \"\", \"\", COUNTIFS(ToDoList!$B:$B, $A454, ToDoList!$R:$R, D$2))","v":""},{"$f":"IF($A454 = \"\", \"\", COUNTIFS(ToDoList!$B:$B, $A454, ToDoList!$R:$R, E$2))","v":""},{"$f":"IF($A454 = \"\", \"\", COUNTIFS(ToDoList!$B:$B, $A454, ToDoList!$R:$R, F$2))","v":""},{"$f":"IF($A454 = \"\", \"\", COUNTIFS(ToDoList!$B:$B, $A454, ToDoList!$R:$R, G$2))","v":""},{"$f":"IF($A454 = \"\", \"\", COUNTIFS(ToDoList!$B:$B, $A454, ToDoList!$R:$R, H$2))","v":""},{"$f":"IF($A454 = \"\", \"\", COUNTIFS(ToDoList!$B:$B, $A454, ToDoList!$R:$R, I$2))","v":""},{"$f":"IF($A454 = \"\", \"\", COUNTIFS(ToDoList!$B:$B, $A454, ToDoList!$R:$R, J$2))","v":""}]
[null,{"$f":"IF($A455 = \"\", \"\", COUNTIFS(ToDoList!$B:$B, $A455, ToDoList!$R:$R, B$2))","v":""},{"$f":"IF($A455 = \"\", \"\", COUNTIFS(ToDoList!$B:$B, $A455, ToDoList!$R:$R, C$2))","v":""},{"$f":"IF($A455 = \"\", \"\", COUNTIFS(ToDoList!$B:$B, $A455, ToDoList!$R:$R, D$2))","v":""},{"$f":"IF($A455 = \"\", \"\", COUNTIFS(ToDoList!$B:$B, $A455, ToDoList!$R:$R, E$2))","v":""},{"$f":"IF($A455 = \"\", \"\", COUNTIFS(ToDoList!$B:$B, $A455, ToDoList!$R:$R, F$2))","v":""},{"$f":"IF($A455 = \"\", \"\", COUNTIFS(ToDoList!$B:$B, $A455, ToDoList!$R:$R, G$2))","v":""},{"$f":"IF($A455 = \"\", \"\", COUNTIFS(ToDoList!$B:$B, $A455, ToDoList!$R:$R, H$2))","v":""},{"$f":"IF($A455 = \"\", \"\", COUNTIFS(ToDoList!$B:$B, $A455, ToDoList!$R:$R, I$2))","v":""},{"$f":"IF($A455 = \"\", \"\", COUNTIFS(ToDoList!$B:$B, $A455, ToDoList!$R:$R, J$2))","v":""}]
[null,{"$f":"IF($A456 = \"\", \"\", COUNTIFS(ToDoList!$B:$B, $A456, ToDoList!$R:$R, B$2))","v":""},{"$f":"IF($A456 = \"\", \"\", COUNTIFS(ToDoList!$B:$B, $A456, ToDoList!$R:$R, C$2))","v":""},{"$f":"IF($A456 = \"\", \"\", COUNTIFS(ToDoList!$B:$B, $A456, ToDoList!$R:$R, D$2))","v":""},{"$f":"IF($A456 = \"\", \"\", COUNTIFS(ToDoList!$B:$B, $A456, ToDoList!$R:$R, E$2))","v":""},{"$f":"IF($A456 = \"\", \"\", COUNTIFS(ToDoList!$B:$B, $A456, ToDoList!$R:$R, F$2))","v":""},{"$f":"IF($A456 = \"\", \"\", COUNTIFS(ToDoList!$B:$B, $A456, ToDoList!$R:$R, G$2))","v":""},{"$f":"IF($A456 = \"\", \"\", COUNTIFS(ToDoList!$B:$B, $A456, ToDoList!$R:$R, H$2))","v":""},{"$f":"IF($A456 = \"\", \"\", COUNTIFS(ToDoList!$B:$B, $A456, ToDoList!$R:$R, I$2))","v":""},{"$f":"IF($A456 = \"\", \"\", COUNTIFS(ToDoList!$B:$B, $A456, ToDoList!$R:$R, J$2))","v":""}]
[null,{"$f":"IF($A457 = \"\", \"\", COUNTIFS(ToDoList!$B:$B, $A457, ToDoList!$R:$R, B$2))","v":""},{"$f":"IF($A457 = \"\", \"\", COUNTIFS(ToDoList!$B:$B, $A457, ToDoList!$R:$R, C$2))","v":""},{"$f":"IF($A457 = \"\", \"\", COUNTIFS(ToDoList!$B:$B, $A457, ToDoList!$R:$R, D$2))","v":""},{"$f":"IF($A457 = \"\", \"\", COUNTIFS(ToDoList!$B:$B, $A457, ToDoList!$R:$R, E$2))","v":""},{"$f":"IF($A457 = \"\", \"\", COUNTIFS(ToDoList!$B:$B, $A457, ToDoList!$R:$R, F$2))","v":""},{"$f":"IF($A457 = \"\", \"\", COUNTIFS(ToDoList!$B:$B, $A457, ToDoList!$R:$R, G$2))","v":""},{"$f":"IF($A457 = \"\", \"\", COUNTIFS(ToDoList!$B:$B, $A457, ToDoList!$R:$R, H$2))","v":""},{"$f":"IF($A457 = \"\", \"\", COUNTIFS(ToDoList!$B:$B, $A457, ToDoList!$R:$R, I$2))","v":""},{"$f":"IF($A457 = \"\", \"\", COUNTIFS(ToDoList!$B:$B, $A457, ToDoList!$R:$R, J$2))","v":""}]
[null,{"$f":"IF($A458 = \"\", \"\", COUNTIFS(ToDoList!$B:$B, $A458, ToDoList!$R:$R, B$2))","v":""},{"$f":"IF($A458 = \"\", \"\", COUNTIFS(ToDoList!$B:$B, $A458, ToDoList!$R:$R, C$2))","v":""},{"$f":"IF($A458 = \"\", \"\", COUNTIFS(ToDoList!$B:$B, $A458, ToDoList!$R:$R, D$2))","v":""},{"$f":"IF($A458 = \"\", \"\", COUNTIFS(ToDoList!$B:$B, $A458, ToDoList!$R:$R, E$2))","v":""},{"$f":"IF($A458 = \"\", \"\", COUNTIFS(ToDoList!$B:$B, $A458, ToDoList!$R:$R, F$2))","v":""},{"$f":"IF($A458 = \"\", \"\", COUNTIFS(ToDoList!$B:$B, $A458, ToDoList!$R:$R, G$2))","v":""},{"$f":"IF($A458 = \"\", \"\", COUNTIFS(ToDoList!$B:$B, $A458, ToDoList!$R:$R, H$2))","v":""},{"$f":"IF($A458 = \"\", \"\", COUNTIFS(ToDoList!$B:$B, $A458, ToDoList!$R:$R, I$2))","v":""},{"$f":"IF($A458 = \"\", \"\", COUNTIFS(ToDoList!$B:$B, $A458, ToDoList!$R:$R, J$2))","v":""}]
[null,{"$f":"IF($A459 = \"\", \"\", COUNTIFS(ToDoList!$B:$B, $A459, ToDoList!$R:$R, B$2))","v":""},{"$f":"IF($A459 = \"\", \"\", COUNTIFS(ToDoList!$B:$B, $A459, ToDoList!$R:$R, C$2))","v":""},{"$f":"IF($A459 = \"\", \"\", COUNTIFS(ToDoList!$B:$B, $A459, ToDoList!$R:$R, D$2))","v":""},{"$f":"IF($A459 = \"\", \"\", COUNTIFS(ToDoList!$B:$B, $A459, ToDoList!$R:$R, E$2))","v":""},{"$f":"IF($A459 = \"\", \"\", COUNTIFS(ToDoList!$B:$B, $A459, ToDoList!$R:$R, F$2))","v":""},{"$f":"IF($A459 = \"\", \"\", COUNTIFS(ToDoList!$B:$B, $A459, ToDoList!$R:$R, G$2))","v":""},{"$f":"IF($A459 = \"\", \"\", COUNTIFS(ToDoList!$B:$B, $A459, ToDoList!$R:$R, H$2))","v":""},{"$f":"IF($A459 = \"\", \"\", COUNTIFS(ToDoList!$B:$B, $A459, ToDoList!$R:$R, I$2))","v":""},{"$f":"IF($A459 = \"\", \"\", COUNTIFS(ToDoList!$B:$B, $A459, ToDoList!$R:$R, J$2))","v":""}]
[null,{"$f":"IF($A460 = \"\", \"\", COUNTIFS(ToDoList!$B:$B, $A460, ToDoList!$R:$R, B$2))","v":""},{"$f":"IF($A460 = \"\", \"\", COUNTIFS(ToDoList!$B:$B, $A460, ToDoList!$R:$R, C$2))","v":""},{"$f":"IF($A460 = \"\", \"\", COUNTIFS(ToDoList!$B:$B, $A460, ToDoList!$R:$R, D$2))","v":""},{"$f":"IF($A460 = \"\", \"\", COUNTIFS(ToDoList!$B:$B, $A460, ToDoList!$R:$R, E$2))","v":""},{"$f":"IF($A460 = \"\", \"\", COUNTIFS(ToDoList!$B:$B, $A460, ToDoList!$R:$R, F$2))","v":""},{"$f":"IF($A460 = \"\", \"\", COUNTIFS(ToDoList!$B:$B, $A460, ToDoList!$R:$R, G$2))","v":""},{"$f":"IF($A460 = \"\", \"\", COUNTIFS(ToDoList!$B:$B, $A460, ToDoList!$R:$R, H$2))","v":""},{"$f":"IF($A460 = \"\", \"\", COUNTIFS(ToDoList!$B:$B, $A460, ToDoList!$R:$R, I$2))","v":""},{"$f":"IF($A460 = \"\", \"\", COUNTIFS(ToDoList!$B:$B, $A460, ToDoList!$R:$R, J$2))","v":""}]
[null,{"$f":"IF($A461 = \"\", \"\", COUNTIFS(ToDoList!$B:$B, $A461, ToDoList!$R:$R, B$2))","v":""},{"$f":"IF($A461 = \"\", \"\", COUNTIFS(ToDoList!$B:$B, $A461, ToDoList!$R:$R, C$2))","v":""},{"$f":"IF($A461 = \"\", \"\", COUNTIFS(ToDoList!$B:$B, $A461, ToDoList!$R:$R, D$2))","v":""},{"$f":"IF($A461 = \"\", \"\", COUNTIFS(ToDoList!$B:$B, $A461, ToDoList!$R:$R, E$2))","v":""},{"$f":"IF($A461 = \"\", \"\", COUNTIFS(ToDoList!$B:$B, $A461, ToDoList!$R:$R, F$2))","v":""},{"$f":"IF($A461 = \"\", \"\", COUNTIFS(ToDoList!$B:$B, $A461, ToDoList!$R:$R, G$2))","v":""},{"$f":"IF($A461 = \"\", \"\", COUNTIFS(ToDoList!$B:$B, $A461, ToDoList!$R:$R, H$2))","v":""},{"$f":"IF($A461 = \"\", \"\", COUNTIFS(ToDoList!$B:$B, $A461, ToDoList!$R:$R, I$2))","v":""},{"$f":"IF($A461 = \"\", \"\", COUNTIFS(ToDoList!$B:$B, $A461, ToDoList!$R:$R, J$2))","v":""}]
[null,{"$f":"IF($A462 = \"\", \"\", COUNTIFS(ToDoList!$B:$B, $A462, ToDoList!$R:$R, B$2))","v":""},{"$f":"IF($A462 = \"\", \"\", COUNTIFS(ToDoList!$B:$B, $A462, ToDoList!$R:$R, C$2))","v":""},{"$f":"IF($A462 = \"\", \"\", COUNTIFS(ToDoList!$B:$B, $A462, ToDoList!$R:$R, D$2))","v":""},{"$f":"IF($A462 = \"\", \"\", COUNTIFS(ToDoList!$B:$B, $A462, ToDoList!$R:$R, E$2))","v":""},{"$f":"IF($A462 = \"\", \"\", COUNTIFS(ToDoList!$B:$B, $A462, ToDoList!$R:$R, F$2))","v":""},{"$f":"IF($A462 = \"\", \"\", COUNTIFS(ToDoList!$B:$B, $A462, ToDoList!$R:$R, G$2))","v":""},{"$f":"IF($A462 = \"\", \"\", COUNTIFS(ToDoList!$B:$B, $A462, ToDoList!$R:$R, H$2))","v":""},{"$f":"IF($A462 = \"\", \"\", COUNTIFS(ToDoList!$B:$B, $A462, ToDoList!$R:$R, I$2))","v":""},{"$f":"IF($A462 = \"\", \"\", COUNTIFS(ToDoList!$B:$B, $A462, ToDoList!$R:$R, J$2))","v":""}]
[null,{"$f":"IF($A463 = \"\", \"\", COUNTIFS(ToDoList!$B:$B, $A463, ToDoList!$R:$R, B$2))","v":""},{"$f":"IF($A463 = \"\", \"\", COUNTIFS(ToDoList!$B:$B, $A463, ToDoList!$R:$R, C$2))","v":""},{"$f":"IF($A463 = \"\", \"\", COUNTIFS(ToDoList!$B:$B, $A463, ToDoList!$R:$R, D$2))","v":""},{"$f":"IF($A463 = \"\", \"\", COUNTIFS(ToDoList!$B:$B, $A463, ToDoList!$R:$R, E$2))","v":""},{"$f":"IF($A463 = \"\", \"\", COUNTIFS(ToDoList!$B:$B, $A463, ToDoList!$R:$R, F$2))","v":""},{"$f":"IF($A463 = \"\", \"\", COUNTIFS(ToDoList!$B:$B, $A463, ToDoList!$R:$R, G$2))","v":""},{"$f":"IF($A463 = \"\", \"\", COUNTIFS(ToDoList!$B:$B, $A463, ToDoList!$R:$R, H$2))","v":""},{"$f":"IF($A463 = \"\", \"\", COUNTIFS(ToDoList!$B:$B, $A463, ToDoList!$R:$R, I$2))","v":""},{"$f":"IF($A463 = \"\", \"\", COUNTIFS(ToDoList!$B:$B, $A463, ToDoList!$R:$R, J$2))","v":""}]
[null,{"$f":"IF($A464 = \"\", \"\", COUNTIFS(ToDoList!$B:$B, $A464, ToDoList!$R:$R, B$2))","v":""},{"$f":"IF($A464 = \"\", \"\", COUNTIFS(ToDoList!$B:$B, $A464, ToDoList!$R:$R, C$2))","v":""},{"$f":"IF($A464 = \"\", \"\", COUNTIFS(ToDoList!$B:$B, $A464, ToDoList!$R:$R, D$2))","v":""},{"$f":"IF($A464 = \"\", \"\", COUNTIFS(ToDoList!$B:$B, $A464, ToDoList!$R:$R, E$2))","v":""},{"$f":"IF($A464 = \"\", \"\", COUNTIFS(ToDoList!$B:$B, $A464, ToDoList!$R:$R, F$2))","v":""},{"$f":"IF($A464 = \"\", \"\", COUNTIFS(ToDoList!$B:$B, $A464, ToDoList!$R:$R, G$2))","v":""},{"$f":"IF($A464 = \"\", \"\", COUNTIFS(ToDoList!$B:$B, $A464, ToDoList!$R:$R, H$2))","v":""},{"$f":"IF($A464 = \"\", \"\", COUNTIFS(ToDoList!$B:$B, $A464, ToDoList!$R:$R, I$2))","v":""},{"$f":"IF($A464 = \"\", \"\", COUNTIFS(ToDoList!$B:$B, $A464, ToDoList!$R:$R, J$2))","v":""}]
[null,{"$f":"IF($A465 = \"\", \"\", COUNTIFS(ToDoList!$B:$B, $A465, ToDoList!$R:$R, B$2))","v":""},{"$f":"IF($A465 = \"\", \"\", COUNTIFS(ToDoList!$B:$B, $A465, ToDoList!$R:$R, C$2))","v":""},{"$f":"IF($A465 = \"\", \"\", COUNTIFS(ToDoList!$B:$B, $A465, ToDoList!$R:$R, D$2))","v":""},{"$f":"IF($A465 = \"\", \"\", COUNTIFS(ToDoList!$B:$B, $A465, ToDoList!$R:$R, E$2))","v":""},{"$f":"IF($A465 = \"\", \"\", COUNTIFS(ToDoList!$B:$B, $A465, ToDoList!$R:$R, F$2))","v":""},{"$f":"IF($A465 = \"\", \"\", COUNTIFS(ToDoList!$B:$B, $A465, ToDoList!$R:$R, G$2))","v":""},{"$f":"IF($A465 = \"\", \"\", COUNTIFS(ToDoList!$B:$B, $A465, ToDoList!$R:$R, H$2))","v":""},{"$f":"IF($A465 = \"\", \"\", COUNTIFS(ToDoList!$B:$B, $A465, ToDoList!$R:$R, I$2))","v":""},{"$f":"IF($A465 = \"\", \"\", COUNTIFS(ToDoList!$B:$B, $A465, ToDoList!$R:$R, J$2))","v":""}]
[null,{"$f":"IF($A466 = \"\", \"\", COUNTIFS(ToDoList!$B:$B, $A466, ToDoList!$R:$R, B$2))","v":""},{"$f":"IF($A466 = \"\", \"\", COUNTIFS(ToDoList!$B:$B, $A466, ToDoList!$R:$R, C$2))","v":""},{"$f":"IF($A466 = \"\", \"\", COUNTIFS(ToDoList!$B:$B, $A466, ToDoList!$R:$R, D$2))","v":""},{"$f":"IF($A466 = \"\", \"\", COUNTIFS(ToDoList!$B:$B, $A466, ToDoList!$R:$R, E$2))","v":""},{"$f":"IF($A466 = \"\", \"\", COUNTIFS(ToDoList!$B:$B, $A466, ToDoList!$R:$R, F$2))","v":""},{"$f":"IF($A466 = \"\", \"\", COUNTIFS(ToDoList!$B:$B, $A466, ToDoList!$R:$R, G$2))","v":""},{"$f":"IF($A466 = \"\", \"\", COUNTIFS(ToDoList!$B:$B, $A466, ToDoList!$R:$R, H$2))","v":""},{"$f":"IF($A466 = \"\", \"\", COUNTIFS(ToDoList!$B:$B, $A466, ToDoList!$R:$R, I$2))","v":""},{"$f":"IF($A466 = \"\", \"\", COUNTIFS(ToDoList!$B:$B, $A466, ToDoList!$R:$R, J$2))","v":""}]
[null,{"$f":"IF($A467 = \"\", \"\", COUNTIFS(ToDoList!$B:$B, $A467, ToDoList!$R:$R, B$2))","v":""},{"$f":"IF($A467 = \"\", \"\", COUNTIFS(ToDoList!$B:$B, $A467, ToDoList!$R:$R, C$2))","v":""},{"$f":"IF($A467 = \"\", \"\", COUNTIFS(ToDoList!$B:$B, $A467, ToDoList!$R:$R, D$2))","v":""},{"$f":"IF($A467 = \"\", \"\", COUNTIFS(ToDoList!$B:$B, $A467, ToDoList!$R:$R, E$2))","v":""},{"$f":"IF($A467 = \"\", \"\", COUNTIFS(ToDoList!$B:$B, $A467, ToDoList!$R:$R, F$2))","v":""},{"$f":"IF($A467 = \"\", \"\", COUNTIFS(ToDoList!$B:$B, $A467, ToDoList!$R:$R, G$2))","v":""},{"$f":"IF($A467 = \"\", \"\", COUNTIFS(ToDoList!$B:$B, $A467, ToDoList!$R:$R, H$2))","v":""},{"$f":"IF($A467 = \"\", \"\", COUNTIFS(ToDoList!$B:$B, $A467, ToDoList!$R:$R, I$2))","v":""},{"$f":"IF($A467 = \"\", \"\", COUNTIFS(ToDoList!$B:$B, $A467, ToDoList!$R:$R, J$2))","v":""}]
[null,{"$f":"IF($A468 = \"\", \"\", COUNTIFS(ToDoList!$B:$B, $A468, ToDoList!$R:$R, B$2))","v":""},{"$f":"IF($A468 = \"\", \"\", COUNTIFS(ToDoList!$B:$B, $A468, ToDoList!$R:$R, C$2))","v":""},{"$f":"IF($A468 = \"\", \"\", COUNTIFS(ToDoList!$B:$B, $A468, ToDoList!$R:$R, D$2))","v":""},{"$f":"IF($A468 = \"\", \"\", COUNTIFS(ToDoList!$B:$B, $A468, ToDoList!$R:$R, E$2))","v":""},{"$f":"IF($A468 = \"\", \"\", COUNTIFS(ToDoList!$B:$B, $A468, ToDoList!$R:$R, F$2))","v":""},{"$f":"IF($A468 = \"\", \"\", COUNTIFS(ToDoList!$B:$B, $A468, ToDoList!$R:$R, G$2))","v":""},{"$f":"IF($A468 = \"\", \"\", COUNTIFS(ToDoList!$B:$B, $A468, ToDoList!$R:$R, H$2))","v":""},{"$f":"IF($A468 = \"\", \"\", COUNTIFS(ToDoList!$B:$B, $A468, ToDoList!$R:$R, I$2))","v":""},{"$f":"IF($A468 = \"\", \"\", COUNTIFS(ToDoList!$B:$B, $A468, ToDoList!$R:$R, J$2))","v":""}]
[null,{"$f":"IF($A469 = \"\", \"\", COUNTIFS(ToDoList!$B:$B, $A469, ToDoList!$R:$R, B$2))","v":""},{"$f":"IF($A469 = \"\", \"\", COUNTIFS(ToDoList!$B:$B, $A469, ToDoList!$R:$R, C$2))","v":""},{"$f":"IF($A469 = \"\", \"\", COUNTIFS(ToDoList!$B:$B, $A469, ToDoList!$R:$R, D$2))","v":""},{"$f":"IF($A469 = \"\", \"\", COUNTIFS(ToDoList!$B:$B, $A469, ToDoList!$R:$R, E$2))","v":""},{"$f":"IF($A469 = \"\", \"\", COUNTIFS(ToDoList!$B:$B, $A469, ToDoList!$R:$R, F$2))","v":""},{"$f":"IF($A469 = \"\", \"\", COUNTIFS(ToDoList!$B:$B, $A469, ToDoList!$R:$R, G$2))","v":""},{"$f":"IF($A469 = \"\", \"\", COUNTIFS(ToDoList!$B:$B, $A469, ToDoList!$R:$R, H$2))","v":""},{"$f":"IF($A469 = \"\", \"\", COUNTIFS(ToDoList!$B:$B, $A469, ToDoList!$R:$R, I$2))","v":""},{"$f":"IF($A469 = \"\", \"\", COUNTIFS(ToDoList!$B:$B, $A469, ToDoList!$R:$R, J$2))","v":""}]
[null,{"$f":"IF($A470 = \"\", \"\", COUNTIFS(ToDoList!$B:$B, $A470, ToDoList!$R:$R, B$2))","v":""},{"$f":"IF($A470 = \"\", \"\", COUNTIFS(ToDoList!$B:$B, $A470, ToDoList!$R:$R, C$2))","v":""},{"$f":"IF($A470 = \"\", \"\", COUNTIFS(ToDoList!$B:$B, $A470, ToDoList!$R:$R, D$2))","v":""},{"$f":"IF($A470 = \"\", \"\", COUNTIFS(ToDoList!$B:$B, $A470, ToDoList!$R:$R, E$2))","v":""},{"$f":"IF($A470 = \"\", \"\", COUNTIFS(ToDoList!$B:$B, $A470, ToDoList!$R:$R, F$2))","v":""},{"$f":"IF($A470 = \"\", \"\", COUNTIFS(ToDoList!$B:$B, $A470, ToDoList!$R:$R, G$2))","v":""},{"$f":"IF($A470 = \"\", \"\", COUNTIFS(ToDoList!$B:$B, $A470, ToDoList!$R:$R, H$2))","v":""},{"$f":"IF($A470 = \"\", \"\", COUNTIFS(ToDoList!$B:$B, $A470, ToDoList!$R:$R, I$2))","v":""},{"$f":"IF($A470 = \"\", \"\", COUNTIFS(ToDoList!$B:$B, $A470, ToDoList!$R:$R, J$2))","v":""}]
[null,{"$f":"IF($A471 = \"\", \"\", COUNTIFS(ToDoList!$B:$B, $A471, ToDoList!$R:$R, B$2))","v":""},{"$f":"IF($A471 = \"\", \"\", COUNTIFS(ToDoList!$B:$B, $A471, ToDoList!$R:$R, C$2))","v":""},{"$f":"IF($A471 = \"\", \"\", COUNTIFS(ToDoList!$B:$B, $A471, ToDoList!$R:$R, D$2))","v":""},{"$f":"IF($A471 = \"\", \"\", COUNTIFS(ToDoList!$B:$B, $A471, ToDoList!$R:$R, E$2))","v":""},{"$f":"IF($A471 = \"\", \"\", COUNTIFS(ToDoList!$B:$B, $A471, ToDoList!$R:$R, F$2))","v":""},{"$f":"IF($A471 = \"\", \"\", COUNTIFS(ToDoList!$B:$B, $A471, ToDoList!$R:$R, G$2))","v":""},{"$f":"IF($A471 = \"\", \"\", COUNTIFS(ToDoList!$B:$B, $A471, ToDoList!$R:$R, H$2))","v":""},{"$f":"IF($A471 = \"\", \"\", COUNTIFS(ToDoList!$B:$B, $A471, ToDoList!$R:$R, I$2))","v":""},{"$f":"IF($A471 = \"\", \"\", COUNTIFS(ToDoList!$B:$B, $A471, ToDoList!$R:$R, J$2))","v":""}]
[null,{"$f":"IF($A472 = \"\", \"\", COUNTIFS(ToDoList!$B:$B, $A472, ToDoList!$R:$R, B$2))","v":""},{"$f":"IF($A472 = \"\", \"\", COUNTIFS(ToDoList!$B:$B, $A472, ToDoList!$R:$R, C$2))","v":""},{"$f":"IF($A472 = \"\", \"\", COUNTIFS(ToDoList!$B:$B, $A472, ToDoList!$R:$R, D$2))","v":""},{"$f":"IF($A472 = \"\", \"\", COUNTIFS(ToDoList!$B:$B, $A472, ToDoList!$R:$R, E$2))","v":""},{"$f":"IF($A472 = \"\", \"\", COUNTIFS(ToDoList!$B:$B, $A472, ToDoList!$R:$R, F$2))","v":""},{"$f":"IF($A472 = \"\", \"\", COUNTIFS(ToDoList!$B:$B, $A472, ToDoList!$R:$R, G$2))","v":""},{"$f":"IF($A472 = \"\", \"\", COUNTIFS(ToDoList!$B:$B, $A472, ToDoList!$R:$R, H$2))","v":""},{"$f":"IF($A472 = \"\", \"\", COUNTIFS(ToDoList!$B:$B, $A472, ToDoList!$R:$R, I$2))","v":""},{"$f":"IF($A472 = \"\", \"\", COUNTIFS(ToDoList!$B:$B, $A472, ToDoList!$R:$R, J$2))","v":""}]
[null,{"$f":"IF($A473 = \"\", \"\", COUNTIFS(ToDoList!$B:$B, $A473, ToDoList!$R:$R, B$2))","v":""},{"$f":"IF($A473 = \"\", \"\", COUNTIFS(ToDoList!$B:$B, $A473, ToDoList!$R:$R, C$2))","v":""},{"$f":"IF($A473 = \"\", \"\", COUNTIFS(ToDoList!$B:$B, $A473, ToDoList!$R:$R, D$2))","v":""},{"$f":"IF($A473 = \"\", \"\", COUNTIFS(ToDoList!$B:$B, $A473, ToDoList!$R:$R, E$2))","v":""},{"$f":"IF($A473 = \"\", \"\", COUNTIFS(ToDoList!$B:$B, $A473, ToDoList!$R:$R, F$2))","v":""},{"$f":"IF($A473 = \"\", \"\", COUNTIFS(ToDoList!$B:$B, $A473, ToDoList!$R:$R, G$2))","v":""},{"$f":"IF($A473 = \"\", \"\", COUNTIFS(ToDoList!$B:$B, $A473, ToDoList!$R:$R, H$2))","v":""},{"$f":"IF($A473 = \"\", \"\", COUNTIFS(ToDoList!$B:$B, $A473, ToDoList!$R:$R, I$2))","v":""},{"$f":"IF($A473 = \"\", \"\", COUNTIFS(ToDoList!$B:$B, $A473, ToDoList!$R:$R, J$2))","v":""}]
[null,{"$f":"IF($A474 = \"\", \"\", COUNTIFS(ToDoList!$B:$B, $A474, ToDoList!$R:$R, B$2))","v":""},{"$f":"IF($A474 = \"\", \"\", COUNTIFS(ToDoList!$B:$B, $A474, ToDoList!$R:$R, C$2))","v":""},{"$f":"IF($A474 = \"\", \"\", COUNTIFS(ToDoList!$B:$B, $A474, ToDoList!$R:$R, D$2))","v":""},{"$f":"IF($A474 = \"\", \"\", COUNTIFS(ToDoList!$B:$B, $A474, ToDoList!$R:$R, E$2))","v":""},{"$f":"IF($A474 = \"\", \"\", COUNTIFS(ToDoList!$B:$B, $A474, ToDoList!$R:$R, F$2))","v":""},{"$f":"IF($A474 = \"\", \"\", COUNTIFS(ToDoList!$B:$B, $A474, ToDoList!$R:$R, G$2))","v":""},{"$f":"IF($A474 = \"\", \"\", COUNTIFS(ToDoList!$B:$B, $A474, ToDoList!$R:$R, H$2))","v":""},{"$f":"IF($A474 = \"\", \"\", COUNTIFS(ToDoList!$B:$B, $A474, ToDoList!$R:$R, I$2))","v":""},{"$f":"IF($A474 = \"\", \"\", COUNTIFS(ToDoList!$B:$B, $A474, ToDoList!$R:$R, J$2))","v":""}]
[null,{"$f":"IF($A475 = \"\", \"\", COUNTIFS(ToDoList!$B:$B, $A475, ToDoList!$R:$R, B$2))","v":""},{"$f":"IF($A475 = \"\", \"\", COUNTIFS(ToDoList!$B:$B, $A475, ToDoList!$R:$R, C$2))","v":""},{"$f":"IF($A475 = \"\", \"\", COUNTIFS(ToDoList!$B:$B, $A475, ToDoList!$R:$R, D$2))","v":""},{"$f":"IF($A475 = \"\", \"\", COUNTIFS(ToDoList!$B:$B, $A475, ToDoList!$R:$R, E$2))","v":""},{"$f":"IF($A475 = \"\", \"\", COUNTIFS(ToDoList!$B:$B, $A475, ToDoList!$R:$R, F$2))","v":""},{"$f":"IF($A475 = \"\", \"\", COUNTIFS(ToDoList!$B:$B, $A475, ToDoList!$R:$R, G$2))","v":""},{"$f":"IF($A475 = \"\", \"\", COUNTIFS(ToDoList!$B:$B, $A475, ToDoList!$R:$R, H$2))","v":""},{"$f":"IF($A475 = \"\", \"\", COUNTIFS(ToDoList!$B:$B, $A475, ToDoList!$R:$R, I$2))","v":""},{"$f":"IF($A475 = \"\", \"\", COUNTIFS(ToDoList!$B:$B, $A475, ToDoList!$R:$R, J$2))","v":""}]
[null,{"$f":"IF($A476 = \"\", \"\", COUNTIFS(ToDoList!$B:$B, $A476, ToDoList!$R:$R, B$2))","v":""},{"$f":"IF($A476 = \"\", \"\", COUNTIFS(ToDoList!$B:$B, $A476, ToDoList!$R:$R, C$2))","v":""},{"$f":"IF($A476 = \"\", \"\", COUNTIFS(ToDoList!$B:$B, $A476, ToDoList!$R:$R, D$2))","v":""},{"$f":"IF($A476 = \"\", \"\", COUNTIFS(ToDoList!$B:$B, $A476, ToDoList!$R:$R, E$2))","v":""},{"$f":"IF($A476 = \"\", \"\", COUNTIFS(ToDoList!$B:$B, $A476, ToDoList!$R:$R, F$2))","v":""},{"$f":"IF($A476 = \"\", \"\", COUNTIFS(ToDoList!$B:$B, $A476, ToDoList!$R:$R, G$2))","v":""},{"$f":"IF($A476 = \"\", \"\", COUNTIFS(ToDoList!$B:$B, $A476, ToDoList!$R:$R, H$2))","v":""},{"$f":"IF($A476 = \"\", \"\", COUNTIFS(ToDoList!$B:$B, $A476, ToDoList!$R:$R, I$2))","v":""},{"$f":"IF($A476 = \"\", \"\", COUNTIFS(ToDoList!$B:$B, $A476, ToDoList!$R:$R, J$2))","v":""}]
[null,{"$f":"IF($A477 = \"\", \"\", COUNTIFS(ToDoList!$B:$B, $A477, ToDoList!$R:$R, B$2))","v":""},{"$f":"IF($A477 = \"\", \"\", COUNTIFS(ToDoList!$B:$B, $A477, ToDoList!$R:$R, C$2))","v":""},{"$f":"IF($A477 = \"\", \"\", COUNTIFS(ToDoList!$B:$B, $A477, ToDoList!$R:$R, D$2))","v":""},{"$f":"IF($A477 = \"\", \"\", COUNTIFS(ToDoList!$B:$B, $A477, ToDoList!$R:$R, E$2))","v":""},{"$f":"IF($A477 = \"\", \"\", COUNTIFS(ToDoList!$B:$B, $A477, ToDoList!$R:$R, F$2))","v":""},{"$f":"IF($A477 = \"\", \"\", COUNTIFS(ToDoList!$B:$B, $A477, ToDoList!$R:$R, G$2))","v":""},{"$f":"IF($A477 = \"\", \"\", COUNTIFS(ToDoList!$B:$B, $A477, ToDoList!$R:$R, H$2))","v":""},{"$f":"IF($A477 = \"\", \"\", COUNTIFS(ToDoList!$B:$B, $A477, ToDoList!$R:$R, I$2))","v":""},{"$f":"IF($A477 = \"\", \"\", COUNTIFS(ToDoList!$B:$B, $A477, ToDoList!$R:$R, J$2))","v":""}]
[null,{"$f":"IF($A478 = \"\", \"\", COUNTIFS(ToDoList!$B:$B, $A478, ToDoList!$R:$R, B$2))","v":""},{"$f":"IF($A478 = \"\", \"\", COUNTIFS(ToDoList!$B:$B, $A478, ToDoList!$R:$R, C$2))","v":""},{"$f":"IF($A478 = \"\", \"\", COUNTIFS(ToDoList!$B:$B, $A478, ToDoList!$R:$R, D$2))","v":""},{"$f":"IF($A478 = \"\", \"\", COUNTIFS(ToDoList!$B:$B, $A478, ToDoList!$R:$R, E$2))","v":""},{"$f":"IF($A478 = \"\", \"\", COUNTIFS(ToDoList!$B:$B, $A478, ToDoList!$R:$R, F$2))","v":""},{"$f":"IF($A478 = \"\", \"\", COUNTIFS(ToDoList!$B:$B, $A478, ToDoList!$R:$R, G$2))","v":""},{"$f":"IF($A478 = \"\", \"\", COUNTIFS(ToDoList!$B:$B, $A478, ToDoList!$R:$R, H$2))","v":""},{"$f":"IF($A478 = \"\", \"\", COUNTIFS(ToDoList!$B:$B, $A478, ToDoList!$R:$R, I$2))","v":""},{"$f":"IF($A478 = \"\", \"\", COUNTIFS(ToDoList!$B:$B, $A478, ToDoList!$R:$R, J$2))","v":""}]
[null,{"$f":"IF($A479 = \"\", \"\", COUNTIFS(ToDoList!$B:$B, $A479, ToDoList!$R:$R, B$2))","v":""},{"$f":"IF($A479 = \"\", \"\", COUNTIFS(ToDoList!$B:$B, $A479, ToDoList!$R:$R, C$2))","v":""},{"$f":"IF($A479 = \"\", \"\", COUNTIFS(ToDoList!$B:$B, $A479, ToDoList!$R:$R, D$2))","v":""},{"$f":"IF($A479 = \"\", \"\", COUNTIFS(ToDoList!$B:$B, $A479, ToDoList!$R:$R, E$2))","v":""},{"$f":"IF($A479 = \"\", \"\", COUNTIFS(ToDoList!$B:$B, $A479, ToDoList!$R:$R, F$2))","v":""},{"$f":"IF($A479 = \"\", \"\", COUNTIFS(ToDoList!$B:$B, $A479, ToDoList!$R:$R, G$2))","v":""},{"$f":"IF($A479 = \"\", \"\", COUNTIFS(ToDoList!$B:$B, $A479, ToDoList!$R:$R, H$2))","v":""},{"$f":"IF($A479 = \"\", \"\", COUNTIFS(ToDoList!$B:$B, $A479, ToDoList!$R:$R, I$2))","v":""},{"$f":"IF($A479 = \"\", \"\", COUNTIFS(ToDoList!$B:$B, $A479, ToDoList!$R:$R, J$2))","v":""}]
[null,{"$f":"IF($A480 = \"\", \"\", COUNTIFS(ToDoList!$B:$B, $A480, ToDoList!$R:$R, B$2))","v":""},{"$f":"IF($A480 = \"\", \"\", COUNTIFS(ToDoList!$B:$B, $A480, ToDoList!$R:$R, C$2))","v":""},{"$f":"IF($A480 = \"\", \"\", COUNTIFS(ToDoList!$B:$B, $A480, ToDoList!$R:$R, D$2))","v":""},{"$f":"IF($A480 = \"\", \"\", COUNTIFS(ToDoList!$B:$B, $A480, ToDoList!$R:$R, E$2))","v":""},{"$f":"IF($A480 = \"\", \"\", COUNTIFS(ToDoList!$B:$B, $A480, ToDoList!$R:$R, F$2))","v":""},{"$f":"IF($A480 = \"\", \"\", COUNTIFS(ToDoList!$B:$B, $A480, ToDoList!$R:$R, G$2))","v":""},{"$f":"IF($A480 = \"\", \"\", COUNTIFS(ToDoList!$B:$B, $A480, ToDoList!$R:$R, H$2))","v":""},{"$f":"IF($A480 = \"\", \"\", COUNTIFS(ToDoList!$B:$B, $A480, ToDoList!$R:$R, I$2))","v":""},{"$f":"IF($A480 = \"\", \"\", COUNTIFS(ToDoList!$B:$B, $A480, ToDoList!$R:$R, J$2))","v":""}]
[null,{"$f":"IF($A481 = \"\", \"\", COUNTIFS(ToDoList!$B:$B, $A481, ToDoList!$R:$R, B$2))","v":""},{"$f":"IF($A481 = \"\", \"\", COUNTIFS(ToDoList!$B:$B, $A481, ToDoList!$R:$R, C$2))","v":""},{"$f":"IF($A481 = \"\", \"\", COUNTIFS(ToDoList!$B:$B, $A481, ToDoList!$R:$R, D$2))","v":""},{"$f":"IF($A481 = \"\", \"\", COUNTIFS(ToDoList!$B:$B, $A481, ToDoList!$R:$R, E$2))","v":""},{"$f":"IF($A481 = \"\", \"\", COUNTIFS(ToDoList!$B:$B, $A481, ToDoList!$R:$R, F$2))","v":""},{"$f":"IF($A481 = \"\", \"\", COUNTIFS(ToDoList!$B:$B, $A481, ToDoList!$R:$R, G$2))","v":""},{"$f":"IF($A481 = \"\", \"\", COUNTIFS(ToDoList!$B:$B, $A481, ToDoList!$R:$R, H$2))","v":""},{"$f":"IF($A481 = \"\", \"\", COUNTIFS(ToDoList!$B:$B, $A481, ToDoList!$R:$R, I$2))","v":""},{"$f":"IF($A481 = \"\", \"\", COUNTIFS(ToDoList!$B:$B, $A481, ToDoList!$R:$R, J$2))","v":""}]
[null,{"$f":"IF($A482 = \"\", \"\", COUNTIFS(ToDoList!$B:$B, $A482, ToDoList!$R:$R, B$2))","v":""},{"$f":"IF($A482 = \"\", \"\", COUNTIFS(ToDoList!$B:$B, $A482, ToDoList!$R:$R, C$2))","v":""},{"$f":"IF($A482 = \"\", \"\", COUNTIFS(ToDoList!$B:$B, $A482, ToDoList!$R:$R, D$2))","v":""},{"$f":"IF($A482 = \"\", \"\", COUNTIFS(ToDoList!$B:$B, $A482, ToDoList!$R:$R, E$2))","v":""},{"$f":"IF($A482 = \"\", \"\", COUNTIFS(ToDoList!$B:$B, $A482, ToDoList!$R:$R, F$2))","v":""},{"$f":"IF($A482 = \"\", \"\", COUNTIFS(ToDoList!$B:$B, $A482, ToDoList!$R:$R, G$2))","v":""},{"$f":"IF($A482 = \"\", \"\", COUNTIFS(ToDoList!$B:$B, $A482, ToDoList!$R:$R, H$2))","v":""},{"$f":"IF($A482 = \"\", \"\", COUNTIFS(ToDoList!$B:$B, $A482, ToDoList!$R:$R, I$2))","v":""},{"$f":"IF($A482 = \"\", \"\", COUNTIFS(ToDoList!$B:$B, $A482, ToDoList!$R:$R, J$2))","v":""}]
[null,{"$f":"IF($A483 = \"\", \"\", COUNTIFS(ToDoList!$B:$B, $A483, ToDoList!$R:$R, B$2))","v":""},{"$f":"IF($A483 = \"\", \"\", COUNTIFS(ToDoList!$B:$B, $A483, ToDoList!$R:$R, C$2))","v":""},{"$f":"IF($A483 = \"\", \"\", COUNTIFS(ToDoList!$B:$B, $A483, ToDoList!$R:$R, D$2))","v":""},{"$f":"IF($A483 = \"\", \"\", COUNTIFS(ToDoList!$B:$B, $A483, ToDoList!$R:$R, E$2))","v":""},{"$f":"IF($A483 = \"\", \"\", COUNTIFS(ToDoList!$B:$B, $A483, ToDoList!$R:$R, F$2))","v":""},{"$f":"IF($A483 = \"\", \"\", COUNTIFS(ToDoList!$B:$B, $A483, ToDoList!$R:$R, G$2))","v":""},{"$f":"IF($A483 = \"\", \"\", COUNTIFS(ToDoList!$B:$B, $A483, ToDoList!$R:$R, H$2))","v":""},{"$f":"IF($A483 = \"\", \"\", COUNTIFS(ToDoList!$B:$B, $A483, ToDoList!$R:$R, I$2))","v":""},{"$f":"IF($A483 = \"\", \"\", COUNTIFS(ToDoList!$B:$B, $A483, ToDoList!$R:$R, J$2))","v":""}]
[null,{"$f":"IF($A484 = \"\", \"\", COUNTIFS(ToDoList!$B:$B, $A484, ToDoList!$R:$R, B$2))","v":""},{"$f":"IF($A484 = \"\", \"\", COUNTIFS(ToDoList!$B:$B, $A484, ToDoList!$R:$R, C$2))","v":""},{"$f":"IF($A484 = \"\", \"\", COUNTIFS(ToDoList!$B:$B, $A484, ToDoList!$R:$R, D$2))","v":""},{"$f":"IF($A484 = \"\", \"\", COUNTIFS(ToDoList!$B:$B, $A484, ToDoList!$R:$R, E$2))","v":""},{"$f":"IF($A484 = \"\", \"\", COUNTIFS(ToDoList!$B:$B, $A484, ToDoList!$R:$R, F$2))","v":""},{"$f":"IF($A484 = \"\", \"\", COUNTIFS(ToDoList!$B:$B, $A484, ToDoList!$R:$R, G$2))","v":""},{"$f":"IF($A484 = \"\", \"\", COUNTIFS(ToDoList!$B:$B, $A484, ToDoList!$R:$R, H$2))","v":""},{"$f":"IF($A484 = \"\", \"\", COUNTIFS(ToDoList!$B:$B, $A484, ToDoList!$R:$R, I$2))","v":""},{"$f":"IF($A484 = \"\", \"\", COUNTIFS(ToDoList!$B:$B, $A484, ToDoList!$R:$R, J$2))","v":""}]
[null,{"$f":"IF($A485 = \"\", \"\", COUNTIFS(ToDoList!$B:$B, $A485, ToDoList!$R:$R, B$2))","v":""},{"$f":"IF($A485 = \"\", \"\", COUNTIFS(ToDoList!$B:$B, $A485, ToDoList!$R:$R, C$2))","v":""},{"$f":"IF($A485 = \"\", \"\", COUNTIFS(ToDoList!$B:$B, $A485, ToDoList!$R:$R, D$2))","v":""},{"$f":"IF($A485 = \"\", \"\", COUNTIFS(ToDoList!$B:$B, $A485, ToDoList!$R:$R, E$2))","v":""},{"$f":"IF($A485 = \"\", \"\", COUNTIFS(ToDoList!$B:$B, $A485, ToDoList!$R:$R, F$2))","v":""},{"$f":"IF($A485 = \"\", \"\", COUNTIFS(ToDoList!$B:$B, $A485, ToDoList!$R:$R, G$2))","v":""},{"$f":"IF($A485 = \"\", \"\", COUNTIFS(ToDoList!$B:$B, $A485, ToDoList!$R:$R, H$2))","v":""},{"$f":"IF($A485 = \"\", \"\", COUNTIFS(ToDoList!$B:$B, $A485, ToDoList!$R:$R, I$2))","v":""},{"$f":"IF($A485 = \"\", \"\", COUNTIFS(ToDoList!$B:$B, $A485, ToDoList!$R:$R, J$2))","v":""}]
[null,{"$f":"IF($A486 = \"\", \"\", COUNTIFS(ToDoList!$B:$B, $A486, ToDoList!$R:$R, B$2))","v":""},{"$f":"IF($A486 = \"\", \"\", COUNTIFS(ToDoList!$B:$B, $A486, ToDoList!$R:$R, C$2))","v":""},{"$f":"IF($A486 = \"\", \"\", COUNTIFS(ToDoList!$B:$B, $A486, ToDoList!$R:$R, D$2))","v":""},{"$f":"IF($A486 = \"\", \"\", COUNTIFS(ToDoList!$B:$B, $A486, ToDoList!$R:$R, E$2))","v":""},{"$f":"IF($A486 = \"\", \"\", COUNTIFS(ToDoList!$B:$B, $A486, ToDoList!$R:$R, F$2))","v":""},{"$f":"IF($A486 = \"\", \"\", COUNTIFS(ToDoList!$B:$B, $A486, ToDoList!$R:$R, G$2))","v":""},{"$f":"IF($A486 = \"\", \"\", COUNTIFS(ToDoList!$B:$B, $A486, ToDoList!$R:$R, H$2))","v":""},{"$f":"IF($A486 = \"\", \"\", COUNTIFS(ToDoList!$B:$B, $A486, ToDoList!$R:$R, I$2))","v":""},{"$f":"IF($A486 = \"\", \"\", COUNTIFS(ToDoList!$B:$B, $A486, ToDoList!$R:$R, J$2))","v":""}]
[null,{"$f":"IF($A487 = \"\", \"\", COUNTIFS(ToDoList!$B:$B, $A487, ToDoList!$R:$R, B$2))","v":""},{"$f":"IF($A487 = \"\", \"\", COUNTIFS(ToDoList!$B:$B, $A487, ToDoList!$R:$R, C$2))","v":""},{"$f":"IF($A487 = \"\", \"\", COUNTIFS(ToDoList!$B:$B, $A487, ToDoList!$R:$R, D$2))","v":""},{"$f":"IF($A487 = \"\", \"\", COUNTIFS(ToDoList!$B:$B, $A487, ToDoList!$R:$R, E$2))","v":""},{"$f":"IF($A487 = \"\", \"\", COUNTIFS(ToDoList!$B:$B, $A487, ToDoList!$R:$R, F$2))","v":""},{"$f":"IF($A487 = \"\", \"\", COUNTIFS(ToDoList!$B:$B, $A487, ToDoList!$R:$R, G$2))","v":""},{"$f":"IF($A487 = \"\", \"\", COUNTIFS(ToDoList!$B:$B, $A487, ToDoList!$R:$R, H$2))","v":""},{"$f":"IF($A487 = \"\", \"\", COUNTIFS(ToDoList!$B:$B, $A487, ToDoList!$R:$R, I$2))","v":""},{"$f":"IF($A487 = \"\", \"\", COUNTIFS(ToDoList!$B:$B, $A487, ToDoList!$R:$R, J$2))","v":""}]
[null,{"$f":"IF($A488 = \"\", \"\", COUNTIFS(ToDoList!$B:$B, $A488, ToDoList!$R:$R, B$2))","v":""},{"$f":"IF($A488 = \"\", \"\", COUNTIFS(ToDoList!$B:$B, $A488, ToDoList!$R:$R, C$2))","v":""},{"$f":"IF($A488 = \"\", \"\", COUNTIFS(ToDoList!$B:$B, $A488, ToDoList!$R:$R, D$2))","v":""},{"$f":"IF($A488 = \"\", \"\", COUNTIFS(ToDoList!$B:$B, $A488, ToDoList!$R:$R, E$2))","v":""},{"$f":"IF($A488 = \"\", \"\", COUNTIFS(ToDoList!$B:$B, $A488, ToDoList!$R:$R, F$2))","v":""},{"$f":"IF($A488 = \"\", \"\", COUNTIFS(ToDoList!$B:$B, $A488, ToDoList!$R:$R, G$2))","v":""},{"$f":"IF($A488 = \"\", \"\", COUNTIFS(ToDoList!$B:$B, $A488, ToDoList!$R:$R, H$2))","v":""},{"$f":"IF($A488 = \"\", \"\", COUNTIFS(ToDoList!$B:$B, $A488, ToDoList!$R:$R, I$2))","v":""},{"$f":"IF($A488 = \"\", \"\", COUNTIFS(ToDoList!$B:$B, $A488, ToDoList!$R:$R, J$2))","v":""}]
[null,{"$f":"IF($A489 = \"\", \"\", COUNTIFS(ToDoList!$B:$B, $A489, ToDoList!$R:$R, B$2))","v":""},{"$f":"IF($A489 = \"\", \"\", COUNTIFS(ToDoList!$B:$B, $A489, ToDoList!$R:$R, C$2))","v":""},{"$f":"IF($A489 = \"\", \"\", COUNTIFS(ToDoList!$B:$B, $A489, ToDoList!$R:$R, D$2))","v":""},{"$f":"IF($A489 = \"\", \"\", COUNTIFS(ToDoList!$B:$B, $A489, ToDoList!$R:$R, E$2))","v":""},{"$f":"IF($A489 = \"\", \"\", COUNTIFS(ToDoList!$B:$B, $A489, ToDoList!$R:$R, F$2))","v":""},{"$f":"IF($A489 = \"\", \"\", COUNTIFS(ToDoList!$B:$B, $A489, ToDoList!$R:$R, G$2))","v":""},{"$f":"IF($A489 = \"\", \"\", COUNTIFS(ToDoList!$B:$B, $A489, ToDoList!$R:$R, H$2))","v":""},{"$f":"IF($A489 = \"\", \"\", COUNTIFS(ToDoList!$B:$B, $A489, ToDoList!$R:$R, I$2))","v":""},{"$f":"IF($A489 = \"\", \"\", COUNTIFS(ToDoList!$B:$B, $A489, ToDoList!$R:$R, J$2))","v":""}]
[null,{"$f":"IF($A490 = \"\", \"\", COUNTIFS(ToDoList!$B:$B, $A490, ToDoList!$R:$R, B$2))","v":""},{"$f":"IF($A490 = \"\", \"\", COUNTIFS(ToDoList!$B:$B, $A490, ToDoList!$R:$R, C$2))","v":""},{"$f":"IF($A490 = \"\", \"\", COUNTIFS(ToDoList!$B:$B, $A490, ToDoList!$R:$R, D$2))","v":""},{"$f":"IF($A490 = \"\", \"\", COUNTIFS(ToDoList!$B:$B, $A490, ToDoList!$R:$R, E$2))","v":""},{"$f":"IF($A490 = \"\", \"\", COUNTIFS(ToDoList!$B:$B, $A490, ToDoList!$R:$R, F$2))","v":""},{"$f":"IF($A490 = \"\", \"\", COUNTIFS(ToDoList!$B:$B, $A490, ToDoList!$R:$R, G$2))","v":""},{"$f":"IF($A490 = \"\", \"\", COUNTIFS(ToDoList!$B:$B, $A490, ToDoList!$R:$R, H$2))","v":""},{"$f":"IF($A490 = \"\", \"\", COUNTIFS(ToDoList!$B:$B, $A490, ToDoList!$R:$R, I$2))","v":""},{"$f":"IF($A490 = \"\", \"\", COUNTIFS(ToDoList!$B:$B, $A490, ToDoList!$R:$R, J$2))","v":""}]
[null,{"$f":"IF($A491 = \"\", \"\", COUNTIFS(ToDoList!$B:$B, $A491, ToDoList!$R:$R, B$2))","v":""},{"$f":"IF($A491 = \"\", \"\", COUNTIFS(ToDoList!$B:$B, $A491, ToDoList!$R:$R, C$2))","v":""},{"$f":"IF($A491 = \"\", \"\", COUNTIFS(ToDoList!$B:$B, $A491, ToDoList!$R:$R, D$2))","v":""},{"$f":"IF($A491 = \"\", \"\", COUNTIFS(ToDoList!$B:$B, $A491, ToDoList!$R:$R, E$2))","v":""},{"$f":"IF($A491 = \"\", \"\", COUNTIFS(ToDoList!$B:$B, $A491, ToDoList!$R:$R, F$2))","v":""},{"$f":"IF($A491 = \"\", \"\", COUNTIFS(ToDoList!$B:$B, $A491, ToDoList!$R:$R, G$2))","v":""},{"$f":"IF($A491 = \"\", \"\", COUNTIFS(ToDoList!$B:$B, $A491, ToDoList!$R:$R, H$2))","v":""},{"$f":"IF($A491 = \"\", \"\", COUNTIFS(ToDoList!$B:$B, $A491, ToDoList!$R:$R, I$2))","v":""},{"$f":"IF($A491 = \"\", \"\", COUNTIFS(ToDoList!$B:$B, $A491, ToDoList!$R:$R, J$2))","v":""}]
[null,{"$f":"IF($A492 = \"\", \"\", COUNTIFS(ToDoList!$B:$B, $A492, ToDoList!$R:$R, B$2))","v":""},{"$f":"IF($A492 = \"\", \"\", COUNTIFS(ToDoList!$B:$B, $A492, ToDoList!$R:$R, C$2))","v":""},{"$f":"IF($A492 = \"\", \"\", COUNTIFS(ToDoList!$B:$B, $A492, ToDoList!$R:$R, D$2))","v":""},{"$f":"IF($A492 = \"\", \"\", COUNTIFS(ToDoList!$B:$B, $A492, ToDoList!$R:$R, E$2))","v":""},{"$f":"IF($A492 = \"\", \"\", COUNTIFS(ToDoList!$B:$B, $A492, ToDoList!$R:$R, F$2))","v":""},{"$f":"IF($A492 = \"\", \"\", COUNTIFS(ToDoList!$B:$B, $A492, ToDoList!$R:$R, G$2))","v":""},{"$f":"IF($A492 = \"\", \"\", COUNTIFS(ToDoList!$B:$B, $A492, ToDoList!$R:$R, H$2))","v":""},{"$f":"IF($A492 = \"\", \"\", COUNTIFS(ToDoList!$B:$B, $A492, ToDoList!$R:$R, I$2))","v":""},{"$f":"IF($A492 = \"\", \"\", COUNTIFS(ToDoList!$B:$B, $A492, ToDoList!$R:$R, J$2))","v":""}]
[null,{"$f":"IF($A493 = \"\", \"\", COUNTIFS(ToDoList!$B:$B, $A493, ToDoList!$R:$R, B$2))","v":""},{"$f":"IF($A493 = \"\", \"\", COUNTIFS(ToDoList!$B:$B, $A493, ToDoList!$R:$R, C$2))","v":""},{"$f":"IF($A493 = \"\", \"\", COUNTIFS(ToDoList!$B:$B, $A493, ToDoList!$R:$R, D$2))","v":""},{"$f":"IF($A493 = \"\", \"\", COUNTIFS(ToDoList!$B:$B, $A493, ToDoList!$R:$R, E$2))","v":""},{"$f":"IF($A493 = \"\", \"\", COUNTIFS(ToDoList!$B:$B, $A493, ToDoList!$R:$R, F$2))","v":""},{"$f":"IF($A493 = \"\", \"\", COUNTIFS(ToDoList!$B:$B, $A493, ToDoList!$R:$R, G$2))","v":""},{"$f":"IF($A493 = \"\", \"\", COUNTIFS(ToDoList!$B:$B, $A493, ToDoList!$R:$R, H$2))","v":""},{"$f":"IF($A493 = \"\", \"\", COUNTIFS(ToDoList!$B:$B, $A493, ToDoList!$R:$R, I$2))","v":""},{"$f":"IF($A493 = \"\", \"\", COUNTIFS(ToDoList!$B:$B, $A493, ToDoList!$R:$R, J$2))","v":""}]
[null,{"$f":"IF($A494 = \"\", \"\", COUNTIFS(ToDoList!$B:$B, $A494, ToDoList!$R:$R, B$2))","v":""},{"$f":"IF($A494 = \"\", \"\", COUNTIFS(ToDoList!$B:$B, $A494, ToDoList!$R:$R, C$2))","v":""},{"$f":"IF($A494 = \"\", \"\", COUNTIFS(ToDoList!$B:$B, $A494, ToDoList!$R:$R, D$2))","v":""},{"$f":"IF($A494 = \"\", \"\", COUNTIFS(ToDoList!$B:$B, $A494, ToDoList!$R:$R, E$2))","v":""},{"$f":"IF($A494 = \"\", \"\", COUNTIFS(ToDoList!$B:$B, $A494, ToDoList!$R:$R, F$2))","v":""},{"$f":"IF($A494 = \"\", \"\", COUNTIFS(ToDoList!$B:$B, $A494, ToDoList!$R:$R, G$2))","v":""},{"$f":"IF($A494 = \"\", \"\", COUNTIFS(ToDoList!$B:$B, $A494, ToDoList!$R:$R, H$2))","v":""},{"$f":"IF($A494 = \"\", \"\", COUNTIFS(ToDoList!$B:$B, $A494, ToDoList!$R:$R, I$2))","v":""},{"$f":"IF($A494 = \"\", \"\", COUNTIFS(ToDoList!$B:$B, $A494, ToDoList!$R:$R, J$2))","v":""}]
[null,{"$f":"IF($A495 = \"\", \"\", COUNTIFS(ToDoList!$B:$B, $A495, ToDoList!$R:$R, B$2))","v":""},{"$f":"IF($A495 = \"\", \"\", COUNTIFS(ToDoList!$B:$B, $A495, ToDoList!$R:$R, C$2))","v":""},{"$f":"IF($A495 = \"\", \"\", COUNTIFS(ToDoList!$B:$B, $A495, ToDoList!$R:$R, D$2))","v":""},{"$f":"IF($A495 = \"\", \"\", COUNTIFS(ToDoList!$B:$B, $A495, ToDoList!$R:$R, E$2))","v":""},{"$f":"IF($A495 = \"\", \"\", COUNTIFS(ToDoList!$B:$B, $A495, ToDoList!$R:$R, F$2))","v":""},{"$f":"IF($A495 = \"\", \"\", COUNTIFS(ToDoList!$B:$B, $A495, ToDoList!$R:$R, G$2))","v":""},{"$f":"IF($A495 = \"\", \"\", COUNTIFS(ToDoList!$B:$B, $A495, ToDoList!$R:$R, H$2))","v":""},{"$f":"IF($A495 = \"\", \"\", COUNTIFS(ToDoList!$B:$B, $A495, ToDoList!$R:$R, I$2))","v":""},{"$f":"IF($A495 = \"\", \"\", COUNTIFS(ToDoList!$B:$B, $A495, ToDoList!$R:$R, J$2))","v":""}]
[null,{"$f":"IF($A496 = \"\", \"\", COUNTIFS(ToDoList!$B:$B, $A496, ToDoList!$R:$R, B$2))","v":""},{"$f":"IF($A496 = \"\", \"\", COUNTIFS(ToDoList!$B:$B, $A496, ToDoList!$R:$R, C$2))","v":""},{"$f":"IF($A496 = \"\", \"\", COUNTIFS(ToDoList!$B:$B, $A496, ToDoList!$R:$R, D$2))","v":""},{"$f":"IF($A496 = \"\", \"\", COUNTIFS(ToDoList!$B:$B, $A496, ToDoList!$R:$R, E$2))","v":""},{"$f":"IF($A496 = \"\", \"\", COUNTIFS(ToDoList!$B:$B, $A496, ToDoList!$R:$R, F$2))","v":""},{"$f":"IF($A496 = \"\", \"\", COUNTIFS(ToDoList!$B:$B, $A496, ToDoList!$R:$R, G$2))","v":""},{"$f":"IF($A496 = \"\", \"\", COUNTIFS(ToDoList!$B:$B, $A496, ToDoList!$R:$R, H$2))","v":""},{"$f":"IF($A496 = \"\", \"\", COUNTIFS(ToDoList!$B:$B, $A496, ToDoList!$R:$R, I$2))","v":""},{"$f":"IF($A496 = \"\", \"\", COUNTIFS(ToDoList!$B:$B, $A496, ToDoList!$R:$R, J$2))","v":""}]
[null,{"$f":"IF($A497 = \"\", \"\", COUNTIFS(ToDoList!$B:$B, $A497, ToDoList!$R:$R, B$2))","v":""},{"$f":"IF($A497 = \"\", \"\", COUNTIFS(ToDoList!$B:$B, $A497, ToDoList!$R:$R, C$2))","v":""},{"$f":"IF($A497 = \"\", \"\", COUNTIFS(ToDoList!$B:$B, $A497, ToDoList!$R:$R, D$2))","v":""},{"$f":"IF($A497 = \"\", \"\", COUNTIFS(ToDoList!$B:$B, $A497, ToDoList!$R:$R, E$2))","v":""},{"$f":"IF($A497 = \"\", \"\", COUNTIFS(ToDoList!$B:$B, $A497, ToDoList!$R:$R, F$2))","v":""},{"$f":"IF($A497 = \"\", \"\", COUNTIFS(ToDoList!$B:$B, $A497, ToDoList!$R:$R, G$2))","v":""},{"$f":"IF($A497 = \"\", \"\", COUNTIFS(ToDoList!$B:$B, $A497, ToDoList!$R:$R, H$2))","v":""},{"$f":"IF($A497 = \"\", \"\", COUNTIFS(ToDoList!$B:$B, $A497, ToDoList!$R:$R, I$2))","v":""},{"$f":"IF($A497 = \"\", \"\", COUNTIFS(ToDoList!$B:$B, $A497, ToDoList!$R:$R, J$2))","v":""}]
[null,{"$f":"IF($A498 = \"\", \"\", COUNTIFS(ToDoList!$B:$B, $A498, ToDoList!$R:$R, B$2))","v":""},{"$f":"IF($A498 = \"\", \"\", COUNTIFS(ToDoList!$B:$B, $A498, ToDoList!$R:$R, C$2))","v":""},{"$f":"IF($A498 = \"\", \"\", COUNTIFS(ToDoList!$B:$B, $A498, ToDoList!$R:$R, D$2))","v":""},{"$f":"IF($A498 = \"\", \"\", COUNTIFS(ToDoList!$B:$B, $A498, ToDoList!$R:$R, E$2))","v":""},{"$f":"IF($A498 = \"\", \"\", COUNTIFS(ToDoList!$B:$B, $A498, ToDoList!$R:$R, F$2))","v":""},{"$f":"IF($A498 = \"\", \"\", COUNTIFS(ToDoList!$B:$B, $A498, ToDoList!$R:$R, G$2))","v":""},{"$f":"IF($A498 = \"\", \"\", COUNTIFS(ToDoList!$B:$B, $A498, ToDoList!$R:$R, H$2))","v":""},{"$f":"IF($A498 = \"\", \"\", COUNTIFS(ToDoList!$B:$B, $A498, ToDoList!$R:$R, I$2))","v":""},{"$f":"IF($A498 = \"\", \"\", COUNTIFS(ToDoList!$B:$B, $A498, ToDoList!$R:$R, J$2))","v":""}]
[null,{"$f":"IF($A499 = \"\", \"\", COUNTIFS(ToDoList!$B:$B, $A499, ToDoList!$R:$R, B$2))","v":""},{"$f":"IF($A499 = \"\", \"\", COUNTIFS(ToDoList!$B:$B, $A499, ToDoList!$R:$R, C$2))","v":""},{"$f":"IF($A499 = \"\", \"\", COUNTIFS(ToDoList!$B:$B, $A499, ToDoList!$R:$R, D$2))","v":""},{"$f":"IF($A499 = \"\", \"\", COUNTIFS(ToDoList!$B:$B, $A499, ToDoList!$R:$R, E$2))","v":""},{"$f":"IF($A499 = \"\", \"\", COUNTIFS(ToDoList!$B:$B, $A499, ToDoList!$R:$R, F$2))","v":""},{"$f":"IF($A499 = \"\", \"\", COUNTIFS(ToDoList!$B:$B, $A499, ToDoList!$R:$R, G$2))","v":""},{"$f":"IF($A499 = \"\", \"\", COUNTIFS(ToDoList!$B:$B, $A499, ToDoList!$R:$R, H$2))","v":""},{"$f":"IF($A499 = \"\", \"\", COUNTIFS(ToDoList!$B:$B, $A499, ToDoList!$R:$R, I$2))","v":""},{"$f":"IF($A499 = \"\", \"\", COUNTIFS(ToDoList!$B:$B, $A499, ToDoList!$R:$R, J$2))","v":""}]
[null,{"$f":"IF($A500 = \"\", \"\", COUNTIFS(ToDoList!$B:$B, $A500, ToDoList!$R:$R, B$2))","v":""},{"$f":"IF($A500 = \"\", \"\", COUNTIFS(ToDoList!$B:$B, $A500, ToDoList!$R:$R, C$2))","v":""},{"$f":"IF($A500 = \"\", \"\", COUNTIFS(ToDoList!$B:$B, $A500, ToDoList!$R:$R, D$2))","v":""},{"$f":"IF($A500 = \"\", \"\", COUNTIFS(ToDoList!$B:$B, $A500, ToDoList!$R:$R, E$2))","v":""},{"$f":"IF($A500 = \"\", \"\", COUNTIFS(ToDoList!$B:$B, $A500, ToDoList!$R:$R, F$2))","v":""},{"$f":"IF($A500 = \"\", \"\", COUNTIFS(ToDoList!$B:$B, $A500, ToDoList!$R:$R, G$2))","v":""},{"$f":"IF($A500 = \"\", \"\", COUNTIFS(ToDoList!$B:$B, $A500, ToDoList!$R:$R, H$2))","v":""},{"$f":"IF($A500 = \"\", \"\", COUNTIFS(ToDoList!$B:$B, $A500, ToDoList!$R:$R, I$2))","v":""},{"$f":"IF($A500 = \"\", \"\", COUNTIFS(ToDoList!$B:$B, $A500, ToDoList!$R:$R, J$2))","v":""}]
[null,{"$f":"IF($A501 = \"\", \"\", COUNTIFS(ToDoList!$B:$B, $A501, ToDoList!$R:$R, B$2))","v":""},{"$f":"IF($A501 = \"\", \"\", COUNTIFS(ToDoList!$B:$B, $A501, ToDoList!$R:$R, C$2))","v":""},{"$f":"IF($A501 = \"\", \"\", COUNTIFS(ToDoList!$B:$B, $A501, ToDoList!$R:$R, D$2))","v":""},{"$f":"IF($A501 = \"\", \"\", COUNTIFS(ToDoList!$B:$B, $A501, ToDoList!$R:$R, E$2))","v":""},{"$f":"IF($A501 = \"\", \"\", COUNTIFS(ToDoList!$B:$B, $A501, ToDoList!$R:$R, F$2))","v":""},{"$f":"IF($A501 = \"\", \"\", COUNTIFS(ToDoList!$B:$B, $A501, ToDoList!$R:$R, G$2))","v":""},{"$f":"IF($A501 = \"\", \"\", COUNTIFS(ToDoList!$B:$B, $A501, ToDoList!$R:$R, H$2))","v":""},{"$f":"IF($A501 = \"\", \"\", COUNTIFS(ToDoList!$B:$B, $A501, ToDoList!$R:$R, I$2))","v":""},{"$f":"IF($A501 = \"\", \"\", COUNTIFS(ToDoList!$B:$B, $A501, ToDoList!$R:$R, J$2))","v":""}]
[null,{"$f":"IF($A502 = \"\", \"\", COUNTIFS(ToDoList!$B:$B, $A502, ToDoList!$R:$R, B$2))","v":""},{"$f":"IF($A502 = \"\", \"\", COUNTIFS(ToDoList!$B:$B, $A502, ToDoList!$R:$R, C$2))","v":""},{"$f":"IF($A502 = \"\", \"\", COUNTIFS(ToDoList!$B:$B, $A502, ToDoList!$R:$R, D$2))","v":""},{"$f":"IF($A502 = \"\", \"\", COUNTIFS(ToDoList!$B:$B, $A502, ToDoList!$R:$R, E$2))","v":""},{"$f":"IF($A502 = \"\", \"\", COUNTIFS(ToDoList!$B:$B, $A502, ToDoList!$R:$R, F$2))","v":""},{"$f":"IF($A502 = \"\", \"\", COUNTIFS(ToDoList!$B:$B, $A502, ToDoList!$R:$R, G$2))","v":""},{"$f":"IF($A502 = \"\", \"\", COUNTIFS(ToDoList!$B:$B, $A502, ToDoList!$R:$R, H$2))","v":""},{"$f":"IF($A502 = \"\", \"\", COUNTIFS(ToDoList!$B:$B, $A502, ToDoList!$R:$R, I$2))","v":""},{"$f":"IF($A502 = \"\", \"\", COUNTIFS(ToDoList!$B:$B, $A502, ToDoList!$R:$R, J$2))","v":""}]
[null,{"$f":"IF($A503 = \"\", \"\", COUNTIFS(ToDoList!$B:$B, $A503, ToDoList!$R:$R, B$2))","v":""},{"$f":"IF($A503 = \"\", \"\", COUNTIFS(ToDoList!$B:$B, $A503, ToDoList!$R:$R, C$2))","v":""},{"$f":"IF($A503 = \"\", \"\", COUNTIFS(ToDoList!$B:$B, $A503, ToDoList!$R:$R, D$2))","v":""},{"$f":"IF($A503 = \"\", \"\", COUNTIFS(ToDoList!$B:$B, $A503, ToDoList!$R:$R, E$2))","v":""},{"$f":"IF($A503 = \"\", \"\", COUNTIFS(ToDoList!$B:$B, $A503, ToDoList!$R:$R, F$2))","v":""},{"$f":"IF($A503 = \"\", \"\", COUNTIFS(ToDoList!$B:$B, $A503, ToDoList!$R:$R, G$2))","v":""},{"$f":"IF($A503 = \"\", \"\", COUNTIFS(ToDoList!$B:$B, $A503, ToDoList!$R:$R, H$2))","v":""},{"$f":"IF($A503 = \"\", \"\", COUNTIFS(ToDoList!$B:$B, $A503, ToDoList!$R:$R, I$2))","v":""},{"$f":"IF($A503 = \"\", \"\", COUNTIFS(ToDoList!$B:$B, $A503, ToDoList!$R:$R, J$2))","v":""}]
[null,{"$f":"IF($A504 = \"\", \"\", COUNTIFS(ToDoList!$B:$B, $A504, ToDoList!$R:$R, B$2))","v":""},{"$f":"IF($A504 = \"\", \"\", COUNTIFS(ToDoList!$B:$B, $A504, ToDoList!$R:$R, C$2))","v":""},{"$f":"IF($A504 = \"\", \"\", COUNTIFS(ToDoList!$B:$B, $A504, ToDoList!$R:$R, D$2))","v":""},{"$f":"IF($A504 = \"\", \"\", COUNTIFS(ToDoList!$B:$B, $A504, ToDoList!$R:$R, E$2))","v":""},{"$f":"IF($A504 = \"\", \"\", COUNTIFS(ToDoList!$B:$B, $A504, ToDoList!$R:$R, F$2))","v":""},{"$f":"IF($A504 = \"\", \"\", COUNTIFS(ToDoList!$B:$B, $A504, ToDoList!$R:$R, G$2))","v":""},{"$f":"IF($A504 = \"\", \"\", COUNTIFS(ToDoList!$B:$B, $A504, ToDoList!$R:$R, H$2))","v":""},{"$f":"IF($A504 = \"\", \"\", COUNTIFS(ToDoList!$B:$B, $A504, ToDoList!$R:$R, I$2))","v":""},{"$f":"IF($A504 = \"\", \"\", COUNTIFS(ToDoList!$B:$B, $A504, ToDoList!$R:$R, J$2))","v":""}]
[null,{"$f":"IF($A505 = \"\", \"\", COUNTIFS(ToDoList!$B:$B, $A505, ToDoList!$R:$R, B$2))","v":""},{"$f":"IF($A505 = \"\", \"\", COUNTIFS(ToDoList!$B:$B, $A505, ToDoList!$R:$R, C$2))","v":""},{"$f":"IF($A505 = \"\", \"\", COUNTIFS(ToDoList!$B:$B, $A505, ToDoList!$R:$R, D$2))","v":""},{"$f":"IF($A505 = \"\", \"\", COUNTIFS(ToDoList!$B:$B, $A505, ToDoList!$R:$R, E$2))","v":""},{"$f":"IF($A505 = \"\", \"\", COUNTIFS(ToDoList!$B:$B, $A505, ToDoList!$R:$R, F$2))","v":""},{"$f":"IF($A505 = \"\", \"\", COUNTIFS(ToDoList!$B:$B, $A505, ToDoList!$R:$R, G$2))","v":""},{"$f":"IF($A505 = \"\", \"\", COUNTIFS(ToDoList!$B:$B, $A505, ToDoList!$R:$R, H$2))","v":""},{"$f":"IF($A505 = \"\", \"\", COUNTIFS(ToDoList!$B:$B, $A505, ToDoList!$R:$R, I$2))","v":""},{"$f":"IF($A505 = \"\", \"\", COUNTIFS(ToDoList!$B:$B, $A505, ToDoList!$R:$R, J$2))","v":""}]
[null,{"$f":"IF($A506 = \"\", \"\", COUNTIFS(ToDoList!$B:$B, $A506, ToDoList!$R:$R, B$2))","v":""},{"$f":"IF($A506 = \"\", \"\", COUNTIFS(ToDoList!$B:$B, $A506, ToDoList!$R:$R, C$2))","v":""},{"$f":"IF($A506 = \"\", \"\", COUNTIFS(ToDoList!$B:$B, $A506, ToDoList!$R:$R, D$2))","v":""},{"$f":"IF($A506 = \"\", \"\", COUNTIFS(ToDoList!$B:$B, $A506, ToDoList!$R:$R, E$2))","v":""},{"$f":"IF($A506 = \"\", \"\", COUNTIFS(ToDoList!$B:$B, $A506, ToDoList!$R:$R, F$2))","v":""},{"$f":"IF($A506 = \"\", \"\", COUNTIFS(ToDoList!$B:$B, $A506, ToDoList!$R:$R, G$2))","v":""},{"$f":"IF($A506 = \"\", \"\", COUNTIFS(ToDoList!$B:$B, $A506, ToDoList!$R:$R, H$2))","v":""},{"$f":"IF($A506 = \"\", \"\", COUNTIFS(ToDoList!$B:$B, $A506, ToDoList!$R:$R, I$2))","v":""},{"$f":"IF($A506 = \"\", \"\", COUNTIFS(ToDoList!$B:$B, $A506, ToDoList!$R:$R, J$2))","v":""}]
[null,{"$f":"IF($A507 = \"\", \"\", COUNTIFS(ToDoList!$B:$B, $A507, ToDoList!$R:$R, B$2))","v":""},{"$f":"IF($A507 = \"\", \"\", COUNTIFS(ToDoList!$B:$B, $A507, ToDoList!$R:$R, C$2))","v":""},{"$f":"IF($A507 = \"\", \"\", COUNTIFS(ToDoList!$B:$B, $A507, ToDoList!$R:$R, D$2))","v":""},{"$f":"IF($A507 = \"\", \"\", COUNTIFS(ToDoList!$B:$B, $A507, ToDoList!$R:$R, E$2))","v":""},{"$f":"IF($A507 = \"\", \"\", COUNTIFS(ToDoList!$B:$B, $A507, ToDoList!$R:$R, F$2))","v":""},{"$f":"IF($A507 = \"\", \"\", COUNTIFS(ToDoList!$B:$B, $A507, ToDoList!$R:$R, G$2))","v":""},{"$f":"IF($A507 = \"\", \"\", COUNTIFS(ToDoList!$B:$B, $A507, ToDoList!$R:$R, H$2))","v":""},{"$f":"IF($A507 = \"\", \"\", COUNTIFS(ToDoList!$B:$B, $A507, ToDoList!$R:$R, I$2))","v":""},{"$f":"IF($A507 = \"\", \"\", COUNTIFS(ToDoList!$B:$B, $A507, ToDoList!$R:$R, J$2))","v":""}]
[null,{"$f":"IF($A508 = \"\", \"\", COUNTIFS(ToDoList!$B:$B, $A508, ToDoList!$R:$R, B$2))","v":""},{"$f":"IF($A508 = \"\", \"\", COUNTIFS(ToDoList!$B:$B, $A508, ToDoList!$R:$R, C$2))","v":""},{"$f":"IF($A508 = \"\", \"\", COUNTIFS(ToDoList!$B:$B, $A508, ToDoList!$R:$R, D$2))","v":""},{"$f":"IF($A508 = \"\", \"\", COUNTIFS(ToDoList!$B:$B, $A508, ToDoList!$R:$R, E$2))","v":""},{"$f":"IF($A508 = \"\", \"\", COUNTIFS(ToDoList!$B:$B, $A508, ToDoList!$R:$R, F$2))","v":""},{"$f":"IF($A508 = \"\", \"\", COUNTIFS(ToDoList!$B:$B, $A508, ToDoList!$R:$R, G$2))","v":""},{"$f":"IF($A508 = \"\", \"\", COUNTIFS(ToDoList!$B:$B, $A508, ToDoList!$R:$R, H$2))","v":""},{"$f":"IF($A508 = \"\", \"\", COUNTIFS(ToDoList!$B:$B, $A508, ToDoList!$R:$R, I$2))","v":""},{"$f":"IF($A508 = \"\", \"\", COUNTIFS(ToDoList!$B:$B, $A508, ToDoList!$R:$R, J$2))","v":""}]
[null,{"$f":"IF($A509 = \"\", \"\", COUNTIFS(ToDoList!$B:$B, $A509, ToDoList!$R:$R, B$2))","v":""},{"$f":"IF($A509 = \"\", \"\", COUNTIFS(ToDoList!$B:$B, $A509, ToDoList!$R:$R, C$2))","v":""},{"$f":"IF($A509 = \"\", \"\", COUNTIFS(ToDoList!$B:$B, $A509, ToDoList!$R:$R, D$2))","v":""},{"$f":"IF($A509 = \"\", \"\", COUNTIFS(ToDoList!$B:$B, $A509, ToDoList!$R:$R, E$2))","v":""},{"$f":"IF($A509 = \"\", \"\", COUNTIFS(ToDoList!$B:$B, $A509, ToDoList!$R:$R, F$2))","v":""},{"$f":"IF($A509 = \"\", \"\", COUNTIFS(ToDoList!$B:$B, $A509, ToDoList!$R:$R, G$2))","v":""},{"$f":"IF($A509 = \"\", \"\", COUNTIFS(ToDoList!$B:$B, $A509, ToDoList!$R:$R, H$2))","v":""},{"$f":"IF($A509 = \"\", \"\", COUNTIFS(ToDoList!$B:$B, $A509, ToDoList!$R:$R, I$2))","v":""},{"$f":"IF($A509 = \"\", \"\", COUNTIFS(ToDoList!$B:$B, $A509, ToDoList!$R:$R, J$2))","v":""}]
[null,{"$f":"IF($A510 = \"\", \"\", COUNTIFS(ToDoList!$B:$B, $A510, ToDoList!$R:$R, B$2))","v":""},{"$f":"IF($A510 = \"\", \"\", COUNTIFS(ToDoList!$B:$B, $A510, ToDoList!$R:$R, C$2))","v":""},{"$f":"IF($A510 = \"\", \"\", COUNTIFS(ToDoList!$B:$B, $A510, ToDoList!$R:$R, D$2))","v":""},{"$f":"IF($A510 = \"\", \"\", COUNTIFS(ToDoList!$B:$B, $A510, ToDoList!$R:$R, E$2))","v":""},{"$f":"IF($A510 = \"\", \"\", COUNTIFS(ToDoList!$B:$B, $A510, ToDoList!$R:$R, F$2))","v":""},{"$f":"IF($A510 = \"\", \"\", COUNTIFS(ToDoList!$B:$B, $A510, ToDoList!$R:$R, G$2))","v":""},{"$f":"IF($A510 = \"\", \"\", COUNTIFS(ToDoList!$B:$B, $A510, ToDoList!$R:$R, H$2))","v":""},{"$f":"IF($A510 = \"\", \"\", COUNTIFS(ToDoList!$B:$B, $A510, ToDoList!$R:$R, I$2))","v":""},{"$f":"IF($A510 = \"\", \"\", COUNTIFS(ToDoList!$B:$B, $A510, ToDoList!$R:$R, J$2))","v":""}]
[null,{"$f":"IF($A511 = \"\", \"\", COUNTIFS(ToDoList!$B:$B, $A511, ToDoList!$R:$R, B$2))","v":""},{"$f":"IF($A511 = \"\", \"\", COUNTIFS(ToDoList!$B:$B, $A511, ToDoList!$R:$R, C$2))","v":""},{"$f":"IF($A511 = \"\", \"\", COUNTIFS(ToDoList!$B:$B, $A511, ToDoList!$R:$R, D$2))","v":""},{"$f":"IF($A511 = \"\", \"\", COUNTIFS(ToDoList!$B:$B, $A511, ToDoList!$R:$R, E$2))","v":""},{"$f":"IF($A511 = \"\", \"\", COUNTIFS(ToDoList!$B:$B, $A511, ToDoList!$R:$R, F$2))","v":""},{"$f":"IF($A511 = \"\", \"\", COUNTIFS(ToDoList!$B:$B, $A511, ToDoList!$R:$R, G$2))","v":""},{"$f":"IF($A511 = \"\", \"\", COUNTIFS(ToDoList!$B:$B, $A511, ToDoList!$R:$R, H$2))","v":""},{"$f":"IF($A511 = \"\", \"\", COUNTIFS(ToDoList!$B:$B, $A511, ToDoList!$R:$R, I$2))","v":""},{"$f":"IF($A511 = \"\", \"\", COUNTIFS(ToDoList!$B:$B, $A511, ToDoList!$R:$R, J$2))","v":""}]
[null,{"$f":"IF($A512 = \"\", \"\", COUNTIFS(ToDoList!$B:$B, $A512, ToDoList!$R:$R, B$2))","v":""},{"$f":"IF($A512 = \"\", \"\", COUNTIFS(ToDoList!$B:$B, $A512, ToDoList!$R:$R, C$2))","v":""},{"$f":"IF($A512 = \"\", \"\", COUNTIFS(ToDoList!$B:$B, $A512, ToDoList!$R:$R, D$2))","v":""},{"$f":"IF($A512 = \"\", \"\", COUNTIFS(ToDoList!$B:$B, $A512, ToDoList!$R:$R, E$2))","v":""},{"$f":"IF($A512 = \"\", \"\", COUNTIFS(ToDoList!$B:$B, $A512, ToDoList!$R:$R, F$2))","v":""},{"$f":"IF($A512 = \"\", \"\", COUNTIFS(ToDoList!$B:$B, $A512, ToDoList!$R:$R, G$2))","v":""},{"$f":"IF($A512 = \"\", \"\", COUNTIFS(ToDoList!$B:$B, $A512, ToDoList!$R:$R, H$2))","v":""},{"$f":"IF($A512 = \"\", \"\", COUNTIFS(ToDoList!$B:$B, $A512, ToDoList!$R:$R, I$2))","v":""},{"$f":"IF($A512 = \"\", \"\", COUNTIFS(ToDoList!$B:$B, $A512, ToDoList!$R:$R, J$2))","v":""}]
[null,{"$f":"IF($A513 = \"\", \"\", COUNTIFS(ToDoList!$B:$B, $A513, ToDoList!$R:$R, B$2))","v":""},{"$f":"IF($A513 = \"\", \"\", COUNTIFS(ToDoList!$B:$B, $A513, ToDoList!$R:$R, C$2))","v":""},{"$f":"IF($A513 = \"\", \"\", COUNTIFS(ToDoList!$B:$B, $A513, ToDoList!$R:$R, D$2))","v":""},{"$f":"IF($A513 = \"\", \"\", COUNTIFS(ToDoList!$B:$B, $A513, ToDoList!$R:$R, E$2))","v":""},{"$f":"IF($A513 = \"\", \"\", COUNTIFS(ToDoList!$B:$B, $A513, ToDoList!$R:$R, F$2))","v":""},{"$f":"IF($A513 = \"\", \"\", COUNTIFS(ToDoList!$B:$B, $A513, ToDoList!$R:$R, G$2))","v":""},{"$f":"IF($A513 = \"\", \"\", COUNTIFS(ToDoList!$B:$B, $A513, ToDoList!$R:$R, H$2))","v":""},{"$f":"IF($A513 = \"\", \"\", COUNTIFS(ToDoList!$B:$B, $A513, ToDoList!$R:$R, I$2))","v":""},{"$f":"IF($A513 = \"\", \"\", COUNTIFS(ToDoList!$B:$B, $A513, ToDoList!$R:$R, J$2))","v":""}]
[null,{"$f":"IF($A514 = \"\", \"\", COUNTIFS(ToDoList!$B:$B, $A514, ToDoList!$R:$R, B$2))","v":""},{"$f":"IF($A514 = \"\", \"\", COUNTIFS(ToDoList!$B:$B, $A514, ToDoList!$R:$R, C$2))","v":""},{"$f":"IF($A514 = \"\", \"\", COUNTIFS(ToDoList!$B:$B, $A514, ToDoList!$R:$R, D$2))","v":""},{"$f":"IF($A514 = \"\", \"\", COUNTIFS(ToDoList!$B:$B, $A514, ToDoList!$R:$R, E$2))","v":""},{"$f":"IF($A514 = \"\", \"\", COUNTIFS(ToDoList!$B:$B, $A514, ToDoList!$R:$R, F$2))","v":""},{"$f":"IF($A514 = \"\", \"\", COUNTIFS(ToDoList!$B:$B, $A514, ToDoList!$R:$R, G$2))","v":""},{"$f":"IF($A514 = \"\", \"\", COUNTIFS(ToDoList!$B:$B, $A514, ToDoList!$R:$R, H$2))","v":""},{"$f":"IF($A514 = \"\", \"\", COUNTIFS(ToDoList!$B:$B, $A514, ToDoList!$R:$R, I$2))","v":""},{"$f":"IF($A514 = \"\", \"\", COUNTIFS(ToDoList!$B:$B, $A514, ToDoList!$R:$R, J$2))","v":""}]
[null,{"$f":"IF($A515 = \"\", \"\", COUNTIFS(ToDoList!$B:$B, $A515, ToDoList!$R:$R, B$2))","v":""},{"$f":"IF($A515 = \"\", \"\", COUNTIFS(ToDoList!$B:$B, $A515, ToDoList!$R:$R, C$2))","v":""},{"$f":"IF($A515 = \"\", \"\", COUNTIFS(ToDoList!$B:$B, $A515, ToDoList!$R:$R, D$2))","v":""},{"$f":"IF($A515 = \"\", \"\", COUNTIFS(ToDoList!$B:$B, $A515, ToDoList!$R:$R, E$2))","v":""},{"$f":"IF($A515 = \"\", \"\", COUNTIFS(ToDoList!$B:$B, $A515, ToDoList!$R:$R, F$2))","v":""},{"$f":"IF($A515 = \"\", \"\", COUNTIFS(ToDoList!$B:$B, $A515, ToDoList!$R:$R, G$2))","v":""},{"$f":"IF($A515 = \"\", \"\", COUNTIFS(ToDoList!$B:$B, $A515, ToDoList!$R:$R, H$2))","v":""},{"$f":"IF($A515 = \"\", \"\", COUNTIFS(ToDoList!$B:$B, $A515, ToDoList!$R:$R, I$2))","v":""},{"$f":"IF($A515 = \"\", \"\", COUNTIFS(ToDoList!$B:$B, $A515, ToDoList!$R:$R, J$2))","v":""}]
[null,{"$f":"IF($A516 = \"\", \"\", COUNTIFS(ToDoList!$B:$B, $A516, ToDoList!$R:$R, B$2))","v":""},{"$f":"IF($A516 = \"\", \"\", COUNTIFS(ToDoList!$B:$B, $A516, ToDoList!$R:$R, C$2))","v":""},{"$f":"IF($A516 = \"\", \"\", COUNTIFS(ToDoList!$B:$B, $A516, ToDoList!$R:$R, D$2))","v":""},{"$f":"IF($A516 = \"\", \"\", COUNTIFS(ToDoList!$B:$B, $A516, ToDoList!$R:$R, E$2))","v":""},{"$f":"IF($A516 = \"\", \"\", COUNTIFS(ToDoList!$B:$B, $A516, ToDoList!$R:$R, F$2))","v":""},{"$f":"IF($A516 = \"\", \"\", COUNTIFS(ToDoList!$B:$B, $A516, ToDoList!$R:$R, G$2))","v":""},{"$f":"IF($A516 = \"\", \"\", COUNTIFS(ToDoList!$B:$B, $A516, ToDoList!$R:$R, H$2))","v":""},{"$f":"IF($A516 = \"\", \"\", COUNTIFS(ToDoList!$B:$B, $A516, ToDoList!$R:$R, I$2))","v":""},{"$f":"IF($A516 = \"\", \"\", COUNTIFS(ToDoList!$B:$B, $A516, ToDoList!$R:$R, J$2))","v":""}]
[null,{"$f":"IF($A517 = \"\", \"\", COUNTIFS(ToDoList!$B:$B, $A517, ToDoList!$R:$R, B$2))","v":""},{"$f":"IF($A517 = \"\", \"\", COUNTIFS(ToDoList!$B:$B, $A517, ToDoList!$R:$R, C$2))","v":""},{"$f":"IF($A517 = \"\", \"\", COUNTIFS(ToDoList!$B:$B, $A517, ToDoList!$R:$R, D$2))","v":""},{"$f":"IF($A517 = \"\", \"\", COUNTIFS(ToDoList!$B:$B, $A517, ToDoList!$R:$R, E$2))","v":""},{"$f":"IF($A517 = \"\", \"\", COUNTIFS(ToDoList!$B:$B, $A517, ToDoList!$R:$R, F$2))","v":""},{"$f":"IF($A517 = \"\", \"\", COUNTIFS(ToDoList!$B:$B, $A517, ToDoList!$R:$R, G$2))","v":""},{"$f":"IF($A517 = \"\", \"\", COUNTIFS(ToDoList!$B:$B, $A517, ToDoList!$R:$R, H$2))","v":""},{"$f":"IF($A517 = \"\", \"\", COUNTIFS(ToDoList!$B:$B, $A517, ToDoList!$R:$R, I$2))","v":""},{"$f":"IF($A517 = \"\", \"\", COUNTIFS(ToDoList!$B:$B, $A517, ToDoList!$R:$R, J$2))","v":""}]
[null,{"$f":"IF($A518 = \"\", \"\", COUNTIFS(ToDoList!$B:$B, $A518, ToDoList!$R:$R, B$2))","v":""},{"$f":"IF($A518 = \"\", \"\", COUNTIFS(ToDoList!$B:$B, $A518, ToDoList!$R:$R, C$2))","v":""},{"$f":"IF($A518 = \"\", \"\", COUNTIFS(ToDoList!$B:$B, $A518, ToDoList!$R:$R, D$2))","v":""},{"$f":"IF($A518 = \"\", \"\", COUNTIFS(ToDoList!$B:$B, $A518, ToDoList!$R:$R, E$2))","v":""},{"$f":"IF($A518 = \"\", \"\", COUNTIFS(ToDoList!$B:$B, $A518, ToDoList!$R:$R, F$2))","v":""},{"$f":"IF($A518 = \"\", \"\", COUNTIFS(ToDoList!$B:$B, $A518, ToDoList!$R:$R, G$2))","v":""},{"$f":"IF($A518 = \"\", \"\", COUNTIFS(ToDoList!$B:$B, $A518, ToDoList!$R:$R, H$2))","v":""},{"$f":"IF($A518 = \"\", \"\", COUNTIFS(ToDoList!$B:$B, $A518, ToDoList!$R:$R, I$2))","v":""},{"$f":"IF($A518 = \"\", \"\", COUNTIFS(ToDoList!$B:$B, $A518, ToDoList!$R:$R, J$2))","v":""}]
[null,{"$f":"IF($A519 = \"\", \"\", COUNTIFS(ToDoList!$B:$B, $A519, ToDoList!$R:$R, B$2))","v":""},{"$f":"IF($A519 = \"\", \"\", COUNTIFS(ToDoList!$B:$B, $A519, ToDoList!$R:$R, C$2))","v":""},{"$f":"IF($A519 = \"\", \"\", COUNTIFS(ToDoList!$B:$B, $A519, ToDoList!$R:$R, D$2))","v":""},{"$f":"IF($A519 = \"\", \"\", COUNTIFS(ToDoList!$B:$B, $A519, ToDoList!$R:$R, E$2))","v":""},{"$f":"IF($A519 = \"\", \"\", COUNTIFS(ToDoList!$B:$B, $A519, ToDoList!$R:$R, F$2))","v":""},{"$f":"IF($A519 = \"\", \"\", COUNTIFS(ToDoList!$B:$B, $A519, ToDoList!$R:$R, G$2))","v":""},{"$f":"IF($A519 = \"\", \"\", COUNTIFS(ToDoList!$B:$B, $A519, ToDoList!$R:$R, H$2))","v":""},{"$f":"IF($A519 = \"\", \"\", COUNTIFS(ToDoList!$B:$B, $A519, ToDoList!$R:$R, I$2))","v":""},{"$f":"IF($A519 = \"\", \"\", COUNTIFS(ToDoList!$B:$B, $A519, ToDoList!$R:$R, J$2))","v":""}]
[null,{"$f":"IF($A520 = \"\", \"\", COUNTIFS(ToDoList!$B:$B, $A520, ToDoList!$R:$R, B$2))","v":""},{"$f":"IF($A520 = \"\", \"\", COUNTIFS(ToDoList!$B:$B, $A520, ToDoList!$R:$R, C$2))","v":""},{"$f":"IF($A520 = \"\", \"\", COUNTIFS(ToDoList!$B:$B, $A520, ToDoList!$R:$R, D$2))","v":""},{"$f":"IF($A520 = \"\", \"\", COUNTIFS(ToDoList!$B:$B, $A520, ToDoList!$R:$R, E$2))","v":""},{"$f":"IF($A520 = \"\", \"\", COUNTIFS(ToDoList!$B:$B, $A520, ToDoList!$R:$R, F$2))","v":""},{"$f":"IF($A520 = \"\", \"\", COUNTIFS(ToDoList!$B:$B, $A520, ToDoList!$R:$R, G$2))","v":""},{"$f":"IF($A520 = \"\", \"\", COUNTIFS(ToDoList!$B:$B, $A520, ToDoList!$R:$R, H$2))","v":""},{"$f":"IF($A520 = \"\", \"\", COUNTIFS(ToDoList!$B:$B, $A520, ToDoList!$R:$R, I$2))","v":""},{"$f":"IF($A520 = \"\", \"\", COUNTIFS(ToDoList!$B:$B, $A520, ToDoList!$R:$R, J$2))","v":""}]
[null,{"$f":"IF($A521 = \"\", \"\", COUNTIFS(ToDoList!$B:$B, $A521, ToDoList!$R:$R, B$2))","v":""},{"$f":"IF($A521 = \"\", \"\", COUNTIFS(ToDoList!$B:$B, $A521, ToDoList!$R:$R, C$2))","v":""},{"$f":"IF($A521 = \"\", \"\", COUNTIFS(ToDoList!$B:$B, $A521, ToDoList!$R:$R, D$2))","v":""},{"$f":"IF($A521 = \"\", \"\", COUNTIFS(ToDoList!$B:$B, $A521, ToDoList!$R:$R, E$2))","v":""},{"$f":"IF($A521 = \"\", \"\", COUNTIFS(ToDoList!$B:$B, $A521, ToDoList!$R:$R, F$2))","v":""},{"$f":"IF($A521 = \"\", \"\", COUNTIFS(ToDoList!$B:$B, $A521, ToDoList!$R:$R, G$2))","v":""},{"$f":"IF($A521 = \"\", \"\", COUNTIFS(ToDoList!$B:$B, $A521, ToDoList!$R:$R, H$2))","v":""},{"$f":"IF($A521 = \"\", \"\", COUNTIFS(ToDoList!$B:$B, $A521, ToDoList!$R:$R, I$2))","v":""},{"$f":"IF($A521 = \"\", \"\", COUNTIFS(ToDoList!$B:$B, $A521, ToDoList!$R:$R, J$2))","v":""}]
[null,{"$f":"IF($A522 = \"\", \"\", COUNTIFS(ToDoList!$B:$B, $A522, ToDoList!$R:$R, B$2))","v":""},{"$f":"IF($A522 = \"\", \"\", COUNTIFS(ToDoList!$B:$B, $A522, ToDoList!$R:$R, C$2))","v":""},{"$f":"IF($A522 = \"\", \"\", COUNTIFS(ToDoList!$B:$B, $A522, ToDoList!$R:$R, D$2))","v":""},{"$f":"IF($A522 = \"\", \"\", COUNTIFS(ToDoList!$B:$B, $A522, ToDoList!$R:$R, E$2))","v":""},{"$f":"IF($A522 = \"\", \"\", COUNTIFS(ToDoList!$B:$B, $A522, ToDoList!$R:$R, F$2))","v":""},{"$f":"IF($A522 = \"\", \"\", COUNTIFS(ToDoList!$B:$B, $A522, ToDoList!$R:$R, G$2))","v":""},{"$f":"IF($A522 = \"\", \"\", COUNTIFS(ToDoList!$B:$B, $A522, ToDoList!$R:$R, H$2))","v":""},{"$f":"IF($A522 = \"\", \"\", COUNTIFS(ToDoList!$B:$B, $A522, ToDoList!$R:$R, I$2))","v":""},{"$f":"IF($A522 = \"\", \"\", COUNTIFS(ToDoList!$B:$B, $A522, ToDoList!$R:$R, J$2))","v":""}]
[null,{"$f":"IF($A523 = \"\", \"\", COUNTIFS(ToDoList!$B:$B, $A523, ToDoList!$R:$R, B$2))","v":""},{"$f":"IF($A523 = \"\", \"\", COUNTIFS(ToDoList!$B:$B, $A523, ToDoList!$R:$R, C$2))","v":""},{"$f":"IF($A523 = \"\", \"\", COUNTIFS(ToDoList!$B:$B, $A523, ToDoList!$R:$R, D$2))","v":""},{"$f":"IF($A523 = \"\", \"\", COUNTIFS(ToDoList!$B:$B, $A523, ToDoList!$R:$R, E$2))","v":""},{"$f":"IF($A523 = \"\", \"\", COUNTIFS(ToDoList!$B:$B, $A523, ToDoList!$R:$R, F$2))","v":""},{"$f":"IF($A523 = \"\", \"\", COUNTIFS(ToDoList!$B:$B, $A523, ToDoList!$R:$R, G$2))","v":""},{"$f":"IF($A523 = \"\", \"\", COUNTIFS(ToDoList!$B:$B, $A523, ToDoList!$R:$R, H$2))","v":""},{"$f":"IF($A523 = \"\", \"\", COUNTIFS(ToDoList!$B:$B, $A523, ToDoList!$R:$R, I$2))","v":""},{"$f":"IF($A523 = \"\", \"\", COUNTIFS(ToDoList!$B:$B, $A523, ToDoList!$R:$R, J$2))","v":""}]
[null,{"$f":"IF($A524 = \"\", \"\", COUNTIFS(ToDoList!$B:$B, $A524, ToDoList!$R:$R, B$2))","v":""},{"$f":"IF($A524 = \"\", \"\", COUNTIFS(ToDoList!$B:$B, $A524, ToDoList!$R:$R, C$2))","v":""},{"$f":"IF($A524 = \"\", \"\", COUNTIFS(ToDoList!$B:$B, $A524, ToDoList!$R:$R, D$2))","v":""},{"$f":"IF($A524 = \"\", \"\", COUNTIFS(ToDoList!$B:$B, $A524, ToDoList!$R:$R, E$2))","v":""},{"$f":"IF($A524 = \"\", \"\", COUNTIFS(ToDoList!$B:$B, $A524, ToDoList!$R:$R, F$2))","v":""},{"$f":"IF($A524 = \"\", \"\", COUNTIFS(ToDoList!$B:$B, $A524, ToDoList!$R:$R, G$2))","v":""},{"$f":"IF($A524 = \"\", \"\", COUNTIFS(ToDoList!$B:$B, $A524, ToDoList!$R:$R, H$2))","v":""},{"$f":"IF($A524 = \"\", \"\", COUNTIFS(ToDoList!$B:$B, $A524, ToDoList!$R:$R, I$2))","v":""},{"$f":"IF($A524 = \"\", \"\", COUNTIFS(ToDoList!$B:$B, $A524, ToDoList!$R:$R, J$2))","v":""}]
[null,{"$f":"IF($A525 = \"\", \"\", COUNTIFS(ToDoList!$B:$B, $A525, ToDoList!$R:$R, B$2))","v":""},{"$f":"IF($A525 = \"\", \"\", COUNTIFS(ToDoList!$B:$B, $A525, ToDoList!$R:$R, C$2))","v":""},{"$f":"IF($A525 = \"\", \"\", COUNTIFS(ToDoList!$B:$B, $A525, ToDoList!$R:$R, D$2))","v":""},{"$f":"IF($A525 = \"\", \"\", COUNTIFS(ToDoList!$B:$B, $A525, ToDoList!$R:$R, E$2))","v":""},{"$f":"IF($A525 = \"\", \"\", COUNTIFS(ToDoList!$B:$B, $A525, ToDoList!$R:$R, F$2))","v":""},{"$f":"IF($A525 = \"\", \"\", COUNTIFS(ToDoList!$B:$B, $A525, ToDoList!$R:$R, G$2))","v":""},{"$f":"IF($A525 = \"\", \"\", COUNTIFS(ToDoList!$B:$B, $A525, ToDoList!$R:$R, H$2))","v":""},{"$f":"IF($A525 = \"\", \"\", COUNTIFS(ToDoList!$B:$B, $A525, ToDoList!$R:$R, I$2))","v":""},{"$f":"IF($A525 = \"\", \"\", COUNTIFS(ToDoList!$B:$B, $A525, ToDoList!$R:$R, J$2))","v":""}]
[null,{"$f":"IF($A526 = \"\", \"\", COUNTIFS(ToDoList!$B:$B, $A526, ToDoList!$R:$R, B$2))","v":""},{"$f":"IF($A526 = \"\", \"\", COUNTIFS(ToDoList!$B:$B, $A526, ToDoList!$R:$R, C$2))","v":""},{"$f":"IF($A526 = \"\", \"\", COUNTIFS(ToDoList!$B:$B, $A526, ToDoList!$R:$R, D$2))","v":""},{"$f":"IF($A526 = \"\", \"\", COUNTIFS(ToDoList!$B:$B, $A526, ToDoList!$R:$R, E$2))","v":""},{"$f":"IF($A526 = \"\", \"\", COUNTIFS(ToDoList!$B:$B, $A526, ToDoList!$R:$R, F$2))","v":""},{"$f":"IF($A526 = \"\", \"\", COUNTIFS(ToDoList!$B:$B, $A526, ToDoList!$R:$R, G$2))","v":""},{"$f":"IF($A526 = \"\", \"\", COUNTIFS(ToDoList!$B:$B, $A526, ToDoList!$R:$R, H$2))","v":""},{"$f":"IF($A526 = \"\", \"\", COUNTIFS(ToDoList!$B:$B, $A526, ToDoList!$R:$R, I$2))","v":""},{"$f":"IF($A526 = \"\", \"\", COUNTIFS(ToDoList!$B:$B, $A526, ToDoList!$R:$R, J$2))","v":""}]
[null,{"$f":"IF($A527 = \"\", \"\", COUNTIFS(ToDoList!$B:$B, $A527, ToDoList!$R:$R, B$2))","v":""},{"$f":"IF($A527 = \"\", \"\", COUNTIFS(ToDoList!$B:$B, $A527, ToDoList!$R:$R, C$2))","v":""},{"$f":"IF($A527 = \"\", \"\", COUNTIFS(ToDoList!$B:$B, $A527, ToDoList!$R:$R, D$2))","v":""},{"$f":"IF($A527 = \"\", \"\", COUNTIFS(ToDoList!$B:$B, $A527, ToDoList!$R:$R, E$2))","v":""},{"$f":"IF($A527 = \"\", \"\", COUNTIFS(ToDoList!$B:$B, $A527, ToDoList!$R:$R, F$2))","v":""},{"$f":"IF($A527 = \"\", \"\", COUNTIFS(ToDoList!$B:$B, $A527, ToDoList!$R:$R, G$2))","v":""},{"$f":"IF($A527 = \"\", \"\", COUNTIFS(ToDoList!$B:$B, $A527, ToDoList!$R:$R, H$2))","v":""},{"$f":"IF($A527 = \"\", \"\", COUNTIFS(ToDoList!$B:$B, $A527, ToDoList!$R:$R, I$2))","v":""},{"$f":"IF($A527 = \"\", \"\", COUNTIFS(ToDoList!$B:$B, $A527, ToDoList!$R:$R, J$2))","v":""}]
[null,{"$f":"IF($A528 = \"\", \"\", COUNTIFS(ToDoList!$B:$B, $A528, ToDoList!$R:$R, B$2))","v":""},{"$f":"IF($A528 = \"\", \"\", COUNTIFS(ToDoList!$B:$B, $A528, ToDoList!$R:$R, C$2))","v":""},{"$f":"IF($A528 = \"\", \"\", COUNTIFS(ToDoList!$B:$B, $A528, ToDoList!$R:$R, D$2))","v":""},{"$f":"IF($A528 = \"\", \"\", COUNTIFS(ToDoList!$B:$B, $A528, ToDoList!$R:$R, E$2))","v":""},{"$f":"IF($A528 = \"\", \"\", COUNTIFS(ToDoList!$B:$B, $A528, ToDoList!$R:$R, F$2))","v":""},{"$f":"IF($A528 = \"\", \"\", COUNTIFS(ToDoList!$B:$B, $A528, ToDoList!$R:$R, G$2))","v":""},{"$f":"IF($A528 = \"\", \"\", COUNTIFS(ToDoList!$B:$B, $A528, ToDoList!$R:$R, H$2))","v":""},{"$f":"IF($A528 = \"\", \"\", COUNTIFS(ToDoList!$B:$B, $A528, ToDoList!$R:$R, I$2))","v":""},{"$f":"IF($A528 = \"\", \"\", COUNTIFS(ToDoList!$B:$B, $A528, ToDoList!$R:$R, J$2))","v":""}]
[null,{"$f":"IF($A529 = \"\", \"\", COUNTIFS(ToDoList!$B:$B, $A529, ToDoList!$R:$R, B$2))","v":""},{"$f":"IF($A529 = \"\", \"\", COUNTIFS(ToDoList!$B:$B, $A529, ToDoList!$R:$R, C$2))","v":""},{"$f":"IF($A529 = \"\", \"\", COUNTIFS(ToDoList!$B:$B, $A529, ToDoList!$R:$R, D$2))","v":""},{"$f":"IF($A529 = \"\", \"\", COUNTIFS(ToDoList!$B:$B, $A529, ToDoList!$R:$R, E$2))","v":""},{"$f":"IF($A529 = \"\", \"\", COUNTIFS(ToDoList!$B:$B, $A529, ToDoList!$R:$R, F$2))","v":""},{"$f":"IF($A529 = \"\", \"\", COUNTIFS(ToDoList!$B:$B, $A529, ToDoList!$R:$R, G$2))","v":""},{"$f":"IF($A529 = \"\", \"\", COUNTIFS(ToDoList!$B:$B, $A529, ToDoList!$R:$R, H$2))","v":""},{"$f":"IF($A529 = \"\", \"\", COUNTIFS(ToDoList!$B:$B, $A529, ToDoList!$R:$R, I$2))","v":""},{"$f":"IF($A529 = \"\", \"\", COUNTIFS(ToDoList!$B:$B, $A529, ToDoList!$R:$R, J$2))","v":""}]
[null,{"$f":"IF($A530 = \"\", \"\", COUNTIFS(ToDoList!$B:$B, $A530, ToDoList!$R:$R, B$2))","v":""},{"$f":"IF($A530 = \"\", \"\", COUNTIFS(ToDoList!$B:$B, $A530, ToDoList!$R:$R, C$2))","v":""},{"$f":"IF($A530 = \"\", \"\", COUNTIFS(ToDoList!$B:$B, $A530, ToDoList!$R:$R, D$2))","v":""},{"$f":"IF($A530 = \"\", \"\", COUNTIFS(ToDoList!$B:$B, $A530, ToDoList!$R:$R, E$2))","v":""},{"$f":"IF($A530 = \"\", \"\", COUNTIFS(ToDoList!$B:$B, $A530, ToDoList!$R:$R, F$2))","v":""},{"$f":"IF($A530 = \"\", \"\", COUNTIFS(ToDoList!$B:$B, $A530, ToDoList!$R:$R, G$2))","v":""},{"$f":"IF($A530 = \"\", \"\", COUNTIFS(ToDoList!$B:$B, $A530, ToDoList!$R:$R, H$2))","v":""},{"$f":"IF($A530 = \"\", \"\", COUNTIFS(ToDoList!$B:$B, $A530, ToDoList!$R:$R, I$2))","v":""},{"$f":"IF($A530 = \"\", \"\", COUNTIFS(ToDoList!$B:$B, $A530, ToDoList!$R:$R, J$2))","v":""}]
[null,{"$f":"IF($A531 = \"\", \"\", COUNTIFS(ToDoList!$B:$B, $A531, ToDoList!$R:$R, B$2))","v":""},{"$f":"IF($A531 = \"\", \"\", COUNTIFS(ToDoList!$B:$B, $A531, ToDoList!$R:$R, C$2))","v":""},{"$f":"IF($A531 = \"\", \"\", COUNTIFS(ToDoList!$B:$B, $A531, ToDoList!$R:$R, D$2))","v":""},{"$f":"IF($A531 = \"\", \"\", COUNTIFS(ToDoList!$B:$B, $A531, ToDoList!$R:$R, E$2))","v":""},{"$f":"IF($A531 = \"\", \"\", COUNTIFS(ToDoList!$B:$B, $A531, ToDoList!$R:$R, F$2))","v":""},{"$f":"IF($A531 = \"\", \"\", COUNTIFS(ToDoList!$B:$B, $A531, ToDoList!$R:$R, G$2))","v":""},{"$f":"IF($A531 = \"\", \"\", COUNTIFS(ToDoList!$B:$B, $A531, ToDoList!$R:$R, H$2))","v":""},{"$f":"IF($A531 = \"\", \"\", COUNTIFS(ToDoList!$B:$B, $A531, ToDoList!$R:$R, I$2))","v":""},{"$f":"IF($A531 = \"\", \"\", COUNTIFS(ToDoList!$B:$B, $A531, ToDoList!$R:$R, J$2))","v":""}]
[null,{"$f":"IF($A532 = \"\", \"\", COUNTIFS(ToDoList!$B:$B, $A532, ToDoList!$R:$R, B$2))","v":""},{"$f":"IF($A532 = \"\", \"\", COUNTIFS(ToDoList!$B:$B, $A532, ToDoList!$R:$R, C$2))","v":""},{"$f":"IF($A532 = \"\", \"\", COUNTIFS(ToDoList!$B:$B, $A532, ToDoList!$R:$R, D$2))","v":""},{"$f":"IF($A532 = \"\", \"\", COUNTIFS(ToDoList!$B:$B, $A532, ToDoList!$R:$R, E$2))","v":""},{"$f":"IF($A532 = \"\", \"\", COUNTIFS(ToDoList!$B:$B, $A532, ToDoList!$R:$R, F$2))","v":""},{"$f":"IF($A532 = \"\", \"\", COUNTIFS(ToDoList!$B:$B, $A532, ToDoList!$R:$R, G$2))","v":""},{"$f":"IF($A532 = \"\", \"\", COUNTIFS(ToDoList!$B:$B, $A532, ToDoList!$R:$R, H$2))","v":""},{"$f":"IF($A532 = \"\", \"\", COUNTIFS(ToDoList!$B:$B, $A532, ToDoList!$R:$R, I$2))","v":""},{"$f":"IF($A532 = \"\", \"\", COUNTIFS(ToDoList!$B:$B, $A532, ToDoList!$R:$R, J$2))","v":""}]
[null,{"$f":"IF($A533 = \"\", \"\", COUNTIFS(ToDoList!$B:$B, $A533, ToDoList!$R:$R, B$2))","v":""},{"$f":"IF($A533 = \"\", \"\", COUNTIFS(ToDoList!$B:$B, $A533, ToDoList!$R:$R, C$2))","v":""},{"$f":"IF($A533 = \"\", \"\", COUNTIFS(ToDoList!$B:$B, $A533, ToDoList!$R:$R, D$2))","v":""},{"$f":"IF($A533 = \"\", \"\", COUNTIFS(ToDoList!$B:$B, $A533, ToDoList!$R:$R, E$2))","v":""},{"$f":"IF($A533 = \"\", \"\", COUNTIFS(ToDoList!$B:$B, $A533, ToDoList!$R:$R, F$2))","v":""},{"$f":"IF($A533 = \"\", \"\", COUNTIFS(ToDoList!$B:$B, $A533, ToDoList!$R:$R, G$2))","v":""},{"$f":"IF($A533 = \"\", \"\", COUNTIFS(ToDoList!$B:$B, $A533, ToDoList!$R:$R, H$2))","v":""},{"$f":"IF($A533 = \"\", \"\", COUNTIFS(ToDoList!$B:$B, $A533, ToDoList!$R:$R, I$2))","v":""},{"$f":"IF($A533 = \"\", \"\", COUNTIFS(ToDoList!$B:$B, $A533, ToDoList!$R:$R, J$2))","v":""}]
[null,{"$f":"IF($A534 = \"\", \"\", COUNTIFS(ToDoList!$B:$B, $A534, ToDoList!$R:$R, B$2))","v":""},{"$f":"IF($A534 = \"\", \"\", COUNTIFS(ToDoList!$B:$B, $A534, ToDoList!$R:$R, C$2))","v":""},{"$f":"IF($A534 = \"\", \"\", COUNTIFS(ToDoList!$B:$B, $A534, ToDoList!$R:$R, D$2))","v":""},{"$f":"IF($A534 = \"\", \"\", COUNTIFS(ToDoList!$B:$B, $A534, ToDoList!$R:$R, E$2))","v":""},{"$f":"IF($A534 = \"\", \"\", COUNTIFS(ToDoList!$B:$B, $A534, ToDoList!$R:$R, F$2))","v":""},{"$f":"IF($A534 = \"\", \"\", COUNTIFS(ToDoList!$B:$B, $A534, ToDoList!$R:$R, G$2))","v":""},{"$f":"IF($A534 = \"\", \"\", COUNTIFS(ToDoList!$B:$B, $A534, ToDoList!$R:$R, H$2))","v":""},{"$f":"IF($A534 = \"\", \"\", COUNTIFS(ToDoList!$B:$B, $A534, ToDoList!$R:$R, I$2))","v":""},{"$f":"IF($A534 = \"\", \"\", COUNTIFS(ToDoList!$B:$B, $A534, ToDoList!$R:$R, J$2))","v":""}]
[null,{"$f":"IF($A535 = \"\", \"\", COUNTIFS(ToDoList!$B:$B, $A535, ToDoList!$R:$R, B$2))","v":""},{"$f":"IF($A535 = \"\", \"\", COUNTIFS(ToDoList!$B:$B, $A535, ToDoList!$R:$R, C$2))","v":""},{"$f":"IF($A535 = \"\", \"\", COUNTIFS(ToDoList!$B:$B, $A535, ToDoList!$R:$R, D$2))","v":""},{"$f":"IF($A535 = \"\", \"\", COUNTIFS(ToDoList!$B:$B, $A535, ToDoList!$R:$R, E$2))","v":""},{"$f":"IF($A535 = \"\", \"\", COUNTIFS(ToDoList!$B:$B, $A535, ToDoList!$R:$R, F$2))","v":""},{"$f":"IF($A535 = \"\", \"\", COUNTIFS(ToDoList!$B:$B, $A535, ToDoList!$R:$R, G$2))","v":""},{"$f":"IF($A535 = \"\", \"\", COUNTIFS(ToDoList!$B:$B, $A535, ToDoList!$R:$R, H$2))","v":""},{"$f":"IF($A535 = \"\", \"\", COUNTIFS(ToDoList!$B:$B, $A535, ToDoList!$R:$R, I$2))","v":""},{"$f":"IF($A535 = \"\", \"\", COUNTIFS(ToDoList!$B:$B, $A535, ToDoList!$R:$R, J$2))","v":""}]
[null,{"$f":"IF($A536 = \"\", \"\", COUNTIFS(ToDoList!$B:$B, $A536, ToDoList!$R:$R, B$2))","v":""},{"$f":"IF($A536 = \"\", \"\", COUNTIFS(ToDoList!$B:$B, $A536, ToDoList!$R:$R, C$2))","v":""},{"$f":"IF($A536 = \"\", \"\", COUNTIFS(ToDoList!$B:$B, $A536, ToDoList!$R:$R, D$2))","v":""},{"$f":"IF($A536 = \"\", \"\", COUNTIFS(ToDoList!$B:$B, $A536, ToDoList!$R:$R, E$2))","v":""},{"$f":"IF($A536 = \"\", \"\", COUNTIFS(ToDoList!$B:$B, $A536, ToDoList!$R:$R, F$2))","v":""},{"$f":"IF($A536 = \"\", \"\", COUNTIFS(ToDoList!$B:$B, $A536, ToDoList!$R:$R, G$2))","v":""},{"$f":"IF($A536 = \"\", \"\", COUNTIFS(ToDoList!$B:$B, $A536, ToDoList!$R:$R, H$2))","v":""},{"$f":"IF($A536 = \"\", \"\", COUNTIFS(ToDoList!$B:$B, $A536, ToDoList!$R:$R, I$2))","v":""},{"$f":"IF($A536 = \"\", \"\", COUNTIFS(ToDoList!$B:$B, $A536, ToDoList!$R:$R, J$2))","v":""}]
[null,{"$f":"IF($A537 = \"\", \"\", COUNTIFS(ToDoList!$B:$B, $A537, ToDoList!$R:$R, B$2))","v":""},{"$f":"IF($A537 = \"\", \"\", COUNTIFS(ToDoList!$B:$B, $A537, ToDoList!$R:$R, C$2))","v":""},{"$f":"IF($A537 = \"\", \"\", COUNTIFS(ToDoList!$B:$B, $A537, ToDoList!$R:$R, D$2))","v":""},{"$f":"IF($A537 = \"\", \"\", COUNTIFS(ToDoList!$B:$B, $A537, ToDoList!$R:$R, E$2))","v":""},{"$f":"IF($A537 = \"\", \"\", COUNTIFS(ToDoList!$B:$B, $A537, ToDoList!$R:$R, F$2))","v":""},{"$f":"IF($A537 = \"\", \"\", COUNTIFS(ToDoList!$B:$B, $A537, ToDoList!$R:$R, G$2))","v":""},{"$f":"IF($A537 = \"\", \"\", COUNTIFS(ToDoList!$B:$B, $A537, ToDoList!$R:$R, H$2))","v":""},{"$f":"IF($A537 = \"\", \"\", COUNTIFS(ToDoList!$B:$B, $A537, ToDoList!$R:$R, I$2))","v":""},{"$f":"IF($A537 = \"\", \"\", COUNTIFS(ToDoList!$B:$B, $A537, ToDoList!$R:$R, J$2))","v":""}]
[null,{"$f":"IF($A538 = \"\", \"\", COUNTIFS(ToDoList!$B:$B, $A538, ToDoList!$R:$R, B$2))","v":""},{"$f":"IF($A538 = \"\", \"\", COUNTIFS(ToDoList!$B:$B, $A538, ToDoList!$R:$R, C$2))","v":""},{"$f":"IF($A538 = \"\", \"\", COUNTIFS(ToDoList!$B:$B, $A538, ToDoList!$R:$R, D$2))","v":""},{"$f":"IF($A538 = \"\", \"\", COUNTIFS(ToDoList!$B:$B, $A538, ToDoList!$R:$R, E$2))","v":""},{"$f":"IF($A538 = \"\", \"\", COUNTIFS(ToDoList!$B:$B, $A538, ToDoList!$R:$R, F$2))","v":""},{"$f":"IF($A538 = \"\", \"\", COUNTIFS(ToDoList!$B:$B, $A538, ToDoList!$R:$R, G$2))","v":""},{"$f":"IF($A538 = \"\", \"\", COUNTIFS(ToDoList!$B:$B, $A538, ToDoList!$R:$R, H$2))","v":""},{"$f":"IF($A538 = \"\", \"\", COUNTIFS(ToDoList!$B:$B, $A538, ToDoList!$R:$R, I$2))","v":""},{"$f":"IF($A538 = \"\", \"\", COUNTIFS(ToDoList!$B:$B, $A538, ToDoList!$R:$R, J$2))","v":""}]
[null,{"$f":"IF($A539 = \"\", \"\", COUNTIFS(ToDoList!$B:$B, $A539, ToDoList!$R:$R, B$2))","v":""},{"$f":"IF($A539 = \"\", \"\", COUNTIFS(ToDoList!$B:$B, $A539, ToDoList!$R:$R, C$2))","v":""},{"$f":"IF($A539 = \"\", \"\", COUNTIFS(ToDoList!$B:$B, $A539, ToDoList!$R:$R, D$2))","v":""},{"$f":"IF($A539 = \"\", \"\", COUNTIFS(ToDoList!$B:$B, $A539, ToDoList!$R:$R, E$2))","v":""},{"$f":"IF($A539 = \"\", \"\", COUNTIFS(ToDoList!$B:$B, $A539, ToDoList!$R:$R, F$2))","v":""},{"$f":"IF($A539 = \"\", \"\", COUNTIFS(ToDoList!$B:$B, $A539, ToDoList!$R:$R, G$2))","v":""},{"$f":"IF($A539 = \"\", \"\", COUNTIFS(ToDoList!$B:$B, $A539, ToDoList!$R:$R, H$2))","v":""},{"$f":"IF($A539 = \"\", \"\", COUNTIFS(ToDoList!$B:$B, $A539, ToDoList!$R:$R, I$2))","v":""},{"$f":"IF($A539 = \"\", \"\", COUNTIFS(ToDoList!$B:$B, $A539, ToDoList!$R:$R, J$2))","v":""}]
[null,{"$f":"IF($A540 = \"\", \"\", COUNTIFS(ToDoList!$B:$B, $A540, ToDoList!$R:$R, B$2))","v":""},{"$f":"IF($A540 = \"\", \"\", COUNTIFS(ToDoList!$B:$B, $A540, ToDoList!$R:$R, C$2))","v":""},{"$f":"IF($A540 = \"\", \"\", COUNTIFS(ToDoList!$B:$B, $A540, ToDoList!$R:$R, D$2))","v":""},{"$f":"IF($A540 = \"\", \"\", COUNTIFS(ToDoList!$B:$B, $A540, ToDoList!$R:$R, E$2))","v":""},{"$f":"IF($A540 = \"\", \"\", COUNTIFS(ToDoList!$B:$B, $A540, ToDoList!$R:$R, F$2))","v":""},{"$f":"IF($A540 = \"\", \"\", COUNTIFS(ToDoList!$B:$B, $A540, ToDoList!$R:$R, G$2))","v":""},{"$f":"IF($A540 = \"\", \"\", COUNTIFS(ToDoList!$B:$B, $A540, ToDoList!$R:$R, H$2))","v":""},{"$f":"IF($A540 = \"\", \"\", COUNTIFS(ToDoList!$B:$B, $A540, ToDoList!$R:$R, I$2))","v":""},{"$f":"IF($A540 = \"\", \"\", COUNTIFS(ToDoList!$B:$B, $A540, ToDoList!$R:$R, J$2))","v":""}]
[null,{"$f":"IF($A541 = \"\", \"\", COUNTIFS(ToDoList!$B:$B, $A541, ToDoList!$R:$R, B$2))","v":""},{"$f":"IF($A541 = \"\", \"\", COUNTIFS(ToDoList!$B:$B, $A541, ToDoList!$R:$R, C$2))","v":""},{"$f":"IF($A541 = \"\", \"\", COUNTIFS(ToDoList!$B:$B, $A541, ToDoList!$R:$R, D$2))","v":""},{"$f":"IF($A541 = \"\", \"\", COUNTIFS(ToDoList!$B:$B, $A541, ToDoList!$R:$R, E$2))","v":""},{"$f":"IF($A541 = \"\", \"\", COUNTIFS(ToDoList!$B:$B, $A541, ToDoList!$R:$R, F$2))","v":""},{"$f":"IF($A541 = \"\", \"\", COUNTIFS(ToDoList!$B:$B, $A541, ToDoList!$R:$R, G$2))","v":""},{"$f":"IF($A541 = \"\", \"\", COUNTIFS(ToDoList!$B:$B, $A541, ToDoList!$R:$R, H$2))","v":""},{"$f":"IF($A541 = \"\", \"\", COUNTIFS(ToDoList!$B:$B, $A541, ToDoList!$R:$R, I$2))","v":""},{"$f":"IF($A541 = \"\", \"\", COUNTIFS(ToDoList!$B:$B, $A541, ToDoList!$R:$R, J$2))","v":""}]
[null,{"$f":"IF($A542 = \"\", \"\", COUNTIFS(ToDoList!$B:$B, $A542, ToDoList!$R:$R, B$2))","v":""},{"$f":"IF($A542 = \"\", \"\", COUNTIFS(ToDoList!$B:$B, $A542, ToDoList!$R:$R, C$2))","v":""},{"$f":"IF($A542 = \"\", \"\", COUNTIFS(ToDoList!$B:$B, $A542, ToDoList!$R:$R, D$2))","v":""},{"$f":"IF($A542 = \"\", \"\", COUNTIFS(ToDoList!$B:$B, $A542, ToDoList!$R:$R, E$2))","v":""},{"$f":"IF($A542 = \"\", \"\", COUNTIFS(ToDoList!$B:$B, $A542, ToDoList!$R:$R, F$2))","v":""},{"$f":"IF($A542 = \"\", \"\", COUNTIFS(ToDoList!$B:$B, $A542, ToDoList!$R:$R, G$2))","v":""},{"$f":"IF($A542 = \"\", \"\", COUNTIFS(ToDoList!$B:$B, $A542, ToDoList!$R:$R, H$2))","v":""},{"$f":"IF($A542 = \"\", \"\", COUNTIFS(ToDoList!$B:$B, $A542, ToDoList!$R:$R, I$2))","v":""},{"$f":"IF($A542 = \"\", \"\", COUNTIFS(ToDoList!$B:$B, $A542, ToDoList!$R:$R, J$2))","v":""}]
[null,{"$f":"IF($A543 = \"\", \"\", COUNTIFS(ToDoList!$B:$B, $A543, ToDoList!$R:$R, B$2))","v":""},{"$f":"IF($A543 = \"\", \"\", COUNTIFS(ToDoList!$B:$B, $A543, ToDoList!$R:$R, C$2))","v":""},{"$f":"IF($A543 = \"\", \"\", COUNTIFS(ToDoList!$B:$B, $A543, ToDoList!$R:$R, D$2))","v":""},{"$f":"IF($A543 = \"\", \"\", COUNTIFS(ToDoList!$B:$B, $A543, ToDoList!$R:$R, E$2))","v":""},{"$f":"IF($A543 = \"\", \"\", COUNTIFS(ToDoList!$B:$B, $A543, ToDoList!$R:$R, F$2))","v":""},{"$f":"IF($A543 = \"\", \"\", COUNTIFS(ToDoList!$B:$B, $A543, ToDoList!$R:$R, G$2))","v":""},{"$f":"IF($A543 = \"\", \"\", COUNTIFS(ToDoList!$B:$B, $A543, ToDoList!$R:$R, H$2))","v":""},{"$f":"IF($A543 = \"\", \"\", COUNTIFS(ToDoList!$B:$B, $A543, ToDoList!$R:$R, I$2))","v":""},{"$f":"IF($A543 = \"\", \"\", COUNTIFS(ToDoList!$B:$B, $A543, ToDoList!$R:$R, J$2))","v":""}]
[null,{"$f":"IF($A544 = \"\", \"\", COUNTIFS(ToDoList!$B:$B, $A544, ToDoList!$R:$R, B$2))","v":""},{"$f":"IF($A544 = \"\", \"\", COUNTIFS(ToDoList!$B:$B, $A544, ToDoList!$R:$R, C$2))","v":""},{"$f":"IF($A544 = \"\", \"\", COUNTIFS(ToDoList!$B:$B, $A544, ToDoList!$R:$R, D$2))","v":""},{"$f":"IF($A544 = \"\", \"\", COUNTIFS(ToDoList!$B:$B, $A544, ToDoList!$R:$R, E$2))","v":""},{"$f":"IF($A544 = \"\", \"\", COUNTIFS(ToDoList!$B:$B, $A544, ToDoList!$R:$R, F$2))","v":""},{"$f":"IF($A544 = \"\", \"\", COUNTIFS(ToDoList!$B:$B, $A544, ToDoList!$R:$R, G$2))","v":""},{"$f":"IF($A544 = \"\", \"\", COUNTIFS(ToDoList!$B:$B, $A544, ToDoList!$R:$R, H$2))","v":""},{"$f":"IF($A544 = \"\", \"\", COUNTIFS(ToDoList!$B:$B, $A544, ToDoList!$R:$R, I$2))","v":""},{"$f":"IF($A544 = \"\", \"\", COUNTIFS(ToDoList!$B:$B, $A544, ToDoList!$R:$R, J$2))","v":""}]
[null,{"$f":"IF($A545 = \"\", \"\", COUNTIFS(ToDoList!$B:$B, $A545, ToDoList!$R:$R, B$2))","v":""},{"$f":"IF($A545 = \"\", \"\", COUNTIFS(ToDoList!$B:$B, $A545, ToDoList!$R:$R, C$2))","v":""},{"$f":"IF($A545 = \"\", \"\", COUNTIFS(ToDoList!$B:$B, $A545, ToDoList!$R:$R, D$2))","v":""},{"$f":"IF($A545 = \"\", \"\", COUNTIFS(ToDoList!$B:$B, $A545, ToDoList!$R:$R, E$2))","v":""},{"$f":"IF($A545 = \"\", \"\", COUNTIFS(ToDoList!$B:$B, $A545, ToDoList!$R:$R, F$2))","v":""},{"$f":"IF($A545 = \"\", \"\", COUNTIFS(ToDoList!$B:$B, $A545, ToDoList!$R:$R, G$2))","v":""},{"$f":"IF($A545 = \"\", \"\", COUNTIFS(ToDoList!$B:$B, $A545, ToDoList!$R:$R, H$2))","v":""},{"$f":"IF($A545 = \"\", \"\", COUNTIFS(ToDoList!$B:$B, $A545, ToDoList!$R:$R, I$2))","v":""},{"$f":"IF($A545 = \"\", \"\", COUNTIFS(ToDoList!$B:$B, $A545, ToDoList!$R:$R, J$2))","v":""}]
[null,{"$f":"IF($A546 = \"\", \"\", COUNTIFS(ToDoList!$B:$B, $A546, ToDoList!$R:$R, B$2))","v":""},{"$f":"IF($A546 = \"\", \"\", COUNTIFS(ToDoList!$B:$B, $A546, ToDoList!$R:$R, C$2))","v":""},{"$f":"IF($A546 = \"\", \"\", COUNTIFS(ToDoList!$B:$B, $A546, ToDoList!$R:$R, D$2))","v":""},{"$f":"IF($A546 = \"\", \"\", COUNTIFS(ToDoList!$B:$B, $A546, ToDoList!$R:$R, E$2))","v":""},{"$f":"IF($A546 = \"\", \"\", COUNTIFS(ToDoList!$B:$B, $A546, ToDoList!$R:$R, F$2))","v":""},{"$f":"IF($A546 = \"\", \"\", COUNTIFS(ToDoList!$B:$B, $A546, ToDoList!$R:$R, G$2))","v":""},{"$f":"IF($A546 = \"\", \"\", COUNTIFS(ToDoList!$B:$B, $A546, ToDoList!$R:$R, H$2))","v":""},{"$f":"IF($A546 = \"\", \"\", COUNTIFS(ToDoList!$B:$B, $A546, ToDoList!$R:$R, I$2))","v":""},{"$f":"IF($A546 = \"\", \"\", COUNTIFS(ToDoList!$B:$B, $A546, ToDoList!$R:$R, J$2))","v":""}]
[null,{"$f":"IF($A547 = \"\", \"\", COUNTIFS(ToDoList!$B:$B, $A547, ToDoList!$R:$R, B$2))","v":""},{"$f":"IF($A547 = \"\", \"\", COUNTIFS(ToDoList!$B:$B, $A547, ToDoList!$R:$R, C$2))","v":""},{"$f":"IF($A547 = \"\", \"\", COUNTIFS(ToDoList!$B:$B, $A547, ToDoList!$R:$R, D$2))","v":""},{"$f":"IF($A547 = \"\", \"\", COUNTIFS(ToDoList!$B:$B, $A547, ToDoList!$R:$R, E$2))","v":""},{"$f":"IF($A547 = \"\", \"\", COUNTIFS(ToDoList!$B:$B, $A547, ToDoList!$R:$R, F$2))","v":""},{"$f":"IF($A547 = \"\", \"\", COUNTIFS(ToDoList!$B:$B, $A547, ToDoList!$R:$R, G$2))","v":""},{"$f":"IF($A547 = \"\", \"\", COUNTIFS(ToDoList!$B:$B, $A547, ToDoList!$R:$R, H$2))","v":""},{"$f":"IF($A547 = \"\", \"\", COUNTIFS(ToDoList!$B:$B, $A547, ToDoList!$R:$R, I$2))","v":""},{"$f":"IF($A547 = \"\", \"\", COUNTIFS(ToDoList!$B:$B, $A547, ToDoList!$R:$R, J$2))","v":""}]
[null,{"$f":"IF($A548 = \"\", \"\", COUNTIFS(ToDoList!$B:$B, $A548, ToDoList!$R:$R, B$2))","v":""},{"$f":"IF($A548 = \"\", \"\", COUNTIFS(ToDoList!$B:$B, $A548, ToDoList!$R:$R, C$2))","v":""},{"$f":"IF($A548 = \"\", \"\", COUNTIFS(ToDoList!$B:$B, $A548, ToDoList!$R:$R, D$2))","v":""},{"$f":"IF($A548 = \"\", \"\", COUNTIFS(ToDoList!$B:$B, $A548, ToDoList!$R:$R, E$2))","v":""},{"$f":"IF($A548 = \"\", \"\", COUNTIFS(ToDoList!$B:$B, $A548, ToDoList!$R:$R, F$2))","v":""},{"$f":"IF($A548 = \"\", \"\", COUNTIFS(ToDoList!$B:$B, $A548, ToDoList!$R:$R, G$2))","v":""},{"$f":"IF($A548 = \"\", \"\", COUNTIFS(ToDoList!$B:$B, $A548, ToDoList!$R:$R, H$2))","v":""},{"$f":"IF($A548 = \"\", \"\", COUNTIFS(ToDoList!$B:$B, $A548, ToDoList!$R:$R, I$2))","v":""},{"$f":"IF($A548 = \"\", \"\", COUNTIFS(ToDoList!$B:$B, $A548, ToDoList!$R:$R, J$2))","v":""}]
[null,{"$f":"IF($A549 = \"\", \"\", COUNTIFS(ToDoList!$B:$B, $A549, ToDoList!$R:$R, B$2))","v":""},{"$f":"IF($A549 = \"\", \"\", COUNTIFS(ToDoList!$B:$B, $A549, ToDoList!$R:$R, C$2))","v":""},{"$f":"IF($A549 = \"\", \"\", COUNTIFS(ToDoList!$B:$B, $A549, ToDoList!$R:$R, D$2))","v":""},{"$f":"IF($A549 = \"\", \"\", COUNTIFS(ToDoList!$B:$B, $A549, ToDoList!$R:$R, E$2))","v":""},{"$f":"IF($A549 = \"\", \"\", COUNTIFS(ToDoList!$B:$B, $A549, ToDoList!$R:$R, F$2))","v":""},{"$f":"IF($A549 = \"\", \"\", COUNTIFS(ToDoList!$B:$B, $A549, ToDoList!$R:$R, G$2))","v":""},{"$f":"IF($A549 = \"\", \"\", COUNTIFS(ToDoList!$B:$B, $A549, ToDoList!$R:$R, H$2))","v":""},{"$f":"IF($A549 = \"\", \"\", COUNTIFS(ToDoList!$B:$B, $A549, ToDoList!$R:$R, I$2))","v":""},{"$f":"IF($A549 = \"\", \"\", COUNTIFS(ToDoList!$B:$B, $A549, ToDoList!$R:$R, J$2))","v":""}]
[null,{"$f":"IF($A550 = \"\", \"\", COUNTIFS(ToDoList!$B:$B, $A550, ToDoList!$R:$R, B$2))","v":""},{"$f":"IF($A550 = \"\", \"\", COUNTIFS(ToDoList!$B:$B, $A550, ToDoList!$R:$R, C$2))","v":""},{"$f":"IF($A550 = \"\", \"\", COUNTIFS(ToDoList!$B:$B, $A550, ToDoList!$R:$R, D$2))","v":""},{"$f":"IF($A550 = \"\", \"\", COUNTIFS(ToDoList!$B:$B, $A550, ToDoList!$R:$R, E$2))","v":""},{"$f":"IF($A550 = \"\", \"\", COUNTIFS(ToDoList!$B:$B, $A550, ToDoList!$R:$R, F$2))","v":""},{"$f":"IF($A550 = \"\", \"\", COUNTIFS(ToDoList!$B:$B, $A550, ToDoList!$R:$R, G$2))","v":""},{"$f":"IF($A550 = \"\", \"\", COUNTIFS(ToDoList!$B:$B, $A550, ToDoList!$R:$R, H$2))","v":""},{"$f":"IF($A550 = \"\", \"\", COUNTIFS(ToDoList!$B:$B, $A550, ToDoList!$R:$R, I$2))","v":""},{"$f":"IF($A550 = \"\", \"\", COUNTIFS(ToDoList!$B:$B, $A550, ToDoList!$R:$R, J$2))","v":""}]
[null,{"$f":"IF($A551 = \"\", \"\", COUNTIFS(ToDoList!$B:$B, $A551, ToDoList!$R:$R, B$2))","v":""},{"$f":"IF($A551 = \"\", \"\", COUNTIFS(ToDoList!$B:$B, $A551, ToDoList!$R:$R, C$2))","v":""},{"$f":"IF($A551 = \"\", \"\", COUNTIFS(ToDoList!$B:$B, $A551, ToDoList!$R:$R, D$2))","v":""},{"$f":"IF($A551 = \"\", \"\", COUNTIFS(ToDoList!$B:$B, $A551, ToDoList!$R:$R, E$2))","v":""},{"$f":"IF($A551 = \"\", \"\", COUNTIFS(ToDoList!$B:$B, $A551, ToDoList!$R:$R, F$2))","v":""},{"$f":"IF($A551 = \"\", \"\", COUNTIFS(ToDoList!$B:$B, $A551, ToDoList!$R:$R, G$2))","v":""},{"$f":"IF($A551 = \"\", \"\", COUNTIFS(ToDoList!$B:$B, $A551, ToDoList!$R:$R, H$2))","v":""},{"$f":"IF($A551 = \"\", \"\", COUNTIFS(ToDoList!$B:$B, $A551, ToDoList!$R:$R, I$2))","v":""},{"$f":"IF($A551 = \"\", \"\", COUNTIFS(ToDoList!$B:$B, $A551, ToDoList!$R:$R, J$2))","v":""}]
[null,{"$f":"IF($A552 = \"\", \"\", COUNTIFS(ToDoList!$B:$B, $A552, ToDoList!$R:$R, B$2))","v":""},{"$f":"IF($A552 = \"\", \"\", COUNTIFS(ToDoList!$B:$B, $A552, ToDoList!$R:$R, C$2))","v":""},{"$f":"IF($A552 = \"\", \"\", COUNTIFS(ToDoList!$B:$B, $A552, ToDoList!$R:$R, D$2))","v":""},{"$f":"IF($A552 = \"\", \"\", COUNTIFS(ToDoList!$B:$B, $A552, ToDoList!$R:$R, E$2))","v":""},{"$f":"IF($A552 = \"\", \"\", COUNTIFS(ToDoList!$B:$B, $A552, ToDoList!$R:$R, F$2))","v":""},{"$f":"IF($A552 = \"\", \"\", COUNTIFS(ToDoList!$B:$B, $A552, ToDoList!$R:$R, G$2))","v":""},{"$f":"IF($A552 = \"\", \"\", COUNTIFS(ToDoList!$B:$B, $A552, ToDoList!$R:$R, H$2))","v":""},{"$f":"IF($A552 = \"\", \"\", COUNTIFS(ToDoList!$B:$B, $A552, ToDoList!$R:$R, I$2))","v":""},{"$f":"IF($A552 = \"\", \"\", COUNTIFS(ToDoList!$B:$B, $A552, ToDoList!$R:$R, J$2))","v":""}]
[null,{"$f":"IF($A553 = \"\", \"\", COUNTIFS(ToDoList!$B:$B, $A553, ToDoList!$R:$R, B$2))","v":""},{"$f":"IF($A553 = \"\", \"\", COUNTIFS(ToDoList!$B:$B, $A553, ToDoList!$R:$R, C$2))","v":""},{"$f":"IF($A553 = \"\", \"\", COUNTIFS(ToDoList!$B:$B, $A553, ToDoList!$R:$R, D$2))","v":""},{"$f":"IF($A553 = \"\", \"\", COUNTIFS(ToDoList!$B:$B, $A553, ToDoList!$R:$R, E$2))","v":""},{"$f":"IF($A553 = \"\", \"\", COUNTIFS(ToDoList!$B:$B, $A553, ToDoList!$R:$R, F$2))","v":""},{"$f":"IF($A553 = \"\", \"\", COUNTIFS(ToDoList!$B:$B, $A553, ToDoList!$R:$R, G$2))","v":""},{"$f":"IF($A553 = \"\", \"\", COUNTIFS(ToDoList!$B:$B, $A553, ToDoList!$R:$R, H$2))","v":""},{"$f":"IF($A553 = \"\", \"\", COUNTIFS(ToDoList!$B:$B, $A553, ToDoList!$R:$R, I$2))","v":""},{"$f":"IF($A553 = \"\", \"\", COUNTIFS(ToDoList!$B:$B, $A553, ToDoList!$R:$R, J$2))","v":""}]
[null,{"$f":"IF($A554 = \"\", \"\", COUNTIFS(ToDoList!$B:$B, $A554, ToDoList!$R:$R, B$2))","v":""},{"$f":"IF($A554 = \"\", \"\", COUNTIFS(ToDoList!$B:$B, $A554, ToDoList!$R:$R, C$2))","v":""},{"$f":"IF($A554 = \"\", \"\", COUNTIFS(ToDoList!$B:$B, $A554, ToDoList!$R:$R, D$2))","v":""},{"$f":"IF($A554 = \"\", \"\", COUNTIFS(ToDoList!$B:$B, $A554, ToDoList!$R:$R, E$2))","v":""},{"$f":"IF($A554 = \"\", \"\", COUNTIFS(ToDoList!$B:$B, $A554, ToDoList!$R:$R, F$2))","v":""},{"$f":"IF($A554 = \"\", \"\", COUNTIFS(ToDoList!$B:$B, $A554, ToDoList!$R:$R, G$2))","v":""},{"$f":"IF($A554 = \"\", \"\", COUNTIFS(ToDoList!$B:$B, $A554, ToDoList!$R:$R, H$2))","v":""},{"$f":"IF($A554 = \"\", \"\", COUNTIFS(ToDoList!$B:$B, $A554, ToDoList!$R:$R, I$2))","v":""},{"$f":"IF($A554 = \"\", \"\", COUNTIFS(ToDoList!$B:$B, $A554, ToDoList!$R:$R, J$2))","v":""}]
[null,{"$f":"IF($A555 = \"\", \"\", COUNTIFS(ToDoList!$B:$B, $A555, ToDoList!$R:$R, B$2))","v":""},{"$f":"IF($A555 = \"\", \"\", COUNTIFS(ToDoList!$B:$B, $A555, ToDoList!$R:$R, C$2))","v":""},{"$f":"IF($A555 = \"\", \"\", COUNTIFS(ToDoList!$B:$B, $A555, ToDoList!$R:$R, D$2))","v":""},{"$f":"IF($A555 = \"\", \"\", COUNTIFS(ToDoList!$B:$B, $A555, ToDoList!$R:$R, E$2))","v":""},{"$f":"IF($A555 = \"\", \"\", COUNTIFS(ToDoList!$B:$B, $A555, ToDoList!$R:$R, F$2))","v":""},{"$f":"IF($A555 = \"\", \"\", COUNTIFS(ToDoList!$B:$B, $A555, ToDoList!$R:$R, G$2))","v":""},{"$f":"IF($A555 = \"\", \"\", COUNTIFS(ToDoList!$B:$B, $A555, ToDoList!$R:$R, H$2))","v":""},{"$f":"IF($A555 = \"\", \"\", COUNTIFS(ToDoList!$B:$B, $A555, ToDoList!$R:$R, I$2))","v":""},{"$f":"IF($A555 = \"\", \"\", COUNTIFS(ToDoList!$B:$B, $A555, ToDoList!$R:$R, J$2))","v":""}]
[null,{"$f":"IF($A556 = \"\", \"\", COUNTIFS(ToDoList!$B:$B, $A556, ToDoList!$R:$R, B$2))","v":""},{"$f":"IF($A556 = \"\", \"\", COUNTIFS(ToDoList!$B:$B, $A556, ToDoList!$R:$R, C$2))","v":""},{"$f":"IF($A556 = \"\", \"\", COUNTIFS(ToDoList!$B:$B, $A556, ToDoList!$R:$R, D$2))","v":""},{"$f":"IF($A556 = \"\", \"\", COUNTIFS(ToDoList!$B:$B, $A556, ToDoList!$R:$R, E$2))","v":""},{"$f":"IF($A556 = \"\", \"\", COUNTIFS(ToDoList!$B:$B, $A556, ToDoList!$R:$R, F$2))","v":""},{"$f":"IF($A556 = \"\", \"\", COUNTIFS(ToDoList!$B:$B, $A556, ToDoList!$R:$R, G$2))","v":""},{"$f":"IF($A556 = \"\", \"\", COUNTIFS(ToDoList!$B:$B, $A556, ToDoList!$R:$R, H$2))","v":""},{"$f":"IF($A556 = \"\", \"\", COUNTIFS(ToDoList!$B:$B, $A556, ToDoList!$R:$R, I$2))","v":""},{"$f":"IF($A556 = \"\", \"\", COUNTIFS(ToDoList!$B:$B, $A556, ToDoList!$R:$R, J$2))","v":""}]
[null,{"$f":"IF($A557 = \"\", \"\", COUNTIFS(ToDoList!$B:$B, $A557, ToDoList!$R:$R, B$2))","v":""},{"$f":"IF($A557 = \"\", \"\", COUNTIFS(ToDoList!$B:$B, $A557, ToDoList!$R:$R, C$2))","v":""},{"$f":"IF($A557 = \"\", \"\", COUNTIFS(ToDoList!$B:$B, $A557, ToDoList!$R:$R, D$2))","v":""},{"$f":"IF($A557 = \"\", \"\", COUNTIFS(ToDoList!$B:$B, $A557, ToDoList!$R:$R, E$2))","v":""},{"$f":"IF($A557 = \"\", \"\", COUNTIFS(ToDoList!$B:$B, $A557, ToDoList!$R:$R, F$2))","v":""},{"$f":"IF($A557 = \"\", \"\", COUNTIFS(ToDoList!$B:$B, $A557, ToDoList!$R:$R, G$2))","v":""},{"$f":"IF($A557 = \"\", \"\", COUNTIFS(ToDoList!$B:$B, $A557, ToDoList!$R:$R, H$2))","v":""},{"$f":"IF($A557 = \"\", \"\", COUNTIFS(ToDoList!$B:$B, $A557, ToDoList!$R:$R, I$2))","v":""},{"$f":"IF($A557 = \"\", \"\", COUNTIFS(ToDoList!$B:$B, $A557, ToDoList!$R:$R, J$2))","v":""}]
[null,{"$f":"IF($A558 = \"\", \"\", COUNTIFS(ToDoList!$B:$B, $A558, ToDoList!$R:$R, B$2))","v":""},{"$f":"IF($A558 = \"\", \"\", COUNTIFS(ToDoList!$B:$B, $A558, ToDoList!$R:$R, C$2))","v":""},{"$f":"IF($A558 = \"\", \"\", COUNTIFS(ToDoList!$B:$B, $A558, ToDoList!$R:$R, D$2))","v":""},{"$f":"IF($A558 = \"\", \"\", COUNTIFS(ToDoList!$B:$B, $A558, ToDoList!$R:$R, E$2))","v":""},{"$f":"IF($A558 = \"\", \"\", COUNTIFS(ToDoList!$B:$B, $A558, ToDoList!$R:$R, F$2))","v":""},{"$f":"IF($A558 = \"\", \"\", COUNTIFS(ToDoList!$B:$B, $A558, ToDoList!$R:$R, G$2))","v":""},{"$f":"IF($A558 = \"\", \"\", COUNTIFS(ToDoList!$B:$B, $A558, ToDoList!$R:$R, H$2))","v":""},{"$f":"IF($A558 = \"\", \"\", COUNTIFS(ToDoList!$B:$B, $A558, ToDoList!$R:$R, I$2))","v":""},{"$f":"IF($A558 = \"\", \"\", COUNTIFS(ToDoList!$B:$B, $A558, ToDoList!$R:$R, J$2))","v":""}]
[null,{"$f":"IF($A559 = \"\", \"\", COUNTIFS(ToDoList!$B:$B, $A559, ToDoList!$R:$R, B$2))","v":""},{"$f":"IF($A559 = \"\", \"\", COUNTIFS(ToDoList!$B:$B, $A559, ToDoList!$R:$R, C$2))","v":""},{"$f":"IF($A559 = \"\", \"\", COUNTIFS(ToDoList!$B:$B, $A559, ToDoList!$R:$R, D$2))","v":""},{"$f":"IF($A559 = \"\", \"\", COUNTIFS(ToDoList!$B:$B, $A559, ToDoList!$R:$R, E$2))","v":""},{"$f":"IF($A559 = \"\", \"\", COUNTIFS(ToDoList!$B:$B, $A559, ToDoList!$R:$R, F$2))","v":""},{"$f":"IF($A559 = \"\", \"\", COUNTIFS(ToDoList!$B:$B, $A559, ToDoList!$R:$R, G$2))","v":""},{"$f":"IF($A559 = \"\", \"\", COUNTIFS(ToDoList!$B:$B, $A559, ToDoList!$R:$R, H$2))","v":""},{"$f":"IF($A559 = \"\", \"\", COUNTIFS(ToDoList!$B:$B, $A559, ToDoList!$R:$R, I$2))","v":""},{"$f":"IF($A559 = \"\", \"\", COUNTIFS(ToDoList!$B:$B, $A559, ToDoList!$R:$R, J$2))","v":""}]
[null,{"$f":"IF($A560 = \"\", \"\", COUNTIFS(ToDoList!$B:$B, $A560, ToDoList!$R:$R, B$2))","v":""},{"$f":"IF($A560 = \"\", \"\", COUNTIFS(ToDoList!$B:$B, $A560, ToDoList!$R:$R, C$2))","v":""},{"$f":"IF($A560 = \"\", \"\", COUNTIFS(ToDoList!$B:$B, $A560, ToDoList!$R:$R, D$2))","v":""},{"$f":"IF($A560 = \"\", \"\", COUNTIFS(ToDoList!$B:$B, $A560, ToDoList!$R:$R, E$2))","v":""},{"$f":"IF($A560 = \"\", \"\", COUNTIFS(ToDoList!$B:$B, $A560, ToDoList!$R:$R, F$2))","v":""},{"$f":"IF($A560 = \"\", \"\", COUNTIFS(ToDoList!$B:$B, $A560, ToDoList!$R:$R, G$2))","v":""},{"$f":"IF($A560 = \"\", \"\", COUNTIFS(ToDoList!$B:$B, $A560, ToDoList!$R:$R, H$2))","v":""},{"$f":"IF($A560 = \"\", \"\", COUNTIFS(ToDoList!$B:$B, $A560, ToDoList!$R:$R, I$2))","v":""},{"$f":"IF($A560 = \"\", \"\", COUNTIFS(ToDoList!$B:$B, $A560, ToDoList!$R:$R, J$2))","v":""}]
[null,{"$f":"IF($A561 = \"\", \"\", COUNTIFS(ToDoList!$B:$B, $A561, ToDoList!$R:$R, B$2))","v":""},{"$f":"IF($A561 = \"\", \"\", COUNTIFS(ToDoList!$B:$B, $A561, ToDoList!$R:$R, C$2))","v":""},{"$f":"IF($A561 = \"\", \"\", COUNTIFS(ToDoList!$B:$B, $A561, ToDoList!$R:$R, D$2))","v":""},{"$f":"IF($A561 = \"\", \"\", COUNTIFS(ToDoList!$B:$B, $A561, ToDoList!$R:$R, E$2))","v":""},{"$f":"IF($A561 = \"\", \"\", COUNTIFS(ToDoList!$B:$B, $A561, ToDoList!$R:$R, F$2))","v":""},{"$f":"IF($A561 = \"\", \"\", COUNTIFS(ToDoList!$B:$B, $A561, ToDoList!$R:$R, G$2))","v":""},{"$f":"IF($A561 = \"\", \"\", COUNTIFS(ToDoList!$B:$B, $A561, ToDoList!$R:$R, H$2))","v":""},{"$f":"IF($A561 = \"\", \"\", COUNTIFS(ToDoList!$B:$B, $A561, ToDoList!$R:$R, I$2))","v":""},{"$f":"IF($A561 = \"\", \"\", COUNTIFS(ToDoList!$B:$B, $A561, ToDoList!$R:$R, J$2))","v":""}]
[null,{"$f":"IF($A562 = \"\", \"\", COUNTIFS(ToDoList!$B:$B, $A562, ToDoList!$R:$R, B$2))","v":""},{"$f":"IF($A562 = \"\", \"\", COUNTIFS(ToDoList!$B:$B, $A562, ToDoList!$R:$R, C$2))","v":""},{"$f":"IF($A562 = \"\", \"\", COUNTIFS(ToDoList!$B:$B, $A562, ToDoList!$R:$R, D$2))","v":""},{"$f":"IF($A562 = \"\", \"\", COUNTIFS(ToDoList!$B:$B, $A562, ToDoList!$R:$R, E$2))","v":""},{"$f":"IF($A562 = \"\", \"\", COUNTIFS(ToDoList!$B:$B, $A562, ToDoList!$R:$R, F$2))","v":""},{"$f":"IF($A562 = \"\", \"\", COUNTIFS(ToDoList!$B:$B, $A562, ToDoList!$R:$R, G$2))","v":""},{"$f":"IF($A562 = \"\", \"\", COUNTIFS(ToDoList!$B:$B, $A562, ToDoList!$R:$R, H$2))","v":""},{"$f":"IF($A562 = \"\", \"\", COUNTIFS(ToDoList!$B:$B, $A562, ToDoList!$R:$R, I$2))","v":""},{"$f":"IF($A562 = \"\", \"\", COUNTIFS(ToDoList!$B:$B, $A562, ToDoList!$R:$R, J$2))","v":""}]
[null,{"$f":"IF($A563 = \"\", \"\", COUNTIFS(ToDoList!$B:$B, $A563, ToDoList!$R:$R, B$2))","v":""},{"$f":"IF($A563 = \"\", \"\", COUNTIFS(ToDoList!$B:$B, $A563, ToDoList!$R:$R, C$2))","v":""},{"$f":"IF($A563 = \"\", \"\", COUNTIFS(ToDoList!$B:$B, $A563, ToDoList!$R:$R, D$2))","v":""},{"$f":"IF($A563 = \"\", \"\", COUNTIFS(ToDoList!$B:$B, $A563, ToDoList!$R:$R, E$2))","v":""},{"$f":"IF($A563 = \"\", \"\", COUNTIFS(ToDoList!$B:$B, $A563, ToDoList!$R:$R, F$2))","v":""},{"$f":"IF($A563 = \"\", \"\", COUNTIFS(ToDoList!$B:$B, $A563, ToDoList!$R:$R, G$2))","v":""},{"$f":"IF($A563 = \"\", \"\", COUNTIFS(ToDoList!$B:$B, $A563, ToDoList!$R:$R, H$2))","v":""},{"$f":"IF($A563 = \"\", \"\", COUNTIFS(ToDoList!$B:$B, $A563, ToDoList!$R:$R, I$2))","v":""},{"$f":"IF($A563 = \"\", \"\", COUNTIFS(ToDoList!$B:$B, $A563, ToDoList!$R:$R, J$2))","v":""}]
[null,{"$f":"IF($A564 = \"\", \"\", COUNTIFS(ToDoList!$B:$B, $A564, ToDoList!$R:$R, B$2))","v":""},{"$f":"IF($A564 = \"\", \"\", COUNTIFS(ToDoList!$B:$B, $A564, ToDoList!$R:$R, C$2))","v":""},{"$f":"IF($A564 = \"\", \"\", COUNTIFS(ToDoList!$B:$B, $A564, ToDoList!$R:$R, D$2))","v":""},{"$f":"IF($A564 = \"\", \"\", COUNTIFS(ToDoList!$B:$B, $A564, ToDoList!$R:$R, E$2))","v":""},{"$f":"IF($A564 = \"\", \"\", COUNTIFS(ToDoList!$B:$B, $A564, ToDoList!$R:$R, F$2))","v":""},{"$f":"IF($A564 = \"\", \"\", COUNTIFS(ToDoList!$B:$B, $A564, ToDoList!$R:$R, G$2))","v":""},{"$f":"IF($A564 = \"\", \"\", COUNTIFS(ToDoList!$B:$B, $A564, ToDoList!$R:$R, H$2))","v":""},{"$f":"IF($A564 = \"\", \"\", COUNTIFS(ToDoList!$B:$B, $A564, ToDoList!$R:$R, I$2))","v":""},{"$f":"IF($A564 = \"\", \"\", COUNTIFS(ToDoList!$B:$B, $A564, ToDoList!$R:$R, J$2))","v":""}]
[null,{"$f":"IF($A565 = \"\", \"\", COUNTIFS(ToDoList!$B:$B, $A565, ToDoList!$R:$R, B$2))","v":""},{"$f":"IF($A565 = \"\", \"\", COUNTIFS(ToDoList!$B:$B, $A565, ToDoList!$R:$R, C$2))","v":""},{"$f":"IF($A565 = \"\", \"\", COUNTIFS(ToDoList!$B:$B, $A565, ToDoList!$R:$R, D$2))","v":""},{"$f":"IF($A565 = \"\", \"\", COUNTIFS(ToDoList!$B:$B, $A565, ToDoList!$R:$R, E$2))","v":""},{"$f":"IF($A565 = \"\", \"\", COUNTIFS(ToDoList!$B:$B, $A565, ToDoList!$R:$R, F$2))","v":""},{"$f":"IF($A565 = \"\", \"\", COUNTIFS(ToDoList!$B:$B, $A565, ToDoList!$R:$R, G$2))","v":""},{"$f":"IF($A565 = \"\", \"\", COUNTIFS(ToDoList!$B:$B, $A565, ToDoList!$R:$R, H$2))","v":""},{"$f":"IF($A565 = \"\", \"\", COUNTIFS(ToDoList!$B:$B, $A565, ToDoList!$R:$R, I$2))","v":""},{"$f":"IF($A565 = \"\", \"\", COUNTIFS(ToDoList!$B:$B, $A565, ToDoList!$R:$R, J$2))","v":""}]
[null,{"$f":"IF($A566 = \"\", \"\", COUNTIFS(ToDoList!$B:$B, $A566, ToDoList!$R:$R, B$2))","v":""},{"$f":"IF($A566 = \"\", \"\", COUNTIFS(ToDoList!$B:$B, $A566, ToDoList!$R:$R, C$2))","v":""},{"$f":"IF($A566 = \"\", \"\", COUNTIFS(ToDoList!$B:$B, $A566, ToDoList!$R:$R, D$2))","v":""},{"$f":"IF($A566 = \"\", \"\", COUNTIFS(ToDoList!$B:$B, $A566, ToDoList!$R:$R, E$2))","v":""},{"$f":"IF($A566 = \"\", \"\", COUNTIFS(ToDoList!$B:$B, $A566, ToDoList!$R:$R, F$2))","v":""},{"$f":"IF($A566 = \"\", \"\", COUNTIFS(ToDoList!$B:$B, $A566, ToDoList!$R:$R, G$2))","v":""},{"$f":"IF($A566 = \"\", \"\", COUNTIFS(ToDoList!$B:$B, $A566, ToDoList!$R:$R, H$2))","v":""},{"$f":"IF($A566 = \"\", \"\", COUNTIFS(ToDoList!$B:$B, $A566, ToDoList!$R:$R, I$2))","v":""},{"$f":"IF($A566 = \"\", \"\", COUNTIFS(ToDoList!$B:$B, $A566, ToDoList!$R:$R, J$2))","v":""}]
[null,{"$f":"IF($A567 = \"\", \"\", COUNTIFS(ToDoList!$B:$B, $A567, ToDoList!$R:$R, B$2))","v":""},{"$f":"IF($A567 = \"\", \"\", COUNTIFS(ToDoList!$B:$B, $A567, ToDoList!$R:$R, C$2))","v":""},{"$f":"IF($A567 = \"\", \"\", COUNTIFS(ToDoList!$B:$B, $A567, ToDoList!$R:$R, D$2))","v":""},{"$f":"IF($A567 = \"\", \"\", COUNTIFS(ToDoList!$B:$B, $A567, ToDoList!$R:$R, E$2))","v":""},{"$f":"IF($A567 = \"\", \"\", COUNTIFS(ToDoList!$B:$B, $A567, ToDoList!$R:$R, F$2))","v":""},{"$f":"IF($A567 = \"\", \"\", COUNTIFS(ToDoList!$B:$B, $A567, ToDoList!$R:$R, G$2))","v":""},{"$f":"IF($A567 = \"\", \"\", COUNTIFS(ToDoList!$B:$B, $A567, ToDoList!$R:$R, H$2))","v":""},{"$f":"IF($A567 = \"\", \"\", COUNTIFS(ToDoList!$B:$B, $A567, ToDoList!$R:$R, I$2))","v":""},{"$f":"IF($A567 = \"\", \"\", COUNTIFS(ToDoList!$B:$B, $A567, ToDoList!$R:$R, J$2))","v":""}]
[null,{"$f":"IF($A568 = \"\", \"\", COUNTIFS(ToDoList!$B:$B, $A568, ToDoList!$R:$R, B$2))","v":""},{"$f":"IF($A568 = \"\", \"\", COUNTIFS(ToDoList!$B:$B, $A568, ToDoList!$R:$R, C$2))","v":""},{"$f":"IF($A568 = \"\", \"\", COUNTIFS(ToDoList!$B:$B, $A568, ToDoList!$R:$R, D$2))","v":""},{"$f":"IF($A568 = \"\", \"\", COUNTIFS(ToDoList!$B:$B, $A568, ToDoList!$R:$R, E$2))","v":""},{"$f":"IF($A568 = \"\", \"\", COUNTIFS(ToDoList!$B:$B, $A568, ToDoList!$R:$R, F$2))","v":""},{"$f":"IF($A568 = \"\", \"\", COUNTIFS(ToDoList!$B:$B, $A568, ToDoList!$R:$R, G$2))","v":""},{"$f":"IF($A568 = \"\", \"\", COUNTIFS(ToDoList!$B:$B, $A568, ToDoList!$R:$R, H$2))","v":""},{"$f":"IF($A568 = \"\", \"\", COUNTIFS(ToDoList!$B:$B, $A568, ToDoList!$R:$R, I$2))","v":""},{"$f":"IF($A568 = \"\", \"\", COUNTIFS(ToDoList!$B:$B, $A568, ToDoList!$R:$R, J$2))","v":""}]
[null,{"$f":"IF($A569 = \"\", \"\", COUNTIFS(ToDoList!$B:$B, $A569, ToDoList!$R:$R, B$2))","v":""},{"$f":"IF($A569 = \"\", \"\", COUNTIFS(ToDoList!$B:$B, $A569, ToDoList!$R:$R, C$2))","v":""},{"$f":"IF($A569 = \"\", \"\", COUNTIFS(ToDoList!$B:$B, $A569, ToDoList!$R:$R, D$2))","v":""},{"$f":"IF($A569 = \"\", \"\", COUNTIFS(ToDoList!$B:$B, $A569, ToDoList!$R:$R, E$2))","v":""},{"$f":"IF($A569 = \"\", \"\", COUNTIFS(ToDoList!$B:$B, $A569, ToDoList!$R:$R, F$2))","v":""},{"$f":"IF($A569 = \"\", \"\", COUNTIFS(ToDoList!$B:$B, $A569, ToDoList!$R:$R, G$2))","v":""},{"$f":"IF($A569 = \"\", \"\", COUNTIFS(ToDoList!$B:$B, $A569, ToDoList!$R:$R, H$2))","v":""},{"$f":"IF($A569 = \"\", \"\", COUNTIFS(ToDoList!$B:$B, $A569, ToDoList!$R:$R, I$2))","v":""},{"$f":"IF($A569 = \"\", \"\", COUNTIFS(ToDoList!$B:$B, $A569, ToDoList!$R:$R, J$2))","v":""}]
[null,{"$f":"IF($A570 = \"\", \"\", COUNTIFS(ToDoList!$B:$B, $A570, ToDoList!$R:$R, B$2))","v":""},{"$f":"IF($A570 = \"\", \"\", COUNTIFS(ToDoList!$B:$B, $A570, ToDoList!$R:$R, C$2))","v":""},{"$f":"IF($A570 = \"\", \"\", COUNTIFS(ToDoList!$B:$B, $A570, ToDoList!$R:$R, D$2))","v":""},{"$f":"IF($A570 = \"\", \"\", COUNTIFS(ToDoList!$B:$B, $A570, ToDoList!$R:$R, E$2))","v":""},{"$f":"IF($A570 = \"\", \"\", COUNTIFS(ToDoList!$B:$B, $A570, ToDoList!$R:$R, F$2))","v":""},{"$f":"IF($A570 = \"\", \"\", COUNTIFS(ToDoList!$B:$B, $A570, ToDoList!$R:$R, G$2))","v":""},{"$f":"IF($A570 = \"\", \"\", COUNTIFS(ToDoList!$B:$B, $A570, ToDoList!$R:$R, H$2))","v":""},{"$f":"IF($A570 = \"\", \"\", COUNTIFS(ToDoList!$B:$B, $A570, ToDoList!$R:$R, I$2))","v":""},{"$f":"IF($A570 = \"\", \"\", COUNTIFS(ToDoList!$B:$B, $A570, ToDoList!$R:$R, J$2))","v":""}]
[null,{"$f":"IF($A571 = \"\", \"\", COUNTIFS(ToDoList!$B:$B, $A571, ToDoList!$R:$R, B$2))","v":""},{"$f":"IF($A571 = \"\", \"\", COUNTIFS(ToDoList!$B:$B, $A571, ToDoList!$R:$R, C$2))","v":""},{"$f":"IF($A571 = \"\", \"\", COUNTIFS(ToDoList!$B:$B, $A571, ToDoList!$R:$R, D$2))","v":""},{"$f":"IF($A571 = \"\", \"\", COUNTIFS(ToDoList!$B:$B, $A571, ToDoList!$R:$R, E$2))","v":""},{"$f":"IF($A571 = \"\", \"\", COUNTIFS(ToDoList!$B:$B, $A571, ToDoList!$R:$R, F$2))","v":""},{"$f":"IF($A571 = \"\", \"\", COUNTIFS(ToDoList!$B:$B, $A571, ToDoList!$R:$R, G$2))","v":""},{"$f":"IF($A571 = \"\", \"\", COUNTIFS(ToDoList!$B:$B, $A571, ToDoList!$R:$R, H$2))","v":""},{"$f":"IF($A571 = \"\", \"\", COUNTIFS(ToDoList!$B:$B, $A571, ToDoList!$R:$R, I$2))","v":""},{"$f":"IF($A571 = \"\", \"\", COUNTIFS(ToDoList!$B:$B, $A571, ToDoList!$R:$R, J$2))","v":""}]
[null,{"$f":"IF($A572 = \"\", \"\", COUNTIFS(ToDoList!$B:$B, $A572, ToDoList!$R:$R, B$2))","v":""},{"$f":"IF($A572 = \"\", \"\", COUNTIFS(ToDoList!$B:$B, $A572, ToDoList!$R:$R, C$2))","v":""},{"$f":"IF($A572 = \"\", \"\", COUNTIFS(ToDoList!$B:$B, $A572, ToDoList!$R:$R, D$2))","v":""},{"$f":"IF($A572 = \"\", \"\", COUNTIFS(ToDoList!$B:$B, $A572, ToDoList!$R:$R, E$2))","v":""},{"$f":"IF($A572 = \"\", \"\", COUNTIFS(ToDoList!$B:$B, $A572, ToDoList!$R:$R, F$2))","v":""},{"$f":"IF($A572 = \"\", \"\", COUNTIFS(ToDoList!$B:$B, $A572, ToDoList!$R:$R, G$2))","v":""},{"$f":"IF($A572 = \"\", \"\", COUNTIFS(ToDoList!$B:$B, $A572, ToDoList!$R:$R, H$2))","v":""},{"$f":"IF($A572 = \"\", \"\", COUNTIFS(ToDoList!$B:$B, $A572, ToDoList!$R:$R, I$2))","v":""},{"$f":"IF($A572 = \"\", \"\", COUNTIFS(ToDoList!$B:$B, $A572, ToDoList!$R:$R, J$2))","v":""}]
[null,{"$f":"IF($A573 = \"\", \"\", COUNTIFS(ToDoList!$B:$B, $A573, ToDoList!$R:$R, B$2))","v":""},{"$f":"IF($A573 = \"\", \"\", COUNTIFS(ToDoList!$B:$B, $A573, ToDoList!$R:$R, C$2))","v":""},{"$f":"IF($A573 = \"\", \"\", COUNTIFS(ToDoList!$B:$B, $A573, ToDoList!$R:$R, D$2))","v":""},{"$f":"IF($A573 = \"\", \"\", COUNTIFS(ToDoList!$B:$B, $A573, ToDoList!$R:$R, E$2))","v":""},{"$f":"IF($A573 = \"\", \"\", COUNTIFS(ToDoList!$B:$B, $A573, ToDoList!$R:$R, F$2))","v":""},{"$f":"IF($A573 = \"\", \"\", COUNTIFS(ToDoList!$B:$B, $A573, ToDoList!$R:$R, G$2))","v":""},{"$f":"IF($A573 = \"\", \"\", COUNTIFS(ToDoList!$B:$B, $A573, ToDoList!$R:$R, H$2))","v":""},{"$f":"IF($A573 = \"\", \"\", COUNTIFS(ToDoList!$B:$B, $A573, ToDoList!$R:$R, I$2))","v":""},{"$f":"IF($A573 = \"\", \"\", COUNTIFS(ToDoList!$B:$B, $A573, ToDoList!$R:$R, J$2))","v":""}]
[null,{"$f":"IF($A574 = \"\", \"\", COUNTIFS(ToDoList!$B:$B, $A574, ToDoList!$R:$R, B$2))","v":""},{"$f":"IF($A574 = \"\", \"\", COUNTIFS(ToDoList!$B:$B, $A574, ToDoList!$R:$R, C$2))","v":""},{"$f":"IF($A574 = \"\", \"\", COUNTIFS(ToDoList!$B:$B, $A574, ToDoList!$R:$R, D$2))","v":""},{"$f":"IF($A574 = \"\", \"\", COUNTIFS(ToDoList!$B:$B, $A574, ToDoList!$R:$R, E$2))","v":""},{"$f":"IF($A574 = \"\", \"\", COUNTIFS(ToDoList!$B:$B, $A574, ToDoList!$R:$R, F$2))","v":""},{"$f":"IF($A574 = \"\", \"\", COUNTIFS(ToDoList!$B:$B, $A574, ToDoList!$R:$R, G$2))","v":""},{"$f":"IF($A574 = \"\", \"\", COUNTIFS(ToDoList!$B:$B, $A574, ToDoList!$R:$R, H$2))","v":""},{"$f":"IF($A574 = \"\", \"\", COUNTIFS(ToDoList!$B:$B, $A574, ToDoList!$R:$R, I$2))","v":""},{"$f":"IF($A574 = \"\", \"\", COUNTIFS(ToDoList!$B:$B, $A574, ToDoList!$R:$R, J$2))","v":""}]
[null,{"$f":"IF($A575 = \"\", \"\", COUNTIFS(ToDoList!$B:$B, $A575, ToDoList!$R:$R, B$2))","v":""},{"$f":"IF($A575 = \"\", \"\", COUNTIFS(ToDoList!$B:$B, $A575, ToDoList!$R:$R, C$2))","v":""},{"$f":"IF($A575 = \"\", \"\", COUNTIFS(ToDoList!$B:$B, $A575, ToDoList!$R:$R, D$2))","v":""},{"$f":"IF($A575 = \"\", \"\", COUNTIFS(ToDoList!$B:$B, $A575, ToDoList!$R:$R, E$2))","v":""},{"$f":"IF($A575 = \"\", \"\", COUNTIFS(ToDoList!$B:$B, $A575, ToDoList!$R:$R, F$2))","v":""},{"$f":"IF($A575 = \"\", \"\", COUNTIFS(ToDoList!$B:$B, $A575, ToDoList!$R:$R, G$2))","v":""},{"$f":"IF($A575 = \"\", \"\", COUNTIFS(ToDoList!$B:$B, $A575, ToDoList!$R:$R, H$2))","v":""},{"$f":"IF($A575 = \"\", \"\", COUNTIFS(ToDoList!$B:$B, $A575, ToDoList!$R:$R, I$2))","v":""},{"$f":"IF($A575 = \"\", \"\", COUNTIFS(ToDoList!$B:$B, $A575, ToDoList!$R:$R, J$2))","v":""}]
[null,{"$f":"IF($A576 = \"\", \"\", COUNTIFS(ToDoList!$B:$B, $A576, ToDoList!$R:$R, B$2))","v":""},{"$f":"IF($A576 = \"\", \"\", COUNTIFS(ToDoList!$B:$B, $A576, ToDoList!$R:$R, C$2))","v":""},{"$f":"IF($A576 = \"\", \"\", COUNTIFS(ToDoList!$B:$B, $A576, ToDoList!$R:$R, D$2))","v":""},{"$f":"IF($A576 = \"\", \"\", COUNTIFS(ToDoList!$B:$B, $A576, ToDoList!$R:$R, E$2))","v":""},{"$f":"IF($A576 = \"\", \"\", COUNTIFS(ToDoList!$B:$B, $A576, ToDoList!$R:$R, F$2))","v":""},{"$f":"IF($A576 = \"\", \"\", COUNTIFS(ToDoList!$B:$B, $A576, ToDoList!$R:$R, G$2))","v":""},{"$f":"IF($A576 = \"\", \"\", COUNTIFS(ToDoList!$B:$B, $A576, ToDoList!$R:$R, H$2))","v":""},{"$f":"IF($A576 = \"\", \"\", COUNTIFS(ToDoList!$B:$B, $A576, ToDoList!$R:$R, I$2))","v":""},{"$f":"IF($A576 = \"\", \"\", COUNTIFS(ToDoList!$B:$B, $A576, ToDoList!$R:$R, J$2))","v":""}]
[null,{"$f":"IF($A577 = \"\", \"\", COUNTIFS(ToDoList!$B:$B, $A577, ToDoList!$R:$R, B$2))","v":""},{"$f":"IF($A577 = \"\", \"\", COUNTIFS(ToDoList!$B:$B, $A577, ToDoList!$R:$R, C$2))","v":""},{"$f":"IF($A577 = \"\", \"\", COUNTIFS(ToDoList!$B:$B, $A577, ToDoList!$R:$R, D$2))","v":""},{"$f":"IF($A577 = \"\", \"\", COUNTIFS(ToDoList!$B:$B, $A577, ToDoList!$R:$R, E$2))","v":""},{"$f":"IF($A577 = \"\", \"\", COUNTIFS(ToDoList!$B:$B, $A577, ToDoList!$R:$R, F$2))","v":""},{"$f":"IF($A577 = \"\", \"\", COUNTIFS(ToDoList!$B:$B, $A577, ToDoList!$R:$R, G$2))","v":""},{"$f":"IF($A577 = \"\", \"\", COUNTIFS(ToDoList!$B:$B, $A577, ToDoList!$R:$R, H$2))","v":""},{"$f":"IF($A577 = \"\", \"\", COUNTIFS(ToDoList!$B:$B, $A577, ToDoList!$R:$R, I$2))","v":""},{"$f":"IF($A577 = \"\", \"\", COUNTIFS(ToDoList!$B:$B, $A577, ToDoList!$R:$R, J$2))","v":""}]
[null,{"$f":"IF($A578 = \"\", \"\", COUNTIFS(ToDoList!$B:$B, $A578, ToDoList!$R:$R, B$2))","v":""},{"$f":"IF($A578 = \"\", \"\", COUNTIFS(ToDoList!$B:$B, $A578, ToDoList!$R:$R, C$2))","v":""},{"$f":"IF($A578 = \"\", \"\", COUNTIFS(ToDoList!$B:$B, $A578, ToDoList!$R:$R, D$2))","v":""},{"$f":"IF($A578 = \"\", \"\", COUNTIFS(ToDoList!$B:$B, $A578, ToDoList!$R:$R, E$2))","v":""},{"$f":"IF($A578 = \"\", \"\", COUNTIFS(ToDoList!$B:$B, $A578, ToDoList!$R:$R, F$2))","v":""},{"$f":"IF($A578 = \"\", \"\", COUNTIFS(ToDoList!$B:$B, $A578, ToDoList!$R:$R, G$2))","v":""},{"$f":"IF($A578 = \"\", \"\", COUNTIFS(ToDoList!$B:$B, $A578, ToDoList!$R:$R, H$2))","v":""},{"$f":"IF($A578 = \"\", \"\", COUNTIFS(ToDoList!$B:$B, $A578, ToDoList!$R:$R, I$2))","v":""},{"$f":"IF($A578 = \"\", \"\", COUNTIFS(ToDoList!$B:$B, $A578, ToDoList!$R:$R, J$2))","v":""}]
[null,{"$f":"IF($A579 = \"\", \"\", COUNTIFS(ToDoList!$B:$B, $A579, ToDoList!$R:$R, B$2))","v":""},{"$f":"IF($A579 = \"\", \"\", COUNTIFS(ToDoList!$B:$B, $A579, ToDoList!$R:$R, C$2))","v":""},{"$f":"IF($A579 = \"\", \"\", COUNTIFS(ToDoList!$B:$B, $A579, ToDoList!$R:$R, D$2))","v":""},{"$f":"IF($A579 = \"\", \"\", COUNTIFS(ToDoList!$B:$B, $A579, ToDoList!$R:$R, E$2))","v":""},{"$f":"IF($A579 = \"\", \"\", COUNTIFS(ToDoList!$B:$B, $A579, ToDoList!$R:$R, F$2))","v":""},{"$f":"IF($A579 = \"\", \"\", COUNTIFS(ToDoList!$B:$B, $A579, ToDoList!$R:$R, G$2))","v":""},{"$f":"IF($A579 = \"\", \"\", COUNTIFS(ToDoList!$B:$B, $A579, ToDoList!$R:$R, H$2))","v":""},{"$f":"IF($A579 = \"\", \"\", COUNTIFS(ToDoList!$B:$B, $A579, ToDoList!$R:$R, I$2))","v":""},{"$f":"IF($A579 = \"\", \"\", COUNTIFS(ToDoList!$B:$B, $A579, ToDoList!$R:$R, J$2))","v":""}]
[null,{"$f":"IF($A580 = \"\", \"\", COUNTIFS(ToDoList!$B:$B, $A580, ToDoList!$R:$R, B$2))","v":""},{"$f":"IF($A580 = \"\", \"\", COUNTIFS(ToDoList!$B:$B, $A580, ToDoList!$R:$R, C$2))","v":""},{"$f":"IF($A580 = \"\", \"\", COUNTIFS(ToDoList!$B:$B, $A580, ToDoList!$R:$R, D$2))","v":""},{"$f":"IF($A580 = \"\", \"\", COUNTIFS(ToDoList!$B:$B, $A580, ToDoList!$R:$R, E$2))","v":""},{"$f":"IF($A580 = \"\", \"\", COUNTIFS(ToDoList!$B:$B, $A580, ToDoList!$R:$R, F$2))","v":""},{"$f":"IF($A580 = \"\", \"\", COUNTIFS(ToDoList!$B:$B, $A580, ToDoList!$R:$R, G$2))","v":""},{"$f":"IF($A580 = \"\", \"\", COUNTIFS(ToDoList!$B:$B, $A580, ToDoList!$R:$R, H$2))","v":""},{"$f":"IF($A580 = \"\", \"\", COUNTIFS(ToDoList!$B:$B, $A580, ToDoList!$R:$R, I$2))","v":""},{"$f":"IF($A580 = \"\", \"\", COUNTIFS(ToDoList!$B:$B, $A580, ToDoList!$R:$R, J$2))","v":""}]
[null,{"$f":"IF($A581 = \"\", \"\", COUNTIFS(ToDoList!$B:$B, $A581, ToDoList!$R:$R, B$2))","v":""},{"$f":"IF($A581 = \"\", \"\", COUNTIFS(ToDoList!$B:$B, $A581, ToDoList!$R:$R, C$2))","v":""},{"$f":"IF($A581 = \"\", \"\", COUNTIFS(ToDoList!$B:$B, $A581, ToDoList!$R:$R, D$2))","v":""},{"$f":"IF($A581 = \"\", \"\", COUNTIFS(ToDoList!$B:$B, $A581, ToDoList!$R:$R, E$2))","v":""},{"$f":"IF($A581 = \"\", \"\", COUNTIFS(ToDoList!$B:$B, $A581, ToDoList!$R:$R, F$2))","v":""},{"$f":"IF($A581 = \"\", \"\", COUNTIFS(ToDoList!$B:$B, $A581, ToDoList!$R:$R, G$2))","v":""},{"$f":"IF($A581 = \"\", \"\", COUNTIFS(ToDoList!$B:$B, $A581, ToDoList!$R:$R, H$2))","v":""},{"$f":"IF($A581 = \"\", \"\", COUNTIFS(ToDoList!$B:$B, $A581, ToDoList!$R:$R, I$2))","v":""},{"$f":"IF($A581 = \"\", \"\", COUNTIFS(ToDoList!$B:$B, $A581, ToDoList!$R:$R, J$2))","v":""}]
[null,{"$f":"IF($A582 = \"\", \"\", COUNTIFS(ToDoList!$B:$B, $A582, ToDoList!$R:$R, B$2))","v":""},{"$f":"IF($A582 = \"\", \"\", COUNTIFS(ToDoList!$B:$B, $A582, ToDoList!$R:$R, C$2))","v":""},{"$f":"IF($A582 = \"\", \"\", COUNTIFS(ToDoList!$B:$B, $A582, ToDoList!$R:$R, D$2))","v":""},{"$f":"IF($A582 = \"\", \"\", COUNTIFS(ToDoList!$B:$B, $A582, ToDoList!$R:$R, E$2))","v":""},{"$f":"IF($A582 = \"\", \"\", COUNTIFS(ToDoList!$B:$B, $A582, ToDoList!$R:$R, F$2))","v":""},{"$f":"IF($A582 = \"\", \"\", COUNTIFS(ToDoList!$B:$B, $A582, ToDoList!$R:$R, G$2))","v":""},{"$f":"IF($A582 = \"\", \"\", COUNTIFS(ToDoList!$B:$B, $A582, ToDoList!$R:$R, H$2))","v":""},{"$f":"IF($A582 = \"\", \"\", COUNTIFS(ToDoList!$B:$B, $A582, ToDoList!$R:$R, I$2))","v":""},{"$f":"IF($A582 = \"\", \"\", COUNTIFS(ToDoList!$B:$B, $A582, ToDoList!$R:$R, J$2))","v":""}]
[null,{"$f":"IF($A583 = \"\", \"\", COUNTIFS(ToDoList!$B:$B, $A583, ToDoList!$R:$R, B$2))","v":""},{"$f":"IF($A583 = \"\", \"\", COUNTIFS(ToDoList!$B:$B, $A583, ToDoList!$R:$R, C$2))","v":""},{"$f":"IF($A583 = \"\", \"\", COUNTIFS(ToDoList!$B:$B, $A583, ToDoList!$R:$R, D$2))","v":""},{"$f":"IF($A583 = \"\", \"\", COUNTIFS(ToDoList!$B:$B, $A583, ToDoList!$R:$R, E$2))","v":""},{"$f":"IF($A583 = \"\", \"\", COUNTIFS(ToDoList!$B:$B, $A583, ToDoList!$R:$R, F$2))","v":""},{"$f":"IF($A583 = \"\", \"\", COUNTIFS(ToDoList!$B:$B, $A583, ToDoList!$R:$R, G$2))","v":""},{"$f":"IF($A583 = \"\", \"\", COUNTIFS(ToDoList!$B:$B, $A583, ToDoList!$R:$R, H$2))","v":""},{"$f":"IF($A583 = \"\", \"\", COUNTIFS(ToDoList!$B:$B, $A583, ToDoList!$R:$R, I$2))","v":""},{"$f":"IF($A583 = \"\", \"\", COUNTIFS(ToDoList!$B:$B, $A583, ToDoList!$R:$R, J$2))","v":""}]
[null,{"$f":"IF($A584 = \"\", \"\", COUNTIFS(ToDoList!$B:$B, $A584, ToDoList!$R:$R, B$2))","v":""},{"$f":"IF($A584 = \"\", \"\", COUNTIFS(ToDoList!$B:$B, $A584, ToDoList!$R:$R, C$2))","v":""},{"$f":"IF($A584 = \"\", \"\", COUNTIFS(ToDoList!$B:$B, $A584, ToDoList!$R:$R, D$2))","v":""},{"$f":"IF($A584 = \"\", \"\", COUNTIFS(ToDoList!$B:$B, $A584, ToDoList!$R:$R, E$2))","v":""},{"$f":"IF($A584 = \"\", \"\", COUNTIFS(ToDoList!$B:$B, $A584, ToDoList!$R:$R, F$2))","v":""},{"$f":"IF($A584 = \"\", \"\", COUNTIFS(ToDoList!$B:$B, $A584, ToDoList!$R:$R, G$2))","v":""},{"$f":"IF($A584 = \"\", \"\", COUNTIFS(ToDoList!$B:$B, $A584, ToDoList!$R:$R, H$2))","v":""},{"$f":"IF($A584 = \"\", \"\", COUNTIFS(ToDoList!$B:$B, $A584, ToDoList!$R:$R, I$2))","v":""},{"$f":"IF($A584 = \"\", \"\", COUNTIFS(ToDoList!$B:$B, $A584, ToDoList!$R:$R, J$2))","v":""}]
[null,{"$f":"IF($A585 = \"\", \"\", COUNTIFS(ToDoList!$B:$B, $A585, ToDoList!$R:$R, B$2))","v":""},{"$f":"IF($A585 = \"\", \"\", COUNTIFS(ToDoList!$B:$B, $A585, ToDoList!$R:$R, C$2))","v":""},{"$f":"IF($A585 = \"\", \"\", COUNTIFS(ToDoList!$B:$B, $A585, ToDoList!$R:$R, D$2))","v":""},{"$f":"IF($A585 = \"\", \"\", COUNTIFS(ToDoList!$B:$B, $A585, ToDoList!$R:$R, E$2))","v":""},{"$f":"IF($A585 = \"\", \"\", COUNTIFS(ToDoList!$B:$B, $A585, ToDoList!$R:$R, F$2))","v":""},{"$f":"IF($A585 = \"\", \"\", COUNTIFS(ToDoList!$B:$B, $A585, ToDoList!$R:$R, G$2))","v":""},{"$f":"IF($A585 = \"\", \"\", COUNTIFS(ToDoList!$B:$B, $A585, ToDoList!$R:$R, H$2))","v":""},{"$f":"IF($A585 = \"\", \"\", COUNTIFS(ToDoList!$B:$B, $A585, ToDoList!$R:$R, I$2))","v":""},{"$f":"IF($A585 = \"\", \"\", COUNTIFS(ToDoList!$B:$B, $A585, ToDoList!$R:$R, J$2))","v":""}]
[null,{"$f":"IF($A586 = \"\", \"\", COUNTIFS(ToDoList!$B:$B, $A586, ToDoList!$R:$R, B$2))","v":""},{"$f":"IF($A586 = \"\", \"\", COUNTIFS(ToDoList!$B:$B, $A586, ToDoList!$R:$R, C$2))","v":""},{"$f":"IF($A586 = \"\", \"\", COUNTIFS(ToDoList!$B:$B, $A586, ToDoList!$R:$R, D$2))","v":""},{"$f":"IF($A586 = \"\", \"\", COUNTIFS(ToDoList!$B:$B, $A586, ToDoList!$R:$R, E$2))","v":""},{"$f":"IF($A586 = \"\", \"\", COUNTIFS(ToDoList!$B:$B, $A586, ToDoList!$R:$R, F$2))","v":""},{"$f":"IF($A586 = \"\", \"\", COUNTIFS(ToDoList!$B:$B, $A586, ToDoList!$R:$R, G$2))","v":""},{"$f":"IF($A586 = \"\", \"\", COUNTIFS(ToDoList!$B:$B, $A586, ToDoList!$R:$R, H$2))","v":""},{"$f":"IF($A586 = \"\", \"\", COUNTIFS(ToDoList!$B:$B, $A586, ToDoList!$R:$R, I$2))","v":""},{"$f":"IF($A586 = \"\", \"\", COUNTIFS(ToDoList!$B:$B, $A586, ToDoList!$R:$R, J$2))","v":""}]
[null,{"$f":"IF($A587 = \"\", \"\", COUNTIFS(ToDoList!$B:$B, $A587, ToDoList!$R:$R, B$2))","v":""},{"$f":"IF($A587 = \"\", \"\", COUNTIFS(ToDoList!$B:$B, $A587, ToDoList!$R:$R, C$2))","v":""},{"$f":"IF($A587 = \"\", \"\", COUNTIFS(ToDoList!$B:$B, $A587, ToDoList!$R:$R, D$2))","v":""},{"$f":"IF($A587 = \"\", \"\", COUNTIFS(ToDoList!$B:$B, $A587, ToDoList!$R:$R, E$2))","v":""},{"$f":"IF($A587 = \"\", \"\", COUNTIFS(ToDoList!$B:$B, $A587, ToDoList!$R:$R, F$2))","v":""},{"$f":"IF($A587 = \"\", \"\", COUNTIFS(ToDoList!$B:$B, $A587, ToDoList!$R:$R, G$2))","v":""},{"$f":"IF($A587 = \"\", \"\", COUNTIFS(ToDoList!$B:$B, $A587, ToDoList!$R:$R, H$2))","v":""},{"$f":"IF($A587 = \"\", \"\", COUNTIFS(ToDoList!$B:$B, $A587, ToDoList!$R:$R, I$2))","v":""},{"$f":"IF($A587 = \"\", \"\", COUNTIFS(ToDoList!$B:$B, $A587, ToDoList!$R:$R, J$2))","v":""}]
[null,{"$f":"IF($A588 = \"\", \"\", COUNTIFS(ToDoList!$B:$B, $A588, ToDoList!$R:$R, B$2))","v":""},{"$f":"IF($A588 = \"\", \"\", COUNTIFS(ToDoList!$B:$B, $A588, ToDoList!$R:$R, C$2))","v":""},{"$f":"IF($A588 = \"\", \"\", COUNTIFS(ToDoList!$B:$B, $A588, ToDoList!$R:$R, D$2))","v":""},{"$f":"IF($A588 = \"\", \"\", COUNTIFS(ToDoList!$B:$B, $A588, ToDoList!$R:$R, E$2))","v":""},{"$f":"IF($A588 = \"\", \"\", COUNTIFS(ToDoList!$B:$B, $A588, ToDoList!$R:$R, F$2))","v":""},{"$f":"IF($A588 = \"\", \"\", COUNTIFS(ToDoList!$B:$B, $A588, ToDoList!$R:$R, G$2))","v":""},{"$f":"IF($A588 = \"\", \"\", COUNTIFS(ToDoList!$B:$B, $A588, ToDoList!$R:$R, H$2))","v":""},{"$f":"IF($A588 = \"\", \"\", COUNTIFS(ToDoList!$B:$B, $A588, ToDoList!$R:$R, I$2))","v":""},{"$f":"IF($A588 = \"\", \"\", COUNTIFS(ToDoList!$B:$B, $A588, ToDoList!$R:$R, J$2))","v":""}]
[null,{"$f":"IF($A589 = \"\", \"\", COUNTIFS(ToDoList!$B:$B, $A589, ToDoList!$R:$R, B$2))","v":""},{"$f":"IF($A589 = \"\", \"\", COUNTIFS(ToDoList!$B:$B, $A589, ToDoList!$R:$R, C$2))","v":""},{"$f":"IF($A589 = \"\", \"\", COUNTIFS(ToDoList!$B:$B, $A589, ToDoList!$R:$R, D$2))","v":""},{"$f":"IF($A589 = \"\", \"\", COUNTIFS(ToDoList!$B:$B, $A589, ToDoList!$R:$R, E$2))","v":""},{"$f":"IF($A589 = \"\", \"\", COUNTIFS(ToDoList!$B:$B, $A589, ToDoList!$R:$R, F$2))","v":""},{"$f":"IF($A589 = \"\", \"\", COUNTIFS(ToDoList!$B:$B, $A589, ToDoList!$R:$R, G$2))","v":""},{"$f":"IF($A589 = \"\", \"\", COUNTIFS(ToDoList!$B:$B, $A589, ToDoList!$R:$R, H$2))","v":""},{"$f":"IF($A589 = \"\", \"\", COUNTIFS(ToDoList!$B:$B, $A589, ToDoList!$R:$R, I$2))","v":""},{"$f":"IF($A589 = \"\", \"\", COUNTIFS(ToDoList!$B:$B, $A589, ToDoList!$R:$R, J$2))","v":""}]
[null,{"$f":"IF($A590 = \"\", \"\", COUNTIFS(ToDoList!$B:$B, $A590, ToDoList!$R:$R, B$2))","v":""},{"$f":"IF($A590 = \"\", \"\", COUNTIFS(ToDoList!$B:$B, $A590, ToDoList!$R:$R, C$2))","v":""},{"$f":"IF($A590 = \"\", \"\", COUNTIFS(ToDoList!$B:$B, $A590, ToDoList!$R:$R, D$2))","v":""},{"$f":"IF($A590 = \"\", \"\", COUNTIFS(ToDoList!$B:$B, $A590, ToDoList!$R:$R, E$2))","v":""},{"$f":"IF($A590 = \"\", \"\", COUNTIFS(ToDoList!$B:$B, $A590, ToDoList!$R:$R, F$2))","v":""},{"$f":"IF($A590 = \"\", \"\", COUNTIFS(ToDoList!$B:$B, $A590, ToDoList!$R:$R, G$2))","v":""},{"$f":"IF($A590 = \"\", \"\", COUNTIFS(ToDoList!$B:$B, $A590, ToDoList!$R:$R, H$2))","v":""},{"$f":"IF($A590 = \"\", \"\", COUNTIFS(ToDoList!$B:$B, $A590, ToDoList!$R:$R, I$2))","v":""},{"$f":"IF($A590 = \"\", \"\", COUNTIFS(ToDoList!$B:$B, $A590, ToDoList!$R:$R, J$2))","v":""}]
[null,{"$f":"IF($A591 = \"\", \"\", COUNTIFS(ToDoList!$B:$B, $A591, ToDoList!$R:$R, B$2))","v":""},{"$f":"IF($A591 = \"\", \"\", COUNTIFS(ToDoList!$B:$B, $A591, ToDoList!$R:$R, C$2))","v":""},{"$f":"IF($A591 = \"\", \"\", COUNTIFS(ToDoList!$B:$B, $A591, ToDoList!$R:$R, D$2))","v":""},{"$f":"IF($A591 = \"\", \"\", COUNTIFS(ToDoList!$B:$B, $A591, ToDoList!$R:$R, E$2))","v":""},{"$f":"IF($A591 = \"\", \"\", COUNTIFS(ToDoList!$B:$B, $A591, ToDoList!$R:$R, F$2))","v":""},{"$f":"IF($A591 = \"\", \"\", COUNTIFS(ToDoList!$B:$B, $A591, ToDoList!$R:$R, G$2))","v":""},{"$f":"IF($A591 = \"\", \"\", COUNTIFS(ToDoList!$B:$B, $A591, ToDoList!$R:$R, H$2))","v":""},{"$f":"IF($A591 = \"\", \"\", COUNTIFS(ToDoList!$B:$B, $A591, ToDoList!$R:$R, I$2))","v":""},{"$f":"IF($A591 = \"\", \"\", COUNTIFS(ToDoList!$B:$B, $A591, ToDoList!$R:$R, J$2))","v":""}]
[null,{"$f":"IF($A592 = \"\", \"\", COUNTIFS(ToDoList!$B:$B, $A592, ToDoList!$R:$R, B$2))","v":""},{"$f":"IF($A592 = \"\", \"\", COUNTIFS(ToDoList!$B:$B, $A592, ToDoList!$R:$R, C$2))","v":""},{"$f":"IF($A592 = \"\", \"\", COUNTIFS(ToDoList!$B:$B, $A592, ToDoList!$R:$R, D$2))","v":""},{"$f":"IF($A592 = \"\", \"\", COUNTIFS(ToDoList!$B:$B, $A592, ToDoList!$R:$R, E$2))","v":""},{"$f":"IF($A592 = \"\", \"\", COUNTIFS(ToDoList!$B:$B, $A592, ToDoList!$R:$R, F$2))","v":""},{"$f":"IF($A592 = \"\", \"\", COUNTIFS(ToDoList!$B:$B, $A592, ToDoList!$R:$R, G$2))","v":""},{"$f":"IF($A592 = \"\", \"\", COUNTIFS(ToDoList!$B:$B, $A592, ToDoList!$R:$R, H$2))","v":""},{"$f":"IF($A592 = \"\", \"\", COUNTIFS(ToDoList!$B:$B, $A592, ToDoList!$R:$R, I$2))","v":""},{"$f":"IF($A592 = \"\", \"\", COUNTIFS(ToDoList!$B:$B, $A592, ToDoList!$R:$R, J$2))","v":""}]
[null,{"$f":"IF($A593 = \"\", \"\", COUNTIFS(ToDoList!$B:$B, $A593, ToDoList!$R:$R, B$2))","v":""},{"$f":"IF($A593 = \"\", \"\", COUNTIFS(ToDoList!$B:$B, $A593, ToDoList!$R:$R, C$2))","v":""},{"$f":"IF($A593 = \"\", \"\", COUNTIFS(ToDoList!$B:$B, $A593, ToDoList!$R:$R, D$2))","v":""},{"$f":"IF($A593 = \"\", \"\", COUNTIFS(ToDoList!$B:$B, $A593, ToDoList!$R:$R, E$2))","v":""},{"$f":"IF($A593 = \"\", \"\", COUNTIFS(ToDoList!$B:$B, $A593, ToDoList!$R:$R, F$2))","v":""},{"$f":"IF($A593 = \"\", \"\", COUNTIFS(ToDoList!$B:$B, $A593, ToDoList!$R:$R, G$2))","v":""},{"$f":"IF($A593 = \"\", \"\", COUNTIFS(ToDoList!$B:$B, $A593, ToDoList!$R:$R, H$2))","v":""},{"$f":"IF($A593 = \"\", \"\", COUNTIFS(ToDoList!$B:$B, $A593, ToDoList!$R:$R, I$2))","v":""},{"$f":"IF($A593 = \"\", \"\", COUNTIFS(ToDoList!$B:$B, $A593, ToDoList!$R:$R, J$2))","v":""}]
[null,{"$f":"IF($A594 = \"\", \"\", COUNTIFS(ToDoList!$B:$B, $A594, ToDoList!$R:$R, B$2))","v":""},{"$f":"IF($A594 = \"\", \"\", COUNTIFS(ToDoList!$B:$B, $A594, ToDoList!$R:$R, C$2))","v":""},{"$f":"IF($A594 = \"\", \"\", COUNTIFS(ToDoList!$B:$B, $A594, ToDoList!$R:$R, D$2))","v":""},{"$f":"IF($A594 = \"\", \"\", COUNTIFS(ToDoList!$B:$B, $A594, ToDoList!$R:$R, E$2))","v":""},{"$f":"IF($A594 = \"\", \"\", COUNTIFS(ToDoList!$B:$B, $A594, ToDoList!$R:$R, F$2))","v":""},{"$f":"IF($A594 = \"\", \"\", COUNTIFS(ToDoList!$B:$B, $A594, ToDoList!$R:$R, G$2))","v":""},{"$f":"IF($A594 = \"\", \"\", COUNTIFS(ToDoList!$B:$B, $A594, ToDoList!$R:$R, H$2))","v":""},{"$f":"IF($A594 = \"\", \"\", COUNTIFS(ToDoList!$B:$B, $A594, ToDoList!$R:$R, I$2))","v":""},{"$f":"IF($A594 = \"\", \"\", COUNTIFS(ToDoList!$B:$B, $A594, ToDoList!$R:$R, J$2))","v":""}]
[null,{"$f":"IF($A595 = \"\", \"\", COUNTIFS(ToDoList!$B:$B, $A595, ToDoList!$R:$R, B$2))","v":""},{"$f":"IF($A595 = \"\", \"\", COUNTIFS(ToDoList!$B:$B, $A595, ToDoList!$R:$R, C$2))","v":""},{"$f":"IF($A595 = \"\", \"\", COUNTIFS(ToDoList!$B:$B, $A595, ToDoList!$R:$R, D$2))","v":""},{"$f":"IF($A595 = \"\", \"\", COUNTIFS(ToDoList!$B:$B, $A595, ToDoList!$R:$R, E$2))","v":""},{"$f":"IF($A595 = \"\", \"\", COUNTIFS(ToDoList!$B:$B, $A595, ToDoList!$R:$R, F$2))","v":""},{"$f":"IF($A595 = \"\", \"\", COUNTIFS(ToDoList!$B:$B, $A595, ToDoList!$R:$R, G$2))","v":""},{"$f":"IF($A595 = \"\", \"\", COUNTIFS(ToDoList!$B:$B, $A595, ToDoList!$R:$R, H$2))","v":""},{"$f":"IF($A595 = \"\", \"\", COUNTIFS(ToDoList!$B:$B, $A595, ToDoList!$R:$R, I$2))","v":""},{"$f":"IF($A595 = \"\", \"\", COUNTIFS(ToDoList!$B:$B, $A595, ToDoList!$R:$R, J$2))","v":""}]
[null,{"$f":"IF($A596 = \"\", \"\", COUNTIFS(ToDoList!$B:$B, $A596, ToDoList!$R:$R, B$2))","v":""},{"$f":"IF($A596 = \"\", \"\", COUNTIFS(ToDoList!$B:$B, $A596, ToDoList!$R:$R, C$2))","v":""},{"$f":"IF($A596 = \"\", \"\", COUNTIFS(ToDoList!$B:$B, $A596, ToDoList!$R:$R, D$2))","v":""},{"$f":"IF($A596 = \"\", \"\", COUNTIFS(ToDoList!$B:$B, $A596, ToDoList!$R:$R, E$2))","v":""},{"$f":"IF($A596 = \"\", \"\", COUNTIFS(ToDoList!$B:$B, $A596, ToDoList!$R:$R, F$2))","v":""},{"$f":"IF($A596 = \"\", \"\", COUNTIFS(ToDoList!$B:$B, $A596, ToDoList!$R:$R, G$2))","v":""},{"$f":"IF($A596 = \"\", \"\", COUNTIFS(ToDoList!$B:$B, $A596, ToDoList!$R:$R, H$2))","v":""},{"$f":"IF($A596 = \"\", \"\", COUNTIFS(ToDoList!$B:$B, $A596, ToDoList!$R:$R, I$2))","v":""},{"$f":"IF($A596 = \"\", \"\", COUNTIFS(ToDoList!$B:$B, $A596, ToDoList!$R:$R, J$2))","v":""}]
[null,{"$f":"IF($A597 = \"\", \"\", COUNTIFS(ToDoList!$B:$B, $A597, ToDoList!$R:$R, B$2))","v":""},{"$f":"IF($A597 = \"\", \"\", COUNTIFS(ToDoList!$B:$B, $A597, ToDoList!$R:$R, C$2))","v":""},{"$f":"IF($A597 = \"\", \"\", COUNTIFS(ToDoList!$B:$B, $A597, ToDoList!$R:$R, D$2))","v":""},{"$f":"IF($A597 = \"\", \"\", COUNTIFS(ToDoList!$B:$B, $A597, ToDoList!$R:$R, E$2))","v":""},{"$f":"IF($A597 = \"\", \"\", COUNTIFS(ToDoList!$B:$B, $A597, ToDoList!$R:$R, F$2))","v":""},{"$f":"IF($A597 = \"\", \"\", COUNTIFS(ToDoList!$B:$B, $A597, ToDoList!$R:$R, G$2))","v":""},{"$f":"IF($A597 = \"\", \"\", COUNTIFS(ToDoList!$B:$B, $A597, ToDoList!$R:$R, H$2))","v":""},{"$f":"IF($A597 = \"\", \"\", COUNTIFS(ToDoList!$B:$B, $A597, ToDoList!$R:$R, I$2))","v":""},{"$f":"IF($A597 = \"\", \"\", COUNTIFS(ToDoList!$B:$B, $A597, ToDoList!$R:$R, J$2))","v":""}]
[null,{"$f":"IF($A598 = \"\", \"\", COUNTIFS(ToDoList!$B:$B, $A598, ToDoList!$R:$R, B$2))","v":""},{"$f":"IF($A598 = \"\", \"\", COUNTIFS(ToDoList!$B:$B, $A598, ToDoList!$R:$R, C$2))","v":""},{"$f":"IF($A598 = \"\", \"\", COUNTIFS(ToDoList!$B:$B, $A598, ToDoList!$R:$R, D$2))","v":""},{"$f":"IF($A598 = \"\", \"\", COUNTIFS(ToDoList!$B:$B, $A598, ToDoList!$R:$R, E$2))","v":""},{"$f":"IF($A598 = \"\", \"\", COUNTIFS(ToDoList!$B:$B, $A598, ToDoList!$R:$R, F$2))","v":""},{"$f":"IF($A598 = \"\", \"\", COUNTIFS(ToDoList!$B:$B, $A598, ToDoList!$R:$R, G$2))","v":""},{"$f":"IF($A598 = \"\", \"\", COUNTIFS(ToDoList!$B:$B, $A598, ToDoList!$R:$R, H$2))","v":""},{"$f":"IF($A598 = \"\", \"\", COUNTIFS(ToDoList!$B:$B, $A598, ToDoList!$R:$R, I$2))","v":""},{"$f":"IF($A598 = \"\", \"\", COUNTIFS(ToDoList!$B:$B, $A598, ToDoList!$R:$R, J$2))","v":""}]
[null,{"$f":"IF($A599 = \"\", \"\", COUNTIFS(ToDoList!$B:$B, $A599, ToDoList!$R:$R, B$2))","v":""},{"$f":"IF($A599 = \"\", \"\", COUNTIFS(ToDoList!$B:$B, $A599, ToDoList!$R:$R, C$2))","v":""},{"$f":"IF($A599 = \"\", \"\", COUNTIFS(ToDoList!$B:$B, $A599, ToDoList!$R:$R, D$2))","v":""},{"$f":"IF($A599 = \"\", \"\", COUNTIFS(ToDoList!$B:$B, $A599, ToDoList!$R:$R, E$2))","v":""},{"$f":"IF($A599 = \"\", \"\", COUNTIFS(ToDoList!$B:$B, $A599, ToDoList!$R:$R, F$2))","v":""},{"$f":"IF($A599 = \"\", \"\", COUNTIFS(ToDoList!$B:$B, $A599, ToDoList!$R:$R, G$2))","v":""},{"$f":"IF($A599 = \"\", \"\", COUNTIFS(ToDoList!$B:$B, $A599, ToDoList!$R:$R, H$2))","v":""},{"$f":"IF($A599 = \"\", \"\", COUNTIFS(ToDoList!$B:$B, $A599, ToDoList!$R:$R, I$2))","v":""},{"$f":"IF($A599 = \"\", \"\", COUNTIFS(ToDoList!$B:$B, $A599, ToDoList!$R:$R, J$2))","v":""}]
[null,{"$f":"IF($A600 = \"\", \"\", COUNTIFS(ToDoList!$B:$B, $A600, ToDoList!$R:$R, B$2))","v":""},{"$f":"IF($A600 = \"\", \"\", COUNTIFS(ToDoList!$B:$B, $A600, ToDoList!$R:$R, C$2))","v":""},{"$f":"IF($A600 = \"\", \"\", COUNTIFS(ToDoList!$B:$B, $A600, ToDoList!$R:$R, D$2))","v":""},{"$f":"IF($A600 = \"\", \"\", COUNTIFS(ToDoList!$B:$B, $A600, ToDoList!$R:$R, E$2))","v":""},{"$f":"IF($A600 = \"\", \"\", COUNTIFS(ToDoList!$B:$B, $A600, ToDoList!$R:$R, F$2))","v":""},{"$f":"IF($A600 = \"\", \"\", COUNTIFS(ToDoList!$B:$B, $A600, ToDoList!$R:$R, G$2))","v":""},{"$f":"IF($A600 = \"\", \"\", COUNTIFS(ToDoList!$B:$B, $A600, ToDoList!$R:$R, H$2))","v":""},{"$f":"IF($A600 = \"\", \"\", COUNTIFS(ToDoList!$B:$B, $A600, ToDoList!$R:$R, I$2))","v":""},{"$f":"IF($A600 = \"\", \"\", COUNTIFS(ToDoList!$B:$B, $A600, ToDoList!$R:$R, J$2))","v":""}]
[null,{"$f":"IF($A601 = \"\", \"\", COUNTIFS(ToDoList!$B:$B, $A601, ToDoList!$R:$R, B$2))","v":""},{"$f":"IF($A601 = \"\", \"\", COUNTIFS(ToDoList!$B:$B, $A601, ToDoList!$R:$R, C$2))","v":""},{"$f":"IF($A601 = \"\", \"\", COUNTIFS(ToDoList!$B:$B, $A601, ToDoList!$R:$R, D$2))","v":""},{"$f":"IF($A601 = \"\", \"\", COUNTIFS(ToDoList!$B:$B, $A601, ToDoList!$R:$R, E$2))","v":""},{"$f":"IF($A601 = \"\", \"\", COUNTIFS(ToDoList!$B:$B, $A601, ToDoList!$R:$R, F$2))","v":""},{"$f":"IF($A601 = \"\", \"\", COUNTIFS(ToDoList!$B:$B, $A601, ToDoList!$R:$R, G$2))","v":""},{"$f":"IF($A601 = \"\", \"\", COUNTIFS(ToDoList!$B:$B, $A601, ToDoList!$R:$R, H$2))","v":""},{"$f":"IF($A601 = \"\", \"\", COUNTIFS(ToDoList!$B:$B, $A601, ToDoList!$R:$R, I$2))","v":""},{"$f":"IF($A601 = \"\", \"\", COUNTIFS(ToDoList!$B:$B, $A601, ToDoList!$R:$R, J$2))","v":""}]
[null,{"$f":"IF($A602 = \"\", \"\", COUNTIFS(ToDoList!$B:$B, $A602, ToDoList!$R:$R, B$2))","v":""},{"$f":"IF($A602 = \"\", \"\", COUNTIFS(ToDoList!$B:$B, $A602, ToDoList!$R:$R, C$2))","v":""},{"$f":"IF($A602 = \"\", \"\", COUNTIFS(ToDoList!$B:$B, $A602, ToDoList!$R:$R, D$2))","v":""},{"$f":"IF($A602 = \"\", \"\", COUNTIFS(ToDoList!$B:$B, $A602, ToDoList!$R:$R, E$2))","v":""},{"$f":"IF($A602 = \"\", \"\", COUNTIFS(ToDoList!$B:$B, $A602, ToDoList!$R:$R, F$2))","v":""},{"$f":"IF($A602 = \"\", \"\", COUNTIFS(ToDoList!$B:$B, $A602, ToDoList!$R:$R, G$2))","v":""},{"$f":"IF($A602 = \"\", \"\", COUNTIFS(ToDoList!$B:$B, $A602, ToDoList!$R:$R, H$2))","v":""},{"$f":"IF($A602 = \"\", \"\", COUNTIFS(ToDoList!$B:$B, $A602, ToDoList!$R:$R, I$2))","v":""},{"$f":"IF($A602 = \"\", \"\", COUNTIFS(ToDoList!$B:$B, $A602, ToDoList!$R:$R, J$2))","v":""}]
[null,{"$f":"IF($A603 = \"\", \"\", COUNTIFS(ToDoList!$B:$B, $A603, ToDoList!$R:$R, B$2))","v":""},{"$f":"IF($A603 = \"\", \"\", COUNTIFS(ToDoList!$B:$B, $A603, ToDoList!$R:$R, C$2))","v":""},{"$f":"IF($A603 = \"\", \"\", COUNTIFS(ToDoList!$B:$B, $A603, ToDoList!$R:$R, D$2))","v":""},{"$f":"IF($A603 = \"\", \"\", COUNTIFS(ToDoList!$B:$B, $A603, ToDoList!$R:$R, E$2))","v":""},{"$f":"IF($A603 = \"\", \"\", COUNTIFS(ToDoList!$B:$B, $A603, ToDoList!$R:$R, F$2))","v":""},{"$f":"IF($A603 = \"\", \"\", COUNTIFS(ToDoList!$B:$B, $A603, ToDoList!$R:$R, G$2))","v":""},{"$f":"IF($A603 = \"\", \"\", COUNTIFS(ToDoList!$B:$B, $A603, ToDoList!$R:$R, H$2))","v":""},{"$f":"IF($A603 = \"\", \"\", COUNTIFS(ToDoList!$B:$B, $A603, ToDoList!$R:$R, I$2))","v":""},{"$f":"IF($A603 = \"\", \"\", COUNTIFS(ToDoList!$B:$B, $A603, ToDoList!$R:$R, J$2))","v":""}]
[null,{"$f":"IF($A604 = \"\", \"\", COUNTIFS(ToDoList!$B:$B, $A604, ToDoList!$R:$R, B$2))","v":""},{"$f":"IF($A604 = \"\", \"\", COUNTIFS(ToDoList!$B:$B, $A604, ToDoList!$R:$R, C$2))","v":""},{"$f":"IF($A604 = \"\", \"\", COUNTIFS(ToDoList!$B:$B, $A604, ToDoList!$R:$R, D$2))","v":""},{"$f":"IF($A604 = \"\", \"\", COUNTIFS(ToDoList!$B:$B, $A604, ToDoList!$R:$R, E$2))","v":""},{"$f":"IF($A604 = \"\", \"\", COUNTIFS(ToDoList!$B:$B, $A604, ToDoList!$R:$R, F$2))","v":""},{"$f":"IF($A604 = \"\", \"\", COUNTIFS(ToDoList!$B:$B, $A604, ToDoList!$R:$R, G$2))","v":""},{"$f":"IF($A604 = \"\", \"\", COUNTIFS(ToDoList!$B:$B, $A604, ToDoList!$R:$R, H$2))","v":""},{"$f":"IF($A604 = \"\", \"\", COUNTIFS(ToDoList!$B:$B, $A604, ToDoList!$R:$R, I$2))","v":""},{"$f":"IF($A604 = \"\", \"\", COUNTIFS(ToDoList!$B:$B, $A604, ToDoList!$R:$R, J$2))","v":""}]
[null,{"$f":"IF($A605 = \"\", \"\", COUNTIFS(ToDoList!$B:$B, $A605, ToDoList!$R:$R, B$2))","v":""},{"$f":"IF($A605 = \"\", \"\", COUNTIFS(ToDoList!$B:$B, $A605, ToDoList!$R:$R, C$2))","v":""},{"$f":"IF($A605 = \"\", \"\", COUNTIFS(ToDoList!$B:$B, $A605, ToDoList!$R:$R, D$2))","v":""},{"$f":"IF($A605 = \"\", \"\", COUNTIFS(ToDoList!$B:$B, $A605, ToDoList!$R:$R, E$2))","v":""},{"$f":"IF($A605 = \"\", \"\", COUNTIFS(ToDoList!$B:$B, $A605, ToDoList!$R:$R, F$2))","v":""},{"$f":"IF($A605 = \"\", \"\", COUNTIFS(ToDoList!$B:$B, $A605, ToDoList!$R:$R, G$2))","v":""},{"$f":"IF($A605 = \"\", \"\", COUNTIFS(ToDoList!$B:$B, $A605, ToDoList!$R:$R, H$2))","v":""},{"$f":"IF($A605 = \"\", \"\", COUNTIFS(ToDoList!$B:$B, $A605, ToDoList!$R:$R, I$2))","v":""},{"$f":"IF($A605 = \"\", \"\", COUNTIFS(ToDoList!$B:$B, $A605, ToDoList!$R:$R, J$2))","v":""}]
[null,{"$f":"IF($A606 = \"\", \"\", COUNTIFS(ToDoList!$B:$B, $A606, ToDoList!$R:$R, B$2))","v":""},{"$f":"IF($A606 = \"\", \"\", COUNTIFS(ToDoList!$B:$B, $A606, ToDoList!$R:$R, C$2))","v":""},{"$f":"IF($A606 = \"\", \"\", COUNTIFS(ToDoList!$B:$B, $A606, ToDoList!$R:$R, D$2))","v":""},{"$f":"IF($A606 = \"\", \"\", COUNTIFS(ToDoList!$B:$B, $A606, ToDoList!$R:$R, E$2))","v":""},{"$f":"IF($A606 = \"\", \"\", COUNTIFS(ToDoList!$B:$B, $A606, ToDoList!$R:$R, F$2))","v":""},{"$f":"IF($A606 = \"\", \"\", COUNTIFS(ToDoList!$B:$B, $A606, ToDoList!$R:$R, G$2))","v":""},{"$f":"IF($A606 = \"\", \"\", COUNTIFS(ToDoList!$B:$B, $A606, ToDoList!$R:$R, H$2))","v":""},{"$f":"IF($A606 = \"\", \"\", COUNTIFS(ToDoList!$B:$B, $A606, ToDoList!$R:$R, I$2))","v":""},{"$f":"IF($A606 = \"\", \"\", COUNTIFS(ToDoList!$B:$B, $A606, ToDoList!$R:$R, J$2))","v":""}]
[null,{"$f":"IF($A607 = \"\", \"\", COUNTIFS(ToDoList!$B:$B, $A607, ToDoList!$R:$R, B$2))","v":""},{"$f":"IF($A607 = \"\", \"\", COUNTIFS(ToDoList!$B:$B, $A607, ToDoList!$R:$R, C$2))","v":""},{"$f":"IF($A607 = \"\", \"\", COUNTIFS(ToDoList!$B:$B, $A607, ToDoList!$R:$R, D$2))","v":""},{"$f":"IF($A607 = \"\", \"\", COUNTIFS(ToDoList!$B:$B, $A607, ToDoList!$R:$R, E$2))","v":""},{"$f":"IF($A607 = \"\", \"\", COUNTIFS(ToDoList!$B:$B, $A607, ToDoList!$R:$R, F$2))","v":""},{"$f":"IF($A607 = \"\", \"\", COUNTIFS(ToDoList!$B:$B, $A607, ToDoList!$R:$R, G$2))","v":""},{"$f":"IF($A607 = \"\", \"\", COUNTIFS(ToDoList!$B:$B, $A607, ToDoList!$R:$R, H$2))","v":""},{"$f":"IF($A607 = \"\", \"\", COUNTIFS(ToDoList!$B:$B, $A607, ToDoList!$R:$R, I$2))","v":""},{"$f":"IF($A607 = \"\", \"\", COUNTIFS(ToDoList!$B:$B, $A607, ToDoList!$R:$R, J$2))","v":""}]
[null,{"$f":"IF($A608 = \"\", \"\", COUNTIFS(ToDoList!$B:$B, $A608, ToDoList!$R:$R, B$2))","v":""},{"$f":"IF($A608 = \"\", \"\", COUNTIFS(ToDoList!$B:$B, $A608, ToDoList!$R:$R, C$2))","v":""},{"$f":"IF($A608 = \"\", \"\", COUNTIFS(ToDoList!$B:$B, $A608, ToDoList!$R:$R, D$2))","v":""},{"$f":"IF($A608 = \"\", \"\", COUNTIFS(ToDoList!$B:$B, $A608, ToDoList!$R:$R, E$2))","v":""},{"$f":"IF($A608 = \"\", \"\", COUNTIFS(ToDoList!$B:$B, $A608, ToDoList!$R:$R, F$2))","v":""},{"$f":"IF($A608 = \"\", \"\", COUNTIFS(ToDoList!$B:$B, $A608, ToDoList!$R:$R, G$2))","v":""},{"$f":"IF($A608 = \"\", \"\", COUNTIFS(ToDoList!$B:$B, $A608, ToDoList!$R:$R, H$2))","v":""},{"$f":"IF($A608 = \"\", \"\", COUNTIFS(ToDoList!$B:$B, $A608, ToDoList!$R:$R, I$2))","v":""},{"$f":"IF($A608 = \"\", \"\", COUNTIFS(ToDoList!$B:$B, $A608, ToDoList!$R:$R, J$2))","v":""}]
[null,{"$f":"IF($A609 = \"\", \"\", COUNTIFS(ToDoList!$B:$B, $A609, ToDoList!$R:$R, B$2))","v":""},{"$f":"IF($A609 = \"\", \"\", COUNTIFS(ToDoList!$B:$B, $A609, ToDoList!$R:$R, C$2))","v":""},{"$f":"IF($A609 = \"\", \"\", COUNTIFS(ToDoList!$B:$B, $A609, ToDoList!$R:$R, D$2))","v":""},{"$f":"IF($A609 = \"\", \"\", COUNTIFS(ToDoList!$B:$B, $A609, ToDoList!$R:$R, E$2))","v":""},{"$f":"IF($A609 = \"\", \"\", COUNTIFS(ToDoList!$B:$B, $A609, ToDoList!$R:$R, F$2))","v":""},{"$f":"IF($A609 = \"\", \"\", COUNTIFS(ToDoList!$B:$B, $A609, ToDoList!$R:$R, G$2))","v":""},{"$f":"IF($A609 = \"\", \"\", COUNTIFS(ToDoList!$B:$B, $A609, ToDoList!$R:$R, H$2))","v":""},{"$f":"IF($A609 = \"\", \"\", COUNTIFS(ToDoList!$B:$B, $A609, ToDoList!$R:$R, I$2))","v":""},{"$f":"IF($A609 = \"\", \"\", COUNTIFS(ToDoList!$B:$B, $A609, ToDoList!$R:$R, J$2))","v":""}]
[null,{"$f":"IF($A610 = \"\", \"\", COUNTIFS(ToDoList!$B:$B, $A610, ToDoList!$R:$R, B$2))","v":""},{"$f":"IF($A610 = \"\", \"\", COUNTIFS(ToDoList!$B:$B, $A610, ToDoList!$R:$R, C$2))","v":""},{"$f":"IF($A610 = \"\", \"\", COUNTIFS(ToDoList!$B:$B, $A610, ToDoList!$R:$R, D$2))","v":""},{"$f":"IF($A610 = \"\", \"\", COUNTIFS(ToDoList!$B:$B, $A610, ToDoList!$R:$R, E$2))","v":""},{"$f":"IF($A610 = \"\", \"\", COUNTIFS(ToDoList!$B:$B, $A610, ToDoList!$R:$R, F$2))","v":""},{"$f":"IF($A610 = \"\", \"\", COUNTIFS(ToDoList!$B:$B, $A610, ToDoList!$R:$R, G$2))","v":""},{"$f":"IF($A610 = \"\", \"\", COUNTIFS(ToDoList!$B:$B, $A610, ToDoList!$R:$R, H$2))","v":""},{"$f":"IF($A610 = \"\", \"\", COUNTIFS(ToDoList!$B:$B, $A610, ToDoList!$R:$R, I$2))","v":""},{"$f":"IF($A610 = \"\", \"\", COUNTIFS(ToDoList!$B:$B, $A610, ToDoList!$R:$R, J$2))","v":""}]
[null,{"$f":"IF($A611 = \"\", \"\", COUNTIFS(ToDoList!$B:$B, $A611, ToDoList!$R:$R, B$2))","v":""},{"$f":"IF($A611 = \"\", \"\", COUNTIFS(ToDoList!$B:$B, $A611, ToDoList!$R:$R, C$2))","v":""},{"$f":"IF($A611 = \"\", \"\", COUNTIFS(ToDoList!$B:$B, $A611, ToDoList!$R:$R, D$2))","v":""},{"$f":"IF($A611 = \"\", \"\", COUNTIFS(ToDoList!$B:$B, $A611, ToDoList!$R:$R, E$2))","v":""},{"$f":"IF($A611 = \"\", \"\", COUNTIFS(ToDoList!$B:$B, $A611, ToDoList!$R:$R, F$2))","v":""},{"$f":"IF($A611 = \"\", \"\", COUNTIFS(ToDoList!$B:$B, $A611, ToDoList!$R:$R, G$2))","v":""},{"$f":"IF($A611 = \"\", \"\", COUNTIFS(ToDoList!$B:$B, $A611, ToDoList!$R:$R, H$2))","v":""},{"$f":"IF($A611 = \"\", \"\", COUNTIFS(ToDoList!$B:$B, $A611, ToDoList!$R:$R, I$2))","v":""},{"$f":"IF($A611 = \"\", \"\", COUNTIFS(ToDoList!$B:$B, $A611, ToDoList!$R:$R, J$2))","v":""}]
[null,{"$f":"IF($A612 = \"\", \"\", COUNTIFS(ToDoList!$B:$B, $A612, ToDoList!$R:$R, B$2))","v":""},{"$f":"IF($A612 = \"\", \"\", COUNTIFS(ToDoList!$B:$B, $A612, ToDoList!$R:$R, C$2))","v":""},{"$f":"IF($A612 = \"\", \"\", COUNTIFS(ToDoList!$B:$B, $A612, ToDoList!$R:$R, D$2))","v":""},{"$f":"IF($A612 = \"\", \"\", COUNTIFS(ToDoList!$B:$B, $A612, ToDoList!$R:$R, E$2))","v":""},{"$f":"IF($A612 = \"\", \"\", COUNTIFS(ToDoList!$B:$B, $A612, ToDoList!$R:$R, F$2))","v":""},{"$f":"IF($A612 = \"\", \"\", COUNTIFS(ToDoList!$B:$B, $A612, ToDoList!$R:$R, G$2))","v":""},{"$f":"IF($A612 = \"\", \"\", COUNTIFS(ToDoList!$B:$B, $A612, ToDoList!$R:$R, H$2))","v":""},{"$f":"IF($A612 = \"\", \"\", COUNTIFS(ToDoList!$B:$B, $A612, ToDoList!$R:$R, I$2))","v":""},{"$f":"IF($A612 = \"\", \"\", COUNTIFS(ToDoList!$B:$B, $A612, ToDoList!$R:$R, J$2))","v":""}]
[null,{"$f":"IF($A613 = \"\", \"\", COUNTIFS(ToDoList!$B:$B, $A613, ToDoList!$R:$R, B$2))","v":""},{"$f":"IF($A613 = \"\", \"\", COUNTIFS(ToDoList!$B:$B, $A613, ToDoList!$R:$R, C$2))","v":""},{"$f":"IF($A613 = \"\", \"\", COUNTIFS(ToDoList!$B:$B, $A613, ToDoList!$R:$R, D$2))","v":""},{"$f":"IF($A613 = \"\", \"\", COUNTIFS(ToDoList!$B:$B, $A613, ToDoList!$R:$R, E$2))","v":""},{"$f":"IF($A613 = \"\", \"\", COUNTIFS(ToDoList!$B:$B, $A613, ToDoList!$R:$R, F$2))","v":""},{"$f":"IF($A613 = \"\", \"\", COUNTIFS(ToDoList!$B:$B, $A613, ToDoList!$R:$R, G$2))","v":""},{"$f":"IF($A613 = \"\", \"\", COUNTIFS(ToDoList!$B:$B, $A613, ToDoList!$R:$R, H$2))","v":""},{"$f":"IF($A613 = \"\", \"\", COUNTIFS(ToDoList!$B:$B, $A613, ToDoList!$R:$R, I$2))","v":""},{"$f":"IF($A613 = \"\", \"\", COUNTIFS(ToDoList!$B:$B, $A613, ToDoList!$R:$R, J$2))","v":""}]
[null,{"$f":"IF($A614 = \"\", \"\", COUNTIFS(ToDoList!$B:$B, $A614, ToDoList!$R:$R, B$2))","v":""},{"$f":"IF($A614 = \"\", \"\", COUNTIFS(ToDoList!$B:$B, $A614, ToDoList!$R:$R, C$2))","v":""},{"$f":"IF($A614 = \"\", \"\", COUNTIFS(ToDoList!$B:$B, $A614, ToDoList!$R:$R, D$2))","v":""},{"$f":"IF($A614 = \"\", \"\", COUNTIFS(ToDoList!$B:$B, $A614, ToDoList!$R:$R, E$2))","v":""},{"$f":"IF($A614 = \"\", \"\", COUNTIFS(ToDoList!$B:$B, $A614, ToDoList!$R:$R, F$2))","v":""},{"$f":"IF($A614 = \"\", \"\", COUNTIFS(ToDoList!$B:$B, $A614, ToDoList!$R:$R, G$2))","v":""},{"$f":"IF($A614 = \"\", \"\", COUNTIFS(ToDoList!$B:$B, $A614, ToDoList!$R:$R, H$2))","v":""},{"$f":"IF($A614 = \"\", \"\", COUNTIFS(ToDoList!$B:$B, $A614, ToDoList!$R:$R, I$2))","v":""},{"$f":"IF($A614 = \"\", \"\", COUNTIFS(ToDoList!$B:$B, $A614, ToDoList!$R:$R, J$2))","v":""}]
[null,{"$f":"IF($A615 = \"\", \"\", COUNTIFS(ToDoList!$B:$B, $A615, ToDoList!$R:$R, B$2))","v":""},{"$f":"IF($A615 = \"\", \"\", COUNTIFS(ToDoList!$B:$B, $A615, ToDoList!$R:$R, C$2))","v":""},{"$f":"IF($A615 = \"\", \"\", COUNTIFS(ToDoList!$B:$B, $A615, ToDoList!$R:$R, D$2))","v":""},{"$f":"IF($A615 = \"\", \"\", COUNTIFS(ToDoList!$B:$B, $A615, ToDoList!$R:$R, E$2))","v":""},{"$f":"IF($A615 = \"\", \"\", COUNTIFS(ToDoList!$B:$B, $A615, ToDoList!$R:$R, F$2))","v":""},{"$f":"IF($A615 = \"\", \"\", COUNTIFS(ToDoList!$B:$B, $A615, ToDoList!$R:$R, G$2))","v":""},{"$f":"IF($A615 = \"\", \"\", COUNTIFS(ToDoList!$B:$B, $A615, ToDoList!$R:$R, H$2))","v":""},{"$f":"IF($A615 = \"\", \"\", COUNTIFS(ToDoList!$B:$B, $A615, ToDoList!$R:$R, I$2))","v":""},{"$f":"IF($A615 = \"\", \"\", COUNTIFS(ToDoList!$B:$B, $A615, ToDoList!$R:$R, J$2))","v":""}]
[null,{"$f":"IF($A616 = \"\", \"\", COUNTIFS(ToDoList!$B:$B, $A616, ToDoList!$R:$R, B$2))","v":""},{"$f":"IF($A616 = \"\", \"\", COUNTIFS(ToDoList!$B:$B, $A616, ToDoList!$R:$R, C$2))","v":""},{"$f":"IF($A616 = \"\", \"\", COUNTIFS(ToDoList!$B:$B, $A616, ToDoList!$R:$R, D$2))","v":""},{"$f":"IF($A616 = \"\", \"\", COUNTIFS(ToDoList!$B:$B, $A616, ToDoList!$R:$R, E$2))","v":""},{"$f":"IF($A616 = \"\", \"\", COUNTIFS(ToDoList!$B:$B, $A616, ToDoList!$R:$R, F$2))","v":""},{"$f":"IF($A616 = \"\", \"\", COUNTIFS(ToDoList!$B:$B, $A616, ToDoList!$R:$R, G$2))","v":""},{"$f":"IF($A616 = \"\", \"\", COUNTIFS(ToDoList!$B:$B, $A616, ToDoList!$R:$R, H$2))","v":""},{"$f":"IF($A616 = \"\", \"\", COUNTIFS(ToDoList!$B:$B, $A616, ToDoList!$R:$R, I$2))","v":""},{"$f":"IF($A616 = \"\", \"\", COUNTIFS(ToDoList!$B:$B, $A616, ToDoList!$R:$R, J$2))","v":""}]
[null,{"$f":"IF($A617 = \"\", \"\", COUNTIFS(ToDoList!$B:$B, $A617, ToDoList!$R:$R, B$2))","v":""},{"$f":"IF($A617 = \"\", \"\", COUNTIFS(ToDoList!$B:$B, $A617, ToDoList!$R:$R, C$2))","v":""},{"$f":"IF($A617 = \"\", \"\", COUNTIFS(ToDoList!$B:$B, $A617, ToDoList!$R:$R, D$2))","v":""},{"$f":"IF($A617 = \"\", \"\", COUNTIFS(ToDoList!$B:$B, $A617, ToDoList!$R:$R, E$2))","v":""},{"$f":"IF($A617 = \"\", \"\", COUNTIFS(ToDoList!$B:$B, $A617, ToDoList!$R:$R, F$2))","v":""},{"$f":"IF($A617 = \"\", \"\", COUNTIFS(ToDoList!$B:$B, $A617, ToDoList!$R:$R, G$2))","v":""},{"$f":"IF($A617 = \"\", \"\", COUNTIFS(ToDoList!$B:$B, $A617, ToDoList!$R:$R, H$2))","v":""},{"$f":"IF($A617 = \"\", \"\", COUNTIFS(ToDoList!$B:$B, $A617, ToDoList!$R:$R, I$2))","v":""},{"$f":"IF($A617 = \"\", \"\", COUNTIFS(ToDoList!$B:$B, $A617, ToDoList!$R:$R, J$2))","v":""}]
[null,{"$f":"IF($A618 = \"\", \"\", COUNTIFS(ToDoList!$B:$B, $A618, ToDoList!$R:$R, B$2))","v":""},{"$f":"IF($A618 = \"\", \"\", COUNTIFS(ToDoList!$B:$B, $A618, ToDoList!$R:$R, C$2))","v":""},{"$f":"IF($A618 = \"\", \"\", COUNTIFS(ToDoList!$B:$B, $A618, ToDoList!$R:$R, D$2))","v":""},{"$f":"IF($A618 = \"\", \"\", COUNTIFS(ToDoList!$B:$B, $A618, ToDoList!$R:$R, E$2))","v":""},{"$f":"IF($A618 = \"\", \"\", COUNTIFS(ToDoList!$B:$B, $A618, ToDoList!$R:$R, F$2))","v":""},{"$f":"IF($A618 = \"\", \"\", COUNTIFS(ToDoList!$B:$B, $A618, ToDoList!$R:$R, G$2))","v":""},{"$f":"IF($A618 = \"\", \"\", COUNTIFS(ToDoList!$B:$B, $A618, ToDoList!$R:$R, H$2))","v":""},{"$f":"IF($A618 = \"\", \"\", COUNTIFS(ToDoList!$B:$B, $A618, ToDoList!$R:$R, I$2))","v":""},{"$f":"IF($A618 = \"\", \"\", COUNTIFS(ToDoList!$B:$B, $A618, ToDoList!$R:$R, J$2))","v":""}]
[null,{"$f":"IF($A619 = \"\", \"\", COUNTIFS(ToDoList!$B:$B, $A619, ToDoList!$R:$R, B$2))","v":""},{"$f":"IF($A619 = \"\", \"\", COUNTIFS(ToDoList!$B:$B, $A619, ToDoList!$R:$R, C$2))","v":""},{"$f":"IF($A619 = \"\", \"\", COUNTIFS(ToDoList!$B:$B, $A619, ToDoList!$R:$R, D$2))","v":""},{"$f":"IF($A619 = \"\", \"\", COUNTIFS(ToDoList!$B:$B, $A619, ToDoList!$R:$R, E$2))","v":""},{"$f":"IF($A619 = \"\", \"\", COUNTIFS(ToDoList!$B:$B, $A619, ToDoList!$R:$R, F$2))","v":""},{"$f":"IF($A619 = \"\", \"\", COUNTIFS(ToDoList!$B:$B, $A619, ToDoList!$R:$R, G$2))","v":""},{"$f":"IF($A619 = \"\", \"\", COUNTIFS(ToDoList!$B:$B, $A619, ToDoList!$R:$R, H$2))","v":""},{"$f":"IF($A619 = \"\", \"\", COUNTIFS(ToDoList!$B:$B, $A619, ToDoList!$R:$R, I$2))","v":""},{"$f":"IF($A619 = \"\", \"\", COUNTIFS(ToDoList!$B:$B, $A619, ToDoList!$R:$R, J$2))","v":""}]
[null,{"$f":"IF($A620 = \"\", \"\", COUNTIFS(ToDoList!$B:$B, $A620, ToDoList!$R:$R, B$2))","v":""},{"$f":"IF($A620 = \"\", \"\", COUNTIFS(ToDoList!$B:$B, $A620, ToDoList!$R:$R, C$2))","v":""},{"$f":"IF($A620 = \"\", \"\", COUNTIFS(ToDoList!$B:$B, $A620, ToDoList!$R:$R, D$2))","v":""},{"$f":"IF($A620 = \"\", \"\", COUNTIFS(ToDoList!$B:$B, $A620, ToDoList!$R:$R, E$2))","v":""},{"$f":"IF($A620 = \"\", \"\", COUNTIFS(ToDoList!$B:$B, $A620, ToDoList!$R:$R, F$2))","v":""},{"$f":"IF($A620 = \"\", \"\", COUNTIFS(ToDoList!$B:$B, $A620, ToDoList!$R:$R, G$2))","v":""},{"$f":"IF($A620 = \"\", \"\", COUNTIFS(ToDoList!$B:$B, $A620, ToDoList!$R:$R, H$2))","v":""},{"$f":"IF($A620 = \"\", \"\", COUNTIFS(ToDoList!$B:$B, $A620, ToDoList!$R:$R, I$2))","v":""},{"$f":"IF($A620 = \"\", \"\", COUNTIFS(ToDoList!$B:$B, $A620, ToDoList!$R:$R, J$2))","v":""}]
[null,{"$f":"IF($A621 = \"\", \"\", COUNTIFS(ToDoList!$B:$B, $A621, ToDoList!$R:$R, B$2))","v":""},{"$f":"IF($A621 = \"\", \"\", COUNTIFS(ToDoList!$B:$B, $A621, ToDoList!$R:$R, C$2))","v":""},{"$f":"IF($A621 = \"\", \"\", COUNTIFS(ToDoList!$B:$B, $A621, ToDoList!$R:$R, D$2))","v":""},{"$f":"IF($A621 = \"\", \"\", COUNTIFS(ToDoList!$B:$B, $A621, ToDoList!$R:$R, E$2))","v":""},{"$f":"IF($A621 = \"\", \"\", COUNTIFS(ToDoList!$B:$B, $A621, ToDoList!$R:$R, F$2))","v":""},{"$f":"IF($A621 = \"\", \"\", COUNTIFS(ToDoList!$B:$B, $A621, ToDoList!$R:$R, G$2))","v":""},{"$f":"IF($A621 = \"\", \"\", COUNTIFS(ToDoList!$B:$B, $A621, ToDoList!$R:$R, H$2))","v":""},{"$f":"IF($A621 = \"\", \"\", COUNTIFS(ToDoList!$B:$B, $A621, ToDoList!$R:$R, I$2))","v":""},{"$f":"IF($A621 = \"\", \"\", COUNTIFS(ToDoList!$B:$B, $A621, ToDoList!$R:$R, J$2))","v":""}]
[null,{"$f":"IF($A622 = \"\", \"\", COUNTIFS(ToDoList!$B:$B, $A622, ToDoList!$R:$R, B$2))","v":""},{"$f":"IF($A622 = \"\", \"\", COUNTIFS(ToDoList!$B:$B, $A622, ToDoList!$R:$R, C$2))","v":""},{"$f":"IF($A622 = \"\", \"\", COUNTIFS(ToDoList!$B:$B, $A622, ToDoList!$R:$R, D$2))","v":""},{"$f":"IF($A622 = \"\", \"\", COUNTIFS(ToDoList!$B:$B, $A622, ToDoList!$R:$R, E$2))","v":""},{"$f":"IF($A622 = \"\", \"\", COUNTIFS(ToDoList!$B:$B, $A622, ToDoList!$R:$R, F$2))","v":""},{"$f":"IF($A622 = \"\", \"\", COUNTIFS(ToDoList!$B:$B, $A622, ToDoList!$R:$R, G$2))","v":""},{"$f":"IF($A622 = \"\", \"\", COUNTIFS(ToDoList!$B:$B, $A622, ToDoList!$R:$R, H$2))","v":""},{"$f":"IF($A622 = \"\", \"\", COUNTIFS(ToDoList!$B:$B, $A622, ToDoList!$R:$R, I$2))","v":""},{"$f":"IF($A622 = \"\", \"\", COUNTIFS(ToDoList!$B:$B, $A622, ToDoList!$R:$R, J$2))","v":""}]
[null,{"$f":"IF($A623 = \"\", \"\", COUNTIFS(ToDoList!$B:$B, $A623, ToDoList!$R:$R, B$2))","v":""},{"$f":"IF($A623 = \"\", \"\", COUNTIFS(ToDoList!$B:$B, $A623, ToDoList!$R:$R, C$2))","v":""},{"$f":"IF($A623 = \"\", \"\", COUNTIFS(ToDoList!$B:$B, $A623, ToDoList!$R:$R, D$2))","v":""},{"$f":"IF($A623 = \"\", \"\", COUNTIFS(ToDoList!$B:$B, $A623, ToDoList!$R:$R, E$2))","v":""},{"$f":"IF($A623 = \"\", \"\", COUNTIFS(ToDoList!$B:$B, $A623, ToDoList!$R:$R, F$2))","v":""},{"$f":"IF($A623 = \"\", \"\", COUNTIFS(ToDoList!$B:$B, $A623, ToDoList!$R:$R, G$2))","v":""},{"$f":"IF($A623 = \"\", \"\", COUNTIFS(ToDoList!$B:$B, $A623, ToDoList!$R:$R, H$2))","v":""},{"$f":"IF($A623 = \"\", \"\", COUNTIFS(ToDoList!$B:$B, $A623, ToDoList!$R:$R, I$2))","v":""},{"$f":"IF($A623 = \"\", \"\", COUNTIFS(ToDoList!$B:$B, $A623, ToDoList!$R:$R, J$2))","v":""}]
[null,{"$f":"IF($A624 = \"\", \"\", COUNTIFS(ToDoList!$B:$B, $A624, ToDoList!$R:$R, B$2))","v":""},{"$f":"IF($A624 = \"\", \"\", COUNTIFS(ToDoList!$B:$B, $A624, ToDoList!$R:$R, C$2))","v":""},{"$f":"IF($A624 = \"\", \"\", COUNTIFS(ToDoList!$B:$B, $A624, ToDoList!$R:$R, D$2))","v":""},{"$f":"IF($A624 = \"\", \"\", COUNTIFS(ToDoList!$B:$B, $A624, ToDoList!$R:$R, E$2))","v":""},{"$f":"IF($A624 = \"\", \"\", COUNTIFS(ToDoList!$B:$B, $A624, ToDoList!$R:$R, F$2))","v":""},{"$f":"IF($A624 = \"\", \"\", COUNTIFS(ToDoList!$B:$B, $A624, ToDoList!$R:$R, G$2))","v":""},{"$f":"IF($A624 = \"\", \"\", COUNTIFS(ToDoList!$B:$B, $A624, ToDoList!$R:$R, H$2))","v":""},{"$f":"IF($A624 = \"\", \"\", COUNTIFS(ToDoList!$B:$B, $A624, ToDoList!$R:$R, I$2))","v":""},{"$f":"IF($A624 = \"\", \"\", COUNTIFS(ToDoList!$B:$B, $A624, ToDoList!$R:$R, J$2))","v":""}]
[null,{"$f":"IF($A625 = \"\", \"\", COUNTIFS(ToDoList!$B:$B, $A625, ToDoList!$R:$R, B$2))","v":""},{"$f":"IF($A625 = \"\", \"\", COUNTIFS(ToDoList!$B:$B, $A625, ToDoList!$R:$R, C$2))","v":""},{"$f":"IF($A625 = \"\", \"\", COUNTIFS(ToDoList!$B:$B, $A625, ToDoList!$R:$R, D$2))","v":""},{"$f":"IF($A625 = \"\", \"\", COUNTIFS(ToDoList!$B:$B, $A625, ToDoList!$R:$R, E$2))","v":""},{"$f":"IF($A625 = \"\", \"\", COUNTIFS(ToDoList!$B:$B, $A625, ToDoList!$R:$R, F$2))","v":""},{"$f":"IF($A625 = \"\", \"\", COUNTIFS(ToDoList!$B:$B, $A625, ToDoList!$R:$R, G$2))","v":""},{"$f":"IF($A625 = \"\", \"\", COUNTIFS(ToDoList!$B:$B, $A625, ToDoList!$R:$R, H$2))","v":""},{"$f":"IF($A625 = \"\", \"\", COUNTIFS(ToDoList!$B:$B, $A625, ToDoList!$R:$R, I$2))","v":""},{"$f":"IF($A625 = \"\", \"\", COUNTIFS(ToDoList!$B:$B, $A625, ToDoList!$R:$R, J$2))","v":""}]
[null,{"$f":"IF($A626 = \"\", \"\", COUNTIFS(ToDoList!$B:$B, $A626, ToDoList!$R:$R, B$2))","v":""},{"$f":"IF($A626 = \"\", \"\", COUNTIFS(ToDoList!$B:$B, $A626, ToDoList!$R:$R, C$2))","v":""},{"$f":"IF($A626 = \"\", \"\", COUNTIFS(ToDoList!$B:$B, $A626, ToDoList!$R:$R, D$2))","v":""},{"$f":"IF($A626 = \"\", \"\", COUNTIFS(ToDoList!$B:$B, $A626, ToDoList!$R:$R, E$2))","v":""},{"$f":"IF($A626 = \"\", \"\", COUNTIFS(ToDoList!$B:$B, $A626, ToDoList!$R:$R, F$2))","v":""},{"$f":"IF($A626 = \"\", \"\", COUNTIFS(ToDoList!$B:$B, $A626, ToDoList!$R:$R, G$2))","v":""},{"$f":"IF($A626 = \"\", \"\", COUNTIFS(ToDoList!$B:$B, $A626, ToDoList!$R:$R, H$2))","v":""},{"$f":"IF($A626 = \"\", \"\", COUNTIFS(ToDoList!$B:$B, $A626, ToDoList!$R:$R, I$2))","v":""},{"$f":"IF($A626 = \"\", \"\", COUNTIFS(ToDoList!$B:$B, $A626, ToDoList!$R:$R, J$2))","v":""}]
[null,{"$f":"IF($A627 = \"\", \"\", COUNTIFS(ToDoList!$B:$B, $A627, ToDoList!$R:$R, B$2))","v":""},{"$f":"IF($A627 = \"\", \"\", COUNTIFS(ToDoList!$B:$B, $A627, ToDoList!$R:$R, C$2))","v":""},{"$f":"IF($A627 = \"\", \"\", COUNTIFS(ToDoList!$B:$B, $A627, ToDoList!$R:$R, D$2))","v":""},{"$f":"IF($A627 = \"\", \"\", COUNTIFS(ToDoList!$B:$B, $A627, ToDoList!$R:$R, E$2))","v":""},{"$f":"IF($A627 = \"\", \"\", COUNTIFS(ToDoList!$B:$B, $A627, ToDoList!$R:$R, F$2))","v":""},{"$f":"IF($A627 = \"\", \"\", COUNTIFS(ToDoList!$B:$B, $A627, ToDoList!$R:$R, G$2))","v":""},{"$f":"IF($A627 = \"\", \"\", COUNTIFS(ToDoList!$B:$B, $A627, ToDoList!$R:$R, H$2))","v":""},{"$f":"IF($A627 = \"\", \"\", COUNTIFS(ToDoList!$B:$B, $A627, ToDoList!$R:$R, I$2))","v":""},{"$f":"IF($A627 = \"\", \"\", COUNTIFS(ToDoList!$B:$B, $A627, ToDoList!$R:$R, J$2))","v":""}]
[null,{"$f":"IF($A628 = \"\", \"\", COUNTIFS(ToDoList!$B:$B, $A628, ToDoList!$R:$R, B$2))","v":""},{"$f":"IF($A628 = \"\", \"\", COUNTIFS(ToDoList!$B:$B, $A628, ToDoList!$R:$R, C$2))","v":""},{"$f":"IF($A628 = \"\", \"\", COUNTIFS(ToDoList!$B:$B, $A628, ToDoList!$R:$R, D$2))","v":""},{"$f":"IF($A628 = \"\", \"\", COUNTIFS(ToDoList!$B:$B, $A628, ToDoList!$R:$R, E$2))","v":""},{"$f":"IF($A628 = \"\", \"\", COUNTIFS(ToDoList!$B:$B, $A628, ToDoList!$R:$R, F$2))","v":""},{"$f":"IF($A628 = \"\", \"\", COUNTIFS(ToDoList!$B:$B, $A628, ToDoList!$R:$R, G$2))","v":""},{"$f":"IF($A628 = \"\", \"\", COUNTIFS(ToDoList!$B:$B, $A628, ToDoList!$R:$R, H$2))","v":""},{"$f":"IF($A628 = \"\", \"\", COUNTIFS(ToDoList!$B:$B, $A628, ToDoList!$R:$R, I$2))","v":""},{"$f":"IF($A628 = \"\", \"\", COUNTIFS(ToDoList!$B:$B, $A628, ToDoList!$R:$R, J$2))","v":""}]
[null,{"$f":"IF($A629 = \"\", \"\", COUNTIFS(ToDoList!$B:$B, $A629, ToDoList!$R:$R, B$2))","v":""},{"$f":"IF($A629 = \"\", \"\", COUNTIFS(ToDoList!$B:$B, $A629, ToDoList!$R:$R, C$2))","v":""},{"$f":"IF($A629 = \"\", \"\", COUNTIFS(ToDoList!$B:$B, $A629, ToDoList!$R:$R, D$2))","v":""},{"$f":"IF($A629 = \"\", \"\", COUNTIFS(ToDoList!$B:$B, $A629, ToDoList!$R:$R, E$2))","v":""},{"$f":"IF($A629 = \"\", \"\", COUNTIFS(ToDoList!$B:$B, $A629, ToDoList!$R:$R, F$2))","v":""},{"$f":"IF($A629 = \"\", \"\", COUNTIFS(ToDoList!$B:$B, $A629, ToDoList!$R:$R, G$2))","v":""},{"$f":"IF($A629 = \"\", \"\", COUNTIFS(ToDoList!$B:$B, $A629, ToDoList!$R:$R, H$2))","v":""},{"$f":"IF($A629 = \"\", \"\", COUNTIFS(ToDoList!$B:$B, $A629, ToDoList!$R:$R, I$2))","v":""},{"$f":"IF($A629 = \"\", \"\", COUNTIFS(ToDoList!$B:$B, $A629, ToDoList!$R:$R, J$2))","v":""}]
[null,{"$f":"IF($A630 = \"\", \"\", COUNTIFS(ToDoList!$B:$B, $A630, ToDoList!$R:$R, B$2))","v":""},{"$f":"IF($A630 = \"\", \"\", COUNTIFS(ToDoList!$B:$B, $A630, ToDoList!$R:$R, C$2))","v":""},{"$f":"IF($A630 = \"\", \"\", COUNTIFS(ToDoList!$B:$B, $A630, ToDoList!$R:$R, D$2))","v":""},{"$f":"IF($A630 = \"\", \"\", COUNTIFS(ToDoList!$B:$B, $A630, ToDoList!$R:$R, E$2))","v":""},{"$f":"IF($A630 = \"\", \"\", COUNTIFS(ToDoList!$B:$B, $A630, ToDoList!$R:$R, F$2))","v":""},{"$f":"IF($A630 = \"\", \"\", COUNTIFS(ToDoList!$B:$B, $A630, ToDoList!$R:$R, G$2))","v":""},{"$f":"IF($A630 = \"\", \"\", COUNTIFS(ToDoList!$B:$B, $A630, ToDoList!$R:$R, H$2))","v":""},{"$f":"IF($A630 = \"\", \"\", COUNTIFS(ToDoList!$B:$B, $A630, ToDoList!$R:$R, I$2))","v":""},{"$f":"IF($A630 = \"\", \"\", COUNTIFS(ToDoList!$B:$B, $A630, ToDoList!$R:$R, J$2))","v":""}]
[null,{"$f":"IF($A631 = \"\", \"\", COUNTIFS(ToDoList!$B:$B, $A631, ToDoList!$R:$R, B$2))","v":""},{"$f":"IF($A631 = \"\", \"\", COUNTIFS(ToDoList!$B:$B, $A631, ToDoList!$R:$R, C$2))","v":""},{"$f":"IF($A631 = \"\", \"\", COUNTIFS(ToDoList!$B:$B, $A631, ToDoList!$R:$R, D$2))","v":""},{"$f":"IF($A631 = \"\", \"\", COUNTIFS(ToDoList!$B:$B, $A631, ToDoList!$R:$R, E$2))","v":""},{"$f":"IF($A631 = \"\", \"\", COUNTIFS(ToDoList!$B:$B, $A631, ToDoList!$R:$R, F$2))","v":""},{"$f":"IF($A631 = \"\", \"\", COUNTIFS(ToDoList!$B:$B, $A631, ToDoList!$R:$R, G$2))","v":""},{"$f":"IF($A631 = \"\", \"\", COUNTIFS(ToDoList!$B:$B, $A631, ToDoList!$R:$R, H$2))","v":""},{"$f":"IF($A631 = \"\", \"\", COUNTIFS(ToDoList!$B:$B, $A631, ToDoList!$R:$R, I$2))","v":""},{"$f":"IF($A631 = \"\", \"\", COUNTIFS(ToDoList!$B:$B, $A631, ToDoList!$R:$R, J$2))","v":""}]
[null,{"$f":"IF($A632 = \"\", \"\", COUNTIFS(ToDoList!$B:$B, $A632, ToDoList!$R:$R, B$2))","v":""},{"$f":"IF($A632 = \"\", \"\", COUNTIFS(ToDoList!$B:$B, $A632, ToDoList!$R:$R, C$2))","v":""},{"$f":"IF($A632 = \"\", \"\", COUNTIFS(ToDoList!$B:$B, $A632, ToDoList!$R:$R, D$2))","v":""},{"$f":"IF($A632 = \"\", \"\", COUNTIFS(ToDoList!$B:$B, $A632, ToDoList!$R:$R, E$2))","v":""},{"$f":"IF($A632 = \"\", \"\", COUNTIFS(ToDoList!$B:$B, $A632, ToDoList!$R:$R, F$2))","v":""},{"$f":"IF($A632 = \"\", \"\", COUNTIFS(ToDoList!$B:$B, $A632, ToDoList!$R:$R, G$2))","v":""},{"$f":"IF($A632 = \"\", \"\", COUNTIFS(ToDoList!$B:$B, $A632, ToDoList!$R:$R, H$2))","v":""},{"$f":"IF($A632 = \"\", \"\", COUNTIFS(ToDoList!$B:$B, $A632, ToDoList!$R:$R, I$2))","v":""},{"$f":"IF($A632 = \"\", \"\", COUNTIFS(ToDoList!$B:$B, $A632, ToDoList!$R:$R, J$2))","v":""}]
[null,{"$f":"IF($A633 = \"\", \"\", COUNTIFS(ToDoList!$B:$B, $A633, ToDoList!$R:$R, B$2))","v":""},{"$f":"IF($A633 = \"\", \"\", COUNTIFS(ToDoList!$B:$B, $A633, ToDoList!$R:$R, C$2))","v":""},{"$f":"IF($A633 = \"\", \"\", COUNTIFS(ToDoList!$B:$B, $A633, ToDoList!$R:$R, D$2))","v":""},{"$f":"IF($A633 = \"\", \"\", COUNTIFS(ToDoList!$B:$B, $A633, ToDoList!$R:$R, E$2))","v":""},{"$f":"IF($A633 = \"\", \"\", COUNTIFS(ToDoList!$B:$B, $A633, ToDoList!$R:$R, F$2))","v":""},{"$f":"IF($A633 = \"\", \"\", COUNTIFS(ToDoList!$B:$B, $A633, ToDoList!$R:$R, G$2))","v":""},{"$f":"IF($A633 = \"\", \"\", COUNTIFS(ToDoList!$B:$B, $A633, ToDoList!$R:$R, H$2))","v":""},{"$f":"IF($A633 = \"\", \"\", COUNTIFS(ToDoList!$B:$B, $A633, ToDoList!$R:$R, I$2))","v":""},{"$f":"IF($A633 = \"\", \"\", COUNTIFS(ToDoList!$B:$B, $A633, ToDoList!$R:$R, J$2))","v":""}]
[null,{"$f":"IF($A634 = \"\", \"\", COUNTIFS(ToDoList!$B:$B, $A634, ToDoList!$R:$R, B$2))","v":""},{"$f":"IF($A634 = \"\", \"\", COUNTIFS(ToDoList!$B:$B, $A634, ToDoList!$R:$R, C$2))","v":""},{"$f":"IF($A634 = \"\", \"\", COUNTIFS(ToDoList!$B:$B, $A634, ToDoList!$R:$R, D$2))","v":""},{"$f":"IF($A634 = \"\", \"\", COUNTIFS(ToDoList!$B:$B, $A634, ToDoList!$R:$R, E$2))","v":""},{"$f":"IF($A634 = \"\", \"\", COUNTIFS(ToDoList!$B:$B, $A634, ToDoList!$R:$R, F$2))","v":""},{"$f":"IF($A634 = \"\", \"\", COUNTIFS(ToDoList!$B:$B, $A634, ToDoList!$R:$R, G$2))","v":""},{"$f":"IF($A634 = \"\", \"\", COUNTIFS(ToDoList!$B:$B, $A634, ToDoList!$R:$R, H$2))","v":""},{"$f":"IF($A634 = \"\", \"\", COUNTIFS(ToDoList!$B:$B, $A634, ToDoList!$R:$R, I$2))","v":""},{"$f":"IF($A634 = \"\", \"\", COUNTIFS(ToDoList!$B:$B, $A634, ToDoList!$R:$R, J$2))","v":""}]
[null,{"$f":"IF($A635 = \"\", \"\", COUNTIFS(ToDoList!$B:$B, $A635, ToDoList!$R:$R, B$2))","v":""},{"$f":"IF($A635 = \"\", \"\", COUNTIFS(ToDoList!$B:$B, $A635, ToDoList!$R:$R, C$2))","v":""},{"$f":"IF($A635 = \"\", \"\", COUNTIFS(ToDoList!$B:$B, $A635, ToDoList!$R:$R, D$2))","v":""},{"$f":"IF($A635 = \"\", \"\", COUNTIFS(ToDoList!$B:$B, $A635, ToDoList!$R:$R, E$2))","v":""},{"$f":"IF($A635 = \"\", \"\", COUNTIFS(ToDoList!$B:$B, $A635, ToDoList!$R:$R, F$2))","v":""},{"$f":"IF($A635 = \"\", \"\", COUNTIFS(ToDoList!$B:$B, $A635, ToDoList!$R:$R, G$2))","v":""},{"$f":"IF($A635 = \"\", \"\", COUNTIFS(ToDoList!$B:$B, $A635, ToDoList!$R:$R, H$2))","v":""},{"$f":"IF($A635 = \"\", \"\", COUNTIFS(ToDoList!$B:$B, $A635, ToDoList!$R:$R, I$2))","v":""},{"$f":"IF($A635 = \"\", \"\", COUNTIFS(ToDoList!$B:$B, $A635, ToDoList!$R:$R, J$2))","v":""}]
[null,{"$f":"IF($A636 = \"\", \"\", COUNTIFS(ToDoList!$B:$B, $A636, ToDoList!$R:$R, B$2))","v":""},{"$f":"IF($A636 = \"\", \"\", COUNTIFS(ToDoList!$B:$B, $A636, ToDoList!$R:$R, C$2))","v":""},{"$f":"IF($A636 = \"\", \"\", COUNTIFS(ToDoList!$B:$B, $A636, ToDoList!$R:$R, D$2))","v":""},{"$f":"IF($A636 = \"\", \"\", COUNTIFS(ToDoList!$B:$B, $A636, ToDoList!$R:$R, E$2))","v":""},{"$f":"IF($A636 = \"\", \"\", COUNTIFS(ToDoList!$B:$B, $A636, ToDoList!$R:$R, F$2))","v":""},{"$f":"IF($A636 = \"\", \"\", COUNTIFS(ToDoList!$B:$B, $A636, ToDoList!$R:$R, G$2))","v":""},{"$f":"IF($A636 = \"\", \"\", COUNTIFS(ToDoList!$B:$B, $A636, ToDoList!$R:$R, H$2))","v":""},{"$f":"IF($A636 = \"\", \"\", COUNTIFS(ToDoList!$B:$B, $A636, ToDoList!$R:$R, I$2))","v":""},{"$f":"IF($A636 = \"\", \"\", COUNTIFS(ToDoList!$B:$B, $A636, ToDoList!$R:$R, J$2))","v":""}]
[null,{"$f":"IF($A637 = \"\", \"\", COUNTIFS(ToDoList!$B:$B, $A637, ToDoList!$R:$R, B$2))","v":""},{"$f":"IF($A637 = \"\", \"\", COUNTIFS(ToDoList!$B:$B, $A637, ToDoList!$R:$R, C$2))","v":""},{"$f":"IF($A637 = \"\", \"\", COUNTIFS(ToDoList!$B:$B, $A637, ToDoList!$R:$R, D$2))","v":""},{"$f":"IF($A637 = \"\", \"\", COUNTIFS(ToDoList!$B:$B, $A637, ToDoList!$R:$R, E$2))","v":""},{"$f":"IF($A637 = \"\", \"\", COUNTIFS(ToDoList!$B:$B, $A637, ToDoList!$R:$R, F$2))","v":""},{"$f":"IF($A637 = \"\", \"\", COUNTIFS(ToDoList!$B:$B, $A637, ToDoList!$R:$R, G$2))","v":""},{"$f":"IF($A637 = \"\", \"\", COUNTIFS(ToDoList!$B:$B, $A637, ToDoList!$R:$R, H$2))","v":""},{"$f":"IF($A637 = \"\", \"\", COUNTIFS(ToDoList!$B:$B, $A637, ToDoList!$R:$R, I$2))","v":""},{"$f":"IF($A637 = \"\", \"\", COUNTIFS(ToDoList!$B:$B, $A637, ToDoList!$R:$R, J$2))","v":""}]
[null,{"$f":"IF($A638 = \"\", \"\", COUNTIFS(ToDoList!$B:$B, $A638, ToDoList!$R:$R, B$2))","v":""},{"$f":"IF($A638 = \"\", \"\", COUNTIFS(ToDoList!$B:$B, $A638, ToDoList!$R:$R, C$2))","v":""},{"$f":"IF($A638 = \"\", \"\", COUNTIFS(ToDoList!$B:$B, $A638, ToDoList!$R:$R, D$2))","v":""},{"$f":"IF($A638 = \"\", \"\", COUNTIFS(ToDoList!$B:$B, $A638, ToDoList!$R:$R, E$2))","v":""},{"$f":"IF($A638 = \"\", \"\", COUNTIFS(ToDoList!$B:$B, $A638, ToDoList!$R:$R, F$2))","v":""},{"$f":"IF($A638 = \"\", \"\", COUNTIFS(ToDoList!$B:$B, $A638, ToDoList!$R:$R, G$2))","v":""},{"$f":"IF($A638 = \"\", \"\", COUNTIFS(ToDoList!$B:$B, $A638, ToDoList!$R:$R, H$2))","v":""},{"$f":"IF($A638 = \"\", \"\", COUNTIFS(ToDoList!$B:$B, $A638, ToDoList!$R:$R, I$2))","v":""},{"$f":"IF($A638 = \"\", \"\", COUNTIFS(ToDoList!$B:$B, $A638, ToDoList!$R:$R, J$2))","v":""}]
[null,{"$f":"IF($A639 = \"\", \"\", COUNTIFS(ToDoList!$B:$B, $A639, ToDoList!$R:$R, B$2))","v":""},{"$f":"IF($A639 = \"\", \"\", COUNTIFS(ToDoList!$B:$B, $A639, ToDoList!$R:$R, C$2))","v":""},{"$f":"IF($A639 = \"\", \"\", COUNTIFS(ToDoList!$B:$B, $A639, ToDoList!$R:$R, D$2))","v":""},{"$f":"IF($A639 = \"\", \"\", COUNTIFS(ToDoList!$B:$B, $A639, ToDoList!$R:$R, E$2))","v":""},{"$f":"IF($A639 = \"\", \"\", COUNTIFS(ToDoList!$B:$B, $A639, ToDoList!$R:$R, F$2))","v":""},{"$f":"IF($A639 = \"\", \"\", COUNTIFS(ToDoList!$B:$B, $A639, ToDoList!$R:$R, G$2))","v":""},{"$f":"IF($A639 = \"\", \"\", COUNTIFS(ToDoList!$B:$B, $A639, ToDoList!$R:$R, H$2))","v":""},{"$f":"IF($A639 = \"\", \"\", COUNTIFS(ToDoList!$B:$B, $A639, ToDoList!$R:$R, I$2))","v":""},{"$f":"IF($A639 = \"\", \"\", COUNTIFS(ToDoList!$B:$B, $A639, ToDoList!$R:$R, J$2))","v":""}]
[null,{"$f":"IF($A640 = \"\", \"\", COUNTIFS(ToDoList!$B:$B, $A640, ToDoList!$R:$R, B$2))","v":""},{"$f":"IF($A640 = \"\", \"\", COUNTIFS(ToDoList!$B:$B, $A640, ToDoList!$R:$R, C$2))","v":""},{"$f":"IF($A640 = \"\", \"\", COUNTIFS(ToDoList!$B:$B, $A640, ToDoList!$R:$R, D$2))","v":""},{"$f":"IF($A640 = \"\", \"\", COUNTIFS(ToDoList!$B:$B, $A640, ToDoList!$R:$R, E$2))","v":""},{"$f":"IF($A640 = \"\", \"\", COUNTIFS(ToDoList!$B:$B, $A640, ToDoList!$R:$R, F$2))","v":""},{"$f":"IF($A640 = \"\", \"\", COUNTIFS(ToDoList!$B:$B, $A640, ToDoList!$R:$R, G$2))","v":""},{"$f":"IF($A640 = \"\", \"\", COUNTIFS(ToDoList!$B:$B, $A640, ToDoList!$R:$R, H$2))","v":""},{"$f":"IF($A640 = \"\", \"\", COUNTIFS(ToDoList!$B:$B, $A640, ToDoList!$R:$R, I$2))","v":""},{"$f":"IF($A640 = \"\", \"\", COUNTIFS(ToDoList!$B:$B, $A640, ToDoList!$R:$R, J$2))","v":""}]
[null,{"$f":"IF($A641 = \"\", \"\", COUNTIFS(ToDoList!$B:$B, $A641, ToDoList!$R:$R, B$2))","v":""},{"$f":"IF($A641 = \"\", \"\", COUNTIFS(ToDoList!$B:$B, $A641, ToDoList!$R:$R, C$2))","v":""},{"$f":"IF($A641 = \"\", \"\", COUNTIFS(ToDoList!$B:$B, $A641, ToDoList!$R:$R, D$2))","v":""},{"$f":"IF($A641 = \"\", \"\", COUNTIFS(ToDoList!$B:$B, $A641, ToDoList!$R:$R, E$2))","v":""},{"$f":"IF($A641 = \"\", \"\", COUNTIFS(ToDoList!$B:$B, $A641, ToDoList!$R:$R, F$2))","v":""},{"$f":"IF($A641 = \"\", \"\", COUNTIFS(ToDoList!$B:$B, $A641, ToDoList!$R:$R, G$2))","v":""},{"$f":"IF($A641 = \"\", \"\", COUNTIFS(ToDoList!$B:$B, $A641, ToDoList!$R:$R, H$2))","v":""},{"$f":"IF($A641 = \"\", \"\", COUNTIFS(ToDoList!$B:$B, $A641, ToDoList!$R:$R, I$2))","v":""},{"$f":"IF($A641 = \"\", \"\", COUNTIFS(ToDoList!$B:$B, $A641, ToDoList!$R:$R, J$2))","v":""}]
[null,{"$f":"IF($A642 = \"\", \"\", COUNTIFS(ToDoList!$B:$B, $A642, ToDoList!$R:$R, B$2))","v":""},{"$f":"IF($A642 = \"\", \"\", COUNTIFS(ToDoList!$B:$B, $A642, ToDoList!$R:$R, C$2))","v":""},{"$f":"IF($A642 = \"\", \"\", COUNTIFS(ToDoList!$B:$B, $A642, ToDoList!$R:$R, D$2))","v":""},{"$f":"IF($A642 = \"\", \"\", COUNTIFS(ToDoList!$B:$B, $A642, ToDoList!$R:$R, E$2))","v":""},{"$f":"IF($A642 = \"\", \"\", COUNTIFS(ToDoList!$B:$B, $A642, ToDoList!$R:$R, F$2))","v":""},{"$f":"IF($A642 = \"\", \"\", COUNTIFS(ToDoList!$B:$B, $A642, ToDoList!$R:$R, G$2))","v":""},{"$f":"IF($A642 = \"\", \"\", COUNTIFS(ToDoList!$B:$B, $A642, ToDoList!$R:$R, H$2))","v":""},{"$f":"IF($A642 = \"\", \"\", COUNTIFS(ToDoList!$B:$B, $A642, ToDoList!$R:$R, I$2))","v":""},{"$f":"IF($A642 = \"\", \"\", COUNTIFS(ToDoList!$B:$B, $A642, ToDoList!$R:$R, J$2))","v":""}]
[null,{"$f":"IF($A643 = \"\", \"\", COUNTIFS(ToDoList!$B:$B, $A643, ToDoList!$R:$R, B$2))","v":""},{"$f":"IF($A643 = \"\", \"\", COUNTIFS(ToDoList!$B:$B, $A643, ToDoList!$R:$R, C$2))","v":""},{"$f":"IF($A643 = \"\", \"\", COUNTIFS(ToDoList!$B:$B, $A643, ToDoList!$R:$R, D$2))","v":""},{"$f":"IF($A643 = \"\", \"\", COUNTIFS(ToDoList!$B:$B, $A643, ToDoList!$R:$R, E$2))","v":""},{"$f":"IF($A643 = \"\", \"\", COUNTIFS(ToDoList!$B:$B, $A643, ToDoList!$R:$R, F$2))","v":""},{"$f":"IF($A643 = \"\", \"\", COUNTIFS(ToDoList!$B:$B, $A643, ToDoList!$R:$R, G$2))","v":""},{"$f":"IF($A643 = \"\", \"\", COUNTIFS(ToDoList!$B:$B, $A643, ToDoList!$R:$R, H$2))","v":""},{"$f":"IF($A643 = \"\", \"\", COUNTIFS(ToDoList!$B:$B, $A643, ToDoList!$R:$R, I$2))","v":""},{"$f":"IF($A643 = \"\", \"\", COUNTIFS(ToDoList!$B:$B, $A643, ToDoList!$R:$R, J$2))","v":""}]
[null,{"$f":"IF($A644 = \"\", \"\", COUNTIFS(ToDoList!$B:$B, $A644, ToDoList!$R:$R, B$2))","v":""},{"$f":"IF($A644 = \"\", \"\", COUNTIFS(ToDoList!$B:$B, $A644, ToDoList!$R:$R, C$2))","v":""},{"$f":"IF($A644 = \"\", \"\", COUNTIFS(ToDoList!$B:$B, $A644, ToDoList!$R:$R, D$2))","v":""},{"$f":"IF($A644 = \"\", \"\", COUNTIFS(ToDoList!$B:$B, $A644, ToDoList!$R:$R, E$2))","v":""},{"$f":"IF($A644 = \"\", \"\", COUNTIFS(ToDoList!$B:$B, $A644, ToDoList!$R:$R, F$2))","v":""},{"$f":"IF($A644 = \"\", \"\", COUNTIFS(ToDoList!$B:$B, $A644, ToDoList!$R:$R, G$2))","v":""},{"$f":"IF($A644 = \"\", \"\", COUNTIFS(ToDoList!$B:$B, $A644, ToDoList!$R:$R, H$2))","v":""},{"$f":"IF($A644 = \"\", \"\", COUNTIFS(ToDoList!$B:$B, $A644, ToDoList!$R:$R, I$2))","v":""},{"$f":"IF($A644 = \"\", \"\", COUNTIFS(ToDoList!$B:$B, $A644, ToDoList!$R:$R, J$2))","v":""}]
[null,{"$f":"IF($A645 = \"\", \"\", COUNTIFS(ToDoList!$B:$B, $A645, ToDoList!$R:$R, B$2))","v":""},{"$f":"IF($A645 = \"\", \"\", COUNTIFS(ToDoList!$B:$B, $A645, ToDoList!$R:$R, C$2))","v":""},{"$f":"IF($A645 = \"\", \"\", COUNTIFS(ToDoList!$B:$B, $A645, ToDoList!$R:$R, D$2))","v":""},{"$f":"IF($A645 = \"\", \"\", COUNTIFS(ToDoList!$B:$B, $A645, ToDoList!$R:$R, E$2))","v":""},{"$f":"IF($A645 = \"\", \"\", COUNTIFS(ToDoList!$B:$B, $A645, ToDoList!$R:$R, F$2))","v":""},{"$f":"IF($A645 = \"\", \"\", COUNTIFS(ToDoList!$B:$B, $A645, ToDoList!$R:$R, G$2))","v":""},{"$f":"IF($A645 = \"\", \"\", COUNTIFS(ToDoList!$B:$B, $A645, ToDoList!$R:$R, H$2))","v":""},{"$f":"IF($A645 = \"\", \"\", COUNTIFS(ToDoList!$B:$B, $A645, ToDoList!$R:$R, I$2))","v":""},{"$f":"IF($A645 = \"\", \"\", COUNTIFS(ToDoList!$B:$B, $A645, ToDoList!$R:$R, J$2))","v":""}]
[null,{"$f":"IF($A646 = \"\", \"\", COUNTIFS(ToDoList!$B:$B, $A646, ToDoList!$R:$R, B$2))","v":""},{"$f":"IF($A646 = \"\", \"\", COUNTIFS(ToDoList!$B:$B, $A646, ToDoList!$R:$R, C$2))","v":""},{"$f":"IF($A646 = \"\", \"\", COUNTIFS(ToDoList!$B:$B, $A646, ToDoList!$R:$R, D$2))","v":""},{"$f":"IF($A646 = \"\", \"\", COUNTIFS(ToDoList!$B:$B, $A646, ToDoList!$R:$R, E$2))","v":""},{"$f":"IF($A646 = \"\", \"\", COUNTIFS(ToDoList!$B:$B, $A646, ToDoList!$R:$R, F$2))","v":""},{"$f":"IF($A646 = \"\", \"\", COUNTIFS(ToDoList!$B:$B, $A646, ToDoList!$R:$R, G$2))","v":""},{"$f":"IF($A646 = \"\", \"\", COUNTIFS(ToDoList!$B:$B, $A646, ToDoList!$R:$R, H$2))","v":""},{"$f":"IF($A646 = \"\", \"\", COUNTIFS(ToDoList!$B:$B, $A646, ToDoList!$R:$R, I$2))","v":""},{"$f":"IF($A646 = \"\", \"\", COUNTIFS(ToDoList!$B:$B, $A646, ToDoList!$R:$R, J$2))","v":""}]
[null,{"$f":"IF($A647 = \"\", \"\", COUNTIFS(ToDoList!$B:$B, $A647, ToDoList!$R:$R, B$2))","v":""},{"$f":"IF($A647 = \"\", \"\", COUNTIFS(ToDoList!$B:$B, $A647, ToDoList!$R:$R, C$2))","v":""},{"$f":"IF($A647 = \"\", \"\", COUNTIFS(ToDoList!$B:$B, $A647, ToDoList!$R:$R, D$2))","v":""},{"$f":"IF($A647 = \"\", \"\", COUNTIFS(ToDoList!$B:$B, $A647, ToDoList!$R:$R, E$2))","v":""},{"$f":"IF($A647 = \"\", \"\", COUNTIFS(ToDoList!$B:$B, $A647, ToDoList!$R:$R, F$2))","v":""},{"$f":"IF($A647 = \"\", \"\", COUNTIFS(ToDoList!$B:$B, $A647, ToDoList!$R:$R, G$2))","v":""},{"$f":"IF($A647 = \"\", \"\", COUNTIFS(ToDoList!$B:$B, $A647, ToDoList!$R:$R, H$2))","v":""},{"$f":"IF($A647 = \"\", \"\", COUNTIFS(ToDoList!$B:$B, $A647, ToDoList!$R:$R, I$2))","v":""},{"$f":"IF($A647 = \"\", \"\", COUNTIFS(ToDoList!$B:$B, $A647, ToDoList!$R:$R, J$2))","v":""}]
[null,{"$f":"IF($A648 = \"\", \"\", COUNTIFS(ToDoList!$B:$B, $A648, ToDoList!$R:$R, B$2))","v":""},{"$f":"IF($A648 = \"\", \"\", COUNTIFS(ToDoList!$B:$B, $A648, ToDoList!$R:$R, C$2))","v":""},{"$f":"IF($A648 = \"\", \"\", COUNTIFS(ToDoList!$B:$B, $A648, ToDoList!$R:$R, D$2))","v":""},{"$f":"IF($A648 = \"\", \"\", COUNTIFS(ToDoList!$B:$B, $A648, ToDoList!$R:$R, E$2))","v":""},{"$f":"IF($A648 = \"\", \"\", COUNTIFS(ToDoList!$B:$B, $A648, ToDoList!$R:$R, F$2))","v":""},{"$f":"IF($A648 = \"\", \"\", COUNTIFS(ToDoList!$B:$B, $A648, ToDoList!$R:$R, G$2))","v":""},{"$f":"IF($A648 = \"\", \"\", COUNTIFS(ToDoList!$B:$B, $A648, ToDoList!$R:$R, H$2))","v":""},{"$f":"IF($A648 = \"\", \"\", COUNTIFS(ToDoList!$B:$B, $A648, ToDoList!$R:$R, I$2))","v":""},{"$f":"IF($A648 = \"\", \"\", COUNTIFS(ToDoList!$B:$B, $A648, ToDoList!$R:$R, J$2))","v":""}]
[null,{"$f":"IF($A649 = \"\", \"\", COUNTIFS(ToDoList!$B:$B, $A649, ToDoList!$R:$R, B$2))","v":""},{"$f":"IF($A649 = \"\", \"\", COUNTIFS(ToDoList!$B:$B, $A649, ToDoList!$R:$R, C$2))","v":""},{"$f":"IF($A649 = \"\", \"\", COUNTIFS(ToDoList!$B:$B, $A649, ToDoList!$R:$R, D$2))","v":""},{"$f":"IF($A649 = \"\", \"\", COUNTIFS(ToDoList!$B:$B, $A649, ToDoList!$R:$R, E$2))","v":""},{"$f":"IF($A649 = \"\", \"\", COUNTIFS(ToDoList!$B:$B, $A649, ToDoList!$R:$R, F$2))","v":""},{"$f":"IF($A649 = \"\", \"\", COUNTIFS(ToDoList!$B:$B, $A649, ToDoList!$R:$R, G$2))","v":""},{"$f":"IF($A649 = \"\", \"\", COUNTIFS(ToDoList!$B:$B, $A649, ToDoList!$R:$R, H$2))","v":""},{"$f":"IF($A649 = \"\", \"\", COUNTIFS(ToDoList!$B:$B, $A649, ToDoList!$R:$R, I$2))","v":""},{"$f":"IF($A649 = \"\", \"\", COUNTIFS(ToDoList!$B:$B, $A649, ToDoList!$R:$R, J$2))","v":""}]
[null,{"$f":"IF($A650 = \"\", \"\", COUNTIFS(ToDoList!$B:$B, $A650, ToDoList!$R:$R, B$2))","v":""},{"$f":"IF($A650 = \"\", \"\", COUNTIFS(ToDoList!$B:$B, $A650, ToDoList!$R:$R, C$2))","v":""},{"$f":"IF($A650 = \"\", \"\", COUNTIFS(ToDoList!$B:$B, $A650, ToDoList!$R:$R, D$2))","v":""},{"$f":"IF($A650 = \"\", \"\", COUNTIFS(ToDoList!$B:$B, $A650, ToDoList!$R:$R, E$2))","v":""},{"$f":"IF($A650 = \"\", \"\", COUNTIFS(ToDoList!$B:$B, $A650, ToDoList!$R:$R, F$2))","v":""},{"$f":"IF($A650 = \"\", \"\", COUNTIFS(ToDoList!$B:$B, $A650, ToDoList!$R:$R, G$2))","v":""},{"$f":"IF($A650 = \"\", \"\", COUNTIFS(ToDoList!$B:$B, $A650, ToDoList!$R:$R, H$2))","v":""},{"$f":"IF($A650 = \"\", \"\", COUNTIFS(ToDoList!$B:$B, $A650, ToDoList!$R:$R, I$2))","v":""},{"$f":"IF($A650 = \"\", \"\", COUNTIFS(ToDoList!$B:$B, $A650, ToDoList!$R:$R, J$2))","v":""}]
[null,{"$f":"IF($A651 = \"\", \"\", COUNTIFS(ToDoList!$B:$B, $A651, ToDoList!$R:$R, B$2))","v":""},{"$f":"IF($A651 = \"\", \"\", COUNTIFS(ToDoList!$B:$B, $A651, ToDoList!$R:$R, C$2))","v":""},{"$f":"IF($A651 = \"\", \"\", COUNTIFS(ToDoList!$B:$B, $A651, ToDoList!$R:$R, D$2))","v":""},{"$f":"IF($A651 = \"\", \"\", COUNTIFS(ToDoList!$B:$B, $A651, ToDoList!$R:$R, E$2))","v":""},{"$f":"IF($A651 = \"\", \"\", COUNTIFS(ToDoList!$B:$B, $A651, ToDoList!$R:$R, F$2))","v":""},{"$f":"IF($A651 = \"\", \"\", COUNTIFS(ToDoList!$B:$B, $A651, ToDoList!$R:$R, G$2))","v":""},{"$f":"IF($A651 = \"\", \"\", COUNTIFS(ToDoList!$B:$B, $A651, ToDoList!$R:$R, H$2))","v":""},{"$f":"IF($A651 = \"\", \"\", COUNTIFS(ToDoList!$B:$B, $A651, ToDoList!$R:$R, I$2))","v":""},{"$f":"IF($A651 = \"\", \"\", COUNTIFS(ToDoList!$B:$B, $A651, ToDoList!$R:$R, J$2))","v":""}]
[null,{"$f":"IF($A652 = \"\", \"\", COUNTIFS(ToDoList!$B:$B, $A652, ToDoList!$R:$R, B$2))","v":""},{"$f":"IF($A652 = \"\", \"\", COUNTIFS(ToDoList!$B:$B, $A652, ToDoList!$R:$R, C$2))","v":""},{"$f":"IF($A652 = \"\", \"\", COUNTIFS(ToDoList!$B:$B, $A652, ToDoList!$R:$R, D$2))","v":""},{"$f":"IF($A652 = \"\", \"\", COUNTIFS(ToDoList!$B:$B, $A652, ToDoList!$R:$R, E$2))","v":""},{"$f":"IF($A652 = \"\", \"\", COUNTIFS(ToDoList!$B:$B, $A652, ToDoList!$R:$R, F$2))","v":""},{"$f":"IF($A652 = \"\", \"\", COUNTIFS(ToDoList!$B:$B, $A652, ToDoList!$R:$R, G$2))","v":""},{"$f":"IF($A652 = \"\", \"\", COUNTIFS(ToDoList!$B:$B, $A652, ToDoList!$R:$R, H$2))","v":""},{"$f":"IF($A652 = \"\", \"\", COUNTIFS(ToDoList!$B:$B, $A652, ToDoList!$R:$R, I$2))","v":""},{"$f":"IF($A652 = \"\", \"\", COUNTIFS(ToDoList!$B:$B, $A652, ToDoList!$R:$R, J$2))","v":""}]
[null,{"$f":"IF($A653 = \"\", \"\", COUNTIFS(ToDoList!$B:$B, $A653, ToDoList!$R:$R, B$2))","v":""},{"$f":"IF($A653 = \"\", \"\", COUNTIFS(ToDoList!$B:$B, $A653, ToDoList!$R:$R, C$2))","v":""},{"$f":"IF($A653 = \"\", \"\", COUNTIFS(ToDoList!$B:$B, $A653, ToDoList!$R:$R, D$2))","v":""},{"$f":"IF($A653 = \"\", \"\", COUNTIFS(ToDoList!$B:$B, $A653, ToDoList!$R:$R, E$2))","v":""},{"$f":"IF($A653 = \"\", \"\", COUNTIFS(ToDoList!$B:$B, $A653, ToDoList!$R:$R, F$2))","v":""},{"$f":"IF($A653 = \"\", \"\", COUNTIFS(ToDoList!$B:$B, $A653, ToDoList!$R:$R, G$2))","v":""},{"$f":"IF($A653 = \"\", \"\", COUNTIFS(ToDoList!$B:$B, $A653, ToDoList!$R:$R, H$2))","v":""},{"$f":"IF($A653 = \"\", \"\", COUNTIFS(ToDoList!$B:$B, $A653, ToDoList!$R:$R, I$2))","v":""},{"$f":"IF($A653 = \"\", \"\", COUNTIFS(ToDoList!$B:$B, $A653, ToDoList!$R:$R, J$2))","v":""}]
[null,{"$f":"IF($A654 = \"\", \"\", COUNTIFS(ToDoList!$B:$B, $A654, ToDoList!$R:$R, B$2))","v":""},{"$f":"IF($A654 = \"\", \"\", COUNTIFS(ToDoList!$B:$B, $A654, ToDoList!$R:$R, C$2))","v":""},{"$f":"IF($A654 = \"\", \"\", COUNTIFS(ToDoList!$B:$B, $A654, ToDoList!$R:$R, D$2))","v":""},{"$f":"IF($A654 = \"\", \"\", COUNTIFS(ToDoList!$B:$B, $A654, ToDoList!$R:$R, E$2))","v":""},{"$f":"IF($A654 = \"\", \"\", COUNTIFS(ToDoList!$B:$B, $A654, ToDoList!$R:$R, F$2))","v":""},{"$f":"IF($A654 = \"\", \"\", COUNTIFS(ToDoList!$B:$B, $A654, ToDoList!$R:$R, G$2))","v":""},{"$f":"IF($A654 = \"\", \"\", COUNTIFS(ToDoList!$B:$B, $A654, ToDoList!$R:$R, H$2))","v":""},{"$f":"IF($A654 = \"\", \"\", COUNTIFS(ToDoList!$B:$B, $A654, ToDoList!$R:$R, I$2))","v":""},{"$f":"IF($A654 = \"\", \"\", COUNTIFS(ToDoList!$B:$B, $A654, ToDoList!$R:$R, J$2))","v":""}]
[null,{"$f":"IF($A655 = \"\", \"\", COUNTIFS(ToDoList!$B:$B, $A655, ToDoList!$R:$R, B$2))","v":""},{"$f":"IF($A655 = \"\", \"\", COUNTIFS(ToDoList!$B:$B, $A655, ToDoList!$R:$R, C$2))","v":""},{"$f":"IF($A655 = \"\", \"\", COUNTIFS(ToDoList!$B:$B, $A655, ToDoList!$R:$R, D$2))","v":""},{"$f":"IF($A655 = \"\", \"\", COUNTIFS(ToDoList!$B:$B, $A655, ToDoList!$R:$R, E$2))","v":""},{"$f":"IF($A655 = \"\", \"\", COUNTIFS(ToDoList!$B:$B, $A655, ToDoList!$R:$R, F$2))","v":""},{"$f":"IF($A655 = \"\", \"\", COUNTIFS(ToDoList!$B:$B, $A655, ToDoList!$R:$R, G$2))","v":""},{"$f":"IF($A655 = \"\", \"\", COUNTIFS(ToDoList!$B:$B, $A655, ToDoList!$R:$R, H$2))","v":""},{"$f":"IF($A655 = \"\", \"\", COUNTIFS(ToDoList!$B:$B, $A655, ToDoList!$R:$R, I$2))","v":""},{"$f":"IF($A655 = \"\", \"\", COUNTIFS(ToDoList!$B:$B, $A655, ToDoList!$R:$R, J$2))","v":""}]
[null,{"$f":"IF($A656 = \"\", \"\", COUNTIFS(ToDoList!$B:$B, $A656, ToDoList!$R:$R, B$2))","v":""},{"$f":"IF($A656 = \"\", \"\", COUNTIFS(ToDoList!$B:$B, $A656, ToDoList!$R:$R, C$2))","v":""},{"$f":"IF($A656 = \"\", \"\", COUNTIFS(ToDoList!$B:$B, $A656, ToDoList!$R:$R, D$2))","v":""},{"$f":"IF($A656 = \"\", \"\", COUNTIFS(ToDoList!$B:$B, $A656, ToDoList!$R:$R, E$2))","v":""},{"$f":"IF($A656 = \"\", \"\", COUNTIFS(ToDoList!$B:$B, $A656, ToDoList!$R:$R, F$2))","v":""},{"$f":"IF($A656 = \"\", \"\", COUNTIFS(ToDoList!$B:$B, $A656, ToDoList!$R:$R, G$2))","v":""},{"$f":"IF($A656 = \"\", \"\", COUNTIFS(ToDoList!$B:$B, $A656, ToDoList!$R:$R, H$2))","v":""},{"$f":"IF($A656 = \"\", \"\", COUNTIFS(ToDoList!$B:$B, $A656, ToDoList!$R:$R, I$2))","v":""},{"$f":"IF($A656 = \"\", \"\", COUNTIFS(ToDoList!$B:$B, $A656, ToDoList!$R:$R, J$2))","v":""}]
[null,{"$f":"IF($A657 = \"\", \"\", COUNTIFS(ToDoList!$B:$B, $A657, ToDoList!$R:$R, B$2))","v":""},{"$f":"IF($A657 = \"\", \"\", COUNTIFS(ToDoList!$B:$B, $A657, ToDoList!$R:$R, C$2))","v":""},{"$f":"IF($A657 = \"\", \"\", COUNTIFS(ToDoList!$B:$B, $A657, ToDoList!$R:$R, D$2))","v":""},{"$f":"IF($A657 = \"\", \"\", COUNTIFS(ToDoList!$B:$B, $A657, ToDoList!$R:$R, E$2))","v":""},{"$f":"IF($A657 = \"\", \"\", COUNTIFS(ToDoList!$B:$B, $A657, ToDoList!$R:$R, F$2))","v":""},{"$f":"IF($A657 = \"\", \"\", COUNTIFS(ToDoList!$B:$B, $A657, ToDoList!$R:$R, G$2))","v":""},{"$f":"IF($A657 = \"\", \"\", COUNTIFS(ToDoList!$B:$B, $A657, ToDoList!$R:$R, H$2))","v":""},{"$f":"IF($A657 = \"\", \"\", COUNTIFS(ToDoList!$B:$B, $A657, ToDoList!$R:$R, I$2))","v":""},{"$f":"IF($A657 = \"\", \"\", COUNTIFS(ToDoList!$B:$B, $A657, ToDoList!$R:$R, J$2))","v":""}]
[null,{"$f":"IF($A658 = \"\", \"\", COUNTIFS(ToDoList!$B:$B, $A658, ToDoList!$R:$R, B$2))","v":""},{"$f":"IF($A658 = \"\", \"\", COUNTIFS(ToDoList!$B:$B, $A658, ToDoList!$R:$R, C$2))","v":""},{"$f":"IF($A658 = \"\", \"\", COUNTIFS(ToDoList!$B:$B, $A658, ToDoList!$R:$R, D$2))","v":""},{"$f":"IF($A658 = \"\", \"\", COUNTIFS(ToDoList!$B:$B, $A658, ToDoList!$R:$R, E$2))","v":""},{"$f":"IF($A658 = \"\", \"\", COUNTIFS(ToDoList!$B:$B, $A658, ToDoList!$R:$R, F$2))","v":""},{"$f":"IF($A658 = \"\", \"\", COUNTIFS(ToDoList!$B:$B, $A658, ToDoList!$R:$R, G$2))","v":""},{"$f":"IF($A658 = \"\", \"\", COUNTIFS(ToDoList!$B:$B, $A658, ToDoList!$R:$R, H$2))","v":""},{"$f":"IF($A658 = \"\", \"\", COUNTIFS(ToDoList!$B:$B, $A658, ToDoList!$R:$R, I$2))","v":""},{"$f":"IF($A658 = \"\", \"\", COUNTIFS(ToDoList!$B:$B, $A658, ToDoList!$R:$R, J$2))","v":""}]
[null,{"$f":"IF($A659 = \"\", \"\", COUNTIFS(ToDoList!$B:$B, $A659, ToDoList!$R:$R, B$2))","v":""},{"$f":"IF($A659 = \"\", \"\", COUNTIFS(ToDoList!$B:$B, $A659, ToDoList!$R:$R, C$2))","v":""},{"$f":"IF($A659 = \"\", \"\", COUNTIFS(ToDoList!$B:$B, $A659, ToDoList!$R:$R, D$2))","v":""},{"$f":"IF($A659 = \"\", \"\", COUNTIFS(ToDoList!$B:$B, $A659, ToDoList!$R:$R, E$2))","v":""},{"$f":"IF($A659 = \"\", \"\", COUNTIFS(ToDoList!$B:$B, $A659, ToDoList!$R:$R, F$2))","v":""},{"$f":"IF($A659 = \"\", \"\", COUNTIFS(ToDoList!$B:$B, $A659, ToDoList!$R:$R, G$2))","v":""},{"$f":"IF($A659 = \"\", \"\", COUNTIFS(ToDoList!$B:$B, $A659, ToDoList!$R:$R, H$2))","v":""},{"$f":"IF($A659 = \"\", \"\", COUNTIFS(ToDoList!$B:$B, $A659, ToDoList!$R:$R, I$2))","v":""},{"$f":"IF($A659 = \"\", \"\", COUNTIFS(ToDoList!$B:$B, $A659, ToDoList!$R:$R, J$2))","v":""}]
[null,{"$f":"IF($A660 = \"\", \"\", COUNTIFS(ToDoList!$B:$B, $A660, ToDoList!$R:$R, B$2))","v":""},{"$f":"IF($A660 = \"\", \"\", COUNTIFS(ToDoList!$B:$B, $A660, ToDoList!$R:$R, C$2))","v":""},{"$f":"IF($A660 = \"\", \"\", COUNTIFS(ToDoList!$B:$B, $A660, ToDoList!$R:$R, D$2))","v":""},{"$f":"IF($A660 = \"\", \"\", COUNTIFS(ToDoList!$B:$B, $A660, ToDoList!$R:$R, E$2))","v":""},{"$f":"IF($A660 = \"\", \"\", COUNTIFS(ToDoList!$B:$B, $A660, ToDoList!$R:$R, F$2))","v":""},{"$f":"IF($A660 = \"\", \"\", COUNTIFS(ToDoList!$B:$B, $A660, ToDoList!$R:$R, G$2))","v":""},{"$f":"IF($A660 = \"\", \"\", COUNTIFS(ToDoList!$B:$B, $A660, ToDoList!$R:$R, H$2))","v":""},{"$f":"IF($A660 = \"\", \"\", COUNTIFS(ToDoList!$B:$B, $A660, ToDoList!$R:$R, I$2))","v":""},{"$f":"IF($A660 = \"\", \"\", COUNTIFS(ToDoList!$B:$B, $A660, ToDoList!$R:$R, J$2))","v":""}]
[null,{"$f":"IF($A661 = \"\", \"\", COUNTIFS(ToDoList!$B:$B, $A661, ToDoList!$R:$R, B$2))","v":""},{"$f":"IF($A661 = \"\", \"\", COUNTIFS(ToDoList!$B:$B, $A661, ToDoList!$R:$R, C$2))","v":""},{"$f":"IF($A661 = \"\", \"\", COUNTIFS(ToDoList!$B:$B, $A661, ToDoList!$R:$R, D$2))","v":""},{"$f":"IF($A661 = \"\", \"\", COUNTIFS(ToDoList!$B:$B, $A661, ToDoList!$R:$R, E$2))","v":""},{"$f":"IF($A661 = \"\", \"\", COUNTIFS(ToDoList!$B:$B, $A661, ToDoList!$R:$R, F$2))","v":""},{"$f":"IF($A661 = \"\", \"\", COUNTIFS(ToDoList!$B:$B, $A661, ToDoList!$R:$R, G$2))","v":""},{"$f":"IF($A661 = \"\", \"\", COUNTIFS(ToDoList!$B:$B, $A661, ToDoList!$R:$R, H$2))","v":""},{"$f":"IF($A661 = \"\", \"\", COUNTIFS(ToDoList!$B:$B, $A661, ToDoList!$R:$R, I$2))","v":""},{"$f":"IF($A661 = \"\", \"\", COUNTIFS(ToDoList!$B:$B, $A661, ToDoList!$R:$R, J$2))","v":""}]
[null,{"$f":"IF($A662 = \"\", \"\", COUNTIFS(ToDoList!$B:$B, $A662, ToDoList!$R:$R, B$2))","v":""},{"$f":"IF($A662 = \"\", \"\", COUNTIFS(ToDoList!$B:$B, $A662, ToDoList!$R:$R, C$2))","v":""},{"$f":"IF($A662 = \"\", \"\", COUNTIFS(ToDoList!$B:$B, $A662, ToDoList!$R:$R, D$2))","v":""},{"$f":"IF($A662 = \"\", \"\", COUNTIFS(ToDoList!$B:$B, $A662, ToDoList!$R:$R, E$2))","v":""},{"$f":"IF($A662 = \"\", \"\", COUNTIFS(ToDoList!$B:$B, $A662, ToDoList!$R:$R, F$2))","v":""},{"$f":"IF($A662 = \"\", \"\", COUNTIFS(ToDoList!$B:$B, $A662, ToDoList!$R:$R, G$2))","v":""},{"$f":"IF($A662 = \"\", \"\", COUNTIFS(ToDoList!$B:$B, $A662, ToDoList!$R:$R, H$2))","v":""},{"$f":"IF($A662 = \"\", \"\", COUNTIFS(ToDoList!$B:$B, $A662, ToDoList!$R:$R, I$2))","v":""},{"$f":"IF($A662 = \"\", \"\", COUNTIFS(ToDoList!$B:$B, $A662, ToDoList!$R:$R, J$2))","v":""}]
[null,{"$f":"IF($A663 = \"\", \"\", COUNTIFS(ToDoList!$B:$B, $A663, ToDoList!$R:$R, B$2))","v":""},{"$f":"IF($A663 = \"\", \"\", COUNTIFS(ToDoList!$B:$B, $A663, ToDoList!$R:$R, C$2))","v":""},{"$f":"IF($A663 = \"\", \"\", COUNTIFS(ToDoList!$B:$B, $A663, ToDoList!$R:$R, D$2))","v":""},{"$f":"IF($A663 = \"\", \"\", COUNTIFS(ToDoList!$B:$B, $A663, ToDoList!$R:$R, E$2))","v":""},{"$f":"IF($A663 = \"\", \"\", COUNTIFS(ToDoList!$B:$B, $A663, ToDoList!$R:$R, F$2))","v":""},{"$f":"IF($A663 = \"\", \"\", COUNTIFS(ToDoList!$B:$B, $A663, ToDoList!$R:$R, G$2))","v":""},{"$f":"IF($A663 = \"\", \"\", COUNTIFS(ToDoList!$B:$B, $A663, ToDoList!$R:$R, H$2))","v":""},{"$f":"IF($A663 = \"\", \"\", COUNTIFS(ToDoList!$B:$B, $A663, ToDoList!$R:$R, I$2))","v":""},{"$f":"IF($A663 = \"\", \"\", COUNTIFS(ToDoList!$B:$B, $A663, ToDoList!$R:$R, J$2))","v":""}]
[null,{"$f":"IF($A664 = \"\", \"\", COUNTIFS(ToDoList!$B:$B, $A664, ToDoList!$R:$R, B$2))","v":""},{"$f":"IF($A664 = \"\", \"\", COUNTIFS(ToDoList!$B:$B, $A664, ToDoList!$R:$R, C$2))","v":""},{"$f":"IF($A664 = \"\", \"\", COUNTIFS(ToDoList!$B:$B, $A664, ToDoList!$R:$R, D$2))","v":""},{"$f":"IF($A664 = \"\", \"\", COUNTIFS(ToDoList!$B:$B, $A664, ToDoList!$R:$R, E$2))","v":""},{"$f":"IF($A664 = \"\", \"\", COUNTIFS(ToDoList!$B:$B, $A664, ToDoList!$R:$R, F$2))","v":""},{"$f":"IF($A664 = \"\", \"\", COUNTIFS(ToDoList!$B:$B, $A664, ToDoList!$R:$R, G$2))","v":""},{"$f":"IF($A664 = \"\", \"\", COUNTIFS(ToDoList!$B:$B, $A664, ToDoList!$R:$R, H$2))","v":""},{"$f":"IF($A664 = \"\", \"\", COUNTIFS(ToDoList!$B:$B, $A664, ToDoList!$R:$R, I$2))","v":""},{"$f":"IF($A664 = \"\", \"\", COUNTIFS(ToDoList!$B:$B, $A664, ToDoList!$R:$R, J$2))","v":""}]
[null,{"$f":"IF($A665 = \"\", \"\", COUNTIFS(ToDoList!$B:$B, $A665, ToDoList!$R:$R, B$2))","v":""},{"$f":"IF($A665 = \"\", \"\", COUNTIFS(ToDoList!$B:$B, $A665, ToDoList!$R:$R, C$2))","v":""},{"$f":"IF($A665 = \"\", \"\", COUNTIFS(ToDoList!$B:$B, $A665, ToDoList!$R:$R, D$2))","v":""},{"$f":"IF($A665 = \"\", \"\", COUNTIFS(ToDoList!$B:$B, $A665, ToDoList!$R:$R, E$2))","v":""},{"$f":"IF($A665 = \"\", \"\", COUNTIFS(ToDoList!$B:$B, $A665, ToDoList!$R:$R, F$2))","v":""},{"$f":"IF($A665 = \"\", \"\", COUNTIFS(ToDoList!$B:$B, $A665, ToDoList!$R:$R, G$2))","v":""},{"$f":"IF($A665 = \"\", \"\", COUNTIFS(ToDoList!$B:$B, $A665, ToDoList!$R:$R, H$2))","v":""},{"$f":"IF($A665 = \"\", \"\", COUNTIFS(ToDoList!$B:$B, $A665, ToDoList!$R:$R, I$2))","v":""},{"$f":"IF($A665 = \"\", \"\", COUNTIFS(ToDoList!$B:$B, $A665, ToDoList!$R:$R, J$2))","v":""}]
[null,{"$f":"IF($A666 = \"\", \"\", COUNTIFS(ToDoList!$B:$B, $A666, ToDoList!$R:$R, B$2))","v":""},{"$f":"IF($A666 = \"\", \"\", COUNTIFS(ToDoList!$B:$B, $A666, ToDoList!$R:$R, C$2))","v":""},{"$f":"IF($A666 = \"\", \"\", COUNTIFS(ToDoList!$B:$B, $A666, ToDoList!$R:$R, D$2))","v":""},{"$f":"IF($A666 = \"\", \"\", COUNTIFS(ToDoList!$B:$B, $A666, ToDoList!$R:$R, E$2))","v":""},{"$f":"IF($A666 = \"\", \"\", COUNTIFS(ToDoList!$B:$B, $A666, ToDoList!$R:$R, F$2))","v":""},{"$f":"IF($A666 = \"\", \"\", COUNTIFS(ToDoList!$B:$B, $A666, ToDoList!$R:$R, G$2))","v":""},{"$f":"IF($A666 = \"\", \"\", COUNTIFS(ToDoList!$B:$B, $A666, ToDoList!$R:$R, H$2))","v":""},{"$f":"IF($A666 = \"\", \"\", COUNTIFS(ToDoList!$B:$B, $A666, ToDoList!$R:$R, I$2))","v":""},{"$f":"IF($A666 = \"\", \"\", COUNTIFS(ToDoList!$B:$B, $A666, ToDoList!$R:$R, J$2))","v":""}]
[null,{"$f":"IF($A667 = \"\", \"\", COUNTIFS(ToDoList!$B:$B, $A667, ToDoList!$R:$R, B$2))","v":""},{"$f":"IF($A667 = \"\", \"\", COUNTIFS(ToDoList!$B:$B, $A667, ToDoList!$R:$R, C$2))","v":""},{"$f":"IF($A667 = \"\", \"\", COUNTIFS(ToDoList!$B:$B, $A667, ToDoList!$R:$R, D$2))","v":""},{"$f":"IF($A667 = \"\", \"\", COUNTIFS(ToDoList!$B:$B, $A667, ToDoList!$R:$R, E$2))","v":""},{"$f":"IF($A667 = \"\", \"\", COUNTIFS(ToDoList!$B:$B, $A667, ToDoList!$R:$R, F$2))","v":""},{"$f":"IF($A667 = \"\", \"\", COUNTIFS(ToDoList!$B:$B, $A667, ToDoList!$R:$R, G$2))","v":""},{"$f":"IF($A667 = \"\", \"\", COUNTIFS(ToDoList!$B:$B, $A667, ToDoList!$R:$R, H$2))","v":""},{"$f":"IF($A667 = \"\", \"\", COUNTIFS(ToDoList!$B:$B, $A667, ToDoList!$R:$R, I$2))","v":""},{"$f":"IF($A667 = \"\", \"\", COUNTIFS(ToDoList!$B:$B, $A667, ToDoList!$R:$R, J$2))","v":""}]
[null,{"$f":"IF($A668 = \"\", \"\", COUNTIFS(ToDoList!$B:$B, $A668, ToDoList!$R:$R, B$2))","v":""},{"$f":"IF($A668 = \"\", \"\", COUNTIFS(ToDoList!$B:$B, $A668, ToDoList!$R:$R, C$2))","v":""},{"$f":"IF($A668 = \"\", \"\", COUNTIFS(ToDoList!$B:$B, $A668, ToDoList!$R:$R, D$2))","v":""},{"$f":"IF($A668 = \"\", \"\", COUNTIFS(ToDoList!$B:$B, $A668, ToDoList!$R:$R, E$2))","v":""},{"$f":"IF($A668 = \"\", \"\", COUNTIFS(ToDoList!$B:$B, $A668, ToDoList!$R:$R, F$2))","v":""},{"$f":"IF($A668 = \"\", \"\", COUNTIFS(ToDoList!$B:$B, $A668, ToDoList!$R:$R, G$2))","v":""},{"$f":"IF($A668 = \"\", \"\", COUNTIFS(ToDoList!$B:$B, $A668, ToDoList!$R:$R, H$2))","v":""},{"$f":"IF($A668 = \"\", \"\", COUNTIFS(ToDoList!$B:$B, $A668, ToDoList!$R:$R, I$2))","v":""},{"$f":"IF($A668 = \"\", \"\", COUNTIFS(ToDoList!$B:$B, $A668, ToDoList!$R:$R, J$2))","v":""}]
[null,{"$f":"IF($A669 = \"\", \"\", COUNTIFS(ToDoList!$B:$B, $A669, ToDoList!$R:$R, B$2))","v":""},{"$f":"IF($A669 = \"\", \"\", COUNTIFS(ToDoList!$B:$B, $A669, ToDoList!$R:$R, C$2))","v":""},{"$f":"IF($A669 = \"\", \"\", COUNTIFS(ToDoList!$B:$B, $A669, ToDoList!$R:$R, D$2))","v":""},{"$f":"IF($A669 = \"\", \"\", COUNTIFS(ToDoList!$B:$B, $A669, ToDoList!$R:$R, E$2))","v":""},{"$f":"IF($A669 = \"\", \"\", COUNTIFS(ToDoList!$B:$B, $A669, ToDoList!$R:$R, F$2))","v":""},{"$f":"IF($A669 = \"\", \"\", COUNTIFS(ToDoList!$B:$B, $A669, ToDoList!$R:$R, G$2))","v":""},{"$f":"IF($A669 = \"\", \"\", COUNTIFS(ToDoList!$B:$B, $A669, ToDoList!$R:$R, H$2))","v":""},{"$f":"IF($A669 = \"\", \"\", COUNTIFS(ToDoList!$B:$B, $A669, ToDoList!$R:$R, I$2))","v":""},{"$f":"IF($A669 = \"\", \"\", COUNTIFS(ToDoList!$B:$B, $A669, ToDoList!$R:$R, J$2))","v":""}]
[null,{"$f":"IF($A670 = \"\", \"\", COUNTIFS(ToDoList!$B:$B, $A670, ToDoList!$R:$R, B$2))","v":""},{"$f":"IF($A670 = \"\", \"\", COUNTIFS(ToDoList!$B:$B, $A670, ToDoList!$R:$R, C$2))","v":""},{"$f":"IF($A670 = \"\", \"\", COUNTIFS(ToDoList!$B:$B, $A670, ToDoList!$R:$R, D$2))","v":""},{"$f":"IF($A670 = \"\", \"\", COUNTIFS(ToDoList!$B:$B, $A670, ToDoList!$R:$R, E$2))","v":""},{"$f":"IF($A670 = \"\", \"\", COUNTIFS(ToDoList!$B:$B, $A670, ToDoList!$R:$R, F$2))","v":""},{"$f":"IF($A670 = \"\", \"\", COUNTIFS(ToDoList!$B:$B, $A670, ToDoList!$R:$R, G$2))","v":""},{"$f":"IF($A670 = \"\", \"\", COUNTIFS(ToDoList!$B:$B, $A670, ToDoList!$R:$R, H$2))","v":""},{"$f":"IF($A670 = \"\", \"\", COUNTIFS(ToDoList!$B:$B, $A670, ToDoList!$R:$R, I$2))","v":""},{"$f":"IF($A670 = \"\", \"\", COUNTIFS(ToDoList!$B:$B, $A670, ToDoList!$R:$R, J$2))","v":""}]
[null,{"$f":"IF($A671 = \"\", \"\", COUNTIFS(ToDoList!$B:$B, $A671, ToDoList!$R:$R, B$2))","v":""},{"$f":"IF($A671 = \"\", \"\", COUNTIFS(ToDoList!$B:$B, $A671, ToDoList!$R:$R, C$2))","v":""},{"$f":"IF($A671 = \"\", \"\", COUNTIFS(ToDoList!$B:$B, $A671, ToDoList!$R:$R, D$2))","v":""},{"$f":"IF($A671 = \"\", \"\", COUNTIFS(ToDoList!$B:$B, $A671, ToDoList!$R:$R, E$2))","v":""},{"$f":"IF($A671 = \"\", \"\", COUNTIFS(ToDoList!$B:$B, $A671, ToDoList!$R:$R, F$2))","v":""},{"$f":"IF($A671 = \"\", \"\", COUNTIFS(ToDoList!$B:$B, $A671, ToDoList!$R:$R, G$2))","v":""},{"$f":"IF($A671 = \"\", \"\", COUNTIFS(ToDoList!$B:$B, $A671, ToDoList!$R:$R, H$2))","v":""},{"$f":"IF($A671 = \"\", \"\", COUNTIFS(ToDoList!$B:$B, $A671, ToDoList!$R:$R, I$2))","v":""},{"$f":"IF($A671 = \"\", \"\", COUNTIFS(ToDoList!$B:$B, $A671, ToDoList!$R:$R, J$2))","v":""}]
[null,{"$f":"IF($A672 = \"\", \"\", COUNTIFS(ToDoList!$B:$B, $A672, ToDoList!$R:$R, B$2))","v":""},{"$f":"IF($A672 = \"\", \"\", COUNTIFS(ToDoList!$B:$B, $A672, ToDoList!$R:$R, C$2))","v":""},{"$f":"IF($A672 = \"\", \"\", COUNTIFS(ToDoList!$B:$B, $A672, ToDoList!$R:$R, D$2))","v":""},{"$f":"IF($A672 = \"\", \"\", COUNTIFS(ToDoList!$B:$B, $A672, ToDoList!$R:$R, E$2))","v":""},{"$f":"IF($A672 = \"\", \"\", COUNTIFS(ToDoList!$B:$B, $A672, ToDoList!$R:$R, F$2))","v":""},{"$f":"IF($A672 = \"\", \"\", COUNTIFS(ToDoList!$B:$B, $A672, ToDoList!$R:$R, G$2))","v":""},{"$f":"IF($A672 = \"\", \"\", COUNTIFS(ToDoList!$B:$B, $A672, ToDoList!$R:$R, H$2))","v":""},{"$f":"IF($A672 = \"\", \"\", COUNTIFS(ToDoList!$B:$B, $A672, ToDoList!$R:$R, I$2))","v":""},{"$f":"IF($A672 = \"\", \"\", COUNTIFS(ToDoList!$B:$B, $A672, ToDoList!$R:$R, J$2))","v":""}]
[null,{"$f":"IF($A673 = \"\", \"\", COUNTIFS(ToDoList!$B:$B, $A673, ToDoList!$R:$R, B$2))","v":""},{"$f":"IF($A673 = \"\", \"\", COUNTIFS(ToDoList!$B:$B, $A673, ToDoList!$R:$R, C$2))","v":""},{"$f":"IF($A673 = \"\", \"\", COUNTIFS(ToDoList!$B:$B, $A673, ToDoList!$R:$R, D$2))","v":""},{"$f":"IF($A673 = \"\", \"\", COUNTIFS(ToDoList!$B:$B, $A673, ToDoList!$R:$R, E$2))","v":""},{"$f":"IF($A673 = \"\", \"\", COUNTIFS(ToDoList!$B:$B, $A673, ToDoList!$R:$R, F$2))","v":""},{"$f":"IF($A673 = \"\", \"\", COUNTIFS(ToDoList!$B:$B, $A673, ToDoList!$R:$R, G$2))","v":""},{"$f":"IF($A673 = \"\", \"\", COUNTIFS(ToDoList!$B:$B, $A673, ToDoList!$R:$R, H$2))","v":""},{"$f":"IF($A673 = \"\", \"\", COUNTIFS(ToDoList!$B:$B, $A673, ToDoList!$R:$R, I$2))","v":""},{"$f":"IF($A673 = \"\", \"\", COUNTIFS(ToDoList!$B:$B, $A673, ToDoList!$R:$R, J$2))","v":""}]
[null,{"$f":"IF($A674 = \"\", \"\", COUNTIFS(ToDoList!$B:$B, $A674, ToDoList!$R:$R, B$2))","v":""},{"$f":"IF($A674 = \"\", \"\", COUNTIFS(ToDoList!$B:$B, $A674, ToDoList!$R:$R, C$2))","v":""},{"$f":"IF($A674 = \"\", \"\", COUNTIFS(ToDoList!$B:$B, $A674, ToDoList!$R:$R, D$2))","v":""},{"$f":"IF($A674 = \"\", \"\", COUNTIFS(ToDoList!$B:$B, $A674, ToDoList!$R:$R, E$2))","v":""},{"$f":"IF($A674 = \"\", \"\", COUNTIFS(ToDoList!$B:$B, $A674, ToDoList!$R:$R, F$2))","v":""},{"$f":"IF($A674 = \"\", \"\", COUNTIFS(ToDoList!$B:$B, $A674, ToDoList!$R:$R, G$2))","v":""},{"$f":"IF($A674 = \"\", \"\", COUNTIFS(ToDoList!$B:$B, $A674, ToDoList!$R:$R, H$2))","v":""},{"$f":"IF($A674 = \"\", \"\", COUNTIFS(ToDoList!$B:$B, $A674, ToDoList!$R:$R, I$2))","v":""},{"$f":"IF($A674 = \"\", \"\", COUNTIFS(ToDoList!$B:$B, $A674, ToDoList!$R:$R, J$2))","v":""}]
[null,{"$f":"IF($A675 = \"\", \"\", COUNTIFS(ToDoList!$B:$B, $A675, ToDoList!$R:$R, B$2))","v":""},{"$f":"IF($A675 = \"\", \"\", COUNTIFS(ToDoList!$B:$B, $A675, ToDoList!$R:$R, C$2))","v":""},{"$f":"IF($A675 = \"\", \"\", COUNTIFS(ToDoList!$B:$B, $A675, ToDoList!$R:$R, D$2))","v":""},{"$f":"IF($A675 = \"\", \"\", COUNTIFS(ToDoList!$B:$B, $A675, ToDoList!$R:$R, E$2))","v":""},{"$f":"IF($A675 = \"\", \"\", COUNTIFS(ToDoList!$B:$B, $A675, ToDoList!$R:$R, F$2))","v":""},{"$f":"IF($A675 = \"\", \"\", COUNTIFS(ToDoList!$B:$B, $A675, ToDoList!$R:$R, G$2))","v":""},{"$f":"IF($A675 = \"\", \"\", COUNTIFS(ToDoList!$B:$B, $A675, ToDoList!$R:$R, H$2))","v":""},{"$f":"IF($A675 = \"\", \"\", COUNTIFS(ToDoList!$B:$B, $A675, ToDoList!$R:$R, I$2))","v":""},{"$f":"IF($A675 = \"\", \"\", COUNTIFS(ToDoList!$B:$B, $A675, ToDoList!$R:$R, J$2))","v":""}]
[null,{"$f":"IF($A676 = \"\", \"\", COUNTIFS(ToDoList!$B:$B, $A676, ToDoList!$R:$R, B$2))","v":""},{"$f":"IF($A676 = \"\", \"\", COUNTIFS(ToDoList!$B:$B, $A676, ToDoList!$R:$R, C$2))","v":""},{"$f":"IF($A676 = \"\", \"\", COUNTIFS(ToDoList!$B:$B, $A676, ToDoList!$R:$R, D$2))","v":""},{"$f":"IF($A676 = \"\", \"\", COUNTIFS(ToDoList!$B:$B, $A676, ToDoList!$R:$R, E$2))","v":""},{"$f":"IF($A676 = \"\", \"\", COUNTIFS(ToDoList!$B:$B, $A676, ToDoList!$R:$R, F$2))","v":""},{"$f":"IF($A676 = \"\", \"\", COUNTIFS(ToDoList!$B:$B, $A676, ToDoList!$R:$R, G$2))","v":""},{"$f":"IF($A676 = \"\", \"\", COUNTIFS(ToDoList!$B:$B, $A676, ToDoList!$R:$R, H$2))","v":""},{"$f":"IF($A676 = \"\", \"\", COUNTIFS(ToDoList!$B:$B, $A676, ToDoList!$R:$R, I$2))","v":""},{"$f":"IF($A676 = \"\", \"\", COUNTIFS(ToDoList!$B:$B, $A676, ToDoList!$R:$R, J$2))","v":""}]
[null,{"$f":"IF($A677 = \"\", \"\", COUNTIFS(ToDoList!$B:$B, $A677, ToDoList!$R:$R, B$2))","v":""},{"$f":"IF($A677 = \"\", \"\", COUNTIFS(ToDoList!$B:$B, $A677, ToDoList!$R:$R, C$2))","v":""},{"$f":"IF($A677 = \"\", \"\", COUNTIFS(ToDoList!$B:$B, $A677, ToDoList!$R:$R, D$2))","v":""},{"$f":"IF($A677 = \"\", \"\", COUNTIFS(ToDoList!$B:$B, $A677, ToDoList!$R:$R, E$2))","v":""},{"$f":"IF($A677 = \"\", \"\", COUNTIFS(ToDoList!$B:$B, $A677, ToDoList!$R:$R, F$2))","v":""},{"$f":"IF($A677 = \"\", \"\", COUNTIFS(ToDoList!$B:$B, $A677, ToDoList!$R:$R, G$2))","v":""},{"$f":"IF($A677 = \"\", \"\", COUNTIFS(ToDoList!$B:$B, $A677, ToDoList!$R:$R, H$2))","v":""},{"$f":"IF($A677 = \"\", \"\", COUNTIFS(ToDoList!$B:$B, $A677, ToDoList!$R:$R, I$2))","v":""},{"$f":"IF($A677 = \"\", \"\", COUNTIFS(ToDoList!$B:$B, $A677, ToDoList!$R:$R, J$2))","v":""}]
[null,{"$f":"IF($A678 = \"\", \"\", COUNTIFS(ToDoList!$B:$B, $A678, ToDoList!$R:$R, B$2))","v":""},{"$f":"IF($A678 = \"\", \"\", COUNTIFS(ToDoList!$B:$B, $A678, ToDoList!$R:$R, C$2))","v":""},{"$f":"IF($A678 = \"\", \"\", COUNTIFS(ToDoList!$B:$B, $A678, ToDoList!$R:$R, D$2))","v":""},{"$f":"IF($A678 = \"\", \"\", COUNTIFS(ToDoList!$B:$B, $A678, ToDoList!$R:$R, E$2))","v":""},{"$f":"IF($A678 = \"\", \"\", COUNTIFS(ToDoList!$B:$B, $A678, ToDoList!$R:$R, F$2))","v":""},{"$f":"IF($A678 = \"\", \"\", COUNTIFS(ToDoList!$B:$B, $A678, ToDoList!$R:$R, G$2))","v":""},{"$f":"IF($A678 = \"\", \"\", COUNTIFS(ToDoList!$B:$B, $A678, ToDoList!$R:$R, H$2))","v":""},{"$f":"IF($A678 = \"\", \"\", COUNTIFS(ToDoList!$B:$B, $A678, ToDoList!$R:$R, I$2))","v":""},{"$f":"IF($A678 = \"\", \"\", COUNTIFS(ToDoList!$B:$B, $A678, ToDoList!$R:$R, J$2))","v":""}]
[null,{"$f":"IF($A679 = \"\", \"\", COUNTIFS(ToDoList!$B:$B, $A679, ToDoList!$R:$R, B$2))","v":""},{"$f":"IF($A679 = \"\", \"\", COUNTIFS(ToDoList!$B:$B, $A679, ToDoList!$R:$R, C$2))","v":""},{"$f":"IF($A679 = \"\", \"\", COUNTIFS(ToDoList!$B:$B, $A679, ToDoList!$R:$R, D$2))","v":""},{"$f":"IF($A679 = \"\", \"\", COUNTIFS(ToDoList!$B:$B, $A679, ToDoList!$R:$R, E$2))","v":""},{"$f":"IF($A679 = \"\", \"\", COUNTIFS(ToDoList!$B:$B, $A679, ToDoList!$R:$R, F$2))","v":""},{"$f":"IF($A679 = \"\", \"\", COUNTIFS(ToDoList!$B:$B, $A679, ToDoList!$R:$R, G$2))","v":""},{"$f":"IF($A679 = \"\", \"\", COUNTIFS(ToDoList!$B:$B, $A679, ToDoList!$R:$R, H$2))","v":""},{"$f":"IF($A679 = \"\", \"\", COUNTIFS(ToDoList!$B:$B, $A679, ToDoList!$R:$R, I$2))","v":""},{"$f":"IF($A679 = \"\", \"\", COUNTIFS(ToDoList!$B:$B, $A679, ToDoList!$R:$R, J$2))","v":""}]
[null,{"$f":"IF($A680 = \"\", \"\", COUNTIFS(ToDoList!$B:$B, $A680, ToDoList!$R:$R, B$2))","v":""},{"$f":"IF($A680 = \"\", \"\", COUNTIFS(ToDoList!$B:$B, $A680, ToDoList!$R:$R, C$2))","v":""},{"$f":"IF($A680 = \"\", \"\", COUNTIFS(ToDoList!$B:$B, $A680, ToDoList!$R:$R, D$2))","v":""},{"$f":"IF($A680 = \"\", \"\", COUNTIFS(ToDoList!$B:$B, $A680, ToDoList!$R:$R, E$2))","v":""},{"$f":"IF($A680 = \"\", \"\", COUNTIFS(ToDoList!$B:$B, $A680, ToDoList!$R:$R, F$2))","v":""},{"$f":"IF($A680 = \"\", \"\", COUNTIFS(ToDoList!$B:$B, $A680, ToDoList!$R:$R, G$2))","v":""},{"$f":"IF($A680 = \"\", \"\", COUNTIFS(ToDoList!$B:$B, $A680, ToDoList!$R:$R, H$2))","v":""},{"$f":"IF($A680 = \"\", \"\", COUNTIFS(ToDoList!$B:$B, $A680, ToDoList!$R:$R, I$2))","v":""},{"$f":"IF($A680 = \"\", \"\", COUNTIFS(ToDoList!$B:$B, $A680, ToDoList!$R:$R, J$2))","v":""}]
[null,{"$f":"IF($A681 = \"\", \"\", COUNTIFS(ToDoList!$B:$B, $A681, ToDoList!$R:$R, B$2))","v":""},{"$f":"IF($A681 = \"\", \"\", COUNTIFS(ToDoList!$B:$B, $A681, ToDoList!$R:$R, C$2))","v":""},{"$f":"IF($A681 = \"\", \"\", COUNTIFS(ToDoList!$B:$B, $A681, ToDoList!$R:$R, D$2))","v":""},{"$f":"IF($A681 = \"\", \"\", COUNTIFS(ToDoList!$B:$B, $A681, ToDoList!$R:$R, E$2))","v":""},{"$f":"IF($A681 = \"\", \"\", COUNTIFS(ToDoList!$B:$B, $A681, ToDoList!$R:$R, F$2))","v":""},{"$f":"IF($A681 = \"\", \"\", COUNTIFS(ToDoList!$B:$B, $A681, ToDoList!$R:$R, G$2))","v":""},{"$f":"IF($A681 = \"\", \"\", COUNTIFS(ToDoList!$B:$B, $A681, ToDoList!$R:$R, H$2))","v":""},{"$f":"IF($A681 = \"\", \"\", COUNTIFS(ToDoList!$B:$B, $A681, ToDoList!$R:$R, I$2))","v":""},{"$f":"IF($A681 = \"\", \"\", COUNTIFS(ToDoList!$B:$B, $A681, ToDoList!$R:$R, J$2))","v":""}]
[null,{"$f":"IF($A682 = \"\", \"\", COUNTIFS(ToDoList!$B:$B, $A682, ToDoList!$R:$R, B$2))","v":""},{"$f":"IF($A682 = \"\", \"\", COUNTIFS(ToDoList!$B:$B, $A682, ToDoList!$R:$R, C$2))","v":""},{"$f":"IF($A682 = \"\", \"\", COUNTIFS(ToDoList!$B:$B, $A682, ToDoList!$R:$R, D$2))","v":""},{"$f":"IF($A682 = \"\", \"\", COUNTIFS(ToDoList!$B:$B, $A682, ToDoList!$R:$R, E$2))","v":""},{"$f":"IF($A682 = \"\", \"\", COUNTIFS(ToDoList!$B:$B, $A682, ToDoList!$R:$R, F$2))","v":""},{"$f":"IF($A682 = \"\", \"\", COUNTIFS(ToDoList!$B:$B, $A682, ToDoList!$R:$R, G$2))","v":""},{"$f":"IF($A682 = \"\", \"\", COUNTIFS(ToDoList!$B:$B, $A682, ToDoList!$R:$R, H$2))","v":""},{"$f":"IF($A682 = \"\", \"\", COUNTIFS(ToDoList!$B:$B, $A682, ToDoList!$R:$R, I$2))","v":""},{"$f":"IF($A682 = \"\", \"\", COUNTIFS(ToDoList!$B:$B, $A682, ToDoList!$R:$R, J$2))","v":""}]
[null,{"$f":"IF($A683 = \"\", \"\", COUNTIFS(ToDoList!$B:$B, $A683, ToDoList!$R:$R, B$2))","v":""},{"$f":"IF($A683 = \"\", \"\", COUNTIFS(ToDoList!$B:$B, $A683, ToDoList!$R:$R, C$2))","v":""},{"$f":"IF($A683 = \"\", \"\", COUNTIFS(ToDoList!$B:$B, $A683, ToDoList!$R:$R, D$2))","v":""},{"$f":"IF($A683 = \"\", \"\", COUNTIFS(ToDoList!$B:$B, $A683, ToDoList!$R:$R, E$2))","v":""},{"$f":"IF($A683 = \"\", \"\", COUNTIFS(ToDoList!$B:$B, $A683, ToDoList!$R:$R, F$2))","v":""},{"$f":"IF($A683 = \"\", \"\", COUNTIFS(ToDoList!$B:$B, $A683, ToDoList!$R:$R, G$2))","v":""},{"$f":"IF($A683 = \"\", \"\", COUNTIFS(ToDoList!$B:$B, $A683, ToDoList!$R:$R, H$2))","v":""},{"$f":"IF($A683 = \"\", \"\", COUNTIFS(ToDoList!$B:$B, $A683, ToDoList!$R:$R, I$2))","v":""},{"$f":"IF($A683 = \"\", \"\", COUNTIFS(ToDoList!$B:$B, $A683, ToDoList!$R:$R, J$2))","v":""}]
[null,{"$f":"IF($A684 = \"\", \"\", COUNTIFS(ToDoList!$B:$B, $A684, ToDoList!$R:$R, B$2))","v":""},{"$f":"IF($A684 = \"\", \"\", COUNTIFS(ToDoList!$B:$B, $A684, ToDoList!$R:$R, C$2))","v":""},{"$f":"IF($A684 = \"\", \"\", COUNTIFS(ToDoList!$B:$B, $A684, ToDoList!$R:$R, D$2))","v":""},{"$f":"IF($A684 = \"\", \"\", COUNTIFS(ToDoList!$B:$B, $A684, ToDoList!$R:$R, E$2))","v":""},{"$f":"IF($A684 = \"\", \"\", COUNTIFS(ToDoList!$B:$B, $A684, ToDoList!$R:$R, F$2))","v":""},{"$f":"IF($A684 = \"\", \"\", COUNTIFS(ToDoList!$B:$B, $A684, ToDoList!$R:$R, G$2))","v":""},{"$f":"IF($A684 = \"\", \"\", COUNTIFS(ToDoList!$B:$B, $A684, ToDoList!$R:$R, H$2))","v":""},{"$f":"IF($A684 = \"\", \"\", COUNTIFS(ToDoList!$B:$B, $A684, ToDoList!$R:$R, I$2))","v":""},{"$f":"IF($A684 = \"\", \"\", COUNTIFS(ToDoList!$B:$B, $A684, ToDoList!$R:$R, J$2))","v":""}]
[null,{"$f":"IF($A685 = \"\", \"\", COUNTIFS(ToDoList!$B:$B, $A685, ToDoList!$R:$R, B$2))","v":""},{"$f":"IF($A685 = \"\", \"\", COUNTIFS(ToDoList!$B:$B, $A685, ToDoList!$R:$R, C$2))","v":""},{"$f":"IF($A685 = \"\", \"\", COUNTIFS(ToDoList!$B:$B, $A685, ToDoList!$R:$R, D$2))","v":""},{"$f":"IF($A685 = \"\", \"\", COUNTIFS(ToDoList!$B:$B, $A685, ToDoList!$R:$R, E$2))","v":""},{"$f":"IF($A685 = \"\", \"\", COUNTIFS(ToDoList!$B:$B, $A685, ToDoList!$R:$R, F$2))","v":""},{"$f":"IF($A685 = \"\", \"\", COUNTIFS(ToDoList!$B:$B, $A685, ToDoList!$R:$R, G$2))","v":""},{"$f":"IF($A685 = \"\", \"\", COUNTIFS(ToDoList!$B:$B, $A685, ToDoList!$R:$R, H$2))","v":""},{"$f":"IF($A685 = \"\", \"\", COUNTIFS(ToDoList!$B:$B, $A685, ToDoList!$R:$R, I$2))","v":""},{"$f":"IF($A685 = \"\", \"\", COUNTIFS(ToDoList!$B:$B, $A685, ToDoList!$R:$R, J$2))","v":""}]
[null,{"$f":"IF($A686 = \"\", \"\", COUNTIFS(ToDoList!$B:$B, $A686, ToDoList!$R:$R, B$2))","v":""},{"$f":"IF($A686 = \"\", \"\", COUNTIFS(ToDoList!$B:$B, $A686, ToDoList!$R:$R, C$2))","v":""},{"$f":"IF($A686 = \"\", \"\", COUNTIFS(ToDoList!$B:$B, $A686, ToDoList!$R:$R, D$2))","v":""},{"$f":"IF($A686 = \"\", \"\", COUNTIFS(ToDoList!$B:$B, $A686, ToDoList!$R:$R, E$2))","v":""},{"$f":"IF($A686 = \"\", \"\", COUNTIFS(ToDoList!$B:$B, $A686, ToDoList!$R:$R, F$2))","v":""},{"$f":"IF($A686 = \"\", \"\", COUNTIFS(ToDoList!$B:$B, $A686, ToDoList!$R:$R, G$2))","v":""},{"$f":"IF($A686 = \"\", \"\", COUNTIFS(ToDoList!$B:$B, $A686, ToDoList!$R:$R, H$2))","v":""},{"$f":"IF($A686 = \"\", \"\", COUNTIFS(ToDoList!$B:$B, $A686, ToDoList!$R:$R, I$2))","v":""},{"$f":"IF($A686 = \"\", \"\", COUNTIFS(ToDoList!$B:$B, $A686, ToDoList!$R:$R, J$2))","v":""}]
[null,{"$f":"IF($A687 = \"\", \"\", COUNTIFS(ToDoList!$B:$B, $A687, ToDoList!$R:$R, B$2))","v":""},{"$f":"IF($A687 = \"\", \"\", COUNTIFS(ToDoList!$B:$B, $A687, ToDoList!$R:$R, C$2))","v":""},{"$f":"IF($A687 = \"\", \"\", COUNTIFS(ToDoList!$B:$B, $A687, ToDoList!$R:$R, D$2))","v":""},{"$f":"IF($A687 = \"\", \"\", COUNTIFS(ToDoList!$B:$B, $A687, ToDoList!$R:$R, E$2))","v":""},{"$f":"IF($A687 = \"\", \"\", COUNTIFS(ToDoList!$B:$B, $A687, ToDoList!$R:$R, F$2))","v":""},{"$f":"IF($A687 = \"\", \"\", COUNTIFS(ToDoList!$B:$B, $A687, ToDoList!$R:$R, G$2))","v":""},{"$f":"IF($A687 = \"\", \"\", COUNTIFS(ToDoList!$B:$B, $A687, ToDoList!$R:$R, H$2))","v":""},{"$f":"IF($A687 = \"\", \"\", COUNTIFS(ToDoList!$B:$B, $A687, ToDoList!$R:$R, I$2))","v":""},{"$f":"IF($A687 = \"\", \"\", COUNTIFS(ToDoList!$B:$B, $A687, ToDoList!$R:$R, J$2))","v":""}]
[null,{"$f":"IF($A688 = \"\", \"\", COUNTIFS(ToDoList!$B:$B, $A688, ToDoList!$R:$R, B$2))","v":""},{"$f":"IF($A688 = \"\", \"\", COUNTIFS(ToDoList!$B:$B, $A688, ToDoList!$R:$R, C$2))","v":""},{"$f":"IF($A688 = \"\", \"\", COUNTIFS(ToDoList!$B:$B, $A688, ToDoList!$R:$R, D$2))","v":""},{"$f":"IF($A688 = \"\", \"\", COUNTIFS(ToDoList!$B:$B, $A688, ToDoList!$R:$R, E$2))","v":""},{"$f":"IF($A688 = \"\", \"\", COUNTIFS(ToDoList!$B:$B, $A688, ToDoList!$R:$R, F$2))","v":""},{"$f":"IF($A688 = \"\", \"\", COUNTIFS(ToDoList!$B:$B, $A688, ToDoList!$R:$R, G$2))","v":""},{"$f":"IF($A688 = \"\", \"\", COUNTIFS(ToDoList!$B:$B, $A688, ToDoList!$R:$R, H$2))","v":""},{"$f":"IF($A688 = \"\", \"\", COUNTIFS(ToDoList!$B:$B, $A688, ToDoList!$R:$R, I$2))","v":""},{"$f":"IF($A688 = \"\", \"\", COUNTIFS(ToDoList!$B:$B, $A688, ToDoList!$R:$R, J$2))","v":""}]
[null,{"$f":"IF($A689 = \"\", \"\", COUNTIFS(ToDoList!$B:$B, $A689, ToDoList!$R:$R, B$2))","v":""},{"$f":"IF($A689 = \"\", \"\", COUNTIFS(ToDoList!$B:$B, $A689, ToDoList!$R:$R, C$2))","v":""},{"$f":"IF($A689 = \"\", \"\", COUNTIFS(ToDoList!$B:$B, $A689, ToDoList!$R:$R, D$2))","v":""},{"$f":"IF($A689 = \"\", \"\", COUNTIFS(ToDoList!$B:$B, $A689, ToDoList!$R:$R, E$2))","v":""},{"$f":"IF($A689 = \"\", \"\", COUNTIFS(ToDoList!$B:$B, $A689, ToDoList!$R:$R, F$2))","v":""},{"$f":"IF($A689 = \"\", \"\", COUNTIFS(ToDoList!$B:$B, $A689, ToDoList!$R:$R, G$2))","v":""},{"$f":"IF($A689 = \"\", \"\", COUNTIFS(ToDoList!$B:$B, $A689, ToDoList!$R:$R, H$2))","v":""},{"$f":"IF($A689 = \"\", \"\", COUNTIFS(ToDoList!$B:$B, $A689, ToDoList!$R:$R, I$2))","v":""},{"$f":"IF($A689 = \"\", \"\", COUNTIFS(ToDoList!$B:$B, $A689, ToDoList!$R:$R, J$2))","v":""}]
[null,{"$f":"IF($A690 = \"\", \"\", COUNTIFS(ToDoList!$B:$B, $A690, ToDoList!$R:$R, B$2))","v":""},{"$f":"IF($A690 = \"\", \"\", COUNTIFS(ToDoList!$B:$B, $A690, ToDoList!$R:$R, C$2))","v":""},{"$f":"IF($A690 = \"\", \"\", COUNTIFS(ToDoList!$B:$B, $A690, ToDoList!$R:$R, D$2))","v":""},{"$f":"IF($A690 = \"\", \"\", COUNTIFS(ToDoList!$B:$B, $A690, ToDoList!$R:$R, E$2))","v":""},{"$f":"IF($A690 = \"\", \"\", COUNTIFS(ToDoList!$B:$B, $A690, ToDoList!$R:$R, F$2))","v":""},{"$f":"IF($A690 = \"\", \"\", COUNTIFS(ToDoList!$B:$B, $A690, ToDoList!$R:$R, G$2))","v":""},{"$f":"IF($A690 = \"\", \"\", COUNTIFS(ToDoList!$B:$B, $A690, ToDoList!$R:$R, H$2))","v":""},{"$f":"IF($A690 = \"\", \"\", COUNTIFS(ToDoList!$B:$B, $A690, ToDoList!$R:$R, I$2))","v":""},{"$f":"IF($A690 = \"\", \"\", COUNTIFS(ToDoList!$B:$B, $A690, ToDoList!$R:$R, J$2))","v":""}]
[null,{"$f":"IF($A691 = \"\", \"\", COUNTIFS(ToDoList!$B:$B, $A691, ToDoList!$R:$R, B$2))","v":""},{"$f":"IF($A691 = \"\", \"\", COUNTIFS(ToDoList!$B:$B, $A691, ToDoList!$R:$R, C$2))","v":""},{"$f":"IF($A691 = \"\", \"\", COUNTIFS(ToDoList!$B:$B, $A691, ToDoList!$R:$R, D$2))","v":""},{"$f":"IF($A691 = \"\", \"\", COUNTIFS(ToDoList!$B:$B, $A691, ToDoList!$R:$R, E$2))","v":""},{"$f":"IF($A691 = \"\", \"\", COUNTIFS(ToDoList!$B:$B, $A691, ToDoList!$R:$R, F$2))","v":""},{"$f":"IF($A691 = \"\", \"\", COUNTIFS(ToDoList!$B:$B, $A691, ToDoList!$R:$R, G$2))","v":""},{"$f":"IF($A691 = \"\", \"\", COUNTIFS(ToDoList!$B:$B, $A691, ToDoList!$R:$R, H$2))","v":""},{"$f":"IF($A691 = \"\", \"\", COUNTIFS(ToDoList!$B:$B, $A691, ToDoList!$R:$R, I$2))","v":""},{"$f":"IF($A691 = \"\", \"\", COUNTIFS(ToDoList!$B:$B, $A691, ToDoList!$R:$R, J$2))","v":""}]
[null,{"$f":"IF($A692 = \"\", \"\", COUNTIFS(ToDoList!$B:$B, $A692, ToDoList!$R:$R, B$2))","v":""},{"$f":"IF($A692 = \"\", \"\", COUNTIFS(ToDoList!$B:$B, $A692, ToDoList!$R:$R, C$2))","v":""},{"$f":"IF($A692 = \"\", \"\", COUNTIFS(ToDoList!$B:$B, $A692, ToDoList!$R:$R, D$2))","v":""},{"$f":"IF($A692 = \"\", \"\", COUNTIFS(ToDoList!$B:$B, $A692, ToDoList!$R:$R, E$2))","v":""},{"$f":"IF($A692 = \"\", \"\", COUNTIFS(ToDoList!$B:$B, $A692, ToDoList!$R:$R, F$2))","v":""},{"$f":"IF($A692 = \"\", \"\", COUNTIFS(ToDoList!$B:$B, $A692, ToDoList!$R:$R, G$2))","v":""},{"$f":"IF($A692 = \"\", \"\", COUNTIFS(ToDoList!$B:$B, $A692, ToDoList!$R:$R, H$2))","v":""},{"$f":"IF($A692 = \"\", \"\", COUNTIFS(ToDoList!$B:$B, $A692, ToDoList!$R:$R, I$2))","v":""},{"$f":"IF($A692 = \"\", \"\", COUNTIFS(ToDoList!$B:$B, $A692, ToDoList!$R:$R, J$2))","v":""}]
[null,{"$f":"IF($A693 = \"\", \"\", COUNTIFS(ToDoList!$B:$B, $A693, ToDoList!$R:$R, B$2))","v":""},{"$f":"IF($A693 = \"\", \"\", COUNTIFS(ToDoList!$B:$B, $A693, ToDoList!$R:$R, C$2))","v":""},{"$f":"IF($A693 = \"\", \"\", COUNTIFS(ToDoList!$B:$B, $A693, ToDoList!$R:$R, D$2))","v":""},{"$f":"IF($A693 = \"\", \"\", COUNTIFS(ToDoList!$B:$B, $A693, ToDoList!$R:$R, E$2))","v":""},{"$f":"IF($A693 = \"\", \"\", COUNTIFS(ToDoList!$B:$B, $A693, ToDoList!$R:$R, F$2))","v":""},{"$f":"IF($A693 = \"\", \"\", COUNTIFS(ToDoList!$B:$B, $A693, ToDoList!$R:$R, G$2))","v":""},{"$f":"IF($A693 = \"\", \"\", COUNTIFS(ToDoList!$B:$B, $A693, ToDoList!$R:$R, H$2))","v":""},{"$f":"IF($A693 = \"\", \"\", COUNTIFS(ToDoList!$B:$B, $A693, ToDoList!$R:$R, I$2))","v":""},{"$f":"IF($A693 = \"\", \"\", COUNTIFS(ToDoList!$B:$B, $A693, ToDoList!$R:$R, J$2))","v":""}]
[null,{"$f":"IF($A694 = \"\", \"\", COUNTIFS(ToDoList!$B:$B, $A694, ToDoList!$R:$R, B$2))","v":""},{"$f":"IF($A694 = \"\", \"\", COUNTIFS(ToDoList!$B:$B, $A694, ToDoList!$R:$R, C$2))","v":""},{"$f":"IF($A694 = \"\", \"\", COUNTIFS(ToDoList!$B:$B, $A694, ToDoList!$R:$R, D$2))","v":""},{"$f":"IF($A694 = \"\", \"\", COUNTIFS(ToDoList!$B:$B, $A694, ToDoList!$R:$R, E$2))","v":""},{"$f":"IF($A694 = \"\", \"\", COUNTIFS(ToDoList!$B:$B, $A694, ToDoList!$R:$R, F$2))","v":""},{"$f":"IF($A694 = \"\", \"\", COUNTIFS(ToDoList!$B:$B, $A694, ToDoList!$R:$R, G$2))","v":""},{"$f":"IF($A694 = \"\", \"\", COUNTIFS(ToDoList!$B:$B, $A694, ToDoList!$R:$R, H$2))","v":""},{"$f":"IF($A694 = \"\", \"\", COUNTIFS(ToDoList!$B:$B, $A694, ToDoList!$R:$R, I$2))","v":""},{"$f":"IF($A694 = \"\", \"\", COUNTIFS(ToDoList!$B:$B, $A694, ToDoList!$R:$R, J$2))","v":""}]
[null,{"$f":"IF($A695 = \"\", \"\", COUNTIFS(ToDoList!$B:$B, $A695, ToDoList!$R:$R, B$2))","v":""},{"$f":"IF($A695 = \"\", \"\", COUNTIFS(ToDoList!$B:$B, $A695, ToDoList!$R:$R, C$2))","v":""},{"$f":"IF($A695 = \"\", \"\", COUNTIFS(ToDoList!$B:$B, $A695, ToDoList!$R:$R, D$2))","v":""},{"$f":"IF($A695 = \"\", \"\", COUNTIFS(ToDoList!$B:$B, $A695, ToDoList!$R:$R, E$2))","v":""},{"$f":"IF($A695 = \"\", \"\", COUNTIFS(ToDoList!$B:$B, $A695, ToDoList!$R:$R, F$2))","v":""},{"$f":"IF($A695 = \"\", \"\", COUNTIFS(ToDoList!$B:$B, $A695, ToDoList!$R:$R, G$2))","v":""},{"$f":"IF($A695 = \"\", \"\", COUNTIFS(ToDoList!$B:$B, $A695, ToDoList!$R:$R, H$2))","v":""},{"$f":"IF($A695 = \"\", \"\", COUNTIFS(ToDoList!$B:$B, $A695, ToDoList!$R:$R, I$2))","v":""},{"$f":"IF($A695 = \"\", \"\", COUNTIFS(ToDoList!$B:$B, $A695, ToDoList!$R:$R, J$2))","v":""}]
[null,{"$f":"IF($A696 = \"\", \"\", COUNTIFS(ToDoList!$B:$B, $A696, ToDoList!$R:$R, B$2))","v":""},{"$f":"IF($A696 = \"\", \"\", COUNTIFS(ToDoList!$B:$B, $A696, ToDoList!$R:$R, C$2))","v":""},{"$f":"IF($A696 = \"\", \"\", COUNTIFS(ToDoList!$B:$B, $A696, ToDoList!$R:$R, D$2))","v":""},{"$f":"IF($A696 = \"\", \"\", COUNTIFS(ToDoList!$B:$B, $A696, ToDoList!$R:$R, E$2))","v":""},{"$f":"IF($A696 = \"\", \"\", COUNTIFS(ToDoList!$B:$B, $A696, ToDoList!$R:$R, F$2))","v":""},{"$f":"IF($A696 = \"\", \"\", COUNTIFS(ToDoList!$B:$B, $A696, ToDoList!$R:$R, G$2))","v":""},{"$f":"IF($A696 = \"\", \"\", COUNTIFS(ToDoList!$B:$B, $A696, ToDoList!$R:$R, H$2))","v":""},{"$f":"IF($A696 = \"\", \"\", COUNTIFS(ToDoList!$B:$B, $A696, ToDoList!$R:$R, I$2))","v":""},{"$f":"IF($A696 = \"\", \"\", COUNTIFS(ToDoList!$B:$B, $A696, ToDoList!$R:$R, J$2))","v":""}]
[null,{"$f":"IF($A697 = \"\", \"\", COUNTIFS(ToDoList!$B:$B, $A697, ToDoList!$R:$R, B$2))","v":""},{"$f":"IF($A697 = \"\", \"\", COUNTIFS(ToDoList!$B:$B, $A697, ToDoList!$R:$R, C$2))","v":""},{"$f":"IF($A697 = \"\", \"\", COUNTIFS(ToDoList!$B:$B, $A697, ToDoList!$R:$R, D$2))","v":""},{"$f":"IF($A697 = \"\", \"\", COUNTIFS(ToDoList!$B:$B, $A697, ToDoList!$R:$R, E$2))","v":""},{"$f":"IF($A697 = \"\", \"\", COUNTIFS(ToDoList!$B:$B, $A697, ToDoList!$R:$R, F$2))","v":""},{"$f":"IF($A697 = \"\", \"\", COUNTIFS(ToDoList!$B:$B, $A697, ToDoList!$R:$R, G$2))","v":""},{"$f":"IF($A697 = \"\", \"\", COUNTIFS(ToDoList!$B:$B, $A697, ToDoList!$R:$R, H$2))","v":""},{"$f":"IF($A697 = \"\", \"\", COUNTIFS(ToDoList!$B:$B, $A697, ToDoList!$R:$R, I$2))","v":""},{"$f":"IF($A697 = \"\", \"\", COUNTIFS(ToDoList!$B:$B, $A697, ToDoList!$R:$R, J$2))","v":""}]
[null,{"$f":"IF($A698 = \"\", \"\", COUNTIFS(ToDoList!$B:$B, $A698, ToDoList!$R:$R, B$2))","v":""},{"$f":"IF($A698 = \"\", \"\", COUNTIFS(ToDoList!$B:$B, $A698, ToDoList!$R:$R, C$2))","v":""},{"$f":"IF($A698 = \"\", \"\", COUNTIFS(ToDoList!$B:$B, $A698, ToDoList!$R:$R, D$2))","v":""},{"$f":"IF($A698 = \"\", \"\", COUNTIFS(ToDoList!$B:$B, $A698, ToDoList!$R:$R, E$2))","v":""},{"$f":"IF($A698 = \"\", \"\", COUNTIFS(ToDoList!$B:$B, $A698, ToDoList!$R:$R, F$2))","v":""},{"$f":"IF($A698 = \"\", \"\", COUNTIFS(ToDoList!$B:$B, $A698, ToDoList!$R:$R, G$2))","v":""},{"$f":"IF($A698 = \"\", \"\", COUNTIFS(ToDoList!$B:$B, $A698, ToDoList!$R:$R, H$2))","v":""},{"$f":"IF($A698 = \"\", \"\", COUNTIFS(ToDoList!$B:$B, $A698, ToDoList!$R:$R, I$2))","v":""},{"$f":"IF($A698 = \"\", \"\", COUNTIFS(ToDoList!$B:$B, $A698, ToDoList!$R:$R, J$2))","v":""}]
[null,{"$f":"IF($A699 = \"\", \"\", COUNTIFS(ToDoList!$B:$B, $A699, ToDoList!$R:$R, B$2))","v":""},{"$f":"IF($A699 = \"\", \"\", COUNTIFS(ToDoList!$B:$B, $A699, ToDoList!$R:$R, C$2))","v":""},{"$f":"IF($A699 = \"\", \"\", COUNTIFS(ToDoList!$B:$B, $A699, ToDoList!$R:$R, D$2))","v":""},{"$f":"IF($A699 = \"\", \"\", COUNTIFS(ToDoList!$B:$B, $A699, ToDoList!$R:$R, E$2))","v":""},{"$f":"IF($A699 = \"\", \"\", COUNTIFS(ToDoList!$B:$B, $A699, ToDoList!$R:$R, F$2))","v":""},{"$f":"IF($A699 = \"\", \"\", COUNTIFS(ToDoList!$B:$B, $A699, ToDoList!$R:$R, G$2))","v":""},{"$f":"IF($A699 = \"\", \"\", COUNTIFS(ToDoList!$B:$B, $A699, ToDoList!$R:$R, H$2))","v":""},{"$f":"IF($A699 = \"\", \"\", COUNTIFS(ToDoList!$B:$B, $A699, ToDoList!$R:$R, I$2))","v":""},{"$f":"IF($A699 = \"\", \"\", COUNTIFS(ToDoList!$B:$B, $A699, ToDoList!$R:$R, J$2))","v":""}]
[null,{"$f":"IF($A700 = \"\", \"\", COUNTIFS(ToDoList!$B:$B, $A700, ToDoList!$R:$R, B$2))","v":""},{"$f":"IF($A700 = \"\", \"\", COUNTIFS(ToDoList!$B:$B, $A700, ToDoList!$R:$R, C$2))","v":""},{"$f":"IF($A700 = \"\", \"\", COUNTIFS(ToDoList!$B:$B, $A700, ToDoList!$R:$R, D$2))","v":""},{"$f":"IF($A700 = \"\", \"\", COUNTIFS(ToDoList!$B:$B, $A700, ToDoList!$R:$R, E$2))","v":""},{"$f":"IF($A700 = \"\", \"\", COUNTIFS(ToDoList!$B:$B, $A700, ToDoList!$R:$R, F$2))","v":""},{"$f":"IF($A700 = \"\", \"\", COUNTIFS(ToDoList!$B:$B, $A700, ToDoList!$R:$R, G$2))","v":""},{"$f":"IF($A700 = \"\", \"\", COUNTIFS(ToDoList!$B:$B, $A700, ToDoList!$R:$R, H$2))","v":""},{"$f":"IF($A700 = \"\", \"\", COUNTIFS(ToDoList!$B:$B, $A700, ToDoList!$R:$R, I$2))","v":""},{"$f":"IF($A700 = \"\", \"\", COUNTIFS(ToDoList!$B:$B, $A700, ToDoList!$R:$R, J$2))","v":""}]
[null,{"$f":"IF($A701 = \"\", \"\", COUNTIFS(ToDoList!$B:$B, $A701, ToDoList!$R:$R, B$2))","v":""},{"$f":"IF($A701 = \"\", \"\", COUNTIFS(ToDoList!$B:$B, $A701, ToDoList!$R:$R, C$2))","v":""},{"$f":"IF($A701 = \"\", \"\", COUNTIFS(ToDoList!$B:$B, $A701, ToDoList!$R:$R, D$2))","v":""},{"$f":"IF($A701 = \"\", \"\", COUNTIFS(ToDoList!$B:$B, $A701, ToDoList!$R:$R, E$2))","v":""},{"$f":"IF($A701 = \"\", \"\", COUNTIFS(ToDoList!$B:$B, $A701, ToDoList!$R:$R, F$2))","v":""},{"$f":"IF($A701 = \"\", \"\", COUNTIFS(ToDoList!$B:$B, $A701, ToDoList!$R:$R, G$2))","v":""},{"$f":"IF($A701 = \"\", \"\", COUNTIFS(ToDoList!$B:$B, $A701, ToDoList!$R:$R, H$2))","v":""},{"$f":"IF($A701 = \"\", \"\", COUNTIFS(ToDoList!$B:$B, $A701, ToDoList!$R:$R, I$2))","v":""},{"$f":"IF($A701 = \"\", \"\", COUNTIFS(ToDoList!$B:$B, $A701, ToDoList!$R:$R, J$2))","v":""}]
[null,{"$f":"IF($A702 = \"\", \"\", COUNTIFS(ToDoList!$B:$B, $A702, ToDoList!$R:$R, B$2))","v":""},{"$f":"IF($A702 = \"\", \"\", COUNTIFS(ToDoList!$B:$B, $A702, ToDoList!$R:$R, C$2))","v":""},{"$f":"IF($A702 = \"\", \"\", COUNTIFS(ToDoList!$B:$B, $A702, ToDoList!$R:$R, D$2))","v":""},{"$f":"IF($A702 = \"\", \"\", COUNTIFS(ToDoList!$B:$B, $A702, ToDoList!$R:$R, E$2))","v":""},{"$f":"IF($A702 = \"\", \"\", COUNTIFS(ToDoList!$B:$B, $A702, ToDoList!$R:$R, F$2))","v":""},{"$f":"IF($A702 = \"\", \"\", COUNTIFS(ToDoList!$B:$B, $A702, ToDoList!$R:$R, G$2))","v":""},{"$f":"IF($A702 = \"\", \"\", COUNTIFS(ToDoList!$B:$B, $A702, ToDoList!$R:$R, H$2))","v":""},{"$f":"IF($A702 = \"\", \"\", COUNTIFS(ToDoList!$B:$B, $A702, ToDoList!$R:$R, I$2))","v":""},{"$f":"IF($A702 = \"\", \"\", COUNTIFS(ToDoList!$B:$B, $A702, ToDoList!$R:$R, J$2))","v":""}]
[null,{"$f":"IF($A703 = \"\", \"\", COUNTIFS(ToDoList!$B:$B, $A703, ToDoList!$R:$R, B$2))","v":""},{"$f":"IF($A703 = \"\", \"\", COUNTIFS(ToDoList!$B:$B, $A703, ToDoList!$R:$R, C$2))","v":""},{"$f":"IF($A703 = \"\", \"\", COUNTIFS(ToDoList!$B:$B, $A703, ToDoList!$R:$R, D$2))","v":""},{"$f":"IF($A703 = \"\", \"\", COUNTIFS(ToDoList!$B:$B, $A703, ToDoList!$R:$R, E$2))","v":""},{"$f":"IF($A703 = \"\", \"\", COUNTIFS(ToDoList!$B:$B, $A703, ToDoList!$R:$R, F$2))","v":""},{"$f":"IF($A703 = \"\", \"\", COUNTIFS(ToDoList!$B:$B, $A703, ToDoList!$R:$R, G$2))","v":""},{"$f":"IF($A703 = \"\", \"\", COUNTIFS(ToDoList!$B:$B, $A703, ToDoList!$R:$R, H$2))","v":""},{"$f":"IF($A703 = \"\", \"\", COUNTIFS(ToDoList!$B:$B, $A703, ToDoList!$R:$R, I$2))","v":""},{"$f":"IF($A703 = \"\", \"\", COUNTIFS(ToDoList!$B:$B, $A703, ToDoList!$R:$R, J$2))","v":""}]
[null,{"$f":"IF($A704 = \"\", \"\", COUNTIFS(ToDoList!$B:$B, $A704, ToDoList!$R:$R, B$2))","v":""},{"$f":"IF($A704 = \"\", \"\", COUNTIFS(ToDoList!$B:$B, $A704, ToDoList!$R:$R, C$2))","v":""},{"$f":"IF($A704 = \"\", \"\", COUNTIFS(ToDoList!$B:$B, $A704, ToDoList!$R:$R, D$2))","v":""},{"$f":"IF($A704 = \"\", \"\", COUNTIFS(ToDoList!$B:$B, $A704, ToDoList!$R:$R, E$2))","v":""},{"$f":"IF($A704 = \"\", \"\", COUNTIFS(ToDoList!$B:$B, $A704, ToDoList!$R:$R, F$2))","v":""},{"$f":"IF($A704 = \"\", \"\", COUNTIFS(ToDoList!$B:$B, $A704, ToDoList!$R:$R, G$2))","v":""},{"$f":"IF($A704 = \"\", \"\", COUNTIFS(ToDoList!$B:$B, $A704, ToDoList!$R:$R, H$2))","v":""},{"$f":"IF($A704 = \"\", \"\", COUNTIFS(ToDoList!$B:$B, $A704, ToDoList!$R:$R, I$2))","v":""},{"$f":"IF($A704 = \"\", \"\", COUNTIFS(ToDoList!$B:$B, $A704, ToDoList!$R:$R, J$2))","v":""}]
[null,{"$f":"IF($A705 = \"\", \"\", COUNTIFS(ToDoList!$B:$B, $A705, ToDoList!$R:$R, B$2))","v":""},{"$f":"IF($A705 = \"\", \"\", COUNTIFS(ToDoList!$B:$B, $A705, ToDoList!$R:$R, C$2))","v":""},{"$f":"IF($A705 = \"\", \"\", COUNTIFS(ToDoList!$B:$B, $A705, ToDoList!$R:$R, D$2))","v":""},{"$f":"IF($A705 = \"\", \"\", COUNTIFS(ToDoList!$B:$B, $A705, ToDoList!$R:$R, E$2))","v":""},{"$f":"IF($A705 = \"\", \"\", COUNTIFS(ToDoList!$B:$B, $A705, ToDoList!$R:$R, F$2))","v":""},{"$f":"IF($A705 = \"\", \"\", COUNTIFS(ToDoList!$B:$B, $A705, ToDoList!$R:$R, G$2))","v":""},{"$f":"IF($A705 = \"\", \"\", COUNTIFS(ToDoList!$B:$B, $A705, ToDoList!$R:$R, H$2))","v":""},{"$f":"IF($A705 = \"\", \"\", COUNTIFS(ToDoList!$B:$B, $A705, ToDoList!$R:$R, I$2))","v":""},{"$f":"IF($A705 = \"\", \"\", COUNTIFS(ToDoList!$B:$B, $A705, ToDoList!$R:$R, J$2))","v":""}]
[null,{"$f":"IF($A706 = \"\", \"\", COUNTIFS(ToDoList!$B:$B, $A706, ToDoList!$R:$R, B$2))","v":""},{"$f":"IF($A706 = \"\", \"\", COUNTIFS(ToDoList!$B:$B, $A706, ToDoList!$R:$R, C$2))","v":""},{"$f":"IF($A706 = \"\", \"\", COUNTIFS(ToDoList!$B:$B, $A706, ToDoList!$R:$R, D$2))","v":""},{"$f":"IF($A706 = \"\", \"\", COUNTIFS(ToDoList!$B:$B, $A706, ToDoList!$R:$R, E$2))","v":""},{"$f":"IF($A706 = \"\", \"\", COUNTIFS(ToDoList!$B:$B, $A706, ToDoList!$R:$R, F$2))","v":""},{"$f":"IF($A706 = \"\", \"\", COUNTIFS(ToDoList!$B:$B, $A706, ToDoList!$R:$R, G$2))","v":""},{"$f":"IF($A706 = \"\", \"\", COUNTIFS(ToDoList!$B:$B, $A706, ToDoList!$R:$R, H$2))","v":""},{"$f":"IF($A706 = \"\", \"\", COUNTIFS(ToDoList!$B:$B, $A706, ToDoList!$R:$R, I$2))","v":""},{"$f":"IF($A706 = \"\", \"\", COUNTIFS(ToDoList!$B:$B, $A706, ToDoList!$R:$R, J$2))","v":""}]
[null,{"$f":"IF($A707 = \"\", \"\", COUNTIFS(ToDoList!$B:$B, $A707, ToDoList!$R:$R, B$2))","v":""},{"$f":"IF($A707 = \"\", \"\", COUNTIFS(ToDoList!$B:$B, $A707, ToDoList!$R:$R, C$2))","v":""},{"$f":"IF($A707 = \"\", \"\", COUNTIFS(ToDoList!$B:$B, $A707, ToDoList!$R:$R, D$2))","v":""},{"$f":"IF($A707 = \"\", \"\", COUNTIFS(ToDoList!$B:$B, $A707, ToDoList!$R:$R, E$2))","v":""},{"$f":"IF($A707 = \"\", \"\", COUNTIFS(ToDoList!$B:$B, $A707, ToDoList!$R:$R, F$2))","v":""},{"$f":"IF($A707 = \"\", \"\", COUNTIFS(ToDoList!$B:$B, $A707, ToDoList!$R:$R, G$2))","v":""},{"$f":"IF($A707 = \"\", \"\", COUNTIFS(ToDoList!$B:$B, $A707, ToDoList!$R:$R, H$2))","v":""},{"$f":"IF($A707 = \"\", \"\", COUNTIFS(ToDoList!$B:$B, $A707, ToDoList!$R:$R, I$2))","v":""},{"$f":"IF($A707 = \"\", \"\", COUNTIFS(ToDoList!$B:$B, $A707, ToDoList!$R:$R, J$2))","v":""}]
[null,{"$f":"IF($A708 = \"\", \"\", COUNTIFS(ToDoList!$B:$B, $A708, ToDoList!$R:$R, B$2))","v":""},{"$f":"IF($A708 = \"\", \"\", COUNTIFS(ToDoList!$B:$B, $A708, ToDoList!$R:$R, C$2))","v":""},{"$f":"IF($A708 = \"\", \"\", COUNTIFS(ToDoList!$B:$B, $A708, ToDoList!$R:$R, D$2))","v":""},{"$f":"IF($A708 = \"\", \"\", COUNTIFS(ToDoList!$B:$B, $A708, ToDoList!$R:$R, E$2))","v":""},{"$f":"IF($A708 = \"\", \"\", COUNTIFS(ToDoList!$B:$B, $A708, ToDoList!$R:$R, F$2))","v":""},{"$f":"IF($A708 = \"\", \"\", COUNTIFS(ToDoList!$B:$B, $A708, ToDoList!$R:$R, G$2))","v":""},{"$f":"IF($A708 = \"\", \"\", COUNTIFS(ToDoList!$B:$B, $A708, ToDoList!$R:$R, H$2))","v":""},{"$f":"IF($A708 = \"\", \"\", COUNTIFS(ToDoList!$B:$B, $A708, ToDoList!$R:$R, I$2))","v":""},{"$f":"IF($A708 = \"\", \"\", COUNTIFS(ToDoList!$B:$B, $A708, ToDoList!$R:$R, J$2))","v":""}]
[null,{"$f":"IF($A709 = \"\", \"\", COUNTIFS(ToDoList!$B:$B, $A709, ToDoList!$R:$R, B$2))","v":""},{"$f":"IF($A709 = \"\", \"\", COUNTIFS(ToDoList!$B:$B, $A709, ToDoList!$R:$R, C$2))","v":""},{"$f":"IF($A709 = \"\", \"\", COUNTIFS(ToDoList!$B:$B, $A709, ToDoList!$R:$R, D$2))","v":""},{"$f":"IF($A709 = \"\", \"\", COUNTIFS(ToDoList!$B:$B, $A709, ToDoList!$R:$R, E$2))","v":""},{"$f":"IF($A709 = \"\", \"\", COUNTIFS(ToDoList!$B:$B, $A709, ToDoList!$R:$R, F$2))","v":""},{"$f":"IF($A709 = \"\", \"\", COUNTIFS(ToDoList!$B:$B, $A709, ToDoList!$R:$R, G$2))","v":""},{"$f":"IF($A709 = \"\", \"\", COUNTIFS(ToDoList!$B:$B, $A709, ToDoList!$R:$R, H$2))","v":""},{"$f":"IF($A709 = \"\", \"\", COUNTIFS(ToDoList!$B:$B, $A709, ToDoList!$R:$R, I$2))","v":""},{"$f":"IF($A709 = \"\", \"\", COUNTIFS(ToDoList!$B:$B, $A709, ToDoList!$R:$R, J$2))","v":""}]
[null,{"$f":"IF($A710 = \"\", \"\", COUNTIFS(ToDoList!$B:$B, $A710, ToDoList!$R:$R, B$2))","v":""},{"$f":"IF($A710 = \"\", \"\", COUNTIFS(ToDoList!$B:$B, $A710, ToDoList!$R:$R, C$2))","v":""},{"$f":"IF($A710 = \"\", \"\", COUNTIFS(ToDoList!$B:$B, $A710, ToDoList!$R:$R, D$2))","v":""},{"$f":"IF($A710 = \"\", \"\", COUNTIFS(ToDoList!$B:$B, $A710, ToDoList!$R:$R, E$2))","v":""},{"$f":"IF($A710 = \"\", \"\", COUNTIFS(ToDoList!$B:$B, $A710, ToDoList!$R:$R, F$2))","v":""},{"$f":"IF($A710 = \"\", \"\", COUNTIFS(ToDoList!$B:$B, $A710, ToDoList!$R:$R, G$2))","v":""},{"$f":"IF($A710 = \"\", \"\", COUNTIFS(ToDoList!$B:$B, $A710, ToDoList!$R:$R, H$2))","v":""},{"$f":"IF($A710 = \"\", \"\", COUNTIFS(ToDoList!$B:$B, $A710, ToDoList!$R:$R, I$2))","v":""},{"$f":"IF($A710 = \"\", \"\", COUNTIFS(ToDoList!$B:$B, $A710, ToDoList!$R:$R, J$2))","v":""}]
[null,{"$f":"IF($A711 = \"\", \"\", COUNTIFS(ToDoList!$B:$B, $A711, ToDoList!$R:$R, B$2))","v":""},{"$f":"IF($A711 = \"\", \"\", COUNTIFS(ToDoList!$B:$B, $A711, ToDoList!$R:$R, C$2))","v":""},{"$f":"IF($A711 = \"\", \"\", COUNTIFS(ToDoList!$B:$B, $A711, ToDoList!$R:$R, D$2))","v":""},{"$f":"IF($A711 = \"\", \"\", COUNTIFS(ToDoList!$B:$B, $A711, ToDoList!$R:$R, E$2))","v":""},{"$f":"IF($A711 = \"\", \"\", COUNTIFS(ToDoList!$B:$B, $A711, ToDoList!$R:$R, F$2))","v":""},{"$f":"IF($A711 = \"\", \"\", COUNTIFS(ToDoList!$B:$B, $A711, ToDoList!$R:$R, G$2))","v":""},{"$f":"IF($A711 = \"\", \"\", COUNTIFS(ToDoList!$B:$B, $A711, ToDoList!$R:$R, H$2))","v":""},{"$f":"IF($A711 = \"\", \"\", COUNTIFS(ToDoList!$B:$B, $A711, ToDoList!$R:$R, I$2))","v":""},{"$f":"IF($A711 = \"\", \"\", COUNTIFS(ToDoList!$B:$B, $A711, ToDoList!$R:$R, J$2))","v":""}]
[null,{"$f":"IF($A712 = \"\", \"\", COUNTIFS(ToDoList!$B:$B, $A712, ToDoList!$R:$R, B$2))","v":""},{"$f":"IF($A712 = \"\", \"\", COUNTIFS(ToDoList!$B:$B, $A712, ToDoList!$R:$R, C$2))","v":""},{"$f":"IF($A712 = \"\", \"\", COUNTIFS(ToDoList!$B:$B, $A712, ToDoList!$R:$R, D$2))","v":""},{"$f":"IF($A712 = \"\", \"\", COUNTIFS(ToDoList!$B:$B, $A712, ToDoList!$R:$R, E$2))","v":""},{"$f":"IF($A712 = \"\", \"\", COUNTIFS(ToDoList!$B:$B, $A712, ToDoList!$R:$R, F$2))","v":""},{"$f":"IF($A712 = \"\", \"\", COUNTIFS(ToDoList!$B:$B, $A712, ToDoList!$R:$R, G$2))","v":""},{"$f":"IF($A712 = \"\", \"\", COUNTIFS(ToDoList!$B:$B, $A712, ToDoList!$R:$R, H$2))","v":""},{"$f":"IF($A712 = \"\", \"\", COUNTIFS(ToDoList!$B:$B, $A712, ToDoList!$R:$R, I$2))","v":""},{"$f":"IF($A712 = \"\", \"\", COUNTIFS(ToDoList!$B:$B, $A712, ToDoList!$R:$R, J$2))","v":""}]
[null,{"$f":"IF($A713 = \"\", \"\", COUNTIFS(ToDoList!$B:$B, $A713, ToDoList!$R:$R, B$2))","v":""},{"$f":"IF($A713 = \"\", \"\", COUNTIFS(ToDoList!$B:$B, $A713, ToDoList!$R:$R, C$2))","v":""},{"$f":"IF($A713 = \"\", \"\", COUNTIFS(ToDoList!$B:$B, $A713, ToDoList!$R:$R, D$2))","v":""},{"$f":"IF($A713 = \"\", \"\", COUNTIFS(ToDoList!$B:$B, $A713, ToDoList!$R:$R, E$2))","v":""},{"$f":"IF($A713 = \"\", \"\", COUNTIFS(ToDoList!$B:$B, $A713, ToDoList!$R:$R, F$2))","v":""},{"$f":"IF($A713 = \"\", \"\", COUNTIFS(ToDoList!$B:$B, $A713, ToDoList!$R:$R, G$2))","v":""},{"$f":"IF($A713 = \"\", \"\", COUNTIFS(ToDoList!$B:$B, $A713, ToDoList!$R:$R, H$2))","v":""},{"$f":"IF($A713 = \"\", \"\", COUNTIFS(ToDoList!$B:$B, $A713, ToDoList!$R:$R, I$2))","v":""},{"$f":"IF($A713 = \"\", \"\", COUNTIFS(ToDoList!$B:$B, $A713, ToDoList!$R:$R, J$2))","v":""}]
[null,{"$f":"IF($A714 = \"\", \"\", COUNTIFS(ToDoList!$B:$B, $A714, ToDoList!$R:$R, B$2))","v":""},{"$f":"IF($A714 = \"\", \"\", COUNTIFS(ToDoList!$B:$B, $A714, ToDoList!$R:$R, C$2))","v":""},{"$f":"IF($A714 = \"\", \"\", COUNTIFS(ToDoList!$B:$B, $A714, ToDoList!$R:$R, D$2))","v":""},{"$f":"IF($A714 = \"\", \"\", COUNTIFS(ToDoList!$B:$B, $A714, ToDoList!$R:$R, E$2))","v":""},{"$f":"IF($A714 = \"\", \"\", COUNTIFS(ToDoList!$B:$B, $A714, ToDoList!$R:$R, F$2))","v":""},{"$f":"IF($A714 = \"\", \"\", COUNTIFS(ToDoList!$B:$B, $A714, ToDoList!$R:$R, G$2))","v":""},{"$f":"IF($A714 = \"\", \"\", COUNTIFS(ToDoList!$B:$B, $A714, ToDoList!$R:$R, H$2))","v":""},{"$f":"IF($A714 = \"\", \"\", COUNTIFS(ToDoList!$B:$B, $A714, ToDoList!$R:$R, I$2))","v":""},{"$f":"IF($A714 = \"\", \"\", COUNTIFS(ToDoList!$B:$B, $A714, ToDoList!$R:$R, J$2))","v":""}]
[null,{"$f":"IF($A715 = \"\", \"\", COUNTIFS(ToDoList!$B:$B, $A715, ToDoList!$R:$R, B$2))","v":""},{"$f":"IF($A715 = \"\", \"\", COUNTIFS(ToDoList!$B:$B, $A715, ToDoList!$R:$R, C$2))","v":""},{"$f":"IF($A715 = \"\", \"\", COUNTIFS(ToDoList!$B:$B, $A715, ToDoList!$R:$R, D$2))","v":""},{"$f":"IF($A715 = \"\", \"\", COUNTIFS(ToDoList!$B:$B, $A715, ToDoList!$R:$R, E$2))","v":""},{"$f":"IF($A715 = \"\", \"\", COUNTIFS(ToDoList!$B:$B, $A715, ToDoList!$R:$R, F$2))","v":""},{"$f":"IF($A715 = \"\", \"\", COUNTIFS(ToDoList!$B:$B, $A715, ToDoList!$R:$R, G$2))","v":""},{"$f":"IF($A715 = \"\", \"\", COUNTIFS(ToDoList!$B:$B, $A715, ToDoList!$R:$R, H$2))","v":""},{"$f":"IF($A715 = \"\", \"\", COUNTIFS(ToDoList!$B:$B, $A715, ToDoList!$R:$R, I$2))","v":""},{"$f":"IF($A715 = \"\", \"\", COUNTIFS(ToDoList!$B:$B, $A715, ToDoList!$R:$R, J$2))","v":""}]
[null,{"$f":"IF($A716 = \"\", \"\", COUNTIFS(ToDoList!$B:$B, $A716, ToDoList!$R:$R, B$2))","v":""},{"$f":"IF($A716 = \"\", \"\", COUNTIFS(ToDoList!$B:$B, $A716, ToDoList!$R:$R, C$2))","v":""},{"$f":"IF($A716 = \"\", \"\", COUNTIFS(ToDoList!$B:$B, $A716, ToDoList!$R:$R, D$2))","v":""},{"$f":"IF($A716 = \"\", \"\", COUNTIFS(ToDoList!$B:$B, $A716, ToDoList!$R:$R, E$2))","v":""},{"$f":"IF($A716 = \"\", \"\", COUNTIFS(ToDoList!$B:$B, $A716, ToDoList!$R:$R, F$2))","v":""},{"$f":"IF($A716 = \"\", \"\", COUNTIFS(ToDoList!$B:$B, $A716, ToDoList!$R:$R, G$2))","v":""},{"$f":"IF($A716 = \"\", \"\", COUNTIFS(ToDoList!$B:$B, $A716, ToDoList!$R:$R, H$2))","v":""},{"$f":"IF($A716 = \"\", \"\", COUNTIFS(ToDoList!$B:$B, $A716, ToDoList!$R:$R, I$2))","v":""},{"$f":"IF($A716 = \"\", \"\", COUNTIFS(ToDoList!$B:$B, $A716, ToDoList!$R:$R, J$2))","v":""}]
[null,{"$f":"IF($A717 = \"\", \"\", COUNTIFS(ToDoList!$B:$B, $A717, ToDoList!$R:$R, B$2))","v":""},{"$f":"IF($A717 = \"\", \"\", COUNTIFS(ToDoList!$B:$B, $A717, ToDoList!$R:$R, C$2))","v":""},{"$f":"IF($A717 = \"\", \"\", COUNTIFS(ToDoList!$B:$B, $A717, ToDoList!$R:$R, D$2))","v":""},{"$f":"IF($A717 = \"\", \"\", COUNTIFS(ToDoList!$B:$B, $A717, ToDoList!$R:$R, E$2))","v":""},{"$f":"IF($A717 = \"\", \"\", COUNTIFS(ToDoList!$B:$B, $A717, ToDoList!$R:$R, F$2))","v":""},{"$f":"IF($A717 = \"\", \"\", COUNTIFS(ToDoList!$B:$B, $A717, ToDoList!$R:$R, G$2))","v":""},{"$f":"IF($A717 = \"\", \"\", COUNTIFS(ToDoList!$B:$B, $A717, ToDoList!$R:$R, H$2))","v":""},{"$f":"IF($A717 = \"\", \"\", COUNTIFS(ToDoList!$B:$B, $A717, ToDoList!$R:$R, I$2))","v":""},{"$f":"IF($A717 = \"\", \"\", COUNTIFS(ToDoList!$B:$B, $A717, ToDoList!$R:$R, J$2))","v":""}]
[null,{"$f":"IF($A718 = \"\", \"\", COUNTIFS(ToDoList!$B:$B, $A718, ToDoList!$R:$R, B$2))","v":""},{"$f":"IF($A718 = \"\", \"\", COUNTIFS(ToDoList!$B:$B, $A718, ToDoList!$R:$R, C$2))","v":""},{"$f":"IF($A718 = \"\", \"\", COUNTIFS(ToDoList!$B:$B, $A718, ToDoList!$R:$R, D$2))","v":""},{"$f":"IF($A718 = \"\", \"\", COUNTIFS(ToDoList!$B:$B, $A718, ToDoList!$R:$R, E$2))","v":""},{"$f":"IF($A718 = \"\", \"\", COUNTIFS(ToDoList!$B:$B, $A718, ToDoList!$R:$R, F$2))","v":""},{"$f":"IF($A718 = \"\", \"\", COUNTIFS(ToDoList!$B:$B, $A718, ToDoList!$R:$R, G$2))","v":""},{"$f":"IF($A718 = \"\", \"\", COUNTIFS(ToDoList!$B:$B, $A718, ToDoList!$R:$R, H$2))","v":""},{"$f":"IF($A718 = \"\", \"\", COUNTIFS(ToDoList!$B:$B, $A718, ToDoList!$R:$R, I$2))","v":""},{"$f":"IF($A718 = \"\", \"\", COUNTIFS(ToDoList!$B:$B, $A718, ToDoList!$R:$R, J$2))","v":""}]
[null,{"$f":"IF($A719 = \"\", \"\", COUNTIFS(ToDoList!$B:$B, $A719, ToDoList!$R:$R, B$2))","v":""},{"$f":"IF($A719 = \"\", \"\", COUNTIFS(ToDoList!$B:$B, $A719, ToDoList!$R:$R, C$2))","v":""},{"$f":"IF($A719 = \"\", \"\", COUNTIFS(ToDoList!$B:$B, $A719, ToDoList!$R:$R, D$2))","v":""},{"$f":"IF($A719 = \"\", \"\", COUNTIFS(ToDoList!$B:$B, $A719, ToDoList!$R:$R, E$2))","v":""},{"$f":"IF($A719 = \"\", \"\", COUNTIFS(ToDoList!$B:$B, $A719, ToDoList!$R:$R, F$2))","v":""},{"$f":"IF($A719 = \"\", \"\", COUNTIFS(ToDoList!$B:$B, $A719, ToDoList!$R:$R, G$2))","v":""},{"$f":"IF($A719 = \"\", \"\", COUNTIFS(ToDoList!$B:$B, $A719, ToDoList!$R:$R, H$2))","v":""},{"$f":"IF($A719 = \"\", \"\", COUNTIFS(ToDoList!$B:$B, $A719, ToDoList!$R:$R, I$2))","v":""},{"$f":"IF($A719 = \"\", \"\", COUNTIFS(ToDoList!$B:$B, $A719, ToDoList!$R:$R, J$2))","v":""}]
[null,{"$f":"IF($A720 = \"\", \"\", COUNTIFS(ToDoList!$B:$B, $A720, ToDoList!$R:$R, B$2))","v":""},{"$f":"IF($A720 = \"\", \"\", COUNTIFS(ToDoList!$B:$B, $A720, ToDoList!$R:$R, C$2))","v":""},{"$f":"IF($A720 = \"\", \"\", COUNTIFS(ToDoList!$B:$B, $A720, ToDoList!$R:$R, D$2))","v":""},{"$f":"IF($A720 = \"\", \"\", COUNTIFS(ToDoList!$B:$B, $A720, ToDoList!$R:$R, E$2))","v":""},{"$f":"IF($A720 = \"\", \"\", COUNTIFS(ToDoList!$B:$B, $A720, ToDoList!$R:$R, F$2))","v":""},{"$f":"IF($A720 = \"\", \"\", COUNTIFS(ToDoList!$B:$B, $A720, ToDoList!$R:$R, G$2))","v":""},{"$f":"IF($A720 = \"\", \"\", COUNTIFS(ToDoList!$B:$B, $A720, ToDoList!$R:$R, H$2))","v":""},{"$f":"IF($A720 = \"\", \"\", COUNTIFS(ToDoList!$B:$B, $A720, ToDoList!$R:$R, I$2))","v":""},{"$f":"IF($A720 = \"\", \"\", COUNTIFS(ToDoList!$B:$B, $A720, ToDoList!$R:$R, J$2))","v":""}]
[null,{"$f":"IF($A721 = \"\", \"\", COUNTIFS(ToDoList!$B:$B, $A721, ToDoList!$R:$R, B$2))","v":""},{"$f":"IF($A721 = \"\", \"\", COUNTIFS(ToDoList!$B:$B, $A721, ToDoList!$R:$R, C$2))","v":""},{"$f":"IF($A721 = \"\", \"\", COUNTIFS(ToDoList!$B:$B, $A721, ToDoList!$R:$R, D$2))","v":""},{"$f":"IF($A721 = \"\", \"\", COUNTIFS(ToDoList!$B:$B, $A721, ToDoList!$R:$R, E$2))","v":""},{"$f":"IF($A721 = \"\", \"\", COUNTIFS(ToDoList!$B:$B, $A721, ToDoList!$R:$R, F$2))","v":""},{"$f":"IF($A721 = \"\", \"\", COUNTIFS(ToDoList!$B:$B, $A721, ToDoList!$R:$R, G$2))","v":""},{"$f":"IF($A721 = \"\", \"\", COUNTIFS(ToDoList!$B:$B, $A721, ToDoList!$R:$R, H$2))","v":""},{"$f":"IF($A721 = \"\", \"\", COUNTIFS(ToDoList!$B:$B, $A721, ToDoList!$R:$R, I$2))","v":""},{"$f":"IF($A721 = \"\", \"\", COUNTIFS(ToDoList!$B:$B, $A721, ToDoList!$R:$R, J$2))","v":""}]
[null,{"$f":"IF($A722 = \"\", \"\", COUNTIFS(ToDoList!$B:$B, $A722, ToDoList!$R:$R, B$2))","v":""},{"$f":"IF($A722 = \"\", \"\", COUNTIFS(ToDoList!$B:$B, $A722, ToDoList!$R:$R, C$2))","v":""},{"$f":"IF($A722 = \"\", \"\", COUNTIFS(ToDoList!$B:$B, $A722, ToDoList!$R:$R, D$2))","v":""},{"$f":"IF($A722 = \"\", \"\", COUNTIFS(ToDoList!$B:$B, $A722, ToDoList!$R:$R, E$2))","v":""},{"$f":"IF($A722 = \"\", \"\", COUNTIFS(ToDoList!$B:$B, $A722, ToDoList!$R:$R, F$2))","v":""},{"$f":"IF($A722 = \"\", \"\", COUNTIFS(ToDoList!$B:$B, $A722, ToDoList!$R:$R, G$2))","v":""},{"$f":"IF($A722 = \"\", \"\", COUNTIFS(ToDoList!$B:$B, $A722, ToDoList!$R:$R, H$2))","v":""},{"$f":"IF($A722 = \"\", \"\", COUNTIFS(ToDoList!$B:$B, $A722, ToDoList!$R:$R, I$2))","v":""},{"$f":"IF($A722 = \"\", \"\", COUNTIFS(ToDoList!$B:$B, $A722, ToDoList!$R:$R, J$2))","v":""}]
[null,{"$f":"IF($A723 = \"\", \"\", COUNTIFS(ToDoList!$B:$B, $A723, ToDoList!$R:$R, B$2))","v":""},{"$f":"IF($A723 = \"\", \"\", COUNTIFS(ToDoList!$B:$B, $A723, ToDoList!$R:$R, C$2))","v":""},{"$f":"IF($A723 = \"\", \"\", COUNTIFS(ToDoList!$B:$B, $A723, ToDoList!$R:$R, D$2))","v":""},{"$f":"IF($A723 = \"\", \"\", COUNTIFS(ToDoList!$B:$B, $A723, ToDoList!$R:$R, E$2))","v":""},{"$f":"IF($A723 = \"\", \"\", COUNTIFS(ToDoList!$B:$B, $A723, ToDoList!$R:$R, F$2))","v":""},{"$f":"IF($A723 = \"\", \"\", COUNTIFS(ToDoList!$B:$B, $A723, ToDoList!$R:$R, G$2))","v":""},{"$f":"IF($A723 = \"\", \"\", COUNTIFS(ToDoList!$B:$B, $A723, ToDoList!$R:$R, H$2))","v":""},{"$f":"IF($A723 = \"\", \"\", COUNTIFS(ToDoList!$B:$B, $A723, ToDoList!$R:$R, I$2))","v":""},{"$f":"IF($A723 = \"\", \"\", COUNTIFS(ToDoList!$B:$B, $A723, ToDoList!$R:$R, J$2))","v":""}]
[null,{"$f":"IF($A724 = \"\", \"\", COUNTIFS(ToDoList!$B:$B, $A724, ToDoList!$R:$R, B$2))","v":""},{"$f":"IF($A724 = \"\", \"\", COUNTIFS(ToDoList!$B:$B, $A724, ToDoList!$R:$R, C$2))","v":""},{"$f":"IF($A724 = \"\", \"\", COUNTIFS(ToDoList!$B:$B, $A724, ToDoList!$R:$R, D$2))","v":""},{"$f":"IF($A724 = \"\", \"\", COUNTIFS(ToDoList!$B:$B, $A724, ToDoList!$R:$R, E$2))","v":""},{"$f":"IF($A724 = \"\", \"\", COUNTIFS(ToDoList!$B:$B, $A724, ToDoList!$R:$R, F$2))","v":""},{"$f":"IF($A724 = \"\", \"\", COUNTIFS(ToDoList!$B:$B, $A724, ToDoList!$R:$R, G$2))","v":""},{"$f":"IF($A724 = \"\", \"\", COUNTIFS(ToDoList!$B:$B, $A724, ToDoList!$R:$R, H$2))","v":""},{"$f":"IF($A724 = \"\", \"\", COUNTIFS(ToDoList!$B:$B, $A724, ToDoList!$R:$R, I$2))","v":""},{"$f":"IF($A724 = \"\", \"\", COUNTIFS(ToDoList!$B:$B, $A724, ToDoList!$R:$R, J$2))","v":""}]
[null,{"$f":"IF($A725 = \"\", \"\", COUNTIFS(ToDoList!$B:$B, $A725, ToDoList!$R:$R, B$2))","v":""},{"$f":"IF($A725 = \"\", \"\", COUNTIFS(ToDoList!$B:$B, $A725, ToDoList!$R:$R, C$2))","v":""},{"$f":"IF($A725 = \"\", \"\", COUNTIFS(ToDoList!$B:$B, $A725, ToDoList!$R:$R, D$2))","v":""},{"$f":"IF($A725 = \"\", \"\", COUNTIFS(ToDoList!$B:$B, $A725, ToDoList!$R:$R, E$2))","v":""},{"$f":"IF($A725 = \"\", \"\", COUNTIFS(ToDoList!$B:$B, $A725, ToDoList!$R:$R, F$2))","v":""},{"$f":"IF($A725 = \"\", \"\", COUNTIFS(ToDoList!$B:$B, $A725, ToDoList!$R:$R, G$2))","v":""},{"$f":"IF($A725 = \"\", \"\", COUNTIFS(ToDoList!$B:$B, $A725, ToDoList!$R:$R, H$2))","v":""},{"$f":"IF($A725 = \"\", \"\", COUNTIFS(ToDoList!$B:$B, $A725, ToDoList!$R:$R, I$2))","v":""},{"$f":"IF($A725 = \"\", \"\", COUNTIFS(ToDoList!$B:$B, $A725, ToDoList!$R:$R, J$2))","v":""}]

{"sheet":"Member Performance","index":5,"n_rows":13,"n_cols":9,"rows_kept":13,"cut":false,"hidden":false,"merged":[[0,1,0,6],[0,7,0,8]]}
[null,"Task",null,null,null,null,null,"Performance"]
[null,"Not started","In progress","To be checked","Checked","In amendment","Completed","Completed in time","Overdue Task"]
["Billy"]
["Kimmie"]
["Wani"]
["Syazwan"]
["Izzad"]
["Prabha"]
["All Designer"]
["Amin"]
[]
[]
[null,"To calculate all data in project tracker"]

{"sheet":"Setup","index":6,"n_rows":29,"n_cols":8,"rows_kept":29,"cut":false,"hidden":false,"merged":[]}
[null,"Setup"]
[]
[null,"Category Name","Employee Name","Person in Charge","Priority","Status","Project Overview Status","Client Status"]
[null,"Design","Billy","Billy","Urgent","Not started","Creating project","On hold"]
[null,"Project","Kimmie","Kimmie","Medium","In progress","Tendering","Follow up"]
[null,"Account","Wani","Wani","Low","Almost done","Designing","Pending payment"]
[null,"HR","Syazwan","Syazwan","Important","Ready to check","Renovating"]
[null,"Admin","Izzad","Izzad","Normal","Completed","Quoting"]
[null,"Enquiry","Prabha","Prabha",null,"Pls check comment","Handing over"]
[null,"IT","Amin","Amin",null,"In amendment","Additional & defect job"]
[null,"Appointment","All Designer","All Designer",null,"Ready to print","Completing"]
[null,"Contractor",null,null,null,"Make appointment"]
[null,"Personal",null,null,null,"On hold"]
[null,"Weekly Meeting Rules"]
[1,"Update overall project status"]
[2,"assign task with duration"]
[3,"check employee weekly workload"]
[4,"check last week task & performent :- record for bonus & warning"]
[5,"Check daily report"]
[6,"task detail briefing should be after company meeting"]
[7,"weekly assign 5 - 6 day work load"]
[8,"senior comment amendment exclude in workload ( must finish in the same week also)"]
[9,"jonuir own respondsiblity to ask senior check early for early finsih work with no mistake"]
[]
[null,"Monthly Meeting Rules"]
[1,"personal talk"]
[2,"performent"]
[3,"salary"]
[4,"feed back form"]