{"text_format":"1","workbook":"xlsx","n_sheets":6,"sheets":["Times","Sarah","Lisa","Ethan","Dylan","Norman"],"not_rendered":{"charts":0,"images":0,"macros":1,"external_links":0,"defined_names":0,"comments":0,"pivot_tables":0},"unopened":[],"bounds":{"document_bytes":16777216,"sheet_cells":100000,"rows_first":2000,"rows_last":500,"rows_between":2000,"halvings":0,"cell_chars":16384,"cell_head_chars":4096},"cells_cut":0,"cells_raw":0,"read":"whole","date_system":"1900"}

{"sheet":"Times","index":0,"n_rows":18,"n_cols":15,"rows_kept":18,"cut":false,"hidden":false,"merged":[]}
[]
[]
[]
[]
[null,"Jan",{"$f":"Sarah!J32","v":"00:00:00"},null,"Jan",{"$f":"Lisa!E35","v":"00:00:00"},null,"Jan",{"$f":"Ethan!E35","v":"00:00:00"},null,"Jan",{"$f":"Dylan!E35","v":"00:00:00"},null,"Jan",{"$f":"Norman!E35","v":"00:00:00"}]
[null,"Feb",{"$f":"Sarah!J60","v":"00:00:00"},null,"Feb",{"$f":"Lisa!J35","v":"00:00:00"},null,"Feb",{"$f":"Ethan!J35","v":"00:00:00"},null,"Feb",{"$f":"Dylan!J35","v":"00:00:00"},null,"Feb",{"$f":"Norman!J35","v":"00:00:00"}]
[null,"Mar",{"$f":"Sarah!J91","v":"00:00:00"},null,"Mar",{"$f":"Lisa!O35","v":"00:00:00"},null,"Mar",{"$f":"Ethan!O35","v":"00:00:00"},null,"Mar",{"$f":"Dylan!O35","v":"00:00:00"},null,"Mar",{"$f":"Norman!O35","v":"00:00:00"}]
[null,"Apr",{"$f":"Sarah!J121","v":"00:00:00"},null,"Apr",{"$f":"Lisa!T35","v":"00:00:00"},null,"Apr",{"$f":"Ethan!T35","v":"00:00:00"},null,"Apr",{"$f":"Dylan!T35","v":"00:00:00"},null,"Apr",{"$f":"Norman!T35","v":"00:00:00"}]
[null,"May",{"$f":"Sarah!J152","v":"00:00:00"},null,"May",{"$f":"Lisa!Y35","v":"00:00:00"},null,"May",{"$f":"Ethan!Y35","v":"00:00:00"},null,"May",{"$f":"Dylan!Y35","v":"00:00:00"},null,"May",{"$f":"Norman!Y35","v":"00:00:00"}]
[null,"Jun",{"$f":"Sarah!J182","v":"00:00:00"},null,"Jun",{"$f":"Lisa!AD35","v":"00:00:00"},null,"Jun",{"$f":"Ethan!AD35","v":"00:00:00"},null,"Jun",{"$f":"Dylan!AD35","v":"00:00:00"},null,"Jun",{"$f":"Norman!AD35","v":"00:00:00"}]
[null,"Jul",{"$f":"Sarah!J213","v":"00:00:00"},null,"Jul",{"$f":"Lisa!AI35","v":"00:00:00"},null,"Jul",{"$f":"Ethan!AI35","v":"00:00:00"},null,"Jul",{"$f":"Dylan!AI35","v":"00:00:00"},null,"Jul",{"$f":"Norman!AI35","v":"00:00:00"}]
[null,"Aug",{"$f":"Sarah!J244","v":"00:00:00"},null,"Aug",{"$f":"Lisa!AN35","v":"00:00:00"},null,"Aug",{"$f":"Ethan!AN35","v":"00:00:00"},null,"Aug",{"$f":"Dylan!AN35","v":"00:00:00"},null,"Aug",{"$f":"Norman!AN35","v":"00:00:00"}]
[null,"Sep",{"$f":"Sarah!J274","v":"00:00:00"},null,"Sep",{"$f":"Lisa!AS35","v":"00:00:00"},null,"Sep",{"$f":"Ethan!AS35","v":"00:00:00"},null,"Sep",{"$f":"Dylan!AS35","v":"00:00:00"},null,"Sep",{"$f":"Norman!AS35","v":"00:00:00"}]
[null,"Oct",{"$f":"Sarah!J305","v":"00:00:00"},null,"Oct",{"$f":"Lisa!AX35","v":"00:00:00"},null,"Oct",{"$f":"Ethan!AX35","v":"00:00:00"},null,"Oct",{"$f":"Dylan!AX35","v":"00:00:00"},null,"Oct",{"$f":"Norman!AX35","v":"00:00:00"}]
[null,"Nov",{"$f":"Sarah!#REF!","v":{"$error":"#REF!"}},null,"Nov",{"$f":"Lisa!BC35","v":"00:00:00"},null,"Nov",{"$f":"Ethan!BC35","v":"00:00:00"},null,"Nov",{"$f":"Dylan!BC35","v":"00:00:00"},null,"Nov",{"$f":"Norman!BC35","v":"00:00:00"}]
[null,"Dec",{"$f":"Sarah!J366","v":"00:00:00"},null,"Dec",{"$f":"Lisa!BH35","v":"00:00:00"},null,"Dec",{"$f":"Ethan!BH35","v":"00:00:00"},null,"Dec",{"$f":"Dylan!BH35","v":"00:00:00"},null,"Dec",{"$f":"Norman!BH35","v":"00:00:00"}]
["Total Year"]
["Hours Worked",null,{"$f":"SUM(C5:C16)","v":{"$error":"#REF!"}},null,null,{"$f":"SUM(F5:F16)","v":"00:00:00"},null,null,{"$f":"SUM(I5:I16)","v":"00:00:00"},null,null,{"$f":"SUM(L5:L16)","v":"00:00:00"},null,null,{"$f":"SUM(O5:O16)","v":"00:00:00"}]

{"sheet":"Sarah","index":1,"n_rows":366,"n_cols":10,"rows_kept":366,"cut":false,"hidden":false,"merged":[]}
[null,null,null,"Start Time","Finish Time","Hours worked","Weekly Hours"]
[null,"January","2022-01-01",null,null,{"$f":"E2-D2","v":"00:00:00"}]
[null,null,"2022-01-02",null,null,{"$f":"E3-D3","v":"00:00:00"}]
[null,null,"2022-01-03","10:00:00","13:00:00",{"$f":"E4-D4","v":"03:00:00"}]
[null,null,"2022-01-04",null,null,"00:00:00"]
[null,null,"2022-01-05",null,null,"00:00:00"]
[null,null,"2022-01-06",null,null,"00:00:00",{"$f":"SUM(F4:F10)","v":"03:00:00"}]
[null,null,"2022-01-07",null,null,"00:00:00"]
[null,null,"2022-01-08",null,null,"00:00:00"]
[null,null,"2022-01-09",null,null,"00:00:00"]
[null,null,"2022-01-10",null,null,"00:00:00"]
[null,null,"2022-01-11",null,null,"00:00:00"]
[null,null,"2022-01-12",null,null,"00:00:00"]
[null,null,"2022-01-13","06:00:00","13:00:00","07:00:00",{"$f":"SUM(F11:F17)","v":"07:00:00"}]
[null,null,"2022-01-14",null,null,"00:00:00",null,null,null,"Monthly Hours"]
[null,null,"2022-01-15",null,null,"00:00:00",null,null,"January",{"$f":"SUMPRODUCT($F$2:$F$366*(TEXT($C$2:$C$366,\"mmmm\")=I16))","v":0.81249999999999989}]
[null,null,"2022-01-16",null,null,"00:00:00",null,null,"February",{"$f":"SUMPRODUCT($F$2:$F$366*(TEXT($C$2:$C$366,\"mmmm\")=I17))","v":0.57986111111111105}]
[null,null,"2022-01-17",null,null,"00:00:00",null,null,"March",{"$f":"SUMPRODUCT($F$2:$F$366*(TEXT($C$2:$C$366,\"mmmm\")=I18))","v":0.21874999999999994}]
[null,null,"2022-01-18",null,null,"00:00:00",null,null,"April",{"$f":"SUMPRODUCT($F$2:$F$366*(TEXT($C$2:$C$366,\"mmmm\")=I19))","v":0}]
[null,null,"2022-01-19",null,null,"00:00:00",null,null,"May",{"$f":"SUMPRODUCT($F$2:$F$366*(TEXT($C$2:$C$366,\"mmmm\")=I20))","v":0}]
[null,null,"2022-01-20","10:30:00","15:15:00","04:45:00",{"$f":"SUM(F18:F24)","v":"04:45:00"},null,"June",{"$f":"SUMPRODUCT($F$2:$F$366*(TEXT($C$2:$C$366,\"mmmm\")=I21))","v":0}]
[null,null,"2022-01-21",null,null,"00:00:00",null,null,"July",{"$f":"SUMPRODUCT($F$2:$F$366*(TEXT($C$2:$C$366,\"mmmm\")=I22))","v":0}]
[null,null,"2022-01-22",null,null,"00:00:00",null,null,"August",{"$f":"SUMPRODUCT($F$2:$F$366*(TEXT($C$2:$C$366,\"mmmm\")=I23))","v":0}]
[null,null,"2022-01-23",null,null,"00:00:00",null,null,"September",{"$f":"SUMPRODUCT($F$2:$F$366*(TEXT($C$2:$C$366,\"mmmm\")=I24))","v":0}]
[null,null,"2022-01-24",null,null,"00:00:00",null,null,"October",{"$f":"SUMPRODUCT($F$2:$F$366*(TEXT($C$2:$C$366,\"mmmm\")=I25))","v":0}]
[null,null,"2022-01-25",null,null,"00:00:00",null,null,"November",{"$f":"SUMPRODUCT($F$2:$F$366*(TEXT($C$2:$C$366,\"mmmm\")=I26))","v":0}]
[null,null,"2022-01-26",null,null,"00:00:00",null,null,"December",{"$f":"SUMPRODUCT($F$2:$F$366*(TEXT($C$2:$C$366,\"mmmm\")=I27))","v":0}]
[null,null,"2022-01-27","10:30:00","15:15:00","04:45:00",{"$f":"SUM(F25:F31)","v":"04:45:00"}]
[null,null,"2022-01-28",null,null,"00:00:00"]
[null,null,"2022-01-29",null,null,"00:00:00"]
[null,null,"2022-01-30",null,null,"00:00:00"]
[null,null,"2022-01-31",null,null,"00:00:00"]
[null,"February","2022-02-01",null,null,{"$f":"E33-D33","v":"00:00:00"}]
[null,null,"2022-02-02",null,null,"00:00:00"]
[null,null,"2022-02-03",null,null,"00:00:00",{"$f":"SUM(F32:F38)","v":"03:15:00"}]
[null,null,"2022-02-04",null,null,"00:00:00"]
[null,null,"2022-02-05",null,null,"00:00:00"]
[null,null,"2022-02-06","12:30:00","15:45:00","03:15:00"]
[null,null,"2022-02-07",null,null,"00:00:00"]
[null,null,"2022-02-08","10:00:00","17:15:00","07:15:00"]
[null,null,"2022-02-09",null,null,"00:00:00"]
[null,null,"2022-02-10",null,null,"00:00:00",{"$f":"SUM(F39:F45)","v":"07:15:00"}]
[null,null,"2022-02-11",null,null,"00:00:00"]
[null,null,"2022-02-12",null,null,"00:00:00"]
[null,null,"2022-02-13",null,null,"00:00:00"]
[null,null,"2022-02-14",null,null,"00:00:00"]
[null,null,"2022-02-15",null,null,"00:00:00"]
[null,null,"2022-02-16",null,null,"00:00:00"]
[null,null,"2022-02-17",null,null,"00:00:00",{"$f":"SUM(F46:F52)","v":"00:00:00"}]
[null,null,"2022-02-18",null,null,"00:00:00"]
[null,null,"2022-02-19",null,null,"00:00:00"]
[null,null,"2022-02-20",null,null,"00:00:00"]
[null,null,"2022-02-21",null,null,"00:00:00"]
[null,null,"2022-02-22",null,null,"00:00:00"]
[null,null,"2022-02-23",null,null,"00:00:00"]
[null,null,"2022-02-24",null,null,"00:00:00",{"$f":"SUM(F53:F59)","v":"00:00:00"}]
[null,null,"2022-02-25",null,null,"00:00:00"]
[null,null,"2022-02-26",null,null,"00:00:00"]
[null,null,"2022-02-27",null,null,"00:00:00"]
[null,null,"2022-02-28","10:00:00","13:25:00","03:25:00"]
[null,"March","2022-03-01",null,null,{"$f":"E61-D61","v":"00:00:00"}]
[null,null,"2022-03-02",null,null,"00:00:00"]
[null,null,"2022-03-03",null,null,"00:00:00",{"$f":"SUM(F60:F66)","v":"08:40:00"}]
[null,null,"2022-03-04",null,null,"00:00:00"]
[null,null,"2022-03-05",null,null,"00:00:00"]
[null,null,"2022-03-06","10:00:00","15:15:00","05:15:00"]
[null,null,"2022-03-07",null,null,"00:00:00"]
[null,null,"2022-03-08",null,null,"00:00:00"]
[null,null,"2022-03-09",null,null,"00:00:00"]
[null,null,"2022-03-10",null,null,"00:00:00",{"$f":"SUM(F67:F73)","v":"00:00:00"}]
[null,null,"2022-03-11",null,null,"00:00:00"]
[null,null,"2022-03-12",null,null,"00:00:00"]
[null,null,"2022-03-13",null,null,"00:00:00"]
[null,null,"2022-03-14",null,null,"00:00:00"]
[null,null,"2022-03-15",null,null,"00:00:00"]
[null,null,"2022-03-16",null,null,"00:00:00"]
[null,null,"2022-03-17",null,null,"00:00:00",{"$f":"SUM(F74:F80)","v":"00:00:00"}]
[null,null,"2022-03-18",null,null,"00:00:00"]
[null,null,"2022-03-19",null,null,"00:00:00"]
[null,null,"2022-03-20",null,null,"00:00:00"]
[null,null,"2022-03-21",null,null,"00:00:00"]
[null,null,"2022-03-22",null,null,"00:00:00"]
[null,null,"2022-03-23",null,null,"00:00:00"]
[null,null,"2022-03-24",null,null,"00:00:00",{"$f":"SUM(F81:F87)","v":"00:00:00"}]
[null,null,"2022-03-25",null,null,"00:00:00"]
[null,null,"2022-03-26",null,null,"00:00:00"]
[null,null,"2022-03-27",null,null,"00:00:00"]
[null,null,"2022-03-28",null,null,"00:00:00"]
[null,null,"2022-03-29",null,null,{"$f":"E89-D89","v":"00:00:00"}]
[null,null,"2022-03-30",null,null,"00:00:00"]
[null,null,"2022-03-31",null,null,"00:00:00",{"$f":"SUM(F88:F94)","v":"00:00:00"}]
[null,"April","2022-04-01",null,null,{"$f":"E92-D92","v":"00:00:00"}]
[null,null,"2022-04-02",null,null,"00:00:00"]
[null,null,"2022-04-03",null,null,"00:00:00"]
[null,null,"2022-04-04",null,null,"00:00:00"]
[null,null,"2022-04-05",null,null,"00:00:00"]
[null,null,"2022-04-06",null,null,"00:00:00"]
[null,null,"2022-04-07",null,null,"00:00:00",{"$f":"SUM(F95:F101)","v":"00:00:00"}]
[null,null,"2022-04-08",null,null,"00:00:00"]
[null,null,"2022-04-09",null,null,"00:00:00"]
[null,null,"2022-04-10",null,null,"00:00:00"]
[null,null,"2022-04-11",null,null,"00:00:00"]
[null,null,"2022-04-12",null,null,"00:00:00"]
[null,null,"2022-04-13",null,null,"00:00:00"]
[null,null,"2022-04-14",null,null,"00:00:00",{"$f":"SUM(F102:F108)","v":"00:00:00"}]
[null,null,"2022-04-15",null,null,"00:00:00"]
[null,null,"2022-04-16",null,null,"00:00:00"]
[null,null,"2022-04-17",null,null,"00:00:00"]
[null,null,"2022-04-18",null,null,"00:00:00"]
[null,null,"2022-04-19",null,null,"00:00:00"]
[null,null,"2022-04-20",null,null,"00:00:00"]
[null,null,"2022-04-21",null,null,"00:00:00",{"$f":"SUM(F109:F115)","v":"00:00:00"}]
[null,null,"2022-04-22",null,null,"00:00:00"]
[null,null,"2022-04-23",null,null,"00:00:00"]
[null,null,"2022-04-24",null,null,"00:00:00"]
[null,null,"2022-04-25",null,null,"00:00:00"]
[null,null,"2022-04-26",null,null,"00:00:00"]
[null,null,"2022-04-27",null,null,"00:00:00"]
[null,null,"2022-04-28",null,null,"00:00:00",{"$f":"SUM(F116:F122)","v":"00:00:00"}]
[null,null,"2022-04-29",null,null,"00:00:00"]
[null,null,"2022-04-30",null,null,"00:00:00"]
[null,"May","2022-05-01",null,null,{"$f":"E122-D122","v":"00:00:00"}]
[null,null,"2022-05-02",null,null,{"$f":"E123-D123","v":"00:00:00"}]
[null,null,"2022-05-03",null,null,{"$f":"E124-D124","v":"00:00:00"}]
[null,null,"2022-05-04",null,null,"00:00:00"]
[null,null,"2022-05-05",null,null,"00:00:00",{"$f":"SUM(F123:F129)","v":"00:00:00"}]
[null,null,"2022-05-06",null,null,"00:00:00"]
[null,null,"2022-05-07",null,null,"00:00:00"]
[null,null,"2022-05-08",null,null,"00:00:00"]
[null,null,"2022-05-09",null,null,"00:00:00"]
[null,null,"2022-05-10",null,null,"00:00:00"]
[null,null,"2022-05-11",null,null,"00:00:00"]
[null,null,"2022-05-12",null,null,"00:00:00",{"$f":"SUM(F130:F136)","v":"00:00:00"}]
[null,null,"2022-05-13",null,null,"00:00:00"]
[null,null,"2022-05-14",null,null,"00:00:00"]
[null,null,"2022-05-15",null,null,"00:00:00"]
[null,null,"2022-05-16",null,null,"00:00:00"]
[null,null,"2022-05-17",null,null,"00:00:00"]
[null,null,"2022-05-18",null,null,"00:00:00"]
[null,null,"2022-05-19",null,null,"00:00:00",{"$f":"SUM(F137:F143)","v":"00:00:00"}]
[null,null,"2022-05-20",null,null,"00:00:00"]
[null,null,"2022-05-21",null,null,"00:00:00"]
[null,null,"2022-05-22",null,null,"00:00:00"]
[null,null,"2022-05-23",null,null,"00:00:00"]
[null,null,"2022-05-24",null,null,"00:00:00"]
[null,null,"2022-05-25",null,null,"00:00:00"]
[null,null,"2022-05-26",null,null,"00:00:00",{"$f":"SUM(F144:F150)","v":"00:00:00"}]
[null,null,"2022-05-27",null,null,"00:00:00"]
[null,null,"2022-05-28",null,null,"00:00:00"]
[null,null,"2022-05-29",null,null,"00:00:00"]
[null,null,"2022-05-30",null,null,"00:00:00"]
[null,null,"2022-05-31",null,null,"00:00:00"]
[null,"June","2022-06-01",null,null,{"$f":"E153-D153","v":"00:00:00"}]
[null,null,"2022-06-02",null,null,"00:00:00",{"$f":"SUM(F151:F157)","v":"00:00:00"}]
[null,null,"2022-06-03",null,null,"00:00:00"]
[null,null,"2022-06-04",null,null,"00:00:00"]
[null,null,"2022-06-05",null,null,"00:00:00"]
[null,null,"2022-06-06",null,null,"00:00:00"]
[null,null,"2022-06-07",null,null,"00:00:00"]
[null,null,"2022-06-08",null,null,"00:00:00"]
[null,null,"2022-06-09",null,null,"00:00:00",{"$f":"SUM(F158:F164)","v":"00:00:00"}]
[null,null,"2022-06-10",null,null,"00:00:00"]
[null,null,"2022-06-11",null,null,"00:00:00"]
[null,null,"2022-06-12",null,null,"00:00:00"]
[null,null,"2022-06-13",null,null,"00:00:00"]
[null,null,"2022-06-14",null,null,"00:00:00"]
[null,null,"2022-06-15",null,null,"00:00:00"]
[null,null,"2022-06-16",null,null,"00:00:00",{"$f":"SUM(F165:F171)","v":"00:00:00"}]
[null,null,"2022-06-17",null,null,"00:00:00"]
[null,null,"2022-06-18",null,null,"00:00:00"]
[null,null,"2022-06-19",null,null,"00:00:00"]
[null,null,"2022-06-20",null,null,"00:00:00"]
[null,null,"2022-06-21",null,null,"00:00:00"]
[null,null,"2022-06-22",null,null,"00:00:00"]
[null,null,"2022-06-23",null,null,"00:00:00",{"$f":"SUM(F172:F178)","v":"00:00:00"}]
[null,null,"2022-06-24",null,null,"00:00:00"]
[null,null,"2022-06-25",null,null,"00:00:00"]
[null,null,"2022-06-26",null,null,"00:00:00"]
[null,null,"2022-06-27",null,null,"00:00:00"]
[null,null,"2022-06-28",null,null,"00:00:00"]
[null,null,"2022-06-29",null,null,"00:00:00"]
[null,null,"2022-06-30",null,null,"00:00:00",{"$f":"SUM(F179:F185)","v":"00:00:00"}]
[null,"July","2022-07-01",null,null,{"$f":"E183-D183","v":"00:00:00"}]
[null,null,"2022-07-02",null,null,"00:00:00"]
[null,null,"2022-07-03",null,null,"00:00:00"]
[null,null,"2022-07-04",null,null,"00:00:00"]
[null,null,"2022-07-05",null,null,"00:00:00"]
[null,null,"2022-07-06",null,null,"00:00:00"]
[null,null,"2022-07-07",null,null,"00:00:00",{"$f":"SUM(F186:F192)","v":"00:00:00"}]
[null,null,"2022-07-08",null,null,"00:00:00"]
[null,null,"2022-07-09",null,null,"00:00:00"]
[null,null,"2022-07-10",null,null,"00:00:00"]
[null,null,"2022-07-11",null,null,"00:00:00"]
[null,null,"2022-07-12",null,null,"00:00:00"]
[null,null,"2022-07-13",null,null,"00:00:00"]
[null,null,"2022-07-14",null,null,"00:00:00",{"$f":"SUM(F193:F199)","v":"00:00:00"}]
[null,null,"2022-07-15",null,null,"00:00:00"]
[null,null,"2022-07-16",null,null,"00:00:00"]
[null,null,"2022-07-17",null,null,"00:00:00"]
[null,null,"2022-07-18",null,null,"00:00:00"]
[null,null,"2022-07-19",null,null,"00:00:00"]
[null,null,"2022-07-20",null,null,"00:00:00"]
[null,null,"2022-07-21",null,null,"00:00:00",{"$f":"SUM(F200:F206)","v":"00:00:00"}]
[null,null,"2022-07-22",null,null,"00:00:00"]
[null,null,"2022-07-23",null,null,"00:00:00"]
[null,null,"2022-07-24",null,null,"00:00:00"]
[null,null,"2022-07-25",null,null,"00:00:00"]
[null,null,"2022-07-26",null,null,"00:00:00"]
[null,null,"2022-07-27",null,null,"00:00:00"]
[null,null,"2022-07-28",null,null,"00:00:00",{"$f":"SUM(F207:F213)","v":"00:00:00"}]
[null,null,"2022-07-29",null,null,"00:00:00"]
[null,null,"2022-07-30",null,null,"00:00:00"]
[null,null,"2022-07-31",null,null,"00:00:00"]
[null,"August","2022-08-01",null,null,{"$f":"E214-D214","v":"00:00:00"}]
[null,null,"2022-08-02",null,null,{"$f":"E215-D215","v":"00:00:00"}]
[null,null,"2022-08-03",null,null,{"$f":"E216-D216","v":"00:00:00"}]
[null,null,"2022-08-04",null,null,"00:00:00",{"$f":"SUM(F214:F220)","v":"00:00:00"}]
[null,null,"2022-08-05",null,null,"00:00:00"]
[null,null,"2022-08-06",null,null,"00:00:00"]
[null,null,"2022-08-07",null,null,"00:00:00"]
[null,null,"2022-08-08",null,null,"00:00:00"]
[null,null,"2022-08-09",null,null,"00:00:00"]
[null,null,"2022-08-10",null,null,"00:00:00"]
[null,null,"2022-08-11",null,null,"00:00:00",{"$f":"SUM(F221:F227)","v":"00:00:00"}]
[null,null,"2022-08-12",null,null,"00:00:00"]
[null,null,"2022-08-13",null,null,"00:00:00"]
[null,null,"2022-08-14",null,null,"00:00:00"]
[null,null,"2022-08-15",null,null,"00:00:00"]
[null,null,"2022-08-16",null,null,"00:00:00"]
[null,null,"2022-08-17",null,null,"00:00:00"]
[null,null,"2022-08-18",null,null,"00:00:00",{"$f":"SUM(F228:F234)","v":"00:00:00"}]
[null,null,"2022-08-19",null,null,"00:00:00"]
[null,null,"2022-08-20",null,null,"00:00:00"]
[null,null,"2022-08-21",null,null,"00:00:00"]
[null,null,"2022-08-22",null,null,"00:00:00"]
[null,null,"2022-08-23",null,null,"00:00:00"]
[null,null,"2022-08-24",null,null,"00:00:00"]
[null,null,"2022-08-25",null,null,"00:00:00",{"$f":"SUM(F235:F241)","v":"00:00:00"}]
[null,null,"2022-08-26",null,null,"00:00:00"]
[null,null,"2022-08-27",null,null,"00:00:00"]
[null,null,"2022-08-28",null,null,"00:00:00"]
[null,null,"2022-08-29",null,null,"00:00:00"]
[null,null,"2022-08-30",null,null,"00:00:00"]
[null,null,"2022-08-31",null,null,"00:00:00"]
[null,"September","2022-09-01",null,null,{"$f":"E245-D245","v":"00:00:00"},{"$f":"SUM(F242:F248)","v":"00:00:00"}]
[null,null,"2022-09-02",null,null,"00:00:00"]
[null,null,"2022-09-03",null,null,"00:00:00"]
[null,null,"2022-09-04",null,null,"00:00:00"]
[null,null,"2022-09-05",null,null,"00:00:00"]
[null,null,"2022-09-06",null,null,"00:00:00"]
[null,null,"2022-09-07",null,null,"00:00:00"]
[null,null,"2022-09-08",null,null,"00:00:00",{"$f":"SUM(F249:F255)","v":"00:00:00"}]
[null,null,"2022-09-09",null,null,"00:00:00"]
[null,null,"2022-09-10",null,null,"00:00:00"]
[null,null,"2022-09-11",null,null,"00:00:00"]
[null,null,"2022-09-12",null,null,"00:00:00"]
[null,null,"2022-09-13",null,null,"00:00:00"]
[null,null,"2022-09-14",null,null,"00:00:00"]
[null,null,"2022-09-15",null,null,"00:00:00",{"$f":"SUM(F256:F262)","v":"00:00:00"}]
[null,null,"2022-09-16",null,null,"00:00:00"]
[null,null,"2022-09-17",null,null,"00:00:00"]
[null,null,"2022-09-18",null,null,"00:00:00"]
[null,null,"2022-09-19",null,null,"00:00:00"]
[null,null,"2022-09-20",null,null,"00:00:00"]
[null,null,"2022-09-21",null,null,"00:00:00"]
[null,null,"2022-09-22",null,null,"00:00:00",{"$f":"SUM(F263:F269)","v":"00:00:00"}]
[null,null,"2022-09-23",null,null,"00:00:00"]
[null,null,"2022-09-24",null,null,"00:00:00"]
[null,null,"2022-09-25",null,null,"00:00:00"]
[null,null,"2022-09-26",null,null,"00:00:00"]
[null,null,"2022-09-27",null,null,"00:00:00"]
[null,null,"2022-09-28",null,null,"00:00:00"]
[null,null,"2022-09-29",null,null,"00:00:00",{"$f":"SUM(F270:F276)","v":"00:00:00"}]
[null,null,"2022-09-30",null,null,"00:00:00"]
[null,"October","2022-10-01",null,null,{"$f":"E275-D275","v":"00:00:00"}]
[null,null,"2022-10-02",null,null,"00:00:00"]
[null,null,"2022-10-03",null,null,"00:00:00"]
[null,null,"2022-10-04",null,null,"00:00:00"]
[null,null,"2022-10-05",null,null,"00:00:00"]
[null,null,"2022-10-06",null,null,"00:00:00",{"$f":"SUM(F277:F283)","v":"00:00:00"}]
[null,null,"2022-10-07",null,null,"00:00:00"]
[null,null,"2022-10-08",null,null,"00:00:00"]
[null,null,"2022-10-09",null,null,"00:00:00"]
[null,null,"2022-10-10",null,null,"00:00:00"]
[null,null,"2022-10-11",null,null,"00:00:00"]
[null,null,"2022-10-12",null,null,"00:00:00"]
[null,null,"2022-10-13",null,null,"00:00:00",{"$f":"SUM(F284:F290)","v":"00:00:00"}]
[null,null,"2022-10-14",null,null,"00:00:00"]
[null,null,"2022-10-15",null,null,"00:00:00"]
[null,null,"2022-10-16",null,null,"00:00:00"]
[null,null,"2022-10-17",null,null,"00:00:00"]
[null,null,"2022-10-18",null,null,"00:00:00"]
[null,null,"2022-10-19",null,null,"00:00:00"]
[null,null,"2022-10-20",null,null,"00:00:00",{"$f":"SUM(F291:F297)","v":"00:00:00"}]
[null,null,"2022-10-21",null,null,"00:00:00"]
[null,null,"2022-10-22",null,null,"00:00:00"]
[null,null,"2022-10-23",null,null,"00:00:00"]
[null,null,"2022-10-24",null,null,"00:00:00"]
[null,null,"2022-10-25",null,null,"00:00:00"]
[null,null,"2022-10-26",null,null,"00:00:00"]
[null,null,"2022-10-27",null,null,"00:00:00",{"$f":"SUM(F298:F304)","v":"00:00:00"}]
[null,null,"2022-10-28",null,null,"00:00:00"]
[null,null,"2022-10-29",null,null,"00:00:00"]
[null,null,"2022-10-30",null,null,"00:00:00"]
[null,null,"2022-10-31",null,null,"00:00:00"]
[null,"November","2022-11-01",null,null,{"$f":"E306-D306","v":"00:00:00"}]
[null,null,"2022-11-02",null,null,"00:00:00"]
[null,null,"2022-11-03",null,null,"00:00:00",{"$f":"SUM(F305:F311)","v":"00:00:00"}]
[null,null,"2022-11-04",null,null,"00:00:00"]
[null,null,"2022-11-05",null,null,"00:00:00"]
[null,null,"2022-11-06",null,null,"00:00:00"]
[null,null,"2022-11-07",null,null,"00:00:00"]
[null,null,"2022-11-08",null,null,"00:00:00"]
[null,null,"2022-11-09",null,null,"00:00:00"]
[null,null,"2022-11-10",null,null,"00:00:00",{"$f":"SUM(F312:F318)","v":"00:00:00"}]
[null,null,"2022-11-11",null,null,"00:00:00"]
[null,null,"2022-11-12",null,null,"00:00:00"]
[null,null,"2022-11-13",null,null,"00:00:00"]
[null,null,"2022-11-14",null,null,"00:00:00"]
[null,null,"2022-11-15",null,null,"00:00:00"]
[null,null,"2022-11-16",null,null,"00:00:00"]
[null,null,"2022-11-17",null,null,"00:00:00",{"$f":"SUM(F319:F325)","v":"00:00:00"}]
[null,null,"2022-11-18",null,null,"00:00:00"]
[null,null,"2022-11-19",null,null,"00:00:00"]
[null,null,"2022-11-20",null,null,"00:00:00"]
[null,null,"2022-11-21",null,null,"00:00:00"]
[null,null,"2022-11-22",null,null,"00:00:00"]
[null,null,"2022-11-23",null,null,"00:00:00"]
[null,null,"2022-11-24",null,null,"00:00:00",{"$f":"SUM(F326:F332)","v":"00:00:00"}]
[null,null,"2022-11-25",null,null,"00:00:00"]
[null,null,"2022-11-26",null,null,"00:00:00"]
[null,null,"2022-11-27",null,null,"00:00:00"]
[null,null,"2022-11-28",null,null,"00:00:00"]
[null,null,"2022-11-29",null,null,"00:00:00"]
[null,null,"2022-11-30",null,null,"00:00:00"]
[null,"December","2022-12-01",null,null,{"$f":"E336-D336","v":"00:00:00"},{"$f":"SUM(F333:F339)","v":"00:00:00"}]
[null,null,"2022-12-02",null,null,{"$f":"E337-D337","v":"00:00:00"}]
[null,null,"2022-12-03",null,null,{"$f":"E338-D338","v":"00:00:00"}]
[null,null,"2022-12-04",null,null,"00:00:00"]
[null,null,"2022-12-05",null,null,"00:00:00"]
[null,null,"2022-12-06",null,null,"00:00:00"]
[null,null,"2022-12-07",null,null,"00:00:00"]
[null,null,"2022-12-08",null,null,"00:00:00",{"$f":"SUM(F340:F346)","v":"00:00:00"}]
[null,null,"2022-12-09",null,null,"00:00:00"]
[null,null,"2022-12-10",null,null,"00:00:00"]
[null,null,"2022-12-11",null,null,"00:00:00"]
[null,null,"2022-12-12",null,null,"00:00:00"]
[null,null,"2022-12-13",null,null,"00:00:00"]
[null,null,"2022-12-14",null,null,"00:00:00"]
[null,null,"2022-12-15",null,null,"00:00:00",{"$f":"SUM(F347:F353)","v":"00:00:00"}]
[null,null,"2022-12-16",null,null,"00:00:00"]
[null,null,"2022-12-17",null,null,"00:00:00"]
[null,null,"2022-12-18",null,null,"00:00:00"]
[null,null,"2022-12-19",null,null,"00:00:00"]
[null,null,"2022-12-20",null,null,"00:00:00"]
[null,null,"2022-12-21",null,null,"00:00:00"]
[null,null,"2022-12-22",null,null,"00:00:00",{"$f":"SUM(F354:F360)","v":"00:00:00"}]
[null,null,"2022-12-23",null,null,"00:00:00"]
[null,null,"2022-12-24",null,null,"00:00:00"]
[null,null,"2022-12-25",null,null,"00:00:00"]
[null,null,"2022-12-26",null,null,"00:00:00"]
[null,null,"2022-12-27",null,null,"00:00:00"]
[null,null,"2022-12-28",null,null,"00:00:00"]
[null,null,"2022-12-29",null,null,"00:00:00",{"$f":"SUM(F361:F367)","v":"00:00:00"}]
[null,null,"2022-12-30",null,null,"00:00:00"]
[null,null,"2022-12-31",null,null,"00:00:00"]

{"sheet":"Lisa","index":2,"n_rows":35,"n_cols":60,"rows_kept":35,"cut":false,"hidden":false,"merged":[]}
[]
[null,"January","Start Time","Finish Time","Hours worked",null,"February","Start Time","Finish Time","Hours worked",null,"March","Start Time","Finish Time","Hours worked",null,"April","Start Time","Finish Time","Hours worked",null,"May","Start Time","Finish Time","Hours worked",null,"June","Start Time","Finish Time","Hours worked",null,"July","Start Time","Finish Time","Hours worked",null,"August","Start Time","Finish Time","Hours worked",null,"September","Start Time","Finish Time","Hours worked",null,"October","Start Time","Finish Time","Hours worked",null,"November","Start Time","Finish Time","Hours worked",null,"December","Start Time","Finish Time","Hours worked"]
[null,"2022-01-01",null,null,{"$f":"D3-C3","v":"00:00:00"},null,"2022-02-01",null,null,{"$f":"I3-H3","v":"00:00:00"},null,"2022-03-01",null,null,{"$f":"N3-M3","v":"00:00:00"},null,"2022-04-01",null,null,{"$f":"S3-R3","v":"00:00:00"},null,"2022-05-01",null,null,{"$f":"X3-W3","v":"00:00:00"},null,"2022-06-01",null,null,{"$f":"AC3-AB3","v":"00:00:00"},null,"2022-07-01",null,null,{"$f":"AH3-AG3","v":"00:00:00"},null,"2022-08-01",null,null,{"$f":"AM3-AL3","v":"00:00:00"},null,"2022-09-01",null,null,{"$f":"AR3-AQ3","v":"00:00:00"},null,"2022-10-01",null,null,{"$f":"AW3-AV3","v":"00:00:00"},null,"2022-11-01",null,null,{"$f":"BB3-BA3","v":"00:00:00"},null,"2022-12-01",null,null,{"$f":"BG3-BF3","v":"00:00:00"}]
[null,"2022-01-02",null,null,{"$f":"D4-C4","v":"00:00:00"},null,"2022-02-02",null,null,{"$f":"I4-H4","v":"00:00:00"},null,"2022-03-02",null,null,{"$f":"N4-M4","v":"00:00:00"},null,"2022-04-02",null,null,{"$f":"S4-R4","v":"00:00:00"},null,"2022-05-02",null,null,{"$f":"X4-W4","v":"00:00:00"},null,"2022-06-02",null,null,{"$f":"AC4-AB4","v":"00:00:00"},null,"2022-07-02",null,null,{"$f":"AH4-AG4","v":"00:00:00"},null,"2022-08-02",null,null,{"$f":"AM4-AL4","v":"00:00:00"},null,"2022-09-02",null,null,{"$f":"AR4-AQ4","v":"00:00:00"},null,"2022-10-02",null,null,{"$f":"AW4-AV4","v":"00:00:00"},null,"2022-11-02",null,null,{"$f":"BB4-BA4","v":"00:00:00"},null,"2022-12-02",null,null,{"$f":"BG4-BF4","v":"00:00:00"}]
[null,"2022-01-03",null,null,{"$f":"D5-C5","v":"00:00:00"},null,"2022-02-03",null,null,{"$f":"I5-H5","v":"00:00:00"},null,"2022-03-03",null,null,{"$f":"N5-M5","v":"00:00:00"},null,"2022-04-03",null,null,{"$f":"S5-R5","v":"00:00:00"},null,"2022-05-03",null,null,{"$f":"X5-W5","v":"00:00:00"},null,"2022-06-03",null,null,{"$f":"AC5-AB5","v":"00:00:00"},null,"2022-07-03",null,null,{"$f":"AH5-AG5","v":"00:00:00"},null,"2022-08-03",null,null,{"$f":"AM5-AL5","v":"00:00:00"},null,"2022-09-03",null,null,{"$f":"AR5-AQ5","v":"00:00:00"},null,"2022-10-03",null,null,{"$f":"AW5-AV5","v":"00:00:00"},null,"2022-11-03",null,null,{"$f":"BB5-BA5","v":"00:00:00"},null,"2022-12-03",null,null,{"$f":"BG5-BF5","v":"00:00:00"}]
[null,"2022-01-04",null,null,"00:00:00",null,"2022-02-04",null,null,"00:00:00",null,"2022-03-04",null,null,"00:00:00",null,"2022-04-04",null,null,"00:00:00",null,"2022-05-04",null,null,"00:00:00",null,"2022-06-04",null,null,"00:00:00",null,"2022-07-04",null,null,"00:00:00",null,"2022-08-04",null,null,"00:00:00",null,"2022-09-04",null,null,"00:00:00",null,"2022-10-04",null,null,"00:00:00",null,"2022-11-04",null,null,"00:00:00",null,"2022-12-04",null,null,"00:00:00"]
[null,"2022-01-05",null,null,"00:00:00",null,"2022-02-05",null,null,"00:00:00",null,"2022-03-05",null,null,"00:00:00",null,"2022-04-05",null,null,"00:00:00",null,"2022-05-05",null,null,"00:00:00",null,"2022-06-05",null,null,"00:00:00",null,"2022-07-05",null,null,"00:00:00",null,"2022-08-05",null,null,"00:00:00",null,"2022-09-05",null,null,"00:00:00",null,"2022-10-05",null,null,"00:00:00",null,"2022-11-05",null,null,"00:00:00",null,"2022-12-05",null,null,"00:00:00"]
[null,"2022-01-06",null,null,"00:00:00",null,"2022-02-06",null,null,"00:00:00",null,"2022-03-06",null,null,"00:00:00",null,"2022-04-06",null,null,"00:00:00",null,"2022-05-06",null,null,"00:00:00",null,"2022-06-06",null,null,"00:00:00",null,"2022-07-06",null,null,"00:00:00",null,"2022-08-06",null,null,"00:00:00",null,"2022-09-06",null,null,"00:00:00",null,"2022-10-06",null,null,"00:00:00",null,"2022-11-06",null,null,"00:00:00",null,"2022-12-06",null,null,"00:00:00"]
[null,"2022-01-07",null,null,"00:00:00",null,"2022-02-07",null,null,"00:00:00",null,"2022-03-07",null,null,"00:00:00",null,"2022-04-07",null,null,"00:00:00",null,"2022-05-07",null,null,"00:00:00",null,"2022-06-07",null,null,"00:00:00",null,"2022-07-07",null,null,"00:00:00",null,"2022-08-07",null,null,"00:00:00",null,"2022-09-07",null,null,"00:00:00",null,"2022-10-07",null,null,"00:00:00",null,"2022-11-07",null,null,"00:00:00",null,"2022-12-07",null,null,"00:00:00"]
[null,"2022-01-08",null,null,"00:00:00",null,"2022-02-08",null,null,"00:00:00",null,"2022-03-08",null,null,"00:00:00",null,"2022-04-08",null,null,"00:00:00",null,"2022-05-08",null,null,"00:00:00",null,"2022-06-08",null,null,"00:00:00",null,"2022-07-08",null,null,"00:00:00",null,"2022-08-08",null,null,"00:00:00",null,"2022-09-08",null,null,"00:00:00",null,"2022-10-08",null,null,"00:00:00",null,"2022-11-08",null,null,"00:00:00",null,"2022-12-08",null,null,"00:00:00"]
[null,"2022-01-09",null,null,"00:00:00",null,"2022-02-09",null,null,"00:00:00",null,"2022-03-09",null,null,"00:00:00",null,"2022-04-09",null,null,"00:00:00",null,"2022-05-09",null,null,"00:00:00",null,"2022-06-09",null,null,"00:00:00",null,"2022-07-09",null,null,"00:00:00",null,"2022-08-09",null,null,"00:00:00",null,"2022-09-09",null,null,"00:00:00",null,"2022-10-09",null,null,"00:00:00",null,"2022-11-09",null,null,"00:00:00",null,"2022-12-09",null,null,"00:00:00"]
[null,"2022-01-10",null,null,"00:00:00",null,"2022-02-10",null,null,"00:00:00",null,"2022-03-10",null,null,"00:00:00",null,"2022-04-10",null,null,"00:00:00",null,"2022-05-10",null,null,"00:00:00",null,"2022-06-10",null,null,"00:00:00",null,"2022-07-10",null,null,"00:00:00",null,"2022-08-10",null,null,"00:00:00",null,"2022-09-10",null,null,"00:00:00",null,"2022-10-10",null,null,"00:00:00",null,"2022-11-10",null,null,"00:00:00",null,"2022-12-10",null,null,"00:00:00"]
[null,"2022-01-11",null,null,"00:00:00",null,"2022-02-11",null,null,"00:00:00",null,"2022-03-11",null,null,"00:00:00",null,"2022-04-11",null,null,"00:00:00",null,"2022-05-11",null,null,"00:00:00",null,"2022-06-11",null,null,"00:00:00",null,"2022-07-11",null,null,"00:00:00",null,"2022-08-11",null,null,"00:00:00",null,"2022-09-11",null,null,"00:00:00",null,"2022-10-11",null,null,"00:00:00",null,"2022-11-11",null,null,"00:00:00",null,"2022-12-11",null,null,"00:00:00"]
[null,"2022-01-12",null,null,"00:00:00",null,"2022-02-12",null,null,"00:00:00",null,"2022-03-12",null,null,"00:00:00",null,"2022-04-12",null,null,"00:00:00",null,"2022-05-12",null,null,"00:00:00",null,"2022-06-12",null,null,"00:00:00",null,"2022-07-12",null,null,"00:00:00",null,"2022-08-12",null,null,"00:00:00",null,"2022-09-12",null,null,"00:00:00",null,"2022-10-12",null,null,"00:00:00",null,"2022-11-12",null,null,"00:00:00",null,"2022-12-12",null,null,"00:00:00"]
[null,"2022-01-13",null,null,"00:00:00",null,"2022-02-13",null,null,"00:00:00",null,"2022-03-13",null,null,"00:00:00",null,"2022-04-13",null,null,"00:00:00",null,"2022-05-13",null,null,"00:00:00",null,"2022-06-13",null,null,"00:00:00",null,"2022-07-13",null,null,"00:00:00",null,"2022-08-13",null,null,"00:00:00",null,"2022-09-13",null,null,"00:00:00",null,"2022-10-13",null,null,"00:00:00",null,"2022-11-13",null,null,"00:00:00",null,"2022-12-13",null,null,"00:00:00"]
[null,"2022-01-14",null,null,"00:00:00",null,"2022-02-14",null,null,"00:00:00",null,"2022-03-14",null,null,"00:00:00",null,"2022-04-14",null,null,"00:00:00",null,"2022-05-14",null,null,"00:00:00",null,"2022-06-14",null,null,"00:00:00",null,"2022-07-14",null,null,"00:00:00",null,"2022-08-14",null,null,"00:00:00",null,"2022-09-14",null,null,"00:00:00",null,"2022-10-14",null,null,"00:00:00",null,"2022-11-14",null,null,"00:00:00",null,"2022-12-14",null,null,"00:00:00"]
[null,"2022-01-15",null,null,"00:00:00",null,"2022-02-15",null,null,"00:00:00",null,"2022-03-15",null,null,"00:00:00",null,"2022-04-15",null,null,"00:00:00",null,"2022-05-15",null,null,"00:00:00",null,"2022-06-15",null,null,"00:00:00",null,"2022-07-15",null,null,"00:00:00",null,"2022-08-15",null,null,"00:00:00",null,"2022-09-15",null,null,"00:00:00",null,"2022-10-15",null,null,"00:00:00",null,"2022-11-15",null,null,"00:00:00",null,"2022-12-15",null,null,"00:00:00"]
[null,"2022-01-16",null,null,"00:00:00",null,"2022-02-16",null,null,"00:00:00",null,"2022-03-16",null,null,"00:00:00",null,"2022-04-16",null,null,"00:00:00",null,"2022-05-16",null,null,"00:00:00",null,"2022-06-16",null,null,"00:00:00",null,"2022-07-16",null,null,"00:00:00",null,"2022-08-16",null,null,"00:00:00",null,"2022-09-16",null,null,"00:00:00",null,"2022-10-16",null,null,"00:00:00",null,"2022-11-16",null,null,"00:00:00",null,"2022-12-16",null,null,"00:00:00"]
[null,"2022-01-17",null,null,"00:00:00",null,"2022-02-17",null,null,"00:00:00",null,"2022-03-17",null,null,"00:00:00",null,"2022-04-17",null,null,"00:00:00",null,"2022-05-17",null,null,"00:00:00",null,"2022-06-17",null,null,"00:00:00",null,"2022-07-17",null,null,"00:00:00",null,"2022-08-17",null,null,"00:00:00",null,"2022-09-17",null,null,"00:00:00",null,"2022-10-17",null,null,"00:00:00",null,"2022-11-17",null,null,"00:00:00",null,"2022-12-17",null,null,"00:00:00"]
[null,"2022-01-18",null,null,"00:00:00",null,"2022-02-18",null,null,"00:00:00",null,"2022-03-18",null,null,"00:00:00",null,"2022-04-18",null,null,"00:00:00",null,"2022-05-18",null,null,"00:00:00",null,"2022-06-18",null,null,"00:00:00",null,"2022-07-18",null,null,"00:00:00",null,"2022-08-18",null,null,"00:00:00",null,"2022-09-18",null,null,"00:00:00",null,"2022-10-18",null,null,"00:00:00",null,"2022-11-18",null,null,"00:00:00",null,"2022-12-18",null,null,"00:00:00"]
[null,"2022-01-19",null,null,"00:00:00",null,"2022-02-19",null,null,"00:00:00",null,"2022-03-19",null,null,"00:00:00",null,"2022-04-19",null,null,"00:00:00",null,"2022-05-19",null,null,"00:00:00",null,"2022-06-19",null,null,"00:00:00",null,"2022-07-19",null,null,"00:00:00",null,"2022-08-19",null,null,"00:00:00",null,"2022-09-19",null,null,"00:00:00",null,"2022-10-19",null,null,"00:00:00",null,"2022-11-19",null,null,"00:00:00",null,"2022-12-19",null,null,"00:00:00"]
[null,"2022-01-20",null,null,"00:00:00",null,"2022-02-20",null,null,"00:00:00",null,"2022-03-20",null,null,"00:00:00",null,"2022-04-20",null,null,"00:00:00",null,"2022-05-20",null,null,"00:00:00",null,"2022-06-20",null,null,"00:00:00",null,"2022-07-20",null,null,"00:00:00",null,"2022-08-20",null,null,"00:00:00",null,"2022-09-20",null,null,"00:00:00",null,"2022-10-20",null,null,"00:00:00",null,"2022-11-20",null,null,"00:00:00",null,"2022-12-20",null,null,"00:00:00"]
[null,"2022-01-21",null,null,"00:00:00",null,"2022-02-21",null,null,"00:00:00",null,"2022-03-21",null,null,"00:00:00",null,"2022-04-21",null,null,"00:00:00",null,"2022-05-21",null,null,"00:00:00",null,"2022-06-21",null,null,"00:00:00",null,"2022-07-21",null,null,"00:00:00",null,"2022-08-21",null,null,"00:00:00",null,"2022-09-21",null,null,"00:00:00",null,"2022-10-21",null,null,"00:00:00",null,"2022-11-21",null,null,"00:00:00",null,"2022-12-21",null,null,"00:00:00"]
[null,"2022-01-22",null,null,"00:00:00",null,"2022-02-22",null,null,"00:00:00",null,"2022-03-22",null,null,"00:00:00",null,"2022-04-22",null,null,"00:00:00",null,"2022-05-22",null,null,"00:00:00",null,"2022-06-22",null,null,"00:00:00",null,"2022-07-22",null,null,"00:00:00",null,"2022-08-22",null,null,"00:00:00",null,"2022-09-22",null,null,"00:00:00",null,"2022-10-22",null,null,"00:00:00",null,"2022-11-22",null,null,"00:00:00",null,"2022-12-22",null,null,"00:00:00"]
[null,"2022-01-23",null,null,"00:00:00",null,"2022-02-23",null,null,"00:00:00",null,"2022-03-23",null,null,"00:00:00",null,"2022-04-23",null,null,"00:00:00",null,"2022-05-23",null,null,"00:00:00",null,"2022-06-23",null,null,"00:00:00",null,"2022-07-23",null,null,"00:00:00",null,"2022-08-23",null,null,"00:00:00",null,"2022-09-23",null,null,"00:00:00",null,"2022-10-23",null,null,"00:00:00",null,"2022-11-23",null,null,"00:00:00",null,"2022-12-23",null,null,"00:00:00"]
[null,"2022-01-24",null,null,"00:00:00",null,"2022-02-24",null,null,"00:00:00",null,"2022-03-24",null,null,"00:00:00",null,"2022-04-24",null,null,"00:00:00",null,"2022-05-24",null,null,"00:00:00",null,"2022-06-24",null,null,"00:00:00",null,"2022-07-24",null,null,"00:00:00",null,"2022-08-24",null,null,"00:00:00",null,"2022-09-24",null,null,"00:00:00",null,"2022-10-24",null,null,"00:00:00",null,"2022-11-24",null,null,"00:00:00",null,"2022-12-24",null,null,"00:00:00"]
[null,"2022-01-25",null,null,"00:00:00",null,"2022-02-25",null,null,"00:00:00",null,"2022-03-25",null,null,"00:00:00",null,"2022-04-25",null,null,"00:00:00",null,"2022-05-25",null,null,"00:00:00",null,"2022-06-25",null,null,"00:00:00",null,"2022-07-25",null,null,"00:00:00",null,"2022-08-25",null,null,"00:00:00",null,"2022-09-25",null,null,"00:00:00",null,"2022-10-25",null,null,"00:00:00",null,"2022-11-25",null,null,"00:00:00",null,"2022-12-25",null,null,"00:00:00"]
[null,"2022-01-26",null,null,"00:00:00",null,"2022-02-26",null,null,"00:00:00",null,"2022-03-26",null,null,"00:00:00",null,"2022-04-26",null,null,"00:00:00",null,"2022-05-26",null,null,"00:00:00",null,"2022-06-26",null,null,"00:00:00",null,"2022-07-26",null,null,"00:00:00",null,"2022-08-26",null,null,"00:00:00",null,"2022-09-26",null,null,"00:00:00",null,"2022-10-26",null,null,"00:00:00",null,"2022-11-26",null,null,"00:00:00",null,"2022-12-26",null,null,"00:00:00"]
[null,"2022-01-27",null,null,"00:00:00",null,"2022-02-27",null,null,"00:00:00",null,"2022-03-27",null,null,"00:00:00",null,"2022-04-27",null,null,"00:00:00",null,"2022-05-27",null,null,"00:00:00",null,"2022-06-27",null,null,"00:00:00",null,"2022-07-27",null,null,"00:00:00",null,"2022-08-27",null,null,"00:00:00",null,"2022-09-27",null,null,"00:00:00",null,"2022-10-27",null,null,"00:00:00",null,"2022-11-27",null,null,"00:00:00",null,"2022-12-27",null,null,"00:00:00"]
[null,"2022-01-28",null,null,"00:00:00",null,"2022-02-28",null,null,"00:00:00",null,"2022-03-28",null,null,"00:00:00",null,"2022-04-28",null,null,"00:00:00",null,"2022-05-28",null,null,"00:00:00",null,"2022-06-28",null,null,"00:00:00",null,"2022-07-28",null,null,"00:00:00",null,"2022-08-28",null,null,"00:00:00",null,"2022-09-28",null,null,"00:00:00",null,"2022-10-28",null,null,"00:00:00",null,"2022-11-28",null,null,"00:00:00",null,"2022-12-28",null,null,"00:00:00"]
[null,"2022-01-29",null,null,"00:00:00",null,null,null,null,null,null,null,null,null,"00:00:00",null,"2022-04-29",null,null,"00:00:00",null,"2022-05-29",null,null,"00:00:00",null,"2022-06-29",null,null,"00:00:00",null,"2022-07-29",null,null,"00:00:00",null,"2022-08-29",null,null,"00:00:00",null,"2022-09-29",null,null,"00:00:00",null,"2022-10-29",null,null,"00:00:00",null,"2022-11-29",null,null,"00:00:00",null,"2022-12-29",null,null,"00:00:00"]
[null,"2022-01-30",null,null,"00:00:00",null,null,null,null,null,null,null,null,null,"00:00:00",null,"2022-04-30",null,null,"00:00:00",null,"2022-05-30",null,null,"00:00:00",null,"2022-06-30",null,null,"00:00:00",null,"2022-07-30",null,null,"00:00:00",null,"2022-08-30",null,null,"00:00:00",null,"2022-09-30",null,null,"00:00:00",null,"2022-10-30",null,null,"00:00:00",null,"2022-11-30",null,null,"00:00:00",null,"2022-12-30",null,null,"00:00:00"]
[null,"2022-01-31",null,null,"00:00:00",null,null,null,null,null,null,null,null,null,"00:00:00",null,null,null,null,null,null,"2022-05-31",null,null,"00:00:00",null,null,null,null,null,null,"2022-07-31",null,null,"00:00:00",null,"2022-08-31",null,null,"00:00:00",null,null,null,null,null,null,"2022-10-31",null,null,"00:00:00",null,null,null,null,null,null,"2022-12-31",null,null,"00:00:00"]
[]
[null,null,"Total Hours Worked",null,{"$f":"SUM(E3:E34)","v":"00:00:00"},null,null,"Total Hours Worked",null,{"$f":"SUM(J3:J34)","v":"00:00:00"},null,null,"Total Hours Worked",null,{"$f":"SUM(O3:O34)","v":"00:00:00"},null,null,"Total Hours Worked",null,{"$f":"SUM(T3:T34)","v":"00:00:00"},null,null,"Total Hours Worked",null,{"$f":"SUM(Y3:Y34)","v":"00:00:00"},null,null,"Total Hours Worked",null,{"$f":"SUM(AD3:AD34)","v":"00:00:00"},null,null,"Total Hours Worked",null,{"$f":"SUM(AI3:AI34)","v":"00:00:00"},null,null,"Total Hours Worked",null,{"$f":"SUM(AN3:AN34)","v":"00:00:00"},null,null,"Total Hours Worked",null,{"$f":"SUM(AS3:AS34)","v":"00:00:00"},null,null,"Total Hours Worked",null,{"$f":"SUM(AX3:AX34)","v":"00:00:00"},null,null,"Total Hours Worked",null,{"$f":"SUM(BC3:BC34)","v":"00:00:00"},null,null,"Total Hours Worked",null,{"$f":"SUM(BH3:BH34)","v":"00:00:00"}]

{"sheet":"Ethan","index":3,"n_rows":35,"n_cols":60,"rows_kept":35,"cut":false,"hidden":false,"merged":[]}
[]
[null,"January","Start Time","Finish Time","Hours worked",null,"February","Start Time","Finish Time","Hours worked",null,"March","Start Time","Finish Time","Hours worked",null,"April","Start Time","Finish Time","Hours worked",null,"May","Start Time","Finish Time","Hours worked",null,"June","Start Time","Finish Time","Hours worked",null,"July","Start Time","Finish Time","Hours worked",null,"August","Start Time","Finish Time","Hours worked",null,"September","Start Time","Finish Time","Hours worked",null,"October","Start Time","Finish Time","Hours worked",null,"November","Start Time","Finish Time","Hours worked",null,"December","Start Time","Finish Time","Hours worked"]
[null,"2022-01-01",null,null,{"$f":"D3-C3","v":"00:00:00"},null,"2022-02-01",null,null,{"$f":"I3-H3","v":"00:00:00"},null,"2022-03-01",null,null,{"$f":"N3-M3","v":"00:00:00"},null,"2022-04-01",null,null,{"$f":"S3-R3","v":"00:00:00"},null,"2022-05-01",null,null,{"$f":"X3-W3","v":"00:00:00"},null,"2022-06-01",null,null,{"$f":"AC3-AB3","v":"00:00:00"},null,"2022-07-01",null,null,{"$f":"AH3-AG3","v":"00:00:00"},null,"2022-08-01",null,null,{"$f":"AM3-AL3","v":"00:00:00"},null,"2022-09-01",null,null,{"$f":"AR3-AQ3","v":"00:00:00"},null,"2022-10-01",null,null,{"$f":"AW3-AV3","v":"00:00:00"},null,"2022-11-01",null,null,{"$f":"BB3-BA3","v":"00:00:00"},null,"2022-12-01",null,null,{"$f":"BG3-BF3","v":"00:00:00"}]
[null,"2022-01-02",null,null,{"$f":"D4-C4","v":"00:00:00"},null,"2022-02-02",null,null,{"$f":"I4-H4","v":"00:00:00"},null,"2022-03-02",null,null,{"$f":"N4-M4","v":"00:00:00"},null,"2022-04-02",null,null,{"$f":"S4-R4","v":"00:00:00"},null,"2022-05-02",null,null,{"$f":"X4-W4","v":"00:00:00"},null,"2022-06-02",null,null,{"$f":"AC4-AB4","v":"00:00:00"},null,"2022-07-02",null,null,{"$f":"AH4-AG4","v":"00:00:00"},null,"2022-08-02",null,null,{"$f":"AM4-AL4","v":"00:00:00"},null,"2022-09-02",null,null,{"$f":"AR4-AQ4","v":"00:00:00"},null,"2022-10-02",null,null,{"$f":"AW4-AV4","v":"00:00:00"},null,"2022-11-02",null,null,{"$f":"BB4-BA4","v":"00:00:00"},null,"2022-12-02",null,null,{"$f":"BG4-BF4","v":"00:00:00"}]
[null,"2022-01-03",null,null,{"$f":"D5-C5","v":"00:00:00"},null,"2022-02-03",null,null,{"$f":"I5-H5","v":"00:00:00"},null,"2022-03-03",null,null,{"$f":"N5-M5","v":"00:00:00"},null,"2022-04-03",null,null,{"$f":"S5-R5","v":"00:00:00"},null,"2022-05-03",null,null,{"$f":"X5-W5","v":"00:00:00"},null,"2022-06-03",null,null,{"$f":"AC5-AB5","v":"00:00:00"},null,"2022-07-03",null,null,{"$f":"AH5-AG5","v":"00:00:00"},null,"2022-08-03",null,null,{"$f":"AM5-AL5","v":"00:00:00"},null,"2022-09-03",null,null,{"$f":"AR5-AQ5","v":"00:00:00"},null,"2022-10-03",null,null,{"$f":"AW5-AV5","v":"00:00:00"},null,"2022-11-03",null,null,{"$f":"BB5-BA5","v":"00:00:00"},null,"2022-12-03",null,null,{"$f":"BG5-BF5","v":"00:00:00"}]
[null,"2022-01-04",null,null,"00:00:00",null,"2022-02-04",null,null,"00:00:00",null,"2022-03-04",null,null,"00:00:00",null,"2022-04-04",null,null,"00:00:00",null,"2022-05-04",null,null,"00:00:00",null,"2022-06-04",null,null,"00:00:00",null,"2022-07-04",null,null,"00:00:00",null,"2022-08-04",null,null,"00:00:00",null,"2022-09-04",null,null,"00:00:00",null,"2022-10-04",null,null,"00:00:00",null,"2022-11-04",null,null,"00:00:00",null,"2022-12-04",null,null,"00:00:00"]
[null,"2022-01-05",null,null,"00:00:00",null,"2022-02-05",null,null,"00:00:00",null,"2022-03-05",null,null,"00:00:00",null,"2022-04-05",null,null,"00:00:00",null,"2022-05-05",null,null,"00:00:00",null,"2022-06-05",null,null,"00:00:00",null,"2022-07-05",null,null,"00:00:00",null,"2022-08-05",null,null,"00:00:00",null,"2022-09-05",null,null,"00:00:00",null,"2022-10-05",null,null,"00:00:00",null,"2022-11-05",null,null,"00:00:00",null,"2022-12-05",null,null,"00:00:00"]
[null,"2022-01-06",null,null,"00:00:00",null,"2022-02-06",null,null,"00:00:00",null,"2022-03-06",null,null,"00:00:00",null,"2022-04-06",null,null,"00:00:00",null,"2022-05-06",null,null,"00:00:00",null,"2022-06-06",null,null,"00:00:00",null,"2022-07-06",null,null,"00:00:00",null,"2022-08-06",null,null,"00:00:00",null,"2022-09-06",null,null,"00:00:00",null,"2022-10-06",null,null,"00:00:00",null,"2022-11-06",null,null,"00:00:00",null,"2022-12-06",null,null,"00:00:00"]
[null,"2022-01-07",null,null,"00:00:00",null,"2022-02-07",null,null,"00:00:00",null,"2022-03-07",null,null,"00:00:00",null,"2022-04-07",null,null,"00:00:00",null,"2022-05-07",null,null,"00:00:00",null,"2022-06-07",null,null,"00:00:00",null,"2022-07-07",null,null,"00:00:00",null,"2022-08-07",null,null,"00:00:00",null,"2022-09-07",null,null,"00:00:00",null,"2022-10-07",null,null,"00:00:00",null,"2022-11-07",null,null,"00:00:00",null,"2022-12-07",null,null,"00:00:00"]
[null,"2022-01-08",null,null,"00:00:00",null,"2022-02-08",null,null,"00:00:00",null,"2022-03-08",null,null,"00:00:00",null,"2022-04-08",null,null,"00:00:00",null,"2022-05-08",null,null,"00:00:00",null,"2022-06-08",null,null,"00:00:00",null,"2022-07-08",null,null,"00:00:00",null,"2022-08-08",null,null,"00:00:00",null,"2022-09-08",null,null,"00:00:00",null,"2022-10-08",null,null,"00:00:00",null,"2022-11-08",null,null,"00:00:00",null,"2022-12-08",null,null,"00:00:00"]
[null,"2022-01-09",null,null,"00:00:00",null,"2022-02-09",null,null,"00:00:00",null,"2022-03-09",null,null,"00:00:00",null,"2022-04-09",null,null,"00:00:00",null,"2022-05-09",null,null,"00:00:00",null,"2022-06-09",null,null,"00:00:00",null,"2022-07-09",null,null,"00:00:00",null,"2022-08-09",null,null,"00:00:00",null,"2022-09-09",null,null,"00:00:00",null,"2022-10-09",null,null,"00:00:00",null,"2022-11-09",null,null,"00:00:00",null,"2022-12-09",null,null,"00:00:00"]
[null,"2022-01-10",null,null,"00:00:00",null,"2022-02-10",null,null,"00:00:00",null,"2022-03-10",null,null,"00:00:00",null,"2022-04-10",null,null,"00:00:00",null,"2022-05-10",null,null,"00:00:00",null,"2022-06-10",null,null,"00:00:00",null,"2022-07-10",null,null,"00:00:00",null,"2022-08-10",null,null,"00:00:00",null,"2022-09-10",null,null,"00:00:00",null,"2022-10-10",null,null,"00:00:00",null,"2022-11-10",null,null,"00:00:00",null,"2022-12-10",null,null,"00:00:00"]
[null,"2022-01-11",null,null,"00:00:00",null,"2022-02-11",null,null,"00:00:00",null,"2022-03-11",null,null,"00:00:00",null,"2022-04-11",null,null,"00:00:00",null,"2022-05-11",null,null,"00:00:00",null,"2022-06-11",null,null,"00:00:00",null,"2022-07-11",null,null,"00:00:00",null,"2022-08-11",null,null,"00:00:00",null,"2022-09-11",null,null,"00:00:00",null,"2022-10-11",null,null,"00:00:00",null,"2022-11-11",null,null,"00:00:00",null,"2022-12-11",null,null,"00:00:00"]
[null,"2022-01-12",null,null,"00:00:00",null,"2022-02-12",null,null,"00:00:00",null,"2022-03-12",null,null,"00:00:00",null,"2022-04-12",null,null,"00:00:00",null,"2022-05-12",null,null,"00:00:00",null,"2022-06-12",null,null,"00:00:00",null,"2022-07-12",null,null,"00:00:00",null,"2022-08-12",null,null,"00:00:00",null,"2022-09-12",null,null,"00:00:00",null,"2022-10-12",null,null,"00:00:00",null,"2022-11-12",null,null,"00:00:00",null,"2022-12-12",null,null,"00:00:00"]
[null,"2022-01-13",null,null,"00:00:00",null,"2022-02-13",null,null,"00:00:00",null,"2022-03-13",null,null,"00:00:00",null,"2022-04-13",null,null,"00:00:00",null,"2022-05-13",null,null,"00:00:00",null,"2022-06-13",null,null,"00:00:00",null,"2022-07-13",null,null,"00:00:00",null,"2022-08-13",null,null,"00:00:00",null,"2022-09-13",null,null,"00:00:00",null,"2022-10-13",null,null,"00:00:00",null,"2022-11-13",null,null,"00:00:00",null,"2022-12-13",null,null,"00:00:00"]
[null,"2022-01-14",null,null,"00:00:00",null,"2022-02-14",null,null,"00:00:00",null,"2022-03-14",null,null,"00:00:00",null,"2022-04-14",null,null,"00:00:00",null,"2022-05-14",null,null,"00:00:00",null,"2022-06-14",null,null,"00:00:00",null,"2022-07-14",null,null,"00:00:00",null,"2022-08-14",null,null,"00:00:00",null,"2022-09-14",null,null,"00:00:00",null,"2022-10-14",null,null,"00:00:00",null,"2022-11-14",null,null,"00:00:00",null,"2022-12-14",null,null,"00:00:00"]
[null,"2022-01-15",null,null,"00:00:00",null,"2022-02-15",null,null,"00:00:00",null,"2022-03-15",null,null,"00:00:00",null,"2022-04-15",null,null,"00:00:00",null,"2022-05-15",null,null,"00:00:00",null,"2022-06-15",null,null,"00:00:00",null,"2022-07-15",null,null,"00:00:00",null,"2022-08-15",null,null,"00:00:00",null,"2022-09-15",null,null,"00:00:00",null,"2022-10-15",null,null,"00:00:00",null,"2022-11-15",null,null,"00:00:00",null,"2022-12-15",null,null,"00:00:00"]
[null,"2022-01-16",null,null,"00:00:00",null,"2022-02-16",null,null,"00:00:00",null,"2022-03-16",null,null,"00:00:00",null,"2022-04-16",null,null,"00:00:00",null,"2022-05-16",null,null,"00:00:00",null,"2022-06-16",null,null,"00:00:00",null,"2022-07-16",null,null,"00:00:00",null,"2022-08-16",null,null,"00:00:00",null,"2022-09-16",null,null,"00:00:00",null,"2022-10-16",null,null,"00:00:00",null,"2022-11-16",null,null,"00:00:00",null,"2022-12-16",null,null,"00:00:00"]
[null,"2022-01-17",null,null,"00:00:00",null,"2022-02-17",null,null,"00:00:00",null,"2022-03-17",null,null,"00:00:00",null,"2022-04-17",null,null,"00:00:00",null,"2022-05-17",null,null,"00:00:00",null,"2022-06-17",null,null,"00:00:00",null,"2022-07-17",null,null,"00:00:00",null,"2022-08-17",null,null,"00:00:00",null,"2022-09-17",null,null,"00:00:00",null,"2022-10-17",null,null,"00:00:00",null,"2022-11-17",null,null,"00:00:00",null,"2022-12-17",null,null,"00:00:00"]
[null,"2022-01-18",null,null,"00:00:00",null,"2022-02-18",null,null,"00:00:00",null,"2022-03-18",null,null,"00:00:00",null,"2022-04-18",null,null,"00:00:00",null,"2022-05-18",null,null,"00:00:00",null,"2022-06-18",null,null,"00:00:00",null,"2022-07-18",null,null,"00:00:00",null,"2022-08-18",null,null,"00:00:00",null,"2022-09-18",null,null,"00:00:00",null,"2022-10-18",null,null,"00:00:00",null,"2022-11-18",null,null,"00:00:00",null,"2022-12-18",null,null,"00:00:00"]
[null,"2022-01-19",null,null,"00:00:00",null,"2022-02-19",null,null,"00:00:00",null,"2022-03-19",null,null,"00:00:00",null,"2022-04-19",null,null,"00:00:00",null,"2022-05-19",null,null,"00:00:00",null,"2022-06-19",null,null,"00:00:00",null,"2022-07-19",null,null,"00:00:00",null,"2022-08-19",null,null,"00:00:00",null,"2022-09-19",null,null,"00:00:00",null,"2022-10-19",null,null,"00:00:00",null,"2022-11-19",null,null,"00:00:00",null,"2022-12-19",null,null,"00:00:00"]
[null,"2022-01-20",null,null,"00:00:00",null,"2022-02-20",null,null,"00:00:00",null,"2022-03-20",null,null,"00:00:00",null,"2022-04-20",null,null,"00:00:00",null,"2022-05-20",null,null,"00:00:00",null,"2022-06-20",null,null,"00:00:00",null,"2022-07-20",null,null,"00:00:00",null,"2022-08-20",null,null,"00:00:00",null,"2022-09-20",null,null,"00:00:00",null,"2022-10-20",null,null,"00:00:00",null,"2022-11-20",null,null,"00:00:00",null,"2022-12-20",null,null,"00:00:00"]
[null,"2022-01-21",null,null,"00:00:00",null,"2022-02-21",null,null,"00:00:00",null,"2022-03-21",null,null,"00:00:00",null,"2022-04-21",null,null,"00:00:00",null,"2022-05-21",null,null,"00:00:00",null,"2022-06-21",null,null,"00:00:00",null,"2022-07-21",null,null,"00:00:00",null,"2022-08-21",null,null,"00:00:00",null,"2022-09-21",null,null,"00:00:00",null,"2022-10-21",null,null,"00:00:00",null,"2022-11-21",null,null,"00:00:00",null,"2022-12-21",null,null,"00:00:00"]
[null,"2022-01-22",null,null,"00:00:00",null,"2022-02-22",null,null,"00:00:00",null,"2022-03-22",null,null,"00:00:00",null,"2022-04-22",null,null,"00:00:00",null,"2022-05-22",null,null,"00:00:00",null,"2022-06-22",null,null,"00:00:00",null,"2022-07-22",null,null,"00:00:00",null,"2022-08-22",null,null,"00:00:00",null,"2022-09-22",null,null,"00:00:00",null,"2022-10-22",null,null,"00:00:00",null,"2022-11-22",null,null,"00:00:00",null,"2022-12-22",null,null,"00:00:00"]
[null,"2022-01-23",null,null,"00:00:00",null,"2022-02-23",null,null,"00:00:00",null,"2022-03-23",null,null,"00:00:00",null,"2022-04-23",null,null,"00:00:00",null,"2022-05-23",null,null,"00:00:00",null,"2022-06-23",null,null,"00:00:00",null,"2022-07-23",null,null,"00:00:00",null,"2022-08-23",null,null,"00:00:00",null,"2022-09-23",null,null,"00:00:00",null,"2022-10-23",null,null,"00:00:00",null,"2022-11-23",null,null,"00:00:00",null,"2022-12-23",null,null,"00:00:00"]
[null,"2022-01-24",null,null,"00:00:00",null,"2022-02-24",null,null,"00:00:00",null,"2022-03-24",null,null,"00:00:00",null,"2022-04-24",null,null,"00:00:00",null,"2022-05-24",null,null,"00:00:00",null,"2022-06-24",null,null,"00:00:00",null,"2022-07-24",null,null,"00:00:00",null,"2022-08-24",null,null,"00:00:00",null,"2022-09-24",null,null,"00:00:00",null,"2022-10-24",null,null,"00:00:00",null,"2022-11-24",null,null,"00:00:00",null,"2022-12-24",null,null,"00:00:00"]
[null,"2022-01-25",null,null,"00:00:00",null,"2022-02-25",null,null,"00:00:00",null,"2022-03-25",null,null,"00:00:00",null,"2022-04-25",null,null,"00:00:00",null,"2022-05-25",null,null,"00:00:00",null,"2022-06-25",null,null,"00:00:00",null,"2022-07-25",null,null,"00:00:00",null,"2022-08-25",null,null,"00:00:00",null,"2022-09-25",null,null,"00:00:00",null,"2022-10-25",null,null,"00:00:00",null,"2022-11-25",null,null,"00:00:00",null,"2022-12-25",null,null,"00:00:00"]
[null,"2022-01-26",null,null,"00:00:00",null,"2022-02-26",null,null,"00:00:00",null,"2022-03-26",null,null,"00:00:00",null,"2022-04-26",null,null,"00:00:00",null,"2022-05-26",null,null,"00:00:00",null,"2022-06-26",null,null,"00:00:00",null,"2022-07-26",null,null,"00:00:00",null,"2022-08-26",null,null,"00:00:00",null,"2022-09-26",null,null,"00:00:00",null,"2022-10-26",null,null,"00:00:00",null,"2022-11-26",null,null,"00:00:00",null,"2022-12-26",null,null,"00:00:00"]
[null,"2022-01-27",null,null,"00:00:00",null,"2022-02-27",null,null,"00:00:00",null,"2022-03-27",null,null,"00:00:00",null,"2022-04-27",null,null,"00:00:00",null,"2022-05-27",null,null,"00:00:00",null,"2022-06-27",null,null,"00:00:00",null,"2022-07-27",null,null,"00:00:00",null,"2022-08-27",null,null,"00:00:00",null,"2022-09-27",null,null,"00:00:00",null,"2022-10-27",null,null,"00:00:00",null,"2022-11-27",null,null,"00:00:00",null,"2022-12-27",null,null,"00:00:00"]
[null,"2022-01-28",null,null,"00:00:00",null,"2022-02-28",null,null,"00:00:00",null,"2022-03-28",null,null,"00:00:00",null,"2022-04-28",null,null,"00:00:00",null,"2022-05-28",null,null,"00:00:00",null,"2022-06-28",null,null,"00:00:00",null,"2022-07-28",null,null,"00:00:00",null,"2022-08-28",null,null,"00:00:00",null,"2022-09-28",null,null,"00:00:00",null,"2022-10-28",null,null,"00:00:00",null,"2022-11-28",null,null,"00:00:00",null,"2022-12-28",null,null,"00:00:00"]
[null,"2022-01-29",null,null,"00:00:00",null,null,null,null,null,null,null,null,null,"00:00:00",null,"2022-04-29",null,null,"00:00:00",null,"2022-05-29",null,null,"00:00:00",null,"2022-06-29",null,null,"00:00:00",null,"2022-07-29",null,null,"00:00:00",null,"2022-08-29",null,null,"00:00:00",null,"2022-09-29",null,null,"00:00:00",null,"2022-10-29",null,null,"00:00:00",null,"2022-11-29",null,null,"00:00:00",null,"2022-12-29",null,null,"00:00:00"]
[null,"2022-01-30",null,null,"00:00:00",null,null,null,null,null,null,null,null,null,"00:00:00",null,"2022-04-30",null,null,"00:00:00",null,"2022-05-30",null,null,"00:00:00",null,"2022-06-30",null,null,"00:00:00",null,"2022-07-30",null,null,"00:00:00",null,"2022-08-30",null,null,"00:00:00",null,"2022-09-30",null,null,"00:00:00",null,"2022-10-30",null,null,"00:00:00",null,"2022-11-30",null,null,"00:00:00",null,"2022-12-30",null,null,"00:00:00"]
[null,"2022-01-31",null,null,"00:00:00",null,null,null,null,null,null,null,null,null,"00:00:00",null,null,null,null,null,null,"2022-05-31",null,null,"00:00:00",null,null,null,null,null,null,"2022-07-31",null,null,"00:00:00",null,"2022-08-31",null,null,"00:00:00",null,null,null,null,null,null,"2022-10-31",null,null,"00:00:00",null,null,null,null,null,null,"2022-12-31",null,null,"00:00:00"]
[]
[null,null,"Total Hours Worked",null,{"$f":"SUM(E3:E34)","v":"00:00:00"},null,null,"Total Hours Worked",null,{"$f":"SUM(J3:J34)","v":"00:00:00"},null,null,"Total Hours Worked",null,{"$f":"SUM(O3:O34)","v":"00:00:00"},null,null,"Total Hours Worked",null,{"$f":"SUM(T3:T34)","v":"00:00:00"},null,null,"Total Hours Worked",null,{"$f":"SUM(Y3:Y34)","v":"00:00:00"},null,null,"Total Hours Worked",null,{"$f":"SUM(AD3:AD34)","v":"00:00:00"},null,null,"Total Hours Worked",null,{"$f":"SUM(AI3:AI34)","v":"00:00:00"},null,null,"Total Hours Worked",null,{"$f":"SUM(AN3:AN34)","v":"00:00:00"},null,null,"Total Hours Worked",null,{"$f":"SUM(AS3:AS34)","v":"00:00:00"},null,null,"Total Hours Worked",null,{"$f":"SUM(AX3:AX34)","v":"00:00:00"},null,null,"Total Hours Worked",null,{"$f":"SUM(BC3:BC34)","v":"00:00:00"},null,null,"Total Hours Worked",null,{"$f":"SUM(BH3:BH34)","v":"00:00:00"}]

{"sheet":"Dylan","index":4,"n_rows":35,"n_cols":60,"rows_kept":35,"cut":false,"hidden":false,"merged":[]}
[]
[null,"January","Start Time","Finish Time","Hours worked",null,"February","Start Time","Finish Time","Hours worked",null,"March","Start Time","Finish Time","Hours worked",null,"April","Start Time","Finish Time","Hours worked",null,"May","Start Time","Finish Time","Hours worked",null,"June","Start Time","Finish Time","Hours worked",null,"July","Start Time","Finish Time","Hours worked",null,"August","Start Time","Finish Time","Hours worked",null,"September","Start Time","Finish Time","Hours worked",null,"October","Start Time","Finish Time","Hours worked",null,"November","Start Time","Finish Time","Hours worked",null,"December","Start Time","Finish Time","Hours worked"]
[null,"2022-01-01",null,null,{"$f":"D3-C3","v":"00:00:00"},null,"2022-02-01",null,null,{"$f":"I3-H3","v":"00:00:00"},null,"2022-03-01",null,null,{"$f":"N3-M3","v":"00:00:00"},null,"2022-04-01",null,null,{"$f":"S3-R3","v":"00:00:00"},null,"2022-05-01",null,null,{"$f":"X3-W3","v":"00:00:00"},null,"2022-06-01",null,null,{"$f":"AC3-AB3","v":"00:00:00"},null,"2022-07-01",null,null,{"$f":"AH3-AG3","v":"00:00:00"},null,"2022-08-01",null,null,{"$f":"AM3-AL3","v":"00:00:00"},null,"2022-09-01",null,null,{"$f":"AR3-AQ3","v":"00:00:00"},null,"2022-10-01",null,null,{"$f":"AW3-AV3","v":"00:00:00"},null,"2022-11-01",null,null,{"$f":"BB3-BA3","v":"00:00:00"},null,"2022-12-01",null,null,{"$f":"BG3-BF3","v":"00:00:00"}]
[null,"2022-01-02",null,null,{"$f":"D4-C4","v":"00:00:00"},null,"2022-02-02",null,null,{"$f":"I4-H4","v":"00:00:00"},null,"2022-03-02",null,null,{"$f":"N4-M4","v":"00:00:00"},null,"2022-04-02",null,null,{"$f":"S4-R4","v":"00:00:00"},null,"2022-05-02",null,null,{"$f":"X4-W4","v":"00:00:00"},null,"2022-06-02",null,null,{"$f":"AC4-AB4","v":"00:00:00"},null,"2022-07-02",null,null,{"$f":"AH4-AG4","v":"00:00:00"},null,"2022-08-02",null,null,{"$f":"AM4-AL4","v":"00:00:00"},null,"2022-09-02",null,null,{"$f":"AR4-AQ4","v":"00:00:00"},null,"2022-10-02",null,null,{"$f":"AW4-AV4","v":"00:00:00"},null,"2022-11-02",null,null,{"$f":"BB4-BA4","v":"00:00:00"},null,"2022-12-02",null,null,{"$f":"BG4-BF4","v":"00:00:00"}]
[null,"2022-01-03",null,null,{"$f":"D5-C5","v":"00:00:00"},null,"2022-02-03",null,null,{"$f":"I5-H5","v":"00:00:00"},null,"2022-03-03",null,null,{"$f":"N5-M5","v":"00:00:00"},null,"2022-04-03",null,null,{"$f":"S5-R5","v":"00:00:00"},null,"2022-05-03",null,null,{"$f":"X5-W5","v":"00:00:00"},null,"2022-06-03",null,null,{"$f":"AC5-AB5","v":"00:00:00"},null,"2022-07-03",null,null,{"$f":"AH5-AG5","v":"00:00:00"},null,"2022-08-03",null,null,{"$f":"AM5-AL5","v":"00:00:00"},null,"2022-09-03",null,null,{"$f":"AR5-AQ5","v":"00:00:00"},null,"2022-10-03",null,null,{"$f":"AW5-AV5","v":"00:00:00"},null,"2022-11-03",null,null,{"$f":"BB5-BA5","v":"00:00:00"},null,"2022-12-03",null,null,{"$f":"BG5-BF5","v":"00:00:00"}]
[null,"2022-01-04",null,null,"00:00:00",null,"2022-02-04",null,null,"00:00:00",null,"2022-03-04",null,null,"00:00:00",null,"2022-04-04",null,null,"00:00:00",null,"2022-05-04",null,null,"00:00:00",null,"2022-06-04",null,null,"00:00:00",null,"2022-07-04",null,null,"00:00:00",null,"2022-08-04",null,null,"00:00:00",null,"2022-09-04",null,null,"00:00:00",null,"2022-10-04",null,null,"00:00:00",null,"2022-11-04",null,null,"00:00:00",null,"2022-12-04",null,null,"00:00:00"]
[null,"2022-01-05",null,null,"00:00:00",null,"2022-02-05",null,null,"00:00:00",null,"2022-03-05",null,null,"00:00:00",null,"2022-04-05",null,null,"00:00:00",null,"2022-05-05",null,null,"00:00:00",null,"2022-06-05",null,null,"00:00:00",null,"2022-07-05",null,null,"00:00:00",null,"2022-08-05",null,null,"00:00:00",null,"2022-09-05",null,null,"00:00:00",null,"2022-10-05",null,null,"00:00:00",null,"2022-11-05",null,null,"00:00:00",null,"2022-12-05",null,null,"00:00:00"]
[null,"2022-01-06",null,null,"00:00:00",null,"2022-02-06",null,null,"00:00:00",null,"2022-03-06",null,null,"00:00:00",null,"2022-04-06",null,null,"00:00:00",null,"2022-05-06",null,null,"00:00:00",null,"2022-06-06",null,null,"00:00:00",null,"2022-07-06",null,null,"00:00:00",null,"2022-08-06",null,null,"00:00:00",null,"2022-09-06",null,null,"00:00:00",null,"2022-10-06",null,null,"00:00:00",null,"2022-11-06",null,null,"00:00:00",null,"2022-12-06",null,null,"00:00:00"]
[null,"2022-01-07",null,null,"00:00:00",null,"2022-02-07",null,null,"00:00:00",null,"2022-03-07",null,null,"00:00:00",null,"2022-04-07",null,null,"00:00:00",null,"2022-05-07",null,null,"00:00:00",null,"2022-06-07",null,null,"00:00:00",null,"2022-07-07",null,null,"00:00:00",null,"2022-08-07",null,null,"00:00:00",null,"2022-09-07",null,null,"00:00:00",null,"2022-10-07",null,null,"00:00:00",null,"2022-11-07",null,null,"00:00:00",null,"2022-12-07",null,null,"00:00:00"]
[null,"2022-01-08",null,null,"00:00:00",null,"2022-02-08",null,null,"00:00:00",null,"2022-03-08",null,null,"00:00:00",null,"2022-04-08",null,null,"00:00:00",null,"2022-05-08",null,null,"00:00:00",null,"2022-06-08",null,null,"00:00:00",null,"2022-07-08",null,null,"00:00:00",null,"2022-08-08",null,null,"00:00:00",null,"2022-09-08",null,null,"00:00:00",null,"2022-10-08",null,null,"00:00:00",null,"2022-11-08",null,null,"00:00:00",null,"2022-12-08",null,null,"00:00:00"]
[null,"2022-01-09",null,null,"00:00:00",null,"2022-02-09",null,null,"00:00:00",null,"2022-03-09",null,null,"00:00:00",null,"2022-04-09",null,null,"00:00:00",null,"2022-05-09",null,null,"00:00:00",null,"2022-06-09",null,null,"00:00:00",null,"2022-07-09",null,null,"00:00:00",null,"2022-08-09",null,null,"00:00:00",null,"2022-09-09",null,null,"00:00:00",null,"2022-10-09",null,null,"00:00:00",null,"2022-11-09",null,null,"00:00:00",null,"2022-12-09",null,null,"00:00:00"]
[null,"2022-01-10",null,null,"00:00:00",null,"2022-02-10",null,null,"00:00:00",null,"2022-03-10",null,null,"00:00:00",null,"2022-04-10",null,null,"00:00:00",null,"2022-05-10",null,null,"00:00:00",null,"2022-06-10",null,null,"00:00:00",null,"2022-07-10",null,null,"00:00:00",null,"2022-08-10",null,null,"00:00:00",null,"2022-09-10",null,null,"00:00:00",null,"2022-10-10",null,null,"00:00:00",null,"2022-11-10",null,null,"00:00:00",null,"2022-12-10",null,null,"00:00:00"]
[null,"2022-01-11",null,null,"00:00:00",null,"2022-02-11",null,null,"00:00:00",null,"2022-03-11",null,null,"00:00:00",null,"2022-04-11",null,null,"00:00:00",null,"2022-05-11",null,null,"00:00:00",null,"2022-06-11",null,null,"00:00:00",null,"2022-07-11",null,null,"00:00:00",null,"2022-08-11",null,null,"00:00:00",null,"2022-09-11",null,null,"00:00:00",null,"2022-10-11",null,null,"00:00:00",null,"2022-11-11",null,null,"00:00:00",null,"2022-12-11",null,null,"00:00:00"]
[null,"2022-01-12",null,null,"00:00:00",null,"2022-02-12",null,null,"00:00:00",null,"2022-03-12",null,null,"00:00:00",null,"2022-04-12",null,null,"00:00:00",null,"2022-05-12",null,null,"00:00:00",null,"2022-06-12",null,null,"00:00:00",null,"2022-07-12",null,null,"00:00:00",null,"2022-08-12",null,null,"00:00:00",null,"2022-09-12",null,null,"00:00:00",null,"2022-10-12",null,null,"00:00:00",null,"2022-11-12",null,null,"00:00:00",null,"2022-12-12",null,null,"00:00:00"]
[null,"2022-01-13",null,null,"00:00:00",null,"2022-02-13",null,null,"00:00:00",null,"2022-03-13",null,null,"00:00:00",null,"2022-04-13",null,null,"00:00:00",null,"2022-05-13",null,null,"00:00:00",null,"2022-06-13",null,null,"00:00:00",null,"2022-07-13",null,null,"00:00:00",null,"2022-08-13",null,null,"00:00:00",null,"2022-09-13",null,null,"00:00:00",null,"2022-10-13",null,null,"00:00:00",null,"2022-11-13",null,null,"00:00:00",null,"2022-12-13",null,null,"00:00:00"]
[null,"2022-01-14",null,null,"00:00:00",null,"2022-02-14",null,null,"00:00:00",null,"2022-03-14",null,null,"00:00:00",null,"2022-04-14",null,null,"00:00:00",null,"2022-05-14",null,null,"00:00:00",null,"2022-06-14",null,null,"00:00:00",null,"2022-07-14",null,null,"00:00:00",null,"2022-08-14",null,null,"00:00:00",null,"2022-09-14",null,null,"00:00:00",null,"2022-10-14",null,null,"00:00:00",null,"2022-11-14",null,null,"00:00:00",null,"2022-12-14",null,null,"00:00:00"]
[null,"2022-01-15",null,null,"00:00:00",null,"2022-02-15",null,null,"00:00:00",null,"2022-03-15",null,null,"00:00:00",null,"2022-04-15",null,null,"00:00:00",null,"2022-05-15",null,null,"00:00:00",null,"2022-06-15",null,null,"00:00:00",null,"2022-07-15",null,null,"00:00:00",null,"2022-08-15",null,null,"00:00:00",null,"2022-09-15",null,null,"00:00:00",null,"2022-10-15",null,null,"00:00:00",null,"2022-11-15",null,null,"00:00:00",null,"2022-12-15",null,null,"00:00:00"]
[null,"2022-01-16",null,null,"00:00:00",null,"2022-02-16",null,null,"00:00:00",null,"2022-03-16",null,null,"00:00:00",null,"2022-04-16",null,null,"00:00:00",null,"2022-05-16",null,null,"00:00:00",null,"2022-06-16",null,null,"00:00:00",null,"2022-07-16",null,null,"00:00:00",null,"2022-08-16",null,null,"00:00:00",null,"2022-09-16",null,null,"00:00:00",null,"2022-10-16",null,null,"00:00:00",null,"2022-11-16",null,null,"00:00:00",null,"2022-12-16",null,null,"00:00:00"]
[null,"2022-01-17",null,null,"00:00:00",null,"2022-02-17",null,null,"00:00:00",null,"2022-03-17",null,null,"00:00:00",null,"2022-04-17",null,null,"00:00:00",null,"2022-05-17",null,null,"00:00:00",null,"2022-06-17",null,null,"00:00:00",null,"2022-07-17",null,null,"00:00:00",null,"2022-08-17",null,null,"00:00:00",null,"2022-09-17",null,null,"00:00:00",null,"2022-10-17",null,null,"00:00:00",null,"2022-11-17",null,null,"00:00:00",null,"2022-12-17",null,null,"00:00:00"]
[null,"2022-01-18",null,null,"00:00:00",null,"2022-02-18",null,null,"00:00:00",null,"2022-03-18",null,null,"00:00:00",null,"2022-04-18",null,null,"00:00:00",null,"2022-05-18",null,null,"00:00:00",null,"2022-06-18",null,null,"00:00:00",null,"2022-07-18",null,null,"00:00:00",null,"2022-08-18",null,null,"00:00:00",null,"2022-09-18",null,null,"00:00:00",null,"2022-10-18",null,null,"00:00:00",null,"2022-11-18",null,null,"00:00:00",null,"2022-12-18",null,null,"00:00:00"]
[null,"2022-01-19",null,null,"00:00:00",null,"2022-02-19",null,null,"00:00:00",null,"2022-03-19",null,null,"00:00:00",null,"2022-04-19",null,null,"00:00:00",null,"2022-05-19",null,null,"00:00:00",null,"2022-06-19",null,null,"00:00:00",null,"2022-07-19",null,null,"00:00:00",null,"2022-08-19",null,null,"00:00:00",null,"2022-09-19",null,null,"00:00:00",null,"2022-10-19",null,null,"00:00:00",null,"2022-11-19",null,null,"00:00:00",null,"2022-12-19",null,null,"00:00:00"]
[null,"2022-01-20",null,null,"00:00:00",null,"2022-02-20",null,null,"00:00:00",null,"2022-03-20",null,null,"00:00:00",null,"2022-04-20",null,null,"00:00:00",null,"2022-05-20",null,null,"00:00:00",null,"2022-06-20",null,null,"00:00:00",null,"2022-07-20",null,null,"00:00:00",null,"2022-08-20",null,null,"00:00:00",null,"2022-09-20",null,null,"00:00:00",null,"2022-10-20",null,null,"00:00:00",null,"2022-11-20",null,null,"00:00:00",null,"2022-12-20",null,null,"00:00:00"]
[null,"2022-01-21",null,null,"00:00:00",null,"2022-02-21",null,null,"00:00:00",null,"2022-03-21",null,null,"00:00:00",null,"2022-04-21",null,null,"00:00:00",null,"2022-05-21",null,null,"00:00:00",null,"2022-06-21",null,null,"00:00:00",null,"2022-07-21",null,null,"00:00:00",null,"2022-08-21",null,null,"00:00:00",null,"2022-09-21",null,null,"00:00:00",null,"2022-10-21",null,null,"00:00:00",null,"2022-11-21",null,null,"00:00:00",null,"2022-12-21",null,null,"00:00:00"]
[null,"2022-01-22",null,null,"00:00:00",null,"2022-02-22",null,null,"00:00:00",null,"2022-03-22",null,null,"00:00:00",null,"2022-04-22",null,null,"00:00:00",null,"2022-05-22",null,null,"00:00:00",null,"2022-06-22",null,null,"00:00:00",null,"2022-07-22",null,null,"00:00:00",null,"2022-08-22",null,null,"00:00:00",null,"2022-09-22",null,null,"00:00:00",null,"2022-10-22",null,null,"00:00:00",null,"2022-11-22",null,null,"00:00:00",null,"2022-12-22",null,null,"00:00:00"]
[null,"2022-01-23",null,null,"00:00:00",null,"2022-02-23",null,null,"00:00:00",null,"2022-03-23",null,null,"00:00:00",null,"2022-04-23",null,null,"00:00:00",null,"2022-05-23",null,null,"00:00:00",null,"2022-06-23",null,null,"00:00:00",null,"2022-07-23",null,null,"00:00:00",null,"2022-08-23",null,null,"00:00:00",null,"2022-09-23",null,null,"00:00:00",null,"2022-10-23",null,null,"00:00:00",null,"2022-11-23",null,null,"00:00:00",null,"2022-12-23",null,null,"00:00:00"]
[null,"2022-01-24",null,null,"00:00:00",null,"2022-02-24",null,null,"00:00:00",null,"2022-03-24",null,null,"00:00:00",null,"2022-04-24",null,null,"00:00:00",null,"2022-05-24",null,null,"00:00:00",null,"2022-06-24",null,null,"00:00:00",null,"2022-07-24",null,null,"00:00:00",null,"2022-08-24",null,null,"00:00:00",null,"2022-09-24",null,null,"00:00:00",null,"2022-10-24",null,null,"00:00:00",null,"2022-11-24",null,null,"00:00:00",null,"2022-12-24",null,null,"00:00:00"]
[null,"2022-01-25",null,null,"00:00:00",null,"2022-02-25",null,null,"00:00:00",null,"2022-03-25",null,null,"00:00:00",null,"2022-04-25",null,null,"00:00:00",null,"2022-05-25",null,null,"00:00:00",null,"2022-06-25",null,null,"00:00:00",null,"2022-07-25",null,null,"00:00:00",null,"2022-08-25",null,null,"00:00:00",null,"2022-09-25",null,null,"00:00:00",null,"2022-10-25",null,null,"00:00:00",null,"2022-11-25",null,null,"00:00:00",null,"2022-12-25",null,null,"00:00:00"]
[null,"2022-01-26",null,null,"00:00:00",null,"2022-02-26",null,null,"00:00:00",null,"2022-03-26",null,null,"00:00:00",null,"2022-04-26",null,null,"00:00:00",null,"2022-05-26",null,null,"00:00:00",null,"2022-06-26",null,null,"00:00:00",null,"2022-07-26",null,null,"00:00:00",null,"2022-08-26",null,null,"00:00:00",null,"2022-09-26",null,null,"00:00:00",null,"2022-10-26",null,null,"00:00:00",null,"2022-11-26",null,null,"00:00:00",null,"2022-12-26",null,null,"00:00:00"]
[null,"2022-01-27",null,null,"00:00:00",null,"2022-02-27",null,null,"00:00:00",null,"2022-03-27",null,null,"00:00:00",null,"2022-04-27",null,null,"00:00:00",null,"2022-05-27",null,null,"00:00:00",null,"2022-06-27",null,null,"00:00:00",null,"2022-07-27",null,null,"00:00:00",null,"2022-08-27",null,null,"00:00:00",null,"2022-09-27",null,null,"00:00:00",null,"2022-10-27",null,null,"00:00:00",null,"2022-11-27",null,null,"00:00:00",null,"2022-12-27",null,null,"00:00:00"]
[null,"2022-01-28",null,null,"00:00:00",null,"2022-02-28",null,null,"00:00:00",null,"2022-03-28",null,null,"00:00:00",null,"2022-04-28",null,null,"00:00:00",null,"2022-05-28",null,null,"00:00:00",null,"2022-06-28",null,null,"00:00:00",null,"2022-07-28",null,null,"00:00:00",null,"2022-08-28",null,null,"00:00:00",null,"2022-09-28",null,null,"00:00:00",null,"2022-10-28",null,null,"00:00:00",null,"2022-11-28",null,null,"00:00:00",null,"2022-12-28",null,null,"00:00:00"]
[null,"2022-01-29",null,null,"00:00:00",null,null,null,null,null,null,null,null,null,"00:00:00",null,"2022-04-29",null,null,"00:00:00",null,"2022-05-29",null,null,"00:00:00",null,"2022-06-29",null,null,"00:00:00",null,"2022-07-29",null,null,"00:00:00",null,"2022-08-29",null,null,"00:00:00",null,"2022-09-29",null,null,"00:00:00",null,"2022-10-29",null,null,"00:00:00",null,"2022-11-29",null,null,"00:00:00",null,"2022-12-29",null,null,"00:00:00"]
[null,"2022-01-30",null,null,"00:00:00",null,null,null,null,null,null,null,null,null,"00:00:00",null,"2022-04-30",null,null,"00:00:00",null,"2022-05-30",null,null,"00:00:00",null,"2022-06-30",null,null,"00:00:00",null,"2022-07-30",null,null,"00:00:00",null,"2022-08-30",null,null,"00:00:00",null,"2022-09-30",null,null,"00:00:00",null,"2022-10-30",null,null,"00:00:00",null,"2022-11-30",null,null,"00:00:00",null,"2022-12-30",null,null,"00:00:00"]
[null,"2022-01-31",null,null,"00:00:00",null,null,null,null,null,null,null,null,null,"00:00:00",null,null,null,null,null,null,"2022-05-31",null,null,"00:00:00",null,null,null,null,null,null,"2022-07-31",null,null,"00:00:00",null,"2022-08-31",null,null,"00:00:00",null,null,null,null,null,null,"2022-10-31",null,null,"00:00:00",null,null,null,null,null,null,"2022-12-31",null,null,"00:00:00"]
[]
[null,null,"Total Hours Worked",null,{"$f":"SUM(E3:E34)","v":"00:00:00"},null,null,"Total Hours Worked",null,{"$f":"SUM(J3:J34)","v":"00:00:00"},null,null,"Total Hours Worked",null,{"$f":"SUM(O3:O34)","v":"00:00:00"},null,null,"Total Hours Worked",null,{"$f":"SUM(T3:T34)","v":"00:00:00"},null,null,"Total Hours Worked",null,{"$f":"SUM(Y3:Y34)","v":"00:00:00"},null,null,"Total Hours Worked",null,{"$f":"SUM(AD3:AD34)","v":"00:00:00"},null,null,"Total Hours Worked",null,{"$f":"SUM(AI3:AI34)","v":"00:00:00"},null,null,"Total Hours Worked",null,{"$f":"SUM(AN3:AN34)","v":"00:00:00"},null,null,"Total Hours Worked",null,{"$f":"SUM(AS3:AS34)","v":"00:00:00"},null,null,"Total Hours Worked",null,{"$f":"SUM(AX3:AX34)","v":"00:00:00"},null,null,"Total Hours Worked",null,{"$f":"SUM(BC3:BC34)","v":"00:00:00"},null,null,"Total Hours Worked",null,{"$f":"SUM(BH3:BH34)","v":"00:00:00"}]

{"sheet":"Norman","index":5,"n_rows":35,"n_cols":60,"rows_kept":35,"cut":false,"hidden":false,"merged":[]}
[]
[null,"January","Start Time","Finish Time","Hours worked",null,"February","Start Time","Finish Time","Hours worked",null,"March","Start Time","Finish Time","Hours worked",null,"April","Start Time","Finish Time","Hours worked",null,"May","Start Time","Finish Time","Hours worked",null,"June","Start Time","Finish Time","Hours worked",null,"July","Start Time","Finish Time","Hours worked",null,"August","Start Time","Finish Time","Hours worked",null,"September","Start Time","Finish Time","Hours worked",null,"October","Start Time","Finish Time","Hours worked",null,"November","Start Time","Finish Time","Hours worked",null,"December","Start Time","Finish Time","Hours worked"]
[null,"2022-01-01",null,null,{"$f":"D3-C3","v":"00:00:00"},null,"2022-02-01",null,null,{"$f":"I3-H3","v":"00:00:00"},null,"2022-03-01",null,null,{"$f":"N3-M3","v":"00:00:00"},null,"2022-04-01",null,null,{"$f":"S3-R3","v":"00:00:00"},null,"2022-05-01",null,null,{"$f":"X3-W3","v":"00:00:00"},null,"2022-06-01",null,null,{"$f":"AC3-AB3","v":"00:00:00"},null,"2022-07-01",null,null,{"$f":"AH3-AG3","v":"00:00:00"},null,"2022-08-01",null,null,{"$f":"AM3-AL3","v":"00:00:00"},null,"2022-09-01",null,null,{"$f":"AR3-AQ3","v":"00:00:00"},null,"2022-10-01",null,null,{"$f":"AW3-AV3","v":"00:00:00"},null,"2022-11-01",null,null,{"$f":"BB3-BA3","v":"00:00:00"},null,"2022-12-01",null,null,{"$f":"BG3-BF3","v":"00:00:00"}]
[null,"2022-01-02",null,null,{"$f":"D4-C4","v":"00:00:00"},null,"2022-02-02",null,null,{"$f":"I4-H4","v":"00:00:00"},null,"2022-03-02",null,null,{"$f":"N4-M4","v":"00:00:00"},null,"2022-04-02",null,null,{"$f":"S4-R4","v":"00:00:00"},null,"2022-05-02",null,null,{"$f":"X4-W4","v":"00:00:00"},null,"2022-06-02",null,null,{"$f":"AC4-AB4","v":"00:00:00"},null,"2022-07-02",null,null,{"$f":"AH4-AG4","v":"00:00:00"},null,"2022-08-02",null,null,{"$f":"AM4-AL4","v":"00:00:00"},null,"2022-09-02",null,null,{"$f":"AR4-AQ4","v":"00:00:00"},null,"2022-10-02",null,null,{"$f":"AW4-AV4","v":"00:00:00"},null,"2022-11-02",null,null,{"$f":"BB4-BA4","v":"00:00:00"},null,"2022-12-02",null,null,{"$f":"BG4-BF4","v":"00:00:00"}]
[null,"2022-01-03",null,null,{"$f":"D5-C5","v":"00:00:00"},null,"2022-02-03",null,null,{"$f":"I5-H5","v":"00:00:00"},null,"2022-03-03",null,null,{"$f":"N5-M5","v":"00:00:00"},null,"2022-04-03",null,null,{"$f":"S5-R5","v":"00:00:00"},null,"2022-05-03",null,null,{"$f":"X5-W5","v":"00:00:00"},null,"2022-06-03",null,null,{"$f":"AC5-AB5","v":"00:00:00"},null,"2022-07-03",null,null,{"$f":"AH5-AG5","v":"00:00:00"},null,"2022-08-03",null,null,{"$f":"AM5-AL5","v":"00:00:00"},null,"2022-09-03",null,null,{"$f":"AR5-AQ5","v":"00:00:00"},null,"2022-10-03",null,null,{"$f":"AW5-AV5","v":"00:00:00"},null,"2022-11-03",null,null,{"$f":"BB5-BA5","v":"00:00:00"},null,"2022-12-03",null,null,{"$f":"BG5-BF5","v":"00:00:00"}]
[null,"2022-01-04",null,null,"00:00:00",null,"2022-02-04",null,null,"00:00:00",null,"2022-03-04",null,null,"00:00:00",null,"2022-04-04",null,null,"00:00:00",null,"2022-05-04",null,null,"00:00:00",null,"2022-06-04",null,null,"00:00:00",null,"2022-07-04",null,null,"00:00:00",null,"2022-08-04",null,null,"00:00:00",null,"2022-09-04",null,null,"00:00:00",null,"2022-10-04",null,null,"00:00:00",null,"2022-11-04",null,null,"00:00:00",null,"2022-12-04",null,null,"00:00:00"]
[null,"2022-01-05",null,null,"00:00:00",null,"2022-02-05",null,null,"00:00:00",null,"2022-03-05",null,null,"00:00:00",null,"2022-04-05",null,null,"00:00:00",null,"2022-05-05",null,null,"00:00:00",null,"2022-06-05",null,null,"00:00:00",null,"2022-07-05",null,null,"00:00:00",null,"2022-08-05",null,null,"00:00:00",null,"2022-09-05",null,null,"00:00:00",null,"2022-10-05",null,null,"00:00:00",null,"2022-11-05",null,null,"00:00:00",null,"2022-12-05",null,null,"00:00:00"]
[null,"2022-01-06",null,null,"00:00:00",null,"2022-02-06",null,null,"00:00:00",null,"2022-03-06",null,null,"00:00:00",null,"2022-04-06",null,null,"00:00:00",null,"2022-05-06",null,null,"00:00:00",null,"2022-06-06",null,null,"00:00:00",null,"2022-07-06",null,null,"00:00:00",null,"2022-08-06",null,null,"00:00:00",null,"2022-09-06",null,null,"00:00:00",null,"2022-10-06",null,null,"00:00:00",null,"2022-11-06",null,null,"00:00:00",null,"2022-12-06",null,null,"00:00:00"]
[null,"2022-01-07",null,null,"00:00:00",null,"2022-02-07",null,null,"00:00:00",null,"2022-03-07",null,null,"00:00:00",null,"2022-04-07",null,null,"00:00:00",null,"2022-05-07",null,null,"00:00:00",null,"2022-06-07",null,null,"00:00:00",null,"2022-07-07",null,null,"00:00:00",null,"2022-08-07",null,null,"00:00:00",null,"2022-09-07",null,null,"00:00:00",null,"2022-10-07",null,null,"00:00:00",null,"2022-11-07",null,null,"00:00:00",null,"2022-12-07",null,null,"00:00:00"]
[null,"2022-01-08",null,null,"00:00:00",null,"2022-02-08",null,null,"00:00:00",null,"2022-03-08",null,null,"00:00:00",null,"2022-04-08",null,null,"00:00:00",null,"2022-05-08",null,null,"00:00:00",null,"2022-06-08",null,null,"00:00:00",null,"2022-07-08",null,null,"00:00:00",null,"2022-08-08",null,null,"00:00:00",null,"2022-09-08",null,null,"00:00:00",null,"2022-10-08",null,null,"00:00:00",null,"2022-11-08",null,null,"00:00:00",null,"2022-12-08",null,null,"00:00:00"]
[null,"2022-01-09",null,null,"00:00:00",null,"2022-02-09",null,null,"00:00:00",null,"2022-03-09",null,null,"00:00:00",null,"2022-04-09",null,null,"00:00:00",null,"2022-05-09",null,null,"00:00:00",null,"2022-06-09",null,null,"00:00:00",null,"2022-07-09",null,null,"00:00:00",null,"2022-08-09",null,null,"00:00:00",null,"2022-09-09",null,null,"00:00:00",null,"2022-10-09",null,null,"00:00:00",null,"2022-11-09",null,null,"00:00:00",null,"2022-12-09",null,null,"00:00:00"]
[null,"2022-01-10",null,null,"00:00:00",null,"2022-02-10",null,null,"00:00:00",null,"2022-03-10",null,null,"00:00:00",null,"2022-04-10",null,null,"00:00:00",null,"2022-05-10",null,null,"00:00:00",null,"2022-06-10",null,null,"00:00:00",null,"2022-07-10",null,null,"00:00:00",null,"2022-08-10",null,null,"00:00:00",null,"2022-09-10",null,null,"00:00:00",null,"2022-10-10",null,null,"00:00:00",null,"2022-11-10",null,null,"00:00:00",null,"2022-12-10",null,null,"00:00:00"]
[null,"2022-01-11",null,null,"00:00:00",null,"2022-02-11",null,null,"00:00:00",null,"2022-03-11",null,null,"00:00:00",null,"2022-04-11",null,null,"00:00:00",null,"2022-05-11",null,null,"00:00:00",null,"2022-06-11",null,null,"00:00:00",null,"2022-07-11",null,null,"00:00:00",null,"2022-08-11",null,null,"00:00:00",null,"2022-09-11",null,null,"00:00:00",null,"2022-10-11",null,null,"00:00:00",null,"2022-11-11",null,null,"00:00:00",null,"2022-12-11",null,null,"00:00:00"]
[null,"2022-01-12",null,null,"00:00:00",null,"2022-02-12",null,null,"00:00:00",null,"2022-03-12",null,null,"00:00:00",null,"2022-04-12",null,null,"00:00:00",null,"2022-05-12",null,null,"00:00:00",null,"2022-06-12",null,null,"00:00:00",null,"2022-07-12",null,null,"00:00:00",null,"2022-08-12",null,null,"00:00:00",null,"2022-09-12",null,null,"00:00:00",null,"2022-10-12",null,null,"00:00:00",null,"2022-11-12",null,null,"00:00:00",null,"2022-12-12",null,null,"00:00:00"]
[null,"2022-01-13",null,null,"00:00:00",null,"2022-02-13",null,null,"00:00:00",null,"2022-03-13",null,null,"00:00:00",null,"2022-04-13",null,null,"00:00:00",null,"2022-05-13",null,null,"00:00:00",null,"2022-06-13",null,null,"00:00:00",null,"2022-07-13",null,null,"00:00:00",null,"2022-08-13",null,null,"00:00:00",null,"2022-09-13",null,null,"00:00:00",null,"2022-10-13",null,null,"00:00:00",null,"2022-11-13",null,null,"00:00:00",null,"2022-12-13",null,null,"00:00:00"]
[null,"2022-01-14",null,null,"00:00:00",null,"2022-02-14",null,null,"00:00:00",null,"2022-03-14",null,null,"00:00:00",null,"2022-04-14",null,null,"00:00:00",null,"2022-05-14",null,null,"00:00:00",null,"2022-06-14",null,null,"00:00:00",null,"2022-07-14",null,null,"00:00:00",null,"2022-08-14",null,null,"00:00:00",null,"2022-09-14",null,null,"00:00:00",null,"2022-10-14",null,null,"00:00:00",null,"2022-11-14",null,null,"00:00:00",null,"2022-12-14",null,null,"00:00:00"]
[null,"2022-01-15",null,null,"00:00:00",null,"2022-02-15",null,null,"00:00:00",null,"2022-03-15",null,null,"00:00:00",null,"2022-04-15",null,null,"00:00:00",null,"2022-05-15",null,null,"00:00:00",null,"2022-06-15",null,null,"00:00:00",null,"2022-07-15",null,null,"00:00:00",null,"2022-08-15",null,null,"00:00:00",null,"2022-09-15",null,null,"00:00:00",null,"2022-10-15",null,null,"00:00:00",null,"2022-11-15",null,null,"00:00:00",null,"2022-12-15",null,null,"00:00:00"]
[null,"2022-01-16",null,null,"00:00:00",null,"2022-02-16",null,null,"00:00:00",null,"2022-03-16",null,null,"00:00:00",null,"2022-04-16",null,null,"00:00:00",null,"2022-05-16",null,null,"00:00:00",null,"2022-06-16",null,null,"00:00:00",null,"2022-07-16",null,null,"00:00:00",null,"2022-08-16",null,null,"00:00:00",null,"2022-09-16",null,null,"00:00:00",null,"2022-10-16",null,null,"00:00:00",null,"2022-11-16",null,null,"00:00:00",null,"2022-12-16",null,null,"00:00:00"]
[null,"2022-01-17",null,null,"00:00:00",null,"2022-02-17",null,null,"00:00:00",null,"2022-03-17",null,null,"00:00:00",null,"2022-04-17",null,null,"00:00:00",null,"2022-05-17",null,null,"00:00:00",null,"2022-06-17",null,null,"00:00:00",null,"2022-07-17",null,null,"00:00:00",null,"2022-08-17",null,null,"00:00:00",null,"2022-09-17",null,null,"00:00:00",null,"2022-10-17",null,null,"00:00:00",null,"2022-11-17",null,null,"00:00:00",null,"2022-12-17",null,null,"00:00:00"]
[null,"2022-01-18",null,null,"00:00:00",null,"2022-02-18",null,null,"00:00:00",null,"2022-03-18",null,null,"00:00:00",null,"2022-04-18",null,null,"00:00:00",null,"2022-05-18",null,null,"00:00:00",null,"2022-06-18",null,null,"00:00:00",null,"2022-07-18",null,null,"00:00:00",null,"2022-08-18",null,null,"00:00:00",null,"2022-09-18",null,null,"00:00:00",null,"2022-10-18",null,null,"00:00:00",null,"2022-11-18",null,null,"00:00:00",null,"2022-12-18",null,null,"00:00:00"]
[null,"2022-01-19",null,null,"00:00:00",null,"2022-02-19",null,null,"00:00:00",null,"2022-03-19",null,null,"00:00:00",null,"2022-04-19",null,null,"00:00:00",null,"2022-05-19",null,null,"00:00:00",null,"2022-06-19",null,null,"00:00:00",null,"2022-07-19",null,null,"00:00:00",null,"2022-08-19",null,null,"00:00:00",null,"2022-09-19",null,null,"00:00:00",null,"2022-10-19",null,null,"00:00:00",null,"2022-11-19",null,null,"00:00:00",null,"2022-12-19",null,null,"00:00:00"]
[null,"2022-01-20",null,null,"00:00:00",null,"2022-02-20",null,null,"00:00:00",null,"2022-03-20",null,null,"00:00:00",null,"2022-04-20",null,null,"00:00:00",null,"2022-05-20",null,null,"00:00:00",null,"2022-06-20",null,null,"00:00:00",null,"2022-07-20",null,null,"00:00:00",null,"2022-08-20",null,null,"00:00:00",null,"2022-09-20",null,null,"00:00:00",null,"2022-10-20",null,null,"00:00:00",null,"2022-11-20",null,null,"00:00:00",null,"2022-12-20",null,null,"00:00:00"]
[null,"2022-01-21",null,null,"00:00:00",null,"2022-02-21",null,null,"00:00:00",null,"2022-03-21",null,null,"00:00:00",null,"2022-04-21",null,null,"00:00:00",null,"2022-05-21",null,null,"00:00:00",null,"2022-06-21",null,null,"00:00:00",null,"2022-07-21",null,null,"00:00:00",null,"2022-08-21",null,null,"00:00:00",null,"2022-09-21",null,null,"00:00:00",null,"2022-10-21",null,null,"00:00:00",null,"2022-11-21",null,null,"00:00:00",null,"2022-12-21",null,null,"00:00:00"]
[null,"2022-01-22",null,null,"00:00:00",null,"2022-02-22",null,null,"00:00:00",null,"2022-03-22",null,null,"00:00:00",null,"2022-04-22",null,null,"00:00:00",null,"2022-05-22",null,null,"00:00:00",null,"2022-06-22",null,null,"00:00:00",null,"2022-07-22",null,null,"00:00:00",null,"2022-08-22",null,null,"00:00:00",null,"2022-09-22",null,null,"00:00:00",null,"2022-10-22",null,null,"00:00:00",null,"2022-11-22",null,null,"00:00:00",null,"2022-12-22",null,null,"00:00:00"]
[null,"2022-01-23",null,null,"00:00:00",null,"2022-02-23",null,null,"00:00:00",null,"2022-03-23",null,null,"00:00:00",null,"2022-04-23",null,null,"00:00:00",null,"2022-05-23",null,null,"00:00:00",null,"2022-06-23",null,null,"00:00:00",null,"2022-07-23",null,null,"00:00:00",null,"2022-08-23",null,null,"00:00:00",null,"2022-09-23",null,null,"00:00:00",null,"2022-10-23",null,null,"00:00:00",null,"2022-11-23",null,null,"00:00:00",null,"2022-12-23",null,null,"00:00:00"]
[null,"2022-01-24",null,null,"00:00:00",null,"2022-02-24",null,null,"00:00:00",null,"2022-03-24",null,null,"00:00:00",null,"2022-04-24",null,null,"00:00:00",null,"2022-05-24",null,null,"00:00:00",null,"2022-06-24",null,null,"00:00:00",null,"2022-07-24",null,null,"00:00:00",null,"2022-08-24",null,null,"00:00:00",null,"2022-09-24",null,null,"00:00:00",null,"2022-10-24",null,null,"00:00:00",null,"2022-11-24",null,null,"00:00:00",null,"2022-12-24",null,null,"00:00:00"]
[null,"2022-01-25",null,null,"00:00:00",null,"2022-02-25",null,null,"00:00:00",null,"2022-03-25",null,null,"00:00:00",null,"2022-04-25",null,null,"00:00:00",null,"2022-05-25",null,null,"00:00:00",null,"2022-06-25",null,null,"00:00:00",null,"2022-07-25",null,null,"00:00:00",null,"2022-08-25",null,null,"00:00:00",null,"2022-09-25",null,null,"00:00:00",null,"2022-10-25",null,null,"00:00:00",null,"2022-11-25",null,null,"00:00:00",null,"2022-12-25",null,null,"00:00:00"]
[null,"2022-01-26",null,null,"00:00:00",null,"2022-02-26",null,null,"00:00:00",null,"2022-03-26",null,null,"00:00:00",null,"2022-04-26",null,null,"00:00:00",null,"2022-05-26",null,null,"00:00:00",null,"2022-06-26",null,null,"00:00:00",null,"2022-07-26",null,null,"00:00:00",null,"2022-08-26",null,null,"00:00:00",null,"2022-09-26",null,null,"00:00:00",null,"2022-10-26",null,null,"00:00:00",null,"2022-11-26",null,null,"00:00:00",null,"2022-12-26",null,null,"00:00:00"]
[null,"2022-01-27",null,null,"00:00:00",null,"2022-02-27",null,null,"00:00:00",null,"2022-03-27",null,null,"00:00:00",null,"2022-04-27",null,null,"00:00:00",null,"2022-05-27",null,null,"00:00:00",null,"2022-06-27",null,null,"00:00:00",null,"2022-07-27",null,null,"00:00:00",null,"2022-08-27",null,null,"00:00:00",null,"2022-09-27",null,null,"00:00:00",null,"2022-10-27",null,null,"00:00:00",null,"2022-11-27",null,null,"00:00:00",null,"2022-12-27",null,null,"00:00:00"]
[null,"2022-01-28",null,null,"00:00:00",null,"2022-02-28",null,null,"00:00:00",null,"2022-03-28",null,null,"00:00:00",null,"2022-04-28",null,null,"00:00:00",null,"2022-05-28",null,null,"00:00:00",null,"2022-06-28",null,null,"00:00:00",null,"2022-07-28",null,null,"00:00:00",null,"2022-08-28",null,null,"00:00:00",null,"2022-09-28",null,null,"00:00:00",null,"2022-10-28",null,null,"00:00:00",null,"2022-11-28",null,null,"00:00:00",null,"2022-12-28",null,null,"00:00:00"]
[null,"2022-01-29",null,null,"00:00:00",null,null,null,null,null,null,null,null,null,"00:00:00",null,"2022-04-29",null,null,"00:00:00",null,"2022-05-29",null,null,"00:00:00",null,"2022-06-29",null,null,"00:00:00",null,"2022-07-29",null,null,"00:00:00",null,"2022-08-29",null,null,"00:00:00",null,"2022-09-29",null,null,"00:00:00",null,"2022-10-29",null,null,"00:00:00",null,"2022-11-29",null,null,"00:00:00",null,"2022-12-29",null,null,"00:00:00"]
[null,"2022-01-30",null,null,"00:00:00",null,null,null,null,null,null,null,null,null,"00:00:00",null,"2022-04-30",null,null,"00:00:00",null,"2022-05-30",null,null,"00:00:00",null,"2022-06-30",null,null,"00:00:00",null,"2022-07-30",null,null,"00:00:00",null,"2022-08-30",null,null,"00:00:00",null,"2022-09-30",null,null,"00:00:00",null,"2022-10-30",null,null,"00:00:00",null,"2022-11-30",null,null,"00:00:00",null,"2022-12-30",null,null,"00:00:00"]
[null,"2022-01-31",null,null,"00:00:00",null,null,null,null,null,null,null,null,null,"00:00:00",null,null,null,null,null,null,"2022-05-31",null,null,"00:00:00",null,null,null,null,null,null,"2022-07-31",null,null,"00:00:00",null,"2022-08-31",null,null,"00:00:00",null,null,null,null,null,null,"2022-10-31",null,null,"00:00:00",null,null,null,null,null,null,"2022-12-31",null,null,"00:00:00"]
[]
[null,null,"Total Hours Worked",null,{"$f":"SUM(E3:E34)","v":"00:00:00"},null,null,"Total Hours Worked",null,{"$f":"SUM(J3:J34)","v":"00:00:00"},null,null,"Total Hours Worked",null,{"$f":"SUM(O3:O34)","v":"00:00:00"},null,null,"Total Hours Worked",null,{"$f":"SUM(T3:T34)","v":"00:00:00"},null,null,"Total Hours Worked",null,{"$f":"SUM(Y3:Y34)","v":"00:00:00"},null,null,"Total Hours Worked",null,{"$f":"SUM(AD3:AD34)","v":"00:00:00"},null,null,"Total Hours Worked",null,{"$f":"SUM(AI3:AI34)","v":"00:00:00"},null,null,"Total Hours Worked",null,{"$f":"SUM(AN3:AN34)","v":"00:00:00"},null,null,"Total Hours Worked",null,{"$f":"SUM(AS3:AS34)","v":"00:00:00"},null,null,"Total Hours Worked",null,{"$f":"SUM(AX3:AX34)","v":"00:00:00"},null,null,"Total Hours Worked",null,{"$f":"SUM(BC3:BC34)","v":"00:00:00"},null,null,"Total Hours Worked",null,{"$f":"SUM(BH3:BH34)","v":"00:00:00"}]