{"text_format":"1","workbook":"xlsx","n_sheets":2,"sheets":["Route","Sections"],"not_rendered":{"charts":0,"images":0,"macros":1,"external_links":0,"defined_names":0,"comments":0,"pivot_tables":0},"unopened":[],"bounds":{"document_bytes":16777216,"sheet_cells":100000,"rows_first":2000,"rows_last":500,"rows_between":2000,"halvings":0,"cell_chars":16384,"cell_head_chars":4096},"cells_cut":0,"cells_raw":0,"read":"whole","date_system":"1900"}

{"sheet":"Route","index":0,"n_rows":22,"n_cols":11,"rows_kept":22,"cut":false,"hidden":false,"merged":[]}
["TAG","A","B","C","D","E","F","G","H","I","J"]
["AL-10001","A",null,null,"D",null,"F",null,"H","I","J"]
["AL-10002",null,"B","C","D",null,"F",null,"H",null,"J"]
["AL-10003",null,"B","C","D",null,"F",null,"H",null,"J"]
["AL-10004",null,"B",null,"D",null,"F",null,"H",null,"J"]
["AL-10005",null,null,"C","D",null,"F",null,"H",null,"J"]
["AL-10006",null,null,null,"D",null,"F",null,"H",null,"J"]
["AL-10007","A","B",null,"D",null,"F",null,"H",null,"J"]
["AL-10008",null,null,"C","D",null,"F",null,"H",null,"J"]
["AL-10009",null,"B",null,"D",null,"F",null,"H",null,"J"]
["AL-10010","A","B",null,"D",null,"F",null,"H",null,"J"]
["AL-10011",null,null,"C","D","E",null,"G",null,"I","J"]
["AL-10012",null,null,null,null,"E",null,"G",null,"I","J"]
["AL-10013","A",null,null,null,"E",null,"G",null,"I","J"]
["AL-10014",null,null,"C",null,"E",null,"G","H","I","J"]
["AL-10015",null,"B",null,null,"E",null,"G","H","I","J"]
["AL-10016",null,"B",null,null,"E",null,"G","H","I","J"]
["AL-10017","A","B",null,null,"E",null,"G","H","I","J"]
["AL-10018",null,"B",null,null,"E",null,"G",null,"I","J"]
["AL-10019",null,"B",null,null,"E",null,"G",null,"I","J"]
["AL-10020","A","B",null,null,"E",null,"G",null,"I","J"]
["AL-10021","A","B",null,null,"E",null,"G",null,"I","J"]

{"sheet":"Sections","index":1,"n_rows":9,"n_cols":131,"rows_kept":9,"cut":false,"hidden":false,"merged":[]}
[null,{"$f":"IF(ISBLANK(Route!B1),\"\",Route!B1)","v":"A"},{"$f":"IF(ISBLANK(Route!C1),\"\",Route!C1)","v":"B"},{"$f":"IF(ISBLANK(Route!D1),\"\",Route!D1)","v":"C"},{"$f":"IF(ISBLANK(Route!E1),\"\",Route!E1)","v":"D"},{"$f":"IF(ISBLANK(Route!F1),\"\",Route!F1)","v":"E"},{"$f":"IF(ISBLANK(Route!G1),\"\",Route!G1)","v":"F"},{"$f":"IF(ISBLANK(Route!H1),\"\",Route!H1)","v":"G"},{"$f":"IF(ISBLANK(Route!I1),\"\",Route!I1)","v":"H"},{"$f":"IF(ISBLANK(Route!J1),\"\",Route!J1)","v":"I"},{"$f":"IF(ISBLANK(Route!K1),\"\",Route!K1)","v":"J"},{"$f":"IF(ISBLANK(Route!L1),\"\",Route!L1)","v":""},{"$f":"IF(ISBLANK(Route!M1),\"\",Route!M1)","v":""},{"$f":"IF(ISBLANK(Route!N1),\"\",Route!N1)","v":""},{"$f":"IF(ISBLANK(Route!O1),\"\",Route!O1)","v":""},{"$f":"IF(ISBLANK(Route!P1),\"\",Route!P1)","v":""},{"$f":"IF(ISBLANK(Route!Q1),\"\",Route!Q1)","v":""},{"$f":"IF(ISBLANK(Route!R1),\"\",Route!R1)","v":""},{"$f":"IF(ISBLANK(Route!S1),\"\",Route!S1)","v":""},{"$f":"IF(ISBLANK(Route!T1),\"\",Route!T1)","v":""},{"$f":"IF(ISBLANK(Route!U1),\"\",Route!U1)","v":""},{"$f":"IF(ISBLANK(Route!V1),\"\",Route!V1)","v":""},{"$f":"IF(ISBLANK(Route!W1),\"\",Route!W1)","v":""},{"$f":"IF(ISBLANK(Route!X1),\"\",Route!X1)","v":""},{"$f":"IF(ISBLANK(Route!Y1),\"\",Route!Y1)","v":""},{"$f":"IF(ISBLANK(Route!Z1),\"\",Route!Z1)","v":""},{"$f":"IF(ISBLANK(Route!AA1),\"\",Route!AA1)","v":""},{"$f":"IF(ISBLANK(Route!AB1),\"\",Route!AB1)","v":""},{"$f":"IF(ISBLANK(Route!AC1),\"\",Route!AC1)","v":""},{"$f":"IF(ISBLANK(Route!AD1),\"\",Route!AD1)","v":""},{"$f":"IF(ISBLANK(Route!AE1),\"\",Route!AE1)","v":""},{"$f":"IF(ISBLANK(Route!AF1),\"\",Route!AF1)","v":""},{"$f":"IF(ISBLANK(Route!AG1),\"\",Route!AG1)","v":""},{"$f":"IF(ISBLANK(Route!AH1),\"\",Route!AH1)","v":""},{"$f":"IF(ISBLANK(Route!AI1),\"\",Route!AI1)","v":""},{"$f":"IF(ISBLANK(Route!AJ1),\"\",Route!AJ1)","v":""},{"$f":"IF(ISBLANK(Route!AK1),\"\",Route!AK1)","v":""},{"$f":"IF(ISBLANK(Route!AL1),\"\",Route!AL1)","v":""},{"$f":"IF(ISBLANK(Route!AM1),\"\",Route!AM1)","v":""},{"$f":"IF(ISBLANK(Route!AN1),\"\",Route!AN1)","v":""},{"$f":"IF(ISBLANK(Route!AO1),\"\",Route!AO1)","v":""},{"$f":"IF(ISBLANK(Route!AP1),\"\",Route!AP1)","v":""},{"$f":"IF(ISBLANK(Route!AQ1),\"\",Route!AQ1)","v":""},{"$f":"IF(ISBLANK(Route!AR1),\"\",Route!AR1)","v":""},{"$f":"IF(ISBLANK(Route!AS1),\"\",Route!AS1)","v":""},{"$f":"IF(ISBLANK(Route!AT1),\"\",Route!AT1)","v":""},{"$f":"IF(ISBLANK(Route!AU1),\"\",Route!AU1)","v":""},{"$f":"IF(ISBLANK(Route!AV1),\"\",Route!AV1)","v":""},{"$f":"IF(ISBLANK(Route!AW1),\"\",Route!AW1)","v":""},{"$f":"IF(ISBLANK(Route!AX1),\"\",Route!AX1)","v":""},{"$f":"IF(ISBLANK(Route!AY1),\"\",Route!AY1)","v":""},{"$f":"IF(ISBLANK(Route!AZ1),\"\",Route!AZ1)","v":""},{"$f":"IF(ISBLANK(Route!BA1),\"\",Route!BA1)","v":""},{"$f":"IF(ISBLANK(Route!BB1),\"\",Route!BB1)","v":""},{"$f":"IF(ISBLANK(Route!BC1),\"\",Route!BC1)","v":""},{"$f":"IF(ISBLANK(Route!BD1),\"\",Route!BD1)","v":""},{"$f":"IF(ISBLANK(Route!BE1),\"\",Route!BE1)","v":""},{"$f":"IF(ISBLANK(Route!BF1),\"\",Route!BF1)","v":""},{"$f":"IF(ISBLANK(Route!BG1),\"\",Route!BG1)","v":""},{"$f":"IF(ISBLANK(Route!BH1),\"\",Route!BH1)","v":""},{"$f":"IF(ISBLANK(Route!BI1),\"\",Route!BI1)","v":""},{"$f":"IF(ISBLANK(Route!BJ1),\"\",Route!BJ1)","v":""},{"$f":"IF(ISBLANK(Route!BK1),\"\",Route!BK1)","v":""},{"$f":"IF(ISBLANK(Route!BL1),\"\",Route!BL1)","v":""},{"$f":"IF(ISBLANK(Route!BM1),\"\",Route!BM1)","v":""},{"$f":"IF(ISBLANK(Route!BN1),\"\",Route!BN1)","v":""},{"$f":"IF(ISBLANK(Route!BO1),\"\",Route!BO1)","v":""},{"$f":"IF(ISBLANK(Route!BP1),\"\",Route!BP1)","v":""},{"$f":"IF(ISBLANK(Route!BQ1),\"\",Route!BQ1)","v":""},{"$f":"IF(ISBLANK(Route!BR1),\"\",Route!BR1)","v":""},{"$f":"IF(ISBLANK(Route!BS1),\"\",Route!BS1)","v":""},{"$f":"IF(ISBLANK(Route!BT1),\"\",Route!BT1)","v":""},{"$f":"IF(ISBLANK(Route!BU1),\"\",Route!BU1)","v":""},{"$f":"IF(ISBLANK(Route!BV1),\"\",Route!BV1)","v":""},{"$f":"IF(ISBLANK(Route!BW1),\"\",Route!BW1)","v":""},{"$f":"IF(ISBLANK(Route!BX1),\"\",Route!BX1)","v":""},{"$f":"IF(ISBLANK(Route!BY1),\"\",Route!BY1)","v":""},{"$f":"IF(ISBLANK(Route!BZ1),\"\",Route!BZ1)","v":""},{"$f":"IF(ISBLANK(Route!CA1),\"\",Route!CA1)","v":""},{"$f":"IF(ISBLANK(Route!CB1),\"\",Route!CB1)","v":""},{"$f":"IF(ISBLANK(Route!CC1),\"\",Route!CC1)","v":""},{"$f":"IF(ISBLANK(Route!CD1),\"\",Route!CD1)","v":""},{"$f":"IF(ISBLANK(Route!CE1),\"\",Route!CE1)","v":""},{"$f":"IF(ISBLANK(Route!CF1),\"\",Route!CF1)","v":""},{"$f":"IF(ISBLANK(Route!CG1),\"\",Route!CG1)","v":""},{"$f":"IF(ISBLANK(Route!CH1),\"\",Route!CH1)","v":""},{"$f":"IF(ISBLANK(Route!CI1),\"\",Route!CI1)","v":""},{"$f":"IF(ISBLANK(Route!CJ1),\"\",Route!CJ1)","v":""},{"$f":"IF(ISBLANK(Route!CK1),\"\",Route!CK1)","v":""},{"$f":"IF(ISBLANK(Route!CL1),\"\",Route!CL1)","v":""},{"$f":"IF(ISBLANK(Route!CM1),\"\",Route!CM1)","v":""},{"$f":"IF(ISBLANK(Route!CN1),\"\",Route!CN1)","v":""},{"$f":"IF(ISBLANK(Route!CO1),\"\",Route!CO1)","v":""},{"$f":"IF(ISBLANK(Route!CP1),\"\",Route!CP1)","v":""},{"$f":"IF(ISBLANK(Route!CQ1),\"\",Route!CQ1)","v":""},{"$f":"IF(ISBLANK(Route!CR1),\"\",Route!CR1)","v":""},{"$f":"IF(ISBLANK(Route!CS1),\"\",Route!CS1)","v":""},{"$f":"IF(ISBLANK(Route!CT1),\"\",Route!CT1)","v":""},{"$f":"IF(ISBLANK(Route!CU1),\"\",Route!CU1)","v":""},{"$f":"IF(ISBLANK(Route!CV1),\"\",Route!CV1)","v":""},{"$f":"IF(ISBLANK(Route!CW1),\"\",Route!CW1)","v":""},{"$f":"IF(ISBLANK(Route!CX1),\"\",Route!CX1)","v":""},{"$f":"IF(ISBLANK(Route!CY1),\"\",Route!CY1)","v":""},{"$f":"IF(ISBLANK(Route!CZ1),\"\",Route!CZ1)","v":""},{"$f":"IF(ISBLANK(Route!DA1),\"\",Route!DA1)","v":""},{"$f":"IF(ISBLANK(Route!DB1),\"\",Route!DB1)","v":""},{"$f":"IF(ISBLANK(Route!DC1),\"\",Route!DC1)","v":""},{"$f":"IF(ISBLANK(Route!DD1),\"\",Route!DD1)","v":""},{"$f":"IF(ISBLANK(Route!DE1),\"\",Route!DE1)","v":""},{"$f":"IF(ISBLANK(Route!DF1),\"\",Route!DF1)","v":""},{"$f":"IF(ISBLANK(Route!DG1),\"\",Route!DG1)","v":""},{"$f":"IF(ISBLANK(Route!DH1),\"\",Route!DH1)","v":""},{"$f":"IF(ISBLANK(Route!DI1),\"\",Route!DI1)","v":""},{"$f":"IF(ISBLANK(Route!DJ1),\"\",Route!DJ1)","v":""},{"$f":"IF(ISBLANK(Route!DK1),\"\",Route!DK1)","v":""},{"$f":"IF(ISBLANK(Route!DL1),\"\",Route!DL1)","v":""},{"$f":"IF(ISBLANK(Route!DM1),\"\",Route!DM1)","v":""},{"$f":"IF(ISBLANK(Route!DN1),\"\",Route!DN1)","v":""},{"$f":"IF(ISBLANK(Route!DO1),\"\",Route!DO1)","v":""},{"$f":"IF(ISBLANK(Route!DP1),\"\",Route!DP1)","v":""},{"$f":"IF(ISBLANK(Route!DQ1),\"\",Route!DQ1)","v":""},{"$f":"IF(ISBLANK(Route!DR1),\"\",Route!DR1)","v":""},{"$f":"IF(ISBLANK(Route!DS1),\"\",Route!DS1)","v":""},{"$f":"IF(ISBLANK(Route!DT1),\"\",Route!DT1)","v":""},{"$f":"IF(ISBLANK(Route!DU1),\"\",Route!DU1)","v":""},{"$f":"IF(ISBLANK(Route!DV1),\"\",Route!DV1)","v":""},{"$f":"IF(ISBLANK(Route!DW1),\"\",Route!DW1)","v":""},{"$f":"IF(ISBLANK(Route!DX1),\"\",Route!DX1)","v":""},{"$f":"IF(ISBLANK(Route!DY1),\"\",Route!DY1)","v":""},{"$f":"IF(ISBLANK(Route!DZ1),\"\",Route!DZ1)","v":""},{"$f":"IF(ISBLANK(Route!EA1),\"\",Route!EA1)","v":""}]
[null,{"$f":"_xlfn._xlws.FILTER(Route!$A:$A,INDEX(Route!$A:$EA,,MATCH(Route!B1,Route!$1:$1,0))=Sections!B1)","v":"TAG"}]
[null,"AL-10001"]
[null,"AL-10007"]
[null,"AL-10010"]
[null,"AL-10013"]
[null,"AL-10017"]
[null,"AL-10020"]
[null,"AL-10021"]